Workbook

Sheet MEMORIAS DE C
E1: AREA ESTIMADA DE REPARACION M2 | F1: EXCAVACION PROMEDIO | I1: REPOSICION MATERIAL GRANULAR | L1: RODADURA | O1: CORTE | P1: ACARREOS
F2: RODADURA | G2: BASE | H2: TOTAL | I2: BASE GRANULAR | L2: MEZCLA DENSA EN CALIENTE | P2: BSE GRANULAR | Q2: MEZCLA ASFALTICA | R2: SUBTOTAL | S2: DISTACIA PROMEDIO A PLANTAS
B3: L | C3: L | D3: AREA | E3: =+D156 -> 2380 | F3: 0.05 | G3: 0.2 | H3: =+E3*0.25 -> 595 | I3: =+E3 -> 2380 | J3: 0.15 | K3: =+I3*J3 -> 357 | L3: =+E3 -> 2380 | M3: 0.1 | N3: =+L3*M3 -> 238 | O3: =+(2*B156)+(2*C156) -> 2048 | P3: =+K3 -> 357 | Q3: =+N3 -> 238 | R3: =+P3+Q3 -> 595 | S3: 70 | T3: =+Q3*S3 -> 16660
A4: ARAUCA - LAS MARGARITAS | B4: 1 | C4: 1 | D4: =+B4*C4 -> 1
B5: 1 | C5: 1 | D5: =+B5*C5 -> 1
B6: 1 | C6: 1 | D6: =+B6*C6 -> 1
B7: 2 | C7: 2 | D7: =+B7*C7 -> 4
B8: 22 | C8: 3 | D8: =+B8*C8 -> 66
B9: 7 | C9: 6 | D9: =+B9*C9 -> 42
B10: 5 | C10: 5 | D10: =+B10*C10 -> 25
B11: 1 | C11: 1 | D11: =+B11*C11 -> 1
B12: 1 | C12: 1 | D12: =+B12*C12 -> 1
B13: 2 | C13: 3 | D13: =+B13*C13 -> 6
B14: 1 | C14: 1 | D14: =+B14*C14 -> 1
B15: 1 | C15: 1 | D15: =+B15*C15 -> 1
B16: 1 | C16: 1 | D16: =+B16*C16 -> 1
... B23: 3 | C23: 3 | D23: =+B23*C23 -> 9
B24: 3 | C24: 3 | D24: =+B24*C24 -> 9 | G24: =+SUM(D4:D20) -> 163
B25: 1 | C25: 2 | D25: =+B25*C25 -> 2
B26: 6 | C26: 6 | D26: =+B26*C26 -> 36
B27: 3 | C27: 3 | D27: =+B27*C27 -> 9
B28: 1 | C28: 1 | D28: =+B28*C28 -> 1
B29: 1 | C29: 1 | D29: =+B29*C29 -> 1
B30: 2 | C30: 2 | D30: =+B30*C30 -> 4
B31: 2 | C31: 2 | D31: =+B31*C31 -> 4
B32: 1 | C32: 1 | D32: =+B32*C32 -> 1
B33: 3 | C33: 2 | D33: =+B33*C33 -> 6
B34: 1 | C34: 1 | D34: =+B34*C34 -> 1 | G34: =+SUM(D4:D56) -> 422
B35: 1 | C35: 1 | D35: =+B35*C35 -> 1
B36: 1 | C36: 1 | D36: =+B36*C36 -> 1
B37: 1 | C37: 1 | D37: =+B37*C37 -> 1
B38: 5 | C38: 3 | D38: =+B38*C38 -> 15
B39: 1 | C39: 1 | D39: =+B39*C39 -> 1
B40: 5 | C40: 8 | D40: =+B40*C40 -> 40
B41: 7 | C41: 4 | D41: =+B41*C41 -> 28
B42: 2 | C42: 2 | D42: =+B42*C42 -> 4
B43: 6 | C43: 3 | D43: =+B43*C43 -> 18
B44: 1 | C44: 1 | D44: 1
B45: 1 | C45: 1 | D45: =+B45*C45 -> 1
B46: 2 | C46: 2 | D46: =+B46*C46 -> 4
...

Sheet PROGRAMA
A1: PROGRAMA
I6: dia 1 | J6: dia 2 | K6: dia 3 | L6: dia 4 | M6: dia 5 | N6: dia 6 | O6: dia 7 | P6: dia 8 | Q6: dia 9 | R6: dia 10 | S6: dia 11 | T6: dia 12 | U6: dia 13 | V6: dia 14 | W6: dia 15 | X6: dia 16 | Y6: dia 17 | Z6: dia 18 | AA6: dia 19 | AB6: dia 20 | AC6: dia 21 | AD6: dia 22 | AE6: dia 23 | AF6: dia 24 | AG6: dia 25 | AH6: dia 26 | AI6: dia 27 | AJ6: dia 28 | AK6: dia 29 | AL6: dia 30
D7: Corte de pavimento asfáltico | E7: ml | F7: 401 | G7: 10459 | H7: 4981826 | J7: 80 | K7: 80 | L7: 80 | P7: 80 | Q7: 81
D8: Excavaciones varias sin clasificar | E8: m3 | F8: 166 | G8: 30011 | H8: 3267000 | K8: =80*0.125 -> 10 | L8: 10 | M8: 10 | N8: 10 | P8: 10 | Q8: 10 | R8: 10 | S8: 10 | T8: 10 | U8: 10 | W8: 10 | X8: 10 | Y8: 10 | Z8: 10 | AA8: 10 | AB8: 10 | AD8: 6
D9: Base Granular | E9: m3 | F9: =+F10*0.15 -> 123.75 | G9: 104389 | H9: 12918139 | L9: 8 | M9: 8 | N9: 8 | P9: 8 | Q9: 8 | R9: 8 | S9: 8 | T9: 8 | U9: 8 | W9: 8 | X9: 8 | Y9: 8 | Z9: 8 | AA9: 8 | AB9: 8 | AD9: 3.75
D10: Riego de imprimación | E10: m2 | F10: 825 | G10: 3960 | H10: 21656250 | N10: 102 | Q10: 102 | S10: 102 | U10: 104 | X10: 104 | Z10: 104 | AB10: 104 | AE10: 103
D11: MDC2 para bacheos | E11: m3 | F11: =+F10*0.1 -> 82.5 | G11: 778113 | H11: 64194322 | N11: =+N10*0.1 -> 10.2 | Q11: =+Q10*0.1 -> 10.2 | S11: =+S10*0.1 -> 10.2 | U11: =+U10*0.1 -> 10.4 | X11: =+X10*0.1 -> 10.4 | Z11: =+Z10*0.1 -> 10.4 | AB11: =+AB10*0.1 -> 10.4 | AE11: =+AE10*0.1 -> 10.3
D12: Acarreo en vehiculo automotor | E12: m3/km | F12: =+(F9+F11)*70 -> 14437.5 | G12: 1500 | H12: 4194059 | L12: =+(L9+L11)*70 -> 560 | M12: =+(M9+M11)*70 -> 560 | N12: =+(N9+N11)*70 -> 1274 | P12: =+(P9+P11)*70 -> 560 | Q12: =+(Q9+Q11)*70 -> 1274 | R12: =+(R9+R11)*70 -> 560 | S12: =+(S9+S11)*70 -> 1274 | T12: =+(T9+T11)*70 -> 560 | U12: =+(U9+U11)*70 -> 1288 | W12: =+(W9+W11)*70 -> 560 | X12: =+(X9+X11)*70 -> 1288 | Y12: =+(Y9+Y11)*70 -> 560 | Z12: =+(Z9+Z11)*70 -> 1288 | AA12: =+(AA9+AA11)*70 -> 560 | AB12: =+(AB9+AB11)*70 -> 1288 | AD12: =+(AD9+AD11)*70 -> 262.5 | AE12: =+(AE9+AE11)*70 -> 721
D13: protocolo de bioseguridad | E13: gl | F13: 1 | G13: 1300000 | H13: 1300000 | I13: =+F13/30 -> 0.033333333 | J13: 0.033333333 | K13: 0.033333333 | L13: 0.033333333 | M13: 0.033333333 | N13: 0.033333333 | O13: 0.033333333 | P13: 0.033333333 | Q13: 0.033333333 | R13: 0.033333333 | S13: 0.033333333 | T13: 0.033333333 | U13: 0.033333333 | V13: 0.033333333 | W13: 0.033333333 | X13: 0.033333333 | Y13: 0.033333333 | Z13: 0.033333333 | AA13: 0.033333333 | AB13: 0.033333333 | AC13: 0.033333333 | AD13: 0.033333333 | AE13: 0.033333333 | AF13: 0.033333333 | AG13: 0.033333333 | AH13: 0.033333333 | AI13: 0.033333333 | AJ13: 0.033333333 | AK13: 0.033333333 | AL13: 0.033333333
H14: =SUM(H7:H13) -> 1.125116e+08 | I14: =+(I7*$G7+I8*$G8+I9*$G9+I10*$G10+I11*$G11+I12*$G12+I13*$G13) -> 43333.333 | J14: =+J7*G7+J8*G8+J9*G9+J10*G10+J11*G11+J12*G12+J13*G13 -> 880053.33 | K14: =+(K7*$G7+K8*$G8+K9*$G9+K10*$G10+K11*$G11+K12*$G12+K13*$G13) -> 1180163.3 | L14: =+(L7*$G7+L8*$G8+L9*$G9+L10*$G10+L11*$G11+L12*$G12+L13*$G13) -> 2855275.3 | M14: =+(M7*$G7+M8*$G8+M9*$G9+M10*$G10+M11*$G11+M12*$G12+M13*$G13) -> 2018555.3 | N14: =+(N7*$G7+N8*$G8+N9*$G9+N10*$G10+N11*$G11+N12*$G12+N13*$G13) -> 11430228 | O14: =+(O7*$G7+O8*$G8+O9*$G9+O10*$G10+O11*$G11+O12*$G12+O13*$G13) -> 43333.333 | P14: =+(P7*$G7+P8*$G8+P9*$G9+P10*$G10+P11*$G11+P12*$G12+P13*$G13) -> 2855275.3 | Q14: =+(Q7*$G7+Q8*$G8+Q9*$G9+Q10*$G10+Q11*$G11+Q12*$G12+Q13*$G13) -> 12277407 | R14: =+(R7*$G7+R8*$G8+R9*$G9+R10*$G10+R11*$G11+R12*$G12+R13*$G13) -> 2018555.3 | ... AL14: =+(AL7*$G7+AL8*$G8+AL9*$G9+AL10*$G10+AL11*$G11+AL12*$G12+AL13*$G13) -> 43333.333

Sheet PPto
E1: PRESUPUESTO PARA “BACHEO DE LA RED VIAL PAVIMENTADA DEL DEPARTAMENTO DE CALDAS - SUBREGION BAJO OCCIDENTE”.
A3: No | B3: ITEM DE PAGO | C3: ESPECIFICACIONES | E3: Descripción | F3: Unidad | G3: cantidad | H3: Costo Directo | I3: Valor Total
C4: ESPECIFICACION GENERAL | D4: ESPECIFICACION PARTICULAR
B6: 600,1,1 | C6: 600 | E6: Excavaciones varias sin clasificar | F6: m3 | G6: 538 | H6: =+'EXCAV VARIAS'!L56 -> 27608 | I6: =+H6*G6 -> 14853104
B7: 420.1 | C7: 420 | E7: Riego de imprimación | F7: m2 | G7: 2346 | H7: =+RIEGO!L55 -> 4186 | I7: =+H7*G7 -> 9820356
B8: 330.1 | C8: 330 | E8: Base Granular | F8: m3 | G8: 353 | H8: =+'BASE GRANULAR'!L68 -> 112084 | I8: =+H8*G8 -> 39565652
B9: 900.3 | C9: 900 | E9: Acarreo en vehiculo automotor | F9: m3/km | G9: 18882 | H9: =+TRANSPORTE!L55 -> 1364 | I9: =+H9*G9 -> 25755048
D10: P1 | E10: MDC2 para bacheos | F10: m3 | G10: 187.6 | H10: =+'MDC2 BACHEOS'!L55 -> 715285 | I10: =+H10*G10 -> 134187466
D11: P2 | E11: Corte de pavimento asfáltico | F11: ml | G11: 4692 | H11: =+'CORTE DE PAVIMENTO'!L56 -> 9601 | I11: =+H11*G11 -> 45047892
E15: TOTAL COSTO DIRECTO. | I15: =SUM(I6:I14) -> 269229518
E18: ADMINISTRACION | F18: % | G18: 0.25 | H18: =+I15 -> 269229518 | I18: =ROUND(+H18*G18,0) -> 67307380
E19: UTILIDAD | F19: % | G19: 0.05 | H19: =+I15 -> 269229518 | I19: =ROUND(+H19*G19,0) -> 13461476
E20: TOTAL COSTOS INDIRECTOS. | I20: =ROUND(I19+I18,0) -> 80768856
E21: TOTAL COSTOS DE OBRA | I21: =+I15+I20 -> 349998374
A25: ELABORO: | C25: RUBEN DARIO GARCIA RAMIREZ
A26: M.P. | C26: 25202-27288 CPIAC

Sheet insumos
A5: LISTA DEPRECIOS DE MATERIALES
A6: Descripción | B6: Un | C6: V/Unitario
A8: Agua | B8: Lt | C8: 90.71
A9: Arena | B9: M3 | C9: 42000
A10: Gravilla | B10: M3 | C10: 42000
A11: Piedra | B11: M3 | C11: 42000
A12: Afirmado | B12: M3 | C12: 22000
A13: Cemento | B13: Saco | C13: 30000
A14: Malla electrosoldada | B14: M2 | C14: 8200
A15: Acero de refuerzo | B15: Kg | C15: 3500
A16: Alambre de amarrar | B16: Kg | C16: 3800
A17: Formaleta | B17: Gl | C17: 16800
A18: Guadua | B18: Ml | C18: 2200
A19: Alambre galvanizado | B19: Kg | C19: 4000
... A43: Estacas vivas | B43: Un | C43: 1200
A45: LISTA DE PRECIOS DE JORNALES
A46: Descripción | B46: Un | C46: V/Unitario
A47: Ayudante | B47: Día | C47: 37239
A48: Oficial | B48: Día | C48: 63307
A51: LISTA DE TARIFAS DE ALQUILER DE EQUIPOS
A52: Descripción | B52: Un | C52: V/Unitario
A53: Cortadora de paviento | B53: hora | C53: 12127
A54: Volqueta | B54: hora | C54: 75015
A55: Compactador manual (saltarín) peso de operación (kg.) 52, fuerza de impacto por golpe (KN) 12 | B55: hora | C55: 9245
A56: Compactador neumático de Potencia 70 HP, peso de 13 ton | B56: hora | C56: 135294.08
A57: Compactador de rodillo potencia: 99 hp, peso: 8 toneladas | B57: hora | C57: 117865.3
A58: Vibrador | B58: dia | C58: 102000
A59: Finisher | B59: Hora | C59: 190829
A60: vibrocompactador | B60: Hora | C60: 124000
A63: DISTANCIA DE ACARREO DE MATRIRLAES
A64: Descripción | B64: DISTANCIA
A65: VARIOS | B65: 7
A66: AFIRMADO | B66: 15
A67: ARENA | B67: 25
A68: GRAVILLA | B68: 25
A69: PIEDRA | B69: 25
A70: MDC2 | B70: 70
A71: MATERIAL DE BASE | B71: 70
A72: MATERIAL DE SUBBASE | B72: 70

Sheet CORTE DE PAVIMENTO
J2: Hoja 1 de 1
D3: SECRETARÍA DE INFRAESTRUCTURA | J3: Fecha
D4: DEPARTAMENTO DE CALDAS
D5: ANÁLISIS DE PRECIOS UNITARIOS | J5: Contrato No.
A7: DATOS GENERALES
A9: CONTRATO No. | D9: DE
A10: OBJETO DEL CONTRATO
A12: CONTRATISTA
A13: INTERVENTOR
A14: SUPERVISOR
A17: DATOS ESPECÍFICOS
A19: ITEM | B19: DESCRIPCIÓN | K19: UNIDAD | L19: CANTIDAD
A20: P2 | B20: CORTE DE PAVIMENTO | K20: ml
A22: I. EQUIPO
A24: DESCRIPCIÓN | F24: MARCA | H24: TIPO | J24: TARIFA/HORA | K24: RENDIMIENTO | L24: Vr. UNITARIO
A25: Cortadora de pavimento | J25: 6000 | K25: 20 | L25: =+J25/K25 -> 300
A28: SUBTOTAL $ | L28: =SUM(L25:L27) -> 300
A30: II. MATERIALES
A32: DESCRIPCIÓN | I32: UNIDAD | J32: CANTIDAD | K32: PRECIO UNIT. | L32: Vr. UNITARIO
A40: SUBTOTAL $ | L40: =SUM(L33:L39) -> 0
A42: III. TRANSPORTES
A44: MATERIAL | H44: VOL. o PESO | I44: DISTANCIA | J44: M3 o Ton/Km | K44: TARIFA | L44: Vr. UNITARIO
A47: SUBTOTAL $ | L47: =SUM(L45:L46) -> 0
A49: IV. MANO DE OBRA
A51: TRABAJADOR | H51: JORNAL | I51: PRESTACIONES | J51: JORNAL TOTAL | K51: RENDIMIENTO | L51: Vr. UNITARIO
A52: CUADRILLA 1 AYUDANTES 1 OFICIAL | H52: 100546 | I52: =+H52*0.85 -> 85464.1 | J52: =+H52+I52 -> 186010.1 | K52: 20 | L52: =+J52/K52 -> 9300.505
A54: SUBTOTAL $ | L54: =SUM(L52:L53) -> 9300.505
A56: TOTAL COSTO DIRECTO $ | L56: =ROUND(L28+L40+L47+L54,0) -> 9601
F64: (Firma)
F65: (Nombre)
A66: Contratista
A68: OBSERVACIONES
A73: ELABORO:
A74: M.P.
A77: FIRMA

Sheet EXCAV VARIAS
J2: Hoja 1 de 1
D3: SECRETARÍA DE INFRAESTRUCTURA | J3: Fecha
D4: DEPARTAMENTO DE CALDAS
D5: ANÁLISIS DE PRECIOS UNITARIOS | J5: Contrato No.
A7: DATOS GENERALES
A9: CONTRATO No. | D9: DE
A10: OBJETO DEL CONTRATO
A12: CONTRATISTA
A13: INTERVENTOR
A14: SUPERVISOR
A17: DATOS ESPECÍFICOS
A19: ITEM | B19: DESCRIPCIÓN | K19: UNIDAD | L19: CANTIDAD
A20: 600,1,1 | B20: EXCAVACIONES VARIAS SIN CLASIFICAR | K20: M3
A22: I. EQUIPO
A24: DESCRIPCIÓN | F24: MARCA | H24: TIPO | J24: TARIFA/HORA | K24: RENDIMIENTO | L24: Vr. UNITARIO
A25: HERRAMIENTA MENOR (5% MO) | L25: =+L54*0.05 -> 892.46943
A28: SUBTOTAL $ | L28: =SUM(L25:L27) -> 892.46943
A30: II. MATERIALES
A32: DESCRIPCIÓN | I32: UNIDAD | J32: CANTIDAD | K32: PRECIO UNIT. | L32: Vr. UNITARIO
A40: SUBTOTAL $ | L40: =SUM(L33:L39) -> 0
A42: III. TRANSPORTES
A44: MATERIAL | H44: VOL. o PESO | I44: DISTANCIA | J44: M3 o Ton/Km | K44: TARIFA | L44: Vr. UNITARIO
A45: MATERIAL DE EXCAVACION | H45: 1.3 | I45: 5 | J45: =+H45*I45 -> 6.5 | K45: =+TRANSPORTE!L55 -> 1364 | L45: =+J45*K45 -> 8866
A47: SUBTOTAL $ | L47: =SUM(L45:L46) -> 8866
A49: IV. MANO DE OBRA
A51: TRABAJADOR | H51: JORNAL | I51: PRESTACIONES | J51: JORNAL TOTAL | K51: RENDIMIENTO | L51: Vr. UNITARIO
A52: CUADRILLA 4 AYUDANTES 1 OFICIAL | H52: =+insumos!C47*4+insumos!C48 -> 212263 | I52: =+H52*0.85 -> 180423.55 | J52: =+H52+I52 -> 392686.55 | K52: 22 | L52: =+J52/K52 -> 17849.389
A54: SUBTOTAL $ | L54: =SUM(L52:L53) -> 17849.389
A56: TOTAL COSTO DIRECTO $ | L56: =ROUND(L28+L40+L47+L54,0) -> 27608
F64: (Firma)
F65: (Nombre)
A66: Contratista
A68: OBSERVACIONES
A73: ELABORO:
A74: M.P.
A77: FIRMA

Sheet RIEGO
J2: Hoja 1 de 1
D3: SECRETARÍA DE INFRAESTRUCTURA | J3: Fecha
D4: DEPARTAMENTO DE CALDAS
D5: ANÁLISIS DE PRECIOS UNITARIOS | J5: Contrato No.
A7: DATOS GENERALES
A9: CONTRATO No. | D9: DE
A10: OBJETO DEL CONTRATO
A12: CONTRATISTA
A13: INTERVENTOR
A14: SUPERVISOR
A17: DATOS ESPECÍFICOS
A19: ITEM | B19: DESCRIPCIÓN | K19: UNIDAD | L19: CANTIDAD
A20: 420.1 | B20: RIEGO DE IMPRIMACION | K20: M2
A22: I. EQUIPO
A24: DESCRIPCIÓN | F24: MARCA | H24: TIPO | J24: TARIFA/HORA | K24: RENDIMIENTO | L24: Vr. UNITARIO
A25: HERRAMIENTA MENOR | L25: =+L53*10% -> 229.6405
A28: SUBTOTAL $ | L28: =SUM(L25:L27) -> 229.6405
A30: II. MATERIALES
A32: DESCRIPCIÓN | I32: UNIDAD | J32: CANTIDAD | K32: PRECIO UNIT. | L32: Vr. UNITARIO
A33: EMULSION ASFALTICA | I33: Lt | J33: 1.55 | K33: =+insumos!C37 -> 1071 | L33: =+K33*J33 -> 1660.05
Q36: =+L55*1.3 -> 5441.8
A39: SUBTOTAL $ | L39: =SUM(L33:L38) -> 1660.05
A41: III. TRANSPORTES
A43: MATERIAL | H43: VOL. o PESO | I43: DISTANCIA | J43: M3 o Ton/Km | K43: TARIFA | L43: Vr. UNITARIO
A46: SUBTOTAL $ | L46: =SUM(L44:L45) -> 0
A48: IV. MANO DE OBRA
A50: TRABAJADOR | H50: JORNAL | I50: PRESTACIONES | J50: JORNAL TOTAL | K50: RENDIMIENTO | L50: Vr. UNITARIO
A51: 1 AYUDANTES | H51: =+insumos!C47 -> 37239 | I51: 0.85 | J51: =+H51*1.85 -> 68892.15 | K51: 30 | L51: =+J51/K51 -> 2296.405
L53: =SUM(L51:L52) -> 2296.405
A55: TOTAL COSTO DIRECTO $ | L55: =ROUND(L28+L39+L46+L53,0) -> 4186
F63: (Firma)
F64: (Nombre)
A65: Contratista
A67: OBSERVACIONES INTERVENTORÍA
A72: ELABORO:
A73: M.P.
A76: FIRMA

Sheet MDC2 PARCHEOS
J2: Hoja 1 de 1
D3: SECRETARÍA DE INFRAESTRUCTURA | J3: Fecha
D4: DEPARTAMENTO DE CALDAS
D5: ANÁLISIS DE PRECIOS UNITARIOS | J5: Contrato No.
A7: DATOS GENERALES
A9: CONTRATO No. | D9: DE
A10: OBJETO DEL CONTRATO
A12: CONTRATISTA
A13: INTERVENTOR
A14: SUPERVISOR
A17: DATOS ESPECÍFICOS
A19: ITEM | B19: DESCRIPCIÓN | K19: UNIDAD | L19: CANTIDAD
A20: 450.2 | B20: MDC2 PARA PARCHEOS | K20: M3
A22: I. EQUIPO
A24: DESCRIPCIÓN | F24: MARCA | H24: TIPO | J24: TARIFA/HORA | K24: RENDIMIENTO | L24: Vr. UNITARIO
A25: Finisher | J25: =+insumos!C59 -> 190829 | K25: 14 | L25: =+J25/K25 -> 13630.643
A26: Compactador de rodillo de 8 Tn. | J26: 117865 | K26: 14 | L26: =+J26/K26 -> 8418.9286
A27: Compactador neumático de 13 Tn. | J27: 135294 | K27: 14 | L27: =+J27/K27 -> 9663.8571
A28: Herramienta menor | L28: =+L54*0.05 -> 359.85
A29: SUBTOTAL $ | L29: =SUM(L25:L28) -> 32073.279
A31: II. MATERIALES
A33: DESCRIPCIÓN | I33: UNIDAD | J33: CANTIDAD | K33: PRECIO UNIT. | L33: Vr. UNITARIO
A34: MDC2 | I34: M3 | J34: 1.25 | K34: =+insumos!C36 -> 523600 | L34: =+K34*J34 -> 654500
Q36: =+L56*1.3 -> 901901
A40: SUBTOTAL $ | L40: =SUM(L34:L39) -> 654500
A42: III. TRANSPORTES
A44: MATERIAL | H44: VOL. o PESO | I44: DISTANCIA | J44: M3 o Ton/Km | K44: TARIFA | L44: Vr. UNITARIO
L45: =+K45*J45 -> 0
S46: =14*8 -> 112
A47: SUBTOTAL $ | L47: =SUM(L45:L46) -> 0
A49: IV. MANO DE OBRA
A51: TRABAJADOR | H51: JORNAL | I51: PRESTACIONES | J51: JORNAL TOTAL | K51: RENDIMIENTO | L51: Vr. UNITARIO
A52: 1 OFICIAL+ 10 AYUDANTES | H52: 435697 | I52: 0.85 | J52: =+H52*1.85 -> 806039.45 | K52: 112 | L52: =+J52/K52 -> 7196.7808
L54: =ROUND(SUM(L52:L53),0) -> 7197
A56: TOTAL COSTO DIRECTO $ | L56: =ROUND(L29+L40+L47+L54,0) -> 693770
F62: (Firma)
F63: (Nombre)
A64: Contratista
A66: OBSERVACIONES INTERVENTORÍA
A71: ELABORO:
...

Sheet MDC2 BACHEOS
J2: Hoja 1 de 1
D3: SECRETARÍA DE INFRAESTRUCTURA | J3: Fecha
D4: DEPARTAMENTO DE CALDAS
D5: ANÁLISIS DE PRECIOS UNITARIOS | J5: Contrato No.
A7: DATOS GENERALES
A9: CONTRATO No. | D9: DE
A10: OBJETO DEL CONTRATO
A12: CONTRATISTA
A13: INTERVENTOR
A14: SUPERVISOR
A17: DATOS ESPECÍFICOS
A19: ITEM | B19: DESCRIPCIÓN | K19: UNIDAD | L19: CANTIDAD
A20: P1 | B20: MDC2 PARA BACHEOS | K20: M3
A22: I. EQUIPO
A24: DESCRIPCIÓN | F24: MARCA | H24: TIPO | J24: TARIFA/HORA | K24: RENDIMIENTO | L24: Vr. UNITARIO
A25: HERRAMIENTA MENOR | L25: =+L53*0.05 -> 2454.2909
A26: Compactador manual (Saltarín) | J26: =+insumos!C55 -> 9245 | K26: 1 | L26: =+J26/K26 -> 9245
A28: SUBTOTAL $ | L28: =SUM(L25:L27) -> 11699.291
A30: II. MATERIALES
A32: DESCRIPCIÓN | I32: UNIDAD | J32: CANTIDAD | K32: PRECIO UNIT. | L32: Vr. UNITARIO
A33: MDC2 | I33: M3 | J33: 1.25 | K33: =+insumos!C36 -> 523600 | L33: =+K33*J33 -> 654500 | Q33: =+L55*1.3 -> 929870.5
A39: SUBTOTAL $ | L39: =SUM(L33:L38) -> 654500
A41: III. TRANSPORTES
A43: MATERIAL | H43: VOL. o PESO | I43: DISTANCIA | J43: M3 o Ton/Km | K43: TARIFA | L43: Vr. UNITARIO
L44: =+K44*J44 -> 0
A46: SUBTOTAL $ | L46: =SUM(L44:L45) -> 0
A48: IV. MANO DE OBRA
A50: TRABAJADOR | H50: JORNAL | I50: PRESTACIONES | J50: JORNAL TOTAL | K50: RENDIMIENTO | L50: Vr. UNITARIO
A51: 1 OFICIAL+ 4 AYUDANTES | H51: =+insumos!C47*4+insumos!C48 -> 212263 | I51: 0.85 | J51: =+H51*1.85 -> 392686.55 | K51: 8 | L51: =+J51/K51 -> 49085.819
L53: =SUM(L51:L52) -> 49085.819
A55: TOTAL COSTO DIRECTO $ | L55: =ROUND(L28+L39+L46+L53,0) -> 715285
A59: V. COSTOS INDIRECTOS
A61: DESCRIPCIÓN | H61: COSTO DIRECTO | J61: PORCENTAJE | K61: VALOR TOTAL
A66: TOTAL COSTO INDIRECTO $ | L66: =SUM(K62:K65) -> 0
A68: PRECIO UNITARIO TOTAL APROXIMADO AL PESO | L68: =ROUND(L55+L66,0) -> 715285
F73: (Firma)
F74: (Nombre)
A75: Contratista
A77: OBSERVACIONES INTERVENTORÍA
A82: ELABORO:
...

Sheet BASE GRANULAR
J2: Hoja 1 de 1
D3: SECRETARÍA DE INFRAESTRUCTURA | J3: Fecha
D4: DEPARTAMENTO DE CALDAS
D5: ANÁLISIS DE PRECIOS UNITARIOS | J5: Contrato No.
A7: DATOS GENERALES
A9: CONTRATO No. | D9: DE
A10: OBJETO DEL CONTRATO
A12: CONTRATISTA
A13: INTERVENTOR
A14: SUPERVISOR
A17: DATOS ESPECÍFICOS
A19: ITEM | B19: DESCRIPCIÓN | K19: UNIDAD | L19: CANTIDAD
A20: 330.1 | B20: BASE GRANULAR | K20: m3
A22: I. EQUIPO
A24: DESCRIPCIÓN | F24: MARCA | H24: TIPO | J24: TARIFA/HORA | K24: RENDIMIENTO | L24: Vr. UNITARIO
A26: Compactador manual (saltarín) peso de operación (kg.) 52, fuerza de impacto por golpe (KN) 12 | J26: =+insumos!C55 -> 9245 | K26: 1.75 | L26: =+J26/K26 -> 5282.8571
A27: Herramienta Menor | K27: 5% | L27: =+L53*0.05 -> 1402.452
A28: SUBTOTAL $ | L28: =SUM(L25:L27) -> 6685.3091
A30: II. MATERIALES
A32: DESCRIPCIÓN | I32: UNIDAD | J32: CANTIDAD | K32: PRECIO UNIT. | L32: Vr. UNITARIO
A33: Material de Base | I33: M3 | J33: 1.3 | K33: =+insumos!C34 -> 59500 | L33: =+K33*J33 -> 77350
A39: SUBTOTAL $ | L39: =SUM(L33:L38) -> 77350
A41: III. TRANSPORTES
A43: MATERIAL | H43: VOL. o PESO | I43: DISTANCIA | J43: M3 o Ton/Km | K43: TARIFA | L43: Vr. UNITARIO
A46: SUBTOTAL $ | L46: =SUM(L44:L45) -> 0
A48: IV. MANO DE OBRA
A50: TRABAJADOR | H50: JORNAL | I50: PRESTACIONES | J50: JORNAL TOTAL | K50: RENDIMIENTO | L50: Vr. UNITARIO
A51: 1 OFICIAL+ 4 AYUDANTES | H51: =+insumos!C47*4+insumos!C48 -> 212263 | I51: 0.85 | J51: =+H51*1.85 -> 392686.55 | K51: 14 | L51: =+J51/K51 -> 28049.039
L53: =SUM(L51:L52) -> 28049.039
A55: TOTAL COSTO DIRECTO $ | L55: =ROUND(L28+L39+L46+L53,0) -> 112084
A59: V. COSTOS INDIRECTOS
A61: DESCRIPCIÓN | H61: COSTO DIRECTO | J61: PORCENTAJE | K61: VALOR TOTAL
A66: TOTAL COSTO INDIRECTO $ | L66: =SUM(K62:K65) -> 0
A68: PRECIO UNITARIO TOTAL APROXIMADO AL PESO | L68: =ROUND(L55+L66,0) -> 112084
F73: (Firma)
F74: (Nombre)
A75: Contratista
A77: OBSERVACIONES INTERVENTORÍA
A82: ELABORO:
A83: M.P.
...

Sheet TRANSPORTE
J2: Hoja 1 de 1
D3: SECRETARÍA DE INFRAESTRUCTURA | J3: Fecha
D4: DEPARTAMENTO DE CALDAS
D5: ANÁLISIS DE PRECIOS UNITARIOS | J5: Contrato No.
A7: DATOS GENERALES
A9: CONTRATO No. | D9: DE
A10: OBJETO DEL CONTRATO
A12: CONTRATISTA
A13: INTERVENTOR
A14: SUPERVISOR
A16: DATOS ESPECÍFICOS
A18: ITEM | B18: DESCRIPCIÓN | K18: UNIDAD | L18: CANTIDAD
A19: 900.3 | B19: TRANSPORTES DE MATERIALES | K19: M3-KM
A21: I. EQUIPO
A23: DESCRIPCIÓN | F23: MARCA | H23: TIPO | J23: TARIFA/HORA | K23: RENDIMIENTO | L23: Vr. UNITARIO
A24: VOLQUETA | H24: CAPACIDAD 7 M3 | J24: 75015 | K24: 55 | L24: =+J24/K24 -> 1363.9091
R25: =700/8 -> 87.5
A27: SUBTOTAL $ | L27: =SUM(L24:L26) -> 1363.9091
A29: II. MATERIALES
A31: DESCRIPCIÓN | I31: UNIDAD | J31: CANTIDAD | K31: PRECIO UNIT. | L31: Vr. UNITARIO | S31: =60/7 -> 8.5714286
A39: SUBTOTAL $ | L39: =SUM(L32:L38) -> 0
A41: III. TRANSPORTES
A43: MATERIAL | H43: VOL. o PESO | I43: DISTANCIA | J43: M3 o Ton/Km | K43: TARIFA | L43: Vr. UNITARIO
L44: =+J44*K44 -> 0 | O44: =+L55*1.3 -> 1773.2
L45: =+J45*K45 -> 0
A46: SUBTOTAL $ | L46: =SUM(L44:L45) -> 0
A48: IV. MANO DE OBRA
A50: TRABAJADOR | H50: JORNAL | I50: PRESTACIONES | J50: JORNAL TOTAL | K50: RENDIMIENTO | L50: Vr. UNITARIO
A53: SUBTOTAL $ | L53: =SUM(L51:L52) -> 0
A55: TOTAL COSTO DIRECTO $ | L55: =ROUND(L27+L39+L46+L53,0) -> 1364
F63: (Firma)
F64: (Nombre)
A65: Contratista
A67: OBSERVACIONES INTERVENTORÍA
A72: ELABORO:
A73: M.P.
A76: FIRMA
