Workbook

Sheet PPAL1
D2: REDES DE SUMINISTRO | AS2: PRINCIPALMENTE PARA FLUXÓMETRO
D3: DISEÑO DE REDES INTERNAS | AS3: PRINCIPALMENTE PARA SANITARIOS DE TANQUE
D4: BASE MILITAR - CUADROS
D6: FORMULA: | E6: HAZEN-WILLIAMS
D7: PRESION MIN.: | E7: 15 m.c.a
D8: C: Coeficiente friccion | E8: 150
D10: Diametro Nominal (pulg) | E10: C | G10: Diametro Interior Cobre | K10: Interior
G11: Tipo K | I11: Tipo L | K11: PVC
D12: 0.25 | E12: =+$E$8 -> 150 | G12: 7.75 | I12: 8
D13: 0.375 | E13: =+$E$8 -> 150 | G13: 10.21 | I13: 10.92
D14: 0.5 | E14: =+$E$8 -> 150 | G14: 13.39 | I14: 13.84 | K14: 18.18 | M14: RDE 9
D15: 0.625 | E15: =+$E$8 -> 150 | G15: 16.56 | I15: 16.92 | M15: RDE 21
D16: 0.75 | E16: =+$E$8 -> 150 | G16: 18.92 | I16: 19.94 | K16: 23.63 | M16: RDE 21
D17: 1 | E17: =+$E$8 -> 150 | G17: 25.27 | I17: 26.04 | K17: 30.2 | M17: RDE 21
D18: 1.25 | E18: =+$E$8 -> 150 | G18: 31.62 | I18: 32.13 | K18: 38.14 | M18: RDE 21
D19: 1.5 | E19: =+$E$8 -> 150 | G19: 37.62 | I19: 38.23 | K19: 43.68 | M19: RDE 21
D20: 2 | E20: =+$E$8 -> 150 | G20: 49.76 | I20: 50.42 | K20: 54.58 | M20: RDE 21
D21: 2.5 | E21: =+$E$8 -> 150 | G21: 61.85 | I21: 62.61 | K21: 66.07 | M21: RDE 21
D22: 3 | E22: =+$E$8 -> 150 | K22: 80.42 | M22: RDE 21
D23: 4 | E23: =+$E$8 -> 150 | K23: 103.42 | M23: RDE 21
AB24: 30.5
D25: PRESIÓN DE EMPALME:( m. ) | E25: 35 | F25: (m) | AB25: =AB24-AH39 -> 30.5
D27: SISTEMA DE SUMINISTRO | E27: PRINCIPALMENTE PARA FLUXÓMETRO
B29: Clase Material | C29: Tramo | E29: Unidades de Carga | F29: Unidades de Carga (Para Tabla) | G29: Inodoro público tanque | H29: 5 | I29: Lavamanos público | J29: 1.5 | K29: Orinal | L29: 3 | M29: Lavaplatos | N29: 3 | X29: Caudal (L/min) | Y29: Caudal (L/s) | Z29: Longitud (m) | AA29: Diámetro Nominal (pulg.) | AB29: Diámetro Interno (mm) | AC29: TEE 90° | AD29: TEE A FLUJO | AE29: Codo 45° | AF29: Codo 90° | AG29: Val. De Bola | AH29: Desnivel vert. (m) | AI29: Longitud Equivalente (m) | AJ29: Long. Total (m) | AK29: Pérdida unitaria h (m/m) | AL29: Pérdida total h (m) | AM29: Presión P1 (m) | AN29: Presión P2 (m) | AO29: C | AP29: V (m/seg) | AQ29: OBSERVACIONES
B30: PVC | C30: A | D30: B | E30: =ROUND(SUM(H30,J30,L30,N30,P30,R30,T30,V30,E29),0) -> 3 | F30: =IF(E30<=20,CEILING(E30,1),IF(E30<=50,CEILING(E30,5),IF(E30<=100,CEILING(E30,10),IF(E30<=200,CEILING(E30,20),IF(E30<=300,CEILING(E30,25),IF(E30<=500,CEILING(E30,100),IF(E30<=2000,CEILING(E30,250),IF(E30<=3000,CEILING(E30,500),IF(E30<=5000,CEILING(E30,1000)))))))))) -> 3 | G30: 0 | H30: =G30*H$29 -> 0 | I30: 0 | J30: =I30*J$29 -> 0 | K30: 1 | L30: =K30*L$29 -> 3 | M30: 0 | N30: =M30*N$29 -> 0 | O30: 0 | P30: =O30*P$29 -> 0 | Q30: 0 | R30: =Q30*R$29 -> 0 | S30: 0 | T30: =S30*T$29 -> 0 | U30: 0 | V30: =U30*V$29 -> 0 | X30: 11.36 | Y30: =X30/60 -> 0.18933333 | Z30: 1.55 | AA30: 0.75 | AB30: =IF(B30=$G$11,LOOKUP(AA30,$D$12:$D$23,$G$12:$G$23),IF(B30=$I$11,LOOKUP(AA30,$D$12:$D$23,$I$12:$I$23),IF(B30=$K$11,LOOKUP(AA30,$D$12:$D$23,$K$12:$K$23),IF(B30=$M$10,LOOKUP(AA30,$M$12:$M$19,$O$12:$O$19))))) -> 23.63 | AC30: 0 | AD30: 1 | AE30: 0 | AF30: 2 | AG30: 0 | AH30: 0 | AI30: =AD30*VLOOKUP(AA30,'Longitud Equivalente'!B$8:C$16,2,FALSE)+AE30*VLOOKUP(AA30,'Longitud Equivalente'!B$8:D$16,3,FALSE)+AF30*VLOOKUP(AA30,'Longitud Equivalente'!B$8:E$16,4,FALSE)+AG30*VLOOKUP(AA30,'Longitud Equivalente'!B$8:F$16,5,FALSE)+AC30*VLOOKUP(AA30,'Longitud Equivalente'!B$8:G$18,6,FALSE) -> 1.2 | AJ30: =AI30+Z30 -> 2.75 | AK30: =((Y30/1000)/(0.28*AO30*(AB30/1000)^2.63))^1.85 -> 0.010562608 | AL30: =AK30*AJ30 -> 0.029047173 | AM30: =AN31 -> 30.847118 | AN30: =+AM30-AL30-AH30 -> 30.818071 | AO30: =LOOKUP(AA30,$D$12:$D$23,$E$12:$E$23) -> 150 | AP30: =+(Y30/1000)/(3.1416*((AB30/1000)^2)/4) -> 0.43172653 | AQ30: =IF(AP30>=3,"CAMBIAR DIAMETRO","DIAMETRO APROPIADO") -> DIAMETRO APROPIADO
B31: PVC | C31: B | D31: C | E31: =ROUND(SUM(H31,J31,L31,N31,P31,R31,T31,V31,E30),0) -> 6 | F31: =IF(E31<=20,CEILING(E31,1),IF(E31<=50,CEILING(E31,5),IF(E31<=100,CEILING(E31,10),IF(E31<=200,CEILING(E31,20),IF(E31<=300,CEILING(E31,25),IF(E31<=500,CEILING(E31,100),IF(E31<=2000,CEILING(E31,250),IF(E31<=3000,CEILING(E31,500),IF(E31<=5000,CEILING(E31,1000)))))))))) -> 6 | G31: 0 | H31: =G31*H$29 -> 0 | I31: 0 | J31: =I31*J$29 -> 0 | K31: 1 | L31: =K31*L$29 -> 3 | M31: 0 | N31: =M31*N$29 -> 0 | O31: 0 | P31: =O31*P$29 -> 0 | Q31: 0 | R31: =Q31*R$29 -> 0 | S31: 0 | T31: =S31*T$29 -> 0 | U31: 0 | V31: =U31*V$29 -> 0 | X31: 87.06 | Y31: =X31/60 -> 1.451 | Z31: 0.98 | AA31: 1.25 | AB31: =IF(B31=$G$11,LOOKUP(AA31,$D$12:$D$23,$G$12:$G$23),IF(B31=$I$11,LOOKUP(AA31,$D$12:$D$23,$I$12:$I$23),IF(B31=$K$11,LOOKUP(AA31,$D$12:$D$23,$K$12:$K$23),IF(B31=$M$10,LOOKUP(AA31,$M$12:$M$19,$O$12:$O$19))))) -> 38.14 | AC31: 0 | AD31: 1 | AE31: 0 | AF31: 0 | AG31: 0 | AH31: 0 | AI31: =AD31*VLOOKUP(AA31,'Longitud Equivalente'!B$8:C$16,2,FALSE)+AE31*VLOOKUP(AA31,'Longitud Equivalente'!B$8:D$16,3,FALSE)+AF31*VLOOKUP(AA31,'Longitud Equivalente'!B$8:E$16,4,FALSE)+AG31*VLOOKUP(AA31,'Longitud Equivalente'!B$8:F$16,5,FALSE)+AC31*VLOOKUP(AA31,'Longitud Equivalente'!B$8:G$18,6,FALSE) -> 0.1 | AJ31: =AI31+Z31 -> 1.08 | AK31: =((Y31/1000)/(0.28*AO31*(AB31/1000)^2.63))^1.85 -> 0.044500592 | AL31: =AK31*AJ31 -> 0.048060639 | AM31: =AN32 -> 30.895179 | AN31: =+AM31-AL31-AH31 -> 30.847118 | AO31: =LOOKUP(AA31,$D$12:$D$23,$E$12:$E$23) -> 150 | AP31: =+(Y31/1000)/(3.1416*((AB31/1000)^2)/4) -> 1.2700334 | AQ31: =IF(AP31>=3,"CAMBIAR DIAMETRO","DIAMETRO APROPIADO") -> DIAMETRO APROPIADO
B32: PVC | C32: C | D32: D | E32: =ROUND(SUM(H32,J32,L32,N32,P32,R32,T32,V32,E31),0) -> 11 | F32: =IF(E32<=20,CEILING(E32,1),IF(E32<=50,CEILING(E32,5),IF(E32<=100,CEILING(E32,10),IF(E32<=200,CEILING(E32,20),IF(E32<=300,CEILING(E32,25),IF(E32<=500,CEILING(E32,100),IF(E32<=2000,CEILING(E32,250),IF(E32<=3000,CEILING(E32,500),IF(E32<=5000,CEILING(E32,1000)))))))))) -> 11 | G32: 1 | H32: =G32*H$29 -> 5 | I32: 0 | J32: =I32*J$29 -> 0 | K32: 0 | L32: =K32*L$29 -> 0 | M32: 0 | N32: =M32*N$29 -> 0 | O32: 0 | P32: =O32*P$29 -> 0 | Q32: 0 | R32: =Q32*R$29 -> 0 | S32: 0 | T32: =S32*T$29 -> 0 | U32: 0 | V32: =U32*V$29 -> 0 | X32: 105.98 | Y32: =X32/60 -> 1.7663333 | Z32: 3.37 | AA32: 1.25 | AB32: =IF(B32=$G$11,LOOKUP(AA32,$D$12:$D$23,$G$12:$G$23),IF(B32=$I$11,LOOKUP(AA32,$D$12:$D$23,$I$12:$I$23),IF(B32=$K$11,LOOKUP(AA32,$D$12:$D$23,$K$12:$K$23),IF(B32=$M$10,LOOKUP(AA32,$M$12:$M$19,$O$12:$O$19))))) -> 38.14 | AC32: 1 | AD32: 0 | AE32: 0 | AF32: 7 | AG32: 1 | AH32: 0 | AI32: =AD32*VLOOKUP(AA32,'Longitud Equivalente'!B$8:C$16,2,FALSE)+AE32*VLOOKUP(AA32,'Longitud Equivalente'!B$8:D$16,3,FALSE)+AF32*VLOOKUP(AA32,'Longitud Equivalente'!B$8:E$16,4,FALSE)+AG32*VLOOKUP(AA32,'Longitud Equivalente'!B$8:F$16,5,FALSE)+AC32*VLOOKUP(AA32,'Longitud Equivalente'!B$8:G$18,6,FALSE) -> 8.1 | AJ32: =AI32+Z32 -> 11.47 | AK32: =((Y32/1000)/(0.28*AO32*(AB32/1000)^2.63))^1.85 -> 0.064027346 | AL32: =AK32*AJ32 -> 0.73439366 | AM32: =AN33 -> 31.629573 | AN32: =+AM32-AL32-AH32 -> 30.895179 | AO32: =LOOKUP(AA32,$D$12:$D$23,$E$12:$E$23) -> 150 | AP32: =+(Y32/1000)/(3.1416*((AB32/1000)^2)/4) -> 1.5460388 | AQ32: =IF(AP32>=3,"CAMBIAR DIAMETRO","DIAMETRO APROPIADO") -> DIAMETRO APROPIADO
B33: PVC | C33: D | D33: E | E33: =ROUND(SUM(H33,J33,L33,N33,P33,R33,T33,V33,E32),0) -> 16 | F33: =IF(E33<=20,CEILING(E33,1),IF(E33<=50,CEILING(E33,5),IF(E33<=100,CEILING(E33,10),IF(E33<=200,CEILING(E33,20),IF(E33<=300,CEILING(E33,25),IF(E33<=500,CEILING(E33,100),IF(E33<=2000,CEILING(E33,250),IF(E33<=3000,CEILING(E33,500),IF(E33<=5000,CEILING(E33,1000)))))))))) -> 16 | G33: 0 | H33: =G33*H$29 -> 0 | I33: 3 | J33: =I33*J$29 -> 4.5 | K33: 0 | L33: =K33*L$29 -> 0 | M33: 0 | N33: =M33*N$29 -> 0 | O33: 0 | P33: =O33*P$29 -> 0 | Q33: 0 | R33: =Q33*R$29 -> 0 | S33: 0 | T33: =S33*T$29 -> 0 | U33: 0 | V33: =U33*V$29 -> 0 | X33: 124.91 | Y33: =X33/60 -> 2.0818333 | Z33: 2.37 | AA33: 1.25 | AB33: =IF(B33=$G$11,LOOKUP(AA33,$D$12:$D$23,$G$12:$G$23),IF(B33=$I$11,LOOKUP(AA33,$D$12:$D$23,$I$12:$I$23),IF(B33=$K$11,LOOKUP(AA33,$D$12:$D$23,$K$12:$K$23),IF(B33=$M$10,LOOKUP(AA33,$M$12:$M$19,$O$12:$O$19))))) -> 38.14 | AC33: 0 | AD33: 1 | AE33: 0 | AF33: 0 | AG33: 0 | AH33: 0 | AI33: =AD33*VLOOKUP(AA33,'Longitud Equivalente'!B$8:C$16,2,FALSE)+AE33*VLOOKUP(AA33,'Longitud Equivalente'!B$8:D$16,3,FALSE)+AF33*VLOOKUP(AA33,'Longitud Equivalente'!B$8:E$16,4,FALSE)+AG33*VLOOKUP(AA33,'Longitud Equivalente'!B$8:F$16,5,FALSE)+AC33*VLOOKUP(AA33,'Longitud Equivalente'!B$8:G$18,6,FALSE) -> 0.1 | AJ33: =AI33+Z33 -> 2.47 | AK33: =((Y33/1000)/(0.28*AO33*(AB33/1000)^2.63))^1.85 -> 0.086777292 | AL33: =AK33*AJ33 -> 0.21433991 | AM33: =AN34 -> 31.843913 | AN33: =+AM33-AL33-AH33 -> 31.629573 | AO33: =LOOKUP(AA33,$D$12:$D$23,$E$12:$E$23) -> 150 | AP33: =+(Y33/1000)/(3.1416*((AB33/1000)^2)/4) -> 1.8221901 | AQ33: =IF(AP33>=3,"CAMBIAR DIAMETRO","DIAMETRO APROPIADO") -> DIAMETRO APROPIADO
B34: PVC | C34: E | D34: F | E34: =ROUND(SUM(H34,J34,L34,N34,P34,R34,T34,V34,E33),0) -> 23 | F34: =IF(E34<=20,CEILING(E34,1),IF(E34<=50,CEILING(E34,5),IF(E34<=100,CEILING(E34,10),IF(E34<=200,CEILING(E34,20),IF(E34<=300,CEILING(E34,25),IF(E34<=500,CEILING(E34,100),IF(E34<=2000,CEILING(E34,250),IF(E34<=3000,CEILING(E34,500),IF(E34<=5000,CEILING(E34,1000)))))))))) -> 25 | G34: 1 | H34: =G34*H$29 -> 5 | I34: 1 | J34: =I34*J$29 -> 1.5 | K34: 0 | L34: =K34*L$29 -> 0 | M34: 0 | N34: =M34*N$29 -> 0 | O34: 0 | P34: =O34*P$29 -> 0 | Q34: 0 | R34: =Q34*R$29 -> 0 | S34: 0 | T34: =S34*T$29 -> 0 | U34: 0 | V34: =U34*V$29 -> 0 | X34: 140.05 | Y34: =X34/60 -> 2.3341667 | Z34: 0.64 | AA34: 1.5 | AB34: =IF(B34=$G$11,LOOKUP(AA34,$D$12:$D$23,$G$12:$G$23),IF(B34=$I$11,LOOKUP(AA34,$D$12:$D$23,$I$12:$I$23),IF(B34=$K$11,LOOKUP(AA34,$D$12:$D$23,$K$12:$K$23),IF(B34=$M$10,LOOKUP(AA34,$M$12:$M$19,$O$12:$O$19))))) -> 43.68 | AC34: 0 | AD34: 1 | AE34: 0 | AF34: 0 | AG34: 0 | AH34: 0 | AI34: =AD34*VLOOKUP(AA34,'Longitud Equivalente'!B$8:C$16,2,FALSE)+AE34*VLOOKUP(AA34,'Longitud Equivalente'!B$8:D$16,3,FALSE)+AF34*VLOOKUP(AA34,'Longitud Equivalente'!B$8:E$16,4,FALSE)+AG34*VLOOKUP(AA34,'Longitud Equivalente'!B$8:F$16,5,FALSE)+AC34*VLOOKUP(AA34,'Longitud Equivalente'!B$8:G$18,6,FALSE) -> 0.1 | AJ34: =AI34+Z34 -> 0.74 | AK34: =((Y34/1000)/(0.28*AO34*(AB34/1000)^2.63))^1.85 -> 0.055429074 | AL34: =AK34*AJ34 -> 0.041017515 | AM34: =AN36 -> 31.88493 | AN34: =+AM34-AL34-AH34 -> 31.843913 | AO34: =LOOKUP(AA34,$D$12:$D$23,$E$12:$E$23) -> 150 | AP34: =+(Y34/1000)/(3.1416*((AB34/1000)^2)/4) -> 1.5576709 | AQ34: =IF(AP34>=3,"CAMBIAR DIAMETRO","DIAMETRO APROPIADO") -> DIAMETRO APROPIADO
B35: PVC | C35: F | D35: G | E35: =ROUND(SUM(H35,J35,L35,N35,P35,R35,T35,V35,E34),0) -> 52 | F35: =IF(E35<=20,CEILING(E35,1),IF(E35<=50,CEILING(E35,5),IF(E35<=100,CEILING(E35,10),IF(E35<=200,CEILING(E35,20),IF(E35<=300,CEILING(E35,25),IF(E35<=500,CEILING(E35,100),IF(E35<=2000,CEILING(E35,250),IF(E35<=3000,CEILING(E35,500),IF(E35<=5000,CEILING(E35,1000)))))))))) -> 60 | G35: 3 | H35: =G35*H$29 -> 15 | I35: 5 | J35: =I35*J$29 -> 7.5 | K35: 2 | L35: =K35*L$29 -> 6 | M35: 0 | N35: =M35*N$29 -> 0 | O35: 0 | P35: =O35*P$29 -> 0 | Q35: 0 | R35: =Q35*R$29 -> 0 | S35: 0 | T35: =S35*T$29 -> 0 | U35: 0 | V35: =U35*V$29 -> 0 | X35: 196.82 | Y35: =X35/60 -> 3.2803333 | Z35: 60.77 | AA35: 2 | AB35: =IF(B35=$G$11,LOOKUP(AA35,$D$12:$D$23,$G$12:$G$23),IF(B35=$I$11,LOOKUP(AA35,$D$12:$D$23,$I$12:$I$23),IF(B35=$K$11,LOOKUP(AA35,$D$12:$D$23,$K$12:$K$23),IF(B35=$M$10,LOOKUP(AA35,$M$12:$M$19,$O$12:$O$19))))) -> 54.58 | AC35: 0 | AD35: 1 | AE35: 2 | AF35: 0 | AG35: 0 | AH35: 0 | AI35: =AD35*VLOOKUP(AA35,'Longitud Equivalente'!B$8:C$16,2,FALSE)+AE35*VLOOKUP(AA35,'Longitud Equivalente'!B$8:D$16,3,FALSE)+AF35*VLOOKUP(AA35,'Longitud Equivalente'!B$8:E$16,4,FALSE)+AG35*VLOOKUP(AA35,'Longitud Equivalente'!B$8:F$16,5,FALSE)+AC35*VLOOKUP(AA35,'Longitud Equivalente'!B$8:G$18,6,FALSE) -> 1.3 | AJ35: =AI35+Z35 -> 62.07 | AK35: =((Y35/1000)/(0.28*AO35*(AB35/1000)^2.63))^1.85 -> 0.035188473 | AL35: =AK35*AJ35 -> 2.1841485 | AM35: =AN37 -> 32.042439 | AN35: =+AM35-AL35-AH35 -> 29.85829 | AO35: =LOOKUP(AA35,$D$12:$D$23,$E$12:$E$23) -> 150 | AP35: =+(Y35/1000)/(3.1416*((AB35/1000)^2)/4) -> 1.4020388 | AQ35: =IF(AP35>=3,"CAMBIAR DIAMETRO","DIAMETRO APROPIADO") -> DIAMETRO APROPIADO
B36: PVC | C36: G | D36: H | E36: =ROUND(SUM(H36,J36,L36,N36,P36,R36,T36,V36,E35),0) -> 64 | F36: =IF(E36<=20,CEILING(E36,1),IF(E36<=50,CEILING(E36,5),IF(E36<=100,CEILING(E36,10),IF(E36<=200,CEILING(E36,20),IF(E36<=300,CEILING(E36,25),IF(E36<=500,CEILING(E36,100),IF(E36<=2000,CEILING(E36,250),IF(E36<=3000,CEILING(E36,500),IF(E36<=5000,CEILING(E36,1000)))))))))) -> 70 | G36: 0 | H36: =G36*H$29 -> 0 | I36: 0 | J36: =I36*J$29 -> 0 | K36: 0 | L36: =K36*L$29 -> 0 | M36: 4 | N36: =M36*N$29 -> 12 | O36: 0 | P36: =O36*P$29 -> 0 | Q36: 0 | R36: =Q36*R$29 -> 0 | S36: 0 | T36: =S36*T$29 -> 0 | U36: 0 | V36: =U36*V$29 -> 0 | X36: 213.22333 | Y36: =X36/60 -> 3.5537222 | Z36: 3.76 | AA36: 2 | AB36: =IF(B36=$G$11,LOOKUP(AA36,$D$12:$D$23,$G$12:$G$23),IF(B36=$I$11,LOOKUP(AA36,$D$12:$D$23,$I$12:$I$23),IF(B36=$K$11,LOOKUP(AA36,$D$12:$D$23,$K$12:$K$23),IF(B36=$M$10,LOOKUP(AA36,$M$12:$M$19,$O$12:$O$19))))) -> 54.58 | AC36: 0 | AD36: 1 | AE36: 0 | AF36: 0 | AG36: 0 | AH36: 0 | AI36: =AD36*VLOOKUP(AA36,'Longitud Equivalente'!B$8:C$16,2,FALSE)+AE36*VLOOKUP(AA36,'Longitud Equivalente'!B$8:D$16,3,FALSE)+AF36*VLOOKUP(AA36,'Longitud Equivalente'!B$8:E$16,4,FALSE)+AG36*VLOOKUP(AA36,'Longitud Equivalente'!B$8:F$16,5,FALSE)+AC36*VLOOKUP(AA36,'Longitud Equivalente'!B$8:G$18,6,FALSE) -> 0.1 | AJ36: =AI36+Z36 -> 3.86 | AK36: =((Y36/1000)/(0.28*AO36*(AB36/1000)^2.63))^1.85 -> 0.040805302 | AL36: =AK36*AJ36 -> 0.15750847 | AM36: =AN37 -> 32.042439 | AN36: =+AM36-AL36-AH36 -> 31.88493 | AO36: =LOOKUP(AA36,$D$12:$D$23,$E$12:$E$23) -> 150 | AP36: =+(Y36/1000)/(3.1416*((AB36/1000)^2)/4) -> 1.5188872 | AQ36: =IF(AP36>=3,"CAMBIAR DIAMETRO","DIAMETRO APROPIADO") -> DIAMETRO APROPIADO
B37: PVC | C37: H | D37: I | E37: =ROUND(SUM(H37,J37,L37,N37,P37,R37,T37,V37,E36),0) -> 76 | F37: =IF(E37<=20,CEILING(E37,1),IF(E37<=50,CEILING(E37,5),IF(E37<=100,CEILING(E37,10),IF(E37<=200,CEILING(E37,20),IF(E37<=300,CEILING(E37,25),IF(E37<=500,CEILING(E37,100),IF(E37<=2000,CEILING(E37,250),IF(E37<=3000,CEILING(E37,500),IF(E37<=5000,CEILING(E37,1000)))))))))) -> 80 | G37: 0 | H37: =G37*H$29 -> 0 | I37: 0 | J37: =I37*J$29 -> 0 | K37: 0 | L37: =K37*L$29 -> 0 | M37: 4 | N37: =M37*N$29 -> 12 | O37: 0 | P37: =O37*P$29 -> 0 | Q37: 0 | R37: =Q37*R$29 -> 0 | S37: 0 | T37: =S37*T$29 -> 0 | U37: 0 | V37: =U37*V$29 -> 0 | X37: 227.1 | Y37: =X37/60 -> 3.785 | Z37: 62.1 | AA37: 2 | AB37: =IF(B37=$G$11,LOOKUP(AA37,$D$12:$D$23,$G$12:$G$23),IF(B37=$I$11,LOOKUP(AA37,$D$12:$D$23,$I$12:$I$23),IF(B37=$K$11,LOOKUP(AA37,$D$12:$D$23,$K$12:$K$23),IF(B37=$M$10,LOOKUP(AA37,$M$12:$M$19,$O$12:$O$19))))) -> 54.58 | AC37: 0 | AD37: 0 | AE37: 4 | AF37: 0 | AG37: 0 | AH37: 0 | AI37: =AD37*VLOOKUP(AA37,'Longitud Equivalente'!B$8:C$16,2,FALSE)+AE37*VLOOKUP(AA37,'Longitud Equivalente'!B$8:D$16,3,FALSE)+AF37*VLOOKUP(AA37,'Longitud Equivalente'!B$8:E$16,4,FALSE)+AG37*VLOOKUP(AA37,'Longitud Equivalente'!B$8:F$16,5,FALSE)+AC37*VLOOKUP(AA37,'Longitud Equivalente'!B$8:G$18,6,FALSE) -> 2.4 | AJ37: =AI37+Z37 -> 64.5 | AK37: =((Y37/1000)/(0.28*AO37*(AB37/1000)^2.63))^1.85 -> 0.045853665 | AL37: =AK37*AJ37 -> 2.9575614 | AM37: =$E$25 -> 35 | AN37: =+AM37-AL37-AH37 -> 32.042439 | AO37: =LOOKUP(AA37,$D$12:$D$23,$E$12:$E$23) -> 150 | AP37: =+(Y37/1000)/(3.1416*((AB37/1000)^2)/4) -> 1.617737 | AQ37: =IF(AP37>=3,"CAMBIAR DIAMETRO","DIAMETRO APROPIADO") -> DIAMETRO APROPIADO
G40: =+SUM(G30:G37) -> 5 | I40: =+SUM(I30:I37) -> 9 | K40: =+SUM(K30:K37) -> 4 | M40: =+SUM(M30:M37) -> 8 | O40: =+SUM(O30:O37) -> 0
B41: CÁLCULO DE TRAMOS RED
B42: PVC | C42: K | D42: L | E42: =ROUND(SUM(H42,J42,L42,N42,P42,R42,T42,V42),0) -> 2 | F42: =IF(E42<=20,CEILING(E42,1),IF(E42<=50,CEILING(E42,5),IF(E42<=100,CEILING(E42,10),IF(E42<=200,CEILING(E42,20),IF(E42<=300,CEILING(E42,25),IF(E42<=500,CEILING(E42,100),IF(E42<=2000,CEILING(E42,250),IF(E42<=3000,CEILING(E42,500),IF(E42<=5000,CEILING(E42,1000)))))))))) -> 2 | G42: 0 | H42: =G42*H$29 -> 0 | I42: 1 | J42: =I42*J$29 -> 1.5 | K42: 0 | L42: =K42*L$29 -> 0 | M42: 0 | N42: =M42*N$29 -> 0 | O42: 0 | P42: =O42*P$29 -> 0 | Q42: 0 | R42: =Q42*R$29 -> 0 | S42: 0 | T42: =S42*T$29 -> 0 | U42: 0 | V42: =U42*V$29 -> 0 | X42: 7.57 | Y42: =X42/60 -> 0.12616667 | Z42: 1 | AA42: 0.5 | AB42: =IF(B42=$G$11,LOOKUP(AA42,$D$12:$D$23,$G$12:$G$23),IF(B42=$I$11,LOOKUP(AA42,$D$12:$D$23,$I$12:$I$23),IF(B42=$K$11,LOOKUP(AA42,$D$12:$D$23,$K$12:$K$23),IF(B42=$M$10,LOOKUP(AA42,$M$12:$M$19,$O$12:$O$19))))) -> 18.18 | AC42: 0 | AD42: 1 | AE42: 0 | AF42: 2 | AG42: 0 | AH42: 0 | AI42: =AD42*VLOOKUP(AA42,'Longitud Equivalente'!B$8:C$16,2,FALSE)+AE42*VLOOKUP(AA42,'Longitud Equivalente'!B$8:D$16,3,FALSE)+AF42*VLOOKUP(AA42,'Longitud Equivalente'!B$8:E$16,4,FALSE)+AG42*VLOOKUP(AA42,'Longitud Equivalente'!B$8:F$16,5,FALSE)+AC42*VLOOKUP(AA42,'Longitud Equivalente'!B$8:G$18,6,FALSE) -> 6.6 | AJ42: =AI42+Z42 -> 7.6 | AK42: =((Y42/1000)/(0.28*AO42*(AB42/1000)^2.63))^1.85 -> 0.017851814 | AL42: =AK42*AJ42 -> 0.13567379 | AM42: =AN43 -> 30.423451 | AN42: =+AM42-AL42-AH42 -> 30.287777 | AO42: =LOOKUP(AA42,$D$12:$D$23,$E$12:$E$23) -> 150 | AP42: =+(Y42/1000)/(3.1416*((AB42/1000)^2)/4) -> 0.48603324 | AQ42: =IF(AP42>=3,"CAMBIAR DIAMETRO","DIAMETRO APROPIADO") -> DIAMETRO APROPIADO
B43: PVC | C43: L | D43: M | E43: =ROUND(SUM(H43,J43,L43,N43,P43,R43,T43,V43,E42),0) -> 4 | F43: =IF(E43<=20,CEILING(E43,1),IF(E43<=50,CEILING(E43,5),IF(E43<=100,CEILING(E43,10),IF(E43<=200,CEILING(E43,20),IF(E43<=300,CEILING(E43,25),IF(E43<=500,CEILING(E43,100),IF(E43<=2000,CEILING(E43,250),IF(E43<=3000,CEILING(E43,500),IF(E43<=5000,CEILING(E43,1000)))))))))) -> 4 | G43: 0 | H43: =G43*H$29 -> 0 | I43: 1 | J43: =I43*J$29 -> 1.5 | K43: 0 | L43: =K43*L$29 -> 0 | M43: 0 | N43: =M43*N$29 -> 0 | O43: 0 | P43: =O43*P$29 -> 0 | Q43: 0 | R43: =Q43*R$29 -> 0 | S43: 0 | T43: =S43*T$29 -> 0 | U43: 0 | V43: =U43*V$29 -> 0 | X43: 15.14 | Y43: =X43/60 -> 0.25233333 | Z43: 0.73 | AA43: 0.5 | AB43: =IF(B43=$G$11,LOOKUP(AA43,$D$12:$D$23,$G$12:$G$23),IF(B43=$I$11,LOOKUP(AA43,$D$12:$D$23,$I$12:$I$23),IF(B43=$K$11,LOOKUP(AA43,$D$12:$D$23,$K$12:$K$23),IF(B43=$M$10,LOOKUP(AA43,$M$12:$M$19,$O$12:$O$19))))) -> 18.18 | AC43: 0 | AD43: 1 | AE43: 0 | AF43: 6 | AG43: 1 | AH43: 0 | AI43: =AD43*VLOOKUP(AA43,'Longitud Equivalente'!B$8:C$16,2,FALSE)+AE43*VLOOKUP(AA43,'Longitud Equivalente'!B$8:D$16,3,FALSE)+AF43*VLOOKUP(AA43,'Longitud Equivalente'!B$8:E$16,4,FALSE)+AG43*VLOOKUP(AA43,'Longitud Equivalente'!B$8:F$16,5,FALSE)+AC43*VLOOKUP(AA43,'Longitud Equivalente'!B$8:G$18,6,FALSE) -> 19.8 | AJ43: =AI43+Z43 -> 20.53 | AK43: =((Y43/1000)/(0.28*AO43*(AB43/1000)^2.63))^1.85 -> 0.064355823 | AL43: =AK43*AJ43 -> 1.3212251 | AM43: =AN44 -> 31.744676 | AN43: =+AM43-AL43-AH43 -> 30.423451 | AO43: =LOOKUP(AA43,$D$12:$D$23,$E$12:$E$23) -> 150 | AP43: =+(Y43/1000)/(3.1416*((AB43/1000)^2)/4) -> 0.97206649 | AQ43: =IF(AP43>=3,"CAMBIAR DIAMETRO","DIAMETRO APROPIADO") -> DIAMETRO APROPIADO
B44: PVC | C44: M | D44: D | E44: =ROUND(SUM(H44,J44,L44,N44,P44,R44,T44,V44,E43),0) -> 6 | F44: =IF(E44<=20,CEILING(E44,1),IF(E44<=50,CEILING(E44,5),IF(E44<=100,CEILING(E44,10),IF(E44<=200,CEILING(E44,20),IF(E44<=300,CEILING(E44,25),IF(E44<=500,CEILING(E44,100),IF(E44<=2000,CEILING(E44,250),IF(E44<=3000,CEILING(E44,500),IF(E44<=5000,CEILING(E44,1000)))))))))) -> 6 | G44: 0 | H44: =G44*H$29 -> 0 | I44: 1 | J44: =I44*J$29 -> 1.5 | K44: 0 | L44: =K44*L$29 -> 0 | M44: 0 | N44: =M44*N$29 -> 0 | O44: 0 | P44: =O44*P$29 -> 0 | Q44: 0 | R44: =Q44*R$29 -> 0 | S44: 0 | T44: =S44*T$29 -> 0 | U44: 0 | V44: =U44*V$29 -> 0 | X44: 87.06 | Y44: =X44/60 -> 1.451 | Z44: 2.23 | AA44: 1.25 | AB44: =IF(B44=$G$11,LOOKUP(AA44,$D$12:$D$23,$G$12:$G$23),IF(B44=$I$11,LOOKUP(AA44,$D$12:$D$23,$I$12:$I$23),IF(B44=$K$11,LOOKUP(AA44,$D$12:$D$23,$K$12:$K$23),IF(B44=$M$10,LOOKUP(AA44,$M$12:$M$19,$O$12:$O$19))))) -> 38.14 | AC44: 0 | AD44: 0 | AE44: 0 | AF44: 0 | AG44: 0 | AH44: 0 | AI44: =AD44*VLOOKUP(AA44,'Longitud Equivalente'!B$8:C$16,2,FALSE)+AE44*VLOOKUP(AA44,'Longitud Equivalente'!B$8:D$16,3,FALSE)+AF44*VLOOKUP(AA44,'Longitud Equivalente'!B$8:E$16,4,FALSE)+AG44*VLOOKUP(AA44,'Longitud Equivalente'!B$8:F$16,5,FALSE)+AC44*VLOOKUP(AA44,'Longitud Equivalente'!B$8:G$18,6,FALSE) -> 0 | AJ44: =AI44+Z44 -> 2.23 | AK44: =((Y44/1000)/(0.28*AO44*(AB44/1000)^2.63))^1.85 -> 0.044500592 | AL44: =AK44*AJ44 -> 0.099236319 | AM44: =+AM33 -> 31.843913 | AN44: =+AM44-AL44-AH44 -> 31.744676 | AO44: =LOOKUP(AA44,$D$12:$D$23,$E$12:$E$23) -> 150 | AP44: =+(Y44/1000)/(3.1416*((AB44/1000)^2)/4) -> 1.2700334 | AQ44: =IF(AP44>=3,"CAMBIAR DIAMETRO","DIAMETRO APROPIADO") -> DIAMETRO APROPIADO
B45: CÁLCULO DE TRAMOS RED
B46: PVC | C46: O | D46: P | E46: =ROUND(SUM(H46,J46,L46,N46,P46,R46,T46,V46),0) -> 2 | F46: =IF(E46<=20,CEILING(E46,1),IF(E46<=50,CEILING(E46,5),IF(E46<=100,CEILING(E46,10),IF(E46<=200,CEILING(E46,20),IF(E46<=300,CEILING(E46,25),IF(E46<=500,CEILING(E46,100),IF(E46<=2000,CEILING(E46,250),IF(E46<=3000,CEILING(E46,500),IF(E46<=5000,CEILING(E46,1000)))))))))) -> 2 | G46: 0 | H46: =G46*H$29 -> 0 | I46: 1 | J46: =I46*J$29 -> 1.5 | K46: 0 | L46: =K46*L$29 -> 0 | M46: 0 | N46: =M46*N$29 -> 0 | O46: 0 | P46: =O46*P$29 -> 0 | Q46: 0 | R46: =Q46*R$29 -> 0 | S46: 0 | T46: =S46*T$29 -> 0 | U46: 0 | V46: =U46*V$29 -> 0 | X46: 7.57 | Y46: =X46/60 -> 0.12616667 | Z46: 2.55 | AA46: 0.5 | AB46: =IF(B46=$G$11,LOOKUP(AA46,$D$12:$D$23,$G$12:$G$23),IF(B46=$I$11,LOOKUP(AA46,$D$12:$D$23,$I$12:$I$23),IF(B46=$K$11,LOOKUP(AA46,$D$12:$D$23,$K$12:$K$23),IF(B46=$M$10,LOOKUP(AA46,$M$12:$M$19,$O$12:$O$19))))) -> 18.18 | AC46: 0 | AD46: 1 | AE46: 0 | AF46: 3 | AG46: 0 | AH46: 0 | AI46: =AD46*VLOOKUP(AA46,'Longitud Equivalente'!B$8:C$16,2,FALSE)+AE46*VLOOKUP(AA46,'Longitud Equivalente'!B$8:D$16,3,FALSE)+AF46*VLOOKUP(AA46,'Longitud Equivalente'!B$8:E$16,4,FALSE)+AG46*VLOOKUP(AA46,'Longitud Equivalente'!B$8:F$16,5,FALSE)+AC46*VLOOKUP(AA46,'Longitud Equivalente'!B$8:G$18,6,FALSE) -> 9.9 | AJ46: =AI46+Z46 -> 12.45 | AK46: =((Y46/1000)/(0.28*AO46*(AB46/1000)^2.63))^1.85 -> 0.017851814 | AL46: =AK46*AJ46 -> 0.22225509 | AM46: =AN47 -> 31.466105 | AN46: =+AM46-AL46-AH46 -> 31.243849 | AO46: =LOOKUP(AA46,$D$12:$D$23,$E$12:$E$23) -> 150 | AP46: =+(Y46/1000)/(3.1416*((AB46/1000)^2)/4) -> 0.48603324 | AQ46: =IF(AP46>=3,"CAMBIAR DIAMETRO","DIAMETRO APROPIADO") -> DIAMETRO APROPIADO
B47: PVC | C47: P | D47: E | E47: =ROUND(SUM(H47,J47,L47,N47,P47,R47,T47,V47,E46),0) -> 7 | F47: =IF(E47<=20,CEILING(E47,1),IF(E47<=50,CEILING(E47,5),IF(E47<=100,CEILING(E47,10),IF(E47<=200,CEILING(E47,20),IF(E47<=300,CEILING(E47,25),IF(E47<=500,CEILING(E47,100),IF(E47<=2000,CEILING(E47,250),IF(E47<=3000,CEILING(E47,500),IF(E47<=5000,CEILING(E47,1000)))))))))) -> 7 | G47: 1 | H47: =G47*H$29 -> 5 | I47: 0 | J47: =I47*J$29 -> 0 | K47: 0 | L47: =K47*L$29 -> 0 | M47: 0 | N47: =M47*N$29 -> 0 | O47: 0 | P47: =O47*P$29 -> 0 | Q47: 0 | R47: =Q47*R$29 -> 0 | S47: 0 | T47: =S47*T$29 -> 0 | U47: 0 | V47: =U47*V$29 -> 0 | X47: 90.84 | Y47: =X47/60 -> 1.514 | Z47: 2.4 | AA47: 1.25 | AB47: =IF(B47=$G$11,LOOKUP(AA47,$D$12:$D$23,$G$12:$G$23),IF(B47=$I$11,LOOKUP(AA47,$D$12:$D$23,$I$12:$I$23),IF(B47=$K$11,LOOKUP(AA47,$D$12:$D$23,$K$12:$K$23),IF(B47=$M$10,LOOKUP(AA47,$M$12:$M$19,$O$12:$O$19))))) -> 38.14 | AC47: 1 | AD47: 0 | AE47: 0 | AF47: 5 | AG47: 1 | AH47: 0 | AI47: =AD47*VLOOKUP(AA47,'Longitud Equivalente'!B$8:C$16,2,FALSE)+AE47*VLOOKUP(AA47,'Longitud Equivalente'!B$8:D$16,3,FALSE)+AF47*VLOOKUP(AA47,'Longitud Equivalente'!B$8:E$16,4,FALSE)+AG47*VLOOKUP(AA47,'Longitud Equivalente'!B$8:F$16,5,FALSE)+AC47*VLOOKUP(AA47,'Longitud Equivalente'!B$8:G$18,6,FALSE) -> 6.3 | AJ47: =AI47+Z47 -> 8.7 | AK47: =((Y47/1000)/(0.28*AO47*(AB47/1000)^2.63))^1.85 -> 0.048140871 | AL47: =AK47*AJ47 -> 0.41882558 | AM47: =+AM34 -> 31.88493 | AN47: =+AM47-AL47-AH47 -> 31.466105 | AO47: =LOOKUP(AA47,$D$12:$D$23,$E$12:$E$23) -> 150 | AP47: =+(Y47/1000)/(3.1416*((AB47/1000)^2)/4) -> 1.3251761 | AQ47: =IF(AP47>=3,"CAMBIAR DIAMETRO","DIAMETRO APROPIADO") -> DIAMETRO APROPIADO
B48: CÁLCULO DE TRAMOS RED
B49: PVC | C49: R | D49: S | E49: =ROUND(SUM(H49,J49,L49,N49,P49,R49,T49,V49),0) -> 3 | F49: =IF(E49<=20,CEILING(E49,1),IF(E49<=50,CEILING(E49,5),IF(E49<=100,CEILING(E49,10),IF(E49<=200,CEILING(E49,20),IF(E49<=300,CEILING(E49,25),IF(E49<=500,CEILING(E49,100),IF(E49<=2000,CEILING(E49,250),IF(E49<=3000,CEILING(E49,500),IF(E49<=5000,CEILING(E49,1000)))))))))) -> 3 | G49: 0 | H49: =G49*H$29 -> 0 | I49: 0 | J49: =I49*J$29 -> 0 | K49: 0 | L49: =K49*L$29 -> 0 | M49: 1 | N49: =M49*N$29 -> 3 | O49: 0 | P49: =O49*P$29 -> 0 | Q49: 0 | R49: =Q49*R$29 -> 0 | S49: 0 | T49: =S49*T$29 -> 0 | U49: 0 | V49: =U49*V$29 -> 0 | X49: 11.36 | Y49: =X49/60 -> 0.18933333 | Z49: 4.58 | AA49: 0.5 | AB49: =IF(B49=$G$11,LOOKUP(AA49,$D$12:$D$23,$G$12:$G$23),IF(B49=$I$11,LOOKUP(AA49,$D$12:$D$23,$I$12:$I$23),IF(B49=$K$11,LOOKUP(AA49,$D$12:$D$23,$K$12:$K$23),IF(B49=$M$10,LOOKUP(AA49,$M$12:$M$19,$O$12:$O$19))))) -> 18.18 | AC49: 0 | AD49: 1 | AE49: 0 | AF49: 2 | AG49: 0 | AH49: 0 | AI49: =AD49*VLOOKUP(AA49,'Longitud Equivalente'!B$8:C$16,2,FALSE)+AE49*VLOOKUP(AA49,'Longitud Equivalente'!B$8:D$16,3,FALSE)+AF49*VLOOKUP(AA49,'Longitud Equivalente'!B$8:E$16,4,FALSE)+AG49*VLOOKUP(AA49,'Longitud Equivalente'!B$8:F$16,5,FALSE)+AC49*VLOOKUP(AA49,'Longitud Equivalente'!B$8:G$18,6,FALSE) -> 6.6 | AJ49: =AI49+Z49 -> 11.18 | AK49: =((Y49/1000)/(0.28*AO49*(AB49/1000)^2.63))^1.85 -> 0.037827261 | AL49: =AK49*AJ49 -> 0.42290878 | AM49: =AN50 -> 30.498098 | AN49: =+AM49-AL49-AH49 -> 30.07519 | AO49: =LOOKUP(AA49,$D$12:$D$23,$E$12:$E$23) -> 150 | AP49: =+(Y49/1000)/(3.1416*((AB49/1000)^2)/4) -> 0.72937089 | AQ49: =IF(AP49>=3,"CAMBIAR DIAMETRO","DIAMETRO APROPIADO") -> DIAMETRO APROPIADO
B50: PVC | C50: S | D50: T | E50: =ROUND(SUM(H50,J50,L50,N50,P50,R50,T50,V50,E49),0) -> 6 | F50: =IF(E50<=20,CEILING(E50,1),IF(E50<=50,CEILING(E50,5),IF(E50<=100,CEILING(E50,10),IF(E50<=200,CEILING(E50,20),IF(E50<=300,CEILING(E50,25),IF(E50<=500,CEILING(E50,100),IF(E50<=2000,CEILING(E50,250),IF(E50<=3000,CEILING(E50,500),IF(E50<=5000,CEILING(E50,1000)))))))))) -> 6 | G50: 0 | H50: =G50*H$29 -> 0 | I50: 0 | J50: =I50*J$29 -> 0 | K50: 0 | L50: =K50*L$29 -> 0 | M50: 1 | N50: =M50*N$29 -> 3 | O50: 0 | P50: =O50*P$29 -> 0 | Q50: 0 | R50: =Q50*R$29 -> 0 | S50: 0 | T50: =S50*T$29 -> 0 | U50: 0 | V50: =U50*V$29 -> 0 | X50: 87.06 | Y50: =X50/60 -> 1.451 | Z50: 3.02 | AA50: 1.25 | AB50: =IF(B50=$G$11,LOOKUP(AA50,$D$12:$D$23,$G$12:$G$23),IF(B50=$I$11,LOOKUP(AA50,$D$12:$D$23,$I$12:$I$23),IF(B50=$K$11,LOOKUP(AA50,$D$12:$D$23,$K$12:$K$23),IF(B50=$M$10,LOOKUP(AA50,$M$12:$M$19,$O$12:$O$19))))) -> 38.14 | AC50: 0 | AD50: 1 | AE50: 0 | AF50: 0 | AG50: 0 | AH50: 0 | AI50: =AD50*VLOOKUP(AA50,'Longitud Equivalente'!B$8:C$16,2,FALSE)+AE50*VLOOKUP(AA50,'Longitud Equivalente'!B$8:D$16,3,FALSE)+AF50*VLOOKUP(AA50,'Longitud Equivalente'!B$8:E$16,4,FALSE)+AG50*VLOOKUP(AA50,'Longitud Equivalente'!B$8:F$16,5,FALSE)+AC50*VLOOKUP(AA50,'Longitud Equivalente'!B$8:G$18,6,FALSE) -> 0.1 | AJ50: =AI50+Z50 -> 3.12 | AK50: =((Y50/1000)/(0.28*AO50*(AB50/1000)^2.63))^1.85 -> 0.044500592 | AL50: =AK50*AJ50 -> 0.13884185 | AM50: =AN52 -> 30.63694 | AN50: =+AM50-AL50-AH50 -> 30.498098 | AO50: =LOOKUP(AA50,$D$12:$D$23,$E$12:$E$23) -> 150 | AP50: =+(Y50/1000)/(3.1416*((AB50/1000)^2)/4) -> 1.2700334 | AQ50: =IF(AP50>=3,"CAMBIAR DIAMETRO","DIAMETRO APROPIADO") -> DIAMETRO APROPIADO
B51: PVC | C51: T | D51: U | E51: =ROUND(SUM(H51,J51,L51,N51,P51,R51,T51,V51,E50),0) -> 9 | F51: =IF(E51<=20,CEILING(E51,1),IF(E51<=50,CEILING(E51,5),IF(E51<=100,CEILING(E51,10),IF(E51<=200,CEILING(E51,20),IF(E51<=300,CEILING(E51,25),IF(E51<=500,CEILING(E51,100),IF(E51<=2000,CEILING(E51,250),IF(E51<=3000,CEILING(E51,500),IF(E51<=5000,CEILING(E51,1000)))))))))) -> 9 | G51: 0 | H51: =G51*H$29 -> 0 | I51: 0 | J51: =I51*J$29 -> 0 | K51: 0 | L51: =K51*L$29 -> 0 | M51: 1 | N51: =M51*N$29 -> 3 | O51: 0 | P51: =O51*P$29 -> 0 | Q51: 0 | R51: =Q51*R$29 -> 0 | S51: 0 | T51: =S51*T$29 -> 0 | U51: 0 | V51: =U51*V$29 -> 0 | X51: 98.41 | Y51: =X51/60 -> 1.6401667 | Z51: 2.88 | AA51: 1.25 | AB51: =IF(B51=$G$11,LOOKUP(AA51,$D$12:$D$23,$G$12:$G$23),IF(B51=$I$11,LOOKUP(AA51,$D$12:$D$23,$I$12:$I$23),IF(B51=$K$11,LOOKUP(AA51,$D$12:$D$23,$K$12:$K$23),IF(B51=$M$10,LOOKUP(AA51,$M$12:$M$19,$O$12:$O$19))))) -> 38.14 | AC51: 0 | AD51: 1 | AE51: 0 | AF51: 0 | AG51: 0 | AH51: 0 | AI51: =AD51*VLOOKUP(AA51,'Longitud Equivalente'!B$8:C$16,2,FALSE)+AE51*VLOOKUP(AA51,'Longitud Equivalente'!B$8:D$16,3,FALSE)+AF51*VLOOKUP(AA51,'Longitud Equivalente'!B$8:E$16,4,FALSE)+AG51*VLOOKUP(AA51,'Longitud Equivalente'!B$8:F$16,5,FALSE)+AC51*VLOOKUP(AA51,'Longitud Equivalente'!B$8:G$18,6,FALSE) -> 0.1 | AJ51: =AI51+Z51 -> 2.98 | AK51: =((Y51/1000)/(0.28*AO51*(AB51/1000)^2.63))^1.85 -> 0.055824371 | AL51: =AK51*AJ51 -> 0.16635663 | AM51: =AN53 -> 0 | AN51: =+AM51-AL51-AH51 -> -0.16635663 | AO51: =LOOKUP(AA51,$D$12:$D$23,$E$12:$E$23) -> 150 | AP51: =+(Y51/1000)/(3.1416*((AB51/1000)^2)/4) -> 1.4356075 | AQ51: =IF(AP51>=3,"CAMBIAR DIAMETRO","DIAMETRO APROPIADO") -> DIAMETRO APROPIADO
B52: PVC | C52: U | D52: G | E52: =ROUND(SUM(H52,J52,L52,N52,P52,R52,T52,V52,E51),0) -> 12 | F52: =IF(E52<=20,CEILING(E52,1),IF(E52<=50,CEILING(E52,5),IF(E52<=100,CEILING(E52,10),IF(E52<=200,CEILING(E52,20),IF(E52<=300,CEILING(E52,25),IF(E52<=500,CEILING(E52,100),IF(E52<=2000,CEILING(E52,250),IF(E52<=3000,CEILING(E52,500),IF(E52<=5000,CEILING(E52,1000)))))))))) -> 12 | G52: 0 | H52: =G52*H$29 -> 0 | I52: 0 | J52: =I52*J$29 -> 0 | K52: 0 | L52: =K52*L$29 -> 0 | M52: 1 | N52: =M52*N$29 -> 3 | O52: 0 | P52: =O52*P$29 -> 0 | Q52: 0 | R52: =Q52*R$29 -> 0 | S52: 0 | T52: =S52*T$29 -> 0 | U52: 0 | V52: =U52*V$29 -> 0 | X52: 109.77 | Y52: =X52/60 -> 1.8295 | Z52: 15.17 | AA52: 1.25 | AB52: =IF(B52=$G$11,LOOKUP(AA52,$D$12:$D$23,$G$12:$G$23),IF(B52=$I$11,LOOKUP(AA52,$D$12:$D$23,$I$12:$I$23),IF(B52=$K$11,LOOKUP(AA52,$D$12:$D$23,$K$12:$K$23),IF(B52=$M$10,LOOKUP(AA52,$M$12:$M$19,$O$12:$O$19))))) -> 38.14 | AC52: 1 | AD52: 0 | AE52: 0 | AF52: 4 | AG52: 1 | AH52: 0 | AI52: =AD52*VLOOKUP(AA52,'Longitud Equivalente'!B$8:C$16,2,FALSE)+AE52*VLOOKUP(AA52,'Longitud Equivalente'!B$8:D$16,3,FALSE)+AF52*VLOOKUP(AA52,'Longitud Equivalente'!B$8:E$16,4,FALSE)+AG52*VLOOKUP(AA52,'Longitud Equivalente'!B$8:F$16,5,FALSE)+AC52*VLOOKUP(AA52,'Longitud Equivalente'!B$8:G$18,6,FALSE) -> 5.4 | AJ52: =AI52+Z52 -> 20.57 | AK52: =((Y52/1000)/(0.28*AO52*(AB52/1000)^2.63))^1.85 -> 0.06832758 | AL52: =AK52*AJ52 -> 1.4054983 | AM52: =+AM36 -> 32.042439 | AN52: =+AM52-AL52-AH52 -> 30.63694 | AO52: =LOOKUP(AA52,$D$12:$D$23,$E$12:$E$23) -> 150 | AP52: =+(Y52/1000)/(3.1416*((AB52/1000)^2)/4) -> 1.6013274 | AQ52: =IF(AP52>=3,"CAMBIAR DIAMETRO","DIAMETRO APROPIADO") -> DIAMETRO APROPIADO

Sheet Longitud Equivalente
C2: TABLAS ACUEDUCTO
B4: Longitud equivalente en metros de tubería, de válvulas y accesorios varios
B6: Diámetro ( Pulgadas ) | C6: Tee paso directo | D6: Codo a 45° | E6: Codo a 90° | F6: válvula de bola | G6: Tee A 90°
B8: 0.5 | C8: 0 | D8: 0.1 | E8: 3.3 | F8: 0 | G8: 0.6
B9: 0.75 | C9: 0 | D9: 0.1 | E9: 0.6 | F9: 0 | G9: 0.9
B10: 1 | C10: 0 | D10: 3.3 | E10: 0.8 | F10: 0.1 | G10: 1.4
B11: 1.25 | C11: 0.1 | D11: 3.3 | E11: 0.9 | F11: 0.1 | G11: 1.7
B12: 1.5 | C12: 0.1 | D12: 0.5 | E12: 1.2 | F12: 0.1 | G12: 2.1
B13: 2 | C13: 0.1 | D13: 0.6 | E13: 1.7 | F13: 0.1 | G13: 2.7
B14: 2.5 | C14: 0.1 | D14: 0.8 | E14: 2.1 | G14: 3.7
B15: 3 | C15: 3.3 | D15: 1.1 | E15: 2.7 | G15: 4.6
B16: 4 | C16: 3.3 | D16: 1.5 | E16: 3.8 | G16: 6.4
B17: 6
B18: 8
B21: Perdidas de carga en medidores de velocidad en m.c.a
B24: Diámetro ( Pulgadas ) | D24: Perdida carga ( m.c.a )
B26: 0.5 | D26: 2
B27: 0.75 | D27: 2
B28: 1 | D28: 2
B29: 1.25 | D29: 0.4
B30: 1.5 | D30: 0.21
B31: 2 | D31: 0.32
B32: 2.5 | D32: 0.42
B33: 3 | D33: 0.32
B34: 4 | D34: 0.53
B35: 6 | D35: 0.42
B37: TABLA 7.4.3.2.2 CAUDAL MÁXIMO PROBABLE SEGÚN MÉTODO DE HUNTER
B39: Sistema de suministro principalmente para sanitarios de tanque | D39: Sistema de suministro principalmente para fluxómetro
B40: Carga | C40: Demanda | D40: Carga | E40: Demanda
B41: Unidad de aparato de suministro de agua | C41: L/min | D41: Unidad de aparato de suministro de agua | E41: L/min
D42: - | E42: 3.79
B43: 1 | C43: 7.57 | D43: - | E43: 7.57
B44: 3 | C44: 11.36 | D44: - | E44: 11.36
B45: 4 | C45: 15.14 | D45: - | E45: 15.14
B46: 6 | C46: 18.93 | D46: - | E46: 18.93
B47: 7 | C47: 22.71 | D47: - | E47: 22.71
B48: 8 | C48: 26.5 | D48: - | E48: 26.5
B49: 10 | C49: 30.28 | D49: - | E49: 30.28
B50: 12 | C50: 34.07 | D50: - | E50: 34.07
B51: 13 | C51: 37.85 | D51: - | E51: 37.85
B52: 15 | C52: 41.64 | D52: - | E52: 41.64
B53: 16 | C53: 45.42 | D53: - | E53: 45.42
B54: 18 | C54: 49.21 | D54: - | E54: 49.21
... B62: 32 | C62: 79.49 | D62: - | E62: 79.49
B63: 34 | C63: 83.27 | D63: 5 | E63: 83.27
B64: 36 | C64: 87.06 | D64: 6 | E64: 87.06
B65: 39 | C65: 90.84 | D65: 7 | E65: 90.84
B66: 42 | C66: 94.63 | D66: 8 | E66: 94.63
B67: 44 | C67: 98.41 | D67: 9 | E67: 98.41
B68: 46 | C68: 102.2 | D68: 10 | E68: 102.2
B69: 49 | C69: 105.98 | D69: 11 | E69: 105.98
B70: 51 | C70: 109.77 | D70: 12 | E70: 109.77
B71: 54 | C71: 113.55 | D71: 13 | E71: 113.55
B72: 56 | C72: 117.34 | D72: 14 | E72: 117.34
B73: 58 | C73: 121.12 | D73: 15 | E73: 121.12
B74: 60 | C74: 124.91 | D74: 16 | E74: 124.91
... B171: 9000 | C171: 4068.88 | D171: 9000 | E171: 4068.88

Sheet Valores de Carga (Unidades)
A1: TABLA 7.4.3.2.1 Valores de unidades para aparatos y grupos de aparatos en redes de suministro (NTC 1500, 2020)
A3: Aparato | B3: Uso | C3: Tipo de control de suministro | D3: Valores de carga en unidades de aparato de suministro de agua (w.s.f.u.)
D4: Fría | E4: Caliente | F4: Total
A5: Grupo de baño | B5: Privado | C5: Sanitario de tanque | D5: 3.7 | E5: 1.5 | F5: 4.3
A6: Grupo de baño | B6: Privado | C6: Válvula fluxómetro | D6: 5.5 | E6: 1.5 | F6: 6.1
A7: Tina | B7: Privado | C7: Grifería | D7: 1 | E7: 1 | F7: 1.4
A8: Tina | B8: Público | C8: Grifería | D8: 3 | E8: 3 | F8: 4
A9: Bidé | B9: Privado | C9: Grifería | D9: 1.5 | E9: 1.5 | F9: 2
A10: Accesorio de combinación | B10: Privado | C10: Grifería | D10: 2.25 | E10: 2.25 | F10: 3
A11: Lavavajillas | B11: Privado | C11: Automático | D11: - | E11: 1.4 | F11: 1.4
A12: Bebederos | B12: Oficinas, etc. | C12: Válvula 3/8 de pulgada | D12: 0.25 | E12: - | F12: 0.25
A13: Lavaplatos de cocina | B13: Privado | C13: Grifería | D13: 1 | E13: 1 | F13: 1.4
A14: Lavaplatos de cocina | B14: Hotel, restaurante | C14: Grifería | D14: 3 | E14: 3 | F14: 4
A15: Fregadero bateas (1 a 3) | B15: Privado | C15: Grifería | D15: 1 | E15: 1 | F15: 1.4
A16: Lavamanos | B16: Privado | C16: Grifería | D16: 0.5 | E16: 0.5 | F16: 0.7
A17: Lavamanos | B17: Público | C17: Grifería | D17: 1.5 | E17: 1.5 | F17: 2
A18: Poceta de aseo | B18: Oficinas, etc. | C18: Grifería | D18: 2.25 | E18: 2.25 | F18: 3
A19: Ducha | B19: Público | C19: Válvula mezcladora | D19: 3 | E19: 3 | F19: 4
A20: Ducha | B20: Privado | C20: Válvula mezcladora | D20: 1 | E20: 1 | F20: 1.4
A21: Orinal | B21: Público | C21: 0.5 Lpf a 1 Lpf | D21: 1 | E21: - | F21: 1
A22: Orinal | B22: Público | C22: 1.1 Lpf a 2.0 Lpf | D22: 2 | E22: - | F22: 2
A23: Orinal | B23: Público | C23: Tanque de descarga > 2.0 Lpf | D23: 3 | E23: - | F23: 3
A24: Máquina automática de lavar ropa (8 lb) | B24: Privado | C24: Automático | D24: 1 | E24: 1 | F24: 1.4
A25: Máquina automática de lavar ropa (8 lb) | B25: Público | C25: Automático | D25: 2.25 | E25: 2.25 | F25: 3
A26: Máquina automática de lavar ropa (15 lb) | B26: Público | C26: Automático | D26: 3 | E26: 3 | F26: 4
A27: Inodoro | B27: Privado | C27: Válvula fluxómetro | D27: 4 | E27: - | F27: 4
A28: Inodoro | B28: Privado | C28: Tanque de descarga | D28: 2.2 | E28: - | F28: 2.2
A29: Inodoro | B29: Público | C29: Válvula fluxómetro | D29: 6 | E29: - | F29: 6
A30: Inodoro | B30: Público | C30: Tanque de descarga | D30: 5 | E30: - | F30: 5
A31: Inodoro | B31: Público o privado | C31: Tanque fluxómetro | D31: 2 | E31: - | F31: 2

Sheet Impresión
A1: Tramo | C1: Caudal (L/min) | D1: Caudal (L/s) | E1: Longitud (m) | F1: Diámetro Nominal (pulg.) | G1: Diámetro Interno (mm) | H1: TEE 90° | I1: TEE A FLUJO | J1: Codo 45° | K1: Codo 90° | L1: Val. De Bola | M1: Desnivel vert. (m) | O1: Tramo | Q1: Clase Material | R1: Longitud Equivalente (m) | S1: Long. Total (m) | T1: Pérdida unitaria h (m/m) | U1: Pérdida total h (m) | V1: Presión P1 (m) | W1: Presión P2 (m) | X1: C | Y1: V (m/seg)
A2: =PPAL1!C30 -> A | B2: =PPAL1!D30 -> B | C2: =PPAL1!X30 -> 11.36 | D2: =PPAL1!Y30 -> 0.18933333 | E2: =PPAL1!Z30 -> 1.55 | F2: =PPAL1!AA30 -> 0.75 | G2: =PPAL1!AB30 -> 23.63 | H2: =PPAL1!AC30 -> 0 | I2: =PPAL1!AD30 -> 1 | J2: =PPAL1!AE30 -> 0 | ... M2: =PPAL1!AH30 -> 0 | O2: =PPAL1!C30 -> A | P2: =PPAL1!D30 -> B | Q2: =PPAL1!B30 -> PVC | R2: =PPAL1!AI30 -> 1.2 | S2: =PPAL1!AJ30 -> 2.75 | T2: =PPAL1!AK30 -> 0.010562608 | U2: =PPAL1!AL30 -> 0.029047173 | V2: =PPAL1!AM30 -> 30.847118 | W2: =PPAL1!AN30 -> 30.818071 | X2: =PPAL1!AO30 -> 150 | Y2: =PPAL1!AP30 -> 0.43172653
A3: =PPAL1!C31 -> B | B3: =PPAL1!D31 -> C | C3: =PPAL1!X31 -> 87.06 | D3: =PPAL1!Y31 -> 1.451 | E3: =PPAL1!Z31 -> 0.98 | F3: =PPAL1!AA31 -> 1.25 | G3: =PPAL1!AB31 -> 38.14 | H3: =PPAL1!AC31 -> 0 | I3: =PPAL1!AD31 -> 1 | J3: =PPAL1!AE31 -> 0 | ... M3: =PPAL1!AH31 -> 0 | O3: =PPAL1!C31 -> B | P3: =PPAL1!D31 -> C | Q3: =PPAL1!B31 -> PVC | R3: =PPAL1!AI31 -> 0.1 | S3: =PPAL1!AJ31 -> 1.08 | T3: =PPAL1!AK31 -> 0.044500592 | U3: =PPAL1!AL31 -> 0.048060639 | V3: =PPAL1!AM31 -> 30.895179 | W3: =PPAL1!AN31 -> 30.847118 | X3: =PPAL1!AO31 -> 150 | Y3: =PPAL1!AP31 -> 1.2700334
A4: =PPAL1!C32 -> C | B4: =PPAL1!D32 -> D | C4: =PPAL1!X32 -> 105.98 | D4: =PPAL1!Y32 -> 1.7663333 | E4: =PPAL1!Z32 -> 3.37 | F4: =PPAL1!AA32 -> 1.25 | G4: =PPAL1!AB32 -> 38.14 | H4: =PPAL1!AC32 -> 1 | I4: =PPAL1!AD32 -> 0 | J4: =PPAL1!AE32 -> 0 | ... M4: =PPAL1!AH32 -> 0 | O4: =PPAL1!C32 -> C | P4: =PPAL1!D32 -> D | Q4: =PPAL1!B32 -> PVC | R4: =PPAL1!AI32 -> 8.1 | S4: =PPAL1!AJ32 -> 11.47 | T4: =PPAL1!AK32 -> 0.064027346 | U4: =PPAL1!AL32 -> 0.73439366 | V4: =PPAL1!AM32 -> 31.629573 | W4: =PPAL1!AN32 -> 30.895179 | X4: =PPAL1!AO32 -> 150 | Y4: =PPAL1!AP32 -> 1.5460388
A5: =PPAL1!C33 -> D | B5: =PPAL1!D33 -> E | C5: =PPAL1!X33 -> 124.91 | D5: =PPAL1!Y33 -> 2.0818333 | E5: =PPAL1!Z33 -> 2.37 | F5: =PPAL1!AA33 -> 1.25 | G5: =PPAL1!AB33 -> 38.14 | H5: =PPAL1!AC33 -> 0 | I5: =PPAL1!AD33 -> 1 | J5: =PPAL1!AE33 -> 0 | ... M5: =PPAL1!AH33 -> 0 | O5: =PPAL1!C33 -> D | P5: =PPAL1!D33 -> E | Q5: =PPAL1!B33 -> PVC | R5: =PPAL1!AI33 -> 0.1 | S5: =PPAL1!AJ33 -> 2.47 | T5: =PPAL1!AK33 -> 0.086777292 | U5: =PPAL1!AL33 -> 0.21433991 | V5: =PPAL1!AM33 -> 31.843913 | W5: =PPAL1!AN33 -> 31.629573 | X5: =PPAL1!AO33 -> 150 | Y5: =PPAL1!AP33 -> 1.8221901
A6: =PPAL1!C34 -> E | B6: =PPAL1!D34 -> F | C6: =PPAL1!X34 -> 140.05 | D6: =PPAL1!Y34 -> 2.3341667 | E6: =PPAL1!Z34 -> 0.64 | F6: =PPAL1!AA34 -> 1.5 | G6: =PPAL1!AB34 -> 43.68 | H6: =PPAL1!AC34 -> 0 | I6: =PPAL1!AD34 -> 1 | J6: =PPAL1!AE34 -> 0 | ... M6: =PPAL1!AH34 -> 0 | O6: =PPAL1!C34 -> E | P6: =PPAL1!D34 -> F | Q6: =PPAL1!B34 -> PVC | R6: =PPAL1!AI34 -> 0.1 | S6: =PPAL1!AJ34 -> 0.74 | T6: =PPAL1!AK34 -> 0.055429074 | U6: =PPAL1!AL34 -> 0.041017515 | V6: =PPAL1!AM34 -> 31.88493 | W6: =PPAL1!AN34 -> 31.843913 | X6: =PPAL1!AO34 -> 150 | Y6: =PPAL1!AP34 -> 1.5576709
A7: =PPAL1!C36 -> G | B7: =PPAL1!D36 -> H | C7: =PPAL1!X36 -> 213.22333 | D7: =PPAL1!Y36 -> 3.5537222 | E7: =PPAL1!Z36 -> 3.76 | F7: =PPAL1!AA36 -> 2 | G7: =PPAL1!AB36 -> 54.58 | H7: =PPAL1!AC36 -> 0 | I7: =PPAL1!AD36 -> 1 | J7: =PPAL1!AE36 -> 0 | ... M7: =PPAL1!AH36 -> 0 | O7: =PPAL1!C36 -> G | P7: =PPAL1!D36 -> H | Q7: =PPAL1!B36 -> PVC | R7: =PPAL1!AI36 -> 0.1 | S7: =PPAL1!AJ36 -> 3.86 | T7: =PPAL1!AK36 -> 0.040805302 | U7: =PPAL1!AL36 -> 0.15750847 | V7: =PPAL1!AM36 -> 32.042439 | W7: =PPAL1!AN36 -> 31.88493 | X7: =PPAL1!AO36 -> 150 | Y7: =PPAL1!AP36 -> 1.5188872
A8: =PPAL1!C37 -> H | B8: =PPAL1!D37 -> I | C8: =PPAL1!X37 -> 227.1 | D8: =PPAL1!Y37 -> 3.785 | E8: =PPAL1!Z37 -> 62.1 | F8: =PPAL1!AA37 -> 2 | G8: =PPAL1!AB37 -> 54.58 | H8: =PPAL1!AC37 -> 0 | I8: =PPAL1!AD37 -> 0 | J8: =PPAL1!AE37 -> 4 | ... M8: =PPAL1!AH37 -> 0 | O8: =PPAL1!C37 -> H | P8: =PPAL1!D37 -> I | Q8: =PPAL1!B37 -> PVC | R8: =PPAL1!AI37 -> 2.4 | S8: =PPAL1!AJ37 -> 64.5 | T8: =PPAL1!AK37 -> 0.045853665 | U8: =PPAL1!AL37 -> 2.9575614 | V8: =PPAL1!AM37 -> 35 | W8: =PPAL1!AN37 -> 32.042439 | X8: =PPAL1!AO37 -> 150 | Y8: =PPAL1!AP37 -> 1.617737
A9: =PPAL1!#REF! -> #REF! | B9: =PPAL1!#REF! -> #REF! | C9: =PPAL1!#REF! -> #REF! | D9: =PPAL1!#REF! -> #REF! | E9: =PPAL1!#REF! -> #REF! | F9: =PPAL1!#REF! -> #REF! | G9: =PPAL1!#REF! -> #REF! | H9: =PPAL1!#REF! -> #REF! | ... M9: =PPAL1!#REF! -> #REF! | O9: =PPAL1!#REF! -> #REF! | P9: =PPAL1!#REF! -> #REF! | Q9: =PPAL1!#REF! -> #REF! | R9: =PPAL1!#REF! -> #REF! | S9: =PPAL1!#REF! -> #REF! | T9: =PPAL1!#REF! -> #REF! | U9: =PPAL1!#REF! -> #REF! | V9: =PPAL1!#REF! -> #REF! | ... Y9: =PPAL1!#REF! -> #REF!
A14: =PPAL1!C42 -> K | B14: =PPAL1!D42 -> L | C14: =PPAL1!X42 -> 7.57 | D14: =PPAL1!Y42 -> 0.12616667 | E14: =PPAL1!Z42 -> 1 | F14: =PPAL1!AA42 -> 0.5 | G14: =PPAL1!AB42 -> 18.18 | H14: =PPAL1!AC42 -> 0 | I14: =PPAL1!AD42 -> 1 | J14: =PPAL1!AE42 -> 0 | ... M14: =PPAL1!AH42 -> 0 | O14: =PPAL1!C42 -> K | P14: =PPAL1!D42 -> L | Q14: =PPAL1!B42 -> PVC | R14: =PPAL1!AI42 -> 6.6 | S14: =PPAL1!AJ42 -> 7.6 | T14: =PPAL1!AK42 -> 0.017851814 | U14: =PPAL1!AL42 -> 0.13567379 | V14: =PPAL1!AM42 -> 30.423451 | W14: =PPAL1!AN42 -> 30.287777 | X14: =PPAL1!AO42 -> 150 | Y14: =PPAL1!AP42 -> 0.48603324
A15: =PPAL1!C43 -> L | B15: =PPAL1!D43 -> M | C15: =PPAL1!X43 -> 15.14 | D15: =PPAL1!Y43 -> 0.25233333 | E15: =PPAL1!Z43 -> 0.73 | F15: =PPAL1!AA43 -> 0.5 | G15: =PPAL1!AB43 -> 18.18 | H15: =PPAL1!AC43 -> 0 | I15: =PPAL1!AD43 -> 1 | J15: =PPAL1!AE43 -> 0 | ... M15: =PPAL1!AH43 -> 0 | O15: =PPAL1!C43 -> L | P15: =PPAL1!D43 -> M | Q15: =PPAL1!B43 -> PVC | R15: =PPAL1!AI43 -> 19.8 | S15: =PPAL1!AJ43 -> 20.53 | T15: =PPAL1!AK43 -> 0.064355823 | U15: =PPAL1!AL43 -> 1.3212251 | V15: =PPAL1!AM43 -> 31.744676 | W15: =PPAL1!AN43 -> 30.423451 | X15: =PPAL1!AO43 -> 150 | Y15: =PPAL1!AP43 -> 0.97206649
A16: =PPAL1!C44 -> M | B16: =PPAL1!D44 -> D | C16: =PPAL1!X44 -> 87.06 | D16: =PPAL1!Y44 -> 1.451 | E16: =PPAL1!Z44 -> 2.23 | F16: =PPAL1!AA44 -> 1.25 | G16: =PPAL1!AB44 -> 38.14 | H16: =PPAL1!AC44 -> 0 | I16: =PPAL1!AD44 -> 0 | J16: =PPAL1!AE44 -> 0 | ... M16: =PPAL1!AH44 -> 0 | O16: =PPAL1!C44 -> M | P16: =PPAL1!D44 -> D | Q16: =PPAL1!B44 -> PVC | R16: =PPAL1!AI44 -> 0 | S16: =PPAL1!AJ44 -> 2.23 | T16: =PPAL1!AK44 -> 0.044500592 | U16: =PPAL1!AL44 -> 0.099236319 | V16: =PPAL1!AM44 -> 31.843913 | W16: =PPAL1!AN44 -> 31.744676 | X16: =PPAL1!AO44 -> 150 | Y16: =PPAL1!AP44 -> 1.2700334
A17: =PPAL1!#REF! -> #REF! | B17: =PPAL1!#REF! -> #REF! | C17: =PPAL1!#REF! -> #REF! | D17: =PPAL1!#REF! -> #REF! | E17: =PPAL1!#REF! -> #REF! | F17: =PPAL1!#REF! -> #REF! | G17: =PPAL1!#REF! -> #REF! | H17: =PPAL1!#REF! -> #REF! | ... M17: =PPAL1!#REF! -> #REF! | O17: =PPAL1!#REF! -> #REF! | P17: =PPAL1!#REF! -> #REF! | Q17: =PPAL1!#REF! -> #REF! | R17: =PPAL1!#REF! -> #REF! | S17: =PPAL1!#REF! -> #REF! | T17: =PPAL1!#REF! -> #REF! | U17: =PPAL1!#REF! -> #REF! | V17: =PPAL1!#REF! -> #REF! | ... Y17: =PPAL1!#REF! -> #REF!
A19: =PPAL1!C46 -> O | B19: =PPAL1!D46 -> P | C19: =PPAL1!X46 -> 7.57 | D19: =PPAL1!Y46 -> 0.12616667 | E19: =PPAL1!Z46 -> 2.55 | F19: =PPAL1!AA46 -> 0.5 | G19: =PPAL1!AB46 -> 18.18 | H19: =PPAL1!AC46 -> 0 | I19: =PPAL1!AD46 -> 1 | J19: =PPAL1!AE46 -> 0 | ... M19: =PPAL1!AH46 -> 0 | O19: =PPAL1!C46 -> O | P19: =PPAL1!D46 -> P | Q19: =PPAL1!B46 -> PVC | R19: =PPAL1!AI46 -> 9.9 | S19: =PPAL1!AJ46 -> 12.45 | T19: =PPAL1!AK46 -> 0.017851814 | U19: =PPAL1!AL46 -> 0.22225509 | V19: =PPAL1!AM46 -> 31.466105 | W19: =PPAL1!AN46 -> 31.243849 | X19: =PPAL1!AO46 -> 150 | Y19: =PPAL1!AP46 -> 0.48603324
A20: =PPAL1!C47 -> P | B20: =PPAL1!D47 -> E | C20: =PPAL1!X47 -> 90.84 | D20: =PPAL1!Y47 -> 1.514 | E20: =PPAL1!Z47 -> 2.4 | F20: =PPAL1!AA47 -> 1.25 | G20: =PPAL1!AB47 -> 38.14 | H20: =PPAL1!AC47 -> 1 | I20: =PPAL1!AD47 -> 0 | J20: =PPAL1!AE47 -> 0 | ... M20: =PPAL1!AH47 -> 0 | O20: =PPAL1!C47 -> P | P20: =PPAL1!D47 -> E | Q20: =PPAL1!B47 -> PVC | R20: =PPAL1!AI47 -> 6.3 | S20: =PPAL1!AJ47 -> 8.7 | T20: =PPAL1!AK47 -> 0.048140871 | U20: =PPAL1!AL47 -> 0.41882558 | V20: =PPAL1!AM47 -> 31.88493 | W20: =PPAL1!AN47 -> 31.466105 | X20: =PPAL1!AO47 -> 150 | Y20: =PPAL1!AP47 -> 1.3251761
