Workbook
Name \0: #REF!
Name \0: #REF!
Name \0: #REF!
Name \00: #REF!
Name \00: #REF!
Name \00: #REF!
Name \a: #REF!
Name \a: #REF!
Name \a: #REF!
Name \AA: [1]LIQUIDACION!#REF!
Name \AA: [1]LIQUIDACION!#REF!
Name \AA: [1]LIQUIDACION!#REF!
Name \b: [2]STRSUMM0!#REF!
Name \b: [2]STRSUMM0!#REF!
Name \b: [2]STRSUMM0!#REF!
Name \bb: [2]STRSUMM0!#REF!
Name \bb: [2]STRSUMM0!#REF!
Name \bb: [2]STRSUMM0!#REF!
Name \E: #REF!
Name \E: #REF!
Name \E: #REF!
Name \EE: #REF!
Name \EE: #REF!
Name \EE: #REF!
Name \G: #REF!
Name \G: #REF!
Name \G: #REF!
Name \k: '[3]7422CW00'!#REF!
Name \k: '[3]7422CW00'!#REF!
Name \k: '[3]7422CW00'!#REF!
Name \l: [4]STRSUMM0!#REF!
Name \l: [4]STRSUMM0!#REF!
Name \l: [4]STRSUMM0!#REF!
Name \M: #REF!
Name \M: #REF!
Name \M: #REF!
Name \ñ: '[5]7422CW00'!#REF!
Name \ñ: '[5]7422CW00'!#REF!
Name \ñ: '[5]7422CW00'!#REF!
Name \P: #REF!
Name \P: #REF!
Name \P: #REF!
Name \R: #REF!
Name \R: #REF!
Name \R: #REF!
Name \s: #REF!
Name \s: #REF!
Name \s: #REF!
Name \V: #REF!
Name \V: #REF!
Name \V: #REF!
Name \X: [0]!ERR
Name \Z: [0]!ERR
Name _________AFC1: [6]INV!$A$25:$D$28
Name _________AFC3: [6]INV!$F$25:$I$28
Name _________AFC5: [6]INV!$K$25:$N$28
Name _________BGC1: [6]INV!$A$5:$D$8
Name _________BGC3: [6]INV!$F$5:$I$8
Name _________BGC5: [6]INV!$K$5:$N$8
Name _________CAC1: [6]INV!$A$19:$D$22

Sheet PRESUPUESTO OFICIAL PLACA HUELL
C3: Código | D3: CCE-EICP-FM-14 | E3: Versión | F3: 2
C4: FORMULARIO 1
C5: PRESUPUESTO OFICIAL
C6: [Las Entidades Estatales deben usar el presente formulario para determinar el Presupuesto Oficial del Proceso de Contratación y solo pueden modificar o ajustar aquello que en este se permite expresamente] [El presente formulario aplica para los procesos de contratación que tengan como forma de pago precios unitarios. Tratándose de otras modalidades de precio, la Entidad debe ajustarlo cuando corresponde a: precio global, llave en mano, administración delegada, reembolso de gastos o cualquier otra forma de precio.]
C8: Adicionalmente, cuando el proceso de contratación es estructurado por precios unitarios, la Entidad debe aplicar las notas 1, 2 y 3 del presente formulario y las casillas de "Descripción", "Porcentaje" de la Administración, Imprevisto, Utilidad y total A.I.U. resaltadas en color amarillo. Tratándose de otras modalidades de precio, la Entidad puede o no configurar los mismos aspectos.
D10: ITEM DE PAGO | E10: ESPECIFICACIONES | G10: DESCRIPCION | H10: UND. | I10: CANTIDAD | J10: VALOR UNITARIO | K10: VALOR TOTAL
E11: GENERAL | F11: PARTICULAR
G12: PRELIMINARES
C13: 1 | D13: 001.045 | G13: NIVELACION Y LIMPIEZA | H13: m2 | I13: =300*4 -> 1200 | J13: =+APU!J6 -> 7967 | K13: =ROUND(J13*I13,0) -> 9560400
K14: =SUM(K13) -> 9560400
G15: MOVIMIENTO DE TIERRA
C16: 2 | D16: 002.83 | G16: EXCAVACION MANUAL | H16: m3 | I16: 450 | J16: =+APU!J12 -> 23248 | K16: =ROUND(J16*I16,0) -> 10461600 | P16: =300*4.8*0.3 -> 432
C17: 3 | D17: 2016 | G17: EXCAVACIÓN A CIELO ABIERTO MATERIAL COMÚN 0 - 2 M | H17: m3 | I17: =2*3*5 -> 30 | J17: =+APU!J16 -> 34144 | K17: =ROUND(J17*I17,0) -> 1024320
C18: 4 | D18: 002.017 | G18: EXCAVACIÓN A CIELO ABIERTO CONGLOMERADO 0 - 2 M | H18: m3 | I18: 30 | J18: =+APU!J21 -> 49660 | K18: =ROUND(J18*I18,0) -> 1489800 | P18: =510*1.25 -> 637.5
C19: 5 | D19: 002.049 | G19: RELLENO EN MATERIAL SELECCIONADO PROVENIENTE DE LA EXCAVACION (APISONADO) | H19: m3 | I19: 20 | J19: =+APU!J26 -> 35646 | K19: =ROUND(J19*I19,0) -> 712920
C20: 6 | D20: 002.032 | G20: RETIRO DE MATERIAL SOBRANTE EN VOLQUETA, CARGUE MANUAL | H20: m3 | I20: 638 | J20: =+APU!J31 -> 47946 | K20: =ROUND(J20*I20,0) -> 30589548
C21: 7 | D21: 002.052 | G21: FILTRO EN PIEDRA | H21: m3 | I21: 10 | J21: =+APU!J36 -> 123914 | K21: =ROUND(J21*I21,0) -> 1239140
C22: Subtotal | K22: =SUM(K16:K21) -> 45517328
G23: CIMIENTOS
C24: 8 | D24: 002A.003 | G24: SUMINISTRO, TRANSPORTE E INSTALACION SOLADO DE LIMPIEZA 2.000 PSI E = 5 CM | H24: m2 | I24: 25 | J24: =+APU!J42 -> 31108 | K24: =ROUND(J24*I24,0) -> 777700
C25: 9 | D25: 002A.004 | G25: SUMINISTRO, TRANSPORTE E INSTALACION ZAPATA CONCRETO 3000 PSI | H25: m3 | I25: 5 | J25: =+APU!J47 -> 801781 | K25: =ROUND(J25*I25,0) -> 4008905
C26: 10 | D26: 002A.007 | G26: SUMINISTRO, TRANSPORTE E INSTALACION CONCRETO CICLOPEO CIMIENTOS (60% Concreto 3000 psi y 40% piedra media zonga) | H26: m3 | I26: 45 | J26: =+APU!J55 -> 572905 | K26: =ROUND(J26*I26,0) -> 25780725 | P26: =1*300*0.15 -> 45
C27: Subtotal | K27: =SUM(K24:K26) -> 30567330
G28: RELLENOS
C29: 11 | D29: 004.013 | G29: SUMINISTRO, TRANSPORTE E INSTALACION AFIRMADO COMPACTADO | H29: m3 | I29: =(0.15*300*2.8)+90 -> 216 | J29: =+APU!J63 -> 151046 | K29: =ROUND(J29*I29,0) -> 32625936 | P29: =10*3*3 -> 90
C30: 12 | D30: 004.007 | G30: SUMINISTRO, TRANSPORTE E INSTALACION GEOTEXTIL NO TEJIDO 1600 | H30: m2 | I30: 60 | J30: =+APU!J70 -> 7881 | K30: =ROUND(J30*I30,0) -> 472860
C32: Subtotal | K32: =SUM(K29:K31) -> 33098796
G33: ALCANTARILLADO
C34: 13 | D34: 024.036 | G34: SUMINISTRO, TRANSPORTE E INSTALACION TUBERÍA PVC PERFILADA (36") ALCANTARILLADO | H34: ml | I34: 5 | J34: =+APU!J76 -> 1226078 | K34: =ROUND(J34*I34,0) -> 6130390
C35: 14 | D35: 027.019 | G35: SUMINISTRO, TRANSPORTE E INSTALACION TUBERIA Ø 3" ALL PERFORADA PARA DRENES | H35: ml | I35: 10 | J35: =+APU!J85 -> 34970 | K35: =ROUND(J35*I35,0) -> 349700
C36: 15 | D36: 027.034 | G36: SUMINISTRO, TRANSPORTE E INSTALACION ENROCADO EN PIEDRA PEGADA CON LIGANTE MORTERO 1:3 | H36: m3 | I36: 3 | J36: =+APU!J92 -> 551773 | K36: =ROUND(J36*I36,0) -> 1655319
C37: Subtotal | K37: =SUM(K34:K36) -> 8135409
G38: ALCANTARILLADO
C39: 16 | D39: 003.086 | G39: SUMINISTRO, TRANSPORTE E INSTALACION CABEZAL DE ENTREGA DE AGUAS LLUVIAS EN CONCRETO ( 36"). (Incluye acero de refuerzo ) | H39: und | I39: 1 | J39: =+APU!J100 -> 2183659 | K39: =ROUND(J39*I39,0) -> 2183659
C40: Subtotal | K40: =SUM(K39:K39) -> 2183659
G41: ESTRUCTURAS EN CONCRETO, METALICAS Y DE MADERA
C42: 17 | D42: 005.057 | G42: SUMINISTRO, TRANSPORTE E INSTALACION POCETA EN CONCRETO 3000 psi Dimensión: 1.12 * 0.70 * 0.15 m. | H42: und | I42: 1 | J42: =+APU!J114 -> 691432 | K42: =ROUND(J42*I42,0) -> 691432
C43: 18 | D43: 023.045.1 | G43: ACERO 60.000 PSI (INCLUYE ALAMBRE NEGRO Y FIGURACION) | H43: kg | I43: 2000 | J43: =+APU!J126 -> 8835 | K43: =ROUND(J43*I43,0) -> 17670000
C44: 19 | D44: 005.086 | G44: SUMINISTRO TRANSPORTE E INSTALACION MURO EN CONCRETO 21 MPA, NO INCLUYE REFUERZO | H44: m3 | I44: 15 | J44: =+APU!J133 -> 840554 | K44: =ROUND(J44*I44,0) -> 12608310
C45: 20 | D45: 005.008 | G45: SUMINISTRO, TRANSPORTE E INSTALACION MALLA ELECTROSOLDADA M-188 Q-5 F 6 mm c/.15m en ambos sentidos (Incluye alambre negro, colocación y traslapo). | H45: kg | I45: 1615 | J45: =+APU!J139 -> 8787 | K45: =ROUND(J45*I45,0) -> 14191005 | P45: =300*1.8*2.9914 -> 1615.356
...

Sheet APU
A1: MANTENIMIENTO Y REHABILITACIÓN DE VÍAS URBANAS, MEDIANTE LA REPARACIÓN Y CONSTRUCCIÓN DE PAVIMENTOS Y PEATONALES EN LA CIUDAD DE MANIZALES COMUNAS 1 y 2 ATARDECERES Y SAN JOSE
A3: PRELIMINARES
A5: CODIGO | B5: COD INSUMO | C5: INSUMO | D5: TIPO | E5: UNIDAD | F5: REND | G5: VALOR UNITARIO | H5: VALOR TOTAL | I5: AIU | J5: VALOR TOTAL INCLUIDO AIU
A6: 001.045 | B6: - | C6: NIVELACION Y LIMPIEZA | D6: Actividad | E6: M2 | H6: =+SUM(H7:H10) -> 5767 | I6: =1+AIU!J50 -> 1.3814 | J6: =ROUND(H6*I6,0) -> 7967
A7: 001.045 | B7: C1 | C7: CUADRILLA AA TIPO 1 (1 OFICIAL + 1 AYUDANTE) (Albañileria) | D7: Cuadrilla | E7: HR | F7: 0.25 | G7: =+VLOOKUP(B7,[111]Insumos!$A$2:$F$2700,5,FALSE) -> 18395 | H7: =+ROUND(F7*G7,0) -> 4599
A8: 001.045 | B8: E24 | C8: VOLQUETA 6M3 (CARGUE A MANO) | D8: Equipos | E8: VJE | F8: 0.001 | G8: =+VLOOKUP(B8,[111]Insumos!$A$2:$F$2700,5,FALSE) -> 124723 | H8: =+ROUND(F8*G8,0) -> 125
A9: 001.045 | B9: H2 | C9: EQUIPO BASICO (HERRAMIENTA MENOR) | D9: Herramienta | E9: UND | F9: 0.25 | G9: =+VLOOKUP(B9,[111]Insumos!$A$2:$F$2700,5,FALSE) -> 2679 | H9: =+ROUND(F9*G9,0) -> 670
A10: 001.045 | B10: I1565 | C10: ACARREO INTERNO | D10: Insumo | E10: UND | F10: 0.266 | G10: =+VLOOKUP(B10,[111]Insumos!$A$2:$F$2700,5,FALSE) -> 1402 | H10: =+ROUND(F10*G10,0) -> 373
A12: 002.83 | B12: - | C12: EXCAVACION MANUAL | D12: Actividad | E12: M3 | H12: =+SUM(H13:H14) -> 16829 | I12: =+$I$6 -> 1.3814 | J12: =ROUND(H12*I12,0) -> 23248
A13: 002.83 | B13: C44 | C13: CUADRILLA AA (2 AYUDANTES) | D13: Cuadrilla | E13: HR | F13: 1 | G13: =+VLOOKUP(B13,[111]Insumos!$A$2:$F$2700,5,FALSE) -> 14150 | H13: =+ROUND(F13*G13,0) -> 14150
A14: 002.83 | B14: H2 | C14: EQUIPO BASICO (HERRAMIENTA MENOR) | D14: Herramienta | E14: UND | F14: 1 | G14: =+VLOOKUP(B14,[111]Insumos!$A$2:$F$2700,5,FALSE) -> 2679 | H14: =+ROUND(F14*G14,0) -> 2679
A16: 002.016 | B16: - | C16: EXCAVACIÓN A CIELO ABIERTO - MATERIAL COMÚN - 0.0 A 2.0 M | D16: Actividad | E16: M3 | H16: =+SUM(H17:H19) -> 24717 | I16: =+$I$6 -> 1.3814 | J16: =ROUND(H16*I16,0) -> 34144
A17: 002.016 | B17: C22 | C17: CUADRILLA AA TIPO 4 (1 OFICIAL + 4 AYUDANTE) (Albañileria) | D17: Cuadrilla | E17: HR | F17: 0.54 | G17: =+VLOOKUP(B17,[111]Insumos!$A$2:$F$2700,5,FALSE) -> 39620 | H17: =+ROUND(F17*G17,0) -> 21395
A18: 002.016 | B18: I282 | C18: MANEJO DE AGUAS PARA PROTECCION DE LA ZONA DE EXCAVACION(SUELO CEMENTO 10:1) | D18: Insumo | E18: M3 | F18: 0.015 | G18: =+VLOOKUP(B18,[111]Insumos!$A$2:$F$2700,5,FALSE) -> 149975 | H18: =+ROUND(F18*G18,0) -> 2250
A19: 002.016 | B19: H2 | C19: EQUIPO BASICO (HERRAMIENTA MENOR) | D19: Herramienta | E19: UND | F19: 0.4 | G19: =+VLOOKUP(B19,[111]Insumos!$A$2:$F$2700,5,FALSE) -> 2679 | H19: =+ROUND(F19*G19,0) -> 1072
A21: 002.017 | B21: - | C21: EXCAVACIÓN A CIELO ABIERTO - CONGLOMERADO - 0.0 A 2.0 M | D21: Actividad | E21: M3 | H21: =+SUM(H22:H24) -> 35949 | I21: =+$I$6 -> 1.3814 | J21: =ROUND(H21*I21,0) -> 49660
A22: 002.017 | B22: C22 | C22: CUADRILLA AA TIPO 4 (1 OFICIAL + 4 AYUDANTE) (Albañileria) | D22: Cuadrilla | E22: HR | F22: 0.81 | G22: =+VLOOKUP(B22,[111]Insumos!$A$2:$F$2700,5,FALSE) -> 39620 | H22: =+ROUND(F22*G22,0) -> 32092
A23: 002.017 | B23: I282 | C23: MANEJO DE AGUAS PARA PROTECCION DE LA ZONA DE EXCAVACION(SUELO CEMENTO 10:1) | D23: Insumo | E23: M3 | F23: 0.015 | G23: 149975 | H23: =+ROUND(F23*G23,0) -> 2250
A24: 002.017 | B24: H2 | C24: EQUIPO BASICO (HERRAMIENTA MENOR) | D24: Herramienta | E24: UND | F24: 0.6 | G24: =+VLOOKUP(B24,[111]Insumos!$A$2:$F$2700,5,FALSE) -> 2679 | H24: =+ROUND(F24*G24,0) -> 1607
A26: 002.049 | B26: - | C26: RELLENO EN MATERIAL SELECCIONADO PROVENIENTE DE LA EXCAVACION (APISONADO) | D26: Actividad | E26: M3 | H26: =+SUM(H27:H29) -> 25804 | I26: =+$I$6 -> 1.3814 | J26: =ROUND(H26*I26,0) -> 35646
A27: 002.049 | B27: C15 | C27: CUADRILLA AA TIPO 3 (1 OFICIAL + 3 AYUDANTE) (Albañileria) | D27: Cuadrilla | E27: HR | F27: 0.7 | G27: =+VLOOKUP(B27,[111]Insumos!$A$2:$F$2700,5,FALSE) -> 32545 | H27: =+ROUND(F27*G27,0) -> 22782
A28: 002.049 | B28: H2 | C28: EQUIPO BASICO (HERRAMIENTA MENOR) | D28: Herramienta | E28: UND | F28: 0.5 | G28: =+VLOOKUP(B28,[111]Insumos!$A$2:$F$2700,5,FALSE) -> 2679 | H28: =+ROUND(F28*G28,0) -> 1340
A29: 002.049 | B29: I1565 | C29: ACARREO INTERNO | D29: Insumo | E29: UND | F29: 1.2 | G29: =+VLOOKUP(B29,[111]Insumos!$A$2:$F$2700,5,FALSE) -> 1402 | H29: =+ROUND(F29*G29,0) -> 1682
