Workbook

Sheet INSUMOS
D3: SECRETARIA DISTRITAL DEL HABITAT
D4: ANEXO - OFERTA ECONÓMICA
D6: OBJETO CONTRACTUAL:
D7: CONTRATAR LA EJECUCIÓN DE LAS OBRAS DE MEJORAMIENTO DE VIVIENDA EN LA MODALIDAD DE HABITABILIDAD DE LOS PROYECTOS ESTRUCTURADOS EN LOS TERRITORIOS PRIORIZADOS POR LA SECRETARÍA DISTRITAL DEL HÁBITAT. GRUPOS 1, 2 Y 3 - 2022
B12: CÓDIGO | C12: NOMBRE INSUMO | D12: UNIDAD | E12: PRECIO ESTIMADO POR LA ENTIDAD | F12: PRECIO OFERTADO POR EL PROPONENTE
B13: MO | C13: MANO DE OBRA (INCLUYE FACTOR PRESTACIONAL)
B14: MO001 | C14: AYUDANTE ALBAÑILERIA CON PRESTACIONES (JR) | D14: JR | E14: 66583
B15: MO002 | C15: OFICIAL ALBAÑILERIA CON PRESTACIONES (JR) | D15: JR | E15: 95445
B16: MO003 | C16: OFICIAL ALBAÑILERIA CON PRESTACIONES (HH) | D16: HH | E16: 11930.625
B17: MO004 | C17: AYUDANTE ALBAÑILERIA CON PRESTACIONES (HH) | D17: HH | E17: 8322.875
B18: MO005 | C18: AYUDANTE ELÉCTRICA CON PRESTACIONES ((JR) | D18: JR | E18: 78128
B19: MO006 | C19: OFICIAL ELÉCTRICA CON PRESTACIONES (JR) | D19: JR | E19: 112762
B20: MO007 | C20: OFICIAL ELÉCTRICA CON PRESTACIONES (HH) | D20: HH | E20: 14095.25
B21: MO009 | C21: OFICIAL INSTALACIONES BASICAS CON PRESTACIONES (JR) | D21: JR | E21: 112762
B22: MO010 | C22: OFICIAL INSTALACIONES BASICAS CON PRESTACIONES (HH) | D22: HH | E22: 14095.25
B23: MO023 | C23: AYUDANTE DRYWALL CON PRESTACIONES | D23: JR | E23: 66583
B24: MO024 | C24: OFICIAL DRYWALL CON PRESTACIONES | D24: JR | E24: 95445
B25: MO031 | C25: CUADRILLA ( OFICIAL ALBAÑILERÍA + AYUDANTE ALBAÑILERÍA) CON PRESTACIONES (HC) | D25: HC | E25: 20253.5
... B42: MO060 | C42: CUADRILLA HH METÁLICAS CON PRESTACIONES | D42: HH | E42: 39159
B64: TR | C64: TRANSPORTES Y ACARREOS
B65: TR007 | C65: TRANSPORTE DE EQUIPO MENOR | D65: VJ | E65: 52159.86
B66: AG | C66: AGREGADOS, BASES Y SUBBASES
B67: AG001 | C67: ARENA DE PEÑA CERNIDA | D67: M3 | E67: 120402
B68: AG003 | C68: RECEBO COMUN (INCLUYE TRANSPORTE) | D68: M3 | E68: 10497
B69: AG004 | C69: RECEBO B-400 | D69: M3 | E69: 18000
B70: AG005 | C70: MIXTO | D70: M3 | E70: 119000
B71: AG006 | C71: GRAVA N. 7 - 1/2" | D71: M3 | E71: 66496
B72: AG008 | C72: TRITURADO 3/4" | D72: M3 | E72: 0
B73: AG009 | C73: RAJÓN (INCLUYE TRANSPORTE) | D73: M3 | E73: 36018
B74: AG010 | C74: GRAVA CANTO RODADO 1/2" | D74: M3 | E74: 82326
B75: AG011 | C75: GRAVA TRITURADO 3/4" | D75: M3 | E75: 0
B76: AG012 | C76: GRAVILLA DE RIO DE 1/2" | D76: M3 | E76: 82326
B77: AG018 | C77: ARENA LAVADA DE PEÑA | D77: M3 | E77: 120402
B78: AG019 | C78: PIEDRA MEDIA ZONGA (INCLUYE TRANSPORTE) | D78: M3 | E78: 42861
... B81: AG022 | C81: ARENA DE PEÑA CERNIDA | D81: M3 | E81: 0
B82: CP | C82: CONCRETOS Y MORTEROS PREMEZCLADOS
B83: CP001 | C83: CONCRETO 3500 PSI DE PLANTA | D83: M3 | E83: 369027
B84: CP002 | C84: CONCRETO 3000 PSI DE PLANTA | D84: M3 | E84: 322951
B85: CP003 | C85: CONCRETO 2500 PSI DE PLANTA | D85: M3 | E85: 293611
B86: CP004 | C86: CONCRETO 2000 PSI DE PLANTA | D86: M3 | E86: 286533
...

Sheet APU
E3: SECRETARIA DISTRITAL DEL HÁBITAR
E4: ANEXO - OFERTA ECONÓMICA
E6: OBJETO CONTRACTUAL:
E7: CONTRATAR LA EJECUCIÓN DE LAS OBRAS DE MEJORAMIENTO DE VIVIENDA EN LA MODALIDAD DE HABITABILIDAD DE LOS PROYECTOS ESTRUCTURADOS EN LOS TERRITORIOS PRIORIZADOS POR LA SECRETARÍA DISTRITAL DEL HÁBITAT. GRUPOS 1, 2 Y 3 - 2022
B12: CÓDIGO APU | C12: CÓDIGO INSUMO | D12: DESCRIPCIÓN | E12: UNIDAD | F12: CANTIDAD | G12: DESPERDICIO | H12: TARIFA | I12: PRECIO UNITARIO ESTIMADO POR LA ENTIDAD | J12: TARIFA OFERTADA POR EL PROPONENTE | K12: PRECIO UNITARIO OFERTADO POR EL PROPONENTE
B13: 1,1 | D13: TRANSPORTE DE MATERIALES TRASIEGO EN OBRA | E13: M3 | I13: =+SUM(I14:I16) -> 155144.54 | J13: =SUM(J14:J16) -> 0 | K13: =SUM(K14:K16) -> 0
C14: HE002 | D14: HERRAMIENTA MENOR | E14: GLB | F14: 1 | G14: 0 | H14: 3284.4444 | I14: =+(F14+G14)*H14 -> 3284.4444 | J14: =+VLOOKUP(C14,INSUMOS!$B$12:$F$777,5,FALSE) -> 0 | K14: =+(F14+G14)*J14 -> 0
C15: MO032 | D15: CUADRILLA (2 AYUDANTES ALBAÑILERIA CON PRESTACIONES) | E15: JR | F15: 0.35 | G15: 0 | H15: 133166 | I15: =+(F15+G15)*H15 -> 46608.1 | J15: 0 | K15: 0
C16: EQ014 | D16: VOLQUETA 6M3 (INCLUYE CARGUE Y ESCOMBRERA) | E16: VJ | F16: 0.35 | G16: 0 | H16: 300720 | I16: =+(F16+G16)*H16 -> 105252 | J16: =+VLOOKUP(C16,INSUMOS!$B$12:$F$777,5,FALSE) -> 0 | K16: =+(F16+G16)*J16 -> 0
B17: 2.1.1 | D17: DESMONTE DE LAVAMANOS O SANITARIO (INCLUYE RETIRO DE ESCOMBROS) | E17: UN | I17: =+SUM(I18:I21) -> 7335.3524 | J17: =SUM(J18:J21) -> 0 | K17: =SUM(K18:K21) -> 0
C18: HE002 | D18: HERRAMIENTA MENOR | E18: GLB | F18: 0.1 | G18: 0 | H18: 3284.4444 | I18: =+(F18+G18)*H18 -> 328.44444 | J18: =+VLOOKUP(C18,INSUMOS!$B$12:$F$777,5,FALSE) -> 0 | K18: =+(F18+G18)*J18 -> 0
C19: EQ014 | D19: VOLQUETA 6M3 (INCLUYE CARGUE Y ESCOMBRERA) | E19: VJ | F19: 0.0014 | G19: 0 | H19: 300720 | I19: =+(F19+G19)*H19 -> 421.008 | J19: =+VLOOKUP(C19,INSUMOS!$B$12:$F$777,5,FALSE) -> 0 | K19: =+(F19+G19)*J19 -> 0
C20: RE028 | D20: TAPON ROSCADO PRESIÓN PVC 1/2" | E20: UN | F20: 1 | G20: 0 | H20: 510 | I20: =+(F20+G20)*H20 -> 510 | J20: =+VLOOKUP(C20,INSUMOS!$B$12:$F$777,5,FALSE) -> 0 | K20: =+(F20+G20)*J20 -> 0
C21: MO031 | D21: CUADRILLA ALBAÑILERÍA AA (OFICIAL + AYUDANTE) | E21: HC | F21: 0.3 | G21: 0 | H21: 20253 | I21: =+(F21+G21)*H21 -> 6075.9 | J21: =+VLOOKUP(C21,INSUMOS!$B$12:$F$777,5,FALSE) -> 0 | K21: =+(F21+G21)*J21 -> 0
B22: 2.1.2 | D22: DESMONTE DE LAVAPLATOS EN ACERO INOXIDABLE SENCILLO | E22: UN | I22: =+SUM(I23:I26) -> 5335.3444 | J22: =SUM(J23:J26) -> 0 | K22: =SUM(K23:K26) -> 0
C23: HE002 | D23: HERRAMIENTA MENOR | E23: GLB | F23: 0.1 | G23: 0 | H23: 3284.4444 | I23: =+(F23+G23)*H23 -> 328.44444 | J23: =+VLOOKUP(C23,INSUMOS!$B$12:$F$777,5,FALSE) -> 0 | K23: =+(F23+G23)*J23 -> 0
C24: RET01 | D24: RETIRO DE ELEMENTOS RECICLABLES | E24: UN | F24: 1 | G24: 0 | H24: 2000 | I24: =+(F24+G24)*H24 -> 2000 | J24: 0 | K24: =+(F24+G24)*J24 -> 0
C25: RE028 | D25: TAPON ROSCADO PRESIÓN PVC 1/2" | E25: UN | F25: 1 | G25: 0 | H25: 510 | I25: =+(F25+G25)*H25 -> 510 | J25: =+VLOOKUP(C25,INSUMOS!$B$12:$F$777,5,FALSE) -> 0 | K25: =+(F25+G25)*J25 -> 0
C26: MO004 | D26: AYUDANTE ALBAÑILERIA CON PRESTACIONES | E26: HC | F26: 0.3 | G26: 0 | H26: 8323 | I26: =+(F26+G26)*H26 -> 2496.9 | J26: =+VLOOKUP(C26,INSUMOS!$B$12:$F$777,5,FALSE) -> 0 | K26: =+(F26+G26)*J26 -> 0
B27: 2.1.3 | D27: DESMONTE DE LAVAPLATOS EN ACERO INOXIDABLE DOBLE | E27: UN | I27: =+SUM(I28:I31) -> 4919.1944 | J27: =SUM(J28:J31) -> 0 | K27: =SUM(K28:K31) -> 0
C28: HE002 | D28: HERRAMIENTA MENOR | E28: GLB | F28: 0.1 | G28: 0 | H28: 3284.4444 | I28: =+(F28+G28)*H28 -> 328.44444 | J28: =+VLOOKUP(C28,INSUMOS!$B$12:$F$777,5,FALSE) -> 0 | K28: =+(F28+G28)*J28 -> 0
C29: RET01 | D29: RETIRO DE ELEMENTOS RECICLABLES | E29: UN | F29: 1 | G29: 0 | H29: 2000 | I29: =+(F29+G29)*H29 -> 2000 | J29: 0 | K29: 0
C30: RE028 | D30: TAPON ROSCADO PRESIÓN PVC 1/2" | E30: UN | F30: 1 | G30: 0 | H30: 510 | I30: =+(F30+G30)*H30 -> 510 | J30: =+VLOOKUP(C30,INSUMOS!$B$12:$F$777,5,FALSE) -> 0 | K30: =+(F30+G30)*J30 -> 0
C31: MO004 | D31: AYUDANTE ALBAÑILERIA CON PRESTACIONES | E31: HC | F31: 0.25 | G31: 0 | H31: 8323 | I31: =+(F31+G31)*H31 -> 2080.75 | J31: =+VLOOKUP(C31,INSUMOS!$B$12:$F$777,5,FALSE) -> 0 | K31: =+(F31+G31)*J31 -> 0
B32: 2.1.4 | D32: DESMONTE TEJA TERMOACUSTICA (INCLUYE RETIRO) | E32: M2 | I32: =+SUM(I33:I36) -> 5035.7144 | J32: =SUM(J33:J36) -> 0 | K32: =SUM(K33:K36) -> 0
C33: HE002 | D33: HERRAMIENTA MENOR | E33: GLB | F33: 0.1 | G33: 0 | H33: 3284.4444 | I33: =+(F33+G33)*H33 -> 328.44444 | J33: =+VLOOKUP(C33,INSUMOS!$B$12:$F$777,5,FALSE) -> 0 | K33: 0
C34: HE020 | D34: ANDAMIO TUBULAR 1,5*1,5 C/CRUCETA) | E34: DIA | F34: 0.1 | G34: 0 | H34: 1200 | I34: =+(F34+G34)*H34 -> 120 | J34: 0 | K34: 0
C35: EQ014 | D35: VOLQUETA 6M3 (INCLUYE CARGUE Y ESCOMBRERA) | E35: VJ | F35: 0.001 | G35: 0 | H35: 300720 | I35: =+(F35+G35)*H35 -> 300.72 | J35: 0 | K35: 0
C36: MO051 | D36: CUADRILLA AA (OFICIAL + 2 AYUDANTES) ALBAÑILERIA | E36: HC | F36: 0.15 | G36: 0 | H36: 28577 | I36: =+(F36+G36)*H36 -> 4286.55 | J36: 0 | K36: 0
B37: 2.1.5 | D37: DESMONTE TEJA DE ZINC (INCLUYE ESTRUCTURA PORTANTE Y RETIRO) | E37: M2 | I37: =+SUM(I38:I41) -> 5035.7144 | J37: =SUM(J38:J41) -> 0 | K37: =SUM(K38:K41) -> 0
C38: HE002 | D38: HERRAMIENTA MENOR | E38: GLB | F38: 0.1 | G38: 0 | H38: 3284.4444 | I38: =+(F38+G38)*H38 -> 328.44444 | J38: =+VLOOKUP(C38,INSUMOS!$B$12:$F$777,5,FALSE) -> 0 | K38: =+(F38+G38)*J38 -> 0
C39: HE020 | D39: ANDAMIO TUBULAR 1,5*1,5 C/CRUCETA (INCLUYE PLANCHON) | E39: DIA | F39: 0.1 | G39: 0 | H39: 1200 | I39: =+(F39+G39)*H39 -> 120 | J39: 0 | K39: 0
C40: EQ014 | D40: VOLQUETA 6M3 (INCLUYE CARGUE Y ESCOMBRERA) | E40: VJ | F40: 0.001 | G40: 0 | H40: 300720 | I40: =+(F40+G40)*H40 -> 300.72 | J40: =+VLOOKUP(C40,INSUMOS!$B$12:$F$777,5,FALSE) -> 0 | K40: =+(F40+G40)*J40 -> 0
C41: MO051 | D41: CUADRILLA AA (OFICIAL + 2 AYUDANTES) ALBAÑILERIA | E41: HC | F41: 0.15 | G41: 0 | H41: 28577 | I41: =+(F41+G41)*H41 -> 4286.55 | J41: =+VLOOKUP(C41,INSUMOS!$B$12:$F$777,5,FALSE) -> 0 | K41: =+(F41+G41)*J41 -> 0
B42: 2.1.6 | D42: DESMONTE TEJA ASBESTO CEMENTO (INCLUYE RETIRO) | E42: M2 | I42: =+SUM(I43:I46) -> 7680.2189 | J42: =SUM(J43:J46) -> 0 | K42: =SUM(K43:K46) -> 0
C43: HE002 | D43: HERRAMIENTA MENOR | E43: GLB | F43: 0.2 | G43: 0 | H43: 3284.4444 | I43: =+(F43+G43)*H43 -> 656.88888 | J43: =+VLOOKUP(C43,INSUMOS!$B$12:$F$777,5,FALSE) -> 0 | K43: =+(F43+G43)*J43 -> 0
C44: HE020 | D44: ANDAMIO TUBULAR 1,5*1,5 C/CRUCETA | E44: DIA | F44: 0.1 | G44: 0 | H44: 1200 | I44: =+(F44+G44)*H44 -> 120 | J44: 0 | K44: 0
C45: EQ014 | D45: VOLQUETA 6M3 (INCLUYE CARGUE Y ESCOMBRERA) | E45: VJ | F45: 0.003 | G45: 0 | H45: 300720 | I45: =+(F45+G45)*H45 -> 902.16 | J45: =+VLOOKUP(C45,INSUMOS!$B$12:$F$777,5,FALSE) -> 0 | K45: 0
C46: MO051 | D46: CUADRILLA AA (OFICIAL + 2 AYUDANTES) ALBAÑILERIA | E46: HC | F46: 0.21 | G46: 0 | H46: 28577 | I46: =+(F46+G46)*H46 -> 6001.17 | J46: 0 | K46: 0
B47: 2.1.7 | D47: DESMONTE ESTRUCTURA PORTANTE DE CUBIERTA (INCLUYE RETIRO) | E47: M2 | I47: =+SUM(I48:I51) -> 3346.1044 | J47: =SUM(J48:J51) -> 0 | K47: =SUM(K48:K51) -> 0
...

Sheet PRESUPUESTADOR
F3: SECRETARIA DISTRITAL DEL HÁBITAT
F4: ANEXO - OFERTA ECONÓMICA
F6: OBJETO CONTRACTUAL:
F7: CONTRATAR LA EJECUCIÓN DE LAS OBRAS DE MEJORAMIENTO DE VIVIENDA EN LA MODALIDAD DE HABITABILIDAD DE LOS PROYECTOS ESTRUCTURADOS EN LOS TERRITORIOS PRIORIZADOS POR LA SECRETARÍA DISTRITAL DEL HÁBITAT. GRUPOS 1, 2 Y 3 - 2022
B12: CÓDIGO APU | C12: ITEM | D12: SUB | E12: DESCRIPCIÓN | F12: UNIDAD | G12: PRECIO UNITARIO ESTIMADO POR LA ENTIDAD | H12: PRECIO UNITARIO OFERTADO POR EL PROPONENTE | I12: CANTIDAD | J12: VALOR TOTAL ESTIMADO POR LA ENTIDAD | K12: VALOR TOTAL OFERTADO POR EL PROPONENTE
C13: 1 | E13: PRELIMINARES | J13: =+J14 -> 155144.54 | K13: =+K14 -> 0
B14: 1.1 | E14: TRANSPORTE DE MATERIALES TRASIEGO EN OBRA | F14: M3 | G14: 155144.54 | H14: 0 | I14: 1 | J14: =+G14*I14 -> 155144.54 | K14: =+H14*I14 -> 0
C15: 2 | E15: DESMONTES Y DEMOLICIONES | H15: =SUM(H16:H27) -> 0 | J15: =J16+J28 -> 135906.46 | K15: =SUM(K16:K27) -> 0
B16: 2.1 | C16: 2 | E16: DESMONTES Y DEMOLICIONES | H16: =SUM(H17:H27) -> 0 | J16: =SUM(J17:J27) -> 73726.091 | K16: =SUM(K17:K27) -> 0
B17: 2.1 | C17: 2 | D17: 1 | E17: DESMONTE DE LAVAMANOS O SANITARIO (INCLUYE RETIRO DE ESCOMBROS) | F17: UN | G17: 7335.3524 | H17: 0 | I17: 1 | J17: =+G17*I17 -> 7335.3524 | K17: =+H17*I17 -> 0
B18: 2.1 | C18: 2 | D18: 2 | E18: DESMONTE DE LAVAPLATOS EN ACERO INOXIDABLE SENCILLO | F18: UN | G18: 5335.3444 | H18: 0 | I18: 1 | J18: =+G18*I18 -> 5335.3444 | K18: =+H18*I18 -> 0
B19: 2.1 | C19: 2 | D19: 3 | E19: DESMONTE DE LAVAPLATOS EN ACERO INOXIDABLE DOBLE | F19: UN | G19: 4919.1944 | H19: 0 | I19: 1 | J19: =+G19*I19 -> 4919.1944 | K19: =+H19*I19 -> 0
B20: 2.1 | C20: 2 | D20: 4 | E20: DESMONTE TEJA TERMOACUSTICA (INCLUYE RETIRO) | F20: M2 | G20: 4707.27 | H20: 0 | I20: 1 | J20: =+G20*I20 -> 4707.27 | K20: =+H20*I20 -> 0
B21: 2.1 | C21: 2 | D21: 5 | E21: DESMONTE TEJA DE ZINC (INCLUYE ESTRUCTURA PORTANTE Y RETIRO) | F21: M2 | G21: 5035.7144 | H21: 0 | I21: 1 | J21: =+G21*I21 -> 5035.7144 | K21: =+H21*I21 -> 0
B22: 2.1 | C22: 2 | D22: 6 | E22: DESMONTE TEJA ASBESTO CEMENTO (INCLUYE RETIRO) | F22: M2 | G22: 7680.2189 | H22: 0 | I22: 1 | J22: =+G22*I22 -> 7680.2189 | K22: =+H22*I22 -> 0
B23: 2.1 | C23: 2 | D23: 7 | E23: DESMONTE ESTRUCTURA PORTANTE DE CUBIERTA (INCLUYE RETIRO) | F23: M2 | G23: 3346.1044 | H23: 0 | I23: 1 | J23: =+G23*I23 -> 3346.1044 | K23: =+H23*I23 -> 0
B24: 2.1 | C24: 2 | D24: 8 | E24: DESMONTE CANAL A. LL. Y/O BAJANTE DE A.LL. (INCLUYE RETIRO) | F24: M | G24: 3973.6184 | H24: 0 | I24: 1 | J24: =+G24*I24 -> 3973.6184 | K24: =+H24*I24 -> 0
B25: 2.1 | C25: 2 | D25: 9 | E25: DESMONTE MARCOS Y PUERTAS EN MADERA Y/O METALICAS, MEDIDAS DE ANCHO 0.60 M - 0.80 M - 1.00 M Y ALTURA VARIABLE, INCLUYE RETIRO | F25: UN | G25: 7811.1778 | H25: 0 | I25: 1 | J25: =+G25*I25 -> 7811.1778 | K25: =+H25*I25 -> 0
B26: 2.1 | C26: 2 | D26: 10 | E26: DESMONTE TUBERÍAS PVCS Y PVCP (INCLUYE RETIRO) | F26: M | G26: 3646.0133 | H26: 0 | I26: 1 | J26: =+G26*I26 -> 3646.0133 | K26: =+H26*I26 -> 0
B27: 2.1 | C27: 2 | D27: 11 | E27: DESMONTE DE ENTREPISOS EN MADERA (INCLUYE RETIRO) | F27: M2 | G27: 19936.082 | H27: 0 | I27: 1 | J27: =+G27*I27 -> 19936.082 | K27: =+H27*I27 -> 0
C28: 2 | E28: DEMOLICIONES | H28: =SUM(H29:H33) -> 0 | J28: =SUM(J29:J33) -> 62180.371 | K28: =SUM(K29:K33) -> 0
B29: 2.2 | C29: 2 | D29: 1 | E29: DEMOLICIÓN BALDOSA DE PISO , INCLUYE GUARDAESCOBA Y RETIRO) | F29: M2 | G29: 9643.2222 | H29: 0 | I29: 1 | J29: =+G29*I29 -> 9643.2222 | K29: =+H29*I29 -> 0
B30: 2.2 | C30: 2 | D30: 2 | E30: DEMOLICIÓN MUROS DE E= 0.10 M A 0.15 M EN MAMPOSTERÍA EN BLOQUE (INCLUYE DEMOLICIÓN DE ENCHAPES Y RETIRO) | F30: M2 | G30: 17294.384 | H30: 0 | I30: 1 | J30: =+G30*I30 -> 17294.384 | K30: =+H30*I30 -> 0
B31: 2.2 | C31: 2 | D31: 3 | E31: DEMOLICIÓN ENCHAPE DE MURO (INCLUYE RETIRO) | F31: M2 | G31: 6796.0982 | H31: 0 | I31: 1 | J31: =+G31*I31 -> 6796.0982 | K31: =+H31*I31 -> 0
B32: 2.2 | C32: 2 | D32: 4 | E32: DEMOLICIÓN PAÑETE (INCLUYE RETIRO) | F32: M2 | G32: 8117.2444 | H32: 0 | I32: 1 | J32: =+G32*I32 -> 8117.2444 | K32: =+H32*I32 -> 0
B33: 2.2 | C33: 2 | D33: 5 | E33: DEMOLICIÓN MESÓN COCINA (INCLUYE RETIRO) | F33: M | G33: 20329.422 | H33: 0 | I33: 1 | J33: =+G33*I33 -> 20329.422 | K33: =+H33*I33 -> 0
C34: 3 | E34: ACTIVIDADES EN CONCRETO | H34: =H35 -> 0 | J34: =+SUM(J35:J35) -> 35515.475 | K34: =K35 -> 0
B35: 3.1 | C35: 3 | D35: 1 | E35: POYO PARA MUEBLES (INDIFERENTE DE SU USO) EN CONCRETO MEZCLA EN OBRA 1:2:4 (2.500 PSI APROX.) ACABADO LISO. ESPESOR DE 5 CM. | F35: M | G35: 35515.475 | H35: 0 | I35: 1 | J35: =+G35*I35 -> 35515.475 | K35: =+H35*I35 -> 0
C36: 4 | E36: INSTALACIONES HIDROSANITARIAS | H36: =SUM(H37:H59) -> 0 | J36: =SUM(J37:J59) -> 711582.32 | K36: =SUM(K37:K59) -> 0
B37: 4.1 | C37: 4 | D37: 1 | E37: BAJANTE AGUAS LLUVIAS PVC 4" (INCLUYE ACCESORIOS) | F37: M | G37: 23237.294 | H37: 0 | I37: 1 | J37: =+G37*I37 -> 23237.294 | K37: =+H37*I37 -> 0
B38: 4.2 | C38: 4 | D38: 2 | E38: BAJANTE AGUAS LLUVIAS PVC 3" (INCLUYE ACCESORIOS) | F38: M | G38: 15567.044 | H38: 0 | I38: 1 | J38: =+G38*I38 -> 15567.044 | K38: =+H38*I38 -> 0
B39: 4.3 | C39: 4 | D39: 3 | E39: BAJANTE PVC BLANCO EXTERNO LISO- SOBRE FACHADAS | F39: M | G39: 36949.339 | H39: 0 | I39: 1 | J39: =+G39*I39 -> 36949.339 | K39: =+H39*I39 -> 0
B40: 4.4 | C40: 4 | D40: 4 | E40: BAJANTE AGUAS NEGRAS PVC 4" | F40: M | G40: 33421.769 | H40: 0 | I40: 1 | J40: =+G40*I40 -> 33421.769 | K40: =+H40*I40 -> 0
B41: 4.5 | C41: 4 | D41: 5 | E41: BAJANTE AGUAS NEGRAS PVC 3" | F41: M | G41: 26657.494 | H41: 0 | I41: 1 | J41: =+G41*I41 -> 26657.494 | K41: =+H41*I41 -> 0
B42: 4.6 | C42: 4 | D42: 6 | E42: CANAL PAVCO AMAZONA IGUAL O SUPERIOR | F42: M | G42: 59498.059 | H42: 0 | I42: 1 | J42: =+G42*I42 -> 59498.059 | K42: =+H42*I42 -> 0
B43: 4.7 | C43: 4 | D43: 7 | E43: CANAL PAVCO RAINGO IGUAL O SUPERIOR | F43: M | G43: 59498.059 | H43: 0 | I43: 1 | J43: =+G43*I43 -> 59498.059 | K43: =+H43*I43 -> 0
B44: 4.8 | C44: 4 | D44: 8 | E44: PUNTO HIDRÁULICO DE ½” | F44: UN | G44: 38008.389 | H44: 0 | I44: 1 | J44: =+G44*I44 -> 38008.389 | K44: =+H44*I44 -> 0
B45: 4.9 | C45: 4 | D45: 9 | E45: RED SUMINISTRO PVCP DE 1/2" | F45: M | G45: 11371.153 | H45: 0 | I45: 1 | J45: =+G45*I45 -> 11371.153 | K45: =+H45*I45 -> 0
B46: 4.10 | C46: 4 | D46: 10 | E46: PUNTO SALIDA SANITARIA PVC S 2" | F46: UN | G46: 29784.756 | H46: 0 | I46: 1 | J46: =+G46*I46 -> 29784.756 | K46: =+H46*I46 -> 0
B47: 4.11 | C47: 4 | D47: 11 | E47: PUNTO SALIDA SANITARIA PVC S 3" | F47: UN | G47: 46168.922 | H47: 0 | I47: 1 | J47: =+G47*I47 -> 46168.922 | K47: =+H47*I47 -> 0
...
