Workbook
Name \0: #REF!
Name \00: #REF!
Name \a: #REF!
Name \AA: [1]LIQUIDACION!#REF!
Name \b: [2]STRSUMM0!#REF!
Name \bb: [2]STRSUMM0!#REF!
Name \E: #REF!
Name \EE: #REF!
Name \G: #REF!
Name \k: '[3]7422CW00'!#REF!
Name \l: [4]STRSUMM0!#REF!
Name \M: #REF!
Name \ñ: '[5]7422CW00'!#REF!
Name \P: #REF!
Name \R: #REF!
Name \s: #REF!
Name \V: #REF!
Name \X: 'Presupuesto Oficial '!ERR
Name \X: 'Propuesta economica'!ERR
Name \X: [0]!ERR
Name \Z: 'Presupuesto Oficial '!ERR
Name \Z: 'Propuesta economica'!ERR
Name \Z: [0]!ERR
Name _________AFC1: [6]INV!$A$25:$D$28
Name _________AFC3: [6]INV!$F$25:$I$28
Name _________AFC5: [6]INV!$K$25:$N$28
Name _________BGC1: [6]INV!$A$5:$D$8
Name _________BGC3: [6]INV!$F$5:$I$8
Name _________BGC5: [6]INV!$K$5:$N$8
Name _________CAC1: [6]INV!$A$19:$D$22
Name _________CAC3: [6]INV!$F$19:$I$22
Name _________CAC5: [6]INV!$K$19:$N$22
Name _________PJ50: #REF!
Name _________SBC1: [6]INV!$A$12:$D$15
Name _________SBC3: [6]INV!$F$12:$I$15
Name _________SBC5: [6]INV!$K$12:$N$15
Name ________AFC1: [6]INV!$A$25:$D$28
Name ________AFC3: [6]INV!$F$25:$I$28
Name ________AFC5: [6]INV!$K$25:$N$28
Name ________BGC1: [6]INV!$A$5:$D$8
Name ________BGC3: [6]INV!$F$5:$I$8
Name ________BGC5: [6]INV!$K$5:$N$8
Name ________CAC1: [6]INV!$A$19:$D$22
Name ________CAC3: [6]INV!$F$19:$I$22
Name ________CAC5: [6]INV!$K$19:$N$22
Name ________MA2: #REF!
Name ________PJ50: #REF!
Name ________SBC1: [6]INV!$A$12:$D$15
Name ________SBC3: [6]INV!$F$12:$I$15
Name ________SBC5: [6]INV!$K$12:$N$15
Name _______AFC1: [6]INV!$A$25:$D$28
Name _______AFC3: [6]INV!$F$25:$I$28
Name _______AFC5: [6]INV!$K$25:$N$28
Name _______BGC1: [6]INV!$A$5:$D$8
Name _______BGC3: [6]INV!$F$5:$I$8
Name _______BGC5: [6]INV!$K$5:$N$8
Name _______CAC1: [6]INV!$A$19:$D$22
Name _______CAC3: [6]INV!$F$19:$I$22
Name _______CAC5: [6]INV!$K$19:$N$22
Name _______MA2: #REF!

Sheet Presupuesto Oficial 
C3: FORMULARIONo. 1
C4: PRESUPUESTO OFICIAL
C6: 23200C1436 REALIZAR EL MANTENIMIENTO DE LAS OFICINAS AIM DE LOS AEROPUERTOS DE BARRANQUILLA, CARTAGENA Y SAN ANDRES POR LOTES
C8: Adicionalmente, cuando el proceso de contratación es estructurado por precios unitarios, la Entidad debe aplicar las notas 1, 2 y 3 del presente formulario y las casillas de "Descripción", "Porcentaje" de la Administración, Imprevisto, Utilidad y total A.I.U. resaltadas en color amarillo. Tratándose de otras modalidades de precio, la Entidad puede o no configurar los mismos aspectos.
C11: Nº | D11: ÍTEM DE PAGO | E11: ESPECIFICACIONES | G11: DESCRIPCIÓN | H11: UND. | I11: CANTIDAD | J11: VALOR UNITARIO DE REFERENCIA DE LA ENTIDAD | K11: VALOR UNTARIO OFRECIDO SIN AIU OFRECIDO | L11: VALOR UNITARIO OFRECIDO + AIU OFRECIDO | M11: VALOR TOTAL
E12: GENERAL | F12: PARTICULAR
C13: LOTE 3: AEROPUERTO INTENACIONAL GUSTAVO ROJAS PINILLA - SAN ANDRÉS
G14: DESMONTE
D15: =+F15 -> 1 | F15: 1 | G15: Desmonte y retiro de la puerta sin importar el material. (Incluye Traslado de puerta, mano de obra. Retiro de escombros). | H15: UND | I15: 1 | J15: =+Resultados!F5 -> 62083 | M15: =+I15*J15 -> 62083
D16: =+F16 -> 1.1 | F16: 1.1 | G16: Desmonte del cielo Razo. Sin importar el tipo de material (incluye retiro de soporte del cielo Razo y disposición final de elementos provenientes del desmonte retiro de escombros). | H16: M2 | I16: 81.09 | J16: =+Resultados!F6 -> 22083 | M16: =+I16*J16 -> 1790710.5
D17: =+F17 -> 1.2 | F17: 1.2 | G17: Demolición de piso en cerámica de. 81.09 (Incluye retiro de escombro). | H17: M2 | I17: 81.09 | J17: =+Resultados!F7 -> 23750 | M17: =+I17*J17 -> 1925887.5
D18: =+F18 -> 1.3 | F18: 1.3 | G18: Desmonte de lámparas existentes. (Incluye retiro de escombro y material.) | H18: UND | I18: 6 | J18: =+Resultados!F8 -> 48750 | M18: =+I18*J18 -> 292500
D19: =+F19 -> 1.4 | F19: 1.4 | G19: Remoción de pintura en muros existentes. (incluye desperdicios, retiro de escombros). | H19: M2 | I19: 81.09 | J19: =+Resultados!F9 -> 6667 | M19: =+I19*J19 -> 540627.03
C20: Subtotal | M20: =SUM(M15:M19) -> 4611808
G21: DESAGUES E INST. SUBTERRANEAS
D22: =+F22 -> 2.1 | F22: 2.1 | G22: Suministro y alistado de piso en plantilla de 4 cm de 81.09 M2 (incluye mano de obra, desperdicio). | H22: M2 | I22: 81.09 | J22: =+Resultados!F10 -> 93583 | M22: =+I22*J22 -> 7588645.5
D23: =+F23 -> 2.2 | F23: 2.2 | G23: Suministro y aplicación de pintura blanca en vinilo tipo 1 a Dos manos( incluye filos y dilataciones). | H23: M2 | I23: 55.15 | J23: =+Resultados!F11 -> 24417 | M23: =+I23*J23 -> 1346597.6
D24: =+F24 -> 2.3 | F24: 2.3 | G24: Suministro e instalación de timbre portero electrónico y cantonera. (incluye cableado, interruptor, mano de obra,resane). | H24: UND | I24: 1 | J24: =+Resultados!F12 -> 579167 | M24: =+I24*J24 -> 579167
D25: =+F25 -> 2.4 | F25: 2.4 | G25: Suministros e instalación paredes divisorias internas en drywall a dos caras. (incluye estructura metálica, macilla, mano de obra, tornillos de soporte etc.) | H25: M2 | I25: 19.96 | J25: =+Resultados!F13 -> 328333 | M25: =+I25*J25 -> 6553526.7
D26: =+F26 -> 2.5 | F26: 2.5 | G26: Suministro e instalación de muro mediano en vidrio templado esmerilado 6.70 m2 | H26: M2 | I26: 6.07 | J26: =+Resultados!F14 -> 912500 | M26: =+I26*J26 -> 5538875
D27: =+F27 -> 2.6 | F27: 2.6 | G27: Suministros e instalación de luces led 60 x 60 18 w incluye soporte, interruptor, regatas, resane y cableado I de 4,5 metros) | H27: UND | I27: 10 | J27: =+Resultados!F15 -> 408333 | M27: =+I27*J27 -> 4083330
D28: =+F28 -> 2.7 | F28: 2.7 | G28: Suministro e instalación de extractor eléctrico (incluye cableado, mano de obra, retiro de escombro). | H28: UND | I28: 2 | J28: =+Resultados!F16 -> 1875000 | M28: =+I28*J28 -> 3750000
D29: =+F29 -> 2.8 | F29: 2.8 | G29: Suministro e instalación de escritorio en L de oficinas para funcionarios. (incluye sillas, pintura). | H29: UND | I29: 1 | J29: =+Resultados!F17 -> 2691667 | M29: =+I29*J29 -> 2691667
D30: =+F30 -> 2.9 | F30: 2.9 | G30: Suministro e instalación de cerámica 60 x 60 trafico 4 COLOR GRIS. (incluye retiro desperdicio, material de pega, boquilla y mano de obra). | H30: M2 | I30: 81.09 | J30: =+Resultados!F18 -> 164167 | M30: =+I30*J30 -> 13312302
D31: =+F31 -> 3 | F31: 3 | G31: Suministro e instalación de puerta de doble hojas en vidrio templado incoloro De 1.90 x 2 grosor de 10 mm (1 cm) (incluye cerraduras, bisagras, retiro de escombro). | H31: UND | I31: 1 | J31: =+Resultados!F19 -> 5791667 | M31: =+I31*J31 -> 5791667
D32: =+F32 -> 3.1 | F32: 3.1 | G32: Suministro e instalación de puertas en madera tamboredas (incluyen Bisagras, cerraduras, marcos y pinturas.). 0,80 x 2,00, 0.80 x 2.0, 0,70 x 2,00, 0,70 x 2,00, 0.82 x 2.0, 0.70 x 1.0. | H32: UND | I32: 6 | J32: =+Resultados!F20 -> 1241667 | M32: =+I32*J32 -> 7450002
D33: =+F33 -> 3.2 | F33: 3.2 | G33: suministro e instalación combo sanitario con grifería y pedestal. (incluye desmonte, accesorios, mano de obra. Transporte). | H33: UND | I33: 2 | J33: =+Resultados!F21 -> 945833 | M33: =+I33*J33 -> 1891666
... D41: =+F41 -> 4 | F41: 4 | G41: suministro e instalación, punto desagüe 4" | H41: UND | I41: 3 | J41: =+Resultados!F29 -> 160000 | M41: =+I41*J41 -> 480000
D42: =+F42 -> 4.1 | F42: 4.1 | G42: suministro e instalación tubería pvc s 2" | H42: ML | I42: =+I39/2 -> 8 | J42: =+Resultados!F30 -> 100000 | M42: =+I42*J42 -> 800000
D43: =+F43 -> 4.2 | F43: 4.2 | G43: Alistado de muros para enchape | H43: M2 | I43: 4.2 | J43: =+Resultados!F31 -> 186667 | M43: =+I43*J43 -> 784001.4
D44: =+F44 -> 4.3 | F44: 4.3 | G44: suministro e instalación registro 1/2" (incluye regata y resane). | H44: UND | I44: 3 | J44: =+Resultados!F32 -> 106667 | M44: =+I44*J44 -> 320001
D45: =+F45 -> 4.4 | F45: 4.4 | G45: suministro e instalación de división en "L" para baño en vidrio templado de 5mm y 1.6 mts de longitud (incluye manija y bordillo en ladrillo) | H45: UND | I45: 2 | J45: =+Resultados!F33 -> 2000000 | M45: =+I45*J45 -> 4000000
D46: =+F46 -> 4.5 | F46: 4.5 | G46: suministro e instalación de lavaplatos de sobreponer en acero inoxidable de 100x60cm | H46: UND | I46: 1 | J46: =+Resultados!F34 -> 533333 | M46: =+I46*J46 -> 533333
D47: =+F47 -> 4.6 | F47: 4.6 | G47: construcción de apoyo en bloque no. 5 para mesón en concreto | H47: ML | I47: 0.6 | J47: =+Resultados!F35 -> 333333 | M47: =+I47*J47 -> 199999.8
D48: =+F48 -> 4.7 | F48: 4.7 | G48: pañete impermeabilizado de muro en mampostería, mortero de pega 1:4 | H48: M2 | I48: 0.528 | J48: =+Resultados!F36 -> 37333 | M48: =+I48*J48 -> 19711.824
D49: =+F49 -> 4.8 | F49: 4.8 | G49: Suministro e instalación de cielo Razo en PVC (incluye la estructura de soporte). | H49: M2 | I49: =+I16 -> 81.09 | J49: =+Resultados!F37 -> 190833 | M49: =+I49*J49 -> 15474648
D50: =+F50 -> 4.9 | F50: 4.9 | G50: construcción de mesón en concreto de 0.88 metros de largo, 0.6 de ancho y e=8.0 cm (incluye enchape y acero de refuerzo 3/8"). | H50: M2 | I50: 0.528 | J50: =+Resultados!F38 -> 866667 | M50: =+I50*J50 -> 457600.18
D51: =+F51 -> 5 | F51: 5 | G51: suministro e instalación enchape en cerámica blanca para piso de 30x30. | H51: M2 | I51: 3.8 | J51: =+Resultados!F39 -> 106667 | M51: =+I51*J51 -> 405334.6
D52: =+F52 -> 5.1 | F52: 5.1 | G52: Suministro e instalación de enchape en cerámica blanca para pared de 30 x 20 (incluye mano de obra). | H52: M2 | I52: 4.18 | J52: =+Resultados!F40 -> 106667 | M52: =+I52*J52 -> 445868.06
D53: =+F53 -> 5.2 | F53: 5.2 | G53: Suministro e instalación de voz y datos (incluye cableados de 4,5 metros, accesorios) | H53: POT | I53: 15 | J53: =+Resultados!F41 -> 124167 | M53: =+I53*J53 -> 1862505
...

Sheet Propuesta economica
C3: FORMULARIONo. 1
C4: PRESUPUESTO OFICIAL
C6: 23200C1436 REALIZAR EL MANTENIMIENTO DE LAS OFICINAS AIM DE LOS AEROPUERTOS DE BARRANQUILLA, CARTAGENA Y SAN ANDRES POR LOTES
C8: Adicionalmente, cuando el proceso de contratación es estructurado por precios unitarios, la Entidad debe aplicar las notas 1, 2 y 3 del presente formulario y las casillas de "Descripción", "Porcentaje" de la Administración, Imprevisto, Utilidad y total A.I.U. resaltadas en color amarillo. Tratándose de otras modalidades de precio, la Entidad puede o no configurar los mismos aspectos.
C11: Nº | D11: ÍTEM DE PAGO | E11: ESPECIFICACIONES | G11: DESCRIPCIÓN | H11: UND. | I11: CANTIDAD | J11: VALOR UNITARIO DE REFERENCIA DE LA ENTIDAD | K11: VALOR UNTARIO OFRECIDO SIN AIU OFRECIDO | L11: VALOR UNITARIO OFRECIDO + AIU OFRECIDO | M11: VALOR TOTAL
E12: GENERAL | F12: PARTICULAR
C13: LOTE 3: AEROPUERTO INTENACIONAL GUSTAVO ROJAS PINILLA - SAN ANDRÉS
G14: DESMONTE
D15: =+F15 -> 1 | F15: 1 | G15: Desmonte y retiro de la puerta sin importar el material. (Incluye Traslado de puerta, mano de obra. Retiro de escombros). | H15: UND | I15: 1 | M15: =+I15*J15 -> 0
D16: =+F16 -> 1.1 | F16: 1.1 | G16: Desmonte del cielo Razo. Sin importar el tipo de material (incluye retiro de soporte del cielo Razo y disposición final de elementos provenientes del desmonte retiro de escombros). | H16: M2 | I16: 81.09 | M16: =+I16*J16 -> 0
D17: =+F17 -> 1.2 | F17: 1.2 | G17: Demolición de piso en cerámica de. 81.09 (Incluye retiro de escombro). | H17: M2 | I17: 81.09 | M17: =+I17*J17 -> 0
D18: =+F18 -> 1.3 | F18: 1.3 | G18: Desmonte de lámparas existentes. (Incluye retiro de escombro y material.) | H18: UND | I18: 6 | M18: =+I18*J18 -> 0
D19: =+F19 -> 1.4 | F19: 1.4 | G19: Remoción de pintura en muros existentes. (incluye desperdicios, retiro de escombros). | H19: M2 | I19: 81.09 | M19: =+I19*J19 -> 0
C20: Subtotal | M20: =SUM(M15:M19) -> 0
G21: DESAGUES E INST. SUBTERRANEAS
D22: =+F22 -> 2.1 | F22: 2.1 | G22: Suministro y alistado de piso en plantilla de 4 cm de 81.09 M2 (incluye mano de obra, desperdicio). | H22: M2 | I22: 81.09 | M22: =+I22*J22 -> 0
D23: =+F23 -> 2.2 | F23: 2.2 | G23: Suministro y aplicación de pintura blanca en vinilo tipo 1 a Dos manos( incluye filos y dilataciones). | H23: M2 | I23: 55.15 | M23: =+I23*J23 -> 0
D24: =+F24 -> 2.3 | F24: 2.3 | G24: Suministro e instalación de timbre portero electrónico y cantonera. (incluye cableado, interruptor, mano de obra,resane). | H24: UND | I24: 1 | M24: =+I24*J24 -> 0
D25: =+F25 -> 2.4 | F25: 2.4 | G25: Suministros e instalación paredes divisorias internas en drywall a dos caras. (incluye estructura metálica, macilla, mano de obra, tornillos de soporte etc.) | H25: M2 | I25: 19.96 | M25: =+I25*J25 -> 0
D26: =+F26 -> 2.5 | F26: 2.5 | G26: Suministro e instalación de muro mediano en vidrio templado esmerilado 6.70 m2 | H26: M2 | I26: 6.07 | M26: =+I26*J26 -> 0
D27: =+F27 -> 2.6 | F27: 2.6 | G27: Suministros e instalación de luces led 60 x 60 18 w incluye soporte, interruptor, regatas, resane y cableado I de 4,5 metros) | H27: UND | I27: 10 | M27: =+I27*J27 -> 0
D28: =+F28 -> 2.7 | F28: 2.7 | G28: Suministro e instalación de extractor eléctrico (incluye cableado, mano de obra, retiro de escombro). | H28: UND | I28: 2 | M28: =+I28*J28 -> 0
D29: =+F29 -> 2.8 | F29: 2.8 | G29: Suministro e instalación de escritorio en L de oficinas para funcionarios. (incluye sillas, pintura). | H29: UND | I29: 1 | M29: =+I29*J29 -> 0
D30: =+F30 -> 2.9 | F30: 2.9 | G30: Suministro e instalación de cerámica 60 x 60 trafico 4 COLOR GRIS. (incluye retiro desperdicio, material de pega, boquilla y mano de obra). | H30: M2 | I30: 81.09 | M30: =+I30*J30 -> 0
D31: =+F31 -> 3 | F31: 3 | G31: Suministro e instalación de puerta de doble hojas en vidrio templado incoloro De 1.90 x 2 grosor de 10 mm (1 cm) (incluye cerraduras, bisagras, retiro de escombro). | H31: UND | I31: 1 | M31: =+I31*J31 -> 0
D32: =+F32 -> 3.1 | F32: 3.1 | G32: Suministro e instalación de puertas en madera tamboredas (incluyen Bisagras, cerraduras, marcos y pinturas.). 0,80 x 2,00, 0.80 x 2.0, 0,70 x 2,00, 0,70 x 2,00, 0.82 x 2.0, 0.70 x 1.0. | H32: UND | I32: 6 | M32: =+I32*J32 -> 0
D33: =+F33 -> 3.2 | F33: 3.2 | G33: suministro e instalación combo sanitario con grifería y pedestal. (incluye desmonte, accesorios, mano de obra. Transporte). | H33: UND | I33: 2 | M33: =+I33*J33 -> 0
... D41: =+F41 -> 4 | F41: 4 | G41: suministro e instalación, punto desagüe 4" | H41: UND | I41: 3 | M41: =+I41*J41 -> 0
D42: =+F42 -> 4.1 | F42: 4.1 | G42: suministro e instalación tubería pvc s 2" | H42: ML | I42: =+I39/2 -> 8 | M42: =+I42*J42 -> 0
D43: =+F43 -> 4.2 | F43: 4.2 | G43: Alistado de muros para enchape | H43: M2 | I43: 4.2 | M43: =+I43*J43 -> 0
D44: =+F44 -> 4.3 | F44: 4.3 | G44: suministro e instalación registro 1/2" (incluye regata y resane). | H44: UND | I44: 3 | M44: =+I44*J44 -> 0
D45: =+F45 -> 4.4 | F45: 4.4 | G45: suministro e instalación de división en "L" para baño en vidrio templado de 5mm y 1.6 mts de longitud (incluye manija y bordillo en ladrillo) | H45: UND | I45: 2 | M45: =+I45*J45 -> 0
D46: =+F46 -> 4.5 | F46: 4.5 | G46: suministro e instalación de lavaplatos de sobreponer en acero inoxidable de 100x60cm | H46: UND | I46: 1 | M46: =+I46*J46 -> 0
D47: =+F47 -> 4.6 | F47: 4.6 | G47: construcción de apoyo en bloque no. 5 para mesón en concreto | H47: ML | I47: 0.6 | M47: =+I47*J47 -> 0
D48: =+F48 -> 4.7 | F48: 4.7 | G48: pañete impermeabilizado de muro en mampostería, mortero de pega 1:4 | H48: M2 | I48: 0.528 | M48: =+I48*J48 -> 0
D49: =+F49 -> 4.8 | F49: 4.8 | G49: Suministro e instalación de cielo Razo en PVC (incluye la estructura de soporte). | H49: M2 | I49: =+I16 -> 81.09 | M49: =+I49*J49 -> 0
D50: =+F50 -> 4.9 | F50: 4.9 | G50: construcción de mesón en concreto de 0.88 metros de largo, 0.6 de ancho y e=8.0 cm (incluye enchape y acero de refuerzo 3/8"). | H50: M2 | I50: 0.528 | M50: =+I50*J50 -> 0
D51: =+F51 -> 5 | F51: 5 | G51: suministro e instalación enchape en cerámica blanca para piso de 30x30. | H51: M2 | I51: 3.8 | M51: =+I51*J51 -> 0
D52: =+F52 -> 5.1 | F52: 5.1 | G52: Suministro e instalación de enchape en cerámica blanca para pared de 30 x 20 (incluye mano de obra). | H52: M2 | I52: 4.18 | M52: =+I52*J52 -> 0
D53: =+F53 -> 5.2 | F53: 5.2 | G53: Suministro e instalación de voz y datos (incluye cableados de 4,5 metros, accesorios) | H53: POT | I53: 15 | M53: =+I53*J53 -> 0
...

Sheet Resultados
B3: =+'Estudio Mercado'!B3 -> 23200C1436 REALIZAR EL MANTENIMIENTO DE LAS OFICINAS AIM DE LOS AEROPUERTOS DE BARRANQUILLA, CARTAGENA Y SAN ANDRES POR LOTES - LOTE 3: AEROPUERTO INTERNACIONAL GUSTAVO ROJAS PINILLA DE SAN ANDRES.
B4: ITEM DE PAGO | C4: DESCRIPCIÓN | D4: UND. | E4: VALOR UNITARIO (SIN AIU %) | F4: VALOR UNITARIO (CON AIU %)
B5: =+'Estudio Mercado'!B7 -> 1 | C5: =+'Estudio Mercado'!C7 -> Desmonte y retiro de la puerta sin importar el material. (Incluye Traslado de puerta, mano de obra. Retiro de escombros). | D5: =+'Estudio Mercado'!D7 -> UND | E5: =+'Estudio Mercado'!K7 -> 49666.667 | F5: =ROUND((E5*$F$48)+E5,0) -> 62083
B6: =+'Estudio Mercado'!B8 -> 1.1 | C6: =+'Estudio Mercado'!C8 -> Desmonte del cielo Razo. Sin importar el tipo de material (incluye retiro de soporte del cielo Razo y disposición final de elementos provenientes del desmonte retiro de escombros). | D6: =+'Estudio Mercado'!D8 -> M2 | E6: =+'Estudio Mercado'!K8 -> 17666.667 | F6: =ROUND((E6*$F$48)+E6,0) -> 22083
B7: =+'Estudio Mercado'!B9 -> 1.2 | C7: =+'Estudio Mercado'!C9 -> Demolición de piso en cerámica de. 81.09 (Incluye retiro de escombro). | D7: =+'Estudio Mercado'!D9 -> M2 | E7: =+'Estudio Mercado'!K9 -> 19000 | F7: =ROUND((E7*$F$48)+E7,0) -> 23750
B8: =+'Estudio Mercado'!B10 -> 1.3 | C8: =+'Estudio Mercado'!C10 -> Desmonte de lámparas existentes. (Incluye retiro de escombro y material.) | D8: =+'Estudio Mercado'!D10 -> UND | E8: =+'Estudio Mercado'!K10 -> 39000 | F8: =ROUND((E8*$F$48)+E8,0) -> 48750
B9: =+'Estudio Mercado'!B11 -> 1.4 | C9: =+'Estudio Mercado'!C11 -> Remoción de pintura en muros existentes. (incluye desperdicios, retiro de escombros). | D9: =+'Estudio Mercado'!D11 -> M2 | E9: =+'Estudio Mercado'!K11 -> 5333.3333 | F9: =ROUND((E9*$F$48)+E9,0) -> 6667
B10: =+'Estudio Mercado'!B12 -> 2.1 | C10: =+'Estudio Mercado'!C12 -> Suministro y alistado de piso en plantilla de 4 cm de 81.09 M2 (incluye mano de obra, desperdicio). | D10: =+'Estudio Mercado'!D12 -> M2 | E10: =+'Estudio Mercado'!K12 -> 74866.667 | F10: =ROUND((E10*$F$48)+E10,0) -> 93583
B11: =+'Estudio Mercado'!B13 -> 2.2 | C11: =+'Estudio Mercado'!C13 -> Suministro y aplicación de pintura blanca en vinilo tipo 1 a Dos manos( incluye filos y dilataciones). | D11: =+'Estudio Mercado'!D13 -> M2 | E11: =+'Estudio Mercado'!K13 -> 19533.333 | F11: =ROUND((E11*$F$48)+E11,0) -> 24417
B12: =+'Estudio Mercado'!B14 -> 2.3 | C12: =+'Estudio Mercado'!C14 -> Suministro e instalación de timbre portero electrónico y cantonera. (incluye cableado, interruptor, mano de obra,resane). | D12: =+'Estudio Mercado'!D14 -> UND | E12: =+'Estudio Mercado'!K14 -> 463333.33 | F12: =ROUND((E12*$F$48)+E12,0) -> 579167
B13: =+'Estudio Mercado'!B15 -> 2.4 | C13: =+'Estudio Mercado'!C15 -> Suministros e instalación paredes divisorias internas en drywall a dos caras. (incluye estructura metálica, macilla, mano de obra, tornillos de soporte etc.) | D13: =+'Estudio Mercado'!D15 -> M2 | E13: =+'Estudio Mercado'!K15 -> 262666.67 | F13: =ROUND((E13*$F$48)+E13,0) -> 328333
B14: =+'Estudio Mercado'!B16 -> 2.5 | C14: =+'Estudio Mercado'!C16 -> Suministro e instalación de muro mediano en vidrio templado esmerilado 6.70 m2 | D14: =+'Estudio Mercado'!D16 -> M2 | E14: =+'Estudio Mercado'!K16 -> 730000 | F14: =ROUND((E14*$F$48)+E14,0) -> 912500
B15: =+'Estudio Mercado'!B17 -> 2.6 | C15: =+'Estudio Mercado'!C17 -> Suministros e instalación de luces led 60 x 60 18 w incluye soporte, interruptor, regatas, resane y cableado I de 4,5 metros) | D15: =+'Estudio Mercado'!D17 -> UND | E15: =+'Estudio Mercado'!K17 -> 326666.67 | F15: =ROUND((E15*$F$48)+E15,0) -> 408333
B16: =+'Estudio Mercado'!B18 -> 2.7 | C16: =+'Estudio Mercado'!C18 -> Suministro e instalación de extractor eléctrico (incluye cableado, mano de obra, retiro de escombro). | D16: =+'Estudio Mercado'!D18 -> UND | E16: =+'Estudio Mercado'!K18 -> 1500000 | F16: =ROUND((E16*$F$48)+E16,0) -> 1875000
... B42: =+'Estudio Mercado'!B44 -> 5.3 | C42: =+'Estudio Mercado'!C44 -> limpieza general | D42: =+'Estudio Mercado'!D44 -> m2 | E42: =+'Estudio Mercado'!K44 -> 3733.3333 | F42: =ROUND((E42*$F$48)+E42,0) -> 4667
B43: =+'Estudio Mercado'!B45 -> 6 | C43: =+'Estudio Mercado'!C45 -> Bolsa de monto agotable para red contra incendios y/o reparacion electrica,sanitaria y atencion de eventualidades. | D43: =+'Estudio Mercado'!D45 -> BMA | E43: =+'Estudio Mercado'!K45 -> 28333333
B45: ADMINISTRACIÓN | E45: A= | F45: 0.2
B46: IMPREVISTO | E46: I= | F46: 0.02
B47: UTILIDAD | E47: U= | F47: 0.03
B48: TOTAL A.I.U | E48: A.I.U.= | F48: =+F47+F46+F45 -> 0.25

Sheet Estudio Mercado
B3: 23200C1436 REALIZAR EL MANTENIMIENTO DE LAS OFICINAS AIM DE LOS AEROPUERTOS DE BARRANQUILLA, CARTAGENA Y SAN ANDRES POR LOTES - LOTE 3: AEROPUERTO INTERNACIONAL GUSTAVO ROJAS PINILLA DE SAN ANDRES.
B4: ITEM DE PAGO | C4: DESCRIPCIÓN | D4: UND. | E4: JULIO DE AVILA | G4: Construcciones e Ingenieria Marxedy S.A.S | I4: COTIZACION ICC | K4: PROMEDIO
E5: VALOR UNITARIO (CON AIU %) | F5: VALOR UNITARIO (SIN AIU %) | G5: VALOR UNITARIO (CON AIU %) | H5: VALOR UNITARIO (SIN AIU %) | I5: VALOR UNITARIO (CON AIU %) | J5: VALOR UNITARIO (SIN AIU %) | K5: VALOR UNITARIO (SIN AIU %)
B7: 1 | C7: Desmonte y retiro de la puerta sin importar el material. (Incluye Traslado de puerta, mano de obra. Retiro de escombros). | D7: UND | E7: =+F7*1.25 -> 56250 | F7: 45000 | G7: =+H7*1.25 -> 67500 | H7: 54000 | I7: =+J7*1.25 -> 62500 | J7: 50000 | K7: =+AVERAGE(J7,F7,H7) -> 49666.667
B8: 1.1 | C8: Desmonte del cielo Razo. Sin importar el tipo de material (incluye retiro de soporte del cielo Razo y disposición final de elementos provenientes del desmonte retiro de escombros). | D8: M2 | E8: =+F8*1.25 -> 18750 | F8: 15000 | G8: =+H8*1.25 -> 22500 | H8: 18000 | I8: =+J8*1.25 -> 25000 | J8: 20000 | K8: =+AVERAGE(J8,F8,H8) -> 17666.667
B9: 1.2 | C9: Demolición de piso en cerámica de. 81.09 (Incluye retiro de escombro). | D9: M2 | E9: =+F9*1.25 -> 15000 | F9: 12000 | G9: =+H9*1.25 -> 37500 | H9: 30000 | I9: =+J9*1.25 -> 18750 | J9: 15000 | K9: =+AVERAGE(J9,F9,H9) -> 19000
B10: 1.3 | C10: Desmonte de lámparas existentes. (Incluye retiro de escombro y material.) | D10: UND | E10: =+F10*1.25 -> 43750 | F10: 35000 | G10: =+H10*1.25 -> 52500 | H10: 42000 | I10: =+J10*1.25 -> 50000 | J10: 40000 | K10: =+AVERAGE(J10,F10,H10) -> 39000
B11: 1.4 | C11: Remoción de pintura en muros existentes. (incluye desperdicios, retiro de escombros). | D11: M2 | E11: =+F11*1.25 -> 6250 | F11: 5000 | G11: =+H11*1.25 -> 7500 | H11: 6000 | I11: =+J11*1.25 -> 6250 | J11: 5000 | K11: =+AVERAGE(J11,F11,H11) -> 5333.3333
B12: 2.1 | C12: Suministro y alistado de piso en plantilla de 4 cm de 81.09 M2 (incluye mano de obra, desperdicio). | D12: M2 | E12: =+F12*1.25 -> 85000 | F12: 68000 | G12: =+H12*1.25 -> 102000 | H12: 81600 | I12: =+J12*1.25 -> 93750 | J12: 75000 | K12: =+AVERAGE(J12,F12,H12) -> 74866.667
B13: 2.2 | C13: Suministro y aplicación de pintura blanca en vinilo tipo 1 a Dos manos( incluye filos y dilataciones). | D13: M2 | E13: =+F13*1.25 -> 22500 | F13: 18000 | G13: =+H13*1.25 -> 27000 | H13: 21600 | I13: =+J13*1.25 -> 23750 | J13: 19000 | K13: =+AVERAGE(J13,F13,H13) -> 19533.333
B14: 2.3 | C14: Suministro e instalación de timbre portero electrónico y cantonera. (incluye cableado, interruptor, mano de obra,resane). | D14: UND | E14: =+F14*1.25 -> 562500 | F14: 450000 | G14: =+H14*1.25 -> 675000 | H14: 540000 | I14: =+J14*1.25 -> 500000 | J14: 400000 | K14: =+AVERAGE(J14,F14,H14) -> 463333.33
B15: 2.4 | C15: Suministros e instalación paredes divisorias internas en drywall a dos caras. (incluye estructura metálica, macilla, mano de obra, tornillos de soporte etc.) | D15: M2 | E15: =+F15*1.25 -> 300000 | F15: 240000 | G15: =+H15*1.25 -> 360000 | H15: 288000 | I15: =+J15*1.25 -> 325000 | J15: 260000 | K15: =+AVERAGE(J15,F15,H15) -> 262666.67
B16: 2.5 | C16: Suministro e instalación de muro mediano en vidrio templado esmerilado 6.70 m2 | D16: M2 | E16: =+F16*1.25 -> 875000 | F16: 700000 | G16: =+H16*1.25 -> 1050000 | H16: 840000 | I16: =+J16*1.25 -> 812500 | J16: 650000 | K16: =+AVERAGE(J16,F16,H16) -> 730000
B17: 2.6 | C17: Suministros e instalación de luces led 60 x 60 18 w incluye soporte, interruptor, regatas, resane y cableado I de 4,5 metros) | D17: UND | E17: =+F17*1.25 -> 375000 | F17: 300000 | G17: =+H17*1.25 -> 450000 | H17: 360000 | I17: =+J17*1.25 -> 400000 | J17: 320000 | K17: =+AVERAGE(J17,F17,H17) -> 326666.67
B18: 2.7 | C18: Suministro e instalación de extractor eléctrico (incluye cableado, mano de obra, retiro de escombro). | D18: UND | E18: =+F18*1.25 -> 1875000 | F18: 1500000 | G18: =+H18*1.25 -> 2250000 | H18: 1800000 | I18: =+J18*1.25 -> 1500000 | J18: 1200000 | K18: =+AVERAGE(J18,F18,H18) -> 1500000
... B44: 5.3 | C44: limpieza general | D44: m2 | E44: =+F44*1.25 -> 4375 | F44: 3500 | G44: =+H44*1.25 -> 5250 | H44: 4200 | I44: =+J44*1.25 -> 4375 | J44: 3500 | K44: =+AVERAGE(J44,F44,H44) -> 3733.3333
B45: 6 | C45: Bolsa de monto agotable para red contra incendios y/o reparacion electrica,sanitaria y atencion de eventualidades. | D45: BMA | F45: 30000000 | H45: 30000000 | J45: 25000000 | K45: =+AVERAGE(J45,F45,H45) -> 28333333

Sheet COT 1

Sheet COT 2

Sheet COT 3

Sheet LISTADO DE ÍTEMS
A3: I. | B3: EDIFICIO DE OFINAS, HABITACIONES Y SISTEMAS ESTACIÓN BAÑADEROS
A4: I.1. | B4: PRELIMINARES | C4: I.1.
A5: I.1.01 | B5: DESMONTE DE CUBIERTA Y ESTRUCTURA EXISTENTE (INCLUYE CARGUE Y RETIRO + SEGURIDAD + 3 CUERPOS DE ANDAMIOS) | C5: I.1.01 | D5: METRO CUADRADO | E5: M2
A6: I.1.02 | B6: DEMOLICIÓN DE MUROS EN MAMPOSTERÍA; e=0,12 M A 0,25 M. (INCLUYE TRASIEGO+CARGUE Y RETIRO+3 CUERPOS DE ANDAMIOS + SEGURIDAD) | C6: I.1.02 | D6: METRO CUADRADO | E6: M2
A7: I.1.03 | B7: DEMOLICIÓN DE ANDEN EN CONCRETO e= 0,10 M (INCLUYE CARGUE Y RETIRO) | C7: I.1.03 | D7: METRO CUADRADO | E7: M2
A8: I.1.04 | B8: DESMONTE DE MARCO Y PUERTA DE ACCESO A LOCACIÓN | C8: I.1.04 | D8: UNIDAD | E8: UNI | F8: UNIDAD
A9: I.1.05 | B9: DESMONTE DE VENTANAS | C9: I.1.05 | D9: METRO CUADRADO | E9: M2
A10: I.2. | B10: ESTRUCTURA | C10: I.2.
A11: I.2.01 | B11: CONCRETO DE 21 Mpa PARA VIGAS AEREAS Y CORONA; e= 0,12 M; h= 0,20 M; INCLUYE ACERO DE REFUERSO 60.000 P.S.I. | C11: I.2.01 | D11: METRO LINEAL | E11: ML
A12: I.2.02 | B12: CONCRETO DE 21 Mpa PARA COLUMNETAS DE 0,12 x 0,20 M; INCLUYE ACERO DE REFUERSO 60.000 P.S.I. | C12: I.2.02 | D12: METRO LINEAL | E12: ML
A13: I.2.03 | B13: REPOSISCIÓN ANDEN EN CONCRETO 17,5 Mpa; e= 0,10 M | C13: I.2.03 | D13: METRO CUADRADO | E13: M2
A14: I.2.04 | B14: CONCRETO DE 2.500 P.S.I. DOSIFICACIÓN 1.2:4 (ARENA LAVADA DE RIO + GRAVILLA Ø 1/2") | C14: I.2.04 | D14: METRO CÚBICO | E14: M3
A15: I.3. | B15: MAMPOSTERÍA | C15: I.3.
A16: I.3.01 | B16: MURO EN BLOQUE No. 5 DE ARCILLA; PEGA CON MORTERO e=1,00 CM | C16: I.3.01 | D16: METRO CUADRADO | E16: M2
A17: I.3.02 | B17: PAÑETE; DOSIFICACIÓN 1:4; e= 1,50 CM; ACABADO AFINADO (INCLUYE FILOS) | C17: I.3.02 | D17: METRO CUADRADO | E17: M2
A18: I.3.03 | B18: PINTURA TIPO 1 PARA EXTERIORES; 3 MANOS COLOR BLANCO | C18: I.3.03 | D18: METRO CUADRADO | E18: M2
B19: MORTERO 1:4 (240 Kg/Cm2)
A20: I.4. | B20: CUBIERTA | C20: I.4.
A21: I.4.01 | B21: SUMINISTRO E INSTALACIÓN DE CUBIERTA EN LÁMINA TERMOACUSTICA (INCLUYE EQUIPOS Y ACCESORIA DE FIJACIÓN Y ANCLAJE) | C21: I.4.01 | D21: METRO CUADRADO | E21: M2
A22: I.4.02 | B22: SUMINISTRO E INSTALACIÓN CORREA METÁLICA EN TUBO RECTANGULAR 0,09 M x 0,05 M x 2,5 Mm; L= 6,00 M; HR 50; INCLUYE TAPONES EN PLATNAS DE 0,09 M X 0,05 M X 1/8"; ANTICORROSIVO | C22: I.4.02 | D22: METRO LINEAL | E22: ML
A23: I.4.03 | B23: PISA EN LADRILLO TOLETE COMÚN MONTADOS A TIZON; PEGA CON MORTERO IMPERMEABILIZADOS e=1,00 CM; DOSIFICACIÓN 1:4 (INCLUYE PAÑETE IMPERMEABILIZADO) | C23: I.4.03 | D23: METRO LINEAL | E23: ML
A24: I.4.04 | B24: SUMINISTRO E INSTALACIÓN DE PINTURA REFLECTIVA DE ALUMINIO | C24: I.4.04 | D24: METRO CUADRADO | E24: M2
A25: I.5. | B25: INSTALACIONES HIDRÁULICAS Y SANITARIAS | C25: I.5.
A26: I.5.01 | B26: SUMINIOSTRO E INSTALACIÓN CANAL TIPO AMAZONAS L= 3,00 M (INCLUYE ACCESORIOS DE CONECCIÓN Y FIJACIÓN) | C26: I.5.01 | D26: METRO LINEAL | E26: ML
A27: I.5.02 | B27: SUMINISTRO E INSTALACIÓN BAJANTE AGUAS LLUVIA TIPO AMAZONAS (INCLUYE ACCESORIOS DE CONECCIÓN Y FIJACIÓN) | C27: I.5.02 | D27: METRO LINEAL | E27: ML
A28: I.5.03 | B28: SUMINISTRO E INSTALACIÓN TUBERÍA Ø 3"; L= 3,00 M | C28: I.5.03 | D28: METRO LINEAL | E28: ML
A29: I.6. | B29: CARPINTERÍA METÁLICA | C29: I.6.
A30: I.6.01 | B30: PUERTAS EN METÁLICA EN LÁMINA GALVANIZADA (INCLUYE ANTICORROSICO Y WASH PRIMER Y PINTURA BLANCA MATE) | C30: I.6.01 | D30: METRO CUADRADO | E30: M2
A31: I.6.02 | B31: VENTANAS EN ALUMINIO (INCLUYE PINTURA) | C31: I.6.02 | D31: METRO CUADRADO | E31: M2
A33: II. | B33: CUARTO GRUPO ELECTRÓGENOS ESTACIÓN BAÑADEROS
A34: II.1. | B34: PRELIMINARES | C34: II.1.
A35: II.1.01 | B35: DESMONTE DE CUBIERTA Y ESTRUCTURA EXISTENTE CUARTO GRUPOS ELECTRÓGENOS (INCLUYE CARGUE Y RETIRO + SEGURIDAD + 2 CUERPOS DE ANDAMIOS) | C35: II.1.01 | D35: METRO CUADRADO | E35: M2
A36: II.1.02 | B36: DEMOLICIÓN DE MUROS EN MAMPOSTERÍA CUARTO GRUPOS ELECTRÓGENOS; e=0,12 M A 0,25 M. (INCLUYE TRASIEGO+CARGUE Y RETIRO+2 CUERPOS DE ANDAMIOS + SEGURIDAD) | C36: II.1.02 | D36: METRO CUADRADO | E36: M2
A37: II.1.03 | B37: DEMOLICIÓN DE ANDEN EN CONCRETO e= 0,10 M CUARTO GRUPOS ELECTRÓGENOS (INCLUYE CARGUE Y RETIRO) | C37: II.1.03 | D37: METRO CUADRADO | E37: M2
A38: II.1.04 | B38: DESMONTE DE MARCO Y RIEL PUERTA DE ACCESO A CUARTO GRUPO ELECTRÓGENOS | C38: II.1.04 | D38: UNIDAD | E38: UNI
A39: II.1.05 | B39: DESMONTE DE MARCO Y PUERTA CUARTO GRUPO ELECTRÓGENOS | C39: II.1.05 | D39: UNIDAD | E39: UNI
A40: II.2. | B40: ESTRUCTURA | C40: II.2.
A41: II.2.01 | B41: CONCRETO DE 21 Mpa PARA VIGAS AEREAS Y CORONA CUARTO GRUPOS ELECTRÓGENOS; e= 0,12 M; h= 0,20 M; INCLUYE ACERO DE REFUERSO 60.000 P.S.I. | C41: II.2.01 | D41: METRO LINEAL | E41: ML
A42: II.2.02 | B42: CONCRETO DE 21 Mpa PARA COLUMNETAS DE 0,12 x 0,20 M;CUARTO GRUPOS ELECTRÓGENOS; INCLUYE ACERO DE REFUERSO 60.000 P.S.I. | C42: II.2.02 | D42: METRO LINEAL | E42: ML
A43: II.2.03 | B43: REPOSISCIÓN ANDEN EN CONCRETO 17,5 Mpa CUARTO GRUPOS ELECTRÓGENOS; e= 0,10 M | C43: II.2.03 | D43: METRO CUADRADO | E43: M2
...

Sheet DATOS DEL PROYECTO
D4: ENTIDAD CONTRATANTE: | E4: AERONAUTICA CIVIL - REGIONAL ATLÁNTICO
D5: NIT
D6: CONTRATISTA:
D7: NIT
D8: OBJETO | E8: REALIZAR EL MANTENIMIENTO LOCATIVO DE LA ESTACIÓN DE COMUNICACIONES CERRO BAÑADEROS
D9: INTERVENTORÍA:
D10: NIT

Sheet TIPO DE INSUMO
D7: I | E7: INSUMO
D8: A | E8: ANÁLISIS
D9: -

Sheet UNIDAD
D7: UNI | E7: UNIDAD
D8: GLB | E8: GLOBAL
D9: ML | E9: METRO LÍNEAL
D10: M2 | E10: METRO CUADRADO
D11: M3 | E11: METRO CÚBICO
D12: Kg | E12: KILOGRAMO
D13: TON | E13: TONELADA
D14: VJ | E14: VIAJE
