Workbook
Name Plazo: '[1]AUI ALIVIADERO'!$D$15

Sheet Salarios
A1: SMMLV | B1: VALOR | C1: SUB. DE TRANS.
A2: 1920 | B2: 60
A3: 1956 | B3: 135
A4: 1957 | B4: 155
A5: 1960 | B5: 189
A6: 1962 | B6: 219
A7: 1963 | B7: 420
A8: 1969 | B8: 519
A9: 1972 | B9: 660
A10: 1974 | B10: 900
A11: 1976 | B11: 1560
A12: 1977 | B12: 1770
A13: 1978 | B13: 2580
... A24: 1989 | B24: 32560
A25: 1990 | B25: 41025 | C25: 3798
A26: 1991 | B26: 51720 | C26: 4787
A27: 1992 | B27: 65190 | C27: 6033
A28: 1993 | B28: 81510 | C28: 7542
A29: 1994 | B29: 98700 | C29: 8705
A30: 1995 | B30: 118934 | C30: 10815
A31: 1996 | B31: 142125 | C31: 13567
A32: 1997 | B32: 172005 | C32: 17250
A33: 1998 | B33: 203825 | C33: 20700
A34: 1999 | B34: 236438 | C34: 24012
A35: 2000 | B35: 260100 | C35: 26413
A36: 2001 | B36: 286000 | C36: 30000
... A48: 2022 | B48: 1000000 | C48: 117172

Sheet INDICE
C2: =+UPPER("ALCALDÍA MUNICIPAL DE Norcasia") -> ALCALDÍA MUNICIPAL DE NORCASIA
C3: Oficina de Asesoría Jurídica
C4: Cra. 6 No 10-02, Tercer Piso Alcaldía Municipal.
B7: =+#REF! -> #REF!
B8: Objeto:
B9: =+#REF! -> #REF!
B13: FORMATO DE ETIQUETA DEL SOBRE.
B14: FORMULARIO 1. PRESUPUESTO Y CANTIDADES DE OBRA
B15: FORMULARIO 1.2. FORMATO DE PRECIOS UNITARIOS
B16: FORMULARIO 1.3. CRONOGRAMA Y FLUJO DE INVERSIONES
B17: FORMULARIO 1.4. ANALISIS DEL AIU
B18: FORMULARIO 2. CONTRATOS ADJUDICADOS, SIN INICIAR Y/O CONTRATOS EN EJECUCIÓN
B19: FORMULARIO 3. EXPERIENCIA GENERAL
B20: FORMULARIO 4. EXPERIENCIA ESPECIFICA
B21: FORMULARIO 5. MANIFESTACIÓN DE INTERÉS
B22: FORMULARIO 6. CAPACIDAD FINANCIERA
B23: FORMULARIO 7. CAPACIDAD RESIDUAL DE CONTRATACION
B24: FORMULARIO 8. RELACION DE EQUIPOS
... B26: ► CUADRO DE SALARIOS MINIMOS

Sheet Formulario No 1
A1: ANALISIS DE INTERVENTORIA
A3: ALCALDIA MUNICIPAL
A4: Municipio de Barbosa - Antioquia
A5: Barbosa Social - Es la Gente!
A8: OBJETO:
A9: INTERVENTORÍA TECNICA, ADMINISTRATIVA AMBIENTAL, FINANCIERA Y JURÍDICA PARA LA OBRA DE CONSTRUCCIÓN Y MEJORAMIENTO DEL ESCENARIO DEPORTIVO CANCHA AUXILIAR EN ARENILLA DE FUTBOL 11 EN LA UNIDAD DEPORTIVA LOS BÚCAROS EN EL MUNICIPIO DE BARBOSA, ANTIOQUIA.
A11: Plazo estimado de ejecución (meses)= | D11: 7 | G11: =D11*30 -> 210 | H11: días
A13: CARGO / OFICIO | B13: Cantidad | C13: Participacion (meses) | D13: Dedicacion (% mes) | E13: Vr. Salario Mensual ($) | F13: VALOR PARCIAL
A14: COSTOS DIRECTOS DE PERSONAL
A15: PERSONAL PROFESIONAL
A16: Director de Interventoría - Ing Civil o Arquitecto | B16: 1 | C16: =IF(B16=0,0,$D$11) -> 7 | D16: 0.2 | E16: 6000000 | F16: =+PRODUCT(B16:E16) -> 8400000
A17: Residente de interventoría - Ing Civil o Arquitecto | B17: 1 | C17: =IF(B17=0,0,($D$11-1)) -> 6 | D17: 1 | E17: 4000000 | F17: =+PRODUCT(B17:E17) -> 24000000
A18: Asesor especialista - Ing. Estructural | B18: 1 | C18: =IF(B18=0,0,($D$11-1)) -> 6 | D18: 0.2 | E18: 5000000 | F18: =+PRODUCT(B18:E18) -> 6000000
A19: Asesor - Ing. Electricista | B19: 1 | C19: =IF(B19=0,0,($D$11-1)) -> 6 | D19: 0.2 | E19: 3800000 | F19: =+PRODUCT(B19:E19) -> 4560000
A20: Residente Ambiental - Ing. Ambiental | B20: 1 | C20: =IF(B20=0,0,($D$11-1)) -> 6 | D20: 0.2 | E20: 3800000 | F20: =+PRODUCT(B20:E20) -> 4560000
A21: Residente SST - Tecnologo | B21: 1 | C21: =IF(B21=0,0,($D$11-1)) -> 6 | D21: 1 | E21: 2000000 | F21: =+PRODUCT(B21:E21) -> 12000000
F22: =+PRODUCT(B22:E22) -> 0
F23: =+PRODUCT(B23:E23) -> 0
F24: =+PRODUCT(B24:E24) -> 0
A25: PERSONAL AUXILIAR
A26: Auxiliar Administrativo | B26: 1 | C26: 7 | D26: 0.5 | E26: 1000000 | F26: =+PRODUCT(B26:E26) -> 3500000
F27: =+PRODUCT(B27:E27) -> 0
A28: SUBTOTAL COSTOS DE PERSONAL (1) | F28: =SUM(F15:F27) -> 63020000
A29: FACTOR MULTIPLICADOR (2) | F29: =ROUND('Formulario No 1.2'!E42,3) -> 1.728
A30: (A) TOTAL COSTOS DE PERSONAL = (1)*(2) | F30: =ROUND(F28*F29,0) -> 108898560
A32: COSTOS DIRECTOS | B32: UNIDAD | C32: CANTIDAD | D32: Valor Parcial ($) | E32: Tiempo Utilización (%) | F32: VALOR TOTAL ($)
A33: Viajes y Viaticos | B33: mes | C33: =IF(B33=0,0,($D$11-1)) -> 6 | D33: 218000 | E33: 1 | F33: =+E33*C33*D33 -> 1308000
A34: Equipos de topografía | B34: mes | C34: =IF(B34=0,0,($D$11-1)) -> 6 | D34: 300000 | E34: 1 | F34: =+E34*C34*D34 -> 1800000
A35: Ensayos de Laboratorio e informes | B35: mes | C35: =IF(B35=0,0,($D$11-1)) -> 6 | D35: 450000 | E35: 1 | F35: =+E35*C35*D35 -> 2700000
A36: Alquiler de oficina y servicios públicos | B36: mes | C36: =IF(B36=0,0,($D$11-1)) -> 6 | D36: 500000 | E36: 1 | F36: =+E36*C36*D36 -> 3000000
A37: Gastos de Oficina (Papelería, fotocopias, etc) | B37: mes | C37: =IF(B37=0,0,($D$11-1)) -> 6 | D37: =152000+2811.3 -> 154811.3 | E37: 1 | F37: =+E37*C37*D37 -> 928867.8
A38: (B) TOTAL COSTOS DIRECTOS | F38: =ROUND(SUM(F32:F37),0) -> 9736868
A40: IMPUESTOS Y RETENCIONES | B40: UNIDAD | C40: CANTIDAD | D40: Valor Parcial ($) | F40: VALOR TOTAL ($)
A41: Estampilla pro-anciano | B41: % | C41: 0.04 | D41: =+F50 -> 147373203 | F41: =+C41*D41 -> 5894928.1
A42: Estampilla pro-cultura | B42: % | C42: 0.01 | D42: =+$F$50 -> 147373203 | F42: =+C42*D42 -> 1473732
A43: Estampilla pro-Universidad | B43: % | C43: 0.01 | D43: =+$F$50 -> 147373203 | F43: =+C43*D43 -> 1473732
A44: Estampilla pro-Hospital | B44: % | C44: 0.01 | D44: =+$F$50 -> 147373203 | F44: =+C44*D44 -> 1473732
A45: Estampilla pro-Deporte | B45: % | C45: 0.025 | D45: =+$F$50 -> 147373203 | F45: =+C45*D45 -> 3684330.1
A46: Honorarios | B46: % | C46: 0.1 | D46: =+$F$50 -> 147373203 | F46: =+C46*D46 -> 14737320
A48: (C) TOTAL COSTOS IMPUESTOS Y RETENCIONES | F48: =ROUND(SUM(F41:F47),0) -> 28737775
...

Sheet Formulario No 1.2
A1: ANALISIS DE INTERVENTORIA
A3: ALCALDIA MUNICIPAL
A4: Municipio de Barbosa - Antioquia
A5: Barbosa Social - Es la Gente!
A7: FACTOR MULTIPLICADOR
A8: OBRA:
A9: =+'Formulario No 1'!A9:F9 -> INTERVENTORÍA TECNICA, ADMINISTRATIVA AMBIENTAL, FINANCIERA Y JURÍDICA PARA LA OBRA DE CONSTRUCCIÓN Y MEJORAMIENTO DEL ESCENARIO DEPORTIVO CANCHA AUXILIAR EN ARENILLA DE FUTBOL 11 EN LA UNIDAD DEPORTIVA LOS BÚCAROS EN EL MUNICIPIO DE BARBOSA, ANTIOQUIA.
A10: Plazo estimado de ejecución (meses)= | D10: =+'Formulario No 1'!D11:F11 -> 7 | F10: =D10*30 -> 210 | G10: días
A11: FACTOR MULTIPLICADOR PARA PERSONAL PROFESIONAL, ADMINISTRATIVO Y TÉCNICO | E11: %
A12: A. | C12: SALARIO BÁSICO (Nómina total mensual) | E12: 100
A14: B. | C14: PRESTACIONES SOCIALES | E14: =SUM(E16:E32) -> 66.073333
B15: SEGURIDAD SOCIAL Y APORTES PARAFISCALES
B16: a. | C16: Caja de Compensación | D16: % A | E16: 4 | H16: 4
B17: b. | C17: SENA | D17: % A | E17: 0 | H17: 2
B18: c. | C18: ICBF | D18: % A | E18: 0 | H18: 3
B19: d. | C19: Sistema de seguridad social : Salud | D19: % A | E19: 8.5 | H19: 8.5
B20: e. | C20: Sistema de seguridad social : Pensiòn | D20: % A | E20: 12 | H20: 12
B21: f. | C21: ARP personal en obra | D21: % A | E21: 6.96 | H21: 6.96
B22: PRESTACIONES SOCIALES
B23: g | C23: Vacaciones | D23: (15/360*100) | E23: =15*100/360 -> 4.1666667 | H23: 4.17
B24: h. | C24: Prima de Servicios | D24: (30/360*100) | E24: =30/360*100 -> 8.3333333
B25: i. | C25: Cesantias | D25: (30/360*100) | E25: =30/360*100 -> 8.3333333
B26: j. | C26: Intereses a las cesantias | D26: (0,12*30/360) | E26: 1
B27: OTROS
B28: k. | C28: Ausencias justificadas | D28: (3/360*100) | E28: 2.78 | H28: 0.83
B29: l. | C29: Dotación | D29: %A | E29: 5
B30: m. | C30: Indemnizaciones | D30: % A | E30: 1 | H30: 0.1
B31: n. | C31: Incapacidad no cubierta seguridad social | D31: % A | E31: 2
B32: o. | C32: Otros | D32: % A | E32: 2 | H32: 0.2
A33: C. | C33: SUMA (A + B) | E33: =E12+E14 -> 166.07333
A35: D. | C35: COSTOS INDIRECTOS | E35: =SUM(E36:E38) -> 6.71
B36: a. | C36: Gastos bancarios y costos financieros | D36: % A | E36: 1
B37: b. | C37: Perfeccionamiento (póliza única, publicación) | D37: % A | E37: 5.21
B38: c. | C38: Otros | D38: % A | E38: 0.5
A40: F. | C40: SUBTOTAL (C + D + E) | E40: =E33+E35 -> 172.78333
C42: FACTOR MULTIPLICADOR FINAL | E42: =ROUND(E40/100,4) -> 1.7278
A46: =+'Formulario No 1'!A55:C55 -> CAROLINA SOSSA ARANGO
A47: =+'Formulario No 1'!A56:C56 -> Secretaria de obras públicas (E )

Sheet Formulario No. 2
A1: MUNICIPIO DE NORCASIA CALDAS – SECRETARIA DE PLANEACIÓN Y DESARROLLO SOSTENIBLE FORMATO No 2. EXPERIENCIA ESPECIFICA
A2: PROCESO: | D2: OBJETO: | E2: =+#REF! -> #REF!
A3: =+#REF! -> #REF!
A5: No. | B5: contratante | C5: CONTRATO | E5: Forma de Ejecución | G5: Plazo de Ejecución | H5: Plazo de ejecución | K5: Tiempo total de ejecución del contrato en meses | L5: Valor del contrato | M5: Valor del contrato facturado
C6: Num. | D6: Objeto | E6: I - C - UT (nota 1) | F6: % | G6: Meses | H6: Iniciación (DD/MM/AA) | I6: tiempo de suspención Dias | J6: Terminación (DD/MM/AA) | L6: Incluidas sus adiciones y el IVA (4) | M6: Incluido el IVA (5)
A7: RELACION DEL CONTRATO PARA LA ACREDITACIÓN DE LA EXPERIENCIA GENERAL
A13: LA INFORMACIÓN INCLUIDA EN ESTE FORMULARIO ES DE RESPONSABILIDAD DEL PROPONENTE.
A15: NOTA No. 1: PARA CADA CONTRATO SE DEBE INDICAR LA RAZÓN SOCIAL DEL CONTRATANTE, EL NÚMERO Y/O OBJETO Y SI SE HA EJECUTADO EN FORMA INDIVIDUAL (I), CONSORCIO (C), UNIÓN TEMPORAL (UT) O BAJO CUALQUIER OTRA MODALIDAD DE ASOCIACIÓN Y EL PORCENTAJE DE PARTICIPACIÓN
A16: NOTA No. 2: EN EL CASO DE CONTRATOS SUSCRITOS EN CONSORCIO, UNIÓN TEMPORAL U OTRA MODALIDAD DE ASOCIACIÓN, INDICAR EN LAS COLUMNAS (3) A (7) ÚNICAMENTE EL VALOR QUE CORRESPONDE SEGÚN LA PARTICIPACIÓN
A17: NOTA No. 3: LOS VALORES CONSIGNADOS EN LAS COLUMNAS (3) A (7) DEBEN EXPRESARSE EN PESOS COLOMBIANOS.
A19: LA INFORMACIÓN INCLUIDA EN ESTE FORMULARIO ES DE RESPONSABILIDAD DEL PROPONENTE.
A24: RAZON SOCIAL DEL INTERESADO | H24: NOMBRE Y FIRMA DEL PROPONENTE O REPRESENTANTE LEGAL

Sheet Formulario No. 3
A1: MUNICIPIO DE NORCASIA CALDAS – SECRETARIA DE PLANEACIÓN Y DESARROLLO SOSTENIBLE FORMATO No 2. CONTRATOS ADJUDICADOS, SIN INICIAR Y/O CONTRATOS EN EJECUCIÓN
A2: PROCESO: | D2: OBJETO: | E2: =+#REF! -> #REF!
A3: =+#REF! -> #REF!
A5: INTEGRANTE: | G5: PORCENTAJE DE PARTICIPACION:
A7: ITEM | B7: No. CONTRATO | C7: CONTRATANTE | D7: OBJETO | E7: PLAZO | F7: FECHA INICIACIÓN | G7: VALORES EN PESOS | I7: VALOR EJECUTADO EN PESOS | J7: VALORES POR EJECUTAR
G8: INICIAL | H8: ACTUAL | J8: PESOS | K8: SMMLV
A9: 1
A10: 2
A11: 3
A12: 4
A13: 5
A18: FIRMA AUTORIZADA

Sheet EXPERIENCIA REQUERIDA 2
B1: MINISTERIO DE TRANSPORTE
B2: INSTITUTO NACIONAL DE VÍAS
B3: xxxxxxxxxxxxxxxxxxxxxxxxxxxx
B4: OBJETO:
B6: FORMULARIO DE EXPERIENCIA REQUERIDA PARA EL PROYECTO (Para determinar el Promedio de Facturacion Mensual (PFM))
B8: No. de | C8: Entidad Contratante | D8: Contrato o Resolución | F8: FORMAS DE EJECUCION | H8: Experiencia | I8: Integrante que aporta experiencia | J8: Fecha de Iniciacion (Dia-mes-año) | K8: Tiempo de Suspension en Meses | L8: Fecha de Terminacion (Dia-mes-año) | M8: Tiempo Total de ejecucion del contrato (Meses) | N8: Valor total del Contrato (Bas+ Adicion+Ajs+IVA) DE QUIEN APORTA EXPERIENCIA | O8: Valor total FACTURADO (Basico Facturado+IVA) DE QUIEN APORTA EXPERIENCIA a partir del 1° de enero de 1995
B9: Orden | D9: No. | E9: Objeto | F9: I,C,UT, OTRA | G9: %
B11: 1 | H11: NO USAR
B12: 2 | H12: NO USAR
B13: 3 | H13: NO USAR
B14: 4 | H14: NO USAR
B15: 5 | H15: NO USAR
B16: 6 | H16: NO USAR
B19: LA INFORMACIÓN INCLUIDA EN ESTE FORMULARIO ES DE RESPONSABILIDAD DEL PROPONENTE.
B20: NOTA No. 1: PARA CADA CONTRATO SE DEBE INDICAR LA RAZÓN SOCIAL DEL CONTRATANTE, EL NÚMERO Y/O OBJETO Y SI SE HA EJECUTADO EN FORMA INDIVIDUAL (I), CONSORCIO (C), UNIÓN TEMPORAL (UT) O BAJO CUALQUIER OTRA MODALIDAD DE ASOCIACIÓN Y EL PORCENTAJE DE PARTICIPACIÓN.
B21: NOTA No. 2: EN EL CASO DE CONTRATOS SUSCRITOS EN CONSORCIO, UNIÓN TEMPORAL U OTRA MODALIDAD DE ASOCIACIÓN, INDICAR ÚNICAMENTE EL VALOR QUE CORRESPONDE SEGÚN LA PARTICIPACIÓN.
B22: NOTA No. 3: LOS VALORES CONSIGNADOS DEBEN EXPRESARSE EN PESOS COLOMBIANOS.
B23: NOTA No. 4: SI EL CONTRATO SE INICIÓ CON ANTERIORIDAD AL 1 DE ENERO DE 1995, SE DEBE INDICAR EL VALOR FACTURADO A PARTIR DE ESTA FECHA, ASÍ MISMO DEBE INDICARSE EL TIEMPO TOTAL DE EJECUCIÓN, EN MESES, ÚNICAMENTE CONTADO A PARTIR DEL PRIMERO DE ENERO DE 1995.
B24: NOTA No. 5: PARA LA ACREDITACION DEL CRITERIO DE EXPERIENCIA SE TOMARAN UNICAMENTE HASTA MAXIMO SEIS CONTRATOS RELACIONADOS EN EL PRESENTE FORMULARIO.
B25: NOTA No. 6: PARA CONSORCIO O UNIONES TEMPORALES SE DEBE INFORMAR QUE INTEGRANTE APORTA LA EXPERIENCIA.
B26: NOTA No. 7: PARA EL VALOR TOTAL FACTURADO SE TOMARA EL VALOR BASICO FACTURADO MAS EL IVA, MÁS AJUSTES.
B29: RAZON SOCIAL DEL PROPONENTE _____________________________
B32: REPRESENTANTE LEGAL DEL PROPONENTE (nombre y firma): _____________________________
B34: NOTA: Toda la información suministrada por el proponente deberá ser veraz y estará sujeta a verificación de acuerdo con lo estipulado en estos pliegos de condiciones, el Artículo No. 83 de la Constitución Nacional y en los Artículos 286 a 296 del Código

Sheet Formulario No. 4
A1: MUNICIPIO DE NORCASIA CALDAS – SECRETARIA DE PLANEACIÓN Y DESARROLLO SOSTENIBLE FORMATO No 4. EXPERIENCIA ESPECIFICA
A2: PROCESO: | D2: OBJETO: | E2: =+#REF! -> #REF!
A3: =+#REF! -> #REF!
A5: No. | B5: contratante | C5: CONTRATO | E5: Forma de Ejecución | G5: Plazo de Ejecución | H5: Plazo de ejecución | K5: Tiempo total de ejecución del contrato en meses | L5: Valor del contrato | M5: Valor del contrato facturado
C6: Num. | D6: Objeto | E6: I - C - UT (nota 1) | F6: % | G6: Meses | H6: Iniciación (DD/MM/AA) | I6: tiempo de suspención Dias | J6: Terminación (DD/MM/AA) | L6: Incluidas sus adiciones y el IVA (4) | M6: Incluido el IVA (5)
A7: RELACION DEL CONTRATO PARA LA ACREDITACIÓN DE LA EXPERIENCIA GENERAL
A13: LA INFORMACIÓN INCLUIDA EN ESTE FORMULARIO ES DE RESPONSABILIDAD DEL PROPONENTE.
A15: NOTA No. 1: PARA CADA CONTRATO SE DEBE INDICAR LA RAZÓN SOCIAL DEL CONTRATANTE, EL NÚMERO Y/O OBJETO Y SI SE HA EJECUTADO EN FORMA INDIVIDUAL (I), CONSORCIO (C), UNIÓN TEMPORAL (UT) O BAJO CUALQUIER OTRA MODALIDAD DE ASOCIACIÓN Y EL PORCENTAJE DE PARTICIPACIÓN
A16: NOTA No. 2: EN EL CASO DE CONTRATOS SUSCRITOS EN CONSORCIO, UNIÓN TEMPORAL U OTRA MODALIDAD DE ASOCIACIÓN, INDICAR EN LAS COLUMNAS (3) A (7) ÚNICAMENTE EL VALOR QUE CORRESPONDE SEGÚN LA PARTICIPACIÓN
A17: NOTA No. 3: LOS VALORES CONSIGNADOS EN LAS COLUMNAS (3) A (7) DEBEN EXPRESARSE EN PESOS COLOMBIANOS.
A19: LA INFORMACIÓN INCLUIDA EN ESTE FORMULARIO ES DE RESPONSABILIDAD DEL PROPONENTE.
A24: RAZON SOCIAL DEL INTERESADO | H24: NOMBRE Y FIRMA DEL PROPONENTE O REPRESENTANTE LEGAL

Sheet Formulario No. 5
A1: MUNICIPIO DE NORCASIA CALDAS – SECRETARIA DE PLANEACIÓN Y DESARROLLO SOSTENIBLE FORMATO No 5. MANIFESTACIÓN DE INTERÉS
A2: PROCESO: | C2: OBJETO: | D2: =+#REF! -> #REF!
A3: =+#REF! -> #REF!
A5: NOMBRE DEL PROPONENTE PERSONA NATURAL, JURÍDICA O CONTRACTUAL (CONSORCIO O UNIÓN TEMPORAL) | B5: NOMBRE DEL REPRESENTANTE LEGAL (PERSONA JURÍDICA, CONSORCIO O UNIÓN TEMPORAL) | C5: IDENTIFICACIÓN (NIT O CÉDULA DE CIUDADANÍA) | D5: NOMBRE E IDENTIFICACIÓN DE LOS INTEGRANTES DEL CONSORCIO O UNIÓN TEMPORAL | E5: CORREO ELECTRÓNICO | F5: TELÉFONO FIJO – CELULAR | G5: FAX | H5: DIRECCIÓN DE CORRESPONDENCIA
A8: Mediante el diligenciamiento del presente formato y envío al correo electrónico juridica@norcasia-caldas.gov.co, manifiesto mi interés en participar en el presente proceso de Selección Abreviada de Menor Cuantía.
A10: * Solo aplica para contratación por menor cuantía

Sheet Formulario No. 6
B2: ALCALDIA MUNICIPAL
B3: NORCASIA CALDAS
B5: FORMULARIO No. 6 - INFORMACIÓN FINANCIERA
B6: =+#REF! -> #REF!
B8: INFORMACIÓN FINANCIERA
B9: (EN PESOS COLOMBIANOS)
B11: RAZON SOCIAL:
B13: NIT O C.C:
B15: FECHA DE CORTE A DIA MES AÑO
B17: ACTIVO | D17: PASIVO Y PATRIMONIO
B19: ACTIVO CORRIENTE | C19: $ | D19: PASIVO CORRIENTE | E19: $
B20: ACTIVO FIJO | C20: $ | D20: PASIVO MEDIANO Y LARGO PLAZO | E20: $
B21: OTROS ACTIVOS | C21: $ | D21: TOTAL PASIVO | E21: $
D22: PATRIMONIO | E22: $
B24: TOTAL ACTIVO | C24: $ | D24: TOTAL PASIVO MAS PATRIMONIO | E24: $
B26: UTILIDAD ANTES DE IMPUESTOS | C26: $ | D26: UTILIDAD NETA | E26: $
B28: LOS ABAJO FIRMANTES HACEMOS CONSTAR QUE LOS DATOS CONSIGNADOS EN EL PRESENTE FORMATO SON VERIDICOS POR CUANTO LA EMPRESA CUMPLE CON LO DISPUESTO EN LAS NORMAS CONTABLES QUE LA REGULAN Y NOS SOMETEMOS A LO DISPUESTO EN EL ARTICULO 43 DE LA LEY 222 DE 1995, SIN PERJUICIO DE LAS SANCIONES PENALES A QUE HAYA LUGAR.
B30: ASÍ MISMO MANIFESTAMOS QUE TANTO EL CONTADOR COMO EL REVISOR FISCAL NO HAN SIDO SANCIONADOS POR LA JUNTA CENTRAL DE CONTADORES Y CUENTAN CON EL CERTIFICADO DE INSCRIPCIÓN VIGENTE A LA FECHA DE CIERRE DE LA CONTRATACIÓN.
B34: REPRESENTANTE LEGAL | D34: CONTADOR
B35: NOMBRE: | D35: NOMBRE:
D36: T.P. N°
B37: REVISOR FISCAL
B38: NOMBRE:
B39: T.P.N°
B40: SE RECOMIENDA DILIGENCIAR EN COMPUTADOR O A MAQUINA

Sheet Formulario No. 7
B1: Señores | H1: FORMULARIO No. 7
B2: ALCALDIA MUNICIPAL | H2: CAPACIDAD RESIDUAL
B3: Norcasia Caldas
B5: =+CONCATENATE("REFERENCIA: PROCESO DE SELECCIÓN No. ",#REF!) -> #REF!
B6: Fecha:
B8: Con el fin de acreditar la Capacidad de Contratación Residual (Kr) en SMMLV de acuerdo a lo establecido en el Decreto 1397 de 2012, a continuación nos permitimos relacionar los contratos en ejecución que afectan mi capacidad, en los siguientes términos:
B10: Capital de Trabajo (CTi)*:
B12: Objeto del Contrato en Ejecución (i) | E12: No. | F12: Entidad contratante | G12: Saldo del Contrato -SCi- | H12: Termino pendiente de ejecucion (Mes) - ni - | I12: Forma de Ejecución
I13: I - C - UT (nota 1) | J13: Pi%
I14: =IF(H14=0,"",G14/H14) | K14: =+IF(H14=0,"",G14/H14*J14)
I15: =IF(H15=0,"",G15/H15) | K15: =+IF(H15=0,"",G15/H15*J15)
I16: =IF(H16=0,"",G16/H16) | K16: =+IF(H16=0,"",G16/H16*J16)
I17: =IF(H17=0,"",G17/H17) | K17: =+IF(H17=0,"",G17/H17*J17)
I18: =IF(H18=0,"",G18/H18) | K18: =+IF(H18=0,"",G18/H18*J18)
I19: =IF(H19=0,"",G19/H19) | K19: =+IF(H19=0,"",G19/H19*J19)
I20: =IF(H20=0,"",G20/H20) | K20: =+IF(H20=0,"",G20/H20*J20)
B21: SUMATORIAS | K21: =SUM(K14:K20) -> 0
F24: CRj= | G24: =+D10-K21 -> 0 | H24: >
B27: La información aquí presentada, es veraz y se presenta bajo la gravedad de juramento, que se entiende prestada con la suscripción del mismo.
B28: En caso que el (los) contrato (s) relacionado (s) en el formulario sea ejecutado por Consorcio o Union Temporal, el valor consignado sera el correspondiente al porcentaje de participacion del integrante.
B29: Atentamente,
B31: Nombre Persona Natural o Representante Legal-Persona Jurídica:
B35: Firma

Sheet Formulario No. 8
B1: NORCASIA CALDAS
B2: ALCALDIA MUNICIPAL
B3: =+#REF! -> #REF!
B5: OBJETO | C5: =+#REF! -> #REF!
B6: PROPONENTE | C6: =+IF(#REF!=0,"",#REF!) -> #REF!
B8: RELACIÓN DEL EQUIPO
B9: MÍNIMO
B11: IDENTIFICACIÓN DEL OFRECIMIENTO DEL EQUIPO
B12: NUMERO DE FACTURA DE COMPRA | C12: SI ES ALQUILADO NUMERO DEL FOLIO DE LA CARTA DEL PROPIETARIO | D12: TIPO | E12: MARCA | F12: MODELO | G12: CAPACIDAD | H12: NUMERO SERIAL | I12: AÑO DE FABRICACIÓN | J12: NUMERO DE FOLIO
B27: NOMBRE Y FIRMA DEL REPRESENTANTE LEGAL:________________________________
B30: FECHA:____________________
B33: NOTA: DEBE IDENTIFICARSE CLARAMENTE EL EQUIPO QUE EL PROPONENTE PRESENTA PARA EVALUACION DE CONFORMIDAD CON LOS PLIEGOS DE CONDICIONES. El adjudicatario deberá aportar este formulario dentro de los tres (3) días siguientes a la suscripción del contrato y antes de la orden de inicio.

Sheet Hoja2
A1: 1.1.1
B3: DESCRIPCION | C3: UN | D3: VR UNIT | E3: CANT | F3: VR PARCIAL
B5: MANO DE OBRA
A6: CUADA | B6: MANO DE OBRA CUADRILLA A | C6: HORA | D6: 8142.8 | E6: 788 | F6: =+D6*E6 -> 6416526.4
A7: ACA | B7: ACARREO INTERNO S/ CUADRILLA A | C7: HORA | D7: 8142.8 | E7: 332 | F7: =+D7*E7 -> 2703409.6
A8: COSPENDI | B8: COSTO POR PENDIENTE | C8: % | D8: 9119936 | E8: 0.24 | F8: =+D8*E8 -> 2188784.6
A9: SUBT | B9: SUBTOTAL MANO DE OBRA | F9: =SUM(F6:F8) -> 11308721
B11: EQUIPO
A12: HEMEN | B12: HERRAMIENTA MENOR | C12: % | D12: =+F6 -> 6416526.4 | E12: 0.05 | F12: =+D12*E12 -> 320826.32
A13: SUBTE | B13: SUBTOTAL EQUIPO | F13: =SUM(F12) -> 320826.32
B14: COSTO DIRECTO | F14: =+ROUND(F13+F9,0) -> 11629547

Sheet analisis de precios unitarios 
B1: ANEXO 5
B4: MINISTERIO DE TRANSPORTE
B5: INSTITUTO NACIONAL DE VÍAS | E5: ANÁLISIS DE PRECIOS UNITARIOS
B6: SUBDIRECCION DE
B9: OBJETO :___________________________________________________ | E9: ITEM :______________________________
B10: CARRETERA :_______________________________________________
F11: UNIDAD :__________________
B12: I. EQUIPO
B13: Descripción | D13: Tipo | E13: Tarifa/Hora | F13: Rendimiento | G13: Valor-Unit.
G20: Sub-Total
B21: II. MATERIALES EN OBRA
B22: Descripción | D22: Unidad | E22: Precio-Unit. | F22: Cantidad | G22: Valor-Unit.
G30: Sub-Total
B31: III. TRANSPORTES
B32: Material | C32: Vol-peso ó Cant. | D32: Distancia | E32: M3-Km | F32: Tarifa | G32: Valor-Unit.
G37: Sub-Total
B38: IV. MANO DE OBRA
B39: Trabajador | C39: Jornal | D39: Prestaciones | E39: Jornal Total | F39: Rendimiento | G39: Valor-Unit.
G47: Sub-Total
E49: Total Costo Directo
B50: V. COSTOS INDIRECTOS
B51: Descripción | F51: Porcentaje | G51: Valor Total
G55: Sub-Total
D57: Precio unitario total aproximado al peso
B60: NOMBRE DEL CONTRATISTA:______________________________________ | F60: FECHA:____________________
B62: NOMBRE Y FIRMA DEL REPRESENTANTE LEGAL:______________________

Sheet programa de inversion 
B2: ANEXO No 6. PROGRAMA DE INVERSIONES
C5: Carretera: _____________________________ | H5: Fecha inicio | I5: fecha Vencimiento | L5: CONTRATO DE OBRA
G6: Contratista Obra: ____
C7: Sector: _______________________________ | G7: Contrato No. ____
B8: MINISTERIO DE TRANSPORTE | C8: Abscisa:______________________________ | G8: Valor | L8: PROGRAMA DE INVERSIONES
B9: INSTITUTO NACIONAL DE VIAS | C9: Ruta - Tramo:________ | E9: Longitud en Kms: | G9: Interventor: _____ | L9: Mes: ______
B10: SUBDIRECCION DE | C10: Contratista:___________________________ | G10: Contrato No: _____ | L10: Territorial: _______
C11: Interventoría:__________________________ | K11: Fecha: ___________
B13: ITEMS | C13: UNIDAD | D13: CANTIDAD | E13: PRECIO | F13: TOTAL | G13: % sobre el Valor del Contrato | H13: % Ejecutado sobre el Valor del Contrato | I13: Acta del Mes ______ | J13: Acta del Mes ______ | K13: Acta del Mes ______ | L13: Acta del Mes ______ | M13: Acta del Mes ______
N14: %
N16: 100
N17: 90
N18: 80
N19: 70
N20: 60
N21: 50
N22: 40
N23: 30
N24: 20
N25: 10
B27: VALOR BÁSICO TOTAL | F27: INVERSION | H27: Miles de $
F28: PROGRAMADA MES | H28: %
F29: INVERSION | H29: Miles de $
F30: EJECUTADA MES | H30: %
F31: INVERSION | H31: Miles de $
F32: PROGRAMADA ACUMUL. | H32: %
F33: INVERSION | H33: Miles de $
F34: EJECUTADA ACUMUL. | H34: %
B40: Nombre y Firma del Director de Obra ________________________________________ | G40: Nombre y Firma del Director de la Interventoría ________________________________________
B45: Nombre y Firma del Supervisor Contrato________________________________________ | G45: Nombre y Firma del Subdirector ________________________________________

Sheet Formulario No.9
B2: FORMULARIO No. 9
G6: PROGRAMA DE GENERACION DE EMPLEO
B10: OBJETO : | C10: =+#REF! -> #REF!
B11: PROPONENTE : | C11: =+IF(#REF!=0,"",#REF!) -> #REF!
B13: ACTIVIDAD | C13: EMPLEOS GENERADOS
C14: Mes 1 | E14: Mes 2 | G14: Mes 3 | I14: Mes 4 | K14: Mes ...n
C15: calificados | D15: No calific. | E15: calificados | F15: No calific. | G15: calificados | H15: No calific. | I15: calificados | J15: No calific. | K15: calificados | L15: No calific.
B32: TOTAL (mensual)
B35: NOMBRE DEL CONTRATISTA:______________________________________ | I35: FECHA:____________________
B38: NOMBRE Y FIRMA DEL REPRESENTANTE LEGAL:________________________________

Sheet Hoja3

Sheet RUP
A1: 01 CONSTRUCTOR | D1: CODIGO | E1: Filtro
A2: ESPECIALIDAD | B2: 01 | C2: OBRAS CIVILES HIDRAULICAS | D2: 0101
B3: Grupo | C3: Nombre
B4: 01 | C4: Presas, diques y muelles. | D4: =+CONCATENATE($D$2,B4) -> 010101
B5: 02 | C5: Regulación y control de ríos. | D5: =+CONCATENATE($D$2,B5) -> 010102
B6: 03 | C6: Sistemas de irrigación y drenaje. | D6: =+CONCATENATE($D$2,B6) -> 010103
B7: 04 | C7: Dragados y canales. | D7: =+CONCATENATE($D$2,B7) -> 010104
B8: 05 | C8: Aguas subterráneas y pozos profundos. | D8: =+CONCATENATE($D$2,B8) -> 010105
B9: 06 | C9: Generación y modificación de playas. | D9: =+CONCATENATE($D$2,B9) -> 010106
B10: 07 | C10: Conducción de aguas. | D10: =+CONCATENATE($D$2,B10) -> 010107
A11: ESPECIALIDAD | B11: 02 | C11: OBRAS SANITARIAS Y AMBIENTALES | D11: 0102
B12: Grupo | C12: Nombre
B13: 01 | C13: Redes de distribución de agua potable. | D13: =+CONCATENATE($D$11,B13) -> 010201
B14: 02 | C14: Redes de distribución de aguas servidas. | D14: =+CONCATENATE($D$11,B14) -> 010202
B15: 03 | C15: Estaciones de bombeo. | D15: =+CONCATENATE($D$11,B15) -> 010203
B16: 04 | C16: Plantas de tratamiento. | D16: =+CONCATENATE($D$11,B16) -> 010204
B17: 05 | C17: Tanques de almacenamiento. | D17: =+CONCATENATE($D$11,B17) -> 010205
B18: 06 | C18: Protección y control de erosiones. | D18: =+CONCATENATE($D$11,B18) -> 010206
B19: 07 | C19: Recuperación ecológica y morfológica. | D19: =+CONCATENATE($D$11,B19) -> 010207
B20: 08 | C20: Empradización. | D20: =+CONCATENATE($D$11,B20) -> 010208
B21: 09 | C21: Revegetalización o formación de cobertura vegetal. | D21: =+CONCATENATE($D$11,B21) -> 010209
B22: 10 | C22: Rellenos Sanitarios. | D22: =+CONCATENATE($D$11,B22) -> 010210
B23: 11 | C23: Pozos sépticos. | D23: =+CONCATENATE($D$11,B23) -> 010211
B24: 12 | C24: Manejo y control ambiental. | D24: =+CONCATENATE($D$11,B24) -> 010212
B25: 13 | C25: Explotación de los recursos naturales. | D25: =+CONCATENATE($D$11,B25) -> 010213
A26: ESPECIALIDAD | B26: 03 | C26: SISTEMAS DE COMUNICACIÓN Y OBRAS COMPLEMENTARIAS | D26: 0103
B27: Grupo | C27: Nombre
B28: 01 | C28: Centrales telefónicas. | D28: =+CONCATENATE($D$26,B28) -> 010301
B29: 02 | C29: Redes de fibra óptica. | D29: =+CONCATENATE($D$26,B29) -> 010302
B30: 03 | C30: Redes de transmisión de datos. | D30: =+CONCATENATE($D$26,B30) -> 010303
B31: 04 | C31: Antenas y equipos de repetición. | D31: =+CONCATENATE($D$26,B31) -> 010304
B32: 05 | C32: Redes de computación y conmutación. | D32: =+CONCATENATE($D$26,B32) -> 010305
A33: ESPECIALIDAD | B33: 04 | C33: EDIFICACIONES Y OBRAS DE URBANISMO | D33: 0104
B34: Grupo | C34: Nombre
B35: 01 | C35: Edificaciones sencillas hasta 500m2 y de alturas menores de 15 metros. | D35: =+CONCATENATE($D$33,B35) -> 010401
B36: 02 | C36: Edificaciones mayores de 500m2 y de alturas mayores de 15 metros. | D36: =+CONCATENATE($D$33,B36) -> 010402
B37: 03 | C37: Remodelaciones, conservación y mantenimiento. | D37: =+CONCATENATE($D$33,B37) -> 010403
B38: 04 | C38: Restauración de edificaciones. | D38: =+CONCATENATE($D$33,B38) -> 010404
B39: 05 | C39: Parques, obras de urbanismo, paisajismo y complementarias. | D39: =+CONCATENATE($D$33,B39) -> 010405
B40: 06 | C40: Estructuras de concreto convencionales. | D40: =+CONCATENATE($D$33,B40) -> 010406
...

Sheet MONTOS
A1: Ley 1150 de 2007 ARTÍCULO 2. De las modalidades de selección
A3: Presupuesto Municipio: | C3: 22250000000
A4: SMMLV (2012): | C4: 566700
A5: Ppto en SMMLV: | C5: =+C3/C4 -> 39262.396
A7: MONTO PARA LA MENOR CUANTIA DEL MUNICIPIO
A8: =+IF(C5<120000,280*C4,IF(C5<400000,C4*450,IF(C5<850000,C4*650,IF(C5<1200000,C4*850,C4*1000)))) -> 158676000
A11: DESDE | B11: HASTA | C11: SMMLV | D11: VALOR EN PESOS
A12: 0 | B12: 120000 | C12: 280 | D12: =+C12*$C$4 -> 158676000
A13: 120000 | B13: 400000 | C13: 450 | D13: =+C13*$C$4 -> 255015000
A14: 400000 | B14: 850000 | C14: 650 | D14: =+C14*$C$4 -> 368355000
A15: 850000 | B15: 1200000 | C15: 850 | D15: =+C15*$C$4 -> 481695000
A16: 1200000 | C16: 1000 | D16: =+C16*$C$4 -> 566700000
