Workbook
Name \a: #REF!
Name \a: #REF!
Name \a: #REF!
Name \b: #REF!
Name \b: #REF!
Name \b: #REF!
Name \c: #REF!
Name \c: #REF!
Name \c: #REF!
Name \l: #REF!
Name \l: #REF!
Name \l: #REF!
Name a: #REF!
Name a: #REF!
Name a: #REF!
Name A_impresión_IM: #REF!
Name A_impresión_IM: #REF!
Name A_impresión_IM: #REF!
Name aiu_mat: [1]PRESUPUESTO!$AD$891
Name campamentos: [1]PRESUPUESTO!$AD$883
Name CUAESTRUCT: #REF!
Name CUAESTRUCT: #REF!
Name CUAESTRUCT: #REF!
Name CUAPRUEBAS: #REF!
Name CUAPRUEBAS: #REF!
Name CUAPRUEBAS: #REF!
Name equipos: [1]PRESUPUESTO!$AD$876
Name FM: #REF!
Name FM: #REF!
Name FM: #REF!
Name FMA: #REF!
Name FMA: #REF!
Name FMA: #REF!
Name FMB: #REF!
Name FMB: #REF!
Name FMB: #REF!
Name FMC: #REF!
Name FMC: #REF!
Name FMC: #REF!
Name FMD: #REF!
Name FMD: #REF!
Name FMD: #REF!
Name FME: #REF!
Name FME: #REF!
Name FME: #REF!
Name fmr: #REF!
Name fmr: #REF!
Name fmr: #REF!
Name g: #REF!
Name g: #REF!
Name g: #REF!
Name gastos_contrato: [1]PRESUPUESTO!$AD$885
Name herramientas: [1]PRESUPUESTO!$AD$878
Name INDI1: #REF!
Name INDI1: #REF!
Name INDI1: #REF!
Name inst_provis: [1]PRESUPUESTO!$AD$882
Name mano_obra_apoyo: [1]PRESUPUESTO!$AD$881
Name mano_obra_direccion: [1]PRESUPUESTO!$AD$880
Name mano_obra_directa: [1]PRESUPUESTO!$AD$872

Sheet MC 3,1
D2: MEMORIA DE CALCULO DE CANTIDADES DE OBRA | I2: Página 1 de 1
I3: Código: F-GIN-103 Versión: 3 Fecha: ENERO/2020
D4: Público Reservado Clasificado
B10: CAPÍTULO: | E10: DESCRIPCIÓN ÍTEM
B11: ITEM Nº. | D11: UNIDAD | E11: ='PRESUPUESTO PLAZA 07042022'!B5 -> Excavación manual de material heterogéneo de 0-2 m., bajo cualquier grado de humedad. Incluye: roca descompuesta, bolas de roca de volumen inferior a 0.35 m³., el cargue, transporte interno y externo, botada de material proveniente de las excavaciones en los sitios donde lo indique la interventoría y su medida será en el sitio. No incluye entibado.
B12: 3.1 | D12: M3
E13: LOCALIZACIÓN | F13: MEDIDAS | I13: CANTIDAD | J13: TOTAL
F14: LARGO (m) | G14: ANCHO (m) | H14: ALTO (m)
E16: EXCAVACIONES | I16: 268 | J16: =I16 -> 268
E35: SUBTOTAL | J35: =SUM(J15:J34) -> 268
F36: CONTINUA EN LA FICHA FICHA Nº
E37: CANTIDAD | J37: =+J35+J36 -> 268
E38: OBSERVACIONES:
D43: NOMBRE
D44: FIRMA

Sheet MC 3,2
C2: MEMORIA DE CALCULO DE CANTIDADES DE OBRA | H2: Página 1 de 1
H3: Código: F-GIN-103 Versión: 3 Fecha: ENERO/2020
C4: Público Reservado Clasificado
A10: CAPÍTULO: | D10: DESCRIPCIÓN ÍTEM
A11: ITEM Nº. | C11: UNIDAD | D11: ='PRESUPUESTO PLAZA 07042022'!B6 -> Excavación mecanica bajo cualquier grado de humedad. Incluye: roca descompuesta, bolas de roca de volumen inferior a 0.35 m³., el cargue, transporte interno y externo, botada de material proveniente de las excavaciones en los sitios donde lo indique la interventoría y su medida será en el sitio. No incluye entibado.
A12: 3.2 | C12: M2
D13: LOCALIZACIÓN | E13: MEDIDAS | H13: CANTIDAD | I13: TOTAL
E14: LARGO (m) | F14: ANCHO (m) | G14: ALTO (m)
D16: EXCAVACIONES | H16: 266 | I16: =H16 -> 266
D35: SUBTOTAL | I35: =SUM(I15:I34) -> 266
E36: CONTINUA EN LA FICHA FICHA Nº
D37: CANTIDAD | I37: =+I35+I36 -> 266
D38: OBSERVACIONES:
C43: NOMBRE
C44: FIRMA

Sheet 3,5
D1: MEMORIA DE CALCULO DE CANTIDADES DE OBRA | I1: Página 1 de 1
B4: PROYECTO: CENTRO COMERCIAL AGROPECUARIO PLAZA DE MERCADO
B5: DIRECCIÓN OBRA: CARMEN DE VIBORAL - ANTIOQUIA
B6: CONSULTORIA: | E6: LLENOS CON LIMO
B8: CAPÍTULO: | C8: MOVIMIENTOS DE TIERRA Y LLENOS
B9: ITEM Nº. | D9: UNIDAD | E9: ='[3]PRESUPUESTO PLAZA DPS V29032022'!C7 -> Llenos con material de préstamo, compactados mecánicamente hasta obtener una densidad del 98% de la máxima obtenida en el ensayo del próctor modificado. Incluye el suministro, transporte, colocación de material, la compactación de la misma y transporte interno. Y su medida será en sitio ya compactado.
D10: =+[4]PRESUPUESTO!C13 -> M3
E11: LOCALIZACIÓN | F11: MEDIDAS | I11: CANTIDAD | J11: TOTAL
F12: ALTO (m) | G12: ANCHO (m) | H12: LARGO (m)
E13: PLATAFORMA PLAZA | F13: 0.05 | G13: 26.6 | H13: 100 | I13: 1 | J13: =+ROUND((F13*I13*G13*H13),2) -> 133
E147: ZAPATAS
E148: EJE A | F148: 1 | G148: 1 | H148: 1 | I148: 18 | J148: =+ROUND((F148*I148*G148*H148),2) -> 18
E149: EJE B | F149: 1 | G149: =+$G$13 -> 26.6 | H149: 1 | I149: 2 | J149: =+ROUND((F149*I149*G149*H149),2) -> 53.2
E150: EJE B | F150: 1 | G150: 1.6 | H150: 1.6 | I150: 12 | J150: =+ROUND((F150*I150*G150*H150),2) -> 30.72
E151: EJE B | F151: 1 | G151: 1.8 | H151: 1.8 | I151: 4 | J151: =+ROUND((F151*I151*G151*H151),2) -> 12.96
E152: EJE C | F152: 1 | G152: 1.6 | H152: 1.6 | I152: 4 | J152: =+ROUND((F152*I152*G152*H152),2) -> 10.24
E153: EJE F | F153: 1 | G153: =+$G$13 -> 26.6 | H153: 1 | I153: 2 | J153: =+ROUND((F153*I153*G153*H153),2) -> 53.2
E154: EJE F | F154: 1 | G154: 1.6 | H154: 1.6 | I154: 12 | J154: =+ROUND((F154*I154*G154*H154),2) -> 30.72
E155: EJE F | F155: 1 | G155: 1.8 | H155: 1.8 | I155: 4 | J155: =+ROUND((F155*I155*G155*H155),2) -> 12.96
E156: EJE G | F156: 1 | G156: 1 | H156: 1 | I156: 18 | J156: =+ROUND((F156*I156*G156*H156),2) -> 18
E164: SUBTOTAL | J164: =SUM(J13:J163) -> 373
F165: CONTINUA EN LA FICHA FICHA Nº
E166: CANTIDAD | J166: =+J164+J165 -> 373
E167: OBSERVACIONES:
D172: NOMBRE
D173: FIRMA

Sheet MC 3,5
C2: MEMORIA DE CALCULO DE CANTIDADES DE OBRA | H2: Página 1 de 1
H3: Código: F-GIN-103 Versión: 3 Fecha: ENERO/2020
C4: Público Reservado Clasificado
A10: CAPÍTULO: | D10: DESCRIPCIÓN ÍTEM
A11: ITEM Nº. | C11: UNIDAD | D11: ='PRESUPUESTO PLAZA 07042022'!B7 -> Llenos con material de préstamo, compactados mecánicamente hasta obtener una densidad del 98% de la máxima obtenida en el ensayo del próctor modificado. Incluye el suministro, transporte, colocación de material, la compactación de la misma y transporte interno. Y su medida será en sitio ya compactado.
A12: 3.5 | C12: M3
D13: LOCALIZACIÓN | E13: MEDIDAS | H13: CANTIDAD | I13: TOTAL
E14: LARGO (m) | F14: ANCHO (m) | G14: ALTO (m)
D16: LLENOS | H16: 345.8 | I16: =H16 -> 345.8
D35: SUBTOTAL | I35: =SUM(I15:I34) -> 345.8
E36: CONTINUA EN LA FICHA FICHA Nº
D37: CANTIDAD | I37: =+I35+I36 -> 345.8
D38: OBSERVACIONES:
C43: NOMBRE
C44: FIRMA

Sheet MC 3,6
C2: MEMORIA DE CALCULO DE CANTIDADES DE OBRA | H2: Página 1 de 1
H3: Código: F-GIN-103 Versión: 3 Fecha: ENERO/2020
C4: Público Reservado Clasificado
A10: CAPÍTULO: | D10: DESCRIPCIÓN ÍTEM
A11: ITEM Nº. | C11: UNIDAD | D11: ='PRESUPUESTO PLAZA 07042022'!B8 -> Llenos con material proveniente de excavación compactados mecánicamente. Incluye transporte interno. Su medida será en sitio ya compactado.
A12: 3.6 | C12: M3
D13: LOCALIZACIÓN | E13: MEDIDAS | H13: CANTIDAD | I13: TOTAL
E14: LARGO (m) | F14: ANCHO (m) | G14: ALTO (m)
D16: LLENOS | H16: 20 | I16: =H16 -> 20
D35: SUBTOTAL | I35: =SUM(I15:I34) -> 20
E36: CONTINUA EN LA FICHA FICHA Nº
D37: CANTIDAD | I37: =+I35+I36 -> 20
D38: OBSERVACIONES:
C43: NOMBRE
C44: FIRMA

Sheet MC 3,7
C2: MEMORIA DE CALCULO DE CANTIDADES DE OBRA | H2: Página 1 de 1
H3: Código: F-GIN-103 Versión: 3 Fecha: ENERO/2020
C4: Público Reservado Clasificado
A10: CAPÍTULO: | D10: DESCRIPCIÓN ÍTEM
A11: ITEM Nº. | C11: UNIDAD | D11: Suministro, transporte y colocación de base granular de máximo Ø 1½", reacomodado con medios mecánicos y compactado al 95% mínimo del ensayo del proctor modificado, según normas para la construcción de pavimentos en el Valle de Aburrá, y todo lo necesario para su correcta construcción y funcionamiento Su medida sera tomada en sitio ya compactado.
A12: 3.7 | C12: M3
D13: LOCALIZACIÓN | E13: MEDIDAS | H13: CANTIDAD | I13: TOTAL
E14: LARGO (m) | F14: ANCHO (m) | G14: ALTO (m)
D16: LLENOS | E16: 151.73 | F16: 23.3 | G16: 0.3 | H16: 1060.57 | I16: =H16 -> 1060.57
D35: SUBTOTAL | I35: =SUM(I15:I34) -> 1060.57
E36: CONTINUA EN LA FICHA FICHA Nº
D37: CANTIDAD | I37: =+I35+I36 -> 1060.57
D38: OBSERVACIONES:
C43: NOMBRE
C44: FIRMA

Sheet 4,1
D1: MEMORIA DE CALCULO DE CANTIDADES DE OBRA | I1: Página 1 de 1
B4: PROYECTO: CENTRO COMERCIAL AGROPECUARIO PLAZA DE MERCADO
B5: DIRECCIÓN OBRA: CARMEN DE VIBORAL - ANTIOQUIA
B6: CONSULTORIA: | E6: LLENOS
B8: CAPÍTULO: | C8: MOVIMIENTOS DE TIERRA Y LLENOS
B9: ITEM Nº. | D9: UNIDAD | E9: ='[3]PRESUPUESTO PLAZA DPS V29032022'!C10 -> Concreto preparado en obra de 21 MPa para estructuras con acabado a la vista. Incluye suministro, transporte e instalación del concreto, mano de obra, vibrado, protección y curado, para estructuras de acuerdo con las diferentes dimensiones establecidas en los planos y diseños. No incluye acero de refuerzo. Según diseño.
D10: =+[4]PRESUPUESTO!C13 -> M3
E11: LOCALIZACIÓN | F11: MEDIDAS | I11: CANTIDAD | J11: TOTAL
F12: ALTO (m) | G12: ANCHO (m) | H12: LARGO (m)
E13: EJE A | F13: 0.4 | G13: 1 | H13: 1 | I13: 18 | J13: =+ROUND((F13*I13*G13*H13),2) -> 7.2
E14: EJE B | F14: 0.4 | G14: =+$G$13 -> 1 | H14: 1 | I14: 2 | J14: =+ROUND((F14*I14*G14*H14),2) -> 0.8
E15: EJE B | F15: 0.4 | G15: 1.6 | H15: 1.6 | I15: 12 | J15: =+ROUND((F15*I15*G15*H15),2) -> 12.29
E16: EJE B | F16: 0.4 | G16: 1.8 | H16: 1.8 | I16: 4 | J16: =+ROUND((F16*I16*G16*H16),2) -> 5.18
E17: EJE C | F17: 0.4 | G17: 1.6 | H17: 1.6 | I17: 4 | J17: =+ROUND((F17*I17*G17*H17),2) -> 4.1
E18: EJE F | F18: 0.4 | G18: =+$G$13 -> 1 | H18: 1 | I18: 2 | J18: =+ROUND((F18*I18*G18*H18),2) -> 0.8
E19: EJE F | F19: 0.4 | G19: 1.6 | H19: 1.6 | I19: 12 | J19: =+ROUND((F19*I19*G19*H19),2) -> 12.29
E20: EJE F | F20: 0.4 | G20: 1.8 | H20: 1.8 | I20: 4 | J20: =+ROUND((F20*I20*G20*H20),2) -> 5.18
E21: EJE G | F21: 0.4 | G21: 1 | H21: 1 | I21: 18 | J21: =+ROUND((F21*I21*G21*H21),2) -> 7.2
E148: PLATAFORMA PLAZA | F148: 0.08 | G148: 26.8 | H148: 100 | I148: 1 | J148: =+ROUND((F148*I148*G148*H148),2) -> 214.4
J149: =+ROUND((F149*I149*G149*H149),2) -> 0
E150: COLUMNAS | F150: 5 | G150: 0.3 | H150: 0.6 | I150: 76 | J150: =+ROUND((F150*I150*G150*H150),2) -> 68.4
J151: =+ROUND((F151*I151*G151*H151),2) -> 0
E152: VIGAS FUNDACION | F152: 0.4 | G152: 0.5 | H152: 100 | I152: 5 | J152: =+ROUND((F152*I152*G152*H152),2) -> 100
E153: VIGAS FUNDACION | F153: 0.4 | G153: 0.5 | H153: 26.6 | I153: 18 | J153: =+ROUND((F153*I153*G153*H153),2) -> 95.76
J154: =+ROUND((F154*I154*G154*H154),2) -> 0
E155: VIGAS CUBIERTA | F155: 0.3 | G155: 0.5 | H155: 100 | I155: 5 | J155: =+ROUND((F155*I155*G155*H155),2) -> 75
E156: VIGAS CUBIERTA | F156: 0.3 | G156: 0.5 | H156: 26.6 | I156: 18 | J156: =+ROUND((F156*I156*G156*H156),2) -> 71.82
J157: =+ROUND((F157*I157*G157*H157),2) -> 0
E158: LOSAS DE CUBIERTA | F158: 0.12 | G158: 6 | H158: 26.6 | I158: 2 | J158: =+ROUND((F158*I158*G158*H158),2) -> 38.3
E159: LOSAS DE CUBIERTA | F159: 0.12 | G159: 100 | H159: 1 | I159: 2 | J159: =+ROUND((F159*I159*G159*H159),2) -> 24
E164: SUBTOTAL | J164: =SUM(J13:J163) -> 742.72
F165: CONTINUA EN LA FICHA FICHA Nº
E166: CANTIDAD | J166: =+J164+J165 -> 742.72
E167: OBSERVACIONES:
D172: NOMBRE
D173: FIRMA

Sheet MC 4,1
C2: MEMORIA DE CALCULO DE CANTIDADES DE OBRA | H2: Página 1 de 1
H3: Código: F-GIN-103 Versión: 3 Fecha: ENERO/2020
C4: Público Reservado Clasificado
A10: CAPÍTULO: | D10: DESCRIPCIÓN ÍTEM
A11: ITEM Nº. | C11: UNIDAD | D11: ='PRESUPUESTO PLAZA 07042022'!B10 -> Concreto preparado en obra de 21 MPa para estructuras con acabado a la vista. Incluye suministro, transporte e instalación del concreto, mano de obra, vibrado, protección y curado, para estructuras de acuerdo con las diferentes dimensiones establecidas en los planos y diseños. No incluye acero de refuerzo. Según diseño.
A12: 4.1 | C12: M3
D13: LOCALIZACIÓN | E13: MEDIDAS | H13: CANTIDAD | I13: TOTAL
E14: LARGO (m) | F14: ANCHO (m) | G14: ALTO (m)
D16: CONCRETO | H16: 742.42 | I16: =H16 -> 742.42
D35: SUBTOTAL | I35: =SUM(I15:I34) -> 742.42
E36: CONTINUA EN LA FICHA FICHA Nº
D37: CANTIDAD | I37: =+I35+I36 -> 742.42
D38: OBSERVACIONES:
C43: NOMBRE
C44: FIRMA

Sheet 4,2
D1: MEMORIA DE CALCULO DE CANTIDADES DE OBRA | I1: Página 1 de 1
B4: PROYECTO: CENTRO COMERCIAL AGROPECUARIO PLAZA DE MERCADO
B5: DIRECCIÓN OBRA: CARMEN DE VIBORAL - ANTIOQUIA
B6: CONSULTORIA:
B8: CAPÍTULO: | C8: =+[4]PRESUPUESTO!B24 -> CIMENTACIÓN Y ESTRUCTURA | E8: DESCRIPCIÓN ÍTEM
B9: ITEM Nº. | D9: UNIDAD | E9: =+[4]PRESUPUESTO!B29 -> SUMINISTRO E INSTALACIÓN ACERO DE REFUERZO DE 60000 PSI
D10: =+[4]PRESUPUESTO!C29 -> KG
E11: LOCALIZACIÓN | F11: MEDIDAS | I11: CANTIDAD | J11: TOTAL
F12: ALTO (m) | G12: ANCHO (m) | H12: LARGO (m)
E13: VIGAS DE CIMENTACIÓN
E14: VIGA 2,7,8 | F14: KG/ML | G14: No. DE VARILLAS | H14: LARGO (m) | I14: CANTIDAD VIGAS
E15: REFUERZO SUPERIOR (No.5) | F15: 1.552 | G15: 3 | H15: =8.3+12 -> 20.3 | I15: 3 | J15: =+ROUND((I15*F15*H15*G15),2) -> 283.55
E16: REFUERZO INFERIOR (No.5) | F16: 1.552 | G16: 3 | H16: =10.5+8 -> 18.5 | I16: =+$I$15 -> 3 | J16: =+ROUND((I16*F16*H16*G16),2) -> 258.41
E17: FLEJES A-B | F17: 0.56 | G17: 38 | H17: 1.15 | I17: =+$I$15 -> 3 | J17: =+ROUND((I17*F17*H17*G17),2) -> 73.42
E18: FLEJES B-C | F18: 0.56 | G18: 57 | H18: 1.15 | I18: =+$I$15 -> 3 | J18: =+ROUND((I18*F18*H18*G18),2) -> 110.12
E19: FLEJES C-D | F19: 0.56 | G19: 30 | H19: 1.15 | I19: =+$I$15 -> 3 | J19: =+ROUND((I19*F19*H19*G19),2) -> 57.96
E20: VIGA 3' Y 5' | F20: KG/ML | G20: No. DE VARILLAS | H20: LARGO (m) | I20: CANTIDAD VIGAS
E21: REFUERZO SUPERIOR (No.5) | F21: 1.552 | G21: 3 | H21: 9 | I21: 2 | J21: =+ROUND((I21*F21*H21*G21),2) -> 83.81
E22: REFUERZO INFERIOR (No.5) | F22: 1.552 | G22: 2 | H22: 9 | I22: =+$I$21 -> 2 | J22: =+ROUND((I22*F22*H22*G22),2) -> 55.87
E23: FLEJES B'-C | F23: 0.56 | G23: 20 | H23: 1.15 | I23: =+$I$21 -> 2 | J23: =+ROUND((I23*F23*H23*G23),2) -> 25.76
E24: FLEJES C-D | F24: 0.56 | G24: 33 | H24: 1.15 | I24: =+$I$21 -> 2 | J24: =+ROUND((I24*F24*H24*G24),2) -> 42.5
E25: VIGA 3 Y 6 | F25: KG/ML | G25: No. DE VARILLAS | H25: LARGO (m) | I25: CANTIDAD VIGAS
E26: REFUERZO SUPERIOR (No.5) | F26: 1.552 | G26: 3 | H26: =11.4+12+10+9.8 -> 43.2 | I26: 2 | J26: =+ROUND((I26*F26*H26*G26),2) -> 402.28
E27: REFUERZO INFERIOR (No.5) | F27: 1.552 | G27: 3 | H27: =7.8+8+12+9.4+7 -> 44.2 | I27: =+$I$26 -> 2 | J27: =+ROUND((I27*F27*H27*G27),2) -> 411.59
E28: FLEJES D-E | F28: 0.56 | G28: 22 | H28: 1.15 | I28: =+$I$26 -> 2 | J28: =+ROUND((I28*F28*H28*G28),2) -> 28.34
E29: FLEJES E-F | F29: 0.56 | G29: 31 | H29: 1.15 | I29: =+$I$26 -> 2 | J29: =+ROUND((I29*F29*H29*G29),2) -> 39.93
E30: FLEJES F-G | F30: 0.56 | G30: 29 | H30: 1.15 | I30: =+$I$26 -> 2 | J30: =+ROUND((I30*F30*H30*G30),2) -> 37.35
E31: FLEJES G-H | F31: 0.56 | G31: 29 | H31: 1.15 | I31: =+$I$26 -> 2 | J31: =+ROUND((I31*F31*H31*G31),2) -> 37.35
E32: FLEJES H-I | F32: 0.56 | G32: 32 | H32: 1.15 | I32: =+$I$26 -> 2 | J32: =+ROUND((I32*F32*H32*G32),2) -> 41.22
E33: FLEJES I-J | F33: 0.56 | G33: 58 | H33: 1.15 | I33: =+$I$26 -> 2 | J33: =+ROUND((I33*F33*H33*G33),2) -> 74.7
E34: FLEJES J-K | F34: 0.56 | G34: 30 | H34: 1.15 | I34: =+$I$26 -> 2 | J34: =+ROUND((I34*F34*H34*G34),2) -> 38.64
E35: FLEJES K-L | F35: 0.56 | G35: 31 | H35: 1.15 | I35: =+$I$26 -> 2 | J35: =+ROUND((I35*F35*H35*G35),2) -> 39.93
E36: VIGA A | F36: KG/ML | G36: No. DE VARILLAS | H36: LARGO (m) | I36: CANTIDAD VIGAS
E37: REFUERZO SUPERIOR (No.5) | F37: 1.552 | G37: 3 | H37: =6+12+9.55 -> 27.55 | I37: 1 | J37: =+ROUND((I37*F37*H37*G37),2) -> 128.27
E38: REFUERZO INFERIOR (No.5) | F38: 1.552 | G38: 3 | H38: =8.1+7.4+12 -> 27.5 | I38: =+$I$37 -> 1 | J38: =+ROUND((I38*F38*H38*G38),2) -> 128.04
E39: FLEJES 2-4 | F39: 0.56 | G39: 49 | H39: 1.15 | I39: =+$I$37 -> 1 | J39: =+ROUND((I39*F39*H39*G39),2) -> 31.56
E40: FLEJES 4-5 | F40: 0.56 | G40: 50 | H40: 1.15 | I40: =+$I$37 -> 1 | J40: =+ROUND((I40*F40*H40*G40),2) -> 32.2
E41: FLEJES 5-7 | F41: 0.56 | G41: 42 | H41: 1.15 | I41: =+$I$37 -> 1 | J41: =+ROUND((I41*F41*H41*G41),2) -> 27.05
E42: FLEJES 7-8 | F42: 0.56 | G42: 26 | H42: 1.15 | I42: =+$I$37 -> 1 | J42: =+ROUND((I42*F42*H42*G42),2) -> 16.74
E43: VIGA B | F43: KG/ML | G43: No. DE VARILLAS | H43: LARGO (m) | I43: CANTIDAD VIGAS
...

Sheet MC 4,2
C2: MEMORIA DE CALCULO DE CANTIDADES DE OBRA | H2: Página 1 de 1
H3: Código: F-GIN-103 Versión: 3 Fecha: ENERO/2020
C4: Público Reservado Clasificado
A10: CAPÍTULO: | D10: DESCRIPCIÓN ÍTEM
A11: ITEM Nº. | C11: UNIDAD | D11: ='PRESUPUESTO PLAZA 07042022'!B11 -> Suministro de acero estructural Grado 60 (fy=4,200 kg/cm²). Incluye Figurado y Colocación. Según diseño.
A12: 4.2 | C12: KG
D13: LOCALIZACIÓN | E13: MEDIDAS | H13: CANTIDAD | I13: TOTAL
E14: LARGO (m) | F14: ANCHO (m) | G14: ALTO (m)
D15: ACERO ESTRUCTURAL | H15: 66463.82 | I15: =H15 -> 66463.82
D35: SUBTOTAL | I35: =SUM(I15:I34) -> 66463.82
E36: CONTINUA EN LA FICHA FICHA Nº
D37: CANTIDAD | I37: =+I35+I36 -> 66463.82
D38: OBSERVACIONES:
C43: NOMBRE
C44: FIRMA

Sheet MC 5,1
C2: MEMORIA DE CALCULO DE CANTIDADES DE OBRA | H2: Página 1 de 1
H3: Código: F-GIN-103 Versión: 3 Fecha: ENERO/2020
C4: Público Reservado Clasificado
A10: CAPÍTULO: | D10: DESCRIPCIÓN ÍTEM
A11: ITEM Nº. | C11: UNIDAD | D11: ='PRESUPUESTO PLAZA 07042022'!B13 -> Construcción de mampostería en ladrillo de 10x20x40cm, revitado ambas caras. Incluye el suministro y transporte del ladrillo, el mortero de pega 1:4 espesor máx.=0.01 m y todos los demás elementos necesarios para su correcta construcción y funcionamiento. Se deben lavar muy bien los muros una vez han sido brechadas debidamente todas las juntas, garantizando una apariencia adecuada para mampostería a la vista.
A12: 5.1 | C12: M2
D13: LOCALIZACIÓN | E13: MEDIDAS | H13: CANTIDAD | I13: TOTAL
E14: LARGO (m) | F14: ANCHO (m) | G14: ALTO (m)
D15: MAMPOSTERIA | H15: 1757.4 | I15: =H15 -> 1757.4
D35: SUBTOTAL | I35: =SUM(I15:I34) -> 1757.4
E36: CONTINUA EN LA FICHA FICHA Nº
D37: CANTIDAD | I37: =+I35+I36 -> 1757.4
D38: OBSERVACIONES:
C43: NOMBRE
C44: FIRMA

Sheet MC 5,2
C2: MEMORIA DE CALCULO DE CANTIDADES DE OBRA | H2: Página 1 de 1
H3: Código: F-GIN-103 Versión: 3 Fecha: ENERO/2020
C4: Público Reservado Clasificado
A10: CAPÍTULO: | D10: DESCRIPCIÓN ÍTEM
A11: ITEM Nº. | C11: UNIDAD | D11: ='PRESUPUESTO PLAZA 07042022'!B14 -> Colocación de revoque con mortero 1:4 impermeabilizado con Sika 1 o equivalente, en muros. Incluye suministro y transporte de los materiales, fajas, ranuras, filetes, y todos los demás elementos necesarios para su correcta construcción.
A12: 5.2 | C12: M2
D13: LOCALIZACIÓN | E13: MEDIDAS | H13: CANTIDAD | I13: TOTAL
E14: LARGO (m) | F14: ANCHO (m) | G14: ALTO (m)
D15: REVOQUES | H15: 3514.8 | I15: =H15 -> 3514.8
D35: SUBTOTAL | I35: =SUM(I15:I34) -> 3514.8
E36: CONTINUA EN LA FICHA FICHA Nº
D37: CANTIDAD | I37: =+I35+I36 -> 3514.8
D38: OBSERVACIONES:
C43: NOMBRE
C44: FIRMA

Sheet MC 5,3
C2: MEMORIA DE CALCULO DE CANTIDADES DE OBRA | H2: Página 1 de 1
H3: Código: F-GIN-103 Versión: 3 Fecha: ENERO/2020
C4: Público Reservado Clasificado
A10: CAPÍTULO: | D10: DESCRIPCIÓN ÍTEM
A11: ITEM Nº. | C11: UNIDAD | D11: ='PRESUPUESTO PLAZA 07042022'!B15 -> Instalación de estuco plástico para interiores y exteriores sobre muros revocados. Incluye suministro y transporte de los materiales, fajas, ranuras, filetes, y todos los demás elementos necesarios para su correcta construcción.
A12: 5.3 | C12: M2
D13: LOCALIZACIÓN | E13: MEDIDAS | H13: CANTIDAD | I13: TOTAL
E14: LARGO (m) | F14: ANCHO (m) | G14: ALTO (m)
D15: ESTUCO | H15: 3514.8 | I15: =H15 -> 3514.8
D35: SUBTOTAL | I35: =SUM(I15:I34) -> 3514.8
E36: CONTINUA EN LA FICHA FICHA Nº
D37: CANTIDAD | I37: =+I35+I36 -> 3514.8
D38: OBSERVACIONES:
C43: NOMBRE
C44: FIRMA

Sheet MC 5,4
C2: MEMORIA DE CALCULO DE CANTIDADES DE OBRA | H2: Página 1 de 1
H3: Código: F-GIN-103 Versión: 3 Fecha: ENERO/2020
C4: Público Reservado Clasificado
A10: CAPÍTULO: | D10: DESCRIPCIÓN ÍTEM
A11: ITEM Nº. | C11: UNIDAD | D11: ='PRESUPUESTO PLAZA 07042022'!B16 -> Aplicación de pintura a base de agua en muros interiores con vinilo tipo 1 de primera calidad sobre muros revocados, estucados o revitados, tres manos o las necesarias hasta obtener una superficie pareja y homogénea. Incluye suministro y transporte de los materiales, resanes, tapa poros en estuco plástico tipo plastestuco o equivalente diluido en agua proporción 1:2, adecuación de la superficie a intervenir hasta obtener una superficie pareja y homogénea, color a definir según aprobación de la interventoría.
A12: 5.4 | C12: M2
D13: LOCALIZACIÓN | E13: MEDIDAS | H13: CANTIDAD | I13: TOTAL
E14: LARGO (m) | F14: ANCHO (m) | G14: ALTO (m)
D15: PINTURAS | H15: 3088.8 | I15: =H15 -> 3088.8
D35: SUBTOTAL | I35: =SUM(I15:I34) -> 3088.8
E36: CONTINUA EN LA FICHA FICHA Nº
D37: CANTIDAD | I37: =+I35+I36 -> 3088.8
D38: OBSERVACIONES:
C43: NOMBRE
C44: FIRMA

Sheet MC 6,1
C2: MEMORIA DE CALCULO DE CANTIDADES DE OBRA | H2: Página 1 de 1
H3: Código: F-GIN-103 Versión: 3 Fecha: ENERO/2020
C4: Público Reservado Clasificado
A10: CAPÍTULO: | D10: DESCRIPCIÓN ÍTEM
A11: ITEM Nº. | C11: UNIDAD | D11: ='PRESUPUESTO PLAZA 07042022'!B19 -> Construcción de mortero para acabados en piso de espesor de 0.08 m., . Incluye suministro y transporte de los materiales, nivelación del terreno y adecuación de la superficie, malla electrosoldada D-84, curado y todo lo necesario para su correcta construcción y funcionamiento. Según diseño. Las excavaciones o descapotes se pagarán en su ítem respectivo.
A12: 6.1 | C12: M2
D13: LOCALIZACIÓN | E13: MEDIDAS | H13: CANTIDAD | I13: TOTAL
E14: LARGO (m) | F14: ANCHO (m) | G14: ALTO (m)
D15: MORTEROS | H15: 2443.54 | I15: =H15 -> 2443.54
D35: SUBTOTAL | I35: =SUM(I15:I34) -> 2443.54
E36: CONTINUA EN LA FICHA FICHA Nº
D37: CANTIDAD | I37: =+I35+I36 -> 2443.54
D38: OBSERVACIONES:
C43: NOMBRE
C44: FIRMA

Sheet MC 6,2
C2: MEMORIA DE CALCULO DE CANTIDADES DE OBRA | H2: Página 1 de 1
H3: Código: F-GIN-103 Versión: 3 Fecha: ENERO/2020
C4: Público Reservado Clasificado
A10: CAPÍTULO: | D10: DESCRIPCIÓN ÍTEM
A11: ITEM Nº. | C11: UNIDAD | D11: ='PRESUPUESTO PLAZA 07042022'!B20 -> Colocación de Piso en Baldosa antideslizante para interiores tipo trafico alto, acabado satinado tipo y calidad Atmósferas o equivalente. Incluye suministro y transporte de los materiales, adhesivo o equivalente, juntas de dilatación y todos los demás elementos necesarios para su correcta construcción y funcionamiento. Muestras previas y color para la aprobación del arquitecto y la interventoría. Los ensayos que se requieran serán por cuenta del contratista y las muestras se escogerán del material puesto en obra. Incluye morteo de nivelación y pulida.
A12: 6.2 | C12: M2
D13: LOCALIZACIÓN | E13: MEDIDAS | H13: CANTIDAD | I13: TOTAL
E14: LARGO (m) | F14: ANCHO (m) | G14: ALTO (m)
D15: MORTEROS | H15: 2443.54 | I15: =H15 -> 2443.54
D35: SUBTOTAL | I35: =SUM(I15:I34) -> 2443.54
E36: CONTINUA EN LA FICHA FICHA Nº
D37: CANTIDAD | I37: =+I35+I36 -> 2443.54
D38: OBSERVACIONES:
C43: NOMBRE
C44: FIRMA

Sheet MC 6,3
C2: MEMORIA DE CALCULO DE CANTIDADES DE OBRA | H2: Página 1 de 1
H3: Código: F-GIN-103 Versión: 3 Fecha: ENERO/2020
C4: Público Reservado Clasificado
A10: CAPÍTULO: | D10: DESCRIPCIÓN ÍTEM
A11: ITEM Nº. | C11: UNIDAD | D11: ='PRESUPUESTO PLAZA 07042022'!B21 -> Construcción de zócalo en media caña en granito pulido y brillado de color igual al de la baldosa, desarrollo de 20 cm, con una altura de 10 cm sobre el nivel de piso acabado y embebido en muro. Incluye mortero de nivelación, cemento color, grano No. 1, varilla de aluminio de 3 mm a lo largo del muro y mediacañas cada 0,90m, cortes en piso y muro, remates, pulida y brillada, y todos los demás elementos necesarios para su correcto vaciado. La capa de desgaste no debe ser inferior a 10 mm después de pulida.
A12: 6.3 | C12: M
D13: LOCALIZACIÓN | E13: MEDIDAS | H13: CANTIDAD | I13: TOTAL
E14: LARGO (m) | F14: ANCHO (m) | G14: ALTO (m)
D15: MORTEROS | H15: 678 | I15: =H15 -> 678
D35: SUBTOTAL | I35: =SUM(I15:I34) -> 678
E36: CONTINUA EN LA FICHA FICHA Nº
D37: CANTIDAD | I37: =+I35+I36 -> 678
D38: OBSERVACIONES:
C43: NOMBRE
C44: FIRMA

Sheet MC 7,1
C2: MEMORIA DE CALCULO DE CANTIDADES DE OBRA | H2: Página 1 de 1
H3: Código: F-GIN-103 Versión: 3 Fecha: ENERO/2020
C4: Público Reservado Clasificado
A10: CAPÍTULO: | D10: DESCRIPCIÓN ÍTEM
A11: ITEM Nº. | C11: UNIDAD | D11: ='PRESUPUESTO PLAZA 07042022'!B24 -> Suministro, transporte e instalación de salidas de abasto en diametro de 1/2"con tubería RDE 9, 500 PSI, incluye todos los accesorios en PVC de diámetro 1/2" que se requieran para su correcta instalación. Estos deberán estar correctamente pegados usando limpiador, soldadura y teflón apropiados, sin presentar fugas, fisuras o cualquier otra clase de anomalía. Se debe garantizar la correcta instalación y funcionamiento. Incluye además las perforaciones (canchas) de paredes o pisos que lo requieran incluyendo cargue, transporte y botada de escombros en botaderos oficiales o donde indique la interventoría.
A12: 7.1 | C12: UNIDAD
D13: LOCALIZACIÓN | E13: MEDIDAS | H13: CANTIDAD | I13: TOTAL
E14: LARGO (m) | F14: ANCHO (m) | G14: ALTO (m)
D15: SALIDAS | H15: 165 | I15: =H15 -> 165
D35: SUBTOTAL | I35: =SUM(I15:I34) -> 165
E36: CONTINUA EN LA FICHA FICHA Nº
D37: CANTIDAD | I37: =+I35+I36 -> 165
D38: OBSERVACIONES:
C43: NOMBRE
C44: FIRMA

Sheet MC 7,2
C2: MEMORIA DE CALCULO DE CANTIDADES DE OBRA | H2: Página 1 de 1
H3: Código: F-GIN-103 Versión: 3 Fecha: ENERO/2020
C4: Público Reservado Clasificado
A10: CAPÍTULO: | D10: DESCRIPCIÓN ÍTEM
A11: ITEM Nº. | C11: UNIDAD | D11: ='PRESUPUESTO PLAZA 07042022'!B25 -> Suministro, transporte e instalación de tubería presión diámetro 1/2", RDE 9, 500 PSI, incluye todos los accesorios en PVC de diámetro 1/2" incluyendo todos los accesorios reducidos que se requieran para su correcta instalación. Estos deberán estar correctamente pegados usando limpiador, soldadura y teflón apropiados, sin presentar fugas, fisuras o cualquier otra clase de anomalía. Se debe garantizar la correcta instalación y funcionamiento. Incluye conexión a red de abasto existente. Incluye además las perforaciones (canchas) de paredes o pisos que lo requieran incluyendo cargue, transporte y botada de escombros en botaderos oficiales o donde indique la interventoría.
A12: 7.2 | C12: M
D13: LOCALIZACIÓN | E13: MEDIDAS | H13: CANTIDAD | I13: TOTAL
E14: LARGO (m) | F14: ANCHO (m) | G14: ALTO (m)
D15: TUBERIAS | H15: 330 | I15: =H15 -> 330
D35: SUBTOTAL | I35: =SUM(I15:I34) -> 330
E36: CONTINUA EN LA FICHA FICHA Nº
D37: CANTIDAD | I37: =+I35+I36 -> 330
D38: OBSERVACIONES:
C43: NOMBRE
C44: FIRMA

Sheet MC 7,3
C2: MEMORIA DE CALCULO DE CANTIDADES DE OBRA | H2: Página 1 de 1
H3: Código: F-GIN-103 Versión: 3 Fecha: ENERO/2020
C4: Público Reservado Clasificado
A10: CAPÍTULO: | D10: DESCRIPCIÓN ÍTEM
A11: ITEM Nº. | C11: UNIDAD | D11: ='PRESUPUESTO PLAZA 07042022'!B26 -> Suministro, transporte e instalación de válvula compuerta marca RW 1/2" o equivalente. Se entregará debidamente instalada sin presencia de fugas ni fisuras, sometida al sistema ya presurizado. Incluye todos los elementos requeridos para su correcta instalación y funcionamiento.
A12: 7.3 | C12: M
D13: LOCALIZACIÓN | E13: MEDIDAS | H13: CANTIDAD | I13: TOTAL
E14: LARGO (m) | F14: ANCHO (m) | G14: ALTO (m)
D15: VALVULA | H15: 138 | I15: =H15 -> 138
D35: SUBTOTAL | I35: =SUM(I15:I34) -> 138
E36: CONTINUA EN LA FICHA FICHA Nº
D37: CANTIDAD | I37: =+I35+I36 -> 138
D38: OBSERVACIONES:
C43: NOMBRE
C44: FIRMA

Sheet MC 7,4
C2: MEMORIA DE CALCULO DE CANTIDADES DE OBRA | H2: Página 1 de 1
H3: Código: F-GIN-103 Versión: 3 Fecha: ENERO/2020
C4: Público Reservado Clasificado
A10: CAPÍTULO: | D10: DESCRIPCIÓN ÍTEM
A11: ITEM Nº. | C11: UNIDAD | D11: ='PRESUPUESTO PLAZA 07042022'!B27 -> Suministro, transporte e instalación de medidor en 1/2" con acometida de 1/2" (el ítem no incluye la tubería de acometida pues está en otro ítem) incluye caja de andén, tee partida o collar de derivación según como se requiera, válvula de incorporación, codos o medios codos de cobre, llave de corte universal, universal, machos cobre, filtro de 1",válvula de paso, cheque y accesorios necesarios para su adecuada instalación de acuerdo a las normas de EE.PP.M. Todos los accesorios serán en 1/2". La rotura de pavimento, cargue, transporte, botada de escombros y pavimentación o parcheo no están incluidas pues se tendrán en cuenta en su ítem respectivo.
A12: 7.4 | C12: UNIDAD
D13: LOCALIZACIÓN | E13: MEDIDAS | H13: CANTIDAD | I13: TOTAL
E14: LARGO (m) | F14: ANCHO (m) | G14: ALTO (m)
D15: MEDIDOR | H15: 90 | I15: =H15 -> 90
D35: SUBTOTAL | I35: =SUM(I15:I34) -> 90
E36: CONTINUA EN LA FICHA FICHA Nº
D37: CANTIDAD | I37: =+I35+I36 -> 90
D38: OBSERVACIONES:
C43: NOMBRE
C44: FIRMA

Sheet MC 7,5
C2: MEMORIA DE CALCULO DE CANTIDADES DE OBRA | H2: Página 1 de 1
H3: Código: F-GIN-103 Versión: 3 Fecha: ENERO/2020
C4: Público Reservado Clasificado
A10: CAPÍTULO: | D10: DESCRIPCIÓN ÍTEM
A11: ITEM Nº. | C11: UNIDAD | D11: ='PRESUPUESTO PLAZA 07042022'!B28 -> Suministro, transporte e instalación de tubería presión diámetro 1", RDE 9, 500 PSI, incluye todos los accesorios en PVC de diámetro 1" incluyendo todos los accesorios reducidos que se requieran para su correcta instalación. Estos deberán estar correctamente pegados usando limpiador, soldadura y teflón apropiados, sin presentar fugas, fisuras o cualquier otra clase de anomalía. Se debe garantizar la correcta instalación y funcionamiento. Incluye conexión a red de abasto existente. Incluye además las perforaciones (canchas) de paredes o pisos que lo requieran incluyendo cargue, transporte y botada de escombros en botaderos oficiales o donde indique la interventoría.
A12: 7.5 | C12: M
D13: LOCALIZACIÓN | E13: MEDIDAS | H13: CANTIDAD | I13: TOTAL
E14: LARGO (m) | F14: ANCHO (m) | G14: ALTO (m)
D15: TUBERIA | H15: 282 | I15: =H15 -> 282
D35: SUBTOTAL | I35: =SUM(I15:I34) -> 282
E36: CONTINUA EN LA FICHA FICHA Nº
D37: CANTIDAD | I37: =+I35+I36 -> 282
D38: OBSERVACIONES:
C43: NOMBRE
C44: FIRMA

Sheet MC 7,6
C2: MEMORIA DE CALCULO DE CANTIDADES DE OBRA | H2: Página 1 de 1
H3: Código: F-GIN-103 Versión: 3 Fecha: ENERO/2020
C4: Público Reservado Clasificado
A10: CAPÍTULO: | D10: DESCRIPCIÓN ÍTEM
A11: ITEM Nº. | C11: UNIDAD | D11: ='PRESUPUESTO PLAZA 07042022'!B29 -> Suministro, transporte e instalación de válvula compuerta marca RW 1" o equivalente. Se entregará debidamente instalada sin presencia de fugas ni fisuras, sometida al sistema ya presurizado. Incluye todos los elementos requeridos para su correcta instalación y funcionamiento.
A12: 7.6 | C12: UNIDAD
D13: LOCALIZACIÓN | E13: MEDIDAS | H13: CANTIDAD | I13: TOTAL
E14: LARGO (m) | F14: ANCHO (m) | G14: ALTO (m)
D15: VALVULA | H15: 5 | I15: =H15 -> 5
D35: SUBTOTAL | I35: =SUM(I15:I34) -> 5
E36: CONTINUA EN LA FICHA FICHA Nº
D37: CANTIDAD | I37: =+I35+I36 -> 5
D38: OBSERVACIONES:
C43: NOMBRE
C44: FIRMA

Sheet MC 7,7
C2: MEMORIA DE CALCULO DE CANTIDADES DE OBRA | H2: Página 1 de 1
H3: Código: F-GIN-103 Versión: 3 Fecha: ENERO/2020
C4: Público Reservado Clasificado
A10: CAPÍTULO: | D10: DESCRIPCIÓN ÍTEM
A11: ITEM Nº. | C11: UNIDAD | D11: ='PRESUPUESTO PLAZA 07042022'!B30 -> Suministro, transporte e instalación de medidor en 1" con acometida de 1" (el ítem no incluye la tubería de acometida pues está en otro ítem) incluye caja de andén, tee partida o collar de derivación según como se requiera, válvula de incorporación, codos o medios codos de cobre, llave de corte universal, universal, machos cobre, filtro de 1",válvula de paso, cheque y accesorios necesarios para su adecuada instalación de acuerdo a las normas de EE.PP.M. Todos los accesorios serán en 1". La rotura de pavimento, cargue, transporte, botada de escombros y pavimentación o parcheo no están incluidas pues se tendrán en cuenta en su ítem respectivo.
A12: 7.7 | C12: UNIDAD
D13: LOCALIZACIÓN | E13: MEDIDAS | H13: CANTIDAD | I13: TOTAL
E14: LARGO (m) | F14: ANCHO (m) | G14: ALTO (m)
D15: MEDIDOR | H15: 1 | I15: =H15 -> 1
D35: SUBTOTAL | I35: =SUM(I15:I34) -> 1
E36: CONTINUA EN LA FICHA FICHA Nº
D37: CANTIDAD | I37: =+I35+I36 -> 1
D38: OBSERVACIONES:
C43: NOMBRE
C44: FIRMA

Sheet MC 7,8
C2: MEMORIA DE CALCULO DE CANTIDADES DE OBRA | H2: Página 1 de 1
H3: Código: F-GIN-103 Versión: 3 Fecha: ENERO/2020
C4: Público Reservado Clasificado
A10: CAPÍTULO: | D10: DESCRIPCIÓN ÍTEM
A11: ITEM Nº. | C11: UNIDAD | D11: ='PRESUPUESTO PLAZA 07042022'!B31 -> Suministro, transporte e instalación de salida sanitaria de 1-1/2". Incluye todos los accesorios hasta el tapón de prueba. Se pagará dicha salida hasta un recorrido máximo de tubería no mayor a 2 m. Estos deberán estar correctamente pegados usando limpiador, soldadura y teflón apropiados, sin presentar fugas, fisuras o cualquier otra clase de anomalía. Incluye además las perforaciones (canchas) de paredes o pisos que lo requieran incluyendo cargue, transporte y botada de escombros en botaderos oficiales o donde indique la interventoría o supervisión de obra.
A12: 7.8 | C12: UNIDAD
D13: LOCALIZACIÓN | E13: MEDIDAS | H13: CANTIDAD | I13: TOTAL
E14: LARGO (m) | F14: ANCHO (m) | G14: ALTO (m)
D15: SALIDAS | H15: 150 | I15: =H15 -> 150
D35: SUBTOTAL | I35: =SUM(I15:I34) -> 150
E36: CONTINUA EN LA FICHA FICHA Nº
D37: CANTIDAD | I37: =+I35+I36 -> 150
D38: OBSERVACIONES:
C43: NOMBRE
C44: FIRMA

Sheet MC 7,9
C2: MEMORIA DE CALCULO DE CANTIDADES DE OBRA | H2: Página 1 de 1
H3: Código: F-GIN-103 Versión: 3 Fecha: ENERO/2020
C4: Público Reservado Clasificado
A10: CAPÍTULO: | D10: DESCRIPCIÓN ÍTEM
A11: ITEM Nº. | C11: UNIDAD | D11: ='PRESUPUESTO PLAZA 07042022'!B32 -> Suministro, transporte e instalación de tubería sanitaria de 1-1/2". Incluye todos los accesorios en PVC de diámetro 1 1/2" incluyendo todos los accesorios reducidos que se requieran para su correcta instalación. Estos deberán estar correctamente pegados usando limpiador, soldadura y teflón apropiados, sin presentar fugas, fisuras o cualquier otra clase de anomalía. Se debe garantizar la correcta instalación y funcionamiento. Incluye conexión a red sanitaria existente. Incluye además las perforaciones (canchas) de paredes o pisos que lo requieran incluyendo cargue, transporte y botada de escombros en botaderos oficiales o donde indique la interventoría.
A12: 7.9 | C12: M
D13: LOCALIZACIÓN | E13: MEDIDAS | H13: CANTIDAD | I13: TOTAL
E14: LARGO (m) | F14: ANCHO (m) | G14: ALTO (m)
D15: TUBERIA | H15: 75 | I15: =H15 -> 75
D35: SUBTOTAL | I35: =SUM(I15:I34) -> 75
E36: CONTINUA EN LA FICHA FICHA Nº
D37: CANTIDAD | I37: =+I35+I36 -> 75
D38: OBSERVACIONES:
C43: NOMBRE
C44: FIRMA

Sheet MC 7,10
C2: MEMORIA DE CALCULO DE CANTIDADES DE OBRA | H2: Página 1 de 1
H3: Código: F-GIN-103 Versión: 3 Fecha: ENERO/2020
C4: Público Reservado Clasificado
A10: CAPÍTULO: | D10: DESCRIPCIÓN ÍTEM
A11: ITEM Nº. | C11: UNIDAD | D11: ='PRESUPUESTO PLAZA 07042022'!B33 -> Suministro, transporte e instalación de salida sanitaria de 2". Incluye todos los accesorios hasta el tapón de prueba. Se pagará dicha salida hasta un recorrido máximo de tubería no mayor a 2 m. Estos deberán estar correctamente pegados usando limpiador, soldadura y teflón apropiados, sin presentar fugas, fisuras o cualquier otra clase de anomalía. Incluye además las perforaciones (canchas) de paredes o pisos que lo requieran incluyendo cargue, transporte y botada de escombros en botaderos oficiales o donde indique la interventoría o supervisión de obra.
A12: 7.1 | C12: UNIDAD
D13: LOCALIZACIÓN | E13: MEDIDAS | H13: CANTIDAD | I13: TOTAL
E14: LARGO (m) | F14: ANCHO (m) | G14: ALTO (m)
D15: SALIDA | H15: 195 | I15: =H15 -> 195
D35: SUBTOTAL | I35: =SUM(I15:I34) -> 195
E36: CONTINUA EN LA FICHA FICHA Nº
D37: CANTIDAD | I37: =+I35+I36 -> 195
D38: OBSERVACIONES:
C43: NOMBRE
C44: FIRMA

Sheet MC 7,11
C2: MEMORIA DE CALCULO DE CANTIDADES DE OBRA | H2: Página 1 de 1
H3: Código: F-GIN-103 Versión: 3 Fecha: ENERO/2020
C4: Público Reservado Clasificado
A10: CAPÍTULO: | D10: DESCRIPCIÓN ÍTEM
A11: ITEM Nº. | C11: UNIDAD | D11: ='PRESUPUESTO PLAZA 07042022'!B34 -> Suministro, transporte e instalación de tubería sanitaria de 2". Incluye todos los accesorios en PVC de diámetro 2" incluyendo todos los accesorios reducidos que se requieran para su correcta instalación. Estos deberán estar correctamente pegados usando limpiador, soldadura y teflón apropiados, sin presentar fugas, fisuras o cualquier otra clase de anomalía. Se debe garantizar la correcta instalación y funcionamiento. Incluye conexión a red sanitaria existente. Incluye además las perforaciones (canchas) de paredes o pisos que lo requieran incluyendo cargue, transporte y botada de escombros en botaderos oficiales o donde indique la interventoría.
A12: 7.11 | C12: M
D13: LOCALIZACIÓN | E13: MEDIDAS | H13: CANTIDAD | I13: TOTAL
E14: LARGO (m) | F14: ANCHO (m) | G14: ALTO (m)
D15: TUBERIA | H15: 75 | I15: =H15 -> 75
D35: SUBTOTAL | I35: =SUM(I15:I34) -> 75
E36: CONTINUA EN LA FICHA FICHA Nº
D37: CANTIDAD | I37: =+I35+I36 -> 75
D38: OBSERVACIONES:
C43: NOMBRE
C44: FIRMA

Sheet MC 7,12
C2: MEMORIA DE CALCULO DE CANTIDADES DE OBRA | H2: Página 1 de 1
H3: Código: F-GIN-103 Versión: 3 Fecha: ENERO/2020
C4: Público Reservado Clasificado
A10: CAPÍTULO: | D10: DESCRIPCIÓN ÍTEM
A11: ITEM Nº. | C11: UNIDAD | D11: ='PRESUPUESTO PLAZA 07042022'!B35 -> Suministro, transporte e instalación de salida sanitaria de 3". Incluye todos los accesorios hasta el tapón de prueba. Se pagará dicha salida hasta un recorrido máximo de tubería no mayor a 2 m. Estos deberán estar correctamente pegados usando limpiador, soldadura y teflón apropiados, sin presentar fugas, fisuras o cualquier otra clase de anomalía. Incluye además las perforaciones (canchas) de paredes o pisos que lo requieran incluyendo cargue, transporte y botada de escombros en botaderos oficiales o donde indique la interventoría o supervisión de obra.
A12: 7.12 | C12: UNIDAD
D13: LOCALIZACIÓN | E13: MEDIDAS | H13: CANTIDAD | I13: TOTAL
E14: LARGO (m) | F14: ANCHO (m) | G14: ALTO (m)
D15: SALIDA | H15: 30 | I15: =H15 -> 30
D35: SUBTOTAL | I35: =SUM(I15:I34) -> 30
E36: CONTINUA EN LA FICHA FICHA Nº
D37: CANTIDAD | I37: =+I35+I36 -> 30
D38: OBSERVACIONES:
C43: NOMBRE
C44: FIRMA

Sheet MC 7,13
C2: MEMORIA DE CALCULO DE CANTIDADES DE OBRA | H2: Página 1 de 1
H3: Código: F-GIN-103 Versión: 3 Fecha: ENERO/2020
C4: Público Reservado Clasificado
A10: CAPÍTULO: | D10: DESCRIPCIÓN ÍTEM
A11: ITEM Nº. | C11: UNIDAD | D11: ='PRESUPUESTO PLAZA 07042022'!B35 -> Suministro, transporte e instalación de salida sanitaria de 3". Incluye todos los accesorios hasta el tapón de prueba. Se pagará dicha salida hasta un recorrido máximo de tubería no mayor a 2 m. Estos deberán estar correctamente pegados usando limpiador, soldadura y teflón apropiados, sin presentar fugas, fisuras o cualquier otra clase de anomalía. Incluye además las perforaciones (canchas) de paredes o pisos que lo requieran incluyendo cargue, transporte y botada de escombros en botaderos oficiales o donde indique la interventoría o supervisión de obra.
A12: 7.13 | C12: M
D13: LOCALIZACIÓN | E13: MEDIDAS | H13: CANTIDAD | I13: TOTAL
E14: LARGO (m) | F14: ANCHO (m) | G14: ALTO (m)
D15: SALIDA | H15: 30 | I15: =H15 -> 30
D35: SUBTOTAL | I35: =SUM(I15:I34) -> 30
E36: CONTINUA EN LA FICHA FICHA Nº
D37: CANTIDAD | I37: =+I35+I36 -> 30
D38: OBSERVACIONES:
C43: NOMBRE
C44: FIRMA

Sheet M.C-7.14
D2: MEMORIA DE CALCULO DE CANTIDADES DE OBRA | I2: Página 1 de 1
D4: Público Reservado Clasificado
B6: DIRECCIÓN OBRA: CARMEN DE VIBORAL - ANTIOQUIA
B10: CAPÍTULO: | C10: INSTALACIONES HIDROSANITARIAS | E10: DESCRIPCIÓN ÍTEM
B11: ITEM Nº. | D11: UNIDAD | E11: Suministro, transporte e instalación de salida sanitaria de 4".
B12: =+'PRESUPUESTO PLAZA 07042022'!A37 -> 7.14 | D12: =+'PRESUPUESTO PLAZA 07042022'!C37 -> un
E13: LOCALIZACIÓN | F13: MEDIDAS | I13: CANTIDAD | J13: TOTAL
F14: LARGO (m) | G14: ANCHO (m) | H14: ALTO (m)
E16: Redes internas | I16: =+'PRESUPUESTO PLAZA 07042022'!D37 -> 10 | J16: =I16 -> 10
E35: SUBTOTAL | J35: =SUM(J15:J34) -> 10
F36: CONTINUA EN LA FICHA FICHA Nº
E37: CANTIDAD | J37: =+J35+J36 -> 10
E38: OBSERVACIONES:
D43: NOMBRE
D44: FIRMA

Sheet M.C-7.15
D2: MEMORIA DE CALCULO DE CANTIDADES DE OBRA | I2: Página 1 de 1
D4: Público Reservado Clasificado
B6: DIRECCIÓN OBRA: CARMEN DE VIBORAL - ANTIOQUIA
B10: CAPÍTULO: | C10: INSTALACIONES HIDROSANITARIAS | E10: DESCRIPCIÓN ÍTEM
B11: ITEM Nº. | D11: UNIDAD | E11: Suministro, transporte e instalación de tubería sanitaria de 4".
B12: =+'PRESUPUESTO PLAZA 07042022'!A38 -> 7.15 | D12: =+'PRESUPUESTO PLAZA 07042022'!C38 -> m
E13: LOCALIZACIÓN | F13: MEDIDAS | I13: CANTIDAD | J13: TOTAL
F14: LARGO (m) | G14: ANCHO (m) | H14: ALTO (m)
E16: Redes internas | I16: =+'PRESUPUESTO PLAZA 07042022'!D38 -> 210 | J16: =I16 -> 210
E35: SUBTOTAL | J35: =SUM(J15:J34) -> 210
F36: CONTINUA EN LA FICHA FICHA Nº
E37: CANTIDAD | J37: =+J35+J36 -> 210
E38: OBSERVACIONES:
D43: NOMBRE
D44: FIRMA

Sheet M.C-7.16
D2: MEMORIA DE CALCULO DE CANTIDADES DE OBRA | I2: Página 1 de 1
D4: Público Reservado Clasificado
B6: DIRECCIÓN OBRA: CARMEN DE VIBORAL - ANTIOQUIA
B10: CAPÍTULO: | C10: INSTALACIONES HIDROSANITARIAS | E10: DESCRIPCIÓN ÍTEM
B11: ITEM Nº. | D11: UNIDAD | E11: Suministro, transporte e instalación de salida sanitaria de 6".
B12: =+'PRESUPUESTO PLAZA 07042022'!A39 -> 7.16 | D12: =+'PRESUPUESTO PLAZA 07042022'!C39 -> un
E13: LOCALIZACIÓN | F13: MEDIDAS | I13: CANTIDAD | J13: TOTAL
F14: LARGO (m) | G14: ANCHO (m) | H14: ALTO (m)
E16: Redes internas | I16: =+'PRESUPUESTO PLAZA 07042022'!D39 -> 4 | J16: =I16 -> 4
E35: SUBTOTAL | J35: =SUM(J15:J34) -> 4
F36: CONTINUA EN LA FICHA FICHA Nº
E37: CANTIDAD | J37: =+J35+J36 -> 4
E38: OBSERVACIONES:
D43: NOMBRE
D44: FIRMA

Sheet M.C-7.17
D2: MEMORIA DE CALCULO DE CANTIDADES DE OBRA | I2: Página 1 de 1
D4: Público Reservado Clasificado
B6: DIRECCIÓN OBRA: CARMEN DE VIBORAL - ANTIOQUIA
B10: CAPÍTULO: | C10: INSTALACIONES HIDROSANITARIAS | E10: DESCRIPCIÓN ÍTEM
B11: ITEM Nº. | D11: UNIDAD | E11: Suministro, transporte e instalación de tubería sanitaria de 6".
B12: =+'PRESUPUESTO PLAZA 07042022'!A40 -> 7.17 | D12: =+'PRESUPUESTO PLAZA 07042022'!C40 -> m
E13: LOCALIZACIÓN | F13: MEDIDAS | I13: CANTIDAD | J13: TOTAL
F14: LARGO (m) | G14: ANCHO (m) | H14: ALTO (m)
E16: Redes internas | I16: =+'PRESUPUESTO PLAZA 07042022'!D40 -> 85 | J16: =I16 -> 85
E35: SUBTOTAL | J35: =SUM(J15:J34) -> 85
F36: CONTINUA EN LA FICHA FICHA Nº
E37: CANTIDAD | J37: =+J35+J36 -> 85
E38: OBSERVACIONES:
E39: EN COLOR VERDE SE ENCUENTRA LA LONGITUD CORRESPONDIENTE AL CERRAMIENTO PROVISIONAL DE OBRA
D43: NOMBRE
D44: FIRMA

Sheet M.C-7.18
D2: MEMORIA DE CALCULO DE CANTIDADES DE OBRA | I2: Página 1 de 1
D4: Público Reservado Clasificado
B6: DIRECCIÓN OBRA: CARMEN DE VIBORAL - ANTIOQUIA
B10: CAPÍTULO: | C10: INSTALACIONES HIDROSANITARIAS | E10: DESCRIPCIÓN ÍTEM
B11: ITEM Nº. | D11: UNIDAD | E11: Suministro, transporte e instalación de Tubería PVC- NOVAFORT con un Diámetro 8" (200 mm).
B12: =+'PRESUPUESTO PLAZA 07042022'!A41 -> 7.18 | D12: =+'PRESUPUESTO PLAZA 07042022'!C41 -> m
E13: LOCALIZACIÓN | F13: MEDIDAS | I13: CANTIDAD | J13: TOTAL
F14: LARGO (m) | G14: ANCHO (m) | H14: ALTO (m)
E16: Redes internas | I16: =+'PRESUPUESTO PLAZA 07042022'!D41 -> 149.577 | J16: =I16 -> 149.577
E35: SUBTOTAL | J35: =SUM(J15:J34) -> 149.577
F36: CONTINUA EN LA FICHA FICHA Nº
E37: CANTIDAD | J37: =+J35+J36 -> 149.577
E38: OBSERVACIONES:
D43: NOMBRE
D44: FIRMA

Sheet M.C-7.21
D2: MEMORIA DE CALCULO DE CANTIDADES DE OBRA | I2: Página 1 de 1
D4: Público Reservado Clasificado
B6: DIRECCIÓN OBRA: CARMEN DE VIBORAL - ANTIOQUIA
B10: CAPÍTULO: | C10: INSTALACIONES HIDROSANITARIAS | E10: DESCRIPCIÓN ÍTEM
B11: ITEM Nº. | D11: UNIDAD | E11: Suministro, transporte e instalación de Kit silla YEE o silla TEE 8" (200 mm) x 4" (110 mm).
B12: =+'PRESUPUESTO PLAZA 07042022'!A44 -> 7.21 | D12: =+'PRESUPUESTO PLAZA 07042022'!C44 -> un
E13: LOCALIZACIÓN | F13: MEDIDAS | I13: CANTIDAD | J13: TOTAL
F14: LARGO (m) | G14: ANCHO (m) | H14: ALTO (m)
E16: Redes internas | I16: =+'PRESUPUESTO PLAZA 07042022'!D44 -> 20 | J16: =I16 -> 20
E35: SUBTOTAL | J35: =SUM(J15:J34) -> 20
F36: CONTINUA EN LA FICHA FICHA Nº
E37: CANTIDAD | J37: =+J35+J36 -> 20
E38: OBSERVACIONES:
D43: NOMBRE
D44: FIRMA

Sheet M.C-7.22
D2: MEMORIA DE CALCULO DE CANTIDADES DE OBRA | I2: Página 1 de 1
D4: Público Reservado Clasificado
B6: DIRECCIÓN OBRA: CARMEN DE VIBORAL - ANTIOQUIA
B10: CAPÍTULO: | C10: INSTALACIONES HIDROSANITARIAS | E10: DESCRIPCIÓN ÍTEM
B11: ITEM Nº. | D11: UNIDAD | E11: Suministro, transporte e instalación de Kit silla YEE o silla TEE 8" (200 mm) x 6" (160 mm).
B12: =+'PRESUPUESTO PLAZA 07042022'!A45 -> 7.22 | D12: =+'PRESUPUESTO PLAZA 07042022'!C45 -> un
E13: LOCALIZACIÓN | F13: MEDIDAS | I13: CANTIDAD | J13: TOTAL
F14: LARGO (m) | G14: ANCHO (m) | H14: ALTO (m)
E16: Redes internas | I16: =+'PRESUPUESTO PLAZA 07042022'!D45 -> 10 | J16: =I16 -> 10
E35: SUBTOTAL | J35: =SUM(J15:J34) -> 10
F36: CONTINUA EN LA FICHA FICHA Nº
E37: CANTIDAD | J37: =+J35+J36 -> 10
E38: OBSERVACIONES:
D43: NOMBRE
D44: FIRMA

Sheet M.C-7.23
D2: MEMORIA DE CALCULO DE CANTIDADES DE OBRA | I2: Página 1 de 1
D4: Público Reservado Clasificado
B6: DIRECCIÓN OBRA: CARMEN DE VIBORAL - ANTIOQUIA
B10: CAPÍTULO: | C10: INSTALACIONES HIDROSANITARIAS | E10: DESCRIPCIÓN ÍTEM
B11: ITEM Nº. | D11: UNIDAD | E11: Suministro, transporte e instalación de Kit silla YEE o silla TEE 10" (250 mm) x 6" (160 mm).
B12: =+'PRESUPUESTO PLAZA 07042022'!A46 -> 7.23 | D12: =+'PRESUPUESTO PLAZA 07042022'!C46 -> un
E13: LOCALIZACIÓN | F13: MEDIDAS | I13: CANTIDAD | J13: TOTAL
F14: LARGO (m) | G14: ANCHO (m) | H14: ALTO (m)
E16: Redes internas | I16: =+'PRESUPUESTO PLAZA 07042022'!D46 -> 5 | J16: =I16 -> 5
E35: SUBTOTAL | J35: =SUM(J15:J34) -> 5
F36: CONTINUA EN LA FICHA FICHA Nº
E37: CANTIDAD | J37: =+J35+J36 -> 5
E38: OBSERVACIONES:
D43: NOMBRE
D44: FIRMA

Sheet M.C-8.1
D2: MEMORIA DE CALCULO DE CANTIDADES DE OBRA | I2: Página 1 de 1
D4: Público Reservado Clasificado
B6: DIRECCIÓN OBRA: CARMEN DE VIBORAL - ANTIOQUIA
B10: CAPÍTULO: | C10: CAJAS, TANQUES, SUMIDEROS Y MH | E10: DESCRIPCIÓN ÍTEM
B11: ITEM Nº. | D11: UNIDAD | E11: Construcción de cajas de registro de 0.8m x 0.8m medidas externas
B12: =+'PRESUPUESTO PLAZA 07042022'!A49 -> 8.1 | D12: =+'PRESUPUESTO PLAZA 07042022'!C49 -> un
E13: LOCALIZACIÓN | F13: MEDIDAS | I13: CANTIDAD | J13: TOTAL
F14: LARGO (m) | G14: ANCHO (m) | H14: ALTO (m)
E16: Redes internas | I16: =+'PRESUPUESTO PLAZA 07042022'!D49 -> 9 | J16: =+I16 -> 9
E35: SUBTOTAL | J35: =SUM(J15:J34) -> 9
F36: CONTINUA EN LA FICHA FICHA Nº
E37: CANTIDAD | J37: =+J35+J36 -> 9
E38: OBSERVACIONES:
D43: NOMBRE
D44: FIRMA

Sheet M.C-8.2
D2: MEMORIA DE CALCULO DE CANTIDADES DE OBRA | I2: Página 1 de 1
D4: Público Reservado Clasificado
B6: DIRECCIÓN OBRA: CARMEN DE VIBORAL - ANTIOQUIA
B10: CAPÍTULO: | C10: CAJAS, TANQUES, SUMIDEROS Y MH | E10: DESCRIPCIÓN ÍTEM
B11: ITEM Nº. | D11: UNIDAD | E11: Construcción de sumidero de aguas lluvias 1.10m x 0.80m medidas externas
B12: =+'PRESUPUESTO PLAZA 07042022'!A50 -> 8.2 | D12: =+'PRESUPUESTO PLAZA 07042022'!C50 -> un
E13: LOCALIZACIÓN | F13: MEDIDAS | I13: CANTIDAD | J13: TOTAL
F14: LARGO (m) | G14: ANCHO (m) | H14: ALTO (m)
E16: Redes internas | I16: =+'PRESUPUESTO PLAZA 07042022'!D50 -> 6 | J16: =+I16 -> 6
E35: SUBTOTAL | J35: =SUM(J15:J34) -> 6
F36: CONTINUA EN LA FICHA FICHA Nº
E37: CANTIDAD | J37: =+J35+J36 -> 6
E38: OBSERVACIONES:
D43: NOMBRE
D44: FIRMA

Sheet M.C-8.3
D2: MEMORIA DE CALCULO DE CANTIDADES DE OBRA | I2: Página 1 de 1
D4: Público Reservado Clasificado
B5: PROYECTO: TEATRO MUNICIPAL DE CARMEN DE VIBORAL
B7: =+[5]PRESUPUESTO!$A$2 -> OBJETO: "REALIZAR LOS ESTUDIOS Y DISEÑOS PARA LA CONSTRUCCION DEL TEATRO MUNICIPAL DE CARMEN DE VIBORAL, CON CARGO AL CONTRATO INTERADMINISTRATIVO 3048 DE 2020 - MINCULTURA"
B10: CAPÍTULO: | C10: CAJAS, TANQUES, SUMIDEROS Y MH | E10: DESCRIPCIÓN ÍTEM
B11: ITEM Nº. | D11: UNIDAD | E11: Construcción de tanque para almacenamiento de agua de 4 x 4 x 4m medidas internas
B12: =+'PRESUPUESTO PLAZA 07042022'!A51 -> 8.3 | D12: =+'PRESUPUESTO PLAZA 07042022'!C51 -> un
E13: LOCALIZACIÓN | F13: MEDIDAS | I13: CANTIDAD | J13: TOTAL
F14: LARGO (m) | G14: ANCHO (m) | H14: ALTO (m)
E16: Redes internas | I16: =+'PRESUPUESTO PLAZA 07042022'!D51 -> 3 | J16: =+I16 -> 3
E35: SUBTOTAL | J35: =SUM(J15:J34) -> 3
F36: CONTINUA EN LA FICHA FICHA Nº
E37: CANTIDAD | J37: =+J35+J36 -> 3
E38: OBSERVACIONES:
D43: NOMBRE
D44: FIRMA

Sheet M.C-8.4
D2: MEMORIA DE CALCULO DE CANTIDADES DE OBRA | I2: Página 1 de 1
D4: Público Reservado Clasificado
B6: DIRECCIÓN OBRA: CARMEN DE VIBORAL - ANTIOQUIA
B10: CAPÍTULO: | C10: CAJAS, TANQUES, SUMIDEROS Y MH | E10: DESCRIPCIÓN ÍTEM
B11: ITEM Nº. | D11: UNIDAD | E11: Construcción de base y cañuela para MH de diametro hasta de 1,50m.
B12: =+'PRESUPUESTO PLAZA 07042022'!A52 -> 8.4 | D12: =+'PRESUPUESTO PLAZA 07042022'!C52 -> un
E13: LOCALIZACIÓN | F13: MEDIDAS | I13: CANTIDAD | J13: TOTAL
F14: LARGO (m) | G14: ANCHO (m) | H14: ALTO (m)
E16: Redes internas | I16: =+'PRESUPUESTO PLAZA 07042022'!D52 -> 5 | J16: =+I16 -> 5
E35: SUBTOTAL | J35: =SUM(J15:J34) -> 5
F36: CONTINUA EN LA FICHA FICHA Nº
E37: CANTIDAD | J37: =+J35+J36 -> 5
E38: OBSERVACIONES:
D43: NOMBRE
D44: FIRMA

Sheet M.C-8.5
D2: MEMORIA DE CALCULO DE CANTIDADES DE OBRA | I2: Página 1 de 1
D4: Público Reservado Clasificado
B6: DIRECCIÓN OBRA: CARMEN DE VIBORAL - ANTIOQUIA
B10: CAPÍTULO: | C10: CAJAS, TANQUES, SUMIDEROS Y MH | E10: DESCRIPCIÓN ÍTEM
B11: ITEM Nº. | D11: UNIDAD | E11: Suministro transporte e instalación de Cilindro MH
B12: =+'PRESUPUESTO PLAZA 07042022'!A53 -> 8.5 | D12: =+'PRESUPUESTO PLAZA 07042022'!C53 -> un
E13: LOCALIZACIÓN | F13: MEDIDAS | I13: CANTIDAD | J13: TOTAL
F14: LARGO (m) | G14: ANCHO (m) | H14: ALTO (m)
E16: Redes internas | I16: =+'PRESUPUESTO PLAZA 07042022'!D53 -> 5 | J16: =+I16 -> 5
E35: SUBTOTAL | J35: =SUM(J15:J34) -> 5
F36: CONTINUA EN LA FICHA FICHA Nº
E37: CANTIDAD | J37: =+J35+J36 -> 5
E38: OBSERVACIONES:
D43: NOMBRE
D44: FIRMA

Sheet M.C-8.6
D2: MEMORIA DE CALCULO DE CANTIDADES DE OBRA | I2: Página 1 de 1
D4: Público Reservado Clasificado
B6: DIRECCIÓN OBRA: CARMEN DE VIBORAL - ANTIOQUIA
B10: CAPÍTULO: | C10: CAJAS, TANQUES, SUMIDEROS Y MH | E10: DESCRIPCIÓN ÍTEM
B11: ITEM Nº. | D11: UNIDAD | E11: Suministro transporte e instalación de Cilindro MH
B12: =+'PRESUPUESTO PLAZA 07042022'!A54 -> 8.6 | D12: =+'PRESUPUESTO PLAZA 07042022'!C54 -> un
E13: LOCALIZACIÓN | F13: MEDIDAS | I13: CANTIDAD | J13: TOTAL
F14: LARGO (m) | G14: ANCHO (m) | H14: ALTO (m)
E16: Redes internas | I16: =+'PRESUPUESTO PLAZA 07042022'!D54 -> 5 | J16: =+I16 -> 5
E35: SUBTOTAL | J35: =SUM(J15:J34) -> 5
F36: CONTINUA EN LA FICHA FICHA Nº
E37: CANTIDAD | J37: =+J35+J36 -> 5
E38: OBSERVACIONES:
D43: NOMBRE
D44: FIRMA

Sheet M.C-8.7
D2: MEMORIA DE CALCULO DE CANTIDADES DE OBRA | I2: Página 1 de 1
D4: Público Reservado Clasificado
B6: DIRECCIÓN OBRA: CARMEN DE VIBORAL - ANTIOQUIA
B10: CAPÍTULO: | C10: CAJAS, TANQUES, SUMIDEROS Y MH | E10: DESCRIPCIÓN ÍTEM
B11: ITEM Nº. | D11: UNIDAD | E11: Suministro, transporte e instalación de Cuello en concreto de 21 Mpa para MH
B12: =+'PRESUPUESTO PLAZA 07042022'!A55 -> 8.7 | D12: =+'PRESUPUESTO PLAZA 07042022'!C55 -> un
E13: LOCALIZACIÓN | F13: MEDIDAS | I13: CANTIDAD | J13: TOTAL
F14: LARGO (m) | G14: ANCHO (m) | H14: ALTO (m)
E16: Redes internas | I16: =+'PRESUPUESTO PLAZA 07042022'!D55 -> 5 | J16: =+I16 -> 5
E35: SUBTOTAL | J35: =SUM(J15:J34) -> 5
F36: CONTINUA EN LA FICHA FICHA Nº
E37: CANTIDAD | J37: =+J35+J36 -> 5
E38: OBSERVACIONES:
D43: NOMBRE
D44: FIRMA

Sheet M.C-8.8
D2: MEMORIA DE CALCULO DE CANTIDADES DE OBRA | I2: Página 1 de 1
D4: Público Reservado Clasificado
B6: DIRECCIÓN OBRA: CARMEN DE VIBORAL - ANTIOQUIA
B10: CAPÍTULO: | C10: CAJAS, TANQUES, SUMIDEROS Y MH | E10: DESCRIPCIÓN ÍTEM
B11: ITEM Nº. | D11: UNIDAD | E11: Suministro, transporte e instalación de Tapa en concreto de 21 MPa para MH de 1,20; 1,50 y 2,0m de diámetro
B12: =+'PRESUPUESTO PLAZA 07042022'!A56 -> 8.8 | D12: =+'PRESUPUESTO PLAZA 07042022'!C56 -> un
E13: LOCALIZACIÓN | F13: MEDIDAS | I13: CANTIDAD | J13: TOTAL
F14: LARGO (m) | G14: ANCHO (m) | H14: ALTO (m)
E16: Redes internas | I16: =+'PRESUPUESTO PLAZA 07042022'!D56 -> 5 | J16: =+I16 -> 5
E35: SUBTOTAL | J35: =SUM(J15:J34) -> 5
F36: CONTINUA EN LA FICHA FICHA Nº
E37: CANTIDAD | J37: =+J35+J36 -> 5
E38: OBSERVACIONES:
D43: NOMBRE
D44: FIRMA

Sheet MC 9,1
C1: MEMORIA DE CALCULO DE CANTIDADES DE OBRA | H1: Página 1 de 1
C3: Público Reservado Clasificado
A5: DIRECCIÓN OBRA: CARMEN DE VIBORAL - ANTIOQUIA
A9: CAPÍTULO: | D9: DESCRIPCIÓN ÍTEM
A10: ITEM Nº. | C10: UNIDAD | D10: ='PRESUPUESTO PLAZA 07042022'!B58 -> Instalación de Sanitario Integral Uso Institucional color Blanco con fluxómetro anti-vandálico, incluye el suministro y transporte del sanitario, sifón esmaltado, grifería antisifón, anillo abierto, abasto metálico, válvula de regulación metálica con manguera flexible, brida de fijación, tapón roscado y todos los demás elementos necesarios para su correcta instalación y funcionamiento.
A11: 9.1 | C11: UNIDAD
D12: LOCALIZACIÓN | E12: MEDIDAS | H12: CANTIDAD | I12: TOTAL
E13: LARGO (m) | F13: ANCHO (m) | G13: ALTO (m)
D15: SANITARIOS | H15: 6 | I15: =+H15 -> 6
D34: SUBTOTAL | I34: =SUM(I14:I33) -> 6
E35: CONTINUA EN LA FICHA FICHA Nº
D36: CANTIDAD | I36: =+I34+I35 -> 6
D37: OBSERVACIONES:
C42: NOMBRE
C43: FIRMA

Sheet MC 9,2
C1: MEMORIA DE CALCULO DE CANTIDADES DE OBRA | H1: Página 1 de 1
C3: Público Reservado Clasificado
A5: DIRECCIÓN OBRA: CARMEN DE VIBORAL - ANTIOQUIA
A9: CAPÍTULO: | D9: DESCRIPCIÓN ÍTEM
A10: ITEM Nº. | C10: UNIDAD | D10: ='PRESUPUESTO PLAZA 07042022'!B59 -> Suministro, transporte y Colocación de lavamanos Uso institucional. Incluye Grifería galaxia, abasto metálico, sifón botella y todos los demás elementos necesarios para su correcta instalación y funcionamiento.
A11: 9.2 | C11: UNIDAD
D12: LOCALIZACIÓN | E12: MEDIDAS | H12: CANTIDAD | I12: TOTAL
E13: LARGO (m) | F13: ANCHO (m) | G13: ALTO (m)
D15: LAVAMANOS | H15: 7 | I15: =+H15 -> 7
D34: SUBTOTAL | I34: =SUM(I14:I33) -> 7
E35: CONTINUA EN LA FICHA FICHA Nº
D36: CANTIDAD | I36: =+I34+I35 -> 7
D37: OBSERVACIONES:
C42: NOMBRE
C43: FIRMA

Sheet MC 9,3
C1: MEMORIA DE CALCULO DE CANTIDADES DE OBRA | H1: Página 1 de 1
C3: Público Reservado Clasificado
A5: DIRECCIÓN OBRA: CARMEN DE VIBORAL - ANTIOQUIA
A9: CAPÍTULO: | D9: DESCRIPCIÓN ÍTEM
A10: ITEM Nº. | C10: UNIDAD | D10: ='PRESUPUESTO PLAZA 07042022'!B60 -> Suministro, transporte y colocación de orinal mediano línea institucional de corona o equivalente con fluxómetro anti vandálico, color blanco con grifería automatica de push antivandalica ref 71300. Incluye grifería, abasto metálico y todos los elementos necesarios para su correcta instalación y funcionamiento.
A11: 9.3 | C11: UNIDAD
D12: LOCALIZACIÓN | E12: MEDIDAS | H12: CANTIDAD | I12: TOTAL
E13: LARGO (m) | F13: ANCHO (m) | G13: ALTO (m)
D15: LAVAMANOS | H15: 2 | I15: =+H15 -> 2
D34: SUBTOTAL | I34: =SUM(I14:I33) -> 2
E35: CONTINUA EN LA FICHA FICHA Nº
D36: CANTIDAD | I36: =+I34+I35 -> 2
D37: OBSERVACIONES:
C42: NOMBRE
C43: FIRMA

Sheet MC 9,4
C1: MEMORIA DE CALCULO DE CANTIDADES DE OBRA | H1: Página 1 de 1
C3: Público Reservado Clasificado
A5: DIRECCIÓN OBRA: CARMEN DE VIBORAL - ANTIOQUIA
A9: CAPÍTULO: | D9: DESCRIPCIÓN ÍTEM
A10: ITEM Nº. | C10: UNIDAD | D10: ='PRESUPUESTO PLAZA 07042022'!B61 -> Modulos elaborados en lámina de Acero inoxidable para divisiones de baños AISI SAE 304 con estructura interna en polímero de alta densidad inyectado.
A11: 9.4 | C11: M2
D12: LOCALIZACIÓN | E12: MEDIDAS | H12: CANTIDAD | I12: TOTAL
E13: LARGO (m) | F13: ANCHO (m) | G13: ALTO (m)
D15: MODULOS | H15: 37.6 | I15: =+H15 -> 37.6
D34: SUBTOTAL | I34: =SUM(I14:I33) -> 37.6
E35: CONTINUA EN LA FICHA FICHA Nº
D36: CANTIDAD | I36: =+I34+I35 -> 37.6
D37: OBSERVACIONES:
C42: NOMBRE
C43: FIRMA

Sheet MC 9,5
C1: MEMORIA DE CALCULO DE CANTIDADES DE OBRA | H1: Página 1 de 1
C3: Público Reservado Clasificado
A5: DIRECCIÓN OBRA: CARMEN DE VIBORAL - ANTIOQUIA
A9: CAPÍTULO: | D9: DESCRIPCIÓN ÍTEM
A10: ITEM Nº. | C10: UNIDAD | D10: ='PRESUPUESTO PLAZA 07042022'!B62 -> Suministro, transporte y colocación de barra de seguridad para personas con movilidad reducida, con una longitud de 60 cm. y un diámetro de 1¼" en acero inoxidable. Incluye pernos para anclaje, escudos en acero inoxidable y todos los elementos necesarios para su correcta instalación y funcionamiento, según diseño.
A11: 9.5 | C11: UNIDAD
D12: LOCALIZACIÓN | E12: MEDIDAS | H12: CANTIDAD | I12: TOTAL
E13: LARGO (m) | F13: ANCHO (m) | G13: ALTO (m)
D15: BARRA | H15: 3 | I15: =+H15 -> 3
D34: SUBTOTAL | I34: =SUM(I14:I33) -> 3
E35: CONTINUA EN LA FICHA FICHA Nº
D36: CANTIDAD | I36: =+I34+I35 -> 3
D37: OBSERVACIONES:
C42: NOMBRE
C43: FIRMA

Sheet MC 9,6
C1: MEMORIA DE CALCULO DE CANTIDADES DE OBRA | H1: Página 1 de 1
C3: Público Reservado Clasificado
A5: DIRECCIÓN OBRA: CARMEN DE VIBORAL - ANTIOQUIA
A9: CAPÍTULO: | D9: DESCRIPCIÓN ÍTEM
A10: ITEM Nº. | C10: UNIDAD | D10: ='PRESUPUESTO PLAZA 07042022'!B63 -> Suministro, transporte y colocación de lavaescobas prefabricado en concreto forrado en granito de 42 x 60 x 25 cm. fondo gris. Incluye mortero 1:4, llave bocamanguera, sifón y todo los demás elementos necesarios para su correcta instalación y funcionamiento.
A11: 9.6 | C11: UNIDAD
D12: LOCALIZACIÓN | E12: MEDIDAS | H12: CANTIDAD | I12: TOTAL
E13: LARGO (m) | F13: ANCHO (m) | G13: ALTO (m)
D15: LAVA ESCOBAS | H15: 2 | I15: =+H15 -> 2
D34: SUBTOTAL | I34: =SUM(I14:I33) -> 2
E35: CONTINUA EN LA FICHA FICHA Nº
D36: CANTIDAD | I36: =+I34+I35 -> 2
D37: OBSERVACIONES:
C42: NOMBRE
C43: FIRMA

Sheet MC 11,1
C1: MEMORIA DE CALCULO DE CANTIDADES DE OBRA | H1: Página 1 de 1
C3: Público Reservado Clasificado
A5: DIRECCIÓN OBRA: CARMEN DE VIBORAL - ANTIOQUIA
A9: CAPÍTULO: | D9: DESCRIPCIÓN ÍTEM
A10: ITEM Nº. | C10: UNIDAD | D10: ='PRESUPUESTO PLAZA 07042022'!B65 -> Construcción de Anden en concreto preparado en obra de 21 MPa. con un espesor de 0.10m. Incluye suministro, transporte e instalación del concreto, mano de obra, vibrado, protección y curado, para estructuras de acuerdo con las diferentes dimensiones establecidas en los planos y diseños. Según diseño.
A11: 11.1 | C11: M2
D12: LOCALIZACIÓN | E12: MEDIDAS | H12: CANTIDAD | I12: TOTAL
E13: LARGO (m) | F13: ANCHO (m) | G13: ALTO (m)
D15: anden | H15: 120 | I15: =+H15 -> 120
D34: SUBTOTAL | I34: =SUM(I14:I33) -> 120
E35: CONTINUA EN LA FICHA FICHA Nº
D36: CANTIDAD | I36: =+I34+I35 -> 120
D37: OBSERVACIONES:
C42: NOMBRE
C43: FIRMA

Sheet MC 11,2
C1: MEMORIA DE CALCULO DE CANTIDADES DE OBRA | H1: Página 1 de 1
C3: Público Reservado Clasificado
A5: DIRECCIÓN OBRA: CARMEN DE VIBORAL - ANTIOQUIA
A9: CAPÍTULO: | D9: DESCRIPCIÓN ÍTEM
A10: ITEM Nº. | C10: UNIDAD | D10: ='PRESUPUESTO PLAZA 07042022'!B66 -> Suministro, transporte y colocación deTableta tipo loserna lisa de dimension 0.6 x 0.3 x 0.04 m color a definir por la interventoría. Incluye suministro y transporte de los materiales, cortes a máquina. Seguir recomendación del MEP MEDELLÍN y patrones de instalación del ICPC. Incluye: mortero para cama de asiento con espesor de 4cm compactados, sello con boquilla con látex, cortes con equipo manual y/o mecanico y todas las demás actividades necesarias para su correcta colocación y funcionamiento.
A11: 11.2 | C11: M2
D12: LOCALIZACIÓN | E12: MEDIDAS | H12: CANTIDAD | I12: TOTAL
E13: LARGO (m) | F13: ANCHO (m) | G13: ALTO (m)
D15: TABLETA | H15: 400 | I15: =+H15 -> 400
D34: SUBTOTAL | I34: =SUM(I14:I33) -> 400
E35: CONTINUA EN LA FICHA FICHA Nº
D36: CANTIDAD | I36: =+I34+I35 -> 400
D37: OBSERVACIONES:
C42: NOMBRE
C43: FIRMA

Sheet MC 11,8
C1: MEMORIA DE CALCULO DE CANTIDADES DE OBRA | H1: Página 1 de 1
C3: Público Reservado Clasificado
A5: DIRECCIÓN OBRA: CARMEN DE VIBORAL - ANTIOQUIA
A9: CAPÍTULO: | D9: DESCRIPCIÓN ÍTEM
