Workbook
Name ACREDITACION: #REF!
Name ACREDITACION: Hoja2!$K$1:$K$6
Name ACREDITACION: [1]Hoja2!$K$1:$K$6
Name ACREDITACION: [2]Hoja2!$K$1:$K$6
Name ACREDITACION: Hoja2!$K$1:$K$6
Name BNGF: [3]Hoja2!$P$1:$P$5
Name CONTRATO: #REF!
Name CONTRATO: Hoja2!$I$1:$I$2
Name CONTRATO: [1]Hoja2!$I$1:$I$2
Name CONTRATO: [2]Hoja2!$I$1:$I$2
Name CONTRATO: Hoja2!$I$1:$I$2
Name CUADRANTE: #REF!
Name CUADRANTE: Hoja2!$F$1:$F$4
Name CUADRANTE: #REF!
Name CUADRANTE: [2]Hoja2!$F$1:$F$4
Name CUADRANTE: Hoja2!$F$1:$F$4
Name cuadrante2: [4]Hoja2!$F$1:$F$4
Name cuadrante2: [5]Hoja2!$F$1:$F$4
Name DEPARTAMENTOS: #REF!
Name DEPARTAMENTOS: Hoja2!$A$1:$A$33
Name DEPARTAMENTOS: [1]Hoja2!$A$1:$A$33
Name DEPARTAMENTOS: [2]Hoja2!$A$1:$A$33
Name DEPARTAMENTOS: Hoja2!$A$1:$A$33
Name encuestas: #REF!
Name encuestas: #REF!
Name encuestas: #REF!
Name encuestas: #REF!
Name GARZON: [6]Hoja2!$B$1:$B$1120
Name GGDF: [3]Hoja2!$O$1:$O$6
Name LETRAS: #REF!
Name LETRAS: Hoja2!$E$1:$E$26
Name LETRAS: #REF!
Name LETRAS: [2]Hoja2!$E$1:$E$26
Name LETRAS: Hoja2!$E$1:$E$26
Name LLLLLL: [6]Hoja2!$O$1:$O$6
Name MATERIALPAREDES: #REF!
Name MATERIALPAREDES: Hoja2!$M$1:$M$9
Name MATERIALPAREDES: [1]Hoja2!$M$1:$M$9
Name MATERIALPAREDES: [2]Hoja2!$M$1:$M$9
Name MATERIALPAREDES: Hoja2!$M$1:$M$9
Name MATERIALPISO: #REF!
Name MATERIALPISO: Hoja2!$O$1:$O$6
Name MATERIALPISO: [1]Hoja2!$O$1:$O$6
Name MATERIALPISO: [2]Hoja2!$O$1:$O$6
Name MATERIALPISO: Hoja2!$O$1:$O$6
Name MATERIALTECHO: #REF!
Name MATERIALTECHO: Hoja2!$N$1:$N$9
Name MATERIALTECHO: [1]Hoja2!$N$1:$N$9
Name MATERIALTECHO: [2]Hoja2!$N$1:$N$9
Name MATERIALTECHO: Hoja2!$N$1:$N$9
Name MATERIALTECHO.: #REF!
Name MATERIALTECHO.: #REF!
Name MATERIALTECHO.: #REF!
Name Municipios: #REF!
Name Municipios: Hoja2!$B$1:$B$1120
Name Municipios: [1]Hoja2!$B$1:$B$1120
Name Municipios: [2]Hoja2!$B$1:$B$1120
Name Municipios: Hoja2!$B$1:$B$1120
Name OLE_LINK1: 'Diagnóstico Técnico'!#REF!
Name otro: [4]Hoja2!$D$1:$D$19

Sheet FAP022
E1: CERTIFICACIÓN DE CUMPLIMIENTO PARA EL PAGO | AD1: CÓDIGO: | AG1: FAP022
AD2: VERSIÓN: | AG2: 06B
E3: GESTIÓN FINANCIERA | AD3: VIGENCIA: | AG3: 42766
E4: Radicado No.
B5: 1. INFORMACIÓN GENERAL
C6: El interventor / supervisor / otro (según aplique), certifica que el beneficiario: | P6: CONSORCIO REDES IM
C7: ha dado cumplimiento a los requisitos exigidos para el trámite del presente pago. Asimismo certifica que su contenido y condiciones han sido verificados previamente.
C9: TIPO DE DOCUMENTO DE IDENTIDAD: | J9: NIT | K9: X | L9: CC | N9: CE | P9: TI | S9: NÚMERO DOCUMENTO: | W9: 901192033 | AG9: DV: | AH9: 4
Y11: VALOR PRESENTE DESEMBOLSO
C12: TELÉFONO: | F12: 3004402449 | J12: CORREO ELECTRÓNICO | P12: CONSORCIOREDESIM@GMAIL.COM | Y12: VALOR FIJO $ | AC12: =+'ACTA OBRA 1'!E101 -> 267952468
C13: No. CONVENIO | F13: 215041 | L13: No. CONTRATO | Q13: 2181252 | Y13: VALOR VARIABLE $ (SI APLICA)
C15: CONCEPTO PAGO FIJO: | G15: ACTA PARCIAL DE OBRA No. 1 DEL CONTRATO No. 2181252 CUYO OBJETO ES: DIAGNÓSTICO, CONCERTACIÓN, PLAN DE INTERVENCIÓN Y EJECUCIÓN DE LA CONSTRUCCIÓN DEL PROGRAMA DE CONEXIONES INTRADOMICIALIARIAS EN LOS MUNICIPIOS DE: PUERTO BERRIO – ANTIOQUIA, COTORRA Y LA APARTADA – CÓRDOBA – GRUPO 1: PUERTO BERRIO ANTIOQUIA.
C17: CONCEPTO PAGO VARIABLE:
C20: FACTURA No. | F20: 2 | L20: CUENTA DE COBRO | R20: DOCUMENTO EQUIVALENTE ¿CUÁL? | AD20: No.
C22: ANTICIPO: | G22: SI | I22: NO | J22: X | K22: % | N22: VALOR $ | Y22: OTROS DESCUENTOS POR VALOR $
C24: RETEGARANTIA: | G24: SI | I24: NO | J24: X | K24: % | N24: VALOR $ | Y24: ESPECIFIQUE:
C26: AMORTIZA: | G26: SI | H26: X | I26: NO | K26: % | L26: 20 | N26: VALOR $ | P26: =+'ACTA OBRA 1'!H101 -> 59544993 | Y26: ESPECIFIQUE:
C28: INFORMACIÓN DEL PAGO AL SISTEMA DE SEGURIDAD SOCIAL
C29: CONCEPTO | H29: FECHA(S) DE PAGO | Q29: No. PLANILLA(S) DE PAGO | AA29: VALOR(ES) PAGADO(S)
C30: EPS | H30: 2018/11/09 - 2018/10/08 - 2018/09/07 -2018/11/13 - 2018/10/08 - 2018/11/15 - 2018/10/03 - 2018/11/06 - 2018/10/12 - 2018/11/16 - 2018/09/12 - 2018/10/08 - 2018/11/23 - 2018/11/09 | Q30: 31069521 - 30403629 - 188490241 - 189897866 - 30414879 - 31175684 - 30231394 - 30833783 - 7701505556 - 7706130151 - 188505778 - 30406013 - 7706445284 - 31035738 | AA30: $2.505.600 $1.962.400 $225.000 $187.500 $1.936.100 $1.950.300 $ 225.000 $250.000 $312.500 $312.500 $97.800 $98.500
C32: AFP Y FSP | H32: 2018/11/09 - 2018/10/08 - 2018/09/07 -2018/11/13 - 2018/10/08 - 2018/11/15 - 2018/10/03 - 2018/11/06 - 2018/10/12 - 2018/11/16 - 2018/09/12 - 2018/10/08 - 2018/11/23 - 2018/11/09 | Q32: 31069521 - 30403629 - 188490241 - 189897866 - 30414879 - 31175684 - 30231394 - 30833783 - 7701505556 - 7706130151 - 188505778 - 30406013 - 7706445284 - 31035738 | AA32: $3.242.000 $2.546.800 $288.000 $240.000 $7.839.700 $7.898.100 $288000 $320.000 $400.000 $400.000 $125.100 $126.000
C34: ARL | H34: 2018/11/09 - 2018/10/08 - 2018/09/07 -2018/11/13 - 2018/10/08 - 2018/11/15 - 2018/10/03 - 2018/11/06 - 2018/10/12 - 2018/11/16 - 2018/09/12 - 2018/10/08 - 2018/11/23 - 2018/11/09 | Q34: 31069521 - 30403629 - 188490241 - 189897866 - 30414879 - 31175684 - 30231394 - 30833783 - 7701505556 - 7706130151 - 188505778 - 30406013 - 7706445284 - 31035738 | AA34: $1.395.300 $1.092.800 $43.900 $36.600 $2.608.700 $2.771.800 $9.400 $10.500 $13.100 $13.100 $54.400 $54.400
B37: 2. ACEPTAN Y AUTORIZAN EL PRESENTE PAGO
E38: ACEPTA - BENEFICIARIO | K38: APRUEBA - INTERVENTOR | R38: AVALA - DESIGNADO ENTE TERRITORIAL | AA38: VERIFICA Y/O AUTORIZA - SUPERVISOR FONADE
AB39: Verifica cumplimiento obligaciones contractuales del Interventor
AB41: Verifica cumplimiento obligaciones contractuales y autoriza el pago
C43: FIRMA:
C44: NIT / C.C.: | E44: 901.192.033-4 | K44: 901.206.834-1
C45: NOMBRE: | E45: JUAN CAMILO GUEVARA MARTINEZ | K45: MARY LUZ MEJIA DE PUMAREJO | AA45: MIGUEL ALFREDO CERMEÑO
E46: C.C. # 1,012,365,841 | K46: C.C. # 41.659.878 | AA46: C.C. . #
E47: REPRESENTANTE LEGAL | K47: REPRESENTANTE LEGAL
E48: CONSORCIO REDES IM | K48: CONSORCIO CORDOBA MV
B50: 3. PARA DILIGENCIAR POR FONADE
B51: DOCUMENTOS ANEXOS QUE AMPARAN ÉSTA CERTIFICACIÓN
C53: X | D53: 1. Planillas de pago seguridad social | K53: 7. Formato FAP028 | R53: 13. Acta de comité | Y53: 19. Informe final
C55: X | D55: 2. Certificación de parafiscales | K55: 8. Formato FAP250 | R55: 14. Acta de obra | Y55: 20. Formulario AFC
C57: X | D57: 3. Factura | K57: 9. Acta de inicio | R57: 15. Acta y/o recibo a satisfacción | Y57: 21. Certificación de Impuestos Municipales
D59: 4. Cuenta de cobro/ Documento equivalente | K59: 10. Plan de inversión del anticipo | R59: 16. Acta de liquidación | Y59: 22. Otros, indique cuales en la siguiente fila
C61: X | D61: 5. RUT | J61: X | K61: 11. Acta de recibo parcial y Balance Presupuestal | Q61: X | R61: 17. Certificación bancaria
D63: 6. Formato FAP027 | J63: X | K63: 12. Memoria de cantidades de obra | R63: 18. Informe de avance
...

Sheet FACTURA 
B7: Diciembre 3 de 2018
B9: FONDO FINANCIERO DE PROYECTOS DE DESARROLLO -FONADE | H9: 899.999.316-1
B11: CALLE 26 No 13-19 BOGOTA D.C. | H11: 5940407
A14: PAGO ACTA PARCIAL DE OBRA No. 1 - PUERTO BERRIO (ANTIOQUIA ) DEL CONTRATO No. 2181252 CUYO OBJETO ES: DIAGNÓSTICO, CONCERTACIÓN, PLAN DE INTERVENCIÓN Y EJECUCIÓN DE LA CONSTRUCCIÓN DEL PROGRAMA DE CONEXIONES INTRADOMICIALIARIAS EN LOS MUNICIPIOS DE: PUERTO BERRIO – ANTIOQUIA, COTORRA Y LA APARTADA – CÓRDOBA – GRUPO 1: PUERTO BERRIO ANTIOQUIA.
A19: COSTO DIRECTO | I19: =+ROUND(('ACTA OBRA 1'!L83*0.9),0) -> 206450780 | L19: =+D22*D23 -> 0.0057 | M19: =+D20+D21+D22+L19 -> 0.2979
A20: ADMINISTRACION | D20: 0.2522 | I20: =+ROUND(($I$19*D20),0) -> 52066887
A21: IMPREVISTOS | D21: 0.01 | I21: =+ROUND(($I$19*D21),0) -> 2064508
A22: UTILIDAD | D22: 0.03 | I22: =+ROUND(($I$19*D22),0) -> 6193523
A23: IVA SOBRE UTILIDAD | D23: 0.19 | I23: =ROUND((+I22*D23),0) -> 1176769
A24: AJUSTE FACTURA | I24: 1
A25: VALOR TOTAL COSTO DIRECTOS E INDIRECTOS | I25: =SUM(I19:I24) -> 267952468
A27: MENOS AMORTIZACION ANTICIPO | I27: =+'ACTA OBRA 1'!H101 -> 59544993
A30: VALOR TOTAL A PAGAR | I30: =+I25-I27-I28 -> 208407475
A31: INTEGRANTES DEL CONSORCIO MIGUEL ANGEL MARTINEZ AMORTEGUI C.C. 80.262.554 PARTICIPACION 50% IES INGENIEROS SAS NIT. 900.317.964-1 PARTICIPACION 50%
B33: DOSCIENTOS SESENTA Y SIETE MILLONES NOVECIENTOS | I33: =+I25-I35 -> 266775699
B35: CINCUENTA Y DOS MIL CUATROCIENTOS SESENTA Y | I35: =+I23 -> 1176769
B36: OCHO PESOS MCTE | I36: =+SUM(I33:I35) -> 267952468

Sheet ACTA OBRA 1
C1: ACTA DE RECIBO PARCIAL Y BALANCE PRESUPUESTAL | L1: CÓDIGO: | N1: FMI043
L2: VERSIÓN: | N2: 04B
C3: GERENCIA DE PROYECTOS | L3: VIGENCIA: | N3: 42766
B5: ACTA No. | C5: 1 PARCIAL - DE OBRA - PUERTO BERRIO
B6: TIPO DE CONTRATO: | C6: OBRA | G6: CONTRATO No. | H6: 2181252
B7: OBJETO: | C7: DIAGNÓSTICO, CONCERTACIÓN, PLAN DE INTERVENCIÓN Y EJECUCIÓN DE LA CONSTRUCCIÓN DEL PROGRAMA DE CONEXIONES INTRADOMICIALIARIAS EN LOS MUNICIPIOS DE: PUERTO BERRIO – ANTIOQUIA, COTORRA Y LA APARTADA – CÓRDOBA – GRUPO 1: PUERTO BERRIO ANTIOQUIA.
B8: CONTRATISTA : | C8: CONSORCIO REDES IM
B9: INTERVENTOR: | C9: CONSORCIO CORDOBA MV
B10: PERÍODO A PAGAR: DEL 6 DE SEPTIEMBRE DE 2018 AL 30 DE NOVIEMBRE DE 2018
B14: ÍTEM | C14: DESCRIPCIÓN (Corresponde a los ítems o productos contratados) | D14: UNIDAD | E14: CONTRATO | H14: CANTIDADES | K14: VALORES | N14: SALDOS
E15: CANTIDAD CONTRATO | F15: VALOR UNITARIO | G15: VALOR TOTAL | H15: ACUMULADO ANTERIOR | I15: PRESENTE MES | J15: ACUMULADO TOTAL | K15: ACUMULADO ANTERIOR | L15: PRESENTE MES | M15: ACUMULADO TOTAL | N15: CANTIDAD | O15: VALOR
C16: ='[7]Puerto Berrio'!$B$25 -> INSTALACIONES HIDROSANITARIAS
C17: ='[7]Puerto Berrio'!$C$26 -> CONEXIONES INTRADOMICILIARIAS
B18: ='[7]Puerto Berrio'!B27 -> 3.1 | C18: ='[7]Puerto Berrio'!C27 -> Red intradomiciliarias de acueducto de 1/2" | D18: ML | E18: 1 | F18: 11313 | G18: =ROUND((E18*F18),0) -> 11313 | I18: =+'Ejecución de Obra'!E789 -> 205.6 | J18: =+H18+I18 -> 205.6 | K18: =+ROUND((H18*F18),0) -> 0 | L18: =+ROUND((I18*F18),0) -> 2325953 | M18: =+ROUND((K18+L18),0) -> 2325953 | O18: =+N18*F18 -> 0
B19: ='[7]Puerto Berrio'!B28 -> 3.2 | C19: ='[7]Puerto Berrio'!C28 -> Red intradomiciliarias de alcantarillado de 4" | D19: ML | E19: 1 | F19: 55890 | G19: =ROUND((E19*F19),0) -> 55890 | I19: =+'Ejecución de Obra'!F789 -> 176.85 | J19: =+H19+I19 -> 176.85 | K19: =+ROUND((H19*F19),0) -> 0 | L19: =+ROUND((I19*F19),0) -> 9884147 | M19: =+ROUND((K19+L19),0) -> 9884147 | O19: =+N19*F19 -> 0
B20: ='[7]Puerto Berrio'!B29 -> 3.3 | C20: ='[7]Puerto Berrio'!C29 -> Red intradomiciliaria derivada sanitaria de 2" | D20: ML | E20: 1 | F20: 30145 | G20: =ROUND((E20*F20),0) -> 30145 | I20: =+'Ejecución de Obra'!G789 -> 103.37 | J20: =+H20+I20 -> 103.37 | K20: =+ROUND((H20*F20),0) -> 0 | L20: =+ROUND((I20*F20),0) -> 3116089 | M20: =+ROUND((K20+L20),0) -> 3116089 | O20: =+N20*F20 -> 0
B21: ='[7]Puerto Berrio'!B30 -> 3.4 | C21: ='[7]Puerto Berrio'!C30 -> Suministro e instalación de SANITARIO (INODORO). Incluye tuberías y accesorios para el correcto funcionamiento del elemento instalado. | D21: Und | E21: 1 | F21: 268589 | G21: =ROUND((E21*F21),0) -> 268589 | I21: =+'Ejecución de Obra'!H789 -> 62 | J21: =+H21+I21 -> 62 | K21: =+ROUND((H21*F21),0) -> 0 | L21: =+ROUND((I21*F21),0) -> 16652518 | M21: =+ROUND((K21+L21),0) -> 16652518 | O21: =+N21*F21 -> 0
B22: ='[7]Puerto Berrio'!B31 -> 3.5 | C22: ='[7]Puerto Berrio'!C31 -> Suministro e instalación de DUCHA. Incluye tuberías y accesorios para el correcto funcionamiento del elemento instalado. | D22: Und | E22: 1 | F22: 136151 | G22: =ROUND((E22*F22),0) -> 136151 | I22: =+'Ejecución de Obra'!I789 -> 62 | J22: =+H22+I22 -> 62 | K22: =+ROUND((H22*F22),0) -> 0 | L22: =+ROUND((I22*F22),0) -> 8441362 | M22: =+ROUND((K22+L22),0) -> 8441362 | O22: =+N22*F22 -> 0
B23: ='[7]Puerto Berrio'!B32 -> 3.6 | C23: ='[7]Puerto Berrio'!C32 -> Suministro e instalación de LAVAMANOS CON PEDESTAL. Incluye tuberías y accesorios para el correcto funcionamiento del elemento instalado. | D23: Und | E23: 1 | F23: 156230 | G23: =ROUND((E23*F23),0) -> 156230 | I23: =+'Ejecución de Obra'!J789 -> 62 | J23: =+H23+I23 -> 62 | K23: =+ROUND((H23*F23),0) -> 0 | L23: =+ROUND((I23*F23),0) -> 9686260 | M23: =+ROUND((K23+L23),0) -> 9686260 | O23: =+N23*F23 -> 0
B24: ='[7]Puerto Berrio'!B33 -> 3.7 | C24: ='[7]Puerto Berrio'!C33 -> Suministro e instalación de LAVADERO ESTANDAR montado sobre mampostería pañetada. Incluye tuberías y accesorios para el correcto funcionamiento del elemento instalado. | D24: Und | E24: 1 | F24: 383800 | G24: =ROUND((E24*F24),0) -> 383800 | I24: =+'Ejecución de Obra'!K789 -> 26 | J24: =+H24+I24 -> 26 | K24: =+ROUND((H24*F24),0) -> 0 | L24: =+ROUND((I24*F24),0) -> 9978800 | M24: =+ROUND((K24+L24),0) -> 9978800 | O24: =+N24*F24 -> 0
B25: ='[7]Puerto Berrio'!B34 -> 3.8 | C25: ='[7]Puerto Berrio'!C34 -> Suministro e instalación de LAVAPLATOS montado sobre mampostería pañetada. Incluye tuberías y accesorios para el correcto funcionamiento del elemento instalado. | D25: Und | E25: 1 | F25: 443629 | G25: =ROUND((E25*F25),0) -> 443629 | I25: =+'Ejecución de Obra'!L789 -> 14 | J25: =+H25+I25 -> 14 | K25: =+ROUND((H25*F25),0) -> 0 | L25: =+ROUND((I25*F25),0) -> 6210806 | M25: =+ROUND((K25+L25),0) -> 6210806 | O25: =+N25*F25 -> 0
C26: ='[7]Puerto Berrio'!C35 -> APARATOS | G26: =ROUND((E26*F26),0) -> 0 | J26: =+H26+I26 -> 0 | K26: =+ROUND((H26*F26),0) -> 0 | L26: =+ROUND((I26*F26),0) -> 0 | M26: =+ROUND((K26+L26),0) -> 0 | O26: =+N26*F26 -> 0
B27: ='[7]Puerto Berrio'!B36 -> 3.9 | C27: ='[7]Puerto Berrio'!C36 -> Suministro e instalación de SANITARIO (INODORO). | D27: Und | E27: 1 | F27: 167134 | G27: =ROUND((E27*F27),0) -> 167134 | I27: =+'Ejecución de Obra'!N789 -> 0 | J27: =+H27+I27 -> 0 | K27: =+ROUND((H27*F27),0) -> 0 | L27: =+ROUND((I27*F27),0) -> 0 | M27: =+ROUND((K27+L27),0) -> 0 | O27: =+N27*F27 -> 0
B28: ='[7]Puerto Berrio'!B37 -> 3.1 | C28: ='[7]Puerto Berrio'!C37 -> Suministro e instalación de LAVAMANOS CON PEDESTAL. | D28: Und | E28: 1 | F28: 98605 | G28: =ROUND((E28*F28),0) -> 98605 | I28: =+'Ejecución de Obra'!O789 -> 0 | J28: =+H28+I28 -> 0 | K28: =+ROUND((H28*F28),0) -> 0 | L28: =+ROUND((I28*F28),0) -> 0 | M28: =+ROUND((K28+L28),0) -> 0 | O28: =+N28*F28 -> 0
B29: ='[7]Puerto Berrio'!B38 -> 3.11 | C29: ='[7]Puerto Berrio'!C38 -> Suministro e instalación de LAVADERO ESTANDAR. | D29: Und | E29: 1 | F29: 254768 | G29: =ROUND((E29*F29),0) -> 254768 | I29: =+'Ejecución de Obra'!P789 -> 0 | J29: =+H29+I29 -> 0 | K29: =+ROUND((H29*F29),0) -> 0 | L29: =+ROUND((I29*F29),0) -> 0 | M29: =+ROUND((K29+L29),0) -> 0 | O29: =+N29*F29 -> 0
B30: ='[7]Puerto Berrio'!B39 -> 3.12 | C30: ='[7]Puerto Berrio'!C39 -> Suministro e instalación de LAVAPLATOS (incluye grifería). | D30: Und | E30: 1 | F30: 225647 | G30: =ROUND((E30*F30),0) -> 225647 | I30: =+'Ejecución de Obra'!Q789 -> 2 | J30: =+H30+I30 -> 2 | K30: =+ROUND((H30*F30),0) -> 0 | L30: =+ROUND((I30*F30),0) -> 451294 | M30: =+ROUND((K30+L30),0) -> 451294 | O30: =+N30*F30 -> 0
C31: ='[7]Puerto Berrio'!C40 -> CONEXIONES DOMICILIARIAS | G31: =ROUND((E31*F31),0) -> 0 | J31: =+H31+I31 -> 0 | K31: =+ROUND((H31*F31),0) -> 0 | L31: =+ROUND((I31*F31),0) -> 0 | M31: =+ROUND((K31+L31),0) -> 0 | O31: =+N31*F31 -> 0
B32: ='[7]Puerto Berrio'!B41 -> 3.13 | C32: ='[7]Puerto Berrio'!C41 -> Conexión domiciliaria a red de alcantarillado (silleta de 6" a 8") | D32: Und | E32: 1 | F32: 139499 | G32: =ROUND((E32*F32),0) -> 139499 | I32: =+'Ejecución de Obra'!S789 -> 0 | J32: =+H32+I32 -> 0 | K32: =+ROUND((H32*F32),0) -> 0 | L32: =+ROUND((I32*F32),0) -> 0 | M32: =+ROUND((K32+L32),0) -> 0 | O32: =+N32*F32 -> 0
B33: ='[7]Puerto Berrio'!B42 -> 3.14 | C33: ='[7]Puerto Berrio'!C42 -> Conexión domiciliaria a red de alcantarillado (silleta de 6" a 10") | D33: Und | E33: 1 | F33: 155787 | G33: =ROUND((E33*F33),0) -> 155787 | I33: =+'Ejecución de Obra'!T789 -> 0 | J33: =+H33+I33 -> 0 | K33: =+ROUND((H33*F33),0) -> 0 | L33: =+ROUND((I33*F33),0) -> 0 | M33: =+ROUND((K33+L33),0) -> 0 | O33: =+N33*F33 -> 0
B34: ='[7]Puerto Berrio'!B43 -> 3.15 | C34: ='[7]Puerto Berrio'!C43 -> Conexión domiciliaria a red de acueducto (Collarin de derivación de 4" x 1/2") | D34: Und | E34: 1 | F34: 30882 | G34: =ROUND((E34*F34),0) -> 30882 | I34: =+'Ejecución de Obra'!U789 -> 0 | J34: =+H34+I34 -> 0 | K34: =+ROUND((H34*F34),0) -> 0 | L34: =+ROUND((I34*F34),0) -> 0 | M34: =+ROUND((K34+L34),0) -> 0 | O34: =+N34*F34 -> 0
B35: ='[7]Puerto Berrio'!B44 -> 3.16 | C35: ='[7]Puerto Berrio'!C44 -> Tubería sanitaria PVC de 6" | D35: ML | E35: 1 | F35: 125051 | G35: =ROUND((E35*F35),0) -> 125051 | I35: =+'Ejecución de Obra'!V789 -> 15 | J35: =+H35+I35 -> 15 | K35: =+ROUND((H35*F35),0) -> 0 | L35: =+ROUND((I35*F35),0) -> 1875765 | M35: =+ROUND((K35+L35),0) -> 1875765 | O35: =+N35*F35 -> 0
B36: ='[7]Puerto Berrio'!B45 -> 3.17 | C36: ='[7]Puerto Berrio'!C45 -> Tubería de agua potable PVC de 1/2" o Manguera PF-UAD de 1/2" | D36: ML | E36: 1 | F36: 47500 | G36: =ROUND((E36*F36),0) -> 47500 | I36: =+'Ejecución de Obra'!W789 -> 0 | J36: =+H36+I36 -> 0 | K36: =+ROUND((H36*F36),0) -> 0 | L36: =+ROUND((I36*F36),0) -> 0 | M36: =+ROUND((K36+L36),0) -> 0 | O36: =+N36*F36 -> 0
B37: ='[7]Puerto Berrio'!B46 -> 3.18 | C37: ='[7]Puerto Berrio'!C46 -> Suministro e instalación de micromedidores de 1/2". Incluye caja y registro. Para los municipio de Cotorra, La Aguada-Cordoba y Purto Berrio-Antioquia | D37: Und | E37: 1 | F37: 178393 | G37: =ROUND((E37*F37),0) -> 178393 | I37: =+'Ejecución de Obra'!X789 -> 0 | J37: =+H37+I37 -> 0 | K37: =+ROUND((H37*F37),0) -> 0 | L37: =+ROUND((I37*F37),0) -> 0 | M37: =+ROUND((K37+L37),0) -> 0 | O37: =+N37*F37 -> 0
C38: ='[7]Puerto Berrio'!C47 -> CAJAS DE INSPECCIÓN | J38: =+H38+I38 -> 0 | K38: =+ROUND((H38*F38),0) -> 0 | L38: =+ROUND((I38*F38),0) -> 0 | M38: =+ROUND((K38+L38),0) -> 0 | O38: =+N38*F38 -> 0
B39: ='[7]Puerto Berrio'!B48 -> 3.19 | C39: ='[7]Puerto Berrio'!C48 -> Construcción de caja de inspección en concreto 21MPa de 0.40 m x 0.40 m x 1.00 m (profundidad variable - ML) Aplica para INTRADOMICILIARIAS | D39: ML | E39: 1 | F39: 258175 | G39: =ROUND((E39*F39),0) -> 258175 | I39: =+'Ejecución de Obra'!Z789 -> 19.78 | J39: =+H39+I39 -> 19.78 | K39: =+ROUND((H39*F39),0) -> 0 | L39: =+ROUND((I39*F39),0) -> 5106702 | M39: =+ROUND((K39+L39),0) -> 5106702 | O39: =+N39*F39 -> 0
B40: ='[7]Puerto Berrio'!B49 -> 3.2 | C40: ='[7]Puerto Berrio'!C49 -> Construcción de caja de inspección en concreto 21MPa de 0.60 m x 0.60 m x 1.00 m (profundidad variable - ML) Aplica para DOMICILIARIA | D40: ML | E40: 1 | F40: 341561 | G40: =ROUND((E40*F40),0) -> 341561 | I40: =+'Ejecución de Obra'!AA789 -> 3.5 | J40: =+H40+I40 -> 3.5 | K40: =+ROUND((H40*F40),0) -> 0 | L40: =+ROUND((I40*F40),0) -> 1195464 | M40: =+ROUND((K40+L40),0) -> 1195464 | O40: =+N40*F40 -> 0
C41: ='[7]Puerto Berrio'!$B$50 -> UNIDADES SANITARIAS NUEVAS - Incluye Capítulos (2 y 3) | J41: =+H41+I41 -> 0 | K41: =+ROUND((H41*F41),0) -> 0 | L41: =+ROUND((I41*F41),0) -> 0 | M41: =+ROUND((K41+L41),0) -> 0 | O41: =+N41*F41 -> 0
B42: ='[7]Puerto Berrio'!B51 -> 4.1 | C42: ='[7]Puerto Berrio'!C51 -> Unidad Sanitaria tipo 1 - Caseta unidad sanitaria incluye cubierta con teja en fibrocemento. | D42: Und | E42: 1 | F42: 2848540 | G42: =ROUND((E42*F42),0) -> 2848540 | I42: =+'Ejecución de Obra'!AC789 -> 33 | J42: =+H42+I42 -> 33 | K42: =+ROUND((H42*F42),0) -> 0 | L42: =+ROUND((I42*F42),0) -> 94001820 | M42: =+ROUND((K42+L42),0) -> 94001820 | O42: =+N42*F42 -> 0
B43: ='[7]Puerto Berrio'!B52 -> 4.2 | C43: ='[7]Puerto Berrio'!C52 -> Unidad Sanitaria tipo 2 - Caseta unidad sanitaria interna - sin cubierta. | D43: Und | E43: 1 | F43: 2552299 | G43: =ROUND((E43*F43),0) -> 2552299 | I43: =+'Ejecución de Obra'!AD789 -> 19 | J43: =+H43+I43 -> 19 | K43: =+ROUND((H43*F43),0) -> 0 | L43: =+ROUND((I43*F43),0) -> 48493681 | M43: =+ROUND((K43+L43),0) -> 48493681 | O43: =+N43*F43 -> 0
B44: ='[7]Puerto Berrio'!B53 -> 4.3 | C44: ='[7]Puerto Berrio'!C53 -> Unidad Sanitaria tipo 3 - Caseta unidad sanitaria con placa superior para instalación de tanque y cubierta en fibrocemento | D44: Und | E44: 1 | F44: 3211198 | G44: =ROUND((E44*F44),0) -> 3211198 | I44: =+'Ejecución de Obra'!AE789 -> 0 | J44: =+H44+I44 -> 0 | K44: =+ROUND((H44*F44),0) -> 0 | L44: =+ROUND((I44*F44),0) -> 0 | M44: =+ROUND((K44+L44),0) -> 0 | O44: =+N44*F44 -> 0
...

Sheet ENCUESTAS
A1: POTENCIALES BENEFICIARIOS DEL PROGRAMA DE CONEXIONES INTRADOMICILIARIAS | DL1: TOPE INTRADOM | DM1: =8.23*737717*1.035-Tipologías!E6 -> 6099266.3 | DR1: TOPE DOM | DS1: =1.8*737717*1.035 -> 1374366.8
A3: IDENTIFICACIÓN ENCUESTA | H3: A. IDENTIFICACIÓN | AN3: B. PREGUNTAR | BI3: C. PREGUNTAR Y COMPROBAR | BN3: D. VERIFICACIÓN FINAL | CE3: D. VERIFICACIÓN FINAL | CY3: INTRADOMICILIARIA | DM3: DOMICILIARIA
H4: DIRECCION | V4: DATOS DEL JEFE DEL HOGAR | AG4: CÓNYUGE | AN4: 1 | AP4: 2 | AQ4: 3 | AR4: 4 | AS4: 5 | AT4: 6 | AV4: 7 | AX4: 8 | AY4: 9 | BB4: 10 | BH4: 11 | BI4: 12 | BJ4: 13 | BK4: 14 | BL4: 15 | BM4: 16 | BN4: 17 | BO4: 18 | BP4: 19 | BQ4: 20 | BR4: 21 | BS4: 22 | BT4: 23 | BY4: 24 | CD4: 25 | CE4: 26 | CF4: 27 | CG4: 28 | CH4: 29 | CI4: 30 | CJ4: 31 | CK4: 32 | CL4: 33 | CM4: 34 | CO4: 35 | CP4: 36 | CU4: 37 | CY4: Lavamanos | CZ4: Ducha | DA4: Inodoro | DB4: Lavaplatos | DC4: Lavadero | DD4: Tanque | DE4: Caja 40X40 | DF4: Unidad sanitaria | DG4: Adecuación | DH4: Intradom de acueducto | DI4: Intrad de alcantarillado | DM4: Acometida Acue | DN4: Acometida Alcant | DO4: Medidor | DP4: Caja 60X60
A5: FECHA DE LA VISITA | B5: DEPARTAMENTO | C5: MUNICIPIO | D5: COD. MUNICIPIO | E5: CÓDIGO - NOMBRE VERIFICADOR | F5: TEL. CELULAR VERIFICADOR | G5: FORMULARIO N°. | H5: BARRIO / VEREDA | I5: TIPO VIA | J5: VIA PRINCIPAL | K5: LETRA PRINCIPAL | L5: SUFIJO (BIS) | M5: LETRA SUFIJO | N5: CUADRANTE | O5: VIA GENERADORA (NÚMERO) | P5: LETRA GENERADORA | Q5: SUFIJO GENERADORA (BIS) | R5: NÚMERO PLACA | S5: CUADRANTE | T5: INTERIOR | U5: DIRECCIÓN CONCATENADA | V5: CELULAR | W5: PRIMER APELLIDO | X5: SEGUNDO APELLIDO | Y5: PRIMER NOMBRE | Z5: SEGUNDO NOMBRE | AA5: NOMBRE CONCATENADO | AB5: TIPO IDENTIFICACIÓN | AC5: N°. IDENTIFICACIÓN | AD5: SEXO | AE5: EDAD | AF5: ¿MADRE CABEZA DE HOGAR? | AG5: PRIMER APELLIDO | AH5: SEGUNDO APELLIDO | AI5: PRIMER NOMBRE | AJ5: SEGUNDO NOMBRE | AK5: NOMBRE CONCATENADO | AL5: TIPO ID. | AM5: N° ID. CONYUGE | AN5: ES FAMILIA RED UNIDOS | AO5: N° FOLIO | AP5: ¿FAMILIA DESPLAZADA? | AQ5: NÚMERO TOTAL DE MIEMBROS | AR5: ¿CUÁNTOS MENORES DE EDAD? | AS5: ¿CUÁNTOS MENORES DE 5 AÑOS? | AT5: LA VIVIENDA Y/O LOTE OCUPADO ES: | AU5: OTRO - ¿CUÁL? | AV5: DOC. QUE ACREDITA PROPIEDAD | AW5: OTRO - ¿CUÁL? | AX5: EL CONTRATO DE ARRIENDO ES: | AY5: DURACIÓN DE CONTRATO (AÑOS) | AZ5: DURACIÓN DE CONTRATO (MESES) | BA5: VALOR DEL CONTRATO EN $ | BB5: ACUEDUCTO | BC5: ¿CUÁNTO PAGA DE ACUEDUCTO? | BD5: ALCANTARILLADO | BE5: ¿CUÁNTO PAGA DE ALCANTARILLADO? | BF5: ASEO | BG5: ¿CUÁNTO PAGA DE ASEO? | BH5: ¿Con qué tipo de servicio sanitario cuenta el hogar? | BI5: ¿QUÉ MATERIAL PREDOMINA EN PAREDES EXTERIORES? | BJ5: ¿QUÉ MATERIAL PREDOMINA EN EL TECHO? | BK5: ¿QUÉ MATERIAL PREDOMINA EN LOS PISOS? | BL5: ¿LA VIVIENDA TIENE ESPACIO SEPARADO DE BAÑO? | BM5: ¿LA VIVIENDA TIENE PATIO O ESPACIO DESCUBIERTO? | BN5: ¿LA VIVIENDA CUENTA CON ACOMETIDA ACUEDUCTO? | BO5: ¿LA VIVIENDA CUENTA CON ACOMETIDA ALCANTARILLADO? | BP5: ¿LA VIVIENDA CUENTA CON MEDIDOR DE AGUA? | BQ5: ¿LA VIVIENDA CUENTA CON CAJA DE INSPECCIÓN? | BR5: ¿LA VIVIENDA CUENTA CON TUBERÍAS INTERNAS DE ACUEDUCTO? | BS5: ¿LA VIVIENDA CUENTA CON TUBERÍAS INTERNAS DE ALCANTARILLADO? | BT5: ¿LA VIVIENDA CUENTA CON INODORO? | BU5: ¿LA VIVIENDA CUENTA CON LAVAPLATOS? | BV5: ¿LA VIVIENDA CUENTA CON LAVAMANOS? | BW5: ¿LA VIVIENDA CUENTA CON LAVADERO? | BX5: ¿LA VIVIENDA CUENTA CON DUCHA? | BY5: ¿EL INODORO CUENTA CON ACUEDUCTO Y ALCANTARILLADO? | BZ5: ¿EL LAVAPLATOS CUENTA CON ACUEDUCTO Y ALCANTARILLADO? | CA5: ¿EL LAVAMANOS CUENTA CON ACUEDUCTO Y ALCANTARILLADO? | CB5: ¿EL LAVADERO CUENTA CON ACUEDUCTO Y ALCANTARILLADO? | CC5: ¿LA DUCHA CUENTA CON ACUEDUCTO Y ALCANTARILLADO? | CD5: ¿EL APARATO SANITARIO ES? | CE5: OBSERVACIONES | CF5: EN CASO DE NO CONTAR CON ACOMETIDA DE ACUEDUCTO, ¿CÓMO OBTIENE EL AGUA PARA SU CONSUMO? | CG5: EN CASO DE NO CONTAR CON ACOMETIDA DE ALCANTARILLADO, ¿CÓMO DISPONE DE LAS AGUAS RESIDUALES DE LAVAPLATOS? | CH5: EN CASO DE NO CONTAR CON ACOMETIDA DE ALCANTARILLADO, ¿CÓMO DISPONE DE LAS AGUAS RESIDUALES DE LAVADERO? | CI5: EN CASO DE NO CONTAR CON ACOMETIDA DE ALCANTARILLADO, ¿CÓMO DISPONE DE LAS AGUAS RESIDUALES DE DUCHA? | CJ5: EL SERVICIO DE AGUA PRESENTA LA SIGUIENTE PRESIÓN: | CK5: EL SERVICIO DE AGUA TIENE LA SIGUIENTE CONTINUIDAD: | CL5: ¿LAS ACOMETIDAS DE ACUEDUCTO Y ALCANTARILLADO FUERON CONSTRUIDAS POR LA EMPRESA QUE PRESTA EL SERVICIO? | CM5: ¿LAS TUBERÍAS DE LAS ACOMETIDAS DE ACUEDUCTO PRESENTAN FUGAS? | CN5: ¿LAS TUBERÍAS DE LAS ACOMETIDAS DE ALCANTARILLADO PRESENTAN FUGAS? | CO5: ¿LA TUBERÍA DE AGUA POTABLE INSTALADA AL INTERIOR DE LA VIVIENDA, PREDOMINA EN QUÉ MATERIAL? | CP5: ¿LOS APARATOS FUNCIONAN ADECUADAMENTE: INODORO? | CQ5: ¿LOS APARATOS FUNCIONAN ADECUADAMENTE: LAVAPLATOS? | CR5: ¿LOS APARATOS FUNCIONAN ADECUADAMENTE: LAVAMANOS? | CS5: ¿LOS APARATOS FUNCIONAN ADECUADAMENTE: LAVADERO? | CT5: ¿LOS APARATOS FUNCIONAN ADECUADAMENTE: DUCHA? | CU5: LOS ESPACIOS DONDE ESTÁN DISPUESTOS LOS APARATOS SE ENCUENTRAN EN: | CV5: CONCATENAR DIRECCIÓN | CW5: VERIFICAR DIRECCIÓN | CX5: ENCUESTA VÁLIDA | CY5: 1 | CZ5: 2 | DA5: 3 | DB5: 4 | DC5: 5 | DD5: 6 | DE5: 7 | DF5: 8 | DG5: 9 | DH5: 10 | DI5: 11 | DJ5: No. INTERVENCIONES | DK5: VALOR INTRADOMICILIARIA | DL5: VALOR INTRADOMICILIARIA AJUSTADO AL TOPE | DM5: 17 | DN5: 18 | DO5: 19 | DP5: 20 | DQ5: VALOR DOMICILIARIA | DR5: Intervención Domiciliaria? | DS5: VALOR DOMICILIARIA AJUSTADO AL TOPE | DT5: VALOR TOTAL DE LA INTERVENCIÓN | DU5: INTERVENCIÓN? | DV5: CÓDIGO INMUEBLE
A6: 42970 | B6: ANTIOQUIA | C6: Puerto Berrío | D6: 579 | E6: 1039704703 | F6: 3218398050 | G6: 1 | H6: OASIS | I6: PEATONAL | R6: 22058250 | U6: =CONCATENATE(I6," ",J6,K6," ",L6," ",M6,"# "," ",N6,O6," ",P6,"- ",Q6," ",R6," ",S6) -> PEATONAL # - 22058250 | W6: AULLON | X6: GOMEZ | Y6: DIANA | Z6: MARCELA | AA6: =+CONCATENATE(Y6," ",Z6," ",W6," ",X6) -> DIANA MARCELA AULLON GOMEZ | AB6: Cédula | AC6: 43655719 | AD6: F | AE6: 37 | AF6: NO | AG6: CALDERON | AH6: SANCHEZ | AI6: MIGUEL | AJ6: ANTONIO | AK6: =+CONCATENATE(AI6," ",AJ6," ",AG6," ",AH6) -> MIGUEL ANTONIO CALDERON SANCHEZ | AL6: Cédula | AM6: 71189649 | AN6: SI | AO6: 3165479 | AP6: SI | AQ6: 4 | AR6: 1 | AS6: 1 | AT6: PROPIA, TOTALMENTE PAGADA | AV6: CERTIFICADO DE COMPRAVENTA | BB6: SI | BC6: 7137 | BD6: SI | BE6: 4621 | BF6: SI | BG6: 8408 | BH6: INODORO CONECTADO A ALCANTARILLADO | BI6: MADERA BURDA, TABLA, TABLÓN | BJ6: TEJA DE BARRO, ZINC, ETERNIT (ASBESTO) | BK6: BALDOSA, VINILO, TABLETA O LADRILLO | BL6: SI | BM6: NO | BN6: SI | BO6: SI | BP6: SI | BQ6: SI | BR6: SI | BS6: SI | BT6: SI | BU6: SI | BV6: SI | BW6: SI | BX6: SI | BY6: SI | BZ6: SI | CA6: SI | CB6: SI | CC6: SI | CD6: INODORO CON TANQUE | CE6: EL BAÑO NO TIENE PUERTA LA VIVIENDA CUENTA CON TODO NO TIENE TELEFONO | CJ6: NORMAL - BUENA | CK6: TIENE AGUA LAS 24 HORAS | CL6: SI | CM6: NO | CN6: NO | CO6: PVC | CP6: SI | CQ6: SI | CR6: SI | CS6: SI | CT6: SI | CU6: OBRA BLANCA | CV6: =CONCATENATE(H6,I6,J6,K6,L6,M6,N6,O6,P6,Q6,R6,S6,T6) -> OASIS PEATONAL22058250 | CW6: =IF(CV6="","",IF(COUNTIF($CV$6:$CV$777,CV6)=1,"OK","¿REPETIDA?")) -> OK | CX6: =IF(COUNTBLANK(AC6)+COUNTBLANK(BH6)+COUNTBLANK(BN6:CD6)>11,"NO","SI") -> SI | CY6: =IF(CX6="NO","",IF(BV6="NO",$CY$5,IF(CA6="SI",IF(CR6="SI","",$CY$5),$CY$5))) | CZ6: =IF(CX6="NO","",IF(BX6="NO",$CZ$5,IF(CC6="SI",IF(CT6="SI","",$CZ$5),$CZ$5))) | DA6: =IF(CX6="NO","",IF(BT6="SI",IF(CD6="INODORO CON TANQUE",IF(BY6="SI",IF(CP6="SI","",$DA$5),$DA$5),$DA$5),$DA$5)) | DB6: =IF(CX6="NO","",IF(BU6="NO",$DB$5,IF(BZ6="SI",IF(CQ6="SI","",$DB$5),$DB$5))) | DC6: =IF(CX6="NO","",IF(BW6="NO",$DC$5,IF(CB6="SI",IF(CS6="SI","",$DC$5),$DC$5))) | DE6: =IF(DF6=8,$DE$5,IF(COUNT(CY6:DC6)<3,"",$DE$5)) | DF6: =IF(CX6="NO","",IF(COUNT(CY6:DA6)<1,"",IF(CU6="OBRA GRIS","",IF(CU6="OBRA BLANCA","",IF(CU6="OBRA NEGRA","",$DF$5))))) | DG6: =IF(DF6=8,"",IF(COUNT(CY6:DA6)<1,"",IF(CU6="OBRA GRIS",$DG$5,IF(CU6="OBRA NEGRA",$DG$5,"")))) | DH6: =IF(CX6="NO","",IF(BR6="SI","",$DH$5)) | DI6: =IF(CX6="NO","",IF(BS6="SI","",$DI$5)) | DJ6: =IF(CX6="NO","",COUNT(CY6:DC6)) -> 0 | DK6: =IF(CX6="NO",0,IF(CY6=1,Tipologías!$E$11,0)+IF(CZ6=2,Tipologías!$E$10,0)+IF(DA6=3,Tipologías!$E$9,0)+IF(DB6=4,Tipologías!$E$13,0)+IF(DC6=5,Tipologías!$E$12,0)+IF(DD6=6,Tipologías!$E$14,0)+IF(DE6=7,Tipologías!$E$20,0)+IF(DG6=9,Tipologías!$E$16,0)+IF(DF6=8,Tipologías!$E$23,0)+IF(DH6=10,Tipologías!$E$7,0)+IF(DI6=11,Tipologías!$E$8,0)) -> 0 | DL6: =IF(DK6>0,IF(DK6>$DM$1,$DM$1,DK6),0) -> 0 | DM6: =IF(DK6=0,"",IF(BN6="SI","",$DM$5)) | DN6: =IF(DK6=0,"",IF(BO6="SI","",$DN$5)) | DO6: =IF(DK6=0,"",IF(BP6="SI",0,$DO$5)) | DP6: =IF(DK6=0,"",IF(BQ6="SI","",$DP$5)) | DQ6: =IF(DM6=17,Tipologías!$E$18,0)+IF(ENCUESTAS!DN6=18,Tipologías!$E$17,0)+IF(ENCUESTAS!DO6=19,Tipologías!$E$19,0)+IF(ENCUESTAS!DP6=20,Tipologías!$E$21,0) -> 0 | DR6: =IF(DK6="0","NO",IF(SUM(DM6:DP6)<1,"NO","SI")) -> NO | DS6: =IF(DL6>0,IF(DR6="SI",IF(DQ6>$DS$1,$DS$1,DQ6),0),0) -> 0 | DT6: =IF(DL6=0,"",(DL6+DS6+Tipologías!$E$6+Tipologías!$H$2)) | DU6: =IF(CX6="NO","NO",IF(DK6>0,"SI","NO")) -> NO
A7: 42970 | B7: ANTIOQUIA | C7: Puerto Berrío | D7: 579 | E7: 1039704703 | F7: 3218398050 | G7: 2 | H7: OASIS | I7: PEATONAL | R7: 22055400 | U7: =CONCATENATE(I7," ",J7,K7," ",L7," ",M7,"# "," ",N7,O7," ",P7,"- ",Q7," ",R7," ",S7) -> PEATONAL # - 22055400 | V7: 3127179124 | W7: TILANO | X7: RAMIREZ | Y7: SHIRLEY | Z7: YADIRA | AA7: =+CONCATENATE(Y7," ",Z7," ",W7," ",X7) -> SHIRLEY YADIRA TILANO RAMIREZ | AB7: Cédula | AC7: 100714267 | AD7: F | AE7: 19 | AF7: NO | AG7: CAPERA | AH7: SEDEÑO | AI7: JOSE | AJ7: ROBINSON | AK7: =+CONCATENATE(AI7," ",AJ7," ",AG7," ",AH7) -> JOSE ROBINSON CAPERA SEDEÑO | AL7: Cédula | AM7: 1039687016 | AN7: SI | AO7: 3165104 | AP7: NO | AQ7: 3 | AR7: 1 | AS7: 1 | AT7: PROPIA, LA ESTÁN PAGANDO | AV7: ESCRITURA PÚBLICA | BB7: SI | BC7: 17666 | BD7: SI | BE7: 12614 | BF7: SI | BG7: 8150 | BH7: INODORO CONECTADO A ALCANTARILLADO | BI7: MADERA PULIDA | BJ7: TEJA DE BARRO, ZINC, ETERNIT (ASBESTO) | BK7: CEMENTO, GRAVILLA | BL7: SI | BM7: NO | BN7: SI | BO7: SI | BP7: SI | BQ7: SI | BR7: SI | BS7: SI | BT7: SI | BU7: NO | BV7: NO | BW7: SI | BX7: SI | BY7: SI | BZ7: NO | CA7: NO | CB7: SI | CC7: SI | CD7: INODORO CON TANQUE | CE7: EL BAÑO NO CUENTA CON PUERTA NO TIENE LAVAMANOS ,LAVAPLATOS | CJ7: NORMAL - BUENA | CK7: TIENE AGUA LAS 24 HORAS | CL7: SI | CM7: NO | CN7: NO | CO7: PVC | CP7: SI | CQ7: NO | CR7: NO | CS7: SI | CT7: SI | CU7: OBRA NEGRA | CV7: =CONCATENATE(H7,I7,J7,K7,L7,M7,N7,O7,P7,Q7,R7,S7,T7) -> OASIS PEATONAL22055400 | CW7: =IF(CV7="","",IF(COUNTIF($CV$6:$CV$777,CV7)=1,"OK","¿REPETIDA?")) -> OK | CX7: =IF(COUNTBLANK(AC7)+COUNTBLANK(BH7)+COUNTBLANK(BN7:CD7)>11,"NO","SI") -> SI | CY7: =IF(CX7="NO","",IF(BV7="NO",$CY$5,IF(CA7="SI",IF(CR7="SI","",$CY$5),$CY$5))) -> 1 | CZ7: =IF(CX7="NO","",IF(BX7="NO",$CZ$5,IF(CC7="SI",IF(CT7="SI","",$CZ$5),$CZ$5))) | DA7: =IF(CX7="NO","",IF(BT7="SI",IF(CD7="INODORO CON TANQUE",IF(BY7="SI",IF(CP7="SI","",$DA$5),$DA$5),$DA$5),$DA$5)) | DB7: =IF(CX7="NO","",IF(BU7="NO",$DB$5,IF(BZ7="SI",IF(CQ7="SI","",$DB$5),$DB$5))) -> 4 | DC7: =IF(CX7="NO","",IF(BW7="NO",$DC$5,IF(CB7="SI",IF(CS7="SI","",$DC$5),$DC$5))) | DE7: =IF(DF7=8,$DE$5,IF(COUNT(CY7:DC7)<3,"",$DE$5)) | DF7: =IF(CX7="NO","",IF(COUNT(CY7:DA7)<1,"",IF(CU7="OBRA GRIS","",IF(CU7="OBRA BLANCA","",IF(CU7="OBRA NEGRA","",$DF$5))))) | DG7: =IF(DF7=8,"",IF(COUNT(CY7:DA7)<1,"",IF(CU7="OBRA GRIS",$DG$5,IF(CU7="OBRA NEGRA",$DG$5,"")))) -> 9 | DH7: =IF(CX7="NO","",IF(BR7="SI","",$DH$5)) | DI7: =IF(CX7="NO","",IF(BS7="SI","",$DI$5)) | DJ7: =IF(CX7="NO","",COUNT(CY7:DC7)) -> 2 | DK7: =IF(CX7="NO",0,IF(CY7=1,Tipologías!$E$11,0)+IF(CZ7=2,Tipologías!$E$10,0)+IF(DA7=3,Tipologías!$E$9,0)+IF(DB7=4,Tipologías!$E$13,0)+IF(DC7=5,Tipologías!$E$12,0)+IF(DD7=6,Tipologías!$E$14,0)+IF(DE7=7,Tipologías!$E$20,0)+IF(DG7=9,Tipologías!$E$16,0)+IF(DF7=8,Tipologías!$E$23,0)+IF(DH7=10,Tipologías!$E$7,0)+IF(DI7=11,Tipologías!$E$8,0)) -> 2858472.6 | DL7: =IF(DK7>0,IF(DK7>$DM$1,$DM$1,DK7),0) -> 2858472.6 | DM7: =IF(DK7=0,"",IF(BN7="SI","",$DM$5)) | DN7: =IF(DK7=0,"",IF(BO7="SI","",$DN$5)) | DO7: =IF(DK7=0,"",IF(BP7="SI",0,$DO$5)) -> 0 | DP7: =IF(DK7=0,"",IF(BQ7="SI","",$DP$5)) | DQ7: =IF(DM7=17,Tipologías!$E$18,0)+IF(ENCUESTAS!DN7=18,Tipologías!$E$17,0)+IF(ENCUESTAS!DO7=19,Tipologías!$E$19,0)+IF(ENCUESTAS!DP7=20,Tipologías!$E$21,0) -> 0 | DR7: =IF(DK7="0","NO",IF(SUM(DM7:DP7)<1,"NO","SI")) -> NO | DS7: =IF(DL7>0,IF(DR7="SI",IF(DQ7>$DS$1,$DS$1,DQ7),0),0) -> 0 | DT7: =IF(DL7=0,"",(DL7+DS7+Tipologías!$E$6+Tipologías!$H$2)) -> 3055550 | DU7: =IF(CX7="NO","NO",IF(DK7>0,"SI","NO")) -> SI | DV7: OAS-001
A8: 42970 | B8: ANTIOQUIA | C8: Puerto Berrío | D8: 579 | E8: 1039704703 | F8: 3218398050 | G8: 3 | H8: OASIS | I8: PEATONAL | R8: 22055539 | U8: =CONCATENATE(I8," ",J8,K8," ",L8," ",M8,"# "," ",N8,O8," ",P8,"- ",Q8," ",R8," ",S8) -> PEATONAL # - 22055539 | V8: 3128759489 | W8: BUSTAMANTE | Y8: MARIA | Z8: ARACELY | AA8: =+CONCATENATE(Y8," ",Z8," ",W8," ",X8) -> MARIA ARACELY BUSTAMANTE | AB8: Cédula | AC8: 43478947 | AD8: F | AE8: 59 | AF8: NO | AG8: BARRERO | AH8: ORTUA | AI8: JOSE | AJ8: ANTONIO | AK8: =+CONCATENATE(AI8," ",AJ8," ",AG8," ",AH8) -> JOSE ANTONIO BARRERO ORTUA | AL8: Cédula | AM8: 11296179 | AN8: NO | AP8: NO | AQ8: 2 | AT8: PROPIA, TOTALMENTE PAGADA | AV8: OTRO | BB8: SI | BC8: 7968 | BD8: SI | BE8: 5252 | BF8: SI | BG8: 8450 | BH8: NO TIENE | BI8: MADERA PULIDA | BJ8: TEJA DE BARRO, ZINC, ETERNIT (ASBESTO) | BK8: CEMENTO, GRAVILLA | BL8: NO | BM8: NO | BN8: SI | BO8: SI | BP8: SI | BQ8: SI | BR8: SI | BS8: SI | BT8: NO | BU8: NO | BV8: NO | BW8: SI | BX8: NO | BY8: NO | BZ8: NO | CA8: NO | CB8: SI | CC8: NO | CD8: NO TIENE / TUBO A LA VISTA | CE8: NO TIENE INODORO, NO TIENE LAVAMANOS, NO TIENE LAVAPLATOS Y NO TIENE DUCHA | CJ8: NORMAL - BUENA | CK8: TIENE AGUA LAS 24 HORAS | CL8: SI | CM8: SI | CN8: SI | CO8: PVC | CP8: NO | CQ8: NO | CR8: NO | CS8: SI | CT8: NO | CU8: OBRA GRIS | CV8: =CONCATENATE(H8,I8,J8,K8,L8,M8,N8,O8,P8,Q8,R8,S8,T8) -> OASIS PEATONAL22055539 | CW8: =IF(CV8="","",IF(COUNTIF($CV$6:$CV$777,CV8)=1,"OK","¿REPETIDA?")) -> OK | CX8: =IF(COUNTBLANK(AC8)+COUNTBLANK(BH8)+COUNTBLANK(BN8:CD8)>11,"NO","SI") -> SI | CY8: =IF(CX8="NO","",IF(BV8="NO",$CY$5,IF(CA8="SI",IF(CR8="SI","",$CY$5),$CY$5))) -> 1 | CZ8: =IF(CX8="NO","",IF(BX8="NO",$CZ$5,IF(CC8="SI",IF(CT8="SI","",$CZ$5),$CZ$5))) -> 2 | DA8: =IF(CX8="NO","",IF(BT8="SI",IF(CD8="INODORO CON TANQUE",IF(BY8="SI",IF(CP8="SI","",$DA$5),$DA$5),$DA$5),$DA$5)) -> 3 | DB8: =IF(CX8="NO","",IF(BU8="NO",$DB$5,IF(BZ8="SI",IF(CQ8="SI","",$DB$5),$DB$5))) -> 4 | DC8: =IF(CX8="NO","",IF(BW8="NO",$DC$5,IF(CB8="SI",IF(CS8="SI","",$DC$5),$DC$5))) | DE8: =IF(DF8=8,$DE$5,IF(COUNT(CY8:DC8)<3,"",$DE$5)) -> 7 | DF8: =IF(CX8="NO","",IF(COUNT(CY8:DA8)<1,"",IF(CU8="OBRA GRIS","",IF(CU8="OBRA BLANCA","",IF(CU8="OBRA NEGRA","",$DF$5))))) | DG8: =IF(DF8=8,"",IF(COUNT(CY8:DA8)<1,"",IF(CU8="OBRA GRIS",$DG$5,IF(CU8="OBRA NEGRA",$DG$5,"")))) -> 9 | DH8: =IF(CX8="NO","",IF(BR8="SI","",$DH$5)) | DI8: =IF(CX8="NO","",IF(BS8="SI","",$DI$5)) | DJ8: =IF(CX8="NO","",COUNT(CY8:DC8)) -> 4 | DK8: =IF(CX8="NO",0,IF(CY8=1,Tipologías!$E$11,0)+IF(CZ8=2,Tipologías!$E$10,0)+IF(DA8=3,Tipologías!$E$9,0)+IF(DB8=4,Tipologías!$E$13,0)+IF(DC8=5,Tipologías!$E$12,0)+IF(DD8=6,Tipologías!$E$14,0)+IF(DE8=7,Tipologías!$E$20,0)+IF(DG8=9,Tipologías!$E$16,0)+IF(DF8=8,Tipologías!$E$23,0)+IF(DH8=10,Tipologías!$E$7,0)+IF(DI8=11,Tipologías!$E$8,0)) -> 3804744 | DL8: =IF(DK8>0,IF(DK8>$DM$1,$DM$1,DK8),0) -> 3804744 | DM8: =IF(DK8=0,"",IF(BN8="SI","",$DM$5)) | DN8: =IF(DK8=0,"",IF(BO8="SI","",$DN$5)) | DO8: =IF(DK8=0,"",IF(BP8="SI",0,$DO$5)) -> 0 | DP8: =IF(DK8=0,"",IF(BQ8="SI","",$DP$5)) | DQ8: =IF(DM8=17,Tipologías!$E$18,0)+IF(ENCUESTAS!DN8=18,Tipologías!$E$17,0)+IF(ENCUESTAS!DO8=19,Tipologías!$E$19,0)+IF(ENCUESTAS!DP8=20,Tipologías!$E$21,0) -> 0 | DR8: =IF(DK8="0","NO",IF(SUM(DM8:DP8)<1,"NO","SI")) -> NO | DS8: =IF(DL8>0,IF(DR8="SI",IF(DQ8>$DS$1,$DS$1,DQ8),0),0) -> 0 | DT8: =IF(DL8=0,"",(DL8+DS8+Tipologías!$E$6+Tipologías!$H$2)) -> 4001821.4 | DU8: =IF(CX8="NO","NO",IF(DK8>0,"SI","NO")) -> SI | DV8: OAS-002
A9: 42970 | B9: ANTIOQUIA | C9: Puerto Berrío | D9: 579 | E9: 1039704703 | F9: 3218398050 | G9: 4 | H9: OASIS | I9: PEATONAL | R9: 22059432 | U9: =CONCATENATE(I9," ",J9,K9," ",L9," ",M9,"# "," ",N9,O9," ",P9,"- ",Q9," ",R9," ",S9) -> PEATONAL # - 22059432 | V9: 3108428732 | W9: MAYA | X9: QUIROZ | Y9: SERAFIN | AA9: =+CONCATENATE(Y9," ",Z9," ",W9," ",X9) -> SERAFIN MAYA QUIROZ | AB9: Cédula | AC9: 71187659 | AD9: M | AE9: 47 | AF9: NO | AG9: MONTOYA | AI9: MADELEINE | AK9: =+CONCATENATE(AI9," ",AJ9," ",AG9," ",AH9) -> MADELEINE MONTOYA | AN9: NO | AP9: SI | AQ9: 5 | AR9: 2 | AS9: 1 | AT9: EN ARRIENDO O SUBARRIENDO | AX9: DE PALABRA | AZ9: 3 | BA9: 150000 | BB9: SI | BC9: 11256 | BD9: SI | BE9: 7826 | BF9: SI | BG9: 8109 | BH9: INODORO CONECTADO A ALCANTARILLADO | BI9: BLOQUE, LADRILLO, PIEDRA | BJ9: TEJA DE BARRO, ZINC, ETERNIT (ASBESTO) | BK9: CEMENTO, GRAVILLA | BL9: SI | BM9: NO | BN9: SI | BO9: SI | BP9: SI | BQ9: SI | BR9: SI | BS9: SI | BT9: SI | BU9: NO | BV9: SI | BW9: SI | BX9: SI | BY9: SI | BZ9: NO | CA9: SI | CB9: SI | CC9: SI | CD9: INODORO CON TANQUE | CE9: EL BAÑO NO TIENE PUERTA . EL SEÑOR NO PRESENTA EL DOCUMENTO DE SU ESPOSA | CJ9: INTERMITENTE | CK9: TIENE AGUA LAS 24 HORAS | CL9: SI | CM9: NO | CN9: NO | CO9: PVC | CP9: SI | CQ9: NO | CR9: SI | CS9: SI | CT9: SI | CU9: OBRA GRIS | CV9: =CONCATENATE(H9,I9,J9,K9,L9,M9,N9,O9,P9,Q9,R9,S9,T9) -> OASIS PEATONAL22059432 | CW9: =IF(CV9="","",IF(COUNTIF($CV$6:$CV$777,CV9)=1,"OK","¿REPETIDA?")) -> OK | CX9: =IF(COUNTBLANK(AC9)+COUNTBLANK(BH9)+COUNTBLANK(BN9:CD9)>11,"NO","SI") -> SI | CY9: =IF(CX9="NO","",IF(BV9="NO",$CY$5,IF(CA9="SI",IF(CR9="SI","",$CY$5),$CY$5))) | CZ9: =IF(CX9="NO","",IF(BX9="NO",$CZ$5,IF(CC9="SI",IF(CT9="SI","",$CZ$5),$CZ$5))) | DA9: =IF(CX9="NO","",IF(BT9="SI",IF(CD9="INODORO CON TANQUE",IF(BY9="SI",IF(CP9="SI","",$DA$5),$DA$5),$DA$5),$DA$5)) | DB9: =IF(CX9="NO","",IF(BU9="NO",$DB$5,IF(BZ9="SI",IF(CQ9="SI","",$DB$5),$DB$5))) -> 4 | DC9: =IF(CX9="NO","",IF(BW9="NO",$DC$5,IF(CB9="SI",IF(CS9="SI","",$DC$5),$DC$5))) | DE9: =IF(DF9=8,$DE$5,IF(COUNT(CY9:DC9)<3,"",$DE$5)) | DF9: =IF(CX9="NO","",IF(COUNT(CY9:DA9)<1,"",IF(CU9="OBRA GRIS","",IF(CU9="OBRA BLANCA","",IF(CU9="OBRA NEGRA","",$DF$5))))) | DG9: =IF(DF9=8,"",IF(COUNT(CY9:DA9)<1,"",IF(CU9="OBRA GRIS",$DG$5,IF(CU9="OBRA NEGRA",$DG$5,"")))) | DH9: =IF(CX9="NO","",IF(BR9="SI","",$DH$5)) | DI9: =IF(CX9="NO","",IF(BS9="SI","",$DI$5)) | DJ9: =IF(CX9="NO","",COUNT(CY9:DC9)) -> 1 | DK9: =IF(CX9="NO",0,IF(CY9=1,Tipologías!$E$11,0)+IF(CZ9=2,Tipologías!$E$10,0)+IF(DA9=3,Tipologías!$E$9,0)+IF(DB9=4,Tipologías!$E$13,0)+IF(DC9=5,Tipologías!$E$12,0)+IF(DD9=6,Tipologías!$E$14,0)+IF(DE9=7,Tipologías!$E$20,0)+IF(DG9=9,Tipologías!$E$16,0)+IF(DF9=8,Tipologías!$E$23,0)+IF(DH9=10,Tipologías!$E$7,0)+IF(DI9=11,Tipologías!$E$8,0)) -> 633254.08 | DL9: =IF(DK9>0,IF(DK9>$DM$1,$DM$1,DK9),0) -> 633254.08 | DM9: =IF(DK9=0,"",IF(BN9="SI","",$DM$5)) | DN9: =IF(DK9=0,"",IF(BO9="SI","",$DN$5)) | DO9: =IF(DK9=0,"",IF(BP9="SI",0,$DO$5)) -> 0 | DP9: =IF(DK9=0,"",IF(BQ9="SI","",$DP$5)) | DQ9: =IF(DM9=17,Tipologías!$E$18,0)+IF(ENCUESTAS!DN9=18,Tipologías!$E$17,0)+IF(ENCUESTAS!DO9=19,Tipologías!$E$19,0)+IF(ENCUESTAS!DP9=20,Tipologías!$E$21,0) -> 0 | DR9: =IF(DK9="0","NO",IF(SUM(DM9:DP9)<1,"NO","SI")) -> NO | DS9: =IF(DL9>0,IF(DR9="SI",IF(DQ9>$DS$1,$DS$1,DQ9),0),0) -> 0 | DT9: =IF(DL9=0,"",(DL9+DS9+Tipologías!$E$6+Tipologías!$H$2)) -> 830331.47 | DU9: =IF(CX9="NO","NO",IF(DK9>0,"SI","NO")) -> SI | DV9: OAS-003
A10: 42970 | B10: ANTIOQUIA | C10: Puerto Berrío | D10: 579 | E10: 1039704703 | F10: 3218398050 | G10: 5 | H10: OASIS | I10: PEATONAL | R10: 48786 | U10: =CONCATENATE(I10," ",J10,K10," ",L10," ",M10,"# "," ",N10,O10," ",P10,"- ",Q10," ",R10," ",S10) -> PEATONAL # - 48786 | W10: PALACIOS | X10: MOSQUERA | Y10: DOMINGA | AA10: =+CONCATENATE(Y10," ",Z10," ",W10," ",X10) -> DOMINGA PALACIOS MOSQUERA | AB10: Cédula | AC10: 43654055 | AD10: F | AE10: 43 | AF10: SI | AK10: =+CONCATENATE(AI10," ",AJ10," ",AG10," ",AH10) | AN10: NO | AP10: NO | AQ10: 4 | AT10: PROPIA, LA ESTÁN PAGANDO | BB10: SI | BC10: 8298 | BD10: SI | BE10: 4621 | BF10: SI | BG10: 8408 | BH10: INODORO CONECTADO A ALCANTARILLADO | BI10: BLOQUE, LADRILLO, PIEDRA | BJ10: TEJA DE BARRO, ZINC, ETERNIT (ASBESTO) | BK10: BALDOSA, VINILO, TABLETA O LADRILLO | BL10: SI | BM10: NO | BN10: SI | BO10: SI | BP10: SI | BQ10: SI | BR10: SI | BS10: SI | BT10: SI | BU10: SI | BV10: SI | BW10: NO | BX10: SI | BY10: SI | BZ10: SI | CA10: SI | CB10: NO | CC10: SI | CD10: INODORO CON TANQUE | CE10: NO TIENE PUERTA EL BAÑO | CJ10: NORMAL - BUENA | CK10: TIENE AGUA LAS 24 HORAS | CL10: SI | CM10: NO | CN10: NO | CO10: PVC | CP10: SI | CQ10: SI | CR10: SI | CS10: NO | CT10: SI | CU10: OBRA GRIS | CV10: =CONCATENATE(H10,I10,J10,K10,L10,M10,N10,O10,P10,Q10,R10,S10,T10) -> OASIS PEATONAL48786 | CW10: =IF(CV10="","",IF(COUNTIF($CV$6:$CV$777,CV10)=1,"OK","¿REPETIDA?")) -> OK | CX10: =IF(COUNTBLANK(AC10)+COUNTBLANK(BH10)+COUNTBLANK(BN10:CD10)>11,"NO","SI") -> SI | CY10: =IF(CX10="NO","",IF(BV10="NO",$CY$5,IF(CA10="SI",IF(CR10="SI","",$CY$5),$CY$5))) | CZ10: =IF(CX10="NO","",IF(BX10="NO",$CZ$5,IF(CC10="SI",IF(CT10="SI","",$CZ$5),$CZ$5))) | DA10: =IF(CX10="NO","",IF(BT10="SI",IF(CD10="INODORO CON TANQUE",IF(BY10="SI",IF(CP10="SI","",$DA$5),$DA$5),$DA$5),$DA$5)) | DB10: =IF(CX10="NO","",IF(BU10="NO",$DB$5,IF(BZ10="SI",IF(CQ10="SI","",$DB$5),$DB$5))) | DC10: =IF(CX10="NO","",IF(BW10="NO",$DC$5,IF(CB10="SI",IF(CS10="SI","",$DC$5),$DC$5))) -> 5 | DE10: =IF(DF10=8,$DE$5,IF(COUNT(CY10:DC10)<3,"",$DE$5)) | DF10: =IF(CX10="NO","",IF(COUNT(CY10:DA10)<1,"",IF(CU10="OBRA GRIS","",IF(CU10="OBRA BLANCA","",IF(CU10="OBRA NEGRA","",$DF$5))))) | DG10: =IF(DF10=8,"",IF(COUNT(CY10:DA10)<1,"",IF(CU10="OBRA GRIS",$DG$5,IF(CU10="OBRA NEGRA",$DG$5,"")))) | DH10: =IF(CX10="NO","",IF(BR10="SI","",$DH$5)) | DI10: =IF(CX10="NO","",IF(BS10="SI","",$DI$5)) | DJ10: =IF(CX10="NO","",COUNT(CY10:DC10)) -> 1 | DK10: =IF(CX10="NO",0,IF(CY10=1,Tipologías!$E$11,0)+IF(CZ10=2,Tipologías!$E$10,0)+IF(DA10=3,Tipologías!$E$9,0)+IF(DB10=4,Tipologías!$E$13,0)+IF(DC10=5,Tipologías!$E$12,0)+IF(DD10=6,Tipologías!$E$14,0)+IF(DE10=7,Tipologías!$E$20,0)+IF(DG10=9,Tipologías!$E$16,0)+IF(DF10=8,Tipologías!$E$23,0)+IF(DH10=10,Tipologías!$E$7,0)+IF(DI10=11,Tipologías!$E$8,0)) -> 547851.96 | DL10: =IF(DK10>0,IF(DK10>$DM$1,$DM$1,DK10),0) -> 547851.96 | DM10: =IF(DK10=0,"",IF(BN10="SI","",$DM$5)) | DN10: =IF(DK10=0,"",IF(BO10="SI","",$DN$5)) | DO10: =IF(DK10=0,"",IF(BP10="SI",0,$DO$5)) -> 0 | DP10: =IF(DK10=0,"",IF(BQ10="SI","",$DP$5)) | DQ10: =IF(DM10=17,Tipologías!$E$18,0)+IF(ENCUESTAS!DN10=18,Tipologías!$E$17,0)+IF(ENCUESTAS!DO10=19,Tipologías!$E$19,0)+IF(ENCUESTAS!DP10=20,Tipologías!$E$21,0) -> 0 | DR10: =IF(DK10="0","NO",IF(SUM(DM10:DP10)<1,"NO","SI")) -> NO | DS10: =IF(DL10>0,IF(DR10="SI",IF(DQ10>$DS$1,$DS$1,DQ10),0),0) -> 0 | DT10: =IF(DL10=0,"",(DL10+DS10+Tipologías!$E$6+Tipologías!$H$2)) -> 744929.36 | DU10: =IF(CX10="NO","NO",IF(DK10>0,"SI","NO")) -> SI | DV10: OAS-004
A11: 42970 | B11: ANTIOQUIA | C11: Puerto Berrío | D11: 579 | E11: 1039704703 | F11: 3218398050 | G11: 6 | H11: SAN MARTIN | I11: PEATONAL | R11: 220442300000 | U11: =CONCATENATE(I11," ",J11,K11," ",L11," ",M11,"# "," ",N11,O11," ",P11,"- ",Q11," ",R11," ",S11) -> PEATONAL # - 220442300000 | V11: 3164362440 | W11: DAZA | X11: OSPINA | Y11: GLORIA | Z11: MILENA | AA11: =+CONCATENATE(Y11," ",Z11," ",W11," ",X11) -> GLORIA MILENA DAZA OSPINA | AB11: Cédula | AC11: 43656179 | AD11: F | AE11: 34 | AF11: NO | AG11: RIOS | AH11: VARGAS | AI11: YIMY | AJ11: ANDRES | AK11: =+CONCATENATE(AI11," ",AJ11," ",AG11," ",AH11) -> YIMY ANDRES RIOS VARGAS | AN11: NO | AP11: NO | AQ11: 5 | AR11: 2 | AS11: 1 | AT11: EN ARRIENDO O SUBARRIENDO | AX11: DE PALABRA | AZ11: 6 | BA11: 200000 | BB11: SI | BC11: 158218 | BD11: SI | BE11: 10712 | BG11: 9513 | BH11: INODORO CONECTADO A ALCANTARILLADO | BI11: BLOQUE, LADRILLO, PIEDRA | BJ11: TEJA DE BARRO, ZINC, ETERNIT (ASBESTO) | BK11: CEMENTO, GRAVILLA | BL11: SI | BM11: NO | BN11: SI | BO11: SI | BP11: SI | BQ11: SI | BR11: SI | BS11: SI | BT11: SI | BU11: SI | BV11: SI | BW11: SI | BX11: SI | BY11: SI | BZ11: SI | CA11: SI | CB11: SI | CC11: SI | CD11: INODORO CON TANQUE | CE11: LA CASA SE ENCUENTRA EN BUEN ESTADO. NO SE SABE EL DOCUMENTO DEL ESPOSO | CJ11: NORMAL - BUENA | CK11: TIENE AGUA LAS 24 HORAS | CL11: SI | CM11: NO | CN11: NO | CO11: PVC | CP11: SI | CQ11: SI | CR11: SI | CS11: SI | CT11: SI | CU11: OBRA GRIS | CV11: =CONCATENATE(H11,I11,J11,K11,L11,M11,N11,O11,P11,Q11,R11,S11,T11) -> SAN MARTIN PEATONAL220442300000 | CW11: =IF(CV11="","",IF(COUNTIF($CV$6:$CV$777,CV11)=1,"OK","¿REPETIDA?")) -> OK | CX11: =IF(COUNTBLANK(AC11)+COUNTBLANK(BH11)+COUNTBLANK(BN11:CD11)>11,"NO","SI") -> SI | CY11: =IF(CX11="NO","",IF(BV11="NO",$CY$5,IF(CA11="SI",IF(CR11="SI","",$CY$5),$CY$5))) | CZ11: =IF(CX11="NO","",IF(BX11="NO",$CZ$5,IF(CC11="SI",IF(CT11="SI","",$CZ$5),$CZ$5))) | DA11: =IF(CX11="NO","",IF(BT11="SI",IF(CD11="INODORO CON TANQUE",IF(BY11="SI",IF(CP11="SI","",$DA$5),$DA$5),$DA$5),$DA$5)) | DB11: =IF(CX11="NO","",IF(BU11="NO",$DB$5,IF(BZ11="SI",IF(CQ11="SI","",$DB$5),$DB$5))) | DC11: =IF(CX11="NO","",IF(BW11="NO",$DC$5,IF(CB11="SI",IF(CS11="SI","",$DC$5),$DC$5))) | DE11: =IF(DF11=8,$DE$5,IF(COUNT(CY11:DC11)<3,"",$DE$5)) | DF11: =IF(CX11="NO","",IF(COUNT(CY11:DA11)<1,"",IF(CU11="OBRA GRIS","",IF(CU11="OBRA BLANCA","",IF(CU11="OBRA NEGRA","",$DF$5))))) | DG11: =IF(DF11=8,"",IF(COUNT(CY11:DA11)<1,"",IF(CU11="OBRA GRIS",$DG$5,IF(CU11="OBRA NEGRA",$DG$5,"")))) | DH11: =IF(CX11="NO","",IF(BR11="SI","",$DH$5)) | DI11: =IF(CX11="NO","",IF(BS11="SI","",$DI$5)) | DJ11: =IF(CX11="NO","",COUNT(CY11:DC11)) -> 0 | DK11: =IF(CX11="NO",0,IF(CY11=1,Tipologías!$E$11,0)+IF(CZ11=2,Tipologías!$E$10,0)+IF(DA11=3,Tipologías!$E$9,0)+IF(DB11=4,Tipologías!$E$13,0)+IF(DC11=5,Tipologías!$E$12,0)+IF(DD11=6,Tipologías!$E$14,0)+IF(DE11=7,Tipologías!$E$20,0)+IF(DG11=9,Tipologías!$E$16,0)+IF(DF11=8,Tipologías!$E$23,0)+IF(DH11=10,Tipologías!$E$7,0)+IF(DI11=11,Tipologías!$E$8,0)) -> 0 | DL11: =IF(DK11>0,IF(DK11>$DM$1,$DM$1,DK11),0) -> 0 | DM11: =IF(DK11=0,"",IF(BN11="SI","",$DM$5)) | DN11: =IF(DK11=0,"",IF(BO11="SI","",$DN$5)) | DO11: =IF(DK11=0,"",IF(BP11="SI",0,$DO$5)) | DP11: =IF(DK11=0,"",IF(BQ11="SI","",$DP$5)) | DQ11: =IF(DM11=17,Tipologías!$E$18,0)+IF(ENCUESTAS!DN11=18,Tipologías!$E$17,0)+IF(ENCUESTAS!DO11=19,Tipologías!$E$19,0)+IF(ENCUESTAS!DP11=20,Tipologías!$E$21,0) -> 0 | DR11: =IF(DK11="0","NO",IF(SUM(DM11:DP11)<1,"NO","SI")) -> NO | DS11: =IF(DL11>0,IF(DR11="SI",IF(DQ11>$DS$1,$DS$1,DQ11),0),0) -> 0 | DT11: =IF(DL11=0,"",(DL11+DS11+Tipologías!$E$6+Tipologías!$H$2)) | DU11: =IF(CX11="NO","NO",IF(DK11>0,"SI","NO")) -> NO
A12: 42970 | B12: ANTIOQUIA | C12: Puerto Berrío | D12: 579 | E12: 1039704703 | F12: 3218398050 | G12: 7 | H12: NUEVO MILENIO | I12: PEATONAL | R12: 220548690154 | U12: =CONCATENATE(I12," ",J12,K12," ",L12," ",M12,"# "," ",N12,O12," ",P12,"- ",Q12," ",R12," ",S12) -> PEATONAL # - 220548690154 | W12: SUAREZ | X12: ARAQUE | Y12: FRAN | Z12: DE JESUS | AA12: =+CONCATENATE(Y12," ",Z12," ",W12," ",X12) -> FRAN DE JESUS SUAREZ ARAQUE | AB12: Cédula | AC12: 3550420 | AD12: M | AE12: 73 | AF12: SI | AK12: =+CONCATENATE(AI12," ",AJ12," ",AG12," ",AH12) | AN12: NO | AP12: NO | AQ12: 1 | AT12: PROPIA, TOTALMENTE PAGADA | AV12: OTRO | BB12: SI | BC12: 4077 | BD12: SI | BE12: 2271 | BF12: SI | BG12: 8324 | BH12: INODORO CONECTADO A ALCANTARILLADO | BI12: BLOQUE, LADRILLO, PIEDRA | BJ12: TEJA DE BARRO, ZINC, ETERNIT (ASBESTO) | BK12: CEMENTO, GRAVILLA | BL12: SI | BM12: NO | BN12: SI | BO12: SI | BP12: SI | BQ12: SI | BR12: SI | BS12: SI | BT12: SI | BU12: NO | BV12: NO | BW12: SI | BX12: SI | BY12: SI | BZ12: NO | CA12: NO | CB12: SI | CC12: SI | CD12: INODORO CON TANQUE | CE12: LA VIVIENDA NO CUENTA CON: TAPA DEL TANQUE DEL BAÑO,LAVAPLATOS,LAVAMANOS Y NO TIENE CELULAR | CJ12: NORMAL - BUENA | CK12: TIENE AGUA LAS 24 HORAS | CL12: SI | CM12: NO | CN12: NO | CO12: PVC | CP12: SI | CQ12: NO | CR12: NO | CS12: SI | CT12: SI | CU12: OBRA GRIS | CV12: =CONCATENATE(H12,I12,J12,K12,L12,M12,N12,O12,P12,Q12,R12,S12,T12) -> NUEVO MILENIOPEATONAL220548690154 | CW12: =IF(CV12="","",IF(COUNTIF($CV$6:$CV$777,CV12)=1,"OK","¿REPETIDA?")) -> OK | CX12: =IF(COUNTBLANK(AC12)+COUNTBLANK(BH12)+COUNTBLANK(BN12:CD12)>11,"NO","SI") -> SI | CY12: =IF(CX12="NO","",IF(BV12="NO",$CY$5,IF(CA12="SI",IF(CR12="SI","",$CY$5),$CY$5))) -> 1 | CZ12: =IF(CX12="NO","",IF(BX12="NO",$CZ$5,IF(CC12="SI",IF(CT12="SI","",$CZ$5),$CZ$5))) | DA12: =IF(CX12="NO","",IF(BT12="SI",IF(CD12="INODORO CON TANQUE",IF(BY12="SI",IF(CP12="SI","",$DA$5),$DA$5),$DA$5),$DA$5)) | DB12: =IF(CX12="NO","",IF(BU12="NO",$DB$5,IF(BZ12="SI",IF(CQ12="SI","",$DB$5),$DB$5))) -> 4 | DC12: =IF(CX12="NO","",IF(BW12="NO",$DC$5,IF(CB12="SI",IF(CS12="SI","",$DC$5),$DC$5))) | DE12: =IF(DF12=8,$DE$5,IF(COUNT(CY12:DC12)<3,"",$DE$5)) | DF12: =IF(CX12="NO","",IF(COUNT(CY12:DA12)<1,"",IF(CU12="OBRA GRIS","",IF(CU12="OBRA BLANCA","",IF(CU12="OBRA NEGRA","",$DF$5))))) | DG12: =IF(DF12=8,"",IF(COUNT(CY12:DA12)<1,"",IF(CU12="OBRA GRIS",$DG$5,IF(CU12="OBRA NEGRA",$DG$5,"")))) -> 9 | DH12: =IF(CX12="NO","",IF(BR12="SI","",$DH$5)) | DI12: =IF(CX12="NO","",IF(BS12="SI","",$DI$5)) | DJ12: =IF(CX12="NO","",COUNT(CY12:DC12)) -> 2 | DK12: =IF(CX12="NO",0,IF(CY12=1,Tipologías!$E$11,0)+IF(CZ12=2,Tipologías!$E$10,0)+IF(DA12=3,Tipologías!$E$9,0)+IF(DB12=4,Tipologías!$E$13,0)+IF(DC12=5,Tipologías!$E$12,0)+IF(DD12=6,Tipologías!$E$14,0)+IF(DE12=7,Tipologías!$E$20,0)+IF(DG12=9,Tipologías!$E$16,0)+IF(DF12=8,Tipologías!$E$23,0)+IF(DH12=10,Tipologías!$E$7,0)+IF(DI12=11,Tipologías!$E$8,0)) -> 2858472.6 | DL12: =IF(DK12>0,IF(DK12>$DM$1,$DM$1,DK12),0) -> 2858472.6 | DM12: =IF(DK12=0,"",IF(BN12="SI","",$DM$5)) | DN12: =IF(DK12=0,"",IF(BO12="SI","",$DN$5)) | DO12: =IF(DK12=0,"",IF(BP12="SI",0,$DO$5)) -> 0 | DP12: =IF(DK12=0,"",IF(BQ12="SI","",$DP$5)) | DQ12: =IF(DM12=17,Tipologías!$E$18,0)+IF(ENCUESTAS!DN12=18,Tipologías!$E$17,0)+IF(ENCUESTAS!DO12=19,Tipologías!$E$19,0)+IF(ENCUESTAS!DP12=20,Tipologías!$E$21,0) -> 0 | DR12: =IF(DK12="0","NO",IF(SUM(DM12:DP12)<1,"NO","SI")) -> NO | DS12: =IF(DL12>0,IF(DR12="SI",IF(DQ12>$DS$1,$DS$1,DQ12),0),0) -> 0 | DT12: =IF(DL12=0,"",(DL12+DS12+Tipologías!$E$6+Tipologías!$H$2)) -> 3055550 | DU12: =IF(CX12="NO","NO",IF(DK12>0,"SI","NO")) -> SI | DV12: MIL-001
A13: 42970 | B13: ANTIOQUIA | C13: Puerto Berrío | D13: 579 | E13: 1039704703 | F13: 3218398050 | G13: 8 | H13: NUEVO HORIZONTE | I13: PEATONAL | R13: 220141260016 | U13: =CONCATENATE(I13," ",J13,K13," ",L13," ",M13,"# "," ",N13,O13," ",P13,"- ",Q13," ",R13," ",S13) -> PEATONAL # - 220141260016 | V13: 3182190043 | W13: CARDONA | X13: GONZALES | Y13: GLORIA | Z13: ELENA | AA13: =+CONCATENATE(Y13," ",Z13," ",W13," ",X13) -> GLORIA ELENA CARDONA GONZALES | AB13: Cédula | AC13: 24651535 | AD13: F | AE13: 32 | AF13: SI | AK13: =+CONCATENATE(AI13," ",AJ13," ",AG13," ",AH13) | AN13: SI | AP13: SI | AQ13: 2 | AR13: 1 | AT13: PROPIA, TOTALMENTE PAGADA | AV13: CERTIFICADO DE COMPRAVENTA | BB13: SI | BC13: 13178 | BD13: SI | BF13: SI | BG13: 8408 | BH13: INODORO CONECTADO A ALCANTARILLADO | BI13: MADERA BURDA, TABLA, TABLÓN | BJ13: TEJA DE BARRO, ZINC, ETERNIT (ASBESTO) | BK13: TIERRA, ARENA | BL13: SI | BM13: NO | BN13: SI | BO13: SI | BP13: SI | BQ13: SI | BR13: SI | BS13: SI | BT13: SI | BU13: NO | BV13: NO | BW13: SI | BX13: NO | BY13: SI | BZ13: NO | CA13: NO | CB13: SI | CC13: NO | CD13: INODORO CON TANQUE | CE13: LA SEÑORA NO ENCUENTRA LA CARPETA DEL FOLIO. EL BAÑO NO TIENE PUERTA, NO LE COBRAN ALCANTARILLADO | CJ13: NORMAL - BUENA | CK13: TIENE AGUA LAS 24 HORAS | CL13: SI | CM13: NO | CN13: SI | CO13: PVC | CP13: SI | CQ13: NO | CR13: NO | CS13: SI | CT13: NO | CU13: OBRA GRIS | CV13: =CONCATENATE(H13,I13,J13,K13,L13,M13,N13,O13,P13,Q13,R13,S13,T13) -> NUEVO HORIZONTE PEATONAL220141260016 | CW13: =IF(CV13="","",IF(COUNTIF($CV$6:$CV$777,CV13)=1,"OK","¿REPETIDA?")) -> ¿REPETIDA? | CX13: =IF(COUNTBLANK(AC13)+COUNTBLANK(BH13)+COUNTBLANK(BN13:CD13)>11,"NO","SI") -> SI | CY13: =IF(CX13="NO","",IF(BV13="NO",$CY$5,IF(CA13="SI",IF(CR13="SI","",$CY$5),$CY$5))) -> 1 | CZ13: =IF(CX13="NO","",IF(BX13="NO",$CZ$5,IF(CC13="SI",IF(CT13="SI","",$CZ$5),$CZ$5))) -> 2 | DA13: =IF(CX13="NO","",IF(BT13="SI",IF(CD13="INODORO CON TANQUE",IF(BY13="SI",IF(CP13="SI","",$DA$5),$DA$5),$DA$5),$DA$5)) | DB13: =IF(CX13="NO","",IF(BU13="NO",$DB$5,IF(BZ13="SI",IF(CQ13="SI","",$DB$5),$DB$5))) -> 4 | DC13: =IF(CX13="NO","",IF(BW13="NO",$DC$5,IF(CB13="SI",IF(CS13="SI","",$DC$5),$DC$5))) | DE13: =IF(DF13=8,$DE$5,IF(COUNT(CY13:DC13)<3,"",$DE$5)) -> 7 | DF13: =IF(CX13="NO","",IF(COUNT(CY13:DA13)<1,"",IF(CU13="OBRA GRIS","",IF(CU13="OBRA BLANCA","",IF(CU13="OBRA NEGRA","",$DF$5))))) | DG13: =IF(DF13=8,"",IF(COUNT(CY13:DA13)<1,"",IF(CU13="OBRA GRIS",$DG$5,IF(CU13="OBRA NEGRA",$DG$5,"")))) -> 9 | DH13: =IF(CX13="NO","",IF(BR13="SI","",$DH$5)) | DI13: =IF(CX13="NO","",IF(BS13="SI","",$DI$5)) | DJ13: =IF(CX13="NO","",COUNT(CY13:DC13)) -> 3 | DK13: =IF(CX13="NO",0,IF(CY13=1,Tipologías!$E$11,0)+IF(CZ13=2,Tipologías!$E$10,0)+IF(DA13=3,Tipologías!$E$9,0)+IF(DB13=4,Tipologías!$E$13,0)+IF(DC13=5,Tipologías!$E$12,0)+IF(DD13=6,Tipologías!$E$14,0)+IF(DE13=7,Tipologías!$E$20,0)+IF(DG13=9,Tipologías!$E$16,0)+IF(DF13=8,Tipologías!$E$23,0)+IF(DH13=10,Tipologías!$E$7,0)+IF(DI13=11,Tipologías!$E$8,0)) -> 3421350 | DL13: =IF(DK13>0,IF(DK13>$DM$1,$DM$1,DK13),0) -> 3421350 | DM13: =IF(DK13=0,"",IF(BN13="SI","",$DM$5)) | DN13: =IF(DK13=0,"",IF(BO13="SI","",$DN$5)) | DO13: =IF(DK13=0,"",IF(BP13="SI",0,$DO$5)) -> 0 | DP13: =IF(DK13=0,"",IF(BQ13="SI","",$DP$5)) | DQ13: =IF(DM13=17,Tipologías!$E$18,0)+IF(ENCUESTAS!DN13=18,Tipologías!$E$17,0)+IF(ENCUESTAS!DO13=19,Tipologías!$E$19,0)+IF(ENCUESTAS!DP13=20,Tipologías!$E$21,0) -> 0 | DR13: =IF(DK13="0","NO",IF(SUM(DM13:DP13)<1,"NO","SI")) -> NO | DS13: =IF(DL13>0,IF(DR13="SI",IF(DQ13>$DS$1,$DS$1,DQ13),0),0) -> 0 | DT13: =IF(DL13=0,"",(DL13+DS13+Tipologías!$E$6+Tipologías!$H$2)) -> 3618427.4 | DU13: =IF(CX13="NO","NO",IF(DK13>0,"SI","NO")) -> SI | DV13: HOR-001
A14: 42970 | B14: ANTIOQUIA | C14: Puerto Berrío | D14: 579 | E14: 1039704703 | F14: 3218398050 | G14: 9 | H14: NUEVO HORIZONTE | I14: PEATONAL | R14: 220141280004 | U14: =CONCATENATE(I14," ",J14,K14," ",L14," ",M14,"# "," ",N14,O14," ",P14,"- ",Q14," ",R14," ",S14) -> PEATONAL # - 220141280004 | V14: 3212306920 | W14: FLORES | X14: ORTIZ | Y14: MARIA | Z14: HERMINIA | AA14: =+CONCATENATE(Y14," ",Z14," ",W14," ",X14) -> MARIA HERMINIA FLORES ORTIZ | AB14: Cédula | AC14: 25140851 | AD14: F | AF14: SI | AK14: =+CONCATENATE(AI14," ",AJ14," ",AG14," ",AH14) | AN14: NO | AP14: NO | AQ14: 5 | AR14: 3 | AS14: 1 | AT14: PROPIA, TOTALMENTE PAGADA | AV14: ESCRITURA PÚBLICA | BB14: SI | BC14: 7814 | BD14: SI | BF14: SI | BG14: 8324 | BH14: INODORO CONECTADO A ALCANTARILLADO | BI14: MADERA PULIDA | BJ14: TEJA DE BARRO, ZINC, ETERNIT (ASBESTO) | BK14: CEMENTO, GRAVILLA | BL14: SI | BM14: NO | BN14: SI | BO14: SI | BP14: SI | BQ14: SI | BR14: SI | BS14: SI | BT14: SI | BU14: SI | BV14: SI | BW14: SI | BX14: SI | BY14: SI | BZ14: SI | CA14: SI | CB14: SI | CC14: SI | CD14: INODORO CON TANQUE | CE14: LA CASA SE ENCUENTRA EN BUEN ESTADO. NO PAGA ALCANTARILLADO | CJ14: NORMAL - BUENA | CK14: TIENE AGUA LAS 24 HORAS | CL14: SI | CM14: NO | CN14: NO | CO14: PVC | CP14: SI | CQ14: SI | CR14: SI | CS14: SI | CT14: SI | CU14: OBRA GRIS | CV14: =CONCATENATE(H14,I14,J14,K14,L14,M14,N14,O14,P14,Q14,R14,S14,T14) -> NUEVO HORIZONTE PEATONAL220141280004 | CW14: =IF(CV14="","",IF(COUNTIF($CV$6:$CV$777,CV14)=1,"OK","¿REPETIDA?")) -> OK | CX14: =IF(COUNTBLANK(AC14)+COUNTBLANK(BH14)+COUNTBLANK(BN14:CD14)>11,"NO","SI") -> SI | CY14: =IF(CX14="NO","",IF(BV14="NO",$CY$5,IF(CA14="SI",IF(CR14="SI","",$CY$5),$CY$5))) | CZ14: =IF(CX14="NO","",IF(BX14="NO",$CZ$5,IF(CC14="SI",IF(CT14="SI","",$CZ$5),$CZ$5))) | DA14: =IF(CX14="NO","",IF(BT14="SI",IF(CD14="INODORO CON TANQUE",IF(BY14="SI",IF(CP14="SI","",$DA$5),$DA$5),$DA$5),$DA$5)) | DB14: =IF(CX14="NO","",IF(BU14="NO",$DB$5,IF(BZ14="SI",IF(CQ14="SI","",$DB$5),$DB$5))) | DC14: =IF(CX14="NO","",IF(BW14="NO",$DC$5,IF(CB14="SI",IF(CS14="SI","",$DC$5),$DC$5))) | DE14: =IF(DF14=8,$DE$5,IF(COUNT(CY14:DC14)<3,"",$DE$5)) | DF14: =IF(CX14="NO","",IF(COUNT(CY14:DA14)<1,"",IF(CU14="OBRA GRIS","",IF(CU14="OBRA BLANCA","",IF(CU14="OBRA NEGRA","",$DF$5))))) | DG14: =IF(DF14=8,"",IF(COUNT(CY14:DA14)<1,"",IF(CU14="OBRA GRIS",$DG$5,IF(CU14="OBRA NEGRA",$DG$5,"")))) | DH14: =IF(CX14="NO","",IF(BR14="SI","",$DH$5)) | DI14: =IF(CX14="NO","",IF(BS14="SI","",$DI$5)) | DJ14: =IF(CX14="NO","",COUNT(CY14:DC14)) -> 0 | DK14: =IF(CX14="NO",0,IF(CY14=1,Tipologías!$E$11,0)+IF(CZ14=2,Tipologías!$E$10,0)+IF(DA14=3,Tipologías!$E$9,0)+IF(DB14=4,Tipologías!$E$13,0)+IF(DC14=5,Tipologías!$E$12,0)+IF(DD14=6,Tipologías!$E$14,0)+IF(DE14=7,Tipologías!$E$20,0)+IF(DG14=9,Tipologías!$E$16,0)+IF(DF14=8,Tipologías!$E$23,0)+IF(DH14=10,Tipologías!$E$7,0)+IF(DI14=11,Tipologías!$E$8,0)) -> 0 | DL14: =IF(DK14>0,IF(DK14>$DM$1,$DM$1,DK14),0) -> 0 | DM14: =IF(DK14=0,"",IF(BN14="SI","",$DM$5)) | DN14: =IF(DK14=0,"",IF(BO14="SI","",$DN$5)) | DO14: =IF(DK14=0,"",IF(BP14="SI",0,$DO$5)) | DP14: =IF(DK14=0,"",IF(BQ14="SI","",$DP$5)) | DQ14: =IF(DM14=17,Tipologías!$E$18,0)+IF(ENCUESTAS!DN14=18,Tipologías!$E$17,0)+IF(ENCUESTAS!DO14=19,Tipologías!$E$19,0)+IF(ENCUESTAS!DP14=20,Tipologías!$E$21,0) -> 0 | DR14: =IF(DK14="0","NO",IF(SUM(DM14:DP14)<1,"NO","SI")) -> NO | DS14: =IF(DL14>0,IF(DR14="SI",IF(DQ14>$DS$1,$DS$1,DQ14),0),0) -> 0 | DT14: =IF(DL14=0,"",(DL14+DS14+Tipologías!$E$6+Tipologías!$H$2)) | DU14: =IF(CX14="NO","NO",IF(DK14>0,"SI","NO")) -> NO
