Workbook
Name frmMainForm_tblFormContainer_trContentRow_tdLeftColumn_divViewProfilePerspective_tblProfileDetails_trIsGroupContentRow_tdTitleCell_rptIsGroupRepeater_rpteIsGroupConditionalElements_lnkIsGroupConditionalSpan_0: Indicadores_Generales!$C$55
Name frmMainForm_tblFormContainer_trContentRow_tdLeftColumn_divViewProfilePerspective_tblProfileDetails_trIsGroupContentRow_tdTitleCell_rptIsGroupRepeater_rpteIsGroupConditionalElements_lnkIsGroupConditionalSpan_1: Indicadores_Generales!$C$19
Name frmMainForm_tblFormContainer_trContentRow_tdLeftColumn_divViewProfilePerspective_tblProfileDetails_trIsGroupContentRow_tdTitleCell_rptIsGroupRepeater_rpteIsGroupConditionalElements_lnkIsGroupConditionalSpan_2: Indicadores_Generales!$C$22

Sheet Indicadores_Generales
A2: ="DETALLE INDICADORES FINANCIEROS PROCESO "&UPPER(D4) -> DETALLE INDICADORES FINANCIEROS PROCESO FDLBOSACM-004-2022(71937)
B4: INFORMACIÓN E INDICADORES DEL PROCESO (DIGITE ESTA INFORMACIÓN DE ACUERDO AL PLIEGO DE CONDICIONES) Indique los valores en formato de decimales | C4: PROCESO DE SELECCIÓN | D4: FDLBOSACM-004-2022(71937)
C5: PRESUPUESTO OFICIAL | D5: 800053615 | G5: =+(D5/12)*3 -> 2.000134e+08
C6: OBJETO | D6: REALIZAR LA INTERVENTORÍA TÉCNICA, ADMINISTRATIVA, FINANCIERA, JURÍDICA, SOCIAL, AMBIENTAL Y SST AL CONTRATO DE OBRA PÚBLICA QUE TENDRÁ POR OBJETO CONTRACTUAL EJECUTAR POR EL SISTEMA DE PRECIOS UNITARIOS FIJOS SIN FORMULA DE REAJUSTE Y A MONTO AGOTABLE LAS ACTIVIDADES NECESARIAS PARA LA EJECUCIÓN DE LAS OBRAS DE CONSTRUCCIÓN DE MALLA VIAL Y ESPACIO PUBLICO ASOCIADO DE LA LOCALIDAD DE BOSA, DE ACUERDO CON LA DESCRIPCIÓN, ESPECIFICACIONES, ESTUDIOS, DISEÑOS Y DEMÁS CONDICIONES ESTABLECIDAS EN EL ANEXO TÉCNICO
C8: INDICADORES PLIEGO DE CONDICIONES | D8: Margen
C9: ="Indice de Liquidez: (mín. "&TEXT(D9,"#,##")&" ) veces." -> Indice de Liquidez: (mín. 1, ) veces. | D9: 1
C10: ="Endeudamiento total: (máx. "&TEXT((D10*100),"#,##")&"%)." -> Endeudamiento total: (máx. 70,%). | D10: 0.7
C11: ="Razon de Cobertura de Intereses (>= a "&TEXT(D11,"#,##")&" veces) ó Indeterminado." -> Razon de Cobertura de Intereses (>= a 1, veces) ó Indeterminado. | D11: 1
C12: ="Capital de Trabajo ≥ A "&TEXT(D12,"#,##%")&" del PPTO Oficial." -> Capital de Trabajo ≥ A 25,% del PPTO Oficial. | D12: 0.25 | E12: =+D5*D12 -> 2.000134e+08
C13: ="Indicador Rentabilidad del Patrimonio RP => AL "&IF(D13=0,"0%",TEXT(D13,"#,##%")) -> Indicador Rentabilidad del Patrimonio RP => AL 0% | D13: 0
C14: ="Indicador Rentabilidad del Activo RAct => AL "&IF(D14=0,"0%",TEXT(D14,"#,##%")) -> Indicador Rentabilidad del Activo RAct => AL 0% | D14: 0
B16: Diligencie estos campos con la información del RUP a evaluar (Recuerde que esta plantilla permite registrar la información por empresas participantes, en caso de proponentes plurales, deberá incluir una línea por cada empresa participante dentro del proponente plural.) | O16: INDICADORES INDIVIDUALES | U16: ORGANIZACIÓN INDICADORES ENFOCADOS A UNIONES TEMPORALES Y CONSORCIOS | AB16: INDICADORES PROCESO - FORMULADO
A17: Empresa Participante | B17: Numero Proponente (Digite solo el numero) | C17: Nombre Empresa que conforma el Proponente (Nombre de empresa registrada con NIT) | D17: NIT | E17: AÑO INDICADORES RUP | F17: Nombre Empresa, Consorcio o UT Por el Cual se presenta | G17: % Participación | H17: ACTIVO CORRIENTE | I17: ACTIVO TOTAL | J17: PASIVO CORRIENTE | K17: PASIVO TOTAL | L17: VALOR DEL PATRIMONIO | M17: UTILIDAD | N17: INTERESES | O17: INDICE DE LIQUIDEZ | P17: ENDEUDAMIENTO | Q17: COBERTURA DE INTERESES | R17: RENTABILIDAD DEL PATRIMONIO | S17: RENTABILIDAD DEL ACTIVO | T17: CAPITAL DE TRABAJO | U17: =H17&" X % PARTICIPACIÓN" -> ACTIVO CORRIENTE X % PARTICIPACIÓN | V17: =J17&" X % PARTICIPACIÓN" -> PASIVO CORRIENTE X % PARTICIPACIÓN | W17: =I17&" X % PARTICIPACIÓN" -> ACTIVO TOTAL X % PARTICIPACIÓN | X17: =K17&" X % PARTICIPACIÓN" -> PASIVO TOTAL X % PARTICIPACIÓN | Y17: =L17&" X % PARTICIPACIÓN" -> VALOR DEL PATRIMONIO X % PARTICIPACIÓN | Z17: =M17&" X % PARTICIPACIÓN" -> UTILIDAD X % PARTICIPACIÓN | AA17: =N17&" X % PARTICIPACIÓN" -> INTERESES X % PARTICIPACIÓN | AB17: INDICE DE LIQUIDEZ | AC17: ENDEUDAMIENTO | AD17: COBERTURA DE INTERESES | AE17: RENTABILIDAD DEL PATRIMONIO | AF17: RENTABILIDAD DEL ACTIVO | AG17: CAPITAL DE TRABAJO
A18: 1 | B18: 1 | C18: SITELSA SAS | D18: 804012755 | E18: 2021 | F18: SITELSA SAS | G18: 1 | H18: 4820015628 | I18: 5236581840 | J18: 237511652 | K18: 1760253849 | L18: 3476327991 | M18: 715304142 | N18: 128398575 | O18: =IFERROR(H18/J18,"") -> 20.293807 | P18: =IFERROR(K18/I18,"") -> 0.33614558 | Q18: =IFERROR(M18/N18,"") -> 5.5709664 | R18: =IFERROR(M18/L18,"") -> 0.20576428 | S18: =IFERROR(M18/I18,"") -> 0.13659753 | T18: =IFERROR(H18-J18,"") -> 4582503976 | U18: =IF($B18="","",H18*$G18) -> 4820015628 | V18: =IF($B18="","",J18*$G18) -> 237511652 | W18: =IF($B18="","",I18*$G18) -> 5236581840 | X18: =IF($B18="","",K18*$G18) -> 1760253849 | Y18: =IF($B18="","",L18*$G18) -> 3476327991 | Z18: =IF($B18="","",M18*$G18) -> 715304142 | AA18: =IF($B18="","",N18*$G18) -> 128398575 | AB18: =IF(J18="","",IFERROR(SUMIFS($U:$U,$B:$B,B18)/SUMIFS($V:$V,$B:$B,B18),"Indeterminado")) -> 20.293807 | AC18: =IFERROR(SUMIFS($X:$X,$B:$B,B18)/SUMIFS(W:W,$B:$B,B18),"") -> 0.33614558 | AD18: =IF(OR(B18="",H18=""),"",IFERROR(SUMIFS($Z:$Z,$B:$B,B18)/SUMIFS($AA:$AA,$B:$B,B18),"Indeterminado")) -> 5.5709664 | AE18: =IFERROR(SUMIFS($Z:$Z,$B:$B,B18)/SUMIFS($Y:$Y,$B:$B,B18),"") -> 0.20576428 | AF18: =IFERROR(SUMIFS($Z:$Z,$B:$B,B18)/SUMIFS($W:$W,$B:$B,B18),"") -> 0.13659753 | AG18: =IFERROR(IF(T18=0,"",SUMIFS($T:$T,$B:$B,B18)),"") -> 4582503976
A19: 2 | B19: 2 | C19: PROESING | D19: 901286572 | E19: 2021 | F19: PROESING | G19: 1 | H19: 680485318 | I19: 680485318 | J19: 264354718 | K19: 264354718 | L19: 416130600 | M19: 81880663 | N19: 5607667 | O19: =IFERROR(H19/J19,"") -> 2.5741372 | P19: =IFERROR(K19/I19,"") -> 0.38847968 | Q19: =IFERROR(M19/N19,"") -> 14.601556 | R19: =IFERROR(M19/L19,"") -> 0.19676674 | S19: =IFERROR(M19/I19,"") -> 0.12032686 | T19: =IFERROR(H19-J19,"") -> 416130600 | U19: =IF($B19="","",H19*$G19) -> 680485318 | V19: =IF($B19="","",J19*$G19) -> 264354718 | W19: =IF($B19="","",I19*$G19) -> 680485318 | X19: =IF($B19="","",K19*$G19) -> 264354718 | Y19: =IF($B19="","",L19*$G19) -> 416130600 | Z19: =IF($B19="","",M19*$G19) -> 81880663 | AA19: =IF($B19="","",N19*$G19) -> 5607667 | AB19: =IF(J19="","",IFERROR(SUMIFS($U:$U,$B:$B,B19)/SUMIFS($V:$V,$B:$B,B19),"Indeterminado")) -> 2.5741372 | AC19: =IFERROR(SUMIFS($X:$X,$B:$B,B19)/SUMIFS(W:W,$B:$B,B19),"") -> 0.38847968 | AD19: =IF(OR(B19="",H19=""),"",IFERROR(SUMIFS($Z:$Z,$B:$B,B19)/SUMIFS($AA:$AA,$B:$B,B19),"Indeterminado")) -> 14.601556 | AE19: =IFERROR(SUMIFS($Z:$Z,$B:$B,B19)/SUMIFS($Y:$Y,$B:$B,B19),"") -> 0.19676674 | AF19: =IFERROR(SUMIFS($Z:$Z,$B:$B,B19)/SUMIFS($W:$W,$B:$B,B19),"") -> 0.12032686 | AG19: =IFERROR(IF(T19=0,"",SUMIFS($T:$T,$B:$B,B19)),"") -> 416130600
A20: 3 | B20: 3 | C20: CB INGENIEROS SAS | D20: 860509943 | E20: 2020 | F20: CB INGENIEROS SAS | G20: 1 | H20: 2106100738 | I20: 3240135572 | J20: 223352757 | K20: 1799680207 | L20: 1440455365 | M20: 446836579 | N20: 58621899 | O20: =IFERROR(H20/J20,"") -> 9.4294817 | P20: =IFERROR(K20/I20,"") -> 0.55543361 | Q20: =IFERROR(M20/N20,"") -> 7.6223491 | R20: =IFERROR(M20/L20,"") -> 0.31020509 | S20: =IFERROR(M20/I20,"") -> 0.13790675 | T20: =IFERROR(H20-J20,"") -> 1882747981 | U20: =IF($B20="","",H20*$G20) -> 2106100738 | V20: =IF($B20="","",J20*$G20) -> 223352757 | W20: =IF($B20="","",I20*$G20) -> 3240135572 | X20: =IF($B20="","",K20*$G20) -> 1799680207 | Y20: =IF($B20="","",L20*$G20) -> 1440455365 | Z20: =IF($B20="","",M20*$G20) -> 446836579 | AA20: =IF($B20="","",N20*$G20) -> 58621899 | AB20: =IF(J20="","",IFERROR(SUMIFS($U:$U,$B:$B,B20)/SUMIFS($V:$V,$B:$B,B20),"Indeterminado")) -> 9.4294817 | AC20: =IFERROR(SUMIFS($X:$X,$B:$B,B20)/SUMIFS(W:W,$B:$B,B20),"") -> 0.55543361 | AD20: =IF(OR(B20="",H20=""),"",IFERROR(SUMIFS($Z:$Z,$B:$B,B20)/SUMIFS($AA:$AA,$B:$B,B20),"Indeterminado")) -> 7.6223491 | AE20: =IFERROR(SUMIFS($Z:$Z,$B:$B,B20)/SUMIFS($Y:$Y,$B:$B,B20),"") -> 0.31020509 | AF20: =IFERROR(SUMIFS($Z:$Z,$B:$B,B20)/SUMIFS($W:$W,$B:$B,B20),"") -> 0.13790675 | AG20: =IFERROR(IF(T20=0,"",SUMIFS($T:$T,$B:$B,B20)),"") -> 1882747981
A21: 4 | B21: 4 | C21: JASEN CONSULTORES S.A.S. | D21: 830087225 | E21: 2021 | F21: JASEN CONSULTORES S.A.S. | G21: 1 | H21: 4136257451 | I21: 4684320284 | J21: 1009599294 | K21: 2189984072 | L21: 2494336212 | M21: 1005374063 | N21: 93713114 | O21: =IFERROR(H21/J21,"") -> 4.0969298 | P21: =IFERROR(K21/I21,"") -> 0.46751374 | Q21: =IFERROR(M21/N21,"") -> 10.728211 | R21: =IFERROR(M21/L21,"") -> 0.40306277 | S21: =IFERROR(M21/I21,"") -> 0.21462539 | T21: =IFERROR(H21-J21,"") -> 3126658157 | U21: =IF($B21="","",H21*$G21) -> 4136257451 | V21: =IF($B21="","",J21*$G21) -> 1009599294 | W21: =IF($B21="","",I21*$G21) -> 4684320284 | X21: =IF($B21="","",K21*$G21) -> 2189984072 | Y21: =IF($B21="","",L21*$G21) -> 2494336212 | Z21: =IF($B21="","",M21*$G21) -> 1005374063 | AA21: =IF($B21="","",N21*$G21) -> 93713114 | AB21: =IF(J21="","",IFERROR(SUMIFS($U:$U,$B:$B,B21)/SUMIFS($V:$V,$B:$B,B21),"Indeterminado")) -> 4.0969298 | AC21: =IFERROR(SUMIFS($X:$X,$B:$B,B21)/SUMIFS(W:W,$B:$B,B21),"") -> 0.46751374 | AD21: =IF(OR(B21="",H21=""),"",IFERROR(SUMIFS($Z:$Z,$B:$B,B21)/SUMIFS($AA:$AA,$B:$B,B21),"Indeterminado")) -> 10.728211 | AE21: =IFERROR(SUMIFS($Z:$Z,$B:$B,B21)/SUMIFS($Y:$Y,$B:$B,B21),"") -> 0.40306277 | AF21: =IFERROR(SUMIFS($Z:$Z,$B:$B,B21)/SUMIFS($W:$W,$B:$B,B21),"") -> 0.21462539 | AG21: =IFERROR(IF(T21=0,"",SUMIFS($T:$T,$B:$B,B21)),"") -> 3126658157
A22: 5 | B22: 5 | C22: INGENIERIA DE PROYECTOS S.A.S. | D22: 890116722 | E22: 2021 | F22: BOSA SIGLO XXI | G22: 0.5 | H22: 20679357000 | I22: 22510454000 | J22: 3319495000 | K22: 4996135000 | L22: 17714319000 | M22: 3708161000 | N22: 66471000 | O22: =IFERROR(H22/J22,"") -> 6.2296696 | P22: =IFERROR(K22/I22,"") -> 0.22194732 | Q22: =IFERROR(M22/N22,"") -> 55.786147 | R22: =IFERROR(M22/L22,"") -> 0.20933128 | S22: =IFERROR(M22/I22,"") -> 0.16473062 | T22: =IFERROR(H22-J22,"") -> 17359862000 | U22: =IF($B22="","",H22*$G22) -> 10339678500 | V22: =IF($B22="","",J22*$G22) -> 1659747500 | W22: =IF($B22="","",I22*$G22) -> 11255227000 | X22: =IF($B22="","",K22*$G22) -> 2498067500 | Y22: =IF($B22="","",L22*$G22) -> 8857159500 | Z22: =IF($B22="","",M22*$G22) -> 1854080500 | AA22: =IF($B22="","",N22*$G22) -> 33235500 | AB22: =IF(J22="","",IFERROR(SUMIFS($U:$U,$B:$B,B22)/SUMIFS($V:$V,$B:$B,B22),"Indeterminado")) -> 6.4618506 | AC22: =IFERROR(SUMIFS($X:$X,$B:$B,B22)/SUMIFS(W:W,$B:$B,B22),"") -> 0.20849229 | AD22: =IF(OR(B22="",H22=""),"",IFERROR(SUMIFS($Z:$Z,$B:$B,B22)/SUMIFS($AA:$AA,$B:$B,B22),"Indeterminado")) -> 10.93191 | AE22: =IFERROR(SUMIFS($Z:$Z,$B:$B,B22)/SUMIFS($Y:$Y,$B:$B,B22),"") -> 0.23120058 | AF22: =IFERROR(SUMIFS($Z:$Z,$B:$B,B22)/SUMIFS($W:$W,$B:$B,B22),"") -> 0.18474931 | AG22: =IFERROR(IF(T22=0,"",SUMIFS($T:$T,$B:$B,B22)),"") -> 20328311234
A23: 6 | B23: 5 | C23: INGECO INGENIERIA DE CONSTRUCCIONES | D23: 890115120 | E23: 2021 | F23: BOSA SIGLO XXI | G23: 0.5 | H23: 3370826656 | I23: 3878299642 | J23: 402377422 | K23: 505716674 | L23: 3372582968 | M23: 1167143060 | N23: 379499000 | O23: =IFERROR(H23/J23,"") -> 8.3772758 | P23: =IFERROR(K23/I23,"") -> 0.13039649 | Q23: =IFERROR(M23/N23,"") -> 3.0754839 | R23: =IFERROR(M23/L23,"") -> 0.34606801 | S23: =IFERROR(M23/I23,"") -> 0.30094195 | T23: =IFERROR(H23-J23,"") -> 2968449234 | U23: =IF($B23="","",H23*$G23) -> 1685413328 | V23: =IF($B23="","",J23*$G23) -> 201188711 | W23: =IF($B23="","",I23*$G23) -> 1939149821 | X23: =IF($B23="","",K23*$G23) -> 252858337 | Y23: =IF($B23="","",L23*$G23) -> 1686291484 | Z23: =IF($B23="","",M23*$G23) -> 583571530 | AA23: =IF($B23="","",N23*$G23) -> 189749500 | AB23: =IF(J23="","",IFERROR(SUMIFS($U:$U,$B:$B,B23)/SUMIFS($V:$V,$B:$B,B23),"Indeterminado")) -> 6.4618506 | AC23: =IFERROR(SUMIFS($X:$X,$B:$B,B23)/SUMIFS(W:W,$B:$B,B23),"") -> 0.20849229 | AD23: =IF(OR(B23="",H23=""),"",IFERROR(SUMIFS($Z:$Z,$B:$B,B23)/SUMIFS($AA:$AA,$B:$B,B23),"Indeterminado")) -> 10.93191 | AE23: =IFERROR(SUMIFS($Z:$Z,$B:$B,B23)/SUMIFS($Y:$Y,$B:$B,B23),"") -> 0.23120058 | AF23: =IFERROR(SUMIFS($Z:$Z,$B:$B,B23)/SUMIFS($W:$W,$B:$B,B23),"") -> 0.18474931 | AG23: =IFERROR(IF(T23=0,"",SUMIFS($T:$T,$B:$B,B23)),"") -> 20328311234
A24: 7 | B24: 6 | C24: CGR SAS | D24: 830076603 | E24: 2021 | F24: CONSORCIO ODESSA | G24: 0.95 | H24: 2618046618 | I24: 4283281506 | J24: 1253176213 | K24: 1263160163 | L24: 3020121343 | M24: 568780025 | N24: 2903637 | O24: =IFERROR(H24/J24,"") -> 2.0891289 | P24: =IFERROR(K24/I24,"") -> 0.29490477 | Q24: =IFERROR(M24/N24,"") -> 195.88538 | R24: =IFERROR(M24/L24,"") -> 0.18833019 | S24: =IFERROR(M24/I24,"") -> 0.13279072 | T24: =IFERROR(H24-J24,"") -> 1364870405 | U24: =IF($B24="","",H24*$G24) -> 2.4871443e+09 | V24: =IF($B24="","",J24*$G24) -> 1.1905174e+09 | W24: =IF($B24="","",I24*$G24) -> 4.0691174e+09 | X24: =IF($B24="","",K24*$G24) -> 1.2000022e+09 | Y24: =IF($B24="","",L24*$G24) -> 2.8691153e+09 | Z24: =IF($B24="","",M24*$G24) -> 5.4034102e+08 | AA24: =IF($B24="","",N24*$G24) -> 2758455.1 | AB24: =IF(J24="","",IFERROR(SUMIFS($U:$U,$B:$B,B24)/SUMIFS($V:$V,$B:$B,B24),"Indeterminado")) -> 2.0868574 | AC24: =IFERROR(SUMIFS($X:$X,$B:$B,B24)/SUMIFS(W:W,$B:$B,B24),"") -> 0.29664932 | AD24: =IF(OR(B24="",H24=""),"",IFERROR(SUMIFS($Z:$Z,$B:$B,B24)/SUMIFS($AA:$AA,$B:$B,B24),"Indeterminado")) -> 196.48975 | AE24: =IFERROR(SUMIFS($Z:$Z,$B:$B,B24)/SUMIFS($Y:$Y,$B:$B,B24),"") -> 0.18840393 | AF24: =IFERROR(SUMIFS($Z:$Z,$B:$B,B24)/SUMIFS($W:$W,$B:$B,B24),"") -> 0.13251403 | AG24: =IFERROR(IF(T24=0,"",SUMIFS($T:$T,$B:$B,B24)),"") -> 1555298951
A25: 8 | B25: 6 | C25: CGR INGENIEROS & ARQUITECTOS SAS | D25: 900804544 | E25: 2021 | F25: CONSORCIO ODESSA | G25: 0.05 | H25: 415402170 | I25: 421541170 | J25: 224973624 | K25: 267025104 | L25: 154516066 | M25: 33342544 | N25: 0 | O25: =IFERROR(H25/J25,"") -> 1.8464483 | P25: =IFERROR(K25/I25,"") -> 0.63344964 | Q25: =IFERROR(M25/N25,"") | R25: =IFERROR(M25/L25,"") -> 0.21578691 | S25: =IFERROR(M25/I25,"") -> 0.079096768 | T25: =IFERROR(H25-J25,"") -> 190428546 | U25: =IF($B25="","",H25*$G25) -> 20770108 | V25: =IF($B25="","",J25*$G25) -> 11248681 | W25: =IF($B25="","",I25*$G25) -> 21077058 | X25: =IF($B25="","",K25*$G25) -> 13351255 | Y25: =IF($B25="","",L25*$G25) -> 7725803.3 | Z25: =IF($B25="","",M25*$G25) -> 1667127.2 | AA25: =IF($B25="","",N25*$G25) -> 0 | AB25: =IF(J25="","",IFERROR(SUMIFS($U:$U,$B:$B,B25)/SUMIFS($V:$V,$B:$B,B25),"Indeterminado")) -> 2.0868574 | AC25: =IFERROR(SUMIFS($X:$X,$B:$B,B25)/SUMIFS(W:W,$B:$B,B25),"") -> 0.29664932 | AD25: =IF(OR(B25="",H25=""),"",IFERROR(SUMIFS($Z:$Z,$B:$B,B25)/SUMIFS($AA:$AA,$B:$B,B25),"Indeterminado")) -> 196.48975 | AE25: =IFERROR(SUMIFS($Z:$Z,$B:$B,B25)/SUMIFS($Y:$Y,$B:$B,B25),"") -> 0.18840393 | AF25: =IFERROR(SUMIFS($Z:$Z,$B:$B,B25)/SUMIFS($W:$W,$B:$B,B25),"") -> 0.13251403 | AG25: =IFERROR(IF(T25=0,"",SUMIFS($T:$T,$B:$B,B25)),"") -> 1555298951
A26: 9 | B26: 7 | C26: GMC - GRUPO METRO COLOMBIA SAS | D26: 830010109 | E26: 2021 | F26: GMC | G26: 0.95 | H26: 5764687191 | I26: 5801720388 | J26: 739008704 | K26: 739008704 | L26: 5062711684 | M26: 3072897258 | N26: 48440 | O26: =IFERROR(H26/J26,"") -> 7.8005674 | P26: =IFERROR(K26/I26,"") -> 0.12737751 | Q26: =IFERROR(M26/N26,"") -> 63437.185 | R26: =IFERROR(M26/L26,"") -> 0.60696667 | S26: =IFERROR(M26/I26,"") -> 0.52965277 | T26: =IFERROR(H26-J26,"") -> 5025678487 | U26: =IF($B26="","",H26*$G26) -> 5.4764528e+09 | V26: =IF($B26="","",J26*$G26) -> 7.0205827e+08 | W26: =IF($B26="","",I26*$G26) -> 5.5116344e+09 | X26: =IF($B26="","",K26*$G26) -> 7.0205827e+08 | Y26: =IF($B26="","",L26*$G26) -> 4.8095761e+09 | Z26: =IF($B26="","",M26*$G26) -> 2.9192524e+09 | AA26: =IF($B26="","",N26*$G26) -> 46018 | AB26: =IF(J26="","",IFERROR(SUMIFS($U:$U,$B:$B,B26)/SUMIFS($V:$V,$B:$B,B26),"Indeterminado")) -> 7.9222227 | AC26: =IFERROR(SUMIFS($X:$X,$B:$B,B26)/SUMIFS(W:W,$B:$B,B26),"") -> 0.13490759 | AD26: =IF(OR(B26="",H26=""),"",IFERROR(SUMIFS($Z:$Z,$B:$B,B26)/SUMIFS($AA:$AA,$B:$B,B26),"Indeterminado")) -> 1169.6975 | AE26: =IFERROR(SUMIFS($Z:$Z,$B:$B,B26)/SUMIFS($Y:$Y,$B:$B,B26),"") -> 0.58901234 | AF26: =IFERROR(SUMIFS($Z:$Z,$B:$B,B26)/SUMIFS($W:$W,$B:$B,B26),"") -> 0.5095501 | AG26: =IFERROR(IF(T26=0,"",SUMIFS($T:$T,$B:$B,B26)),"") -> 6851206710
A27: 10 | B27: 7 | C27: OSCAR ALFREDO MONTOYA CASTRO | D27: 79383524 | E27: 2021 | F27: GMC | G27: 0.05 | H27: 1842480223 | I27: 6039907682 | J27: 16952000 | K27: 1644890643 | L27: 4395017039 | M27: 861664336 | N27: 49730950 | O27: =IFERROR(H27/J27,"") -> 108.68807 | P27: =IFERROR(K27/I27,"") -> 0.27233705 | Q27: =IFERROR(M27/N27,"") -> 17.326521 | R27: =IFERROR(M27/L27,"") -> 0.19605483 | S27: =IFERROR(M27/I27,"") -> 0.14266184 | T27: =IFERROR(H27-J27,"") -> 1825528223 | U27: =IF($B27="","",H27*$G27) -> 92124011 | V27: =IF($B27="","",J27*$G27) -> 847600 | W27: =IF($B27="","",I27*$G27) -> 3.0199538e+08 | X27: =IF($B27="","",K27*$G27) -> 82244532 | Y27: =IF($B27="","",L27*$G27) -> 2.1975085e+08 | Z27: =IF($B27="","",M27*$G27) -> 43083217 | AA27: =IF($B27="","",N27*$G27) -> 2486547.5 | AB27: =IF(J27="","",IFERROR(SUMIFS($U:$U,$B:$B,B27)/SUMIFS($V:$V,$B:$B,B27),"Indeterminado")) -> 7.9222227 | AC27: =IFERROR(SUMIFS($X:$X,$B:$B,B27)/SUMIFS(W:W,$B:$B,B27),"") -> 0.13490759 | AD27: =IF(OR(B27="",H27=""),"",IFERROR(SUMIFS($Z:$Z,$B:$B,B27)/SUMIFS($AA:$AA,$B:$B,B27),"Indeterminado")) -> 1169.6975 | AE27: =IFERROR(SUMIFS($Z:$Z,$B:$B,B27)/SUMIFS($Y:$Y,$B:$B,B27),"") -> 0.58901234 | AF27: =IFERROR(SUMIFS($Z:$Z,$B:$B,B27)/SUMIFS($W:$W,$B:$B,B27),"") -> 0.5095501 | AG27: =IFERROR(IF(T27=0,"",SUMIFS($T:$T,$B:$B,B27)),"") -> 6851206710
A28: 11 | B28: 8 | C28: CONCIC S.A.S. | D28: 900378119 | E28: 2021 | F28: CONCIC S.A.S. | G28: 1 | H28: 5823796147 | I28: 5826285766 | J28: 351765345 | K28: 2272754882 | L28: 3553530884 | M28: 813217441 | N28: 29945362 | O28: =IFERROR(H28/J28,"") -> 16.555912 | P28: =IFERROR(K28/I28,"") -> 0.39008641 | Q28: =IFERROR(M28/N28,"") -> 27.156708 | R28: =IFERROR(M28/L28,"") -> 0.22884772 | S28: =IFERROR(M28/I28,"") -> 0.13957734 | T28: =IFERROR(H28-J28,"") -> 5472030802 | U28: =IF($B28="","",H28*$G28) -> 5823796147 | V28: =IF($B28="","",J28*$G28) -> 351765345 | W28: =IF($B28="","",I28*$G28) -> 5826285766 | X28: =IF($B28="","",K28*$G28) -> 2272754882 | Y28: =IF($B28="","",L28*$G28) -> 3553530884 | Z28: =IF($B28="","",M28*$G28) -> 813217441 | AA28: =IF($B28="","",N28*$G28) -> 29945362 | AB28: =IF(J28="","",IFERROR(SUMIFS($U:$U,$B:$B,B28)/SUMIFS($V:$V,$B:$B,B28),"Indeterminado")) -> 16.555912 | AC28: =IFERROR(SUMIFS($X:$X,$B:$B,B28)/SUMIFS(W:W,$B:$B,B28),"") -> 0.39008641 | AD28: =IF(OR(B28="",H28=""),"",IFERROR(SUMIFS($Z:$Z,$B:$B,B28)/SUMIFS($AA:$AA,$B:$B,B28),"Indeterminado")) -> 27.156708 | AE28: =IFERROR(SUMIFS($Z:$Z,$B:$B,B28)/SUMIFS($Y:$Y,$B:$B,B28),"") -> 0.22884772 | AF28: =IFERROR(SUMIFS($Z:$Z,$B:$B,B28)/SUMIFS($W:$W,$B:$B,B28),"") -> 0.13957734 | AG28: =IFERROR(IF(T28=0,"",SUMIFS($T:$T,$B:$B,B28)),"") -> 5472030802
A29: 12 | B29: 9 | C29: GERMAN BALLESTAS BERDEJO | D29: 19138735 | E29: 2021 | F29: CONS GAB BOGOTA | G29: 0.25 | H29: 9276100266 | I29: 9571819627 | J29: 401268211 | K29: 3351274990 | L29: 6220544637 | M29: 1525772463 | N29: 1074800 | O29: =IFERROR(H29/J29,"") -> 23.116958 | P29: =IFERROR(K29/I29,"") -> 0.3501189 | Q29: =IFERROR(M29/N29,"") -> 1419.5873 | R29: =IFERROR(M29/L29,"") -> 0.24527956 | S29: =IFERROR(M29/I29,"") -> 0.15940255 | T29: =IFERROR(H29-J29,"") -> 8874832055 | U29: =IF($B29="","",H29*$G29) -> 2.3190251e+09 | V29: =IF($B29="","",J29*$G29) -> 1.0031705e+08 | W29: =IF($B29="","",I29*$G29) -> 2.3929549e+09 | X29: =IF($B29="","",K29*$G29) -> 8.3781875e+08 | Y29: =IF($B29="","",L29*$G29) -> 1.5551362e+09 | Z29: =IF($B29="","",M29*$G29) -> 3.8144312e+08 | AA29: =IF($B29="","",N29*$G29) -> 268700 | AB29: =IF(J29="","",IFERROR(SUMIFS($U:$U,$B:$B,B29)/SUMIFS($V:$V,$B:$B,B29),"Indeterminado")) -> 26.914176 | AC29: =IFERROR(SUMIFS($X:$X,$B:$B,B29)/SUMIFS(W:W,$B:$B,B29),"") -> 0.44052567 | AD29: =IF(OR(B29="",H29=""),"",IFERROR(SUMIFS($Z:$Z,$B:$B,B29)/SUMIFS($AA:$AA,$B:$B,B29),"Indeterminado")) -> 420.41288 | AE29: =IFERROR(SUMIFS($Z:$Z,$B:$B,B29)/SUMIFS($Y:$Y,$B:$B,B29),"") -> 0.45670825 | AF29: =IFERROR(SUMIFS($Z:$Z,$B:$B,B29)/SUMIFS($W:$W,$B:$B,B29),"") -> 0.25551654 | AG29: =IFERROR(IF(T29=0,"",SUMIFS($T:$T,$B:$B,B29)),"") -> 12417662822
... A67: 50 | B67: 33 | C67: RAFAEL JAVIER GUISA RUEDA | D67: 91261497 | E67: 2021 | F67: RAFAEL JAVIER GUISA RUEDA | G67: 1 | H67: 1843941750 | I67: 2985941750 | J67: 22740530 | K67: 1599457712 | L67: 1386484038 | M67: 89762966 | N67: 785600 | O67: =IFERROR(H67/J67,"") -> 81.086138 | P67: =IFERROR(K67/I67,"") -> 0.53566273 | Q67: =IFERROR(M67/N67,"") -> 114.26039 | R67: =IFERROR(M67/L67,"") -> 0.064741435 | S67: =IFERROR(M67/I67,"") -> 0.030061861 | T67: =IFERROR(H67-J67,"") -> 1821201220 | U67: =IF($B67="","",H67*$G67) -> 1843941750 | V67: =IF($B67="","",J67*$G67) -> 22740530 | W67: =IF($B67="","",I67*$G67) -> 2985941750 | X67: =IF($B67="","",K67*$G67) -> 1599457712 | Y67: =IF($B67="","",L67*$G67) -> 1386484038 | Z67: =IF($B67="","",M67*$G67) -> 89762966 | AA67: =IF($B67="","",N67*$G67) -> 785600 | AB67: =IF(J67="","",IFERROR(SUMIFS($U:$U,$B:$B,B67)/SUMIFS($V:$V,$B:$B,B67),"Indeterminado")) -> 81.086138 | AC67: =IFERROR(SUMIFS($X:$X,$B:$B,B67)/SUMIFS(W:W,$B:$B,B67),"") -> 0.53566273 | AD67: =IF(OR(B67="",H67=""),"",IFERROR(SUMIFS($Z:$Z,$B:$B,B67)/SUMIFS($AA:$AA,$B:$B,B67),"Indeterminado")) -> 114.26039 | AE67: =IFERROR(SUMIFS($Z:$Z,$B:$B,B67)/SUMIFS($Y:$Y,$B:$B,B67),"") -> 0.064741435 | AF67: =IFERROR(SUMIFS($Z:$Z,$B:$B,B67)/SUMIFS($W:$W,$B:$B,B67),"") -> 0.030061861 | AG67: =IFERROR(IF(T67=0,"",SUMIFS($T:$T,$B:$B,B67)),"") -> 1821201220
A68: 51 | B68: 34 | C68: CAYENA CONSULTORES E INTERVENTORES S.A.S | F68: CONSORCIO INTERMALLAVIAL BOSA | G68: 0.5 | O68: =IFERROR(H68/J68,"") | P68: =IFERROR(K68/I68,"") | Q68: =IFERROR(M68/N68,"") | R68: =IFERROR(M68/L68,"") | S68: =IFERROR(M68/I68,"") | T68: =IFERROR(H68-J68,"") -> 0 | U68: =IF($B68="","",H68*$G68) -> 0 | V68: =IF($B68="","",J68*$G68) -> 0 | W68: =IF($B68="","",I68*$G68) -> 0 | X68: =IF($B68="","",K68*$G68) -> 0 | Y68: =IF($B68="","",L68*$G68) -> 0 | Z68: =IF($B68="","",M68*$G68) -> 0 | AA68: =IF($B68="","",N68*$G68) -> 0 | AB68: =IF(J68="","",IFERROR(SUMIFS($U:$U,$B:$B,B68)/SUMIFS($V:$V,$B:$B,B68),"Indeterminado")) | AC68: =IFERROR(SUMIFS($X:$X,$B:$B,B68)/SUMIFS(W:W,$B:$B,B68),"") | AD68: =IF(OR(B68="",H68=""),"",IFERROR(SUMIFS($Z:$Z,$B:$B,B68)/SUMIFS($AA:$AA,$B:$B,B68),"Indeterminado")) | AE68: =IFERROR(SUMIFS($Z:$Z,$B:$B,B68)/SUMIFS($Y:$Y,$B:$B,B68),"") | AF68: =IFERROR(SUMIFS($Z:$Z,$B:$B,B68)/SUMIFS($W:$W,$B:$B,B68),"") | AG68: =IFERROR(IF(T68=0,"",SUMIFS($T:$T,$B:$B,B68)),"")
A69: 52 | B69: 34 | C69: ROCCIA SAS | F69: CONSORCIO INTERMALLAVIAL BOSA | G69: 0.5 | O69: =IFERROR(H69/J69,"") | P69: =IFERROR(K69/I69,"") | Q69: =IFERROR(M69/N69,"") | R69: =IFERROR(M69/L69,"") | S69: =IFERROR(M69/I69,"") | T69: =IFERROR(H69-J69,"") -> 0 | U69: =IF($B69="","",H69*$G69) -> 0 | V69: =IF($B69="","",J69*$G69) -> 0 | W69: =IF($B69="","",I69*$G69) -> 0 | X69: =IF($B69="","",K69*$G69) -> 0 | Y69: =IF($B69="","",L69*$G69) -> 0 | Z69: =IF($B69="","",M69*$G69) -> 0 | AA69: =IF($B69="","",N69*$G69) -> 0 | AB69: =IF(J69="","",IFERROR(SUMIFS($U:$U,$B:$B,B69)/SUMIFS($V:$V,$B:$B,B69),"Indeterminado")) | AC69: =IFERROR(SUMIFS($X:$X,$B:$B,B69)/SUMIFS(W:W,$B:$B,B69),"") | AD69: =IF(OR(B69="",H69=""),"",IFERROR(SUMIFS($Z:$Z,$B:$B,B69)/SUMIFS($AA:$AA,$B:$B,B69),"Indeterminado")) | AE69: =IFERROR(SUMIFS($Z:$Z,$B:$B,B69)/SUMIFS($Y:$Y,$B:$B,B69),"") | AF69: =IFERROR(SUMIFS($Z:$Z,$B:$B,B69)/SUMIFS($W:$W,$B:$B,B69),"") | AG69: =IFERROR(IF(T69=0,"",SUMIFS($T:$T,$B:$B,B69)),"")
A70: 53 | B70: 35 | C70: Gustavo Roso | D70: 88135839 | E70: 2021 | F70: Consorcio RP Bosa | G70: 0.95 | H70: 566675000 | I70: 1041699000 | J70: 5062000 | K70: 21431000 | L70: 1020268000 | M70: 217796000 | N70: 3047000 | O70: =IFERROR(H70/J70,"") -> 111.94686 | P70: =IFERROR(K70/I70,"") -> 0.020573121 | Q70: =IFERROR(M70/N70,"") -> 71.478832 | R70: =IFERROR(M70/L70,"") -> 0.2134694 | S70: =IFERROR(M70/I70,"") -> 0.20907767 | T70: =IFERROR(H70-J70,"") -> 561613000 | U70: =IF($B70="","",H70*$G70) -> 538341250 | V70: =IF($B70="","",J70*$G70) -> 4808900 | W70: =IF($B70="","",I70*$G70) -> 989614050 | X70: =IF($B70="","",K70*$G70) -> 20359450 | Y70: =IF($B70="","",L70*$G70) -> 969254600 | Z70: =IF($B70="","",M70*$G70) -> 206906200 | AA70: =IF($B70="","",N70*$G70) -> 2894650 | AB70: =IF(J70="","",IFERROR(SUMIFS($U:$U,$B:$B,B70)/SUMIFS($V:$V,$B:$B,B70),"Indeterminado")) -> 111.48003 | AC70: =IFERROR(SUMIFS($X:$X,$B:$B,B70)/SUMIFS(W:W,$B:$B,B70),"") -> 0.039765055 | AD70: =IF(OR(B70="",H70=""),"",IFERROR(SUMIFS($Z:$Z,$B:$B,B70)/SUMIFS($AA:$AA,$B:$B,B70),"Indeterminado")) -> 38.715884 | AE70: =IFERROR(SUMIFS($Z:$Z,$B:$B,B70)/SUMIFS($Y:$Y,$B:$B,B70),"") -> 0.21475011 | AF70: =IFERROR(SUMIFS($Z:$Z,$B:$B,B70)/SUMIFS($W:$W,$B:$B,B70),"") -> 0.20621056 | AG70: =IFERROR(IF(T70=0,"",SUMIFS($T:$T,$B:$B,B70)),"") -> 838376363
A71: 54 | B71: 35 | C71: NAIRO ADOLFO PRIETO SUAREZ | D71: 74243283 | E71: 2021 | F71: Consorcio RP Bosa | G71: 0.05 | H71: 279674859 | I71: 765313859 | J71: 2911496 | K71: 410284890 | L71: 355028969 | M71: 101069197 | N71: 51601936 | O71: =IFERROR(H71/J71,"") -> 96.058816 | P71: =IFERROR(K71/I71,"") -> 0.53610017 | Q71: =IFERROR(M71/N71,"") -> 1.9586319 | R71: =IFERROR(M71/L71,"") -> 0.28467873 | S71: =IFERROR(M71/I71,"") -> 0.13206242 | T71: =IFERROR(H71-J71,"") -> 276763363 | U71: =IF($B71="","",H71*$G71) -> 13983743 | V71: =IF($B71="","",J71*$G71) -> 145574.8 | W71: =IF($B71="","",I71*$G71) -> 38265693 | X71: =IF($B71="","",K71*$G71) -> 20514244 | Y71: =IF($B71="","",L71*$G71) -> 17751448 | Z71: =IF($B71="","",M71*$G71) -> 5053459.9 | AA71: =IF($B71="","",N71*$G71) -> 2580096.8 | AB71: =IF(J71="","",IFERROR(SUMIFS($U:$U,$B:$B,B71)/SUMIFS($V:$V,$B:$B,B71),"Indeterminado")) -> 111.48003 | AC71: =IFERROR(SUMIFS($X:$X,$B:$B,B71)/SUMIFS(W:W,$B:$B,B71),"") -> 0.039765055 | AD71: =IF(OR(B71="",H71=""),"",IFERROR(SUMIFS($Z:$Z,$B:$B,B71)/SUMIFS($AA:$AA,$B:$B,B71),"Indeterminado")) -> 38.715884 | AE71: =IFERROR(SUMIFS($Z:$Z,$B:$B,B71)/SUMIFS($Y:$Y,$B:$B,B71),"") -> 0.21475011 | AF71: =IFERROR(SUMIFS($Z:$Z,$B:$B,B71)/SUMIFS($W:$W,$B:$B,B71),"") -> 0.20621056 | AG71: =IFERROR(IF(T71=0,"",SUMIFS($T:$T,$B:$B,B71)),"") -> 838376363
A72: 55 | B72: 36 | C72: OPH INGENIEROS ASOCIADOS S.A.S. | D72: 901048528 | E72: 20221 | F72: CONSORCIO OPH - CAP 2022 | G72: 0.5 | H72: 143046393 | I72: 239942940 | J72: 0 | K72: 0 | L72: 239942940 | M72: 9953217 | N72: 52340 | O72: =IFERROR(H72/J72,"") | P72: =IFERROR(K72/I72,"") -> 0 | Q72: =IFERROR(M72/N72,"") -> 190.16464 | R72: =IFERROR(M72/L72,"") -> 0.0414816 | S72: =IFERROR(M72/I72,"") -> 0.0414816 | T72: =IFERROR(H72-J72,"") -> 143046393 | U72: =IF($B72="","",H72*$G72) -> 71523196 | V72: =IF($B72="","",J72*$G72) -> 0 | W72: =IF($B72="","",I72*$G72) -> 119971470 | X72: =IF($B72="","",K72*$G72) -> 0 | Y72: =IF($B72="","",L72*$G72) -> 119971470 | Z72: =IF($B72="","",M72*$G72) -> 4976608.5 | AA72: =IF($B72="","",N72*$G72) -> 26170 | AB72: =IF(J72="","",IFERROR(SUMIFS($U:$U,$B:$B,B72)/SUMIFS($V:$V,$B:$B,B72),"Indeterminado")) -> 39.169962 | AC72: =IFERROR(SUMIFS($X:$X,$B:$B,B72)/SUMIFS(W:W,$B:$B,B72),"") -> 0.019145304 | AD72: =IF(OR(B72="",H72=""),"",IFERROR(SUMIFS($Z:$Z,$B:$B,B72)/SUMIFS($AA:$AA,$B:$B,B72),"Indeterminado")) -> 57.540506 | AE72: =IFERROR(SUMIFS($Z:$Z,$B:$B,B72)/SUMIFS($Y:$Y,$B:$B,B72),"") -> 0.13899652 | AF72: =IFERROR(SUMIFS($Z:$Z,$B:$B,B72)/SUMIFS($W:$W,$B:$B,B72),"") -> 0.13633539 | AG72: =IFERROR(IF(T72=0,"",SUMIFS($T:$T,$B:$B,B72)),"") -> 1151012989
A73: 56 | B73: 36 | C73: Carlos Alberto Palta Muñoz | D73: 10537995 | E73: 2020 | F73: CONSORCIO OPH - CAP 2022 | G73: 0.5 | H73: 1038121538 | I73: 1335113929 | J73: 30154942 | K73: 30154942 | L73: 1304958987 | M73: 204782773 | N73: 3679570 | O73: =IFERROR(H73/J73,"") -> 34.426249 | P73: =IFERROR(K73/I73,"") -> 0.022586044 | Q73: =IFERROR(M73/N73,"") -> 55.653996 | R73: =IFERROR(M73/L73,"") -> 0.1569266 | S73: =IFERROR(M73/I73,"") -> 0.15338225 | T73: =IFERROR(H73-J73,"") -> 1007966596 | U73: =IF($B73="","",H73*$G73) -> 519060769 | V73: =IF($B73="","",J73*$G73) -> 15077471 | W73: =IF($B73="","",I73*$G73) -> 6.6755696e+08 | X73: =IF($B73="","",K73*$G73) -> 15077471 | Y73: =IF($B73="","",L73*$G73) -> 6.5247949e+08 | Z73: =IF($B73="","",M73*$G73) -> 1.0239139e+08 | AA73: =IF($B73="","",N73*$G73) -> 1839785 | AB73: =IF(J73="","",IFERROR(SUMIFS($U:$U,$B:$B,B73)/SUMIFS($V:$V,$B:$B,B73),"Indeterminado")) -> 39.169962 | AC73: =IFERROR(SUMIFS($X:$X,$B:$B,B73)/SUMIFS(W:W,$B:$B,B73),"") -> 0.019145304 | AD73: =IF(OR(B73="",H73=""),"",IFERROR(SUMIFS($Z:$Z,$B:$B,B73)/SUMIFS($AA:$AA,$B:$B,B73),"Indeterminado")) -> 57.540506 | AE73: =IFERROR(SUMIFS($Z:$Z,$B:$B,B73)/SUMIFS($Y:$Y,$B:$B,B73),"") -> 0.13899652 | AF73: =IFERROR(SUMIFS($Z:$Z,$B:$B,B73)/SUMIFS($W:$W,$B:$B,B73),"") -> 0.13633539 | AG73: =IFERROR(IF(T73=0,"",SUMIFS($T:$T,$B:$B,B73)),"") -> 1151012989
A74: 57 | B74: 37 | C74: ARQINGCO SAS | D74: 900665600 | E74: 2021 | F74: ARQINGCO SAS | G74: 1 | H74: 1809045662 | I74: 3598988047 | J74: 979460767 | K74: 1833213961 | L74: 1765774086 | M74: 18993458 | N74: 6840000 | O74: =IFERROR(H74/J74,"") -> 1.8469812 | P74: =IFERROR(K74/I74,"") -> 0.50936928 | Q74: =IFERROR(M74/N74,"") -> 2.7768213 | R74: =IFERROR(M74/L74,"") -> 0.010756448 | S74: =IFERROR(M74/I74,"") -> 0.005277444 | T74: =IFERROR(H74-J74,"") -> 829584895 | U74: =IF($B74="","",H74*$G74) -> 1809045662 | V74: =IF($B74="","",J74*$G74) -> 979460767 | W74: =IF($B74="","",I74*$G74) -> 3598988047 | X74: =IF($B74="","",K74*$G74) -> 1833213961 | Y74: =IF($B74="","",L74*$G74) -> 1765774086 | Z74: =IF($B74="","",M74*$G74) -> 18993458 | AA74: =IF($B74="","",N74*$G74) -> 6840000 | AB74: =IF(J74="","",IFERROR(SUMIFS($U:$U,$B:$B,B74)/SUMIFS($V:$V,$B:$B,B74),"Indeterminado")) -> 1.8469812 | AC74: =IFERROR(SUMIFS($X:$X,$B:$B,B74)/SUMIFS(W:W,$B:$B,B74),"") -> 0.50936928 | AD74: =IF(OR(B74="",H74=""),"",IFERROR(SUMIFS($Z:$Z,$B:$B,B74)/SUMIFS($AA:$AA,$B:$B,B74),"Indeterminado")) -> 2.7768213 | AE74: =IFERROR(SUMIFS($Z:$Z,$B:$B,B74)/SUMIFS($Y:$Y,$B:$B,B74),"") -> 0.010756448 | AF74: =IFERROR(SUMIFS($Z:$Z,$B:$B,B74)/SUMIFS($W:$W,$B:$B,B74),"") -> 0.005277444 | AG74: =IFERROR(IF(T74=0,"",SUMIFS($T:$T,$B:$B,B74)),"") -> 829584895
A75: 58 | B75: 38 | C75: HERNAN ALONSO VELASQUEZ CABEZA | D75: 10781112 | E75: 2021 | F75: HERNAN ALONSO VELASQUEZ CABEZA | G75: 1 | H75: 431875947 | I75: 473118147 | J75: 18954000 | K75: 55726260 | L75: 417391887 | M75: 256081702 | N75: 2258000 | O75: =IFERROR(H75/J75,"") -> 22.785478 | P75: =IFERROR(K75/I75,"") -> 0.11778508 | Q75: =IFERROR(M75/N75,"") -> 113.41085 | R75: =IFERROR(M75/L75,"") -> 0.61352822 | S75: =IFERROR(M75/I75,"") -> 0.54126375 | T75: =IFERROR(H75-J75,"") -> 412921947 | U75: =IF($B75="","",H75*$G75) -> 431875947 | V75: =IF($B75="","",J75*$G75) -> 18954000 | W75: =IF($B75="","",I75*$G75) -> 473118147 | X75: =IF($B75="","",K75*$G75) -> 55726260 | Y75: =IF($B75="","",L75*$G75) -> 417391887 | Z75: =IF($B75="","",M75*$G75) -> 256081702 | AA75: =IF($B75="","",N75*$G75) -> 2258000 | AB75: =IF(J75="","",IFERROR(SUMIFS($U:$U,$B:$B,B75)/SUMIFS($V:$V,$B:$B,B75),"Indeterminado")) -> 22.785478 | AC75: =IFERROR(SUMIFS($X:$X,$B:$B,B75)/SUMIFS(W:W,$B:$B,B75),"") -> 0.11778508 | AD75: =IF(OR(B75="",H75=""),"",IFERROR(SUMIFS($Z:$Z,$B:$B,B75)/SUMIFS($AA:$AA,$B:$B,B75),"Indeterminado")) -> 113.41085 | AE75: =IFERROR(SUMIFS($Z:$Z,$B:$B,B75)/SUMIFS($Y:$Y,$B:$B,B75),"") -> 0.61352822 | AF75: =IFERROR(SUMIFS($Z:$Z,$B:$B,B75)/SUMIFS($W:$W,$B:$B,B75),"") -> 0.54126375 | AG75: =IFERROR(IF(T75=0,"",SUMIFS($T:$T,$B:$B,B75)),"") -> 412921947
A76: 59 | B76: 39 | C76: HG INGENIERIA Y DESARROLLO S.A.S | D76: 900497862 | E76: 2021 | F76: CONSORCIO INTERSPACIOS BOSA | G76: 0.75 | H76: 819157331 | I76: 1006940331 | J76: 17599705 | K76: 193145002 | L76: 813795329 | M76: 395392089 | N76: 24600 | O76: =IFERROR(H76/J76,"") -> 46.54381 | P76: =IFERROR(K76/I76,"") -> 0.19181375 | Q76: =IFERROR(M76/N76,"") -> 16072.849 | R76: =IFERROR(M76/L76,"") -> 0.48586183 | S76: =IFERROR(M76/I76,"") -> 0.39266685 | T76: =IFERROR(H76-J76,"") -> 801557626 | U76: =IF($B76="","",H76*$G76) -> 6.14368e+08 | V76: =IF($B76="","",J76*$G76) -> 13199779 | W76: =IF($B76="","",I76*$G76) -> 7.5520525e+08 | X76: =IF($B76="","",K76*$G76) -> 1.4485875e+08 | Y76: =IF($B76="","",L76*$G76) -> 6.103465e+08 | Z76: =IF($B76="","",M76*$G76) -> 2.9654407e+08 | AA76: =IF($B76="","",N76*$G76) -> 18450 | AB76: =IF(J76="","",IFERROR(SUMIFS($U:$U,$B:$B,B76)/SUMIFS($V:$V,$B:$B,B76),"Indeterminado")) -> 39.289457 | AC76: =IFERROR(SUMIFS($X:$X,$B:$B,B76)/SUMIFS(W:W,$B:$B,B76),"") -> 0.2660315 | AD76: =IF(OR(B76="",H76=""),"",IFERROR(SUMIFS($Z:$Z,$B:$B,B76)/SUMIFS($AA:$AA,$B:$B,B76),"Indeterminado")) -> 8509.7471 | AE76: =IFERROR(SUMIFS($Z:$Z,$B:$B,B76)/SUMIFS($Y:$Y,$B:$B,B76),"") -> 0.52449131 | AF76: =IFERROR(SUMIFS($Z:$Z,$B:$B,B76)/SUMIFS($W:$W,$B:$B,B76),"") -> 0.3849601 | AG76: =IFERROR(IF(T76=0,"",SUMIFS($T:$T,$B:$B,B76)),"") -> 2482207657
A77: 60 | B77: 39 | C77: CGB SAS | D77: 824006335 | E77: 2021 | F77: CONSORCIO INTERSPACIOS BOSA | G77: 0.25 | H77: 1734546680 | I77: 1926396643 | J77: 53896649 | K77: 736680725 | L77: 1189715918 | M77: 718305126 | N77: 150000 | O77: =IFERROR(H77/J77,"") -> 32.18283 | P77: =IFERROR(K77/I77,"") -> 0.38241383 | Q77: =IFERROR(M77/N77,"") -> 4788.7008 | R77: =IFERROR(M77/L77,"") -> 0.60376189 | S77: =IFERROR(M77/I77,"") -> 0.37287499 | T77: =IFERROR(H77-J77,"") -> 1680650031 | U77: =IF($B77="","",H77*$G77) -> 433636670 | V77: =IF($B77="","",J77*$G77) -> 13474162 | W77: =IF($B77="","",I77*$G77) -> 4.8159916e+08 | X77: =IF($B77="","",K77*$G77) -> 1.8417018e+08 | Y77: =IF($B77="","",L77*$G77) -> 2.9742898e+08 | Z77: =IF($B77="","",M77*$G77) -> 1.7957628e+08 | AA77: =IF($B77="","",N77*$G77) -> 37500 | AB77: =IF(J77="","",IFERROR(SUMIFS($U:$U,$B:$B,B77)/SUMIFS($V:$V,$B:$B,B77),"Indeterminado")) -> 39.289457 | AC77: =IFERROR(SUMIFS($X:$X,$B:$B,B77)/SUMIFS(W:W,$B:$B,B77),"") -> 0.2660315 | AD77: =IF(OR(B77="",H77=""),"",IFERROR(SUMIFS($Z:$Z,$B:$B,B77)/SUMIFS($AA:$AA,$B:$B,B77),"Indeterminado")) -> 8509.7471 | AE77: =IFERROR(SUMIFS($Z:$Z,$B:$B,B77)/SUMIFS($Y:$Y,$B:$B,B77),"") -> 0.52449131 | AF77: =IFERROR(SUMIFS($Z:$Z,$B:$B,B77)/SUMIFS($W:$W,$B:$B,B77),"") -> 0.3849601 | AG77: =IFERROR(IF(T77=0,"",SUMIFS($T:$T,$B:$B,B77)),"") -> 2482207657
A78: 61 | B78: 40 | C78: Smart Planning Projects SAS | D78: 901173019 | E78: 2021 | F78: UT INTERVENTORIA BOSA 2022 | G78: 0.05 | H78: 1003738165 | I78: 1012913962 | J78: 240336390 | K78: 588304825 | L78: 424609137 | M78: 135714335 | N78: 15452629 | O78: =IFERROR(H78/J78,"") -> 4.1763886 | P78: =IFERROR(K78/I78,"") -> 0.58080434 | Q78: =IFERROR(M78/N78,"") -> 8.7826049 | R78: =IFERROR(M78/L78,"") -> 0.3196218 | S78: =IFERROR(M78/I78,"") -> 0.13398407 | T78: =IFERROR(H78-J78,"") -> 763401775 | U78: =IF($B78="","",H78*$G78) -> 50186908 | V78: =IF($B78="","",J78*$G78) -> 12016820 | W78: =IF($B78="","",I78*$G78) -> 50645698 | X78: =IF($B78="","",K78*$G78) -> 29415241 | Y78: =IF($B78="","",L78*$G78) -> 21230457 | Z78: =IF($B78="","",M78*$G78) -> 6785716.8 | AA78: =IF($B78="","",N78*$G78) -> 772631.45 | AB78: =IF(J78="","",IFERROR(SUMIFS($U:$U,$B:$B,B78)/SUMIFS($V:$V,$B:$B,B78),"Indeterminado")) -> 8.9196611 | AC78: =IFERROR(SUMIFS($X:$X,$B:$B,B78)/SUMIFS(W:W,$B:$B,B78),"") -> 0.1089411 | AD78: =IF(OR(B78="",H78=""),"",IFERROR(SUMIFS($Z:$Z,$B:$B,B78)/SUMIFS($AA:$AA,$B:$B,B78),"Indeterminado")) -> 624.78075 | AE78: =IFERROR(SUMIFS($Z:$Z,$B:$B,B78)/SUMIFS($Y:$Y,$B:$B,B78),"") -> 0.47943814 | AF78: =IFERROR(SUMIFS($Z:$Z,$B:$B,B78)/SUMIFS($W:$W,$B:$B,B78),"") -> 0.42720762 | AG78: =IFERROR(IF(T78=0,"",SUMIFS($T:$T,$B:$B,B78)),"") -> 2281863338
A79: 62 | B79: 40 | C79: CONSEINT S.A.S | D79: 901306726 | E79: 2020 | F79: CONSEINT S.A.S | G79: 0.95 | H79: 1702618756 | I79: 2326098994 | J79: 184157193 | K79: 228252153 | L79: 2097846841 | M79: 1009359344 | N79: 813678 | O79: =IFERROR(H79/J79,"") -> 9.2454643 | P79: =IFERROR(K79/I79,"") -> 0.098126586 | Q79: =IFERROR(M79/N79,"") -> 1240.4899 | R79: =IFERROR(M79/L79,"") -> 0.48114063 | S79: =IFERROR(M79/I79,"") -> 0.43392794 | T79: =IFERROR(H79-J79,"") -> 1518461563 | U79: =IF($B79="","",H79*$G79) -> 1.6174878e+09 | V79: =IF($B79="","",J79*$G79) -> 1.7494933e+08 | W79: =IF($B79="","",I79*$G79) -> 2.209794e+09 | X79: =IF($B79="","",K79*$G79) -> 2.1683955e+08 | Y79: =IF($B79="","",L79*$G79) -> 1.9929545e+09 | Z79: =IF($B79="","",M79*$G79) -> 9.5889138e+08 | AA79: =IF($B79="","",N79*$G79) -> 772994.1 | AB79: =IF(J79="","",IFERROR(SUMIFS($U:$U,$B:$B,B79)/SUMIFS($V:$V,$B:$B,B79),"Indeterminado")) -> 8.9196611 | AC79: =IFERROR(SUMIFS($X:$X,$B:$B,B79)/SUMIFS(W:W,$B:$B,B79),"") -> 0.1089411 | AD79: =IF(OR(B79="",H79=""),"",IFERROR(SUMIFS($Z:$Z,$B:$B,B79)/SUMIFS($AA:$AA,$B:$B,B79),"Indeterminado")) -> 624.78075 | AE79: =IFERROR(SUMIFS($Z:$Z,$B:$B,B79)/SUMIFS($Y:$Y,$B:$B,B79),"") -> 0.47943814 | AF79: =IFERROR(SUMIFS($Z:$Z,$B:$B,B79)/SUMIFS($W:$W,$B:$B,B79),"") -> 0.42720762 | AG79: =IFERROR(IF(T79=0,"",SUMIFS($T:$T,$B:$B,B79)),"") -> 2281863338
A80: 63 | B80: 41 | C80: PROYECTCOL SAS | D80: 830144388 | E80: 2021 | F80: PROYECTCOL SAS | G80: 1 | H80: 2457840533 | I80: 2754957733 | J80: 29361929 | K80: 29361929 | L80: 2725595804 | M80: 227419662 | N80: 9720826 | O80: =IFERROR(H80/J80,"") -> 83.708415 | P80: =IFERROR(K80/I80,"") -> 0.010657851 | Q80: =IFERROR(M80/N80,"") -> 23.395096 | R80: =IFERROR(M80/L80,"") -> 0.083438513 | S80: =IFERROR(M80/I80,"") -> 0.082549238 | T80: =IFERROR(H80-J80,"") -> 2428478604 | U80: =IF($B80="","",H80*$G80) -> 2457840533 | V80: =IF($B80="","",J80*$G80) -> 29361929 | W80: =IF($B80="","",I80*$G80) -> 2754957733 | X80: =IF($B80="","",K80*$G80) -> 29361929 | Y80: =IF($B80="","",L80*$G80) -> 2725595804 | Z80: =IF($B80="","",M80*$G80) -> 227419662 | AA80: =IF($B80="","",N80*$G80) -> 9720826 | AB80: =IF(J80="","",IFERROR(SUMIFS($U:$U,$B:$B,B80)/SUMIFS($V:$V,$B:$B,B80),"Indeterminado")) -> 83.708415 | AC80: =IFERROR(SUMIFS($X:$X,$B:$B,B80)/SUMIFS(W:W,$B:$B,B80),"") -> 0.010657851 | AD80: =IF(OR(B80="",H80=""),"",IFERROR(SUMIFS($Z:$Z,$B:$B,B80)/SUMIFS($AA:$AA,$B:$B,B80),"Indeterminado")) -> 23.395096 | AE80: =IFERROR(SUMIFS($Z:$Z,$B:$B,B80)/SUMIFS($Y:$Y,$B:$B,B80),"") -> 0.083438513 | AF80: =IFERROR(SUMIFS($Z:$Z,$B:$B,B80)/SUMIFS($W:$W,$B:$B,B80),"") -> 0.082549238 | AG80: =IFERROR(IF(T80=0,"",SUMIFS($T:$T,$B:$B,B80)),"") -> 2428478604
A81: 64 | B81: 42 | C81: COMPAÑIA DE INTERVENTORIAS Y CONSULTORIAS DE LA COSTA SAS | D81: 900845211 | E81: 2021 | F81: COMPAÑIA DE INTERVENTORIAS Y CONSULTORIAS DE LA COSTA SAS | G81: 1 | H81: 5057288833 | I81: 6195234360 | J81: 210403827 | K81: 2416250857 | L81: 3778983503 | M81: 1767287627 | N81: 18458405 | O81: =IFERROR(H81/J81,"") -> 24.036107 | P81: =IFERROR(K81/I81,"") -> 0.39001767 | Q81: =IFERROR(M81/N81,"") -> 95.74433 | R81: =IFERROR(M81/L81,"") -> 0.46766217 | S81: =IFERROR(M81/I81,"") -> 0.28526566 | T81: =IFERROR(H81-J81,"") -> 4846885006 | U81: =IF($B81="","",H81*$G81) -> 5057288833 | V81: =IF($B81="","",J81*$G81) -> 210403827 | W81: =IF($B81="","",I81*$G81) -> 6195234360 | X81: =IF($B81="","",K81*$G81) -> 2416250857 | Y81: =IF($B81="","",L81*$G81) -> 3778983503 | Z81: =IF($B81="","",M81*$G81) -> 1767287627 | AA81: =IF($B81="","",N81*$G81) -> 18458405 | AB81: =IF(J81="","",IFERROR(SUMIFS($U:$U,$B:$B,B81)/SUMIFS($V:$V,$B:$B,B81),"Indeterminado")) -> 24.036107 | AC81: =IFERROR(SUMIFS($X:$X,$B:$B,B81)/SUMIFS(W:W,$B:$B,B81),"") -> 0.39001767 | AD81: =IF(OR(B81="",H81=""),"",IFERROR(SUMIFS($Z:$Z,$B:$B,B81)/SUMIFS($AA:$AA,$B:$B,B81),"Indeterminado")) -> 95.74433 | AE81: =IFERROR(SUMIFS($Z:$Z,$B:$B,B81)/SUMIFS($Y:$Y,$B:$B,B81),"") -> 0.46766217 | AF81: =IFERROR(SUMIFS($Z:$Z,$B:$B,B81)/SUMIFS($W:$W,$B:$B,B81),"") -> 0.28526566 | AG81: =IFERROR(IF(T81=0,"",SUMIFS($T:$T,$B:$B,B81)),"") -> 4846885006
...

Sheet GCO-GCI-107_1 a 15
C1: VERIFICACIÓN FINANCIERA Y CAPACIDAD ORGANIZACIONAL | Q1: Código: GCO-GCI-F107 Versión: 02 Vigencia: 23 de diciembre de 2021 Caso HOLA: 209033
B6: ="PROCESO DE SELECCIÓN "&Indicadores_Generales!D4 -> PROCESO DE SELECCIÓN FDLBOSACM-004-2022(71937)
B7: ="OBJETO: "&UPPER(Indicadores_Generales!D6) -> OBJETO: REALIZAR LA INTERVENTORÍA TÉCNICA, ADMINISTRATIVA, FINANCIERA, JURÍDICA, SOCIAL, AMBIENTAL Y SST AL CONTRATO DE OBRA PÚBLICA QUE TENDRÁ POR OBJETO CONTRACTUAL EJECUTAR POR EL SISTEMA DE PRECIOS UNITARIOS FIJOS SIN FORMULA DE REAJUSTE Y A MONTO AGOTABLE LAS ACTIVIDADES NECESARIAS PARA LA EJECUCIÓN DE LAS OBRAS DE CONSTRUCCIÓN DE MALLA VIAL Y ESPACIO PUBLICO ASOCIADO DE LA LOCALIDAD DE BOSA, DE ACUERDO CON LA DESCRIPCIÓN, ESPECIFICACIONES, ESTUDIOS, DISEÑOS Y DEMÁS CONDICIONES ESTABLECIDAS EN EL ANEXO TÉCNICO
B8: CONCEPTO / PROPONENTE | C8: =IFERROR(IF(VLOOKUP(C9,Indicadores_Generales!$B$17:$AG$143,5,0)=0,"",VLOOKUP(C9,Indicadores_Generales!$B$17:$AG$143,5,0)),"") -> SITELSA SAS | D8: =IFERROR(IF(VLOOKUP(D9,Indicadores_Generales!$B$17:$AG$143,5,0)=0,"",VLOOKUP(D9,Indicadores_Generales!$B$17:$AG$143,5,0)),"") -> PROESING | E8: =IFERROR(IF(VLOOKUP(E9,Indicadores_Generales!$B$17:$AG$143,5,0)=0,"",VLOOKUP(E9,Indicadores_Generales!$B$17:$AG$143,5,0)),"") -> CB INGENIEROS SAS | F8: =IFERROR(IF(VLOOKUP(F9,Indicadores_Generales!$B$17:$AG$143,5,0)=0,"",VLOOKUP(F9,Indicadores_Generales!$B$17:$AG$143,5,0)),"") -> JASEN CONSULTORES S.A.S. | G8: =IFERROR(IF(VLOOKUP(G9,Indicadores_Generales!$B$17:$AG$143,5,0)=0,"",VLOOKUP(G9,Indicadores_Generales!$B$17:$AG$143,5,0)),"") -> BOSA SIGLO XXI | H8: =IFERROR(IF(VLOOKUP(H9,Indicadores_Generales!$B$17:$AG$143,5,0)=0,"",VLOOKUP(H9,Indicadores_Generales!$B$17:$AG$143,5,0)),"") -> CONSORCIO ODESSA | I8: =IFERROR(IF(VLOOKUP(I9,Indicadores_Generales!$B$17:$AG$143,5,0)=0,"",VLOOKUP(I9,Indicadores_Generales!$B$17:$AG$143,5,0)),"") -> GMC | J8: =IFERROR(IF(VLOOKUP(J9,Indicadores_Generales!$B$17:$AG$143,5,0)=0,"",VLOOKUP(J9,Indicadores_Generales!$B$17:$AG$143,5,0)),"") -> CONCIC S.A.S. | ... Q8: =IFERROR(IF(VLOOKUP(Q9,Indicadores_Generales!$B$17:$AG$143,5,0)=0,"",VLOOKUP(Q9,Indicadores_Generales!$B$17:$AG$143,5,0)),"") -> PIV Ingenieria S.A.S.
B9: Numero Proponente | C9: 1 | D9: 2 | E9: 3 | F9: 4 | G9: 5 | H9: 6 | I9: 7 | J9: 8 | K9: 9 | L9: 10 | M9: 11 | N9: 12 | O9: 13 | P9: 14 | Q9: 15
B10: BALANCE GENERAL CON CORTE A 31 DE DICIEMBRE AÑO | C10: =IF(C8="","",IFERROR(IF(VLOOKUP(C9,Indicadores_Generales!$B$17:$AG$143,4,0)=0,"",DATE(VLOOKUP(C9,Indicadores_Generales!$B$17:$AG$143,4,0),12,31)),"")) -> 44561 | D10: =IF(D8="","",IFERROR(IF(VLOOKUP(D9,Indicadores_Generales!$B$17:$AG$143,4,0)=0,"",DATE(VLOOKUP(D9,Indicadores_Generales!$B$17:$AG$143,4,0),12,31)),"")) -> 44561 | E10: =IF(E8="","",IFERROR(IF(VLOOKUP(E9,Indicadores_Generales!$B$17:$AG$143,4,0)=0,"",DATE(VLOOKUP(E9,Indicadores_Generales!$B$17:$AG$143,4,0),12,31)),"")) -> 44196 | F10: =IF(F8="","",IFERROR(IF(VLOOKUP(F9,Indicadores_Generales!$B$17:$AG$143,4,0)=0,"",DATE(VLOOKUP(F9,Indicadores_Generales!$B$17:$AG$143,4,0),12,31)),"")) -> 44561 | G10: =IF(G8="","",IFERROR(IF(VLOOKUP(G9,Indicadores_Generales!$B$17:$AG$143,4,0)=0,"",DATE(VLOOKUP(G9,Indicadores_Generales!$B$17:$AG$143,4,0),12,31)),"")) -> 44561 | H10: =IF(H8="","",IFERROR(IF(VLOOKUP(H9,Indicadores_Generales!$B$17:$AG$143,4,0)=0,"",DATE(VLOOKUP(H9,Indicadores_Generales!$B$17:$AG$143,4,0),12,31)),"")) -> 44561 | I10: =IF(I8="","",IFERROR(IF(VLOOKUP(I9,Indicadores_Generales!$B$17:$AG$143,4,0)=0,"",DATE(VLOOKUP(I9,Indicadores_Generales!$B$17:$AG$143,4,0),12,31)),"")) -> 44561 | J10: =IF(J8="","",IFERROR(IF(VLOOKUP(J9,Indicadores_Generales!$B$17:$AG$143,4,0)=0,"",DATE(VLOOKUP(J9,Indicadores_Generales!$B$17:$AG$143,4,0),12,31)),"")) -> 44561 | ... Q10: =IF(Q8="","",IFERROR(IF(VLOOKUP(Q9,Indicadores_Generales!$B$17:$AG$143,4,0)=0,"",DATE(VLOOKUP(Q9,Indicadores_Generales!$B$17:$AG$143,4,0),12,31)),"")) -> 44561
B11: PRESENTACIÓN DE RUP VIGENTE | C11: =IF(C8="","",IF(C10="","","VIGENTE")) -> VIGENTE | D11: =IF(D8="","",IF(D10="","","VIGENTE")) -> VIGENTE | E11: =IF(E8="","",IF(E10="","","VIGENTE")) -> VIGENTE | F11: =IF(F8="","",IF(F10="","","VIGENTE")) -> VIGENTE | G11: =IF(G8="","",IF(G10="","","VIGENTE")) -> VIGENTE | H11: =IF(H8="","",IF(H10="","","VIGENTE")) -> VIGENTE | I11: =IF(I8="","",IF(I10="","","VIGENTE")) -> VIGENTE | J11: =IF(J8="","",IF(J10="","","VIGENTE")) -> VIGENTE | ... Q11: =IF(Q8="","",IF(Q10="","","VIGENTE")) -> VIGENTE
B12: INFORMACION TOMADA DEL RUP VIGENTE | C12: =IF(C8="","",SUMIFS(Indicadores_Generales!$G:$G,Indicadores_Generales!$B:$B,C9)) -> 1 | D12: =IF(D8="","",SUMIFS(Indicadores_Generales!$G:$G,Indicadores_Generales!$B:$B,D9)) -> 1 | E12: =IF(E8="","",SUMIFS(Indicadores_Generales!$G:$G,Indicadores_Generales!$B:$B,E9)) -> 1 | F12: =IF(F8="","",SUMIFS(Indicadores_Generales!$G:$G,Indicadores_Generales!$B:$B,F9)) -> 1 | G12: =IF(G8="","",SUMIFS(Indicadores_Generales!$G:$G,Indicadores_Generales!$B:$B,G9)) -> 1 | H12: =IF(H8="","",SUMIFS(Indicadores_Generales!$G:$G,Indicadores_Generales!$B:$B,H9)) -> 1 | I12: =IF(I8="","",SUMIFS(Indicadores_Generales!$G:$G,Indicadores_Generales!$B:$B,I9)) -> 1 | J12: =IF(J8="","",SUMIFS(Indicadores_Generales!$G:$G,Indicadores_Generales!$B:$B,J9)) -> 1 | ... Q12: =IF(Q8="","",SUMIFS(Indicadores_Generales!$G:$G,Indicadores_Generales!$B:$B,Q9)) -> 1
B13: ACTIVO CORRIENTE | C13: =IF(C8="","",SUMIFS(Indicadores_Generales!$U:$U,Indicadores_Generales!$B:$B,C9)) -> 4820015628 | D13: =IF(D8="","",SUMIFS(Indicadores_Generales!$U:$U,Indicadores_Generales!$B:$B,D9)) -> 680485318 | E13: =IF(E8="","",SUMIFS(Indicadores_Generales!$U:$U,Indicadores_Generales!$B:$B,E9)) -> 2106100738 | F13: =IF(F8="","",SUMIFS(Indicadores_Generales!$U:$U,Indicadores_Generales!$B:$B,F9)) -> 4136257451 | G13: =IF(G8="","",SUMIFS(Indicadores_Generales!$U:$U,Indicadores_Generales!$B:$B,G9)) -> 12025091828 | H13: =IF(H8="","",SUMIFS(Indicadores_Generales!$U:$U,Indicadores_Generales!$B:$B,H9)) -> 2.5079144e+09 | I13: =IF(I8="","",SUMIFS(Indicadores_Generales!$U:$U,Indicadores_Generales!$B:$B,I9)) -> 5.5685768e+09 | J13: =IF(J8="","",SUMIFS(Indicadores_Generales!$U:$U,Indicadores_Generales!$B:$B,J9)) -> 5823796147 | ... Q13: =IF(Q8="","",SUMIFS(Indicadores_Generales!$U:$U,Indicadores_Generales!$B:$B,Q9)) -> 2056786073
B14: PASIVO CORRIENTE | C14: =IF(C8="","",SUMIFS(Indicadores_Generales!$V:$V,Indicadores_Generales!$B:$B,C9)) -> 237511652 | D14: =IF(D8="","",SUMIFS(Indicadores_Generales!$V:$V,Indicadores_Generales!$B:$B,D9)) -> 264354718 | E14: =IF(E8="","",SUMIFS(Indicadores_Generales!$V:$V,Indicadores_Generales!$B:$B,E9)) -> 223352757 | F14: =IF(F8="","",SUMIFS(Indicadores_Generales!$V:$V,Indicadores_Generales!$B:$B,F9)) -> 1009599294 | G14: =IF(G8="","",SUMIFS(Indicadores_Generales!$V:$V,Indicadores_Generales!$B:$B,G9)) -> 1860936211 | H14: =IF(H8="","",SUMIFS(Indicadores_Generales!$V:$V,Indicadores_Generales!$B:$B,H9)) -> 1.2017661e+09 | I14: =IF(I8="","",SUMIFS(Indicadores_Generales!$V:$V,Indicadores_Generales!$B:$B,I9)) -> 7.0290587e+08 | J14: =IF(J8="","",SUMIFS(Indicadores_Generales!$V:$V,Indicadores_Generales!$B:$B,J9)) -> 351765345 | ... Q14: =IF(Q8="","",SUMIFS(Indicadores_Generales!$V:$V,Indicadores_Generales!$B:$B,Q9)) -> 1239780342
B15: ACTIVO TOTAL | C15: =IF(C8="","",SUMIFS(Indicadores_Generales!$W:$W,Indicadores_Generales!$B:$B,C9)) -> 5236581840 | D15: =IF(D8="","",SUMIFS(Indicadores_Generales!$W:$W,Indicadores_Generales!$B:$B,D9)) -> 680485318 | E15: =IF(E8="","",SUMIFS(Indicadores_Generales!$W:$W,Indicadores_Generales!$B:$B,E9)) -> 3240135572 | F15: =IF(F8="","",SUMIFS(Indicadores_Generales!$W:$W,Indicadores_Generales!$B:$B,F9)) -> 4684320284 | G15: =IF(G8="","",SUMIFS(Indicadores_Generales!$W:$W,Indicadores_Generales!$B:$B,G9)) -> 13194376821 | H15: =IF(H8="","",SUMIFS(Indicadores_Generales!$W:$W,Indicadores_Generales!$B:$B,H9)) -> 4.0901945e+09 | I15: =IF(I8="","",SUMIFS(Indicadores_Generales!$W:$W,Indicadores_Generales!$B:$B,I9)) -> 5.8136298e+09 | J15: =IF(J8="","",SUMIFS(Indicadores_Generales!$W:$W,Indicadores_Generales!$B:$B,J9)) -> 5826285766 | ... Q15: =IF(Q8="","",SUMIFS(Indicadores_Generales!$W:$W,Indicadores_Generales!$B:$B,Q9)) -> 4893290691
B16: PASIVO TOTAL | C16: =IF(C8="","",SUMIFS(Indicadores_Generales!$X:$X,Indicadores_Generales!$B:$B,C9)) -> 1760253849 | D16: =IF(D8="","",SUMIFS(Indicadores_Generales!$X:$X,Indicadores_Generales!$B:$B,D9)) -> 264354718 | E16: =IF(E8="","",SUMIFS(Indicadores_Generales!$X:$X,Indicadores_Generales!$B:$B,E9)) -> 1799680207 | F16: =IF(F8="","",SUMIFS(Indicadores_Generales!$X:$X,Indicadores_Generales!$B:$B,F9)) -> 2189984072 | G16: =IF(G8="","",SUMIFS(Indicadores_Generales!$X:$X,Indicadores_Generales!$B:$B,G9)) -> 2750925837 | H16: =IF(H8="","",SUMIFS(Indicadores_Generales!$X:$X,Indicadores_Generales!$B:$B,H9)) -> 1.2133534e+09 | I16: =IF(I8="","",SUMIFS(Indicadores_Generales!$X:$X,Indicadores_Generales!$B:$B,I9)) -> 7.843028e+08 | J16: =IF(J8="","",SUMIFS(Indicadores_Generales!$X:$X,Indicadores_Generales!$B:$B,J9)) -> 2272754882 | ... Q16: =IF(Q8="","",SUMIFS(Indicadores_Generales!$X:$X,Indicadores_Generales!$B:$B,Q9)) -> 2680133333
B17: PATRIMONIO | C17: =IF(C8="","",SUMIFS(Indicadores_Generales!$Y:$Y,Indicadores_Generales!$B:$B,C9)) -> 3476327991 | D17: =IF(D8="","",SUMIFS(Indicadores_Generales!$Y:$Y,Indicadores_Generales!$B:$B,D9)) -> 416130600 | E17: =IF(E8="","",SUMIFS(Indicadores_Generales!$Y:$Y,Indicadores_Generales!$B:$B,E9)) -> 1440455365 | F17: =IF(F8="","",SUMIFS(Indicadores_Generales!$Y:$Y,Indicadores_Generales!$B:$B,F9)) -> 2494336212 | G17: =IF(G8="","",SUMIFS(Indicadores_Generales!$Y:$Y,Indicadores_Generales!$B:$B,G9)) -> 10543450984 | H17: =IF(H8="","",SUMIFS(Indicadores_Generales!$Y:$Y,Indicadores_Generales!$B:$B,H9)) -> 2.8768411e+09 | I17: =IF(I8="","",SUMIFS(Indicadores_Generales!$Y:$Y,Indicadores_Generales!$B:$B,I9)) -> 5.029327e+09 | J17: =IF(J8="","",SUMIFS(Indicadores_Generales!$Y:$Y,Indicadores_Generales!$B:$B,J9)) -> 3553530884 | ... Q17: =IF(Q8="","",SUMIFS(Indicadores_Generales!$Y:$Y,Indicadores_Generales!$B:$B,Q9)) -> 2213157358
B18: Activo total-Pasivo total-Patrimonio | C18: =IF(C8="","",C15-C16-C17) -> 0 | D18: =IF(D8="","",D15-D16-D17) -> 0 | E18: =IF(E8="","",E15-E16-E17) -> 0 | F18: =IF(F8="","",F15-F16-F17) -> 0 | G18: =IF(G8="","",G15-G16-G17) -> -100000000 | H18: =IF(H8="","",H15-H16-H17) -> -4.7683716e-07 | I18: =IF(I8="","",I15-I16-I17) -> 0 | J18: =IF(J8="","",J15-J16-J17) -> 0 | ... Q18: =IF(Q8="","",Q15-Q16-Q17) -> 0
B19: UTILIDAD OPERACIONAL | C19: =IF(C8="","",SUMIFS(Indicadores_Generales!$Z:$Z,Indicadores_Generales!$B:$B,C9)) -> 715304142 | D19: =IF(D8="","",SUMIFS(Indicadores_Generales!$Z:$Z,Indicadores_Generales!$B:$B,D9)) -> 81880663 | E19: =IF(E8="","",SUMIFS(Indicadores_Generales!$Z:$Z,Indicadores_Generales!$B:$B,E9)) -> 446836579 | F19: =IF(F8="","",SUMIFS(Indicadores_Generales!$Z:$Z,Indicadores_Generales!$B:$B,F9)) -> 1005374063 | G19: =IF(G8="","",SUMIFS(Indicadores_Generales!$Z:$Z,Indicadores_Generales!$B:$B,G9)) -> 2437652030 | H19: =IF(H8="","",SUMIFS(Indicadores_Generales!$Z:$Z,Indicadores_Generales!$B:$B,H9)) -> 5.4200815e+08 | I19: =IF(I8="","",SUMIFS(Indicadores_Generales!$Z:$Z,Indicadores_Generales!$B:$B,I9)) -> 2.9623356e+09 | J19: =IF(J8="","",SUMIFS(Indicadores_Generales!$Z:$Z,Indicadores_Generales!$B:$B,J9)) -> 813217441 | ... Q19: =IF(Q8="","",SUMIFS(Indicadores_Generales!$Z:$Z,Indicadores_Generales!$B:$B,Q9)) -> 927348097
B20: GASTOS DE INTERESES | C20: =IF(C8="","",SUMIFS(Indicadores_Generales!$AA:$AA,Indicadores_Generales!$B:$B,C9)) -> 128398575 | D20: =IF(D8="","",SUMIFS(Indicadores_Generales!$AA:$AA,Indicadores_Generales!$B:$B,D9)) -> 5607667 | E20: =IF(E8="","",SUMIFS(Indicadores_Generales!$AA:$AA,Indicadores_Generales!$B:$B,E9)) -> 58621899 | F20: =IF(F8="","",SUMIFS(Indicadores_Generales!$AA:$AA,Indicadores_Generales!$B:$B,F9)) -> 93713114 | G20: =IF(G8="","",SUMIFS(Indicadores_Generales!$AA:$AA,Indicadores_Generales!$B:$B,G9)) -> 222985000 | H20: =IF(H8="","",SUMIFS(Indicadores_Generales!$AA:$AA,Indicadores_Generales!$B:$B,H9)) -> 2758455.1 | I20: =IF(I8="","",SUMIFS(Indicadores_Generales!$AA:$AA,Indicadores_Generales!$B:$B,I9)) -> 2532565.5 | J20: =IF(J8="","",SUMIFS(Indicadores_Generales!$AA:$AA,Indicadores_Generales!$B:$B,J9)) -> 29945362 | ... Q20: =IF(Q8="","",SUMIFS(Indicadores_Generales!$AA:$AA,Indicadores_Generales!$B:$B,Q9)) -> 12815847
B21: Rentabilidad del Patrimonio = Utilidad Operacional / Patrimonio | C21: =IF(C8="","",C19/C17) -> 0.20576428 | D21: =IF(D8="","",D19/D17) -> 0.19676674 | E21: =IF(E8="","",E19/E17) -> 0.31020509 | F21: =IF(F8="","",F19/F17) -> 0.40306277 | G21: =IF(G8="","",G19/G17) -> 0.23120058 | H21: =IF(H8="","",H19/H17) -> 0.18840393 | I21: =IF(I8="","",I19/I17) -> 0.58901234 | J21: =IF(J8="","",J19/J17) -> 0.22884772 | ... Q21: =IF(Q8="","",Q19/Q17) -> 0.41901589
B22: Rentabilidad del Activo = Utilidad Operacional / Activo Total | C22: =IF(C8="","",C19/C15) -> 0.13659753 | D22: =IF(D8="","",D19/D15) -> 0.12032686 | E22: =IF(E8="","",E19/E15) -> 0.13790675 | F22: =IF(F8="","",F19/F15) -> 0.21462539 | G22: =IF(G8="","",G19/G15) -> 0.18474931 | H22: =IF(H8="","",H19/H15) -> 0.13251403 | I22: =IF(I8="","",I19/I15) -> 0.5095501 | J22: =IF(J8="","",J19/J15) -> 0.13957734 | ... Q22: =IF(Q8="","",Q19/Q15) -> 0.18951421
B23: VALOR DEL PRESUPUESTO OFICIAL | C23: =IF(C8="","",Indicadores_Generales!$D$5) -> 800053615 | D23: =IF(D8="","",Indicadores_Generales!$D$5) -> 800053615 | E23: =IF(E8="","",Indicadores_Generales!$D$5) -> 800053615 | F23: =IF(F8="","",Indicadores_Generales!$D$5) -> 800053615 | G23: =IF(G8="","",Indicadores_Generales!$D$5) -> 800053615 | H23: =IF(H8="","",Indicadores_Generales!$D$5) -> 800053615 | I23: =IF(I8="","",Indicadores_Generales!$D$5) -> 800053615 | J23: =IF(J8="","",Indicadores_Generales!$D$5) -> 800053615 | ... Q23: =IF(Q8="","",Indicadores_Generales!$D$5) -> 800053615
B24: CRITERIO DE VERIFICACIÓN FINANCIERA
B25: HÁBIL | N25: NO HÁBIL
B27: CRITERIO DE VERIFICACIÓN FINANCIERA
B28: =Indicadores_Generales!C9 -> Indice de Liquidez: (mín. 1, ) veces. | C28: =IF(C8="","",IFERROR(IF(C29>=Indicadores_Generales!$D$9,$B$25,$N$25),"")) -> HÁBIL | D28: =IF(D8="","",IFERROR(IF(D29>=Indicadores_Generales!$D$9,$B$25,$N$25),"")) -> HÁBIL | E28: =IF(E8="","",IFERROR(IF(E29>=Indicadores_Generales!$D$9,$B$25,$N$25),"")) -> HÁBIL | F28: =IF(F8="","",IFERROR(IF(F29>=Indicadores_Generales!$D$9,$B$25,$N$25),"")) -> HÁBIL | G28: =IF(G8="","",IFERROR(IF(G29>=Indicadores_Generales!$D$9,$B$25,$N$25),"")) -> HÁBIL | H28: =IF(H8="","",IFERROR(IF(H29>=Indicadores_Generales!$D$9,$B$25,$N$25),"")) -> HÁBIL | I28: =IF(I8="","",IFERROR(IF(I29>=Indicadores_Generales!$D$9,$B$25,$N$25),"")) -> HÁBIL | J28: =IF(J8="","",IFERROR(IF(J29>=Indicadores_Generales!$D$9,$B$25,$N$25),"")) -> HÁBIL | ... Q28: =IF(Q8="","",IFERROR(IF(Q29>=Indicadores_Generales!$D$9,$B$25,$N$25),"")) -> HÁBIL
B29: Activo corriente / Pasivo corriente | C29: =IF(C8="","",IFERROR(C13/C14,"Indeterminado")) -> 20.293807 | D29: =IF(D8="","",IFERROR(D13/D14,"Indeterminado")) -> 2.5741372 | E29: =IF(E8="","",IFERROR(E13/E14,"Indeterminado")) -> 9.4294817 | F29: =IF(F8="","",IFERROR(F13/F14,"Indeterminado")) -> 4.0969298 | G29: =IF(G8="","",IFERROR(G13/G14,"Indeterminado")) -> 6.4618506 | H29: =IF(H8="","",IFERROR(H13/H14,"Indeterminado")) -> 2.0868574 | I29: =IF(I8="","",IFERROR(I13/I14,"Indeterminado")) -> 7.9222227 | J29: =IF(J8="","",IFERROR(J13/J14,"Indeterminado")) -> 16.555912 | ... Q29: =IF(Q8="","",IFERROR(Q13/Q14,"Indeterminado")) -> 1.6589923
B30: =Indicadores_Generales!C10 -> Endeudamiento total: (máx. 70,%). | C30: =IF(C8="","",IFERROR(IF(C31<=Indicadores_Generales!$D$10,$B$25,$N$25),"")) -> HÁBIL | D30: =IF(D8="","",IFERROR(IF(D31<=Indicadores_Generales!$D$10,$B$25,$N$25),"")) -> HÁBIL | E30: =IF(E8="","",IFERROR(IF(E31<=Indicadores_Generales!$D$10,$B$25,$N$25),"")) -> HÁBIL | F30: =IF(F8="","",IFERROR(IF(F31<=Indicadores_Generales!$D$10,$B$25,$N$25),"")) -> HÁBIL | G30: =IF(G8="","",IFERROR(IF(G31<=Indicadores_Generales!$D$10,$B$25,$N$25),"")) -> HÁBIL | H30: =IF(H8="","",IFERROR(IF(H31<=Indicadores_Generales!$D$10,$B$25,$N$25),"")) -> HÁBIL | I30: =IF(I8="","",IFERROR(IF(I31<=Indicadores_Generales!$D$10,$B$25,$N$25),"")) -> HÁBIL | J30: =IF(J8="","",IFERROR(IF(J31<=Indicadores_Generales!$D$10,$B$25,$N$25),"")) -> HÁBIL | ... Q30: =IF(Q8="","",IFERROR(IF(Q31<=Indicadores_Generales!$D$10,$B$25,$N$25),"")) -> HÁBIL
B31: (Pasivo total / Activo total)*100 | C31: =IF(C8="","",C16/C15) -> 0.33614558 | D31: =IF(D8="","",D16/D15) -> 0.38847968 | E31: =IF(E8="","",E16/E15) -> 0.55543361 | F31: =IF(F8="","",F16/F15) -> 0.46751374 | G31: =IF(G8="","",G16/G15) -> 0.20849229 | H31: =IF(H8="","",H16/H15) -> 0.29664932 | I31: =IF(I8="","",I16/I15) -> 0.13490759 | J31: =IF(J8="","",J16/J15) -> 0.39008641 | ... Q31: =IF(Q8="","",Q16/Q15) -> 0.54771594
B32: =Indicadores_Generales!C11 -> Razon de Cobertura de Intereses (>= a 1, veces) ó Indeterminado. | C32: =IF(C8="","",IFERROR(IF(C33>Indicadores_Generales!$D$11,$B$25,$N$25),"")) -> HÁBIL | D32: =IF(D8="","",IFERROR(IF(D33>Indicadores_Generales!$D$11,$B$25,$N$25),"")) -> HÁBIL | E32: =IF(E8="","",IFERROR(IF(E33>Indicadores_Generales!$D$11,$B$25,$N$25),"")) -> HÁBIL | F32: =IF(F8="","",IFERROR(IF(F33>Indicadores_Generales!$D$11,$B$25,$N$25),"")) -> HÁBIL | G32: =IF(G8="","",IFERROR(IF(G33>Indicadores_Generales!$D$11,$B$25,$N$25),"")) -> HÁBIL | H32: =IF(H8="","",IFERROR(IF(H33>Indicadores_Generales!$D$11,$B$25,$N$25),"")) -> HÁBIL | I32: =IF(I8="","",IFERROR(IF(I33>Indicadores_Generales!$D$11,$B$25,$N$25),"")) -> HÁBIL | J32: =IF(J8="","",IFERROR(IF(J33>Indicadores_Generales!$D$11,$B$25,$N$25),"")) -> HÁBIL | ... Q32: =IF(Q8="","",IFERROR(IF(Q33>Indicadores_Generales!$D$11,$B$25,$N$25),"")) -> HÁBIL
B33: RC= (Utilidad Operacional) / (Gastos de Intereses) | C33: =IF(C8="","",IFERROR(C19/C20,"Indeterminado")) -> 5.5709664 | D33: =IF(D8="","",IFERROR(D19/D20,"Indeterminado")) -> 14.601556 | E33: =IF(E8="","",IFERROR(E19/E20,"Indeterminado")) -> 7.6223491 | F33: =IF(F8="","",IFERROR(F19/F20,"Indeterminado")) -> 10.728211 | G33: =IF(G8="","",IFERROR(G19/G20,"Indeterminado")) -> 10.93191 | H33: =IF(H8="","",IFERROR(H19/H20,"Indeterminado")) -> 196.48975 | I33: =IF(I8="","",IFERROR(I19/I20,"Indeterminado")) -> 1169.6975 | J33: =IF(J8="","",IFERROR(J19/J20,"Indeterminado")) -> 27.156708 | ... Q33: =IF(Q8="","",IFERROR(Q19/Q20,"Indeterminado")) -> 72.359486
B34: =Indicadores_Generales!C12 -> Capital de Trabajo ≥ A 25,% del PPTO Oficial. | C34: =IFERROR(IF(C35>(C23*Indicadores_Generales!$D$12),$B$25,$N$25),"") -> HÁBIL | D34: =IFERROR(IF(D35>(D23*Indicadores_Generales!$D$12),$B$25,$N$25),"") -> HÁBIL | E34: =IFERROR(IF(E35>(E23*Indicadores_Generales!$D$12),$B$25,$N$25),"") -> HÁBIL | F34: =IFERROR(IF(F35>(F23*Indicadores_Generales!$D$12),$B$25,$N$25),"") -> HÁBIL | G34: =IFERROR(IF(G35>(G23*Indicadores_Generales!$D$12),$B$25,$N$25),"") -> HÁBIL | H34: =IFERROR(IF(H35>(H23*Indicadores_Generales!$D$12),$B$25,$N$25),"") -> HÁBIL | I34: =IFERROR(IF(I35>(I23*Indicadores_Generales!$D$12),$B$25,$N$25),"") -> HÁBIL | J34: =IFERROR(IF(J35>(J23*Indicadores_Generales!$D$12),$B$25,$N$25),"") -> HÁBIL | ... Q34: =IFERROR(IF(Q35>(Q23*Indicadores_Generales!$D$12),$B$25,$N$25),"") -> HÁBIL
