Workbook
Name \0: #REF!
Name \00: #REF!
Name \a: #REF!
Name \AA: [1]LIQUIDACION!#REF!
Name \b: #REF!
Name \bb: [2]STRSUMM0!#REF!
Name \c: #REF!
Name \E: #REF!
Name \EE: #REF!
Name \G: #REF!
Name \k: '[3]7422CW00'!#REF!
Name \l: #REF!
Name \M: #REF!
Name \ñ: '[4]7422CW00'!#REF!
Name \P: #REF!
Name \R: #REF!
Name \s: #REF!
Name \V: #REF!
Name \X: [0]!ERR
Name \Z: [0]!ERR
Name _________AFC1: [5]INV!$A$25:$D$28
Name _________AFC3: [5]INV!$F$25:$I$28
Name _________AFC5: [5]INV!$K$25:$N$28
Name _________BGC1: [5]INV!$A$5:$D$8
Name _________BGC3: [5]INV!$F$5:$I$8
Name _________BGC5: [5]INV!$K$5:$N$8
Name _________CAC1: [5]INV!$A$19:$D$22
Name _________CAC3: [5]INV!$F$19:$I$22
Name _________CAC5: [5]INV!$K$19:$N$22
Name _________PJ50: #REF!
Name _________SBC1: [5]INV!$A$12:$D$15
Name _________SBC3: [5]INV!$F$12:$I$15
Name _________SBC5: [5]INV!$K$12:$N$15
Name ________AFC1: [5]INV!$A$25:$D$28
Name ________AFC3: [5]INV!$F$25:$I$28
Name ________AFC5: [5]INV!$K$25:$N$28
Name ________BGC1: [5]INV!$A$5:$D$8
Name ________BGC3: [5]INV!$F$5:$I$8
Name ________BGC5: [5]INV!$K$5:$N$8
Name ________CAC1: [5]INV!$A$19:$D$22
Name ________CAC3: [5]INV!$F$19:$I$22
Name ________CAC5: [5]INV!$K$19:$N$22
Name ________MA2: #REF!
Name ________PJ50: #REF!
Name ________SBC1: [5]INV!$A$12:$D$15
Name ________SBC3: [5]INV!$F$12:$I$15
Name ________SBC5: [5]INV!$K$12:$N$15
Name _______AFC1: [5]INV!$A$25:$D$28
Name _______AFC3: [5]INV!$F$25:$I$28
Name _______AFC5: [5]INV!$K$25:$N$28
Name _______BGC1: [5]INV!$A$5:$D$8
Name _______BGC3: [5]INV!$F$5:$I$8
Name _______BGC5: [5]INV!$K$5:$N$8
Name _______CAC1: [5]INV!$A$19:$D$22
Name _______CAC3: [5]INV!$F$19:$I$22
Name _______CAC5: [5]INV!$K$19:$N$22
Name _______MA2: #REF!
Name _______PJ50: #REF!
Name _______SBC1: [5]INV!$A$12:$D$15
Name _______SBC3: [5]INV!$F$12:$I$15

Sheet INFO. PROP
B1: FONDO DE DESARROLLO LOCAL DE BOSA
B2: FDLBOSACM-004-2022(71937)
B3: OBJETO: REALIZAR LA INTERVENTORÍA TÉCNICA, ADMINISTRATIVA, FINANCIERA, JURÍDICA, SOCIAL, AMBIENTAL Y SST AL CONTRATO DE OBRA PÚBLICA QUE TENDRÁ POR OBJETO CONTRAC-TUAL EJECUTAR POR EL SISTEMA DE PRECIOS UNITARIOS FIJOS SIN FOR-MULA DE REAJUSTE Y A MONTO AGOTABLE LAS ACTIVIDADES NECESARIAS PARA LA EJECUCIÓN DE LAS OBRAS DE CONSTRUCCIÓN DE MALLA VIAL Y ESPACIO PUBLICO ASOCIADO DE LA LOCALIDAD DE BOSA, DE ACUERDO CON LA DESCRIPCIÓN, ESPECIFICACIONES, ESTUDIOS, DISEÑOS Y DEMÁS CONDICIONES ESTABLECIDAS EN E ANEXO TECNICO
B5: INFORMACIÓN GENERAL DE PROPONENTES
B6: INFORME DE EVALUACION
A9: No. | B9: NOMBRE DEL PROPONENTE | C9: REPRESENTANTE LEGAL | D9: INTEGRANTES | E9: Integrante 1 | F9: % Int. 1 | G9: Integrante 2 | H9: % Int. 2 | I9: Integrante 3 | J9: % Int. 3 | K9: Integrante 4 | L9: % Int. 4 | M9: TOTAL % | N9: Teléfono | O9: FAX | P9: Dirección | Q9: Email | R9: Ciudad | S9: OBSERVACIONES
A10: 1 | B10: SITELSA SAS | C10: CRISTIAN MAURICIO RANGEL MENESES | D10: ="("&E10&" "&TEXT(F10,"##0%")&" - "&G10&" "&TEXT(H10,"##0%")&" - "&I10&" "&TEXT(J10,"##0%")&"-"&K10&" "&TEXT(L10,"##0%")&")" -> (SITELSA 100% - 0% - 0%- 0%) | E10: SITELSA | F10: 1 | M10: =F10+L10+J10+H10 -> 1 | N10: 301 2508373 | P10: Calle 35 # 16 – 24 oficina 1305_x000D_ | Q10: licitaciones.sitelsa@gmail.com | R10: Bucaramanga, Santander.
A11: 2 | B11: PROES INGENIERIA SAS | C11: EDWIN ALBERTO VARGAS RUEDA | D11: ="("&E11&" "&TEXT(F11,"##0%")&" - "&G11&" "&TEXT(H11,"##0%")&" - "&I11&" "&TEXT(J11,"##0%")&"-"&K11&" "&TEXT(L11,"##0%")&")" -> (PROES INGENIERIA SAS 100% - 0% - 0%- 0%) | E11: PROES INGENIERIA SAS | F11: 1 | M11: =F11+L11+J11+H11 -> 1 | N11: 314 2977895_x000D_ | O11: 601 2534080 | P11: Calle 106 No. 57 - 23 oficina 603 | Q11: edwin.vargas@proescolombia.com | R11: Bogotá D.C.
A12: 3 | B12: CB INGENIEROS SAS | C12: JUAN MANUEL ESCALLON ARANGO | D12: ="("&E12&" "&TEXT(F12,"##0%")&" - "&G12&" "&TEXT(H12,"##0%")&" - "&I12&" "&TEXT(J12,"##0%")&"-"&K12&" "&TEXT(L12,"##0%")&")" -> (CB INGENIEROS S.A.S 100% - 0% - 0%- 0%) | E12: CB INGENIEROS S.A.S | F12: 1 | M12: =F12+L12+J12+H12 -> 1 | N12: 317 7278384 | O12: 704 0592 | P12: Calle 98 No. 22-64 Oficina. 507 | Q12: licitaciones@cbingenieros.com | R12: Bogotá D.C
A13: 4 | B13: JASEN CONSULTORES S.A.S. | C13: NATHALIE CASTILLO CURIEUX | D13: ="("&E13&" "&TEXT(F13,"##0%")&" - "&G13&" "&TEXT(H13,"##0%")&" - "&I13&" "&TEXT(J13,"##0%")&"-"&K13&" "&TEXT(L13,"##0%")&")" -> (JASEN CONSULTORES S.A.S. 100% - 0% - 0%- 0%) | E13: JASEN CONSULTORES S.A.S. | F13: 1 | M13: =F13+L13+J13+H13 -> 1 | N13: 3155409594 | O13: 2900754 | P13: CARRERA 69F # 8 ‐ 31 | Q13: licitacionesjasen@gmail.com | R13: Bogotá D.C
A14: 5 | B14: BOSA SIGLO XXI | C14: CARLOS MARIO ROLON AMAYA | D14: ="("&E14&" "&TEXT(F14,"##0%")&" - "&G14&" "&TEXT(H14,"##0%")&" - "&I14&" "&TEXT(J14,"##0%")&"-"&K14&" "&TEXT(L14,"##0%")&")" -> (INGENIERIA DE PROYECTOS S.A.S. 50% - INGECO INGENIERIA DE CONSTRUCCIONES S.A.S_x000D_ 50% - 0%- 0%) | E14: INGENIERIA DE PROYECTOS S.A.S. | F14: 0.5 | G14: INGECO INGENIERIA DE CONSTRUCCIONES S.A.S_x000D_ | H14: 0.5 | M14: =F14+L14+J14+H14 -> 1 | N14: 3562691 | O14: 3562691 | P14: AVDA 19 No. 120 – 71 OF 104 | Q14: licitacionesingeco2019@gmail.com | R14: BOGOTÁ D.C
A15: 6 | B15: CONSORCIO ODESSA | C15: ÓSCAR JAVIER GARZÓN DÍAZ | D15: ="("&E15&" "&TEXT(F15,"##0%")&" - "&G15&" "&TEXT(H15,"##0%")&" - "&I15&" "&TEXT(J15,"##0%")&"-"&K15&" "&TEXT(L15,"##0%")&")" -> (CGR SAS_x000D_ 95% - CGR INGENIEROS & ARQUITECTOS SAS 5% - 0%- 0%) | E15: CGR SAS_x000D_ | F15: 0.95 | G15: CGR INGENIEROS & ARQUITECTOS SAS | H15: 0.05 | M15: =F15+L15+J15+H15 -> 1 | N15: 3165297863 | O15: 614 75 90 – 477 60 33 | P15: Calle 150 No 16 – 56 oficina 4001, Bogotá D.C._x000D_ | Q15: nfo@cgrsas.com _x000D_ | R15: BOGOTÁ D.C
A16: 7 | B16: CONSORCIO GMC | C16: OSCAR ALFREDO MONTOYA CASTRO | D16: ="("&E16&" "&TEXT(F16,"##0%")&" - "&G16&" "&TEXT(H16,"##0%")&" - "&I16&" "&TEXT(J16,"##0%")&"-"&K16&" "&TEXT(L16,"##0%")&")" -> (GRUPO METRO COLOMBIA S.A.S 95% - OSCAR ALFREDO MONTOYA CASTRO 5% - 0%- 0%) | E16: GRUPO METRO COLOMBIA S.A.S | F16: 0.95 | G16: OSCAR ALFREDO MONTOYA CASTRO | H16: 0.05 | M16: =F16+L16+J16+H16 -> 1 | N16: 3176812822 | P16: Carrera 20 No 39-69 Bogotá | Q16: comercial@grupometrocolombia.com_x000D_ | R16: BOGOTÁ D.C
A17: 8 | B17: CONSULTORES INTERVENTORES COLOMBIANOS S.A.S. | C17: FARIEL ENRIQUE MORALES PERTUZ | D17: ="("&E17&" "&TEXT(F17,"##0%")&" - "&G17&" "&TEXT(H17,"##0%")&" - "&I17&" "&TEXT(J17,"##0%")&"-"&K17&" "&TEXT(L17,"##0%")&")" -> (CONSULTORES INTERVENTORES COLOMBIANOS SAS 100% - 0% - 0%- 0%) | E17: CONSULTORES INTERVENTORES COLOMBIANOS SAS | F17: 1 | M17: =F17+L17+J17+H17 -> 1 | N17: 3103104112_x000D_ | P17: CALLE 96 # 10 – 51 oficina 40 | Q17: concicsas2020@gmail.com_x000D_ | R17: BOGOTÁ D.C
A18: 9 | B18: CONS GAB BOGOTA | C18: GERMAN ANTONIO BALLESTAS BERDEJO | D18: ="("&E18&" "&TEXT(F18,"##0%")&" - "&G18&" "&TEXT(H18,"##0%")&" - "&I18&" "&TEXT(J18,"##0%")&"-"&K18&" "&TEXT(L18,"##0%")&")" -> (GAB INGENIERIA SAS 75% - GERMAN ANTONIO BALLESTAS BERDEJO 25% - 0%- 0%) | E18: GAB INGENIERIA SAS | F18: 0.75 | G18: GERMAN ANTONIO BALLESTAS BERDEJO | H18: 0.25 | M18: =F18+L18+J18+H18 -> 1 | N18: 300 2089435 | P18: Cra 70ª No 110-10 | Q18: oficinamb516@hotmail.com / licitacionesgab2@gmail.com_x000D_ | R18: BOGOTÁ D.C
A19: 10 | B19: CONSORCIO MT 2022 BOSA | C19: GILBERTO MARTINEZ ARGUELLES | D19: ="("&E19&" "&TEXT(F19,"##0%")&" - "&G19&" "&TEXT(H19,"##0%")&" - "&I19&" "&TEXT(J19,"##0%")&"-"&K19&" "&TEXT(L19,"##0%")&")" -> (INGENIERIA MASTER S.A.S 95% - MT PROJECTS S.A.S 5% - 0%- 0%) | E19: INGENIERIA MASTER S.A.S | F19: 0.95 | G19: MT PROJECTS S.A.S | H19: 0.05 | M19: =F19+L19+J19+H19 -> 1 | N19: 3052324877 | P19: CL 1ª No 24-86 TO 1 AP 901_x000D_ | Q19: Licitacionesmtprojects@gmail.com_x000D_ | R19: Puerto Colombia, Atlántico.
A20: 11 | B20: VELNEC S.A. | C20: SANDRA VALENCIA ACHURY | D20: ="("&E20&" "&TEXT(F20,"##0%")&" - "&G20&" "&TEXT(H20,"##0%")&" - "&I20&" "&TEXT(J20,"##0%")&"-"&K20&" "&TEXT(L20,"##0%")&")" -> (VELNEC SAS 100% - 0% - 0%- 0%) | E20: VELNEC SAS | F20: 1 | M20: =F20+L20+J20+H20 -> 1 | N20: 2410530 | P20: Avenida Carrera 86 No. 51 – 66 Oficina 301 | Q20: webmaster@velnec.com – pmartinez@velnec.com_x000D_ | R20: BOGOTÁ D.C
A21: 12 | B21: CONSORCIO INTERVIAS CD | C21: JORGE ENRIQUE ALFARO DE LOS RÍOS | D21: ="("&E21&" "&TEXT(F21,"##0%")&" - "&G21&" "&TEXT(H21,"##0%")&" - "&I21&" "&TEXT(J21,"##0%")&"-"&K21&" "&TEXT(L21,"##0%")&")" -> (DF CONSULTORIA S.A.S 50% - COMPAÑÍA DE PROYECTOS TÉCNICOS CPT S.A. 50% - 0%- 0%) | E21: DF CONSULTORIA S.A.S | F21: 0.5 | G21: COMPAÑÍA DE PROYECTOS TÉCNICOS CPT S.A. | H21: 0.5 | M21: =F21+L21+J21+H21 -> 1 | N21: 3154377727 | P21: CRA. 18 # 116-24 | Q21: cptpropuestas@gmail.com | R21: BOGOTÁ D.C
A22: 13 | B22: CONSORCIO GBM VIAS | C22: ABRAHAM ANTONIO PALACIO AMADO | D22: ="("&E22&" "&TEXT(F22,"##0%")&" - "&G22&" "&TEXT(H22,"##0%")&" - "&I22&" "&TEXT(J22,"##0%")&"-"&K22&" "&TEXT(L22,"##0%")&")" -> (B&C 50% - GRMM S.A.S 5% - MSING SAS 45%- 0%) | E22: B&C | F22: 0.5 | G22: GRMM S.A.S | H22: 0.05 | I22: MSING SAS | J22: 0.45 | M22: =F22+L22+J22+H22 -> 1 | N22: 6360222 | P22: CARRERA 47 # 103-29 | Q22: grmmsas@gmail.com comercial@byc-sa.com gcomercialmsing@gmail.com | R22: BOGOTÁ D.C
A23: 14 | B23: CONSORCIO JGL | C23: ELKIN JAVIER PINEDA BOLAÑO | D23: ="("&E23&" "&TEXT(F23,"##0%")&" - "&G23&" "&TEXT(H23,"##0%")&" - "&I23&" "&TEXT(J23,"##0%")&"-"&K23&" "&TEXT(L23,"##0%")&")" -> (JOSE MANUEL GUARDO POLO 50% - JMELO INGENIERIA DE PROYECTOS S.A.S 45% - PROYECTOS & CONSTRUCCIONES LUZIANA S.A.S 5%- 0%) | E23: JOSE MANUEL GUARDO POLO | F23: 0.5 | G23: JMELO INGENIERIA DE PROYECTOS S.A.S | H23: 0.45 | I23: PROYECTOS & CONSTRUCCIONES LUZIANA S.A.S | J23: 0.05 | M23: =F23+L23+J23+H23 -> 1 | N23: 3158966033 | P23: Calle 152 # 12 C – 12 APTO 215 | Q23: pycluzianasas@gmail.com | R23: BOGOTÁ D.C
A24: 15 | B24: P.I.V. Ingeniería S.A.S | C24: Lisbeth del Carmen Ledesma León | D24: ="("&E24&" "&TEXT(F24,"##0%")&" - "&G24&" "&TEXT(H24,"##0%")&" - "&I24&" "&TEXT(J24,"##0%")&"-"&K24&" "&TEXT(L24,"##0%")&")" -> (PIV INGENIERÍA S.A.S. 100% - 0% - 0%- 0%) | E24: PIV INGENIERÍA S.A.S. | F24: 1 | M24: =F24+L24+J24+H24 -> 1 | N24: 744 3839 | P24: Carrera 12 # 96-81 Of. 402 | Q24: lisbeth.ledesma@pivingenieria.com_x000D_ | R24: BOGOTÁ D.C
A25: 16 | B25: CONSORCIO CMP BOSA | C25: DIEGO ALEJANDRO LEIVA ORTIZ_x000D_ | D25: ="("&E25&" "&TEXT(F25,"##0%")&" - "&G25&" "&TEXT(H25,"##0%")&" - "&I25&" "&TEXT(J25,"##0%")&"-"&K25&" "&TEXT(L25,"##0%")&")" -> (CORTÉS LEIVA ASOCIADOS S.A.S 5% - MSC INGENIERIA S.A.S 45% - PROMACO INGENIERÍA S.A.S 50%- 0%) | E25: CORTÉS LEIVA ASOCIADOS S.A.S | F25: 0.05 | G25: MSC INGENIERIA S.A.S | H25: 0.45 | I25: PROMACO INGENIERÍA S.A.S | J25: 0.5 | M25: =F25+L25+J25+H25 -> 1 | N25: 312 2594693_x000D_ | O25: 605 3044373 | P25: Carrera 53 No 74 86 Oficina 429 A | Q25: licitaciones@cortesleivaasociados.com | R25: BARRANQUILLA
A26: 17 | B26: INGENIEROS CONSULTORES Y CONSTRUCTORES ARG SAS | C26: NATALIA AMADOR BAQUIRO | D26: ="("&E26&" "&TEXT(F26,"##0%")&" - "&G26&" "&TEXT(H26,"##0%")&" - "&I26&" "&TEXT(J26,"##0%")&"-"&K26&" "&TEXT(L26,"##0%")&")" -> (INGENIEROS CONSULTORES Y CONSTRUCTORES ARG SAS_x000D_ 100% - 0% - 0%- 0%) | E26: INGENIEROS CONSULTORES Y CONSTRUCTORES ARG SAS_x000D_ | F26: 1 | M26: =F26+L26+J26+H26 -> 1 | N26: 3125850939_x000D_ | P26: CALLE 98 No. 22 64 OF. 603 | Q26: licitacionesargsas@gmail.com | R26: BOGOTÁ D.C
A27: 18 | B27: INGENIEROS CIVILES ESPECIALISTAS S.A.S. | C27: CARLOS ALBERTO DONADO HENRÍQUEZ | D27: ="("&E27&" "&TEXT(F27,"##0%")&" - "&G27&" "&TEXT(H27,"##0%")&" - "&I27&" "&TEXT(J27,"##0%")&"-"&K27&" "&TEXT(L27,"##0%")&")" -> (INGENIEROS CIVILES ESPECIALISTAS S.A.S. 100% - 0% - 0%- 0%) | E27: INGENIEROS CIVILES ESPECIALISTAS S.A.S. | F27: 1 | M27: =F27+L27+J27+H27 -> 1 | N27: 3106302538 | O27: 605 3735498 – 605 3735499 | P27: CRA 44 No. 82 - 145_x000D_ | Q27: icelimitada@gmail.com | R27: BARRANQUILLA
A28: 19 | B28: CONSORCIO SG | C28: ALEJANDRO ALBA QUINTERO | D28: ="("&E28&" "&TEXT(F28,"##0%")&" - "&G28&" "&TEXT(H28,"##0%")&" - "&I28&" "&TEXT(J28,"##0%")&"-"&K28&" "&TEXT(L28,"##0%")&")" -> (SESAC 95% - GESSI ALVERA 5% - 0%- 0%) | E28: SESAC | F28: 0.95 | G28: GESSI ALVERA | H28: 0.05 | M28: =F28+L28+J28+H28 -> 1 | N28: 6797934 | P28: CRA 20 39 28 | Q28: COMERCIAL@SESAC.COM.CO | R28: BOGOTÁ D.C
A29: 20 | B29: Estructurador Colombia SAS | C29: MAURICIO GOMEZ CAICEDO | D29: ="("&E29&" "&TEXT(F29,"##0%")&" - "&G29&" "&TEXT(H29,"##0%")&" - "&I29&" "&TEXT(J29,"##0%")&"-"&K29&" "&TEXT(L29,"##0%")&")" -> (Estructurador Colombia SAS 100% - 0% - 0%- 0%) | E29: =B29 -> Estructurador Colombia SAS | F29: 1 | M29: =F29+L29+J29+H29 -> 1 | N29: 8059450 | P29: TRANSVERSAL 60 N 106 A 28 OF 401 | Q29: licitaciones@estructuradorcolombia.com | R29: BOGOTÁ D.C
A30: 21 | B30: SALGADO, MELENDEZ Y ASOCIADOS INGENIEROS CONSULTORES S.A.S | C30: Carlo s Eduardo Berna l L atorre | D30: ="("&E30&" "&TEXT(F30,"##0%")&" - "&G30&" "&TEXT(H30,"##0%")&" - "&I30&" "&TEXT(J30,"##0%")&"-"&K30&" "&TEXT(L30,"##0%")&")" -> (SALGADO, MELENDEZ Y ASOCIADOS INGENIEROS CONSULTORES S.A.S 100% - 0% - 0%- 0%) | E30: =B30 -> SALGADO, MELENDEZ Y ASOCIADOS INGENIEROS CONSULTORES S.A.S | F30: 1 | M30: =F30+L30+J30+H30 -> 1 | N30: 2186511 | P30: Calle 79 #7-32 | Q30: smabog@smaingenieros . com . co | R30: BOGOTÁ D.C
A31: 22 | B31: INGEOCILCON S.A.S. | C31: Oswaldo Ramos Garcia | D31: ="("&E31&" "&TEXT(F31,"##0%")&" - "&G31&" "&TEXT(H31,"##0%")&" - "&I31&" "&TEXT(J31,"##0%")&"-"&K31&" "&TEXT(L31,"##0%")&")" -> (INGEOCILCON S.A.S. 100% - 0% - 0%- 0%) | E31: =B31 -> INGEOCILCON S.A.S. | F31: 1 | M31: =F31+L31+J31+H31 -> 1 | N31: 3006237 | P31: Carrera 84 A No. 37 A – 28 OF. 301 | Q31: ingeocilcon@gmail.com | R31: MEDELLIN
A32: 23 | B32: GNG SERVICIOS DE INGENIERIA S.A.S. | C32: JORGE GOMEZ FALLA. | D32: ="("&E32&" "&TEXT(F32,"##0%")&" - "&G32&" "&TEXT(H32,"##0%")&" - "&I32&" "&TEXT(J32,"##0%")&"-"&K32&" "&TEXT(L32,"##0%")&")" -> (GNG SERVICIOS DE INGENIERIA S.A.S. 100% - 0% - 0%- 0%) | E32: =B32 -> GNG SERVICIOS DE INGENIERIA S.A.S. | F32: 1 | M32: =F32+L32+J32+H32 -> 1 | N32: 317 367 51 54 | P32: Carrera 49 No. 104 B – 49 | Q32: licitaciones@gngservicios.com – gerencia@gng.com.co | R32: BOGOTÁ D.C
A33: 24 | B33: Soluciones para la Ingeniería S.A.S. | C33: IVÁN AUGUSTO BARRETO ESQUIVEL | D33: ="("&E33&" "&TEXT(F33,"##0%")&" - "&G33&" "&TEXT(H33,"##0%")&" - "&I33&" "&TEXT(J33,"##0%")&"-"&K33&" "&TEXT(L33,"##0%")&")" -> (Soluciones para la Ingeniería S.A.S. 100% - 0% - 0%- 0%) | E33: =B33 -> Soluciones para la Ingeniería S.A.S. | F33: 1 | M33: =F33+L33+J33+H33 -> 1 | N33: 3014312923 | P33: CLL 60 No 9A – 46 OF 410 | Q33: spli.licitaciones@gmail.com | R33: BOGOTÁ D.C
A34: 25 | B34: CONSORCIO VIAL BOGOTA | C34: NESTOR ANIBAL ESPINOSA NIÑO | D34: ="("&E34&" "&TEXT(F34,"##0%")&" - "&G34&" "&TEXT(H34,"##0%")&" - "&I34&" "&TEXT(J34,"##0%")&"-"&K34&" "&TEXT(L34,"##0%")&")" -> (EMPROCIV SAS 55% - RAUL ORLANDO DELGADO 40% - JG INGENIERIA CONSULTORIA Y CONSTRUCCION 5%- 0%) | E34: EMPROCIV SAS | F34: 0.55 | G34: RAUL ORLANDO DELGADO | H34: 0.4 | I34: JG INGENIERIA CONSULTORIA Y CONSTRUCCION | J34: 0.05 | M34: =F34+L34+J34+H34 -> 1 | N34: 6218382 | P34: Calle 13 No 3-46 Ofic 301, Cota | Q34: licitaciones.rya@gmail.com | R34: BOGOTÁ D.C
A35: 26 | B35: GEOTECNIA Y CIMIENTOS INGEOCIM S.A.S. | C35: CAMILO ADOLFO NAGED RODRIGUEZ | D35: ="("&E35&" "&TEXT(F35,"##0%")&" - "&G35&" "&TEXT(H35,"##0%")&" - "&I35&" "&TEXT(J35,"##0%")&"-"&K35&" "&TEXT(L35,"##0%")&")" -> (GEOTECNIA Y CIMIENTOS INGEOCIM S.A.S. 100% - 0% - 0%- 0%) | E35: =B35 -> GEOTECNIA Y CIMIENTOS INGEOCIM S.A.S. | F35: 1 | M35: =F35+L35+J35+H35 -> 1 | N35: 601) 691 0842 | P35: Carrera 15 No. 98-26 Oficina 503 | Q35: central@ingeocim.com | R35: BOGOTÁ D.C
A36: 27 | B36: COPEBA S.A.S. | C36: ANDREA DEL PILAR PEÑA SANCHEZ | D36: ="("&E36&" "&TEXT(F36,"##0%")&" - "&G36&" "&TEXT(H36,"##0%")&" - "&I36&" "&TEXT(J36,"##0%")&"-"&K36&" "&TEXT(L36,"##0%")&")" -> (COPEBA S.A.S. 100% - 0% - 0%- 0%) | E36: =B36 -> COPEBA S.A.S. | F36: 1 | M36: =F36+L36+J36+H36 -> 1 | N36: 2183292 | P36: cra. 21 # 100 – 20 Ofc. 602 | Q36: licitacionescopeba@gmail.com | R36: BOGOTÁ D.C
A37: 28 | B37: CONSORCIO SAN JUAN BOSA 4 | C37: CARLOS MAURICIO HERNÁNDEZ ZAMORA | D37: ="("&E37&" "&TEXT(F37,"##0%")&" - "&G37&" "&TEXT(H37,"##0%")&" - "&I37&" "&TEXT(J37,"##0%")&"-"&K37&" "&TEXT(L37,"##0%")&")" -> (SHM INGENIERIA SAS 50% - CARLOS HERNÁNDEZ SOLER 50% - 0%- 0%) | E37: SHM INGENIERIA SAS | F37: 0.5 | G37: CARLOS HERNÁNDEZ SOLER | H37: 0.5 | M37: =F37+L37+J37+H37 -> 1 | N37: 3103069279 | P37: Calle 120 No. 49 – 44, Bogotá | Q37: licitacioneshcip@gmail.com | R37: BOGOTÁ D.C
A38: 29 | B38: CODIPRO INGENIERÍA Y ARQUITECTURA LTDA. | C38: JESUS MARIA BERDUGO LEAL | D38: ="("&E38&" "&TEXT(F38,"##0%")&" - "&G38&" "&TEXT(H38,"##0%")&" - "&I38&" "&TEXT(J38,"##0%")&"-"&K38&" "&TEXT(L38,"##0%")&")" -> (CODIPRO INGENIERIA 100% - 0% - 0%- 0%) | E38: CODIPRO INGENIERIA | F38: 1 | M38: =F38+L38+J38+H38 -> 1 | N38: 636 6945 | P38: Calle 98 # 65A-46 | Q38: codipro.licitaciones@gmail.com | R38: BOGOTÁ D.C
A39: 30 | B39: CONSULTORES DONOVAN SAS | C39: UAN DIEGO ARENAS DE LA HOZ | D39: ="("&E39&" "&TEXT(F39,"##0%")&" - "&G39&" "&TEXT(H39,"##0%")&" - "&I39&" "&TEXT(J39,"##0%")&"-"&K39&" "&TEXT(L39,"##0%")&")" -> (CONSULTORES DONOVAN SAS 100% - 0% - 0%- 0%) | E39: =B39 -> CONSULTORES DONOVAN SAS | F39: 1 | M39: =F39+L39+J39+H39 -> 1 | N39: 3107901230 | P39: CALLE 17 #10-16 OF 803 | Q39: jarenas@arenasingenieros.com | R39: BOGOTÁ D.C
A40: 31 | B40: MAB INGENIERIA DE VALOR S.A. | C40: ARIEL ALBERTO CORREDOR GOMEZ | D40: ="("&E40&" "&TEXT(F40,"##0%")&" - "&G40&" "&TEXT(H40,"##0%")&" - "&I40&" "&TEXT(J40,"##0%")&"-"&K40&" "&TEXT(L40,"##0%")&")" -> (MAB INGENIERIA DE VALOR S.A. 100% - 0% - 0%- 0%) | E40: =B40 -> MAB INGENIERIA DE VALOR S.A. | F40: 1 | M40: =F40+L40+J40+H40 -> 1 | N40: (1) 241 54 00 - 312 481 06 99 | P40: El Dorado 69-76, Torre 3, Oficina 501 | Q40: propuestas@mab.com.co | R40: BOGOTÁ D.C
A41: 32 | B41: CONSORCIO GIS BOSA | C41: Luisa Fernanda Barreto Parra | D41: ="("&E41&" "&TEXT(F41,"##0%")&" - "&G41&" "&TEXT(H41,"##0%")&" - "&I41&" "&TEXT(J41,"##0%")&"-"&K41&" "&TEXT(L41,"##0%")&")" -> (GIS-EAP S.A.S. 95% - GIS OMICRÓN S.A.S 5% - 0%- 0%) | E41: GIS-EAP S.A.S. | F41: 0.95 | G41: GIS OMICRÓN S.A.S | H41: 0.05 | M41: =F41+L41+J41+H41 -> 1 | N41: 313 4595240 - 321 2900127 | P41: Calle 26 # 69D - 91 ofc. 605 | Q41: licitaciones@grupogiscolombia.com | R41: BOGOTÁ D.C
A42: 33 | B42: RAFAEL JAVIER GUISA RUEDA | C42: =B42 -> RAFAEL JAVIER GUISA RUEDA | D42: ="("&E42&" "&TEXT(F42,"##0%")&" - "&G42&" "&TEXT(H42,"##0%")&" - "&I42&" "&TEXT(J42,"##0%")&"-"&K42&" "&TEXT(L42,"##0%")&")" -> (RAFAEL JAVIER GUISA RUEDA 100% - 0% - 0%- 0%) | E42: =C42 -> RAFAEL JAVIER GUISA RUEDA | F42: 1 | M42: =F42+L42+J42+H42 -> 1 | N42: 3003670445 | P42: _calle 35 No. 25 – 37 apto 1502 torre B | Q42: _licitacionesrg@hotmail.es-rjguisa@hotmail.com | R42: BOGOTÁ D.C
A43: 34 | B43: CONSORCIO INTERMALLAVIAL BOSA | C43: CARLOS ANDRESS MASS GUERRERO | D43: ="("&E43&" "&TEXT(F43,"##0%")&" - "&G43&" "&TEXT(H43,"##0%")&" - "&I43&" "&TEXT(J43,"##0%")&"-"&K43&" "&TEXT(L43,"##0%")&")" -> (CAYENA CONSULTORES 50% - ROSIA 50% - 0%- 0%) | E43: CAYENA CONSULTORES | F43: 0.5 | G43: ROSIA | H43: 0.5 | M43: =F43+L43+J43+H43 -> 1 | N43: 3012675296 | P43: Calle 94 No 18ª-33 | Q43: rocciasasint@gmail.com | R43: BOGOTÁ D.C
...

Sheet CHECK LIST
D1: FONDO DE DESARROLLO LOCAL DE BOSA
A2: FDLBOSACM-004-2022(71937)
A3: OBJETO: REALIZAR LA INTERVENTORÍA TÉCNICA, ADMINISTRATIVA, FINANCIERA, JURÍDICA, SOCIAL, AMBIENTAL Y SST AL CONTRATO DE OBRA PÚBLICA QUE TENDRÁ POR OBJETO CONTRAC-TUAL EJECUTAR POR EL SISTEMA DE PRECIOS UNITARIOS FIJOS SIN FORMULA DE REAJUSTE Y A MONTO AGOTABLE LAS ACTIVIDADES NECESARIAS PARA LA EJECUCIÓN DE LAS OBRAS DE CONSTRUCCIÓN DE MALLA VIAL Y ESPACIO PUBLICO ASOCIADO DE LA LOCALIDAD DE BOSA, DE ACUERDO CON LA DESCRIPCIÓN, ESPECIFICACIONES, ESTUDIOS, DISEÑOS Y DEMÁS CONDICIONES ESTABLECIDAS EN E ANEXO TECNICO
A5: LISTA DE CHEQUEO
C6: Carta de presentación | D6: Conformación de proponente plural | E6: Conformación de proponente plural | F6: Experiencia | G6: Puntaje de Industria Nacional | H6: ACEPTACIÓN Y CUMPLIMIENTO DE LA FORMACIÓN Y EXPERIENCIA DEL PERSONAL CLAVE_x000D_ | I6: PERSONAS DISCAPACIDAD | J6: EXPERIENCIA ADICIONAL DEL PERSONAL CLAVE EVALUABLE | K6: Factores de desempate | L6: Factores de desempate | M6: Factores de desempate | N6: PROPUESTA ECONOMICA
A7: No. | B7: PROPONENTE | C7: FORMATO 1 | D7: FORMATO 2A Consorcios | E7: FORMATO 2B U.T. | F7: FORMATO 3 | G7: FORMATO 7 | H7: FORMATO 8 | I7: FORMATO 6 | J7: FORMATO 9 | K7: FORMATO 10 A | L7: FORMATO 10 B | M7: FORMATO 10 C | N7: Formulario 1 | O7: OBSERVACIONES
A8: 1 | B8: ='INFO. PROP'!B10 -> SITELSA SAS | C8: SI | D8: N/A | E8: N/A | F8: SI | G8: SI | H8: SI | I8: SI | J8: SI | K8: NO | L8: NO | M8: NO | N8: SI
A9: 2 | B9: ='INFO. PROP'!B11 -> PROES INGENIERIA SAS | C9: SI | D9: N/A | E9: N/A | F9: SI | G9: SI | H9: SI | I9: NO | J9: SI | K9: NO | L9: NO | M9: NO | N9: SI
A10: 3 | B10: ='INFO. PROP'!B12 -> CB INGENIEROS SAS | C10: SI | D10: N/A | E10: N/A | F10: SI | G10: SI | H10: SI | I10: NO | J10: SI | K10: NO | L10: NO | M10: NO | N10: SI
A11: 4 | B11: ='INFO. PROP'!B13 -> JASEN CONSULTORES S.A.S. | C11: SI | D11: N/A | E11: N/A | F11: SI | G11: SI | H11: SI | I11: SI | J11: SI | K11: NO | L11: SI | M11: NO | N11: SI
A12: 5 | B12: ='INFO. PROP'!B14 -> BOSA SIGLO XXI | C12: SI | D12: SI | E12: N/A | F12: SI | G12: SI | H12: SI | I12: SI | J12: SI | K12: NO | L12: SI | M12: NO | N12: SI
A13: 6 | B13: ='INFO. PROP'!B15 -> CONSORCIO ODESSA | C13: SI | D13: SI | E13: N/A | F13: SI | G13: SI | H13: SI | I13: SI | J13: SI | K13: NO | L13: SI | M13: NO | N13: SI
A14: 7 | B14: ='INFO. PROP'!B16 -> CONSORCIO GMC | C14: SI | D14: SI | E14: N/A | F14: SI | G14: SI | H14: SI | I14: SI | J14: SI | K14: NO | L14: SI | M14: NO | N14: SI
A15: 8 | B15: ='INFO. PROP'!B17 -> CONSULTORES INTERVENTORES COLOMBIANOS S.A.S. | C15: SI | D15: N/A | E15: N/A | F15: SI | G15: SI | H15: SI | I15: SI | J15: SI | K15: SI | L15: SI | M15: NO | N15: SI
A16: 9 | B16: ='INFO. PROP'!B18 -> CONS GAB BOGOTA | C16: SI | D16: SI | E16: N/A | F16: SI | G16: SI | H16: SI | I16: SI | J16: SI | K16: NO | L16: NO | M16: NO | N16: SI
A17: 10 | B17: ='INFO. PROP'!B19 -> CONSORCIO MT 2022 BOSA | C17: SI | D17: SI | E17: N/A | F17: SI | G17: SI | H17: SI | I17: SI | J17: SI | K17: NO | L17: SI | M17: NO | N17: SI
A18: 11 | B18: ='INFO. PROP'!B20 -> VELNEC S.A. | C18: SI | D18: N/A | E18: N/A | F18: SI | G18: SI | H18: SI | I18: SI | J18: SI | K18: NO | L18: SI | M18: NO | N18: SI
A19: 12 | B19: ='INFO. PROP'!B21 -> CONSORCIO INTERVIAS CD | C19: SI | D19: SI | E19: N/A | F19: SI | G19: SI | H19: SI | I19: SI | J19: SI | K19: NO | L19: NO | M19: NO | N19: SI
... A47: 40 | B47: ='INFO. PROP'!B49 -> UT INTERVENTORIA BOSA 2022 | C47: SI | D47: N/A | E47: SI | F47: SI | G47: SI | H47: SI | I47: SI | J47: SI | K47: NO | L47: NO | M47: NO | N47: SI
A48: 41 | B48: ='INFO. PROP'!B50 -> PROYECTISTAS DE COLOMBIA & CIA SAS | C48: SI | D48: N/A | E48: N/A | F48: SI | G48: SI | H48: SI | I48: SI | J48: SI | K48: NO | L48: NO | M48: NO | N48: SI | O48: Aporta formato 10G acreditación mipyme
A49: 42 | B49: ='INFO. PROP'!B51 -> COMPAÑIA DE INTERVENTORIAS Y CONSULTORIAS DE LA COSTA SAS | C49: SI | D49: N/A | E49: N/A | F49: SI | G49: SI | H49: SI | I49: SI | J49: SI | K49: NO | L49: NO | M49: NO | N49: SI
A50: 43 | B50: ='INFO. PROP'!B52 -> CONSORCIO INTERBOSA 2022 | C50: SI | D50: SI | E50: N/A | F50: SI | G50: SI | H50: SI | I50: SI | J50: SI | K50: NO | L50: NO | M50: NO | N50: SI
A51: 44 | B51: ='INFO. PROP'!B53 -> CONSORCIO ALMA-GILLI | C51: SI | D51: SI | E51: N/A | F51: SI | G51: SI | H51: SI | I51: SI | J51: SI | K51: NO | L51: SI | M51: NO | N51: SI | O51: Aporta formato 10G acreditación mipyme
A52: 45 | B52: ='INFO. PROP'!B54 -> Wilmer Junior Gomez Brito | C52: SI | D52: N/A | E52: N/A | F52: SI | G52: SI | H52: SI | I52: SI | J52: SI | K52: NO | L52: NO | M52: NO | N52: SI
A53: 46 | B53: ='INFO. PROP'!B55 -> CONSTRUCCIONES INTERVENTORIAS ISAZA INGENIERIA SAS | C53: SI | D53: N/A | E53: N/A | F53: SI | G53: SI | H53: SI | I53: SI | J53: SI | K53: NO | L53: SI | M53: SI | N53: SI
A54: 47 | B54: ='INFO. PROP'!B56 -> CONSORCIO BOSA INFRA-VIAL | C54: SI | D54: SI | E54: N/A | F54: SI | G54: SI | H54: SI | I54: SI | J54: SI | K54: NO | L54: SI | M54: NO | N54: SI | O54: Presenta Formato 10G y 10 H
A55: 48 | B55: ='INFO. PROP'!B57 -> CS BOSA JI 004 | C55: SI | D55: SI | E55: N/A | F55: SI | G55: SI | H55: SI | I55: SI | J55: SI | K55: NO | L55: SI | M55: NO | N55: SI | O55: Presenta Formato 10G y 10 H
A56: 49 | B56: ='INFO. PROP'!B58 -> ELSA MARIA RUEDA LANDINEZ INGENIERIA SAS | C56: SI | D56: N/A | E56: N/A | F56: SI | G56: SI | H56: SI | I56: SI | J56: SI | K56: NO | L56: SI | M56: NO | N56: SI | O56: Aporta formato 10G acreditación mipyme
A57: 50 | B57: ='INFO. PROP'!B59 -> CONSORCIO INTERBOGOTA B&B | C57: SI | D57: SI | E57: N/A | F57: SI | G57: SI | H57: SI | I57: SI | J57: SI | K57: NO | L57: SI | M57: NO | N57: SI
A58: 51 | B58: ='INFO. PROP'!B60 -> INTERVIAL BOGOTA | C58: SI | D58: SI | E58: N/A | F58: SI | G58: SI | H58: SI | I58: SI | J58: SI | K58: NO | L58: SI | M58: NO | N58: SI
A59: 52 | B59: ='INFO. PROP'!B61 -> CONSORCIO INTERCAPITAL | C59: SI | D59: SI | E59: N/A | F59: SI | G59: SI | H59: SI | I59: SI | J59: SI | K59: NO | L59: NO | M59: NO | N59: SI | O59: Aporta formato 10G acreditación mipyme
A60: 53 | B60: ='INFO. PROP'!B62 -> Proyectistas Asociados SAS | C60: SI | D60: N/A | E60: N/A | F60: SI | G60: SI | H60: SI | I60: SI | J60: SI | K60: NO | L60: SI | M60: NO | N60: SI
A61: 54 | B61: ='INFO. PROP'!B63 -> ESTUDIOS TECNICOS Y CONSTRUCCIONES SAS | C61: SI | D61: N/A | E61: N/A | F61: SI | G61: SI | H61: SI | I61: SI | J61: SI | K61: NO | L61: SI | M61: NO | N61: SI
A62: 55 | B62: ='INFO. PROP'!B64 -> CONSORCIO CG 2021 | C62: SI | D62: SI | E62: N/A | F62: SI | G62: SI | H62: SI | I62: SI | J62: SI | K62: NO | L62: NO | M62: NO | N62: SI
A63: 56 | B63: ='INFO. PROP'!B65 -> CONSORCIO VIAL BOSA | C63: SI | D63: SI | E63: N/A | F63: SI | G63: SI | H63: SI | I63: SI | J63: SI | K63: NO | L63: SI | M63: NO | N63: SI
A64: 57 | B64: ='INFO. PROP'!B66 -> R&MCONSTRUCCIONES E INTERVENTORIAS S.A.S | C64: SI | D64: N/A | E64: N/A | F64: SI | G64: SI | H64: SI | I64: SI | J64: SI | K64: NO | L64: NO | M64: NO | N64: SI
A65: 58 | B65: ='INFO. PROP'!B67 -> CONSORCIO POSSO INTERVIALES | C65: SI | D65: SI | E65: N/A | F65: SI | G65: SI | H65: SI | I65: SI | J65: SI | K65: NO | L65: NO | M65: NO | N65: SI
A66: 59 | B66: ='INFO. PROP'!B68 -> CONSORCIO EPSILON CAPITAL | C66: SI | D66: SI | E66: N/A | F66: SI | G66: SI | H66: SI | I66: SI | J66: SI | K66: NO | L66: NO | M66: NO | N66: SI
A67: 60 | B67: ='INFO. PROP'!B69 -> MIRS LATINOAMERICA S.A.S | C67: SI | D67: N/A | E67: N/A | F67: SI | G67: SI | H67: SI | I67: SI | J67: SI | K67: NO | L67: SI | M67: NO | N67: SI
A68: 61 | B68: ='INFO. PROP'!B70 -> TECNOLOGÍA DE NUEVAS MEDICIONES COLOMBIA S.A.S. | C68: SI | D68: SI | E68: N/A | F68: SI | G68: SI | H68: SI | I68: SI | J68: SI | K68: NO | L68: SI | M68: NO | N68: SI
...

Sheet EXPER. PROP.
AF1: SMMLV
B2: Clasificación UNSPSC | C2: 801016 | AF2: 1990 | AG2: 41025
C3: 811015 | AF3: 1991 | AG3: 51720
C4: 811022 | AF4: 1992 | AG4: 65190
AF5: 1993 | AG5: 81510
AF6: 1994 | AG6: 98700
AF7: 1995 | AG7: 118934
C8: Presupuesto Oficial en $ | G8: 800053615 | H8: 0.75 | I8: 1.2 | J8: 1.5 | AF8: 1996 | AG8: 142125
C9: Presupuesto Oficial en SMMLV | G9: =+G8/VLOOKUP(YEAR(G13),Salarios!$B$2:$C$40,2,0) -> 800.05362 | H9: =+$G$9*H8 -> 600.04021 | I9: =+$G$9*I8 -> 960.06434 | J9: =+$G$9*J8 -> 1200.0804 | AF9: 1997 | AG9: 172005
C10: 1 vez el POE | G10: =+G9*1 -> 800.05362 | H10: 0.4 | I10: 0.4 | J10: 0.4 | AF10: 1998 | AG10: 203825
C11: 1 vez del POE | G11: =+G9*1 -> 800.05362 | H11: =H9*H10 -> 240.01608 | I11: =I9*I10 -> 384.02574 | J11: =J9*J10 -> 480.03217 | Q11: CUMPLE | R11: SI | AF11: 1999 | AG11: 236438
G12: 133 | Q12: NO CUMPLE | R12: NO | AF12: 2000 | AG12: 260100
C13: Fecha de cierre del proceso | G13: 44706 | Q13: SUBSANAR | AF13: 2001 | AG13: 286000
C14: 20% POE | G14: =+G9*0.2 -> 160.01072 | AF14: 2002 | AG14: 309000
Q15: HÁBIL | AF15: 2003 | AG15: 332000
Q16: NO HÁBIL | AF16: 2004 | AG16: 358000
B17: EXPERIENCIA SOLICITADA GENERAL Y ESPECIFICA DEL PROPONENTE (Formato No. 3) | Q17: SUBSANAR | AF17: 2005 | AG17: 381500
B18: GENERAL | C18: 1 | D18: INTERVENTORÍA A PROYECTOS DE: CONSTRUCCIÓN O REHABILITACIÓN O MEJORAMIENTO O REPAVIMENTACIÓN O PAVIMENTACIÓN DE INFRAESTRUCTURA VIAL PARA TRÁFICO VEHICULAR DE VÍAS URBANAS O VÍAS PRIMARIAS O SECUNDARIAS | AF18: 2006 | AG18: 408000
C19: Nota 1 | D19: Nota1: No se aceptará experiencia en contratos cuyo objeto o alcance sea exclusivamente en cualquiera de las siguientes actividades de obra a las cuales se realizó la interventoría: componentes de seguridad vial o semaforización o puentes. | AF19: 2007 | AG19: 433700
C20: Nota 2 | D20: Nota 2: No se aceptará experiencia cuya interventoría sea exclusivamente en afirmado. | AF20: 2008 | AG20: 461500
B21: ESPECIFICA | C21: 2 | D21: Por lo menos uno (1) de los contratos válidos aportados como experiencia general debe acreditar la interventoría a la intervención de la estructura de pavimento (asfáltico o hidráulico o articulado(adoquinado)) | AF21: 2009 | AG21: 496900
C22: 3 | D22: Adicionalmente, a través de uno (1) de los contratos válidos aportados como experiencia general debe acreditar la interventoría a la intervención de redes de servicios públicos. | AC22: 898354331 | AD22: =AC22/AG26 -> 1458.3674 | AF22: 2010 | AG22: 515000
AF23: 2011 | AG23: 535600
AF24: 2012 | AG24: 566700
AF25: 2013 | AG25: 589500
B26: 1 | C26: =VLOOKUP(B26,'INFO. PROP'!$A$9:$D$105,2,FALSE) -> SITELSA SAS | H26: INTEGRANTES | K26: =VLOOKUP(B26,'INFO. PROP'!$A$9:$E$105,4,FALSE) -> (SITELSA 100% - 0% - 0%- 0%) | V26: PROMEDIO | W26: =AVERAGE(W30:W35) -> 1127.077 | X26: EXPERIENCIA HABILITANTE Y PONDERABLE | Z26: CUMPLE | AA26: FORMATO 8 | AB26: CUMPLE | AF26: 2014 | AG26: 616000
AF27: 2015 | AG27: 644350
B28: CONTRATO | C28: NUMERO CONSECUTIVO DE CONTRATO APORTADO EN RUP | D28: EXPERIENCIA REQUERIDA | E28: ENTIDAD CONTRATANTE | F28: CONTRATO | I28: FORMA DE EJECUCIÓN | K28: INTEGRANTE QUE APORTA LA EXPERIENCIA | L28: FECHA DE INICIO (DIA/MES/AÑO) | M28: FECHA DE TERMINACIÓN (DIA/MES/AÑO) | N28: VALOR DEL CONTRATO APORTADO COP | O28: VALOR DEL CONTRATO APORTADO SMMLV | P28: CONTRATO EJECUTADO IDENTIFICADO CON EL UNSPSC | Q28: CRITERIO EXPERIENCIA CE-1 | R28: CRITERIO EXPERIENCIA CE-2 | S28: CRITERIO EXPERIENCIA CE-3 | U28: VALOR VERIFICADO SMMLV CONTRATO APORTADO | V28: EXPERIENCIA GENERAL Y ESPECIFICA | W28: CRITERIO EXPERIENCIA CE-4 | Y28: CRITERIO EXPERIENCIA CE-5 | Z28: CRITERIO EXPERIENCIA CE-6 | AA28: PERSONAL CLAVE | AC28: OBSERVACIONES | AF28: 2016 | AG28: 689455
F29: No. | G29: Objeto | I29: I - C - UT | J29: % PARTICIP | Q29: CLASIFICACIÓN UNSPSC | R29: Experiencia general requerida (10.1 Pliego de condiciones) | S29: NUMERAL 1 ( estructura de pavimentos) | T29: NUMERAL 2 ( redes Servicios publicos) | W29: VALOR DEL CONTRATO EN SMMLV DEL RUP AFECTADO POR PARTICIPACION | X29: VALOR CERTIFICADO (%) DEL POE SMMLV | Y29: FECHA DE TERMINACIÓN | Z29: 50% MINIMO EXPERIENCIA PROPONENTE PLURAL | AA29: FORMATO 8 -Aceptación y cumplimiento de la formación y experiencia del personal clave | AB29: VERIFICACIÓN | AF29: 2017 | AG29: 737717
B30: CONTRATO 1 | C30: 25 | D30: GENERAL Y ESPECIFICA | E30: MUNICIPIO DE LA JAGUA DE IBIRICO | F30: 331 DE 2014 | G30: INTERVENTORIA TECNICA, ADMINISTRATIVA Y FINANCIERA AMBIENTAL PARA EL PROYECTO: PLAN MAESTRO DE VIAS URBANAS FASE 1 PAVIMENTO RIGIDO LA JAGUA DE IBIRICO CESAR, DEPARTAMENTO DEL CESAR EN EL MUNICIPIO DE LA JAGUA DE IBIRICO, CESAR. | I30: C | J30: 0.7 | K30: SITELSA SAS | L30: 41899 | M30: 42445 | N30: 1110099884 | O30: 1610.11 | P30: 811015 | Q30: =IF(OR(P30=$C$2,P30=$C$3,P30=$C$4),"CUMPLE","NO CUMPLE") -> CUMPLE | R30: CUMPLE | S30: CUMPLE | T30: CUMPLE | U30: =IF(V30="SI",IF(M30="","",($J30*$N30)/(VLOOKUP(YEAR(M30),$AF$1:$AG$34,2,))),"") -> 1127.0785 | V30: SI | W30: =IF(V30="si",(J30*O30),(" ")) -> 1127.077 | X30: =W36/$G$11 -> 1.4087518 | Y30: =IF(M30="","",IF(M30<$G$13,"CUMPLE","NO CUMPLE")) -> CUMPLE | Z30: N/A | AA30: SI | AB30: =IF(AA30="si","CUMPLE","NO CUMPLE") -> CUMPLE | AF30: 2018 | AG30: 781242
B31: CONTRATO 2 | U31: =IF(T31="cumple",IF(M31="","",($J31*$N31)/(VLOOKUP(YEAR(M31),$AF$1:$AG$34,2,))),"") | W31: =IF(V31="si",(J31*O31),(" ")) | X31: =IF(W36=0,"",IF(X30>=100%,"CUMPLE","NO CUMPLE")) -> CUMPLE | Y31: =IF(M31="","",IF(M31<$G$13,"CUMPLE","NO CUMPLE")) | AF31: 2019 | AG31: 828116
B32: CONTRATO 3 | U32: =IF(T32="cumple",IF(M32="","",($J32*$N32)/(VLOOKUP(YEAR(M32),$AF$1:$AG$34,2,))),"") | W32: =IF(V32="si",(J32*O32),(" ")) | Y32: =IF(M32="","",IF(M32<$G$13,"CUMPLE","NO CUMPLE")) | AF32: 2020 | AG32: 877802
B33: CONTRATO 4 | U33: =IF(T33="cumple",IF(M33="","",($J33*$N33)/(VLOOKUP(YEAR(M33),$AF$1:$AG$34,2,))),"") | W33: =IF(V33="si",(J33*O33),(" ")) | Y33: =IF(M33="","",IF(M33<$G$13,"CUMPLE","NO CUMPLE")) | AF33: 2021 | AG33: 908526
B34: CONTRATO 5 | U34: =IF(T34="cumple",IF(M34="","",($J34*$N34)/(VLOOKUP(YEAR(M34),$AF$1:$AG$34,2,))),"") | W34: =IF(V34="si",(J34*O34),(" ")) | Y34: =IF(M34="","",IF(M34<$G$13,"CUMPLE","NO CUMPLE")) | AF34: 2022 | AG34: 1000000
B35: CONTRATO 6 | U35: =IF(T35="cumple",IF(M35="","",($J35*$N35)/(VLOOKUP(YEAR(M35),$AF$1:$AG$34,2,))),"") | W35: =IF(V35="si",(J35*O35),(" ")) | Y35: =IF(M35="","",IF(M35<$G$13,"CUMPLE","NO CUMPLE"))
T36: CONTRATOS | U36: =SUM(U30:U35) -> 1127.0785 | V36: =COUNTIF(V30:V35,"SI") -> 1 | W36: =SUM(W30:W35) -> 1127.077 | X36: =W36/V36 -> 1127.077
B39: 2 | C39: =VLOOKUP(B39,'INFO. PROP'!$A$9:$D$105,2,FALSE) -> PROES INGENIERIA SAS | H39: INTEGRANTES | K39: =VLOOKUP(B39,'INFO. PROP'!$A$9:$E$105,4,FALSE) -> (PROES INGENIERIA SAS 100% - 0% - 0%- 0%) | V39: PROMEDIO | W39: =AVERAGE(W43:W48) -> 689.77205 | X39: EXPERIENCIA HABILITANTE Y PONDERABLE | Z39: CUMPLE | AA39: FORMATO 8 | AB39: CUMPLE
B41: CONTRATO | C41: NUMERO CONSECUTIVO DE CONTRATO APORTADO EN RUP | D41: EXPERIENCIA REQUERIDA | E41: ENTIDAD CONTRATANTE | F41: CONTRATO | I41: FORMA DE EJECUCIÓN | K41: INTEGRANTE QUE APORTA LA EXPERIENCIA | L41: FECHA DE INICIO (DIA/MES/AÑO) | M41: FECHA DE TERMINACIÓN (DIA/MES/AÑO) | N41: VALOR DEL CONTRATO APORTADO COP | O41: VALOR DEL CONTRATO APORTADO SMMLV | P41: CONTRATO EJECUTADO IDENTIFICADO CON EL UNSPSC | Q41: CRITERIO EXPERIENCIA CE-1 | R41: CRITERIO EXPERIENCIA CE-2 | S41: CRITERIO EXPERIENCIA CE-3 | U41: VALOR VERIFICADO SMMLV CONTRATO APORTADO | V41: EXPERIENCIA GENERAL Y ESPECIFICA | W41: CRITERIO EXPERIENCIA CE-4 | Y41: CRITERIO EXPERIENCIA CE-5 | Z41: CRITERIO EXPERIENCIA CE-6 | AA41: PERSONAL CLAVE | AC41: OBSERVACIONES
F42: No. | G42: Objeto | I42: I - C - UT | J42: % PARTICIP | Q42: CLASIFICACIÓN UNSPSC | R42: Experiencia general requerida (10.1 Pliego de condiciones) | S42: NUMERAL 1 ( estructura de pavimentos) | T42: NUMERAL 2 ( redes Servicios publicos) | W42: VALOR DEL CONTRATO EN SMMLV DEL RUP AFECTADO POR PARTICIPACION | X42: VALOR CERTIFICADO (%) DEL POE SMMLV | Y42: FECHA DE TERMINACIÓN | Z42: 50% MINIMO EXPERIENCIA PROPONENTE PLURAL | AA42: FORMATO 8 -Aceptación y cumplimiento de la formación y experiencia del personal clave | AB42: VERIFICACIÓN
B43: CONTRATO 1 | C43: 33 | D43: GENERAL Y ESPECIFICA | E43: Dirección General de Carreteras del Estado - Ministerio de Fomento | G43: Trabajos de control y vigilancia de la obra clave 20-CO-3140 "Acondicionamiento N-432 de Bajadoz a Granada, p.k. 238,1 al 245,2. Tramo: Cuesta de Matanzas - Cerro Muriano. Provincia de Córdoba"_x000D_ | I43: c | J43: 0.5 | K43: PROES INGENIERIA | L43: 38265 | M43: 39429 | N43: 1104103278 | O43: 2593.3 | P43: 811015 | Q43: =IF(OR(P43=$C$2,P43=$C$3,P43=$C$4),"CUMPLE","NO CUMPLE") -> CUMPLE | R43: CUMPLE | S43: CUMPLE | U43: =IF(V43="SI",IF(M43="","",($J43*$N43)/(VLOOKUP(YEAR(M43),$AF$1:$AG$34,2,))),"") -> 1272.8883 | V43: SI | W43: =IF(V43="si",(J43*O43),(" ")) -> 1296.65 | X43: =W49/$G$11 -> 1.7243146 | Y43: =IF(M43="","",IF(M43<$G$13,"CUMPLE","NO CUMPLE")) -> CUMPLE | Z43: N/A | AA43: SI | AB43: =IF(AA43="si","CUMPLE","NO CUMPLE") -> CUMPLE
...

Sheet PROPUESTA ECONOMICA
B2: FONDO DE DESARROLLO LOCAL DE BOSA
B3: FDLBOSACM-004-2022(71937)
B4: OBJETO: REALIZAR LA INTERVENTORÍA TÉCNICA, ADMINISTRATIVA, FINANCIERA, JURÍDICA, SOCIAL, AMBIENTAL Y SST AL CONTRATO DE OBRA PÚBLICA QUE TENDRÁ POR OBJETO CONTRAC-TUAL EJECUTAR POR EL SISTEMA DE PRECIOS UNITARIOS FIJOS SIN FOR-MULA DE REAJUSTE Y A MONTO AGOTABLE LAS ACTIVIDADES NECESARIAS PARA LA EJECUCIÓN DE LAS OBRAS DE CONSTRUCCIÓN DE MALLA VIAL Y ESPACIO PUBLICO ASOCIADO DE LA LOCALIDAD DE BOSA, DE ACUERDO CON LA DESCRIPCIÓN, ESPECIFICACIONES, ESTUDIOS, DISEÑOS Y DEMÁS CONDICIONES ESTABLECIDAS EN E ANEXO TECNICO
B5: PROPUESTA ECONOMICA
B6: Valor estimado $ 800.053.615
B7: No. | C7: NOMBRE DEL PROPONENTE | D7: PROPUESTA ECONOMICA | F7: VERIFICACIÓN | G7: OBSERVACIONES | H7: PRECIOS ARTIFICIALMENTE BAJOS
D8: VALOR PROPUESTA (INCLUIDO IVA) | E8: FM
B9: 1 | C9: =VLOOKUP(B9,'INFO. PROP'!$A$9:$D$105,2,FALSE) -> SITELSA SAS | D9: 800053615 | E9: 2.38 | F9: =IF(OR(D9="",E9=""),"NO CUMPLE",IF(D9<=800053615,IF(E9<=2.38,"CUMPLE","NO CUMPLE"),"NO CUMPLE")) -> CUMPLE | H9: =IF((D9<$D$108), " No cumple", "Cumple") -> Cumple
B10: 2 | C10: =VLOOKUP(B10,'INFO. PROP'!$A$9:$D$105,2,FALSE) -> PROES INGENIERIA SAS | D10: 800053615 | E10: 2.38 | F10: =IF(OR(D10="",E10=""),"NO CUMPLE",IF(D10<=800053615,IF(E10<=2.38,"CUMPLE","NO CUMPLE"),"NO CUMPLE")) -> CUMPLE | H10: =IF((D10<$D$108), " No cumple", "Cumple") -> Cumple
B11: 3 | C11: =VLOOKUP(B11,'INFO. PROP'!$A$9:$D$105,2,FALSE) -> CB INGENIEROS SAS | D11: 800053615 | E11: 2.38 | F11: =IF(OR(D11="",E11=""),"NO CUMPLE",IF(D11<=800053615,IF(E11<=2.38,"CUMPLE","NO CUMPLE"),"NO CUMPLE")) -> CUMPLE | H11: =IF((D11<$D$108), " No cumple", "Cumple") -> Cumple
B12: 4 | C12: =VLOOKUP(B12,'INFO. PROP'!$A$9:$D$105,2,FALSE) -> JASEN CONSULTORES S.A.S. | D12: 800053615 | E12: 2.38 | F12: =IF(OR(D12="",E12=""),"NO CUMPLE",IF(D12<=800053615,IF(E12<=2.38,"CUMPLE","NO CUMPLE"),"NO CUMPLE")) -> CUMPLE | H12: =IF((D12<$D$108), " No cumple", "Cumple") -> Cumple
B13: 5 | C13: =VLOOKUP(B13,'INFO. PROP'!$A$9:$D$105,2,FALSE) -> BOSA SIGLO XXI | D13: 800053615 | E13: 2.38 | F13: =IF(OR(D13="",E13=""),"NO CUMPLE",IF(D13<=800053615,IF(E13<=2.38,"CUMPLE","NO CUMPLE"),"NO CUMPLE")) -> CUMPLE | H13: =IF((D13<$D$108), " No cumple", "Cumple") -> Cumple
B14: 6 | C14: =VLOOKUP(B14,'INFO. PROP'!$A$9:$D$105,2,FALSE) -> CONSORCIO ODESSA | D14: 800029146 | E14: 2.38 | F14: =IF(OR(D14="",E14=""),"NO CUMPLE",IF(D14<=800053615,IF(E14<=2.38,"CUMPLE","NO CUMPLE"),"NO CUMPLE")) -> CUMPLE | H14: =IF((D14<$D$108), " No cumple", "Cumple") -> Cumple
B15: 7 | C15: =VLOOKUP(B15,'INFO. PROP'!$A$9:$D$105,2,FALSE) -> CONSORCIO GMC | D15: 800053615 | E15: 2.34 | F15: =IF(OR(D15="",E15=""),"NO CUMPLE",IF(D15<=800053615,IF(E15<=2.38,"CUMPLE","NO CUMPLE"),"NO CUMPLE")) -> CUMPLE | H15: =IF((D15<$D$108), " No cumple", "Cumple") -> Cumple
B16: 8 | C16: =VLOOKUP(B16,'INFO. PROP'!$A$9:$D$105,2,FALSE) -> CONSULTORES INTERVENTORES COLOMBIANOS S.A.S. | D16: 800037000 | E16: 2.38 | F16: =IF(OR(D16="",E16=""),"NO CUMPLE",IF(D16<=800053615,IF(E16<=2.38,"CUMPLE","NO CUMPLE"),"NO CUMPLE")) -> CUMPLE | H16: =IF((D16<$D$108), " No cumple", "Cumple") -> Cumple
B17: 9 | C17: =VLOOKUP(B17,'INFO. PROP'!$A$9:$D$105,2,FALSE) -> CONS GAB BOGOTA | D17: 800052470 | E17: 2.38 | F17: =IF(OR(D17="",E17=""),"NO CUMPLE",IF(D17<=800053615,IF(E17<=2.38,"CUMPLE","NO CUMPLE"),"NO CUMPLE")) -> CUMPLE | H17: =IF((D17<$D$108), " No cumple", "Cumple") -> Cumple
B18: 10 | C18: =VLOOKUP(B18,'INFO. PROP'!$A$9:$D$105,2,FALSE) -> CONSORCIO MT 2022 BOSA | D18: 800053615 | E18: 2.38 | F18: =IF(OR(D18="",E18=""),"NO CUMPLE",IF(D18<=800053615,IF(E18<=2.38,"CUMPLE","NO CUMPLE"),"NO CUMPLE")) -> CUMPLE | H18: =IF((D18<$D$108), " No cumple", "Cumple") -> Cumple
B19: 11 | C19: =VLOOKUP(B19,'INFO. PROP'!$A$9:$D$105,2,FALSE) -> VELNEC S.A. | D19: 800053615 | E19: 2.38 | F19: =IF(OR(D19="",E19=""),"NO CUMPLE",IF(D19<=800053615,IF(E19<=2.38,"CUMPLE","NO CUMPLE"),"NO CUMPLE")) -> CUMPLE | H19: =IF((D19<$D$108), " No cumple", "Cumple") -> Cumple
B20: 12 | C20: =VLOOKUP(B20,'INFO. PROP'!$A$9:$D$105,2,FALSE) -> CONSORCIO INTERVIAS CD | D20: 800053615 | E20: 2.38 | F20: =IF(OR(D20="",E20=""),"NO CUMPLE",IF(D20<=800053615,IF(E20<=2.38,"CUMPLE","NO CUMPLE"),"NO CUMPLE")) -> CUMPLE | H20: =IF((D20<$D$108), " No cumple", "Cumple") -> Cumple
... B54: 46 | C54: =VLOOKUP(B54,'INFO. PROP'!$A$9:$D$105,2,FALSE) -> CONSTRUCCIONES INTERVENTORIAS ISAZA INGENIERIA SAS | D54: 800020771 | E54: 2.38 | F54: =IF(OR(D54="",E54=""),"NO CUMPLE",IF(D54<=800053615,IF(E54<=2.38,"CUMPLE","NO CUMPLE"),"NO CUMPLE")) -> CUMPLE | H54: =IF((D54<$D$108), " No cumple", "Cumple") -> Cumple
B55: 47 | C55: =VLOOKUP(B55,'INFO. PROP'!$A$9:$D$105,2,FALSE) -> CONSORCIO BOSA INFRA-VIAL | D55: 799131629 | E55: 2.8 | F55: =IF(OR(D55="",E55=""),"NO CUMPLE",IF(D55<=800053615,IF(E55<=2.38,"CUMPLE","NO CUMPLE"),"NO CUMPLE")) -> NO CUMPLE | G55: factor multiplicador excede al estimado en el POE. El proponente no subsana lo solicitado en referencia a Factor Multiplicador, teniendo en cuenta lo establecido en respuesta publicada en plataforma secop II el día 11 de mayo de 2022 | H55: =IF((D55<$D$108), " No cumple", "Cumple") -> Cumple
B56: 48 | C56: =VLOOKUP(B56,'INFO. PROP'!$A$9:$D$105,2,FALSE) -> CS BOSA JI 004 | D56: 800053615 | E56: 2.38 | F56: =IF(OR(D56="",E56=""),"NO CUMPLE",IF(D56<=800053615,IF(E56<=2.38,"CUMPLE","NO CUMPLE"),"NO CUMPLE")) -> CUMPLE | H56: =IF((D56<$D$108), " No cumple", "Cumple") -> Cumple
B57: 49 | C57: =VLOOKUP(B57,'INFO. PROP'!$A$9:$D$105,2,FALSE) -> ELSA MARIA RUEDA LANDINEZ INGENIERIA SAS | D57: 800053615 | E57: 2.38 | F57: =IF(OR(D57="",E57=""),"NO CUMPLE",IF(D57<=800053615,IF(E57<=2.38,"CUMPLE","NO CUMPLE"),"NO CUMPLE")) -> CUMPLE | H57: =IF((D57<$D$108), " No cumple", "Cumple") -> Cumple
B58: 50 | C58: =VLOOKUP(B58,'INFO. PROP'!$A$9:$D$105,2,FALSE) -> CONSORCIO INTERBOGOTA B&B | D58: 800053615 | E58: 2.38 | F58: =IF(OR(D58="",E58=""),"NO CUMPLE",IF(D58<=800053615,IF(E58<=2.38,"CUMPLE","NO CUMPLE"),"NO CUMPLE")) -> CUMPLE | H58: =IF((D58<$D$108), " No cumple", "Cumple") -> Cumple
B59: 51 | C59: =VLOOKUP(B59,'INFO. PROP'!$A$9:$D$105,2,FALSE) -> INTERVIAL BOGOTA | D59: 800053615 | E59: 2.38 | F59: =IF(OR(D59="",E59=""),"NO CUMPLE",IF(D59<=800053615,IF(E59<=2.38,"CUMPLE","NO CUMPLE"),"NO CUMPLE")) -> CUMPLE | H59: =IF((D59<$D$108), " No cumple", "Cumple") -> Cumple
B60: 52 | C60: =VLOOKUP(B60,'INFO. PROP'!$A$9:$D$105,2,FALSE) -> CONSORCIO INTERCAPITAL | D60: 800053615 | E60: 2.38 | F60: =IF(OR(D60="",E60=""),"NO CUMPLE",IF(D60<=800053615,IF(E60<=2.38,"CUMPLE","NO CUMPLE"),"NO CUMPLE")) -> CUMPLE | H60: =IF((D60<$D$108), " No cumple", "Cumple") -> Cumple
B61: 53 | C61: =VLOOKUP(B61,'INFO. PROP'!$A$9:$D$105,2,FALSE) -> Proyectistas Asociados SAS | D61: 800053422 | E61: 2.38 | F61: =IF(OR(D61="",E61=""),"NO CUMPLE",IF(D61<=800053615,IF(E61<=2.38,"CUMPLE","NO CUMPLE"),"NO CUMPLE")) -> CUMPLE | H61: =IF((D61<$D$108), " No cumple", "Cumple") -> Cumple
B62: 54 | C62: =VLOOKUP(B62,'INFO. PROP'!$A$9:$D$105,2,FALSE) -> ESTUDIOS TECNICOS Y CONSTRUCCIONES SAS | D62: 800053615 | E62: 2.38 | F62: =IF(OR(D62="",E62=""),"NO CUMPLE",IF(D62<=800053615,IF(E62<=2.38,"CUMPLE","NO CUMPLE"),"NO CUMPLE")) -> CUMPLE | H62: =IF((D62<$D$108), " No cumple", "Cumple") -> Cumple
B63: 55 | C63: =VLOOKUP(B63,'INFO. PROP'!$A$9:$D$105,2,FALSE) -> CONSORCIO CG 2021 | D63: 800053615 | E63: 2.38 | F63: =IF(OR(D63="",E63=""),"NO CUMPLE",IF(D63<=800053615,IF(E63<=2.38,"CUMPLE","NO CUMPLE"),"NO CUMPLE")) -> CUMPLE | H63: =IF((D63<$D$108), " No cumple", "Cumple") -> Cumple
B64: 56 | C64: =VLOOKUP(B64,'INFO. PROP'!$A$9:$D$105,2,FALSE) -> CONSORCIO VIAL BOSA | D64: 800053615 | E64: 2.38 | F64: =IF(OR(D64="",E64=""),"NO CUMPLE",IF(D64<=800053615,IF(E64<=2.38,"CUMPLE","NO CUMPLE"),"NO CUMPLE")) -> CUMPLE | H64: =IF((D64<$D$108), " No cumple", "Cumple") -> Cumple
B65: 57 | C65: =VLOOKUP(B65,'INFO. PROP'!$A$9:$D$105,2,FALSE) -> R&MCONSTRUCCIONES E INTERVENTORIAS S.A.S | D65: 800053615 | E65: 2.38 | F65: =IF(OR(D65="",E65=""),"NO CUMPLE",IF(D65<=800053615,IF(E65<=2.38,"CUMPLE","NO CUMPLE"),"NO CUMPLE")) -> CUMPLE | H65: =IF((D65<$D$108), " No cumple", "Cumple") -> Cumple
B66: 58 | C66: =VLOOKUP(B66,'INFO. PROP'!$A$9:$D$105,2,FALSE) -> CONSORCIO POSSO INTERVIALES | D66: 800052470 | E66: 2.38 | F66: =IF(OR(D66="",E66=""),"NO CUMPLE",IF(D66<=800053615,IF(E66<=2.38,"CUMPLE","NO CUMPLE"),"NO CUMPLE")) -> CUMPLE | H66: =IF((D66<$D$108), " No cumple", "Cumple") -> Cumple
B67: 59 | C67: =VLOOKUP(B67,'INFO. PROP'!$A$9:$D$105,2,FALSE) -> CONSORCIO EPSILON CAPITAL | D67: 800053615 | E67: 2.38 | F67: =IF(OR(D67="",E67=""),"NO CUMPLE",IF(D67<=800053615,IF(E67<=2.38,"CUMPLE","NO CUMPLE"),"NO CUMPLE")) -> CUMPLE | H67: =IF((D67<$D$108), " No cumple", "Cumple") -> Cumple
... B95: 87 | C95: =VLOOKUP(B95,'INFO. PROP'!$A$9:$D$105,2,FALSE) -> CONSORCIO INTERVENTORIA BOSA | D95: 800053615 | E95: 2.38 | F95: =IF(OR(D95="",E95=""),"NO CUMPLE",IF(D95<=800053615,IF(E95<=2.38,"CUMPLE","NO CUMPLE"),"NO CUMPLE")) -> CUMPLE | H95: =IF((D95<$D$108), " No cumple", "Cumple") -> Cumple
B96: 88 | C96: =VLOOKUP(B96,'INFO. PROP'!$A$9:$D$105,2,FALSE) -> CONSORCIO VIAS URBANAS PCC | D96: 800053615 | F96: =IF(OR(D96="",E96=""),"NO CUMPLE",IF(D96<=800053615,IF(E96<=2.38,"CUMPLE","NO CUMPLE"),"NO CUMPLE")) -> NO CUMPLE | G96: El proponente no especifica factor multiplicador en el Formulario No.1 debe subsanar de acuerdo a lo estipulado (...) " El proponente deberá especificar el factor multiplicador por el cual afecto sus costos, a fin de no incurrir en la causal de rechazo contemplada en el pliego de condiciones en el literal O: "No afectar la oferta económica por el factor multiplicador y no subsanar ese defecto." | H96: =IF((D96<$D$108), " No cumple", "Cumple") -> Cumple
B97: 89 | C97: =VLOOKUP(B97,'INFO. PROP'!$A$9:$D$105,2,FALSE) -> CONSORCIO CONEXION VIAL BOSA | D97: 800053541 | E97: 2.38 | F97: =IF(OR(D97="",E97=""),"NO CUMPLE",IF(D97<=800053615,IF(E97<=2.38,"CUMPLE","NO CUMPLE"),"NO CUMPLE")) -> CUMPLE | H97: =IF((D97<$D$108), " No cumple", "Cumple") -> Cumple
B98: 90 | C98: =VLOOKUP(B98,'INFO. PROP'!$A$9:$D$105,2,FALSE) -> CONSORCIO INT. GQQI | D98: 800050000 | E98: 2.38 | F98: =IF(OR(D98="",E98=""),"NO CUMPLE",IF(D98<=800053615,IF(E98<=2.38,"CUMPLE","NO CUMPLE"),"NO CUMPLE")) -> CUMPLE | H98: =IF((D98<$D$108), " No cumple", "Cumple") -> Cumple
B99: 91 | C99: =VLOOKUP(B99,'INFO. PROP'!$A$9:$D$105,2,FALSE) -> DAM SOLUCIONES E INGENIERIA SAS | D99: 800053000 | E99: 2.38 | F99: =IF(OR(D99="",E99=""),"NO CUMPLE",IF(D99<=800053615,IF(E99<=2.38,"CUMPLE","NO CUMPLE"),"NO CUMPLE")) -> CUMPLE | H99: =IF((D99<$D$108), " No cumple", "Cumple") -> Cumple
B100: 92 | C100: =VLOOKUP(B100,'INFO. PROP'!$A$9:$D$105,2,FALSE) -> DPC INGENIEROS SAS | D100: 800053541 | E100: 2.38 | F100: =IF(OR(D100="",E100=""),"NO CUMPLE",IF(D100<=800053615,IF(E100<=2.38,"CUMPLE","NO CUMPLE"),"NO CUMPLE")) -> CUMPLE | H100: =IF((D100<$D$108), " No cumple", "Cumple") -> Cumple
B101: 93 | C101: =VLOOKUP(B101,'INFO. PROP'!$A$9:$D$105,2,FALSE) -> CONSORCIO INTERBOSA | D101: 800053615 | E101: 2.38 | F101: =IF(OR(D101="",E101=""),"NO CUMPLE",IF(D101<=800053615,IF(E101<=2.38,"CUMPLE","NO CUMPLE"),"NO CUMPLE")) -> CUMPLE | H101: =IF((D101<$D$108), " No cumple", "Cumple") -> Cumple
...

Sheet PUNTUABLES
A1: FONDO DE DESARROLLO LOCAL DE BOSA
A2: FDLBOSACM-004-2022(71937)
A3: OBJETO: REALIZAR LA INTERVENTORÍA TÉCNICA, ADMINISTRATIVA, FINANCIERA, JURÍDICA, SOCIAL, AMBIENTAL Y SST AL CONTRATO DE OBRA PÚBLICA QUE TENDRÁ POR OBJETO CONTRAC-TUAL EJECUTAR POR EL SISTEMA DE PRECIOS UNITARIOS FIJOS SIN FOR-MULA DE REAJUSTE Y A MONTO AGOTABLE LAS ACTIVIDADES NECESARIAS PARA LA EJECUCIÓN DE LAS OBRAS DE CONSTRUCCIÓN DE MALLA VIAL Y ESPACIO PUBLICO ASOCIADO DE LA LOCALIDAD DE BOSA, DE ACUERDO CON LA DESCRIPCIÓN, ESPECIFICACIONES, ESTUDIOS, DISEÑOS Y DEMÁS CONDICIONES ESTABLECIDAS EN E ANEXO TECNICO
A4: REQUISITOS PUNTUABLES
C5: FORMATO 9 – Equipo de trabajo (personal clave evaluable) | E5: Formato 7 - PUNTAJE A LA INDUSTRIA NACIONAL | G5: FORMATO 6 - DISCAPACIDAD | K5: PUNTAJE TOTAL POR CALIDAD | L5: OBSERVACIONES
A6: No. | B6: NOMBRE DEL PROPONENTE | C6: ACREDITA FORMATO Y CUMPLE | D6: PUNTAJE (puntos 10) | E6: ACREDITA APOYO A LA INDUSTRIA NACIONAL | F6: PUNTAJE (20 PUNTOS) | G6: APORTA FORMATO DISCAPACIDAD | H6: NOMBRE DE LA EMPRESA QUE SOPORTA LA DISCAPACIDAD | I6: CUMPLE | J6: PUNTAJE
C7: SI/ NO | E7: SI/NO | G7: SI / NO | I7: SI / NO | K7: MAX: 31 PTS
A8: 1 | B8: =VLOOKUP(A8,'INFO. PROP'!$A$9:$D$105,2,FALSE) -> SITELSA SAS | C8: SI | D8: =+IF(C8="SI",10,0) -> 10 | E8: SI | F8: =IF(E8="si",20,0) -> 20 | G8: SI | H8: SITELSA | I8: SI | J8: =IF(I8="si",1,0) -> 1 | K8: =+J8+F8+D8 -> 31
A9: 2 | B9: =VLOOKUP(A9,'INFO. PROP'!$A$9:$D$105,2,FALSE) -> PROES INGENIERIA SAS | C9: SI | D9: =+IF(C9="SI",10,0) -> 10 | E9: SI | F9: =IF(E9="si",20,0) -> 20 | G9: NO | I9: NO | J9: =IF(I9="si",1,0) -> 0 | K9: =+J9+F9+D9 -> 30 | L9: No allega formato 6 vinculacion discapacidad De igual manera el pliego de condiciones estable: "(...)Todos aquellos requisitos de la oferta que afecten la asignación de puntaje, incluyendo los necesarios para acreditar requisitos de desempate, no son subsanables, por lo que los mismos deben ser aportados por los proponentes desde la presentación de la oferta."
A10: 3 | B10: =VLOOKUP(A10,'INFO. PROP'!$A$9:$D$105,2,FALSE) -> CB INGENIEROS SAS | C10: SI | D10: =+IF(C10="SI",10,0) -> 10 | E10: SI | F10: =IF(E10="si",20,0) -> 20 | G10: SI | H10: CB INGENIEROS SAS | I10: NO | J10: =IF(I10="si",1,0) -> 0 | K10: =+J10+F10+D10 -> 30 | L10: No allega formato del ministerio de trabajo De igual manera el pliego de condiciones estable: "(...)Todos aquellos requisitos de la oferta que afecten la asignación de puntaje, incluyendo los necesarios para acreditar requisitos de desempate, no son subsanables, por lo que los mismos deben ser aportados por los proponentes desde la presentación de la oferta."
A11: 4 | B11: =VLOOKUP(A11,'INFO. PROP'!$A$9:$D$105,2,FALSE) -> JASEN CONSULTORES S.A.S. | C11: SI | D11: =+IF(C11="SI",10,0) -> 10 | E11: SI | F11: =IF(E11="si",20,0) -> 20 | G11: SI | H11: JASEN CONSULTORES S.A.S. | I11: SI | J11: =IF(I11="si",1,0) -> 1 | K11: =+J11+F11+D11 -> 31
A12: 5 | B12: =VLOOKUP(A12,'INFO. PROP'!$A$9:$D$105,2,FALSE) -> BOSA SIGLO XXI | C12: SI | D12: =+IF(C12="SI",10,0) -> 10 | E12: SI | F12: =IF(E12="si",20,0) -> 20 | G12: SI | H12: INGECO INGENIERIA DE CONSTRUCCIONES S.A.S | I12: SI | J12: =IF(I12="si",1,0) -> 1 | K12: =+J12+F12+D12 -> 31
A13: 6 | B13: =VLOOKUP(A13,'INFO. PROP'!$A$9:$D$105,2,FALSE) -> CONSORCIO ODESSA | C13: SI | D13: =+IF(C13="SI",10,0) -> 10 | E13: SI | F13: =IF(E13="si",20,0) -> 20 | G13: SI | H13: CGR SAS | I13: SI | J13: =IF(I13="si",1,0) -> 1 | K13: =+J13+F13+D13 -> 31
A14: 7 | B14: =VLOOKUP(A14,'INFO. PROP'!$A$9:$D$105,2,FALSE) -> CONSORCIO GMC | C14: SI | D14: =+IF(C14="SI",10,0) -> 10 | E14: SI | F14: =IF(E14="si",20,0) -> 20 | G14: SI | H14: GMC SAS | I14: SI | J14: =IF(I14="si",1,0) -> 1 | K14: =+J14+F14+D14 -> 31
A15: 8 | B15: =VLOOKUP(A15,'INFO. PROP'!$A$9:$D$105,2,FALSE) -> CONSULTORES INTERVENTORES COLOMBIANOS S.A.S. | C15: SI | D15: =+IF(C15="SI",10,0) -> 10 | E15: SI | F15: =IF(E15="si",20,0) -> 20 | G15: SI | H15: CONSULTORES INTERVENTORES COLOMBIANOS SAS | I15: SI | J15: =IF(I15="si",1,0) -> 1 | K15: =+J15+F15+D15 -> 31
A16: 9 | B16: =VLOOKUP(A16,'INFO. PROP'!$A$9:$D$105,2,FALSE) -> CONS GAB BOGOTA | C16: SI | D16: =+IF(C16="SI",10,0) -> 10 | E16: SI | F16: =IF(E16="si",20,0) -> 20 | G16: SI | H16: GERMAN BALLESTAS BERDEJO | I16: SI | J16: =IF(I16="si",1,0) -> 1 | K16: =+J16+F16+D16 -> 31
A17: 10 | B17: =VLOOKUP(A17,'INFO. PROP'!$A$9:$D$105,2,FALSE) -> CONSORCIO MT 2022 BOSA | C17: SI | D17: =+IF(C17="SI",10,0) -> 10 | E17: SI | F17: =IF(E17="si",20,0) -> 20 | G17: SI | H17: INGENIERIA MASTER S.A.S. | I17: SI | J17: =IF(I17="si",1,0) -> 1 | K17: =+J17+F17+D17 -> 31
A18: 11 | B18: =VLOOKUP(A18,'INFO. PROP'!$A$9:$D$105,2,FALSE) -> VELNEC S.A. | C18: SI | D18: =+IF(C18="SI",10,0) -> 10 | E18: SI | F18: =IF(E18="si",20,0) -> 20 | G18: SI | H18: VELNEC SAS | I18: SI | J18: =IF(I18="si",1,0) -> 1 | K18: =+J18+F18+D18 -> 31
A19: 12 | B19: =VLOOKUP(A19,'INFO. PROP'!$A$9:$D$105,2,FALSE) -> CONSORCIO INTERVIAS CD | C19: SI | D19: =+IF(C19="SI",10,0) -> 10 | E19: SI | F19: =IF(E19="si",20,0) -> 20 | G19: SI | H19: COMPAÑIA DE PROYECTOS TECNICOS CPT S A | I19: SI | J19: =IF(I19="si",1,0) -> 1 | K19: =+J19+F19+D19 -> 31
A20: 13 | B20: =VLOOKUP(A20,'INFO. PROP'!$A$9:$D$105,2,FALSE) -> CONSORCIO GBM VIAS | C20: SI | D20: =+IF(C20="SI",10,0) -> 10 | E20: SI | F20: =IF(E20="si",20,0) -> 20 | G20: SI | H20: B & C S A | I20: SI | J20: =IF(I20="si",1,0) -> 1 | K20: =+J20+F20+D20 -> 31
A21: 14 | B21: =VLOOKUP(A21,'INFO. PROP'!$A$9:$D$105,2,FALSE) -> CONSORCIO JGL | C21: SI | D21: =+IF(C21="SI",10,0) -> 10 | E21: SI | F21: =IF(E21="si",20,0) -> 20 | G21: SI | H21: JMELO INGENIERIA DE PROYECTOS SAS | I21: SI | J21: =IF(I21="si",1,0) -> 1 | K21: =+J21+F21+D21 -> 31
A22: 15 | B22: =VLOOKUP(A22,'INFO. PROP'!$A$9:$D$105,2,FALSE) -> P.I.V. Ingeniería S.A.S | C22: SI | D22: =+IF(C22="SI",10,0) -> 10 | E22: SI | F22: =IF(E22="si",20,0) -> 20 | G22: SI | H22: PROYECTOS CONSTRUCCIONES CIVILES Y VIALES S.A.S | I22: SI | J22: =IF(I22="si",1,0) -> 1 | K22: =+J22+F22+D22 -> 31
... A25: 18 | B25: =VLOOKUP(A25,'INFO. PROP'!$A$9:$D$105,2,FALSE) -> INGENIEROS CIVILES ESPECIALISTAS S.A.S. | C25: SI | D25: =+IF(C25="SI",10,0) -> 10 | E25: SI | F25: =IF(E25="si",20,0) -> 20 | G25: SI | H25: INGENIEROS CIVILES ESPECIALISTAS S.A.S | I25: SI | J25: =IF(I25="si",1,0) -> 1 | K25: =+J25+F25+D25 -> 31
A26: 19 | B26: =VLOOKUP(A26,'INFO. PROP'!$A$9:$D$105,2,FALSE) -> CONSORCIO SG | C26: SI | D26: =+IF(C26="SI",10,0) -> 10 | E26: SI | F26: =IF(E26="si",20,0) -> 20 | G26: SI | H26: ='INFO. PROP'!E28 -> SESAC | I26: SI | J26: =IF(I26="si",1,0) -> 1 | K26: =+J26+F26+D26 -> 31
A27: 20 | B27: =VLOOKUP(A27,'INFO. PROP'!$A$9:$D$105,2,FALSE) -> Estructurador Colombia SAS | C27: SI | D27: =+IF(C27="SI",10,0) -> 10 | E27: SI | F27: =IF(E27="si",20,0) -> 20 | G27: SI | H27: =B27 -> Estructurador Colombia SAS | I27: SI | J27: =IF(I27="si",1,0) -> 1 | K27: =+J27+F27+D27 -> 31
A28: 21 | B28: =VLOOKUP(A28,'INFO. PROP'!$A$9:$D$105,2,FALSE) -> SALGADO, MELENDEZ Y ASOCIADOS INGENIEROS CONSULTORES S.A.S | C28: SI | D28: =+IF(C28="SI",10,0) -> 10 | E28: SI | F28: =IF(E28="si",20,0) -> 20 | G28: SI | I28: NO | J28: =IF(I28="si",1,0) -> 0 | K28: =+J28+F28+D28 -> 30 | L28: No allega formato No. 6, ni la certificación del ministerio de trabajo De igual manera el pliego de condiciones estable: "(...)Todos aquellos requisitos de la oferta que afecten la asignación de puntaje, incluyendo los necesarios para acreditar requisitos de desempate, no son subsanables, por lo que los mismos deben ser aportados por los proponentes desde la presentación de la oferta."
A29: 22 | B29: =VLOOKUP(A29,'INFO. PROP'!$A$9:$D$105,2,FALSE) -> INGEOCILCON S.A.S. | C29: SI | D29: =+IF(C29="SI",10,0) -> 10 | E29: SI | F29: =IF(E29="si",20,0) -> 20 | G29: SI | H29: =B29 -> INGEOCILCON S.A.S. | I29: NO | J29: =IF(I29="si",1,0) -> 0 | K29: =+J29+F29+D29 -> 30 | L29: EL CERTIFICADO APORTADO DE DISCAPACIDAD TIENE FECHA: 14-SEPTIEMBRE-2021, POR TANTO NO SE ASIGNA PUNTAJE POR DISCAPACIDAD, TODA VEZ QUE LA VIGENCIA DE ESTE NO PUEDE SER SUPERIOR A 6 MESES, lo anterior de conformidad al pliego de condiciones numeral 4.4 VINCULACION DE PERSONAS CON DISCAPACIDAD "(...) ii) acreditar el número mínimo de personas con discapacidad en su planta de personal, de conformidad con lo señalado en el certificado expedido por el Ministerio de Trabajo, el cual deberá estar vigente a la fecha de cierre del proceso de selección.
A30: 23 | B30: =VLOOKUP(A30,'INFO. PROP'!$A$9:$D$105,2,FALSE) -> GNG SERVICIOS DE INGENIERIA S.A.S. | C30: SI | D30: =+IF(C30="SI",10,0) -> 10 | E30: SI | F30: =IF(E30="si",20,0) -> 20 | G30: SI | H30: =B30 -> GNG SERVICIOS DE INGENIERIA S.A.S. | I30: SI | J30: =IF(I30="si",1,0) -> 1 | K30: =+J30+F30+D30 -> 31
A31: 24 | B31: =VLOOKUP(A31,'INFO. PROP'!$A$9:$D$105,2,FALSE) -> Soluciones para la Ingeniería S.A.S. | C31: SI | D31: =+IF(C31="SI",10,0) -> 10 | E31: SI | F31: =IF(E31="si",20,0) -> 20 | G31: SI | H31: =B31 -> Soluciones para la Ingeniería S.A.S. | I31: SI | J31: =IF(I31="si",1,0) -> 1 | K31: =+J31+F31+D31 -> 31
A32: 25 | B32: =VLOOKUP(A32,'INFO. PROP'!$A$9:$D$105,2,FALSE) -> CONSORCIO VIAL BOGOTA | C32: SI | D32: =+IF(C32="SI",10,0) -> 10 | E32: SI | F32: =IF(E32="si",20,0) -> 20 | G32: SI | H32: ='INFO. PROP'!E34 -> EMPROCIV SAS | I32: SI | J32: =IF(I32="si",1,0) -> 1 | K32: =+J32+F32+D32 -> 31
A33: 26 | B33: =VLOOKUP(A33,'INFO. PROP'!$A$9:$D$105,2,FALSE) -> GEOTECNIA Y CIMIENTOS INGEOCIM S.A.S. | C33: SI | D33: =+IF(C33="SI",10,0) -> 10 | E33: SI | F33: =IF(E33="si",20,0) -> 20 | G33: SI | H33: =B33 -> GEOTECNIA Y CIMIENTOS INGEOCIM S.A.S. | I33: SI | J33: =IF(I33="si",1,0) -> 1 | K33: =+J33+F33+D33 -> 31
A34: 27 | B34: =VLOOKUP(A34,'INFO. PROP'!$A$9:$D$105,2,FALSE) -> COPEBA S.A.S. | C34: SI | D34: =+IF(C34="SI",10,0) -> 10 | E34: SI | F34: =IF(E34="si",20,0) -> 20 | G34: SI | H34: =B34 -> COPEBA S.A.S. | I34: SI | J34: =IF(I34="si",1,0) -> 1 | K34: =+J34+F34+D34 -> 31
A35: 28 | B35: =VLOOKUP(A35,'INFO. PROP'!$A$9:$D$105,2,FALSE) -> CONSORCIO SAN JUAN BOSA 4 | C35: SI | D35: =+IF(C35="SI",10,0) -> 10 | E35: NO | F35: =IF(E35="si",20,0) -> 0 | G35: SI | H35: SHM INGENIERIA SAS | I35: SI | J35: =IF(I35="si",1,0) -> 1 | K35: =+J35+F35+D35 -> 11 | L35: El proponente aporta un formato de APOYO A LA INDUSTRIA NACIONAL, donde menciona lo siguinete: “Para el cumplimiento de esta obligación, tendrá que verificarse la nacionalidad del personal, para lo que deberá presentarse alguno de los documentos previstos en el numeral 4.3.1.1 del documento base de las personas con las cuales se cumple el porcentaje de personal no inferior al 40%.”, teniendo en cuenta que dicho porcentaje debe ser mayor al 90 % segun lo indica el pliego de condiciones y el EstudioPrevio del proceso en cuestion, Por tanto no se le asigna puntaje por de APOYO A LA INDUSTRIA NACIONAL
A36: 29 | B36: =VLOOKUP(A36,'INFO. PROP'!$A$9:$D$105,2,FALSE) -> CODIPRO INGENIERÍA Y ARQUITECTURA LTDA. | C36: SI | D36: =+IF(C36="SI",10,0) -> 10 | E36: SI | F36: =IF(E36="si",20,0) -> 20 | G36: SI | H36: =B36 -> CODIPRO INGENIERÍA Y ARQUITECTURA LTDA. | I36: SI | J36: =IF(I36="si",1,0) -> 1 | K36: =+J36+F36+D36 -> 31
A37: 30 | B37: =VLOOKUP(A37,'INFO. PROP'!$A$9:$D$105,2,FALSE) -> CONSULTORES DONOVAN SAS | C37: SI | D37: =+IF(C37="SI",10,0) -> 10 | E37: SI | F37: =IF(E37="si",20,0) -> 20 | G37: SI | H37: =B37 -> CONSULTORES DONOVAN SAS | I37: SI | J37: =IF(I37="si",1,0) -> 1 | K37: =+J37+F37+D37 -> 31
A38: 31 | B38: =VLOOKUP(A38,'INFO. PROP'!$A$9:$D$105,2,FALSE) -> MAB INGENIERIA DE VALOR S.A. | C38: SI | D38: =+IF(C38="SI",10,0) -> 10 | E38: SI | F38: =IF(E38="si",20,0) -> 20 | G38: SI | H38: =B38 -> MAB INGENIERIA DE VALOR S.A. | I38: SI | J38: =IF(I38="si",1,0) -> 1 | K38: =+J38+F38+D38 -> 31
A39: 32 | B39: =VLOOKUP(A39,'INFO. PROP'!$A$9:$D$105,2,FALSE) -> CONSORCIO GIS BOSA | C39: SI | D39: =+IF(C39="SI",10,0) -> 10 | E39: SI | F39: =IF(E39="si",20,0) -> 20 | G39: SI | H39: ='INFO. PROP'!E41 -> GIS-EAP S.A.S. | I39: SI | J39: =IF(I39="si",1,0) -> 1 | K39: =+J39+F39+D39 -> 31
A40: 33 | B40: =VLOOKUP(A40,'INFO. PROP'!$A$9:$D$105,2,FALSE) -> RAFAEL JAVIER GUISA RUEDA | C40: SI | D40: =+IF(C40="SI",10,0) -> 10 | E40: SI | F40: =IF(E40="si",20,0) -> 20 | G40: SI | H40: =B40 -> RAFAEL JAVIER GUISA RUEDA | I40: SI | J40: =IF(I40="si",1,0) -> 1 | K40: =+J40+F40+D40 -> 31
