Workbook
Name CANT: #REF!
Name CANT: #REF!
Name CANT.: #REF!
Name CANT.: #REF!
Name menor: '[1]ECONOMICA MV'!#REF!
Name menor: '[1]ECONOMICA MV'!#REF!
Name minor: '[1]ECONOMICA MV'!$J$12:$J$21
Name NAME: #REF!
Name NAME: #REF!
Name name.: #REF!
Name name.: #REF!
Name PRESUPUESTO: '[1]ECONOMICA MED'!$J$7:$J$17
Name RAZON: '[1]ECONOMICA MED'!$B$7:$B$17

Sheet E. Juridica
B1: Rama Judicial del Poder Público
B2: Consejo Superior de la Judicatura
B3: Dirección Ejecutiva Seccional de Administración Judicial
B4: Cartagena - Bolívar
B8: EVALUACIÓN JURÍDICA SELECCIÓN ABREVIADA 01 DE 2022
A9: No. | B9: DOCUMENTOS DE REVISIÓN | C9: FABIO GARZON DAZA | D9: REINGENIERIA INTEGRAL SAS | E9: CONSORCIO SC INTEROBRAS 2021 | G9: ARQUITECTURA INGENIERIA Y DESARROLLO S.A.S. – ARQUIND S.A.S. | H9: KP PROJECT INGENIERIA SAS | I9: MORELSA CONSTRUCTORES LTDA
E10: INGENIERIA DE OBRAS Y SERVICIOS "SERVIOBRAS LTDA" (NIT 890.405.979-3) | F10: CONSTRUOBRAS C&M S.A.S (NIT 900.506.471-3),
A11: 1 | B11: Carta de presentación | C11: Suscrita por: FABIO GARZON DAZA C.C. No.19.336.660 expedida en Bogotá. Cumple | D11: Suscrita por: CRISTIAN LUIS BARON TORRES, en calidad de Representante Legal. C.C. No. 7.938.406 Cumple | E11: Suscrita por: MARIO E. HERRERA LADEUTT, identificado con la C.C. No. 73.083.848 de Cartagena. Cumple | G11: Suscrita por: YAMILE RINCON BURGOS, en calidad de Representante Legal. C.C. No 52105716 Cumple. | H11: Suscrita por: HERVER CAMACHO PLATA, en calidad de Representante Legal. C.C. No. 80.000.067 . Cumple | I11: Suscrita por: JIMMY MORELOS OROZCO, en calidad de Representante Legal. C.C. No. 73.078. 346 . Cumple
A12: 2 | B12: Nit del proponente | C12: N/A | D12: Nit.: 901358559-0 | E12: Nit.: 890.405.979-3 | F12: Nit.: 900.506.471-3 | G12: Nit.: 830077126-1 | H12: Nit.: 901.258.448-2 | I12: Nit.: 806000473-4
A13: 4 | B13: Documento de conformacion del Consorcio o la Union Temporal | C13: N/A | D13: N/A | E13: Cumple. | G13: N/A | H13: N/A | I13: N/A
A14: 5 | B14: Garantía de seriedad de la propuesta | C14: Expedido por: Seguros del EstadoS.A. Póliza No. 25-44-101169333 Valor asegurado: $18,000,000 Fecha de vigencia: Desde el 17/06/2022 hasta el 30/09/2022. Cumple. | D14: Expedido por: Seguros del EstadoS.A. Póliza No. 75-44-101122092 Valor asegurado: $18,000,000 Fecha de vigencia: Desde el 17/06/2022 hasta el 17/10/2022. Cumple. | E14: Expedido por: SEGUROS DEL ESTADO S.A. Póliza No. 75-44-101122076 Valor asegurado: $ 18.000.000 Fecha de vigencia: Desde el 17/06/2022 hasta el 17/06/2022. . Cumple. | G14: Expedido por: SEGUROS DEL ESTADO S.A. Póliza No. 33-44-101227400 Valor asegurado: $18,000,000 Fecha de vigencia: Desde el 17/06/2022 hasta el 27/09/2022. Cumple. | H14: Expedido por MUNDIAL DE SEGUROS Póliza No. 100211075 Valor asegurado: $ 18,000,000 Fecha de vigencia: Desde el 17/06/2022 hasta el 20/10/2022. Cumple. | I14: Expedido por: SEGUROS DEL ESTADO S.A. Póliza No. 75-44-101122037 Valor asegurado: $ 18,000,000 Fecha de vigencia: Desde el 17/06/2022 hasta el 17/10/2022. Cumple.
A15: 6 | B15: Acta de Autorizacion del Organo Societario | C15: N/A | D15: N/A | E15: N/A | G15: Cumple. | H15: N/A | I15: N/A
A16: 7 | B16: Certificado de Existencia y Representación Legal | C16: N/A | D16: Cumple. | E16: Cumple | F16: Cumple. | G16: Cumple. | H16: Cumple. | I16: Cumple.
A17: 8 | B17: Certificado de inscripcion en el Registro Unico de Proponentes - RUP | C17: Expedido el 17 de junio de 2022. Cumple. | D17: Expedido el 17 de junio de 2022. Cumple. | E17: Expedido el 15 de junio de 2022 Cumple. | F17: Expedido el 03 de junio de 2022 Cumple. | G17: Expedido el 17 de junio de 2022 Cumple. | H17: Expedido el 13 de junio de 2022 Cumple. | I17: Expedido el 10 de mayo de 2022. No Cumple, el certificado es mayor a treinta (30) días.
A18: 9 | B18: Certificaciones de cumplimiento (Aporte parafiscales y Seguridad Social) | C18: Cumple. | D18: Cumple. | E18: Cumple. | F18: Cumple. | G18: Cumple. | H18: Cumple. | I18: Cumple.
A19: 10 | B19: Compromiso Anticorrupción | C19: Cumple. | D19: Cumple. | E19: Cumple. | G19: Cumple. | H19: Cumple. | I19: Cumple.
A20: 11 | B20: Certificado de no estar incurso en las causales de inhabilidad e incompatibilidad | C20: Cumple. | D20: Subsanado | E20: Cumple. | F20: Cumple. | G20: Subsanado | H20: Subsanado | I20: Cumple.
A21: 12 | B21: Fotocopia de identidad del Representante Legal | C21: Cumple. | D21: Cumple. | E21: Cumple. | F21: Cumple. | G21: Cumple. | H21: Cumple. | I21: Cumple.
A22: 13 | B22: Certificado de Antecedentes Disciplinarios, Fiscal y Judicial. | C22: Cumple. | D22: Cumple. | E22: Cumple. | F22: Cumple. | G22: Cumple. | H22: Cumple. | I22: Cumple.
A23: 14 | B23: Validez de la Oferta | C23: Cumple. | D23: Subsanado | E23: Subsanado | G23: Subsanado | H23: Subsanado | I23: Subsanado
A24: Conclusión | C24: CUMPLE JURÍDICAMENTE | D24: CUMPLE JURÍDICAMENTE | E24: CUMPLE JURIDÍCAMENTE | G24: CUMPLE JURÍDICAMENTE | H24: CUMPLE JURÍDICAMENTE | I24: CUMPLE JURÍDICAMENTE
B26: IRIS MARIA CORTECERO NÚÑEZ
B27: Coordinadora Area Juridica

Sheet E. Tecnica
A1: Consejo Superior de la Judicatura
A2: Dirección Ejecutiva Seccional de Administración Judicial
A3: Cartagena - Bolívar
A5: SELECCIÓN ABREVIADA DE MENOR CUANTÍA No. SAMC 01-2022
A6: Objeto: “Contratar en nombre de la Nación - Consejo Superior de la Judicatura - Dirección Seccional de Administración Judicial de Cartagena, el servicio de mantenimiento integral preventivo y correctivo en los muebles, equipos e inmuebles de las diferentes dependencias y despachos judiciales de Cartagena, municipios de Bolívar y Archipiélago de San Andrés y Providencia.
A8: Presupuesto oficial estimado: | C8: 180 SMMLV
A10: Oferente 1 | B10: FABIO GARZON DAZA | H10: =B10 -> FABIO GARZON DAZA | J10: =B10 -> FABIO GARZON DAZA | L10: =B10 -> FABIO GARZON DAZA | N10: =L10 -> FABIO GARZON DAZA | P10: =N10 -> FABIO GARZON DAZA
A11: Contrato | B11: Clasificación UNSPSC | C11: Valor del contrato expresado en SMMLV | D11: Consecutivo RUP | E11: CUMPLE / NO CUMPLE | F11: Cumple | H11: COMPROMISO DE EJECUCION: El oferente deberá presentar manifestación expresa firmada por el representante legal o persona natural, en el cual exprese que dispone de la capacidad operativa para atender el objeto contractual, así mismo que se compromete a cumplir con las diferentes condiciones exigidas por la entidad y certificar que se obliga a brindar garantía de la prestación de los servicios suministrados | J11: SEGURIDAD Y LA SALUD EN EL TRABAJO. El proponente deberá aportar de conformidad con lo previsto en el Decreto 1072 de 2015 y el Acuerdo No. PSAA16-10560 del 11 de Agosto de 2016 del Consejo Superior de la Judicatura, una certificación suscrita por la A.R.L. o por el representante legal, en la que conste que el señor cuenta con un Sistema de Gestión de la Seguridad y la Salud en el Trabajo (SG-SST) y/o que lo está implementando. | L11: CUMPLIMIENTO DE CONDICIONES TÉCNICAS: Anexo No 8 del Pliego de condiciones | N11: CARTA DE COMPROMISO DE MANEJO Y GESTIÓN DE RESIDUOS PELIGROSOS Y SUSTANCIAS QUÍMICAS PELIGROSAS: El contratista deberá presentar Carta de Compromiso en la que deberá garantizar la gestión ambientalmente adecuada de las sustancias refrigerantes, sus envases y residuos, teniendo en cuenta la normatividad nacional vigente Decreto 1076 de 2015. | P11: CARTA DE COMPROMISO DE BUENAS PRÁCTICAS DE AHORRO: El contratista deberá presentar Carta de Compromiso de realizar el máximo esfuerzo para ahorrar energía y agua, y reducir los gastos de dichos servicios mediante la puesta en práctica de medidas eficaces
A12: 1 | B12: 72151500 / 72151401 | C12: 99.06 | D12: 79 | E12: CUMPLE | F12: CUMPLE
A13: 2 | B13: 72101500 / 72152400 | C13: 89.07 | D13: 80 | E13: CUMPLE
A14: 3 | B14: 72151400 / 72152500 | C14: 65.88 | D14: 73 | E14: CUMPLE
A15: VALOR TOTAL ACREDITADO EN SMMLV | C15: =SUM(C12:C14) -> 254.01 | H15: CUMPLE | J15: CUMPLE | L15: CUMPLE | N15: CUMPLE | P15: CUMPLE
A17: Oferente 2 | B17: KP PROJECT INGENIERIA SAS | H17: =B17 -> KP PROJECT INGENIERIA SAS | J17: =B17 -> KP PROJECT INGENIERIA SAS | L17: =B17 -> KP PROJECT INGENIERIA SAS | N17: =L17 -> KP PROJECT INGENIERIA SAS | P17: =N17 -> KP PROJECT INGENIERIA SAS
A18: Contrato | B18: Clasificación UNSPSC | C18: Valor del contrato expresado en SMMLV | D18: Consecutivo RUP | E18: CUMPLE / NO CUMPLE | F18: Cumple | H18: COMPROMISO DE EJECUCION: El oferente deberá presentar manifestación expresa firmada por el representante legal o persona natural, en el cual exprese que dispone de la capacidad operativa para atender el objeto contractual, así mismo que se compromete a cumplir con las diferentes condiciones exigidas por la entidad y certificar que se obliga a brindar garantía de la prestación de los servicios suministrados | J18: SEGURIDAD Y LA SALUD EN EL TRABAJO. El proponente deberá aportar de conformidad con lo previsto en el Decreto 1072 de 2015 y el Acuerdo No. PSAA16-10560 del 11 de Agosto de 2016 del Consejo Superior de la Judicatura, una certificación suscrita por la A.R.L. o por el representante legal, en la que conste que el señor cuenta con un Sistema de Gestión de la Seguridad y la Salud en el Trabajo (SG-SST) y/o que lo está implementando. | L18: CUMPLIMIENTO DE CONDICIONES TÉCNICAS: Anexo No 8 del Pliego de condiciones | N18: CARTA DE COMPROMISO DE MANEJO Y GESTIÓN DE RESIDUOS PELIGROSOS Y SUSTANCIAS QUÍMICAS PELIGROSAS: El contratista deberá presentar Carta de Compromiso en la que deberá garantizar la gestión ambientalmente adecuada de las sustancias refrigerantes, sus envases y residuos, teniendo en cuenta la normatividad nacional vigente Decreto 1076 de 2015. | P18: CARTA DE COMPROMISO DE BUENAS PRÁCTICAS DE AHORRO: El contratista deberá presentar Carta de Compromiso de realizar el máximo esfuerzo para ahorrar energía y agua, y reducir los gastos de dichos servicios mediante la puesta en práctica de medidas eficaces
A19: 1 | B19: 72151400 / 72152300 | C19: 493.13 | D19: 7 | E19: CUMPLE | F19: CUMPLE
A20: 2
A21: 3
A22: VALOR TOTAL ACREDITADO EN SMMLV | C22: =SUM(C19:C21) -> 493.13 | H22: CUMPLE | J22: CUMPLE | L22: CUMPLE | N22: CUMPLE | P22: CUMPLE
A24: Oferente 3 | B24: CONSORCIO SC INTEROBRAS 2021 | H24: =B24 -> CONSORCIO SC INTEROBRAS 2021 | J24: =B24 -> CONSORCIO SC INTEROBRAS 2021 | L24: =B24 -> CONSORCIO SC INTEROBRAS 2021 | N24: =L24 -> CONSORCIO SC INTEROBRAS 2021 | P24: =N24 -> CONSORCIO SC INTEROBRAS 2021
A25: Contrato | B25: Clasificación UNSPSC | C25: Valor del contrato expresado en SMMLV | D25: Consecutivo RUP | E25: CUMPLE / NO CUMPLE | F25: Cumple | H25: COMPROMISO DE EJECUCION: El oferente deberá presentar manifestación expresa firmada por el representante legal o persona natural, en el cual exprese que dispone de la capacidad operativa para atender el objeto contractual, así mismo que se compromete a cumplir con las diferentes condiciones exigidas por la entidad y certificar que se obliga a brindar garantía de la prestación de los servicios suministrados | J25: SEGURIDAD Y LA SALUD EN EL TRABAJO. El proponente deberá aportar de conformidad con lo previsto en el Decreto 1072 de 2015 y el Acuerdo No. PSAA16-10560 del 11 de Agosto de 2016 del Consejo Superior de la Judicatura, una certificación suscrita por la A.R.L. o por el representante legal, en la que conste que el señor cuenta con un Sistema de Gestión de la Seguridad y la Salud en el Trabajo (SG-SST) y/o que lo está implementando. | L25: CUMPLIMIENTO DE CONDICIONES TÉCNICAS: Anexo No 8 del Pliego de condiciones | N25: CARTA DE COMPROMISO DE MANEJO Y GESTIÓN DE RESIDUOS PELIGROSOS Y SUSTANCIAS QUÍMICAS PELIGROSAS: El contratista deberá presentar Carta de Compromiso en la que deberá garantizar la gestión ambientalmente adecuada de las sustancias refrigerantes, sus envases y residuos, teniendo en cuenta la normatividad nacional vigente Decreto 1076 de 2015. | P25: CARTA DE COMPROMISO DE BUENAS PRÁCTICAS DE AHORRO: El contratista deberá presentar Carta de Compromiso de realizar el máximo esfuerzo para ahorrar energía y agua, y reducir los gastos de dichos servicios mediante la puesta en práctica de medidas eficaces
A26: 1 | B26: 72101500 / 72152400 | C26: 403.63 | D26: 1 | E26: CUMPLE | F26: CUMPLE
A27: 2 | B27: 72151900 / 72151500 | C27: 532.03 | D27: 4 | E27: CUMPLE
A28: 3
A29: VALOR TOTAL ACREDITADO EN SMMLV | C29: =SUM(C26:C28) -> 935.66 | H29: CUMPLE | J29: CUMPLE | L29: CUMPLE | N29: CUMPLE | P29: CUMPLE
A31: Oferente 4 | B31: ARQUITECTURA INGENIERIA Y DESARROLLO SAS | H31: =B31 -> ARQUITECTURA INGENIERIA Y DESARROLLO SAS | J31: =B31 -> ARQUITECTURA INGENIERIA Y DESARROLLO SAS | L31: =B31 -> ARQUITECTURA INGENIERIA Y DESARROLLO SAS | N31: =L31 -> ARQUITECTURA INGENIERIA Y DESARROLLO SAS | P31: =N31 -> ARQUITECTURA INGENIERIA Y DESARROLLO SAS
A32: Contrato | B32: Clasificación UNSPSC | C32: Valor del contrato expresado en SMMLV | D32: Consecutivo RUP | E32: CUMPLE / NO CUMPLE | F32: Cumple | H32: COMPROMISO DE EJECUCION: El oferente deberá presentar manifestación expresa firmada por el representante legal o persona natural, en el cual exprese que dispone de la capacidad operativa para atender el objeto contractual, así mismo que se compromete a cumplir con las diferentes condiciones exigidas por la entidad y certificar que se obliga a brindar garantía de la prestación de los servicios suministrados | J32: SEGURIDAD Y LA SALUD EN EL TRABAJO. El proponente deberá aportar de conformidad con lo previsto en el Decreto 1072 de 2015 y el Acuerdo No. PSAA16-10560 del 11 de Agosto de 2016 del Consejo Superior de la Judicatura, una certificación suscrita por la A.R.L. o por el representante legal, en la que conste que el señor cuenta con un Sistema de Gestión de la Seguridad y la Salud en el Trabajo (SG-SST) y/o que lo está implementando. | L32: CUMPLIMIENTO DE CONDICIONES TÉCNICAS: Anexo No 8 del Pliego de condiciones | N32: CARTA DE COMPROMISO DE MANEJO Y GESTIÓN DE RESIDUOS PELIGROSOS Y SUSTANCIAS QUÍMICAS PELIGROSAS: El contratista deberá presentar Carta de Compromiso en la que deberá garantizar la gestión ambientalmente adecuada de las sustancias refrigerantes, sus envases y residuos, teniendo en cuenta la normatividad nacional vigente Decreto 1076 de 2015. | P32: CARTA DE COMPROMISO DE BUENAS PRÁCTICAS DE AHORRO: El contratista deberá presentar Carta de Compromiso de realizar el máximo esfuerzo para ahorrar energía y agua, y reducir los gastos de dichos servicios mediante la puesta en práctica de medidas eficaces
A33: 1 | B33: 72101500 / 72151500 | C33: 2120.53 | D33: 3 | E33: CUMPLE | F33: CUMPLE
A34: 2 | B34: 72152500 | C34: 276.11 | D34: 29 | E34: CUMPLE
A35: 3
A36: VALOR TOTAL ACREDITADO EN SMMLV | C36: =SUM(C33:C35) -> 2396.64 | H36: CUMPLE | J36: CUMPLE | L36: CUMPLE | N36: CUMPLE | P36: CUMPLE
A38: Oferente 5 | B38: MORELSA CONSTRUCTORES LTDA. | H38: =B38 -> MORELSA CONSTRUCTORES LTDA. | J38: =B38 -> MORELSA CONSTRUCTORES LTDA. | L38: =B38 -> MORELSA CONSTRUCTORES LTDA. | N38: =L38 -> MORELSA CONSTRUCTORES LTDA. | P38: =N38 -> MORELSA CONSTRUCTORES LTDA.
A39: Contrato | B39: Clasificación UNSPSC | C39: Valor del contrato expresado en SMMLV | D39: Consecutivo RUP | E39: CUMPLE / NO CUMPLE | F39: Cumple | H39: COMPROMISO DE EJECUCION: El oferente deberá presentar manifestación expresa firmada por el representante legal o persona natural, en el cual exprese que dispone de la capacidad operativa para atender el objeto contractual, así mismo que se compromete a cumplir con las diferentes condiciones exigidas por la entidad y certificar que se obliga a brindar garantía de la prestación de los servicios suministrados | J39: SEGURIDAD Y LA SALUD EN EL TRABAJO. El proponente deberá aportar de conformidad con lo previsto en el Decreto 1072 de 2015 y el Acuerdo No. PSAA16-10560 del 11 de Agosto de 2016 del Consejo Superior de la Judicatura, una certificación suscrita por la A.R.L. o por el representante legal, en la que conste que el señor cuenta con un Sistema de Gestión de la Seguridad y la Salud en el Trabajo (SG-SST) y/o que lo está implementando. | L39: CUMPLIMIENTO DE CONDICIONES TÉCNICAS: Anexo No 8 del Pliego de condiciones | N39: CARTA DE COMPROMISO DE MANEJO Y GESTIÓN DE RESIDUOS PELIGROSOS Y SUSTANCIAS QUÍMICAS PELIGROSAS: El contratista deberá presentar Carta de Compromiso en la que deberá garantizar la gestión ambientalmente adecuada de las sustancias refrigerantes, sus envases y residuos, teniendo en cuenta la normatividad nacional vigente Decreto 1076 de 2015. | P39: CARTA DE COMPROMISO DE BUENAS PRÁCTICAS DE AHORRO: El contratista deberá presentar Carta de Compromiso de realizar el máximo esfuerzo para ahorrar energía y agua, y reducir los gastos de dichos servicios mediante la puesta en práctica de medidas eficaces
A40: 1 | B40: 72152500 / 72152400 | C40: 254.44 | D40: 7 | E40: CUMPLE | F40: CUMPLE
A41: 2 | B41: 72151500 / 72152400 | C41: 284.14 | D41: 2 | E41: CUMPLE
A42: 3
A43: VALOR TOTAL ACREDITADO EN SMMLV | C43: =SUM(C40:C42) -> 538.58 | H43: CUMPLE | J43: CUMPLE | L43: CUMPLE | N43: CUMPLE | P43: CUMPLE
A45: Oferente 6 | B45: REINGENIERIA INTEGRAL SAS | H45: =B45 -> REINGENIERIA INTEGRAL SAS | J45: =B45 -> REINGENIERIA INTEGRAL SAS | L45: =B45 -> REINGENIERIA INTEGRAL SAS | N45: =L45 -> REINGENIERIA INTEGRAL SAS | P45: =N45 -> REINGENIERIA INTEGRAL SAS
A46: Contrato | B46: Clasificación UNSPSC | C46: Valor del contrato expresado en SMMLV | D46: Consecutivo RUP | E46: CUMPLE / NO CUMPLE | F46: Cumple | H46: COMPROMISO DE EJECUCION: El oferente deberá presentar manifestación expresa firmada por el representante legal o persona natural, en el cual exprese que dispone de la capacidad operativa para atender el objeto contractual, así mismo que se compromete a cumplir con las diferentes condiciones exigidas por la entidad y certificar que se obliga a brindar garantía de la prestación de los servicios suministrados | J46: SEGURIDAD Y LA SALUD EN EL TRABAJO. El proponente deberá aportar de conformidad con lo previsto en el Decreto 1072 de 2015 y el Acuerdo No. PSAA16-10560 del 11 de Agosto de 2016 del Consejo Superior de la Judicatura, una certificación suscrita por la A.R.L. o por el representante legal, en la que conste que el señor cuenta con un Sistema de Gestión de la Seguridad y la Salud en el Trabajo (SG-SST) y/o que lo está implementando. | L46: CUMPLIMIENTO DE CONDICIONES TÉCNICAS: Anexo No 8 del Pliego de condiciones | N46: CARTA DE COMPROMISO DE MANEJO Y GESTIÓN DE RESIDUOS PELIGROSOS Y SUSTANCIAS QUÍMICAS PELIGROSAS: El contratista deberá presentar Carta de Compromiso en la que deberá garantizar la gestión ambientalmente adecuada de las sustancias refrigerantes, sus envases y residuos, teniendo en cuenta la normatividad nacional vigente Decreto 1076 de 2015. | P46: CARTA DE COMPROMISO DE BUENAS PRÁCTICAS DE AHORRO: El contratista deberá presentar Carta de Compromiso de realizar el máximo esfuerzo para ahorrar energía y agua, y reducir los gastos de dichos servicios mediante la puesta en práctica de medidas eficaces
A47: 1 | B47: 72101500 / 72151400 | C47: 1043.31 | D47: 1 | E47: CUMPLE | F47: CUMPLE
A48: 2
...

Sheet Tecnico Puntuable
B2: Consejo Superior de la Judicatura
B3: Dirección Seccional de Administración Judicial
B4: Cartagena - Bolívar
B6: Selección Abreviada de Menor Cuantía No. SAMC 03-2021
B7: OBJETO: “Contratar en nombre de la NACIÓN - CONSEJO SUPERIOR DE JUDICATURA - DIRECCIÓN EJECUTIVA SECCIONAL DE ADMINISTRACIÓN JUDICIAL DE CARTAGENA, las adecuaciones de cableado estructurado, de redes lógicas, para la sede de la rama judicial San Andrés Islas”. | X7: =360*3 -> 1080
B10: ITEM | C10: PROPONENTE / CRITERIO DE EVALUACION | D10: SUPERVISOR (100 PUNTOS ) | E10: APOYO A LA INDUSTRIA NACIONAL (100 PUNTOS ) | F10: EMPRENDIMIENTO Y EMPRESAS DE MUJERES (0,50 PUNTOS) | G10: PUNTAJE ADICIONAL MIPYME (0,50 PUNTOS) | H10: TOTAL PUNTAJE | I10: OBSERVACIONES
D11: PUNTAJE | E11: PUNTAJE | F11: PUNTAJE | G11: PUNTAJE
B12: 1 | C12: FABIO GARZON DAZA | D12: 100 | E12: 100 | F12: 0 | G12: 0.5 | H12: =SUM(D12:G12) -> 200.5 | I12: No aporto acreditacion de ser emprendimiento o empresa de mujer
B13: 2 | C13: KP PROJECT INGENIERIA SAS | D13: 100 | E13: 100 | F13: 0 | G13: 0.5 | H13: =SUM(D13:G13) -> 200.5 | I13: No aporto acreditacion de ser emprendimiento o empresa de mujer
B14: 3 | C14: CONSORCIO SC INTEROBRAS 2021 | D14: 100 | E14: 100 | F14: 0 | G14: 0.5 | H14: =SUM(D14:G14) -> 200.5 | I14: No aporto acreditacion de ser emprendimiento o empresa de mujer
B15: 4 | C15: ARQUITECTURA INGENIERIA Y DESARROLLO SAS | D15: 100 | E15: 100 | F15: 0.5 | G15: 0.5 | H15: =SUM(D15:G15) -> 201
B16: 5 | C16: MORELSA CONSTRUCTORES LTDA. | D16: 100 | E16: 100 | F16: 0.5 | G16: 0.5 | H16: =SUM(D16:G16) -> 201
B17: 6 | C17: REINGENIERIA INTEGRAL SAS | D17: 100 | E17: 100 | F17: 0.5 | G17: 0.5 | H17: =SUM(D17:G17) -> 201
B19: MARIO BARRERA NUÑEZ
B20: AA Grado 5 Area Administrativa DSAJ Cartagena
B25: JAVIER ANIBAL URIBE PUELLO
B26: Coordinador Area Administrativa DSAJ Cartagena

Sheet E.E.Media Aritmetica
B1: EVALUACION ECONOMICA SELECCIONA ABREVIADA DE MENOR CUANTIA N°SAMC-01-2022
B2: No. | C2: RAZON SOCIAL DEL PROPONENTE | D2: VALOR PROPUESTA | G2: PUNTAJE | H2: OBSERVACIONES | I2: MAS CERCANO POR DEBAJO | K2: POR ENCIMA DE LA MEDIA
E3: MENOR DE LA MEDIA | F3: POR ENCIMA DE LA MEDIA | I3: =LARGE(I8:I13,1) -> 10962319 | K3: =SMALL(N8:N13,1) -> 11140494
E4: 499 | F4: 499
C5: CANTIDAD PROPUESTAS | D5: =COUNTIF(D8:D13,">0") -> 4
C6: MEDIA ARITMETICA | D6: =ROUND((SUM(D8:D13)/D5),0) -> 11128413 | E6: =D6 -> 11128413 | F6: =D6 -> 11128413 | J6: =E4 -> 499 | K6: =F4 -> 499
C7: PRESUPUESTO OFICIAL | D7: 180000000 | I7: POR DEBAJO DE LA MEDIA | J7: =E3 -> MENOR DE LA MEDIA | K7: =F3 -> POR ENCIMA DE LA MEDIA | L7: PUNTAJE TOTAL
B8: 1 | C8: FABIO GARZON DAZA NIT.19.336.660-3 | D8: 10962319 | E8: =IF((D8<=$E$6),D8,0) -> 10962319 | F8: =IF((D8>$F$6),D8,0) -> 0 | G8: =L8 -> 491.55232 | I8: =E8 -> 10962319 | J8: =IF(E8>0,($J$6*(1-(($D$6-D8)/$D$6)))," ") -> 491.55232 | K8: =IFERROR(IF(F8>0,($J$6*(1-2*(ABS(($D$6-F8)/$D$6)))),""),0) | L8: =SUM(J8:K8) -> 491.55232 | N8: =IF(F8>0,F8," ") | P8: =$D$16 -> 11045605 | Q8: =+D8-P8 -> -83286.244
B9: =+B8+1 -> 2 | C9: KP PROJECT INGENIERIA SAS NIT.901.258.448-2 | D9: 11140494 | E9: =IF((D9<=$E$6),D9,0) -> 0 | F9: =IF((D9>$F$6),D9,0) -> 11140494 | G9: =L9 -> 497.91657 | I9: =E9 -> 0 | J9: =IF(E9>0,($J$6*(1-(($D$6-D9)/$D$6)))," ") | K9: =IFERROR(IF(F9>0,($J$6*(1-2*(ABS(($D$6-F9)/$D$6)))),""),0) -> 497.91657 | L9: =SUM(J9:K9) -> 497.91657 | N9: =IF(F9>0,F9," ") -> 11140494 | P9: =$D$16 -> 11045605 | Q9: =+D9-P9 -> 94888.756
B10: =+B9+1 -> 3 | C10: CONSORCIO SC INTEROBRAS 2021 | E10: =IF((D10<=$E$6),D10,0) -> 0 | F10: =IF((D10>$F$6),D10,0) -> 0 | G10: =L10 -> 0 | H10: SE RECHAZA LA OFERTA, toda vez que el item N°84 de lo servicios ofertados por Cartagena y Municipios de Bolivar supero el valor determinado por la entidad en el estudio de mercado para ese item,Causal de rechazo Numeral 2° DEL 1.11.3 CAUSALES PARA NO CONSIDERAR LAS PROPUESTA DEL PLIEGO DE CONDICIONES DEFINITIVOS ¨Cuando el valor unitario de uno o varios ítems de la propuesta diligenciado en el Anexo 7, EXCEDA el valor unitario total determinado por la entidad en el estudio de mercado para cada ítem¨ | I10: =E10 -> 0 | J10: =IF(E10>0,($J$6*(1-(($D$6-D10)/$D$6)))," ") | K10: =IFERROR(IF(F10>0,($J$6*(1-2*(ABS(($D$6-F10)/$D$6)))),""),0) | L10: =SUM(J10:K10) -> 0 | N10: =IF(F10>0,F10," ") | P10: =$D$16 -> 11045605 | Q10: =+D10-P10 -> -11045605
B11: =+B10+1 -> 4 | C11: ARQUITECTURA INGENIERIA Y DESARROLLO S A S ARQUIND S A S NIT.830.077.126-1 | D11: 11227537 | E11: =IF((D11<=$E$6),D11,0) -> 0 | F11: =IF((D11>$F$6),D11,0) -> 11227537 | G11: =L11 -> 490.11052 | I11: =E11 -> 0 | J11: =IF(E11>0,($J$6*(1-(($D$6-D11)/$D$6)))," ") | K11: =IFERROR(IF(F11>0,($J$6*(1-2*(ABS(($D$6-F11)/$D$6)))),""),0) -> 490.11052 | L11: =SUM(J11:K11) -> 490.11052 | N11: =IF(F11>0,F11," ") -> 11227537 | P11: =$D$16 -> 11045605 | Q11: =+D11-P11 -> 181931.76
B12: =+B11+1 -> 5 | C12: MORELSA CONSTRUCTORES LTDA. NIT.806.000.473-4 | E12: =IF((D12<=$E$6),D12,0) -> 0 | F12: =IF((D12>$F$6),D12,0) -> 0 | G12: =L12 -> 0 | H12: SE RECHAZA LA OFERTA , TODA VEZ QUE INCURRIO EN LA CAUSAL DE RECHAZO NUMERAL 30 DEL 1.11.3 CAUSALES PARA NO CONSIDERAR LAS PROPUESTAS DEL PLIEGO DE CONDICIONES DEFINITIVOS ¨ Cuando no se diligencie el total del presupuesto oficial en el formulario electrónico SECOP II¨ | I12: =E12 -> 0 | J12: =IF(E12>0,($J$6*(1-(($D$6-D12)/$D$6)))," ") | K12: =IFERROR(IF(F12>0,($J$6*(1-2*(ABS(($D$6-F12)/$D$6)))),""),0) | L12: =SUM(J12:K12) -> 0 | N12: =IF(F12>0,F12," ") | P12: =$D$16 -> 11045605 | Q12: =+D12-P12 -> -11045605
B13: =+B12+1 -> 6 | C13: REINGENIERIA INTEGRAL SAS NIT.901.358.559-0 | D13: 11183300 | E13: =IF((D13<=$E$6),D13,0) -> 0 | F13: =IF((D13>$F$6),D13,0) -> 11183300 | G13: =L13 -> 494.07771 | I13: =E13 -> 0 | J13: =IF(E13>0,($J$6*(1-(($D$6-D13)/$D$6)))," ") | K13: =IFERROR(IF(F13>0,($J$6*(1-2*(ABS(($D$6-F13)/$D$6)))),""),0) -> 494.07771 | L13: =SUM(J13:K13) -> 494.07771 | N13: =IF(F13>0,F13," ") -> 11183300 | P13: =$D$16 -> 11045605 | Q13: =+D13-P13 -> 137694.76
C14: mediana | D14: =MEDIAN(D8:D13) -> 11161897
C15: desviacion estandar | D15: =+STDEVA(D8:D13) -> 116291.76
C16: valor | D16: =+D14-D15 -> 11045605

Sheet Resumen Indicadores
A1: EVALUACION FINANCIERA Y ORGANIZACIONAL SELECCIÓN ABREVIADA SAMC 01-2022
A5: No. | B5: PROPONENTES | C5: CAPACIDAD FINANCIERA | G5: CAPACIDAD ORGANIZACIONAL | I5: OBSERVACIONES
C6: Indice de Liquidez | D6: Indice de Endeudamiento | E6: Capital de trabajo | F6: Razon de Cobertura de Intereses | G6: Rentabilidad del Patrimonio | H6: Rentabilidad del Activo
C7: > = 1.5 | D7: < = 60% | E7: > = $90.000.000 | F7: > = 1,5 | G7: >=5% | H7: >= 2%
A8: 1 | B8: =+Indicadores!E1 -> FABIO GARZON DAZA NIT.19.336.660-3 | C8: =+Indicadores!G5 -> 2255.3325 | D8: =+Indicadores!G8 -> 0.17386111 | E8: =+Indicadores!F11 -> 901733000 | F8: =+Indicadores!G14 -> 68.47934 | G8: =+Indicadores!G17 -> 0.32181832 | H8: =+Indicadores!G20 -> 0.26586663
C9: =IF(C8>=1.5,"CUMPLE","NO CUMPLE") -> CUMPLE | D9: =IF(D8<=60%,"CUMPLE","NO CUMPLE") -> CUMPLE | E9: =IF(E8>=90000000,"CUMPLE","NO CUMPLE") -> CUMPLE | F9: =IF(F8>1.5,"CUMPLE","NO CUMPLE") -> CUMPLE | G9: =IF(G8>=5%,"CUMPLE","NO CUMPLE") -> CUMPLE | H9: =IF(H8>=2%,"CUMPLE","NO CUMPLE") -> CUMPLE
A10: =+A8+1 -> 2 | B10: =+Indicadores!H1 -> KP PROJECT INGENIERIA SAS NIT.901.258.448-2 | C10: =+Indicadores!J5 -> 333.16102 | D10: =+Indicadores!J8 -> 0.33983276 | E10: =+Indicadores!I11 -> 352424831 | F10: =+Indicadores!J14 -> 232.34737 | G10: =+Indicadores!J17 -> 0.25900212 | H10: =+Indicadores!J20 -> 0.17098472
C11: =IF(C10>=1.5,"CUMPLE","NO CUMPLE") -> CUMPLE | D11: =IF(D10<=60%,"CUMPLE","NO CUMPLE") -> CUMPLE | E11: =IF(E10>=90000000,"CUMPLE","NO CUMPLE") -> CUMPLE | F11: =IF(F10>1.5,"CUMPLE","NO CUMPLE") -> CUMPLE | G11: =IF(G10>=5%,"CUMPLE","NO CUMPLE") -> CUMPLE | H11: =IF(H10>=2%,"CUMPLE","NO CUMPLE") -> CUMPLE
A12: =+A10+1 -> 3 | B12: =+Indicadores!K1 -> CONSORCIO SC INTEROBRAS 2021 | C12: =+Indicadores!M5 -> 42.045212 | D12: =+Indicadores!M8 -> 0.049012809 | E12: =+Indicadores!L11 -> 2421060081 | F12: =+Indicadores!M14 -> 48.679753 | G12: =+Indicadores!M17 -> 0.099335926 | H12: =+Indicadores!M20 -> 0.094467193
C13: =IF(C12>=1.5,"CUMPLE","NO CUMPLE") -> CUMPLE | D13: =IF(D12<=60%,"CUMPLE","NO CUMPLE") -> CUMPLE | E13: =IF(E12>=90000000,"CUMPLE","NO CUMPLE") -> CUMPLE | F13: =IF(F12>1.5,"CUMPLE","NO CUMPLE") -> CUMPLE | G13: =IF(G12>=5%,"CUMPLE","NO CUMPLE") -> CUMPLE | H13: =IF(H12>=2%,"CUMPLE","NO CUMPLE") -> CUMPLE
A14: =+A12+1 -> 4 | B14: =+Indicadores!N1 -> ARQUITECTURA INGENIERIA Y DESARROLLO S A S ARQUIND S A S NIT.830.077.126-1 | C14: =+Indicadores!P5 -> 8.0643872 | D14: =+Indicadores!P8 -> 0.12053955 | E14: =+Indicadores!O11 -> 290327509 | F14: =+Indicadores!P14 -> INDETERMINADO | G14: =+Indicadores!P17 -> 0.14890468 | H14: =+Indicadores!P20 -> 0.13095578
C15: =IF(C14>=1.5,"CUMPLE","NO CUMPLE") -> CUMPLE | D15: =IF(D14<=60%,"CUMPLE","NO CUMPLE") -> CUMPLE | E15: =IF(E14>=90000000,"CUMPLE","NO CUMPLE") -> CUMPLE | F15: =IF(F14>1.5,"CUMPLE","NO CUMPLE") -> CUMPLE | G15: =IF(G14>=5%,"CUMPLE","NO CUMPLE") -> CUMPLE | H15: =IF(H14>=2%,"CUMPLE","NO CUMPLE") -> CUMPLE
A16: =+A14+1 -> 5 | B16: =+Indicadores!Q1 -> MORELSA CONSTRUCTORES LTDA. NIT.806.000.473-4 | C16: =+Indicadores!S5 -> 43.581839 | D16: =+Indicadores!S8 -> 0.14736157 | E16: =+Indicadores!R11 -> 1153976352 | F16: =+Indicadores!S14 -> 1233.2321 | G16: =+Indicadores!S17 -> 0.33697924 | H16: =+Indicadores!S20 -> 0.28732145
C17: =IF(C16>=1.5,"CUMPLE","NO CUMPLE") -> CUMPLE | D17: =IF(D16<=60%,"CUMPLE","NO CUMPLE") -> CUMPLE | E17: =IF(E16>=90000000,"CUMPLE","NO CUMPLE") -> CUMPLE | F17: =IF(F16>1.5,"CUMPLE","NO CUMPLE") -> CUMPLE | G17: =IF(G16>=5%,"CUMPLE","NO CUMPLE") -> CUMPLE | H17: =IF(H16>=2%,"CUMPLE","NO CUMPLE") -> CUMPLE
A18: =+A16+1 -> 6 | B18: =+Indicadores!T1 -> REINGENIERIA INTEGRAL SAS NIT.901.358.559-0 | C18: =+Indicadores!V5 -> 27.567819 | D18: =+Indicadores!V8 -> 0.55505981 | E18: =+Indicadores!U11 -> 675300312 | F18: =+Indicadores!V14 -> 645.95169 | G18: =+Indicadores!V17 -> 0.38498566 | H18: =+Indicadores!V20 -> 0.17129559
C19: =IF(C18>=1.5,"CUMPLE","NO CUMPLE") -> CUMPLE | D19: =IF(D18<=60%,"CUMPLE","NO CUMPLE") -> CUMPLE | E19: =IF(E18>=90000000,"CUMPLE","NO CUMPLE") -> CUMPLE | F19: =IF(F18>1.5,"CUMPLE","NO CUMPLE") -> CUMPLE | G19: =IF(G18>=5%,"CUMPLE","NO CUMPLE") -> CUMPLE | H19: =IF(H18>=2%,"CUMPLE","NO CUMPLE") -> CUMPLE
A26: GUSTAVO E. TORRES VELEZ
A27: Coordinador Financiero DSAJ Cartagena

Sheet Indicadores
E1: FABIO GARZON DAZA NIT.19.336.660-3 | H1: KP PROJECT INGENIERIA SAS NIT.901.258.448-2 | K1: CONSORCIO SC INTEROBRAS 2021 | N1: ARQUITECTURA INGENIERIA Y DESARROLLO S A S ARQUIND S A S NIT.830.077.126-1 | Q1: MORELSA CONSTRUCTORES LTDA. NIT.806.000.473-4 | T1: REINGENIERIA INTEGRAL SAS NIT.901.358.559-0
E4: 44561 | H4: 44561 | K4: 44561 | N4: 44196 | Q4: 43830 | T4: 44561
A5: INDICE LIQUIDEZ | B5: = | C5: ACTIVO CORRIENTE | E5: 902133000 | F5: = | G5: =+E5/E6 -> 2255.3325 | H5: 353485837 | I5: = | J5: =+H5/H6 -> 333.16102 | K5: =+'Detallada Financiera Consorcios'!J7 -> 5.6378214e+08 | L5: = | M5: =+K5/K6 -> 42.045212 | N5: 331424847 | O5: = | P5: =+N5/N6 -> 8.0643872 | Q5: 1181076552 | R5: = | S5: =+Q5/Q6 -> 43.581839 | T5: 700718293 | U5: = | V5: =+T5/T6 -> 27.567819
C6: PASIVO CORRIENTE | E6: 400000 | H6: 1061006 | K6: =+'Detallada Financiera Consorcios'!J8 -> 13408950 | N6: 41097338 | Q6: 27100200 | T6: 25417981
A8: INDICE DE ENDEUDAMIENTO | B8: = | C8: PASIVO TOTAL | E8: 246298000 | F8: = | G8: =+E8/E9 -> 0.17386111 | H8: 129301552 | I8: = | J8: =+H8/H9 -> 0.33983276 | K8: =+'Detallada Financiera Consorcios'!J10 -> 42180500 | L8: = | M8: =+K8/K9 -> 0.049012809 | N8: =+N6 -> 41097338 | O8: = | P8: =+N8/N9 -> 0.12053955 | Q8: 177100200 | R8: = | S8: =+Q8/Q9 -> 0.14736157 | T8: 600167981 | U8: = | V8: =+T8/T9 -> 0.55505981
C9: ACTIVO TOTAL | E9: 1416636500 | H9: 380485837 | K9: =+'Detallada Financiera Consorcios'!J11 -> 8.6060157e+08 | N9: 340944847 | Q9: 1201807252 | T9: 1081267233
A11: CAPITAL DE TRABAJO | C11: ACTIVO CORRIENTE (MENOS) PASIVO CORRIENTE | E11: = | F11: =+E5-E6 -> 901733000 | H11: = | I11: =+H5-H6 -> 352424831 | K11: = | L11: =+'Detallada Financiera Consorcios'!K13 -> 2421060081 | N11: = | O11: =+N5-N6 -> 290327509 | Q11: = | R11: =+Q5-Q6 -> 1153976352 | T11: = | U11: =+T5-T6 -> 675300312
A14: RAZON DE COBERTURA | B14: = | C14: UTILIDAD OPERACIONAL | E14: 376636370 | F14: = | G14: =+E14/E15 -> 68.47934 | H14: 65057263 | I14: = | J14: =+H14/H15 -> 232.34737 | K14: =+'Detallada Financiera Consorcios'!J15 -> 81298614 | L14: = | M14: =+K14/K15 -> 48.679753 | N14: 44648697 | O14: = | P14: INDETERMINADO | Q14: 345305000 | R14: = | S14: =+Q14/Q15 -> 1233.2321 | T14: 185216311 | U14: = | V14: =+T14/T15 -> 645.95169
C15: GASTOS DE INTERESES | E15: 5500000 | H15: 280000 | K15: =+'Detallada Financiera Consorcios'!J16 -> 1670070.4 | N15: 0 | Q15: 280000 | T15: 286734
A17: RENTABILIDAD DEL PATRIMONIO | B17: = | C17: UTILIDAD OPERACIONAL | E17: =+E14 -> 376636370 | F17: = | G17: =+E17/E18 -> 0.32181832 | H17: =+H14 -> 65057263 | I17: = | J17: =+H17/H18 -> 0.25900212 | K17: =+K14 -> 81298614 | L17: = | M17: =+K17/K18 -> 0.099335926 | N17: =+N14 -> 44648697 | O17: = | P17: =+N17/N18 -> 0.14890468 | Q17: =+Q14 -> 345305000 | R17: = | S17: =+Q17/Q18 -> 0.33697924 | T17: =+T14 -> 185216311 | U17: = | V17: =+T17/T18 -> 0.38498566
C18: PATRIMONIO | E18: =+E9-E8 -> 1170338500 | H18: =+H9-H8 -> 251184285 | K18: =+K9-K8 -> 8.1842107e+08 | N18: =+N9-N8 -> 299847509 | Q18: =+Q9-Q8 -> 1024707052 | T18: =+T9-T8 -> 481099252
A20: RENTABILIDAD DEL ACTIVO | B20: = | C20: UTILIDAD OPERACIONAL | E20: =+E17 -> 376636370 | F20: = | G20: =+E20/E21 -> 0.26586663 | H20: =+H17 -> 65057263 | I20: = | J20: =+H20/H21 -> 0.17098472 | K20: =+K17 -> 81298614 | L20: = | M20: =+K20/K21 -> 0.094467193 | N20: =+N17 -> 44648697 | O20: = | P20: =+N20/N21 -> 0.13095578 | Q20: =+Q17 -> 345305000 | R20: = | S20: =+Q20/Q21 -> 0.28732145 | T20: =+T17 -> 185216311 | U20: = | V20: =+T20/T21 -> 0.17129559
C21: ACTIVO | E21: =+E9 -> 1416636500 | H21: =+H9 -> 380485837 | K21: =+K9 -> 8.6060157e+08 | N21: =+N9 -> 340944847 | Q21: =+Q9 -> 1201807252 | T21: =+T9 -> 1081267233

Sheet Detallada Financiera Consorcios
D2: =+Indicadores!K1 -> CONSORCIO SC INTEROBRAS 2021 | K2: RESULTADO INDICADOR
D3: INGENIERIA DE OBRAS Y SERVICIOS SERVIOBRAS LTDA, NIT 890.405.979 - 3 | G3: CONSTRUOBRAS C&M S.A.S, NIT 900.506.471 - 3 | J3: VALOR TOTAL
D5: VALOR RUP | E5: % PARTICIPACION CONSORCIO | F5: VR.APORTADO CONSORCIO | G5: VALOR RUP | H5: % PARTICIPACION CONSORCIO | I5: VR.APORTADO CONSORCIO
D6: 44561 | G6: 44561
A7: INDICE LIQUIDEZ | B7: = | C7: ACTIVO CORRIENTE | D7: 488972433 | E7: 0.95 | F7: =+D7*E7 -> 4.6452381e+08 | G7: 1985166648 | H7: 0.05 | I7: =+G7*H7 -> 99258332 | J7: =+F7+I7 -> 5.6378214e+08 | K7: =+J7/J8 -> 42.045212
C8: PASIVO CORRIENTE | D8: 11950000 | E8: =+E7 -> 0.95 | F8: =+D8*E8 -> 11352500 | G8: 41129000 | H8: =+H7 -> 0.05 | I8: =+G8*H8 -> 2056450 | J8: =+F8+I8 -> 13408950
A10: INDICE DE ENDEUDAMIENTO | B10: = | C10: PASIVO TOTAL | D10: 22750000 | E10: =+E8 -> 0.95 | F10: =+D10*E10 -> 21612500 | G10: 411360002 | H10: =+H8 -> 0.05 | I10: =+G10*H10 -> 20568000 | J10: =+F10+I10 -> 42180500 | K10: =+J10/J11 -> 0.049012809
C11: ACTIVO TOTAL | D11: 795275284 | E11: =+E10 -> 0.95 | F11: =+D11*E11 -> 7.5551152e+08 | G11: 2101800920 | H11: =+H10 -> 0.05 | I11: =+G11*H11 -> 105090046 | J11: =+F11+I11 -> 8.6060157e+08
A13: CAPITAL DE TRABAJO | B13: = | C13: ACTIVO CORRIENTE (MENOS) PASIVO CORRIENTE | D13: =+D7-D8 -> 477022433 | F13: =+D7-D8 -> 477022433 | G13: =+G7-G8 -> 1944037648 | I13: =+G7-G8 -> 1944037648 | J13: =+F13+I13 -> 2421060081 | K13: =+F13+I13 -> 2421060081
A15: RAZON DE COBERTURA | B15: = | C15: UTILIDAD OPERACIONAL | D15: 74418619 | E15: =+E11 -> 0.95 | F15: =+D15*E15 -> 70697688 | G15: 212018520 | H15: =+H11 -> 0.05 | I15: =+G15*H15 -> 10600926 | J15: =+F15+I15 -> 81298614 | K15: =+J15/J16 -> 48.679753
C16: GASTOS DE INTERESES | D16: 1658232 | E16: =+E11 -> 0.95 | F16: =+D16*E16 -> 1575320.4 | G16: 1895000 | H16: =+H11 -> 0.05 | I16: =+G16*H16 -> 94750 | J16: =+F16+I16 -> 1670070.4
A18: RENTABILIDAD DEL PATRIMONIO | B18: = | C18: UTILIDAD OPERACIONAL | D18: =+D15 -> 74418619 | E18: =+E16 -> 0.95 | F18: =+D18*E18 -> 70697688 | G18: =+G15 -> 212018520 | H18: =+H16 -> 0.05 | I18: =+G18*H18 -> 10600926 | J18: =+F18+I18 -> 81298614 | K18: =+J18/J19 -> 0.099335926
C19: PATRIMONIO | D19: =+D11-D10 -> 772525284 | E19: =+E18 -> 0.95 | F19: =+D19*E19 -> 7.3389902e+08 | G19: =+G11-G10 -> 1690440918 | H19: =+H18 -> 0.05 | I19: =+G19*H19 -> 84522046 | J19: =+F19+I19 -> 8.1842107e+08
A21: RENTABILIDAD DEL ACTIVO | B21: = | C21: UTILIDAD OPERACIONAL | D21: =+D18 -> 74418619 | E21: =+E19 -> 0.95 | F21: =+D21*E21 -> 70697688 | G21: =+G18 -> 212018520 | H21: =+H19 -> 0.05 | I21: =+G21*H21 -> 10600926 | J21: =+F21+I21 -> 81298614 | K21: =+J21/J22 -> 0.094467193
C22: ACTIVO | D22: =+D11 -> 795275284 | E22: =+E21 -> 0.95 | F22: =+D22*E22 -> 7.5551152e+08 | G22: =+G11 -> 2101800920 | H22: =+H21 -> 0.05 | I22: =+G22*H22 -> 105090046 | J22: =+F22+I22 -> 8.6060157e+08

Sheet CONSOLIDADO
B1: EVALUACION FINANCIERA Y ORGANIZACIONAL SELECCIÓN ABREVIADA SAMC 01-2022
B5: # | C5: OFERENTE | D5: EVALUACION JURIDICA | E5: EVALUACION TECNICA | F5: TECNICO PUNTUABLE | G5: MEDIA ARITMETICA | H5: CAPACIDAD FINANCIERA | I5: CAPACIDAD ORGANIZACIONAL | J5: TOTAL PUNTAJE
B6: 1 | C6: FABIO GARZON DAZA | D6: CUMPLE | E6: CUMPLE | F6: ='Tecnico Puntuable'!H12 -> 200.5 | G6: 491.55 | H6: CUMPLE | I6: CUMPLE | J6: =F6+G6 -> 692.05
B7: =+B6+1 -> 2 | C7: KP PROJECT INGENIERIA SAS | D7: CUMPLE | E7: CUMPLE | F7: ='Tecnico Puntuable'!H13 -> 200.5 | G7: 497.92 | H7: CUMPLE | I7: CUMPLE | J7: =F7+G7 -> 698.42
B8: =+B7+1 -> 3 | C8: CONSORCIO SC INTEROBRAS 2021 | D8: CUMPLE | E8: CUMPLE | F8: ='Tecnico Puntuable'!H14 -> 200.5 | G8: RECHAZADO | H8: CUMPLE | I8: CUMPLE | J8: -
B9: =+B8+1 -> 4 | C9: ARQUITECTURA INGENIERIA Y DESARROLLO SAS | D9: CUMPLE | E9: CUMPLE | F9: ='Tecnico Puntuable'!H15 -> 201 | G9: 490.11 | H9: CUMPLE | I9: CUMPLE | J9: =F9+G9 -> 691.11
B10: =+B9+1 -> 5 | C10: MORELSA CONSTRUCTORES LTDA. | D10: CUMPLE | E10: CUMPLE | F10: ='Tecnico Puntuable'!H16 -> 201 | G10: RECHAZADO | H10: CUMPLE | I10: CUMPLE | J10: -
B11: =+B10+1 -> 6 | C11: REINGENIERIA INTEGRAL SAS | D11: CUMPLE | E11: CUMPLE | F11: ='Tecnico Puntuable'!H17 -> 201 | G11: 494.08 | H11: CUMPLE | I11: CUMPLE | J11: =F11+G11 -> 695.08
