Workbook
Name agricola: Reactivos!$B:$C
Name dani: #REF!
Name EURO: 'LP Elementos'!$B$15
Name TRM: 'LP Elementos'!$B$14

Sheet Reactivos
A1: Ítem | B1: Descripción técnica | C1: Marca | D1: Presentación | E1: 1.03 | F1: Información 2018 | H1: Información 2019 | J1: Información 2020 | L1: PROMEDIO 2018 - 2020 + IPC | N1: Quimicos y Reactivos S.A.S | T1: ARC ANÁLISIS | Z1: LMV S.A.S | AF1: DISPROQUILAB LIMITADA | AL1: Elementos Quimicos | AR1: Clinicos Isla S.A.S | AX1: LABBRANDS | BD1: QUIMIOLAB | BJ1: DISTRIBUIDORA Y COMERCIALIZADORA DIZAR LTDA | BP1: SANITAS S.A.S | BV1: AVANTIKA COLOMBIA SAS | CB1: Inversiones Jimsa Ltda | CH1: MYC LAB S.A.S | CN1: INSOLAB | CT1: QUIMITRÓNICA | CZ1: Purificación y Análisis PAF | FH1: SUMA TOTAL | FI1: Cantidad de cotizaciones | FJ1: PROMEDIO
E2: Cantidad TOTAL | F2: Valor unitario con IVA | G2: ADJUDICACIÓN VR. UNIT. | H2: Valor unitario promedio | I2: ADJUDICACIÓN VR. UNIT. | J2: Valor unitario con IVA | K2: ADJUDICACIÓN VR. UNIT. | L2: Valor unitario con IVA | M2: ADJUDICACIÓN VR. UNIT. | N2: Vlr. Unitario Sin IVA | O2: IVA | P2: Valor unitario con IVA | Q2: Presentación | R2: Marca | S2: Observaciones | T2: Vlr. Unitario Sin IVA | U2: IVA | V2: Valor unitario con IVA | W2: Presentación | X2: Marca | Y2: Observaciones | Z2: Vlr. Unitario Sin IVA | AA2: IVA | AB2: Valor unitario con IVA | AC2: Presentación | AD2: Marca | AE2: Observaciones | AF2: Vlr. Unitario Sin IVA | AG2: IVA | AH2: Valor unitario con IVA | AI2: Presentación | AJ2: Marca | AK2: Observaciones | AL2: Vlr. Unitario Sin IVA | AM2: IVA | AN2: Valor unitario con IVA | AO2: Presentación | AP2: Marca | AQ2: Observaciones | AR2: Vlr. Unitario Sin IVA | AS2: IVA | AT2: Valor unitario con IVA | AU2: Presentación | AV2: Marca | AW2: Observaciones | AX2: Vlr. Unitario Sin IVA | AY2: IVA | AZ2: Valor unitario con IVA | BA2: Presentación | BB2: Marca | BC2: Observaciones | BD2: Vlr. Unitario Sin IVA | BE2: IVA | BF2: Valor unitario con IVA | BG2: Presentación | BH2: Marca | BI2: Observaciones | BJ2: Vlr. Unitario Sin IVA | BK2: IVA | BL2: Valor unitario con IVA | BM2: Presentación | BN2: Marca | BO2: Observaciones | BP2: Vlr. Unitario Sin IVA | BQ2: IVA | BR2: Valor unitario con IVA | BS2: Presentación | BT2: Marca | BU2: Observaciones | BV2: Vlr. Unitario Sin IVA | BW2: IVA | BX2: Valor unitario con IVA | BY2: Presentación | BZ2: Marca | CA2: Observaciones | CB2: Vlr. Unitario Sin IVA | CC2: IVA | CD2: Valor unitario con IVA | CE2: Presentación | CF2: Marca | CG2: Observaciones | CH2: Vlr. Unitario Sin IVA | CI2: IVA | CJ2: Valor unitario con IVA | CK2: Presentación | CL2: Marca | CM2: Observaciones | CN2: Vlr. Unitario Sin IVA | CO2: IVA | CP2: Valor unitario con IVA | CQ2: Presentación | CR2: Marca | CS2: Observaciones | CT2: Vlr. Unitario Sin IVA | CU2: IVA | CV2: Valor unitario con IVA | CW2: Presentación | CX2: Marca | CY2: Observaciones | CZ2: Vlr. Unitario Sin IVA | DA2: IVA | DB2: Valor unitario con IVA | DC2: Presentación | DD2: Marca | DE2: Observaciones | DF2: Vlr. Unitario Sin IVA | DG2: IVA | DH2: Valor unitario con IVA | DI2: Presentación | DJ2: Marca | DK2: Observaciones | DL2: Vlr. Unitario Sin IVA | DM2: IVA | DN2: Valor unitario con IVA | DO2: Presentación | DP2: Marca | DQ2: Observaciones | DR2: Vlr. Unitario Sin IVA | DS2: IVA | DT2: Valor unitario con IVA | DU2: Presentación | DV2: Marca | DW2: Observaciones | DX2: Vlr. Unitario Sin IVA | DY2: IVA | DZ2: Valor unitario con IVA | EA2: Presentación | EB2: Marca | EC2: Observaciones | ED2: Vlr. Unitario Sin IVA | EE2: IVA | EF2: Valor unitario con IVA | EG2: Presentación | EH2: Marca | EI2: Observaciones | EJ2: Vlr. Unitario Sin IVA | EK2: IVA | EL2: Valor unitario con IVA | EM2: Presentación | EN2: Marca | EO2: Observaciones | EP2: Vlr. Unitario Sin IVA | EQ2: IVA | ER2: Valor unitario con IVA | ES2: Presentación | ET2: Marca | EU2: Observaciones | EV2: Vlr. Unitario Sin IVA | EW2: IVA | EX2: Valor unitario con IVA | EY2: Presentación | EZ2: Marca | FA2: Observaciones | FB2: Vlr. Unitario Sin IVA | FC2: IVA | FD2: Valor unitario con IVA | FE2: Presentación | FF2: Marca | FG2: Observaciones
A3: =#REF! -> #REF! | B3: =#REF! -> #REF! | C3: =#REF! -> #REF! | D3: =#REF! -> #REF! | E3: 1 | F3: 148298.1 | G3: 148274 | H3: 174809.95 | I3: 0 | J3: 225477.23 | K3: 195160 | L3: =AVERAGE(F3,H3,J3) -> 182861.76 | M3: =AVERAGE(G3,K3)*1.03 -> 176868.51 | AR3: 345600 | AS3: =+AR3*0.19 -> 65664 | AT3: =+AR3+AS3 -> 411264 | AU3: Frasco x 25g | AV3: Santa Cruz Biotechnology | BV3: 394800 | BW3: =BV3*19% -> 75012 | BX3: =+BV3+BW3 -> 469812 | BY3: frasco x 2 gr | BZ3: SIGMA | CH3: 402696 | CI3: =+CH3*0.19 -> 76512.24 | CJ3: =+CH3+CI3 -> 479208.24 | CK3: frasco x 2 gr | CL3: SIGMA | CT3: 117500 | CU3: 22325 | CV3: =+CT3+CU3 -> 139825 | FH3: =SUM(M3,P3,V3,AB3,AH3,AN3,AT3,AZ3,BF3,BL3,BR3,BX3,CD3,CJ3,CP3,CV3,DB3,DH3,DN3,DT3,DZ3,EF3,EL3,ER3,EX3,FD3) -> 1676977.8 | FI3: =COUNTA(M3,N3,T3,Z3,AF3,AL3,AR3,AX3,BD3,BJ3,BP3,BV3,CB3,CH3,CN3,CT3,CZ3,DF3,DL3,DR3,DX3,ED3,EJ3,EP3,EV3,FB3) -> 5 | FJ3: =IFERROR(FH3/FI3," ") -> 335395.55
A4: =#REF! -> #REF! | B4: =#REF! -> #REF! | C4: =#REF! -> #REF! | D4: =#REF! -> #REF! | E4: 1 | F4: 0 | G4: 0 | H4: 0 | I4: 0 | J4: 514080 | K4: 0 | L4: =J4 -> 514080 | BV4: 5019000 | BW4: =BV4*19% -> 953610 | BX4: =+BV4+BW4 -> 5972610 | BY4: frasco x 25und | BZ4: SIGMA | CI4: =+CH4*0.19 -> 0 | CJ4: =+CH4+CI4 -> 0 | CT4: 2688750 | CU4: 510862.5 | CV4: =+CT4+CU4 -> 3199612.5 | FH4: =SUM(M4,P4,V4,AB4,AH4,AN4,AT4,AZ4,BF4,BL4,BR4,BX4,CD4,CJ4,CP4,CV4,DB4,DH4,DN4,DT4,DZ4,EF4,EL4,ER4,EX4,FD4) -> 9172222.5 | FI4: =COUNTA(M4,N4,T4,Z4,AF4,AL4,AR4,AX4,BD4,BJ4,BP4,BV4,CB4,CH4,CN4,CT4,CZ4,DF4,DL4,DR4,DX4,ED4,EJ4,EP4,EV4,FB4) -> 2 | FJ4: =IFERROR(FH4/FI4," ") -> 4586111.2
A5: =#REF! -> #REF! | B5: =#REF! -> #REF! | C5: =#REF! -> #REF! | D5: =#REF! -> #REF! | E5: 1 | F5: 205513 | G5: 202419 | H5: 292987.37 | I5: 0 | J5: 406149.97 | K5: 0 | L5: =AVERAGE(F5,H5,J5) -> 301550.11 | M5: =G5*1.03 -> 208491.57 | AF5: 250000 | AG5: =AF5*19% -> 47500 | AH5: =+AF5+AG5 -> 297500 | AR5: 504000 | AS5: =+AR5*0.19 -> 95760 | AT5: =+AR5+AS5 -> 599760 | AU5: Frasco x 100 ml | AV5: Santa Cruz Biotechnology | BV5: 311100 | BW5: =BV5*19% -> 59109 | BX5: =+BV5+BW5 -> 370209 | BY5: frasco x 250 ml | BZ5: ENTHOS | CB5: 365000 | CC5: =+CB5*19% -> 69350 | CD5: =+CC5+CB5 -> 434350 | CH5: 329766 | CI5: =+CH5*0.19 -> 62655.54 | CJ5: =+CH5+CI5 -> 392421.54 | CK5: frasco x 250 ml | CL5: ENTHOS | FH5: =SUM(M5,P5,V5,AB5,AH5,AN5,AT5,AZ5,BF5,BL5,BR5,BX5,CD5,CJ5,CP5,CV5,DB5,DH5,DN5,DT5,DZ5,EF5,EL5,ER5,EX5,FD5) -> 2302732.1 | FI5: =COUNTA(M5,N5,T5,Z5,AF5,AL5,AR5,AX5,BD5,BJ5,BP5,BV5,CB5,CH5,CN5,CT5,CZ5,DF5,DL5,DR5,DX5,ED5,EJ5,EP5,EV5,FB5) -> 6 | FJ5: =IFERROR(FH5/FI5," ") -> 383788.68
A6: =#REF! -> #REF! | B6: =#REF! -> #REF! | C6: =#REF! -> #REF! | D6: =#REF! -> #REF! | E6: 1 | F6: 173504.38 | G6: 37485 | H6: 105576.91 | I6: 80325 | J6: 111045.19 | K6: 114716 | L6: =AVERAGE(F6,H6,J6) -> 130042.16 | M6: =AVERAGE(G6,I6,K6)*1.03 -> 79833.927 | N6: 100500 | O6: =+N6*0.19 -> 19095 | P6: =+N6+O6 -> 119595 | Q6: Frasco x 100 ml. | R6: CARLO ERBA | AF6: 120000 | AG6: =AF6*19% -> 22800 | AH6: =+AF6+AG6 -> 142800 | AL6: 124000 | AM6: =+AL6*0.19 -> 23560 | AN6: =+AL6+AM6 -> 147560 | AO6: Frasco x 100ml | AP6: PANREAC | AR6: 122668 | AS6: =+AR6*0.19 -> 23306.92 | AT6: =+AR6+AS6 -> 145974.92 | AU6: Frasco x 100 ml | AV6: Panreac | BV6: 85700 | BW6: =BV6*19% -> 16283 | BX6: =+BV6+BW6 -> 101983 | BY6: frasco x 100 ml | BZ6: BIOQUIGEN | CB6: 45200 | CC6: =+CB6*19% -> 8588 | CD6: =+CC6+CB6 -> 53788 | CH6: 86557 | CI6: =+CH6*0.19 -> 16445.83 | CJ6: =+CH6+CI6 -> 103002.83 | CK6: frasco x 100 ml | CL6: BIOQUIGEN | FH6: =SUM(M6,P6,V6,AB6,AH6,AN6,AT6,AZ6,BF6,BL6,BR6,BX6,CD6,CJ6,CP6,CV6,DB6,DH6,DN6,DT6,DZ6,EF6,EL6,ER6,EX6,FD6) -> 894537.68 | FI6: =COUNTA(M6,N6,T6,Z6,AF6,AL6,AR6,AX6,BD6,BJ6,BP6,BV6,CB6,CH6,CN6,CT6,CZ6,DF6,DL6,DR6,DX6,ED6,EJ6,EP6,EV6,FB6) -> 8 | FJ6: =IFERROR(FH6/FI6," ") -> 111817.21
A7: =#REF! -> #REF! | B7: =#REF! -> #REF! | C7: =#REF! -> #REF! | D7: =#REF! -> #REF! | E7: 1 | F7: 0 | G7: 0 | H7: 24253.39 | I7: 0 | J7: 26775 | K7: 26180 | L7: =AVERAGE(H7,J7) -> 25514.195 | M7: =K7*1.03 -> 26965.4 | AF7: 22000 | AG7: =AF7*19% -> 4180 | AH7: =+AF7+AG7 -> 26180 | AL7: =35000/20 -> 1750 | AM7: =+AL7*0.19 -> 332.5 | AN7: =+AL7+AM7 -> 2082.5 | AO7: Frasco x 1 litro | AP7: CHEMI | AR7: 144000 | AS7: =+AR7*0.19 -> 27360 | AT7: =+AR7+AS7 -> 171360 | AU7: Frasco x 5 ml | AV7: Santa Cruz Biotechnology | BV7: 21800 | BW7: =BV7*19% -> 4142 | BX7: =+BV7+BW7 -> 25942 | BY7: frasco x 50 ml | BZ7: JULIAO | CB7: 15500 | CC7: =+CB7*19% -> 2945 | CD7: =+CC7+CB7 -> 18445 | CH7: 23108 | CI7: =+CH7*0.19 -> 4390.52 | CJ7: =+CH7+CI7 -> 27498.52 | CK7: frasco x 50 ml | CL7: JULIAO | CT7: 288750 | CU7: =+CT7*0 -> 0 | CV7: =+CT7+CU7 -> 288750 | FH7: =SUM(M7,P7,V7,AB7,AH7,AN7,AT7,AZ7,BF7,BL7,BR7,BX7,CD7,CJ7,CP7,CV7,DB7,DH7,DN7,DT7,DZ7,EF7,EL7,ER7,EX7,FD7) -> 587223.42 | FI7: =COUNTA(M7,N7,T7,Z7,AF7,AL7,AR7,AX7,BD7,BJ7,BP7,BV7,CB7,CH7,CN7,CT7,CZ7,DF7,DL7,DR7,DX7,ED7,EJ7,EP7,EV7,FB7) -> 8 | FJ7: =IFERROR(FH7/FI7," ") -> 73402.928
A8: =#REF! -> #REF! | B8: =#REF! -> #REF! | C8: =#REF! -> #REF! | D8: =#REF! -> #REF! | E8: 1 | F8: 2006533.4 | G8: 2006459 | H8: 1361631.6 | I8: 0 | J8: 1338434.7 | K8: 0 | L8: =AVERAGE(F8,H8,J8) -> 1568866.6 | M8: =G8*1.03 -> 2066652.8 | AR8: 136800 | AS8: =+AR8*0.19 -> 25992 | AT8: =+AR8+AS8 -> 162792 | AU8: Frasco x 100g | AV8: Santa Cruz Biotechnology | AW8: sc-203818 | BV8: 3507000 | BW8: =BV8*19% -> 666330 | BX8: =+BV8+BW8 -> 4173330 | BY8: frasco x 100 gr | BZ8: SIGMA | CT8: 175000 | CU8: 33250 | CV8: =+CT8+CU8 -> 208250 | CZ8: 2928300 | DA8: =+CZ8*0.19 -> 556377 | DB8: =+CZ8+DA8 -> 3484677 | DC8: 100g | DD8: Merck | DE8: 73594100GF | FH8: =SUM(M8,P8,V8,AB8,AH8,AN8,AT8,AZ8,BF8,BL8,BR8,BX8,CD8,CJ8,CP8,CV8,DB8,DH8,DN8,DT8,DZ8,EF8,EL8,ER8,EX8,FD8) -> 10095702 | FI8: =COUNTA(M8,N8,T8,Z8,AF8,AL8,AR8,AX8,BD8,BJ8,BP8,BV8,CB8,CH8,CN8,CT8,CZ8,DF8,DL8,DR8,DX8,ED8,EJ8,EP8,EV8,FB8) -> 5 | FJ8: =IFERROR(FH8/FI8," ") -> 2019140.4
A9: =#REF! -> #REF! | B9: =#REF! -> #REF! | C9: =#REF! -> #REF! | D9: =#REF! -> #REF! | E9: 1 | F9: 0 | G9: 0 | H9: 214053.71 | I9: 75565 | J9: 0 | K9: 0 | L9: =H9 -> 214053.71 | M9: =I9*1.03 -> 77831.95 | AL9: 205000 | AM9: =+AL9*0.19 -> 38950 | AN9: =+AL9+AM9 -> 243950 | AO9: Frasco x 500g | AP9: PANREAC | AR9: 259200 | AS9: =+AR9*0.19 -> 49248 | AT9: =+AR9+AS9 -> 308448 | AU9: Frasco x 500g | AV9: Santa Cruz Biotechnology | AW9: sc-203818A | BV9: 262100 | BW9: =BV9*19% -> 49799 | BX9: =+BV9+BW9 -> 311899 | BY9: frasco x 500 gr | BZ9: JT BAKER | CH9: 275205 | CI9: =+CH9*0.19 -> 52288.95 | CJ9: =+CH9+CI9 -> 327493.95 | CK9: frasco x 500 gr | CL9: JT BAKER | CZ9: 145655 | DA9: =+CZ9*0.19 -> 27674.45 | DB9: =+CZ9+DA9 -> 173329.45 | DC9: 500 GR | DD9: Merck | DE9: 1011160500 | FH9: =SUM(M9,P9,V9,AB9,AH9,AN9,AT9,AZ9,BF9,BL9,BR9,BX9,CD9,CJ9,CP9,CV9,DB9,DH9,DN9,DT9,DZ9,EF9,EL9,ER9,EX9,FD9) -> 1442952.3 | FI9: =COUNTA(M9,N9,T9,Z9,AF9,AL9,AR9,AX9,BD9,BJ9,BP9,BV9,CB9,CH9,CN9,CT9,CZ9,DF9,DL9,DR9,DX9,ED9,EJ9,EP9,EV9,FB9) -> 6 | FJ9: =IFERROR(FH9/FI9," ") -> 240492.06
A10: =#REF! -> #REF! | B10: =#REF! -> #REF! | C10: =#REF! -> #REF! | D10: =#REF! -> #REF! | E10: 1 | F10: 0 | G10: 0 | H10: 351635.2 | I10: 0 | J10: 608328 | K10: 0 | L10: =AVERAGE(H10,J10) -> 479981.6 | AR10: 511200 | AS10: =+AR10*0.19 -> 97128 | AT10: =+AR10+AS10 -> 608328 | AU10: Frasco x 1 litro | AV10: Santa Cruz Biotechnology | BV10: 400300 | BW10: =BV10*19% -> 76057 | BX10: =+BV10+BW10 -> 476357 | BY10: frasco x 1 litro | BZ10: JT BAKER | CH10: 428321 | CI10: =+CH10*0.19 -> 81380.99 | CJ10: =+CH10+CI10 -> 509701.99 | CK10: frasco x 1 litro | CL10: JT BAKER | CZ10: 168276 | DA10: =+CZ10*0.19 -> 31972.44 | DB10: =+CZ10+DA10 -> 200248.44 | DC10: 1 LT | DD10: Merck | DE10: CTRM1008681000 | FH10: =SUM(M10,P10,V10,AB10,AH10,AN10,AT10,AZ10,BF10,BL10,BR10,BX10,CD10,CJ10,CP10,CV10,DB10,DH10,DN10,DT10,DZ10,EF10,EL10,ER10,EX10,FD10) -> 1794635.4 | FI10: =COUNTA(M10,N10,T10,Z10,AF10,AL10,AR10,AX10,BD10,BJ10,BP10,BV10,CB10,CH10,CN10,CT10,CZ10,DF10,DL10,DR10,DX10,ED10,EJ10,EP10,EV10,FB10) -> 4 | FJ10: =IFERROR(FH10/FI10," ") -> 448658.86
A11: =#REF! -> #REF! | B11: =#REF! -> #REF! | C11: =#REF! -> #REF! | D11: =#REF! -> #REF! | E11: 1 | F11: 542283 | G11: 525980 | H11: 550966.13 | I11: 550851 | J11: 484389.5 | K11: 490875 | L11: =AVERAGE(F11,H11,J11) -> 525879.54 | M11: =AVERAGE(G11,I11,K11)*1.03 -> 538245.73 | AX11: 438013.43 | AY11: =+AX11*0.19 -> 83222.551 | AZ11: =+AX11+AY11 -> 521235.98 | BA11: Frasco x 4 litros | BB11: JT Baker | BV11: 1068000 | BW11: =BV11*19% -> 202920 | BX11: =+BV11+BW11 -> 1270920 | BY11: frasco x 4 litros | BZ11: ACROS ORGANICS | CH11: 1100040 | CI11: =+CH11*0.19 -> 209007.6 | CJ11: =+CH11+CI11 -> 1309047.6 | CK11: frasco x 4 litros | CL11: ACROS ORGANICS | CZ11: 444690 | DA11: =+CZ11*0.19 -> 84491.1 | DB11: =+CZ11+DA11 -> 529181.1 | DC11: 4 LT | DD11: Merck | DE11: CTR1096234000 | FH11: =SUM(M11,P11,V11,AB11,AH11,AN11,AT11,AZ11,BF11,BL11,BR11,BX11,CD11,CJ11,CP11,CV11,DB11,DH11,DN11,DT11,DZ11,EF11,EL11,ER11,EX11,FD11) -> 4168630.4 | FI11: =COUNTA(M11,N11,T11,Z11,AF11,AL11,AR11,AX11,BD11,BJ11,BP11,BV11,CB11,CH11,CN11,CT11,CZ11,DF11,DL11,DR11,DX11,ED11,EJ11,EP11,EV11,FB11) -> 5 | FJ11: =IFERROR(FH11/FI11," ") -> 833726.08
A12: =#REF! -> #REF! | B12: =#REF! -> #REF! | C12: =#REF! -> #REF! | D12: =#REF! -> #REF! | E12: 1 | F12: 247573.55 | G12: 0 | H12: 509377.15 | I12: 0 | J12: 0 | K12: 0 | L12: =AVERAGE(F12,H12) -> 378475.35 | AL12: 230000 | AM12: =+AL12*0.19 -> 43700 | AN12: =+AL12+AM12 -> 273700 | AO12: Frasco x 500g | AP12: PANREAC | AR12: 288000 | AS12: =+AR12*0.19 -> 54720 | AT12: =+AR12+AS12 -> 342720 | AU12: Frasco x 500g | AV12: Santa Cruz Biotechnology | BV12: 644000 | BW12: =BV12*19% -> 122360 | BX12: =+BV12+BW12 -> 766360 | BY12: frasco x 500 gr | BZ12: PANREAC | CH12: 676200 | CI12: =+CH12*0.19 -> 128478 | CJ12: =+CH12+CI12 -> 804678 | CK12: frasco x 500 gr | CL12: PANREAC | CT12: 678333.33 | CU12: 128883.33 | CV12: =+CT12+CU12 -> 807216.67 | CZ12: 255172 | DA12: =+CZ12*0.19 -> 48482.68 | DB12: =+CZ12+DA12 -> 303654.68 | DC12: 500g | DD12: Merck | DE12: P236497500G | FH12: =SUM(M12,P12,V12,AB12,AH12,AN12,AT12,AZ12,BF12,BL12,BR12,BX12,CD12,CJ12,CP12,CV12,DB12,DH12,DN12,DT12,DZ12,EF12,EL12,ER12,EX12,FD12) -> 3298329.3 | FI12: =COUNTA(M12,N12,T12,Z12,AF12,AL12,AR12,AX12,BD12,BJ12,BP12,BV12,CB12,CH12,CN12,CT12,CZ12,DF12,DL12,DR12,DX12,ED12,EJ12,EP12,EV12,FB12) -> 6 | FJ12: =IFERROR(FH12/FI12," ") -> 549721.56
A13: =#REF! -> #REF! | B13: =#REF! -> #REF! | C13: =#REF! -> #REF! | D13: =#REF! -> #REF! | E13: 1 | F13: 275083.29 | G13: 261324 | H13: 288452.07 | I13: 128520 | J13: 326718.27 | K13: 329511 | L13: =AVERAGE(F13,H13,J13) -> 296751.21 | M13: =AVERAGE(G13,I13,K13)*1.03 -> 246978.55 | AF13: 300000 | AG13: =AF13*19% -> 57000 | AH13: =+AF13+AG13 -> 357000 | AL13: 254000 | AM13: =+AL13*0.19 -> 48260 | AN13: =+AL13+AM13 -> 302260 | AO13: Frasco x 500g | AP13: PANREAC | AR13: =201600*2 -> 403200 | AS13: =+AR13*0.19 -> 76608 | AT13: =+AR13+AS13 -> 479808 | AU13: Frasco x 250g | AV13: Santa Cruz Biotechnology | AX13: 153293.76 | AY13: =+AX13*0.19 -> 29125.814 | AZ13: =+AX13+AY13 -> 182419.57 | BA13: Frasco x 500g | BB13: JT Baker | BV13: 347600 | BW13: =BV13*19% -> 66044 | BX13: =+BV13+BW13 -> 413644 | BY13: frasco x 500 gr | BZ13: JT BAKER | CB13: 206000 | CC13: =+CB13*19% -> 39140 | CD13: =+CC13+CB13 -> 245140 | CH13: 364980 | CI13: =+CH13*0.19 -> 69346.2 | CJ13: =+CH13+CI13 -> 434326.2 | CK13: frasco x 500 gr | CL13: JT BAKER | CT13: 136000 | CU13: 25840 | CV13: =+CT13+CU13 -> 161840 | FH13: =SUM(M13,P13,V13,AB13,AH13,AN13,AT13,AZ13,BF13,BL13,BR13,BX13,CD13,CJ13,CP13,CV13,DB13,DH13,DN13,DT13,DZ13,EF13,EL13,ER13,EX13,FD13) -> 2823416.3 | FI13: =COUNTA(M13,N13,T13,Z13,AF13,AL13,AR13,AX13,BD13,BJ13,BP13,BV13,CB13,CH13,CN13,CT13,CZ13,DF13,DL13,DR13,DX13,ED13,EJ13,EP13,EV13,FB13) -> 9 | FJ13: =IFERROR(FH13/FI13," ") -> 313712.92
A14: =#REF! -> #REF! | B14: =#REF! -> #REF! | C14: =#REF! -> #REF! | D14: =#REF! -> #REF! | E14: 1 | F14: 0 | G14: 0 | H14: 0 | I14: 0 | J14: 359383.97 | K14: 335342 | L14: =J14 -> 359383.97 | M14: =K14*1.03 -> 345402.26 | AL14: =298000/2 -> 149000 | AM14: =+AL14*0.19 -> 28310 | AN14: =+AL14+AM14 -> 177310 | AO14: Frasco x 500g | AP14: PANREAC | BV14: 382600 | BW14: =BV14*19% -> 72694 | BX14: =+BV14+BW14 -> 455294 | BY14: frasco x 250 gr | BZ14: JT BAKER | CB14: 236000 | CC14: =+CB14*19% -> 44840 | CD14: =+CC14+CB14 -> 280840 | CH14: 401730 | CI14: =+CH14*0.19 -> 76328.7 | CJ14: =+CH14+CI14 -> 478058.7 | CK14: frasco x 250 gr | CL14: JT BAKER | CT14: 338000 | CU14: 64220 | CV14: =+CT14+CU14 -> 402220 | CZ14: 110897 | DA14: =+CZ14*0.19 -> 21070.43 | DB14: =+CZ14+DA14 -> 131967.43 | DC14: 250 G | DD14: Merck | DE14: 1088020250 | FH14: =SUM(M14,P14,V14,AB14,AH14,AN14,AT14,AZ14,BF14,BL14,BR14,BX14,CD14,CJ14,CP14,CV14,DB14,DH14,DN14,DT14,DZ14,EF14,EL14,ER14,EX14,FD14) -> 2271092.4 | FI14: =COUNTA(M14,N14,T14,Z14,AF14,AL14,AR14,AX14,BD14,BJ14,BP14,BV14,CB14,CH14,CN14,CT14,CZ14,DF14,DL14,DR14,DX14,ED14,EJ14,EP14,EV14,FB14) -> 7 | FJ14: =IFERROR(FH14/FI14," ") -> 324441.77
A15: =#REF! -> #REF! | B15: =#REF! -> #REF! | C15: =#REF! -> #REF! | D15: =#REF! -> #REF! | E15: 1 | F15: 248276.5 | G15: 239547 | H15: 292904.21 | I15: 292859 | J15: 294171.98 | K15: 325465 | L15: =AVERAGE(F15,H15,J15) -> 278450.9 | M15: =AVERAGE(G15,I15,K15)*1.03 -> 294535.71 | AL15: 265000 | AM15: =+AL15*0.19 -> 50350 | AN15: =+AL15+AM15 -> 315350 | AO15: Frasco x 5 litro | AP15: PANREAC | AX15: 373837.68 | AY15: =+AX15*0.19 -> 71029.159 | AZ15: =+AX15+AY15 -> 444866.84 | BA15: Frasco x 4 litros | BB15: JT Baker | BV15: 281400 | BW15: =BV15*19% -> 53466 | BX15: =+BV15+BW15 -> 334866 | BY15: frasco x 4 litros | BZ15: JT BAKER | CH15: 295470 | CI15: =+CH15*0.19 -> 56139.3 | CJ15: =+CH15+CI15 -> 351609.3 | CK15: frasco x 4 litros | CL15: JT BAKER | CT15: 538000 | CU15: 102220 | CV15: =+CT15+CU15 -> 640220 | CZ15: 153931 | DA15: =+CZ15*0.19 -> 29246.89 | DB15: =+CZ15+DA15 -> 183177.89 | DC15: 4LT | DD15: Merck | DE15: CTRM1000144000 | FH15: =SUM(M15,P15,V15,AB15,AH15,AN15,AT15,AZ15,BF15,BL15,BR15,BX15,CD15,CJ15,CP15,CV15,DB15,DH15,DN15,DT15,DZ15,EF15,EL15,ER15,EX15,FD15) -> 2564625.7 | FI15: =COUNTA(M15,N15,T15,Z15,AF15,AL15,AR15,AX15,BD15,BJ15,BP15,BV15,CB15,CH15,CN15,CT15,CZ15,DF15,DL15,DR15,DX15,ED15,EJ15,EP15,EV15,FB15) -> 7 | FJ15: =IFERROR(FH15/FI15," ") -> 366375.11
A16: =#REF! -> #REF! | B16: =#REF! -> #REF! | C16: =#REF! -> #REF! | D16: =#REF! -> #REF! | E16: 1 | F16: 0 | G16: 0 | H16: 0 | I16: 0 | J16: 0 | K16: 0 | AF16: 725000 | AG16: =AF16*19% -> 137750 | AH16: =+AF16+AG16 -> 862750 | AL16: 590000 | AM16: =+AL16*0.19 -> 112100 | AN16: =+AL16+AM16 -> 702100 | AO16: Frasco x 4 litro | AP16: PANREAC | AX16: 823237.47 | AY16: =+AX16*0.19 -> 156415.12 | AZ16: =+AX16+AY16 -> 979652.59 | BA16: Frasco x 4 litros | BB16: JT Baker | BV16: 726600 | BW16: =BV16*19% -> 138054 | BX16: =+BV16+BW16 -> 864654 | BY16: frasco x 4 litros | BZ16: JT BAKER | CH16: 733866 | CI16: =+CH16*0.19 -> 139434.54 | CJ16: =+CH16+CI16 -> 873300.54 | CK16: frasco x 4 litros | CL16: JT BAKER | CT16: 305000 | CU16: 57950 | CV16: =+CT16+CU16 -> 362950 | CZ16: 414344 | DA16: =+CZ16*0.19 -> 78725.36 | DB16: =+CZ16+DA16 -> 493069.36 | DC16: 4 Lts | DD16: Merck | DE16: CTRM1000204000 | FH16: =SUM(M16,P16,V16,AB16,AH16,AN16,AT16,AZ16,BF16,BL16,BR16,BX16,CD16,CJ16,CP16,CV16,DB16,DH16,DN16,DT16,DZ16,EF16,EL16,ER16,EX16,FD16) -> 5138476.5 | FI16: =COUNTA(M16,N16,T16,Z16,AF16,AL16,AR16,AX16,BD16,BJ16,BP16,BV16,CB16,CH16,CN16,CT16,CZ16,DF16,DL16,DR16,DX16,ED16,EJ16,EP16,EV16,FB16) -> 7 | FJ16: =IFERROR(FH16/FI16," ") -> 734068.07
A17: =#REF! -> #REF! | B17: =#REF! -> #REF! | C17: =#REF! -> #REF! | D17: =#REF! -> #REF! | E17: 1 | F17: 0 | G17: 0 | H17: 0 | I17: 0 | J17: 0 | K17: 0 | AF17: 290000 | AG17: =AF17*19% -> 55100 | AH17: =+AF17+AG17 -> 345100 | AL17: 297000 | AM17: =+AL17*0.19 -> 56430 | AN17: =+AL17+AM17 -> 353430 | AO17: Frasco x 4 litro | AP17: PANREAC | AR17: 281534 | AS17: =+AR17*0.19 -> 53491.46 | AT17: =+AR17+AS17 -> 335025.46 | AU17: Frasco x 4 litros | AV17: PANREAC | BV17: 349400 | BW17: =BV17*19% -> 66386 | BX17: =+BV17+BW17 -> 415786 | BY17: frasco x 4 litros | BZ17: JT BAKER | CB17: 199800 | CC17: =+CB17*19% -> 37962 | CD17: =+CC17+CB17 -> 237762 | CH17: 370364 | CI17: =+CH17*0.19 -> 70369.16 | CJ17: =+CH17+CI17 -> 440733.16 | CK17: frasco x 4 litros | CL17: JT BAKER | CT17: 444000 | CU17: =+CT17*0 -> 0 | CV17: =+CT17+CU17 -> 444000 | CZ17: 312828 | DA17: =+CZ17*0.19 -> 59437.32 | DB17: =+CZ17+DA17 -> 372265.32 | DC17: 4 LT | DD17: Merck | DE17: 1000304000 | FH17: =SUM(M17,P17,V17,AB17,AH17,AN17,AT17,AZ17,BF17,BL17,BR17,BX17,CD17,CJ17,CP17,CV17,DB17,DH17,DN17,DT17,DZ17,EF17,EL17,ER17,EX17,FD17) -> 2944101.9 | FI17: =COUNTA(M17,N17,T17,Z17,AF17,AL17,AR17,AX17,BD17,BJ17,BP17,BV17,CB17,CH17,CN17,CT17,CZ17,DF17,DL17,DR17,DX17,ED17,EJ17,EP17,EV17,FB17) -> 8 | FJ17: =IFERROR(FH17/FI17," ") -> 368012.74
A18: =#REF! -> #REF! | B18: =#REF! -> #REF! | C18: =#REF! -> #REF! | D18: =#REF! -> #REF! | E18: 1 | F18: 0 | G18: 0 | H18: 0 | I18: 0 | J18: 0 | K18: 0 | AF18: 398000 | AG18: =AF18*19% -> 75620 | AH18: =+AF18+AG18 -> 473620 | BV18: 800500 | BW18: =BV18*19% -> 152095 | BX18: =+BV18+BW18 -> 952595 | BY18: frasco x 4 litros | BZ18: JT BAKER | CT18: 842500 | CU18: =+CT18*0 -> 0 | CV18: =+CT18+CU18 -> 842500 | CZ18: 228966 | DA18: =+CZ18*0.19 -> 43503.54 | DB18: =+CZ18+DA18 -> 272469.54 | DC18: 4LT | DD18: Merck | DE18: 1000034000 | FH18: =SUM(M18,P18,V18,AB18,AH18,AN18,AT18,AZ18,BF18,BL18,BR18,BX18,CD18,CJ18,CP18,CV18,DB18,DH18,DN18,DT18,DZ18,EF18,EL18,ER18,EX18,FD18) -> 2541184.5 | FI18: =COUNTA(M18,N18,T18,Z18,AF18,AL18,AR18,AX18,BD18,BJ18,BP18,BV18,CB18,CH18,CN18,CT18,CZ18,DF18,DL18,DR18,DX18,ED18,EJ18,EP18,EV18,FB18) -> 4 | FJ18: =IFERROR(FH18/FI18," ") -> 635296.14
A19: =#REF! -> #REF! | B19: =#REF! -> #REF! | C19: =#REF! -> #REF! | D19: =#REF! -> #REF! | E19: 1 | F19: 0 | G19: 0 | H19: 0 | I19: 0 | J19: 0 | K19: 0 | BV19: 1920000 | BW19: =BV19*19% -> 364800 | BX19: =+BV19+BW19 -> 2284800 | BY19: frasco x 2.5 litros | BZ19: MERCK | CT19: 175000 | CU19: 8750 | CV19: =+CT19+CU19 -> 183750 | CZ19: 410483 | DA19: =+CZ19*0.19 -> 77991.77 | DB19: =+CZ19+DA19 -> 488474.77 | DC19: 2.5 L | DD19: Merck | DE19: 1000292500 | FH19: =SUM(M19,P19,V19,AB19,AH19,AN19,AT19,AZ19,BF19,BL19,BR19,BX19,CD19,CJ19,CP19,CV19,DB19,DH19,DN19,DT19,DZ19,EF19,EL19,ER19,EX19,FD19) -> 2957024.8 | FI19: =COUNTA(M19,N19,T19,Z19,AF19,AL19,AR19,AX19,BD19,BJ19,BP19,BV19,CB19,CH19,CN19,CT19,CZ19,DF19,DL19,DR19,DX19,ED19,EJ19,EP19,EV19,FB19) -> 3 | FJ19: =IFERROR(FH19/FI19," ") -> 985674.92
A20: =#REF! -> #REF! | B20: =#REF! -> #REF! | C20: =#REF! -> #REF! | D20: =#REF! -> #REF! | E20: 1 | F20: 0 | G20: 0 | H20: 0 | I20: 0 | J20: 0 | K20: 0 | CT20: 112500 | CU20: 21375 | CV20: =+CT20+CU20 -> 133875 | FH20: =SUM(M20,P20,V20,AB20,AH20,AN20,AT20,AZ20,BF20,BL20,BR20,BX20,CD20,CJ20,CP20,CV20,DB20,DH20,DN20,DT20,DZ20,EF20,EL20,ER20,EX20,FD20) -> 133875 | FI20: =COUNTA(M20,N20,T20,Z20,AF20,AL20,AR20,AX20,BD20,BJ20,BP20,BV20,CB20,CH20,CN20,CT20,CZ20,DF20,DL20,DR20,DX20,ED20,EJ20,EP20,EV20,FB20) -> 1 | FJ20: =IFERROR(FH20/FI20," ") -> 133875
A21: =#REF! -> #REF! | B21: =#REF! -> #REF! | C21: =#REF! -> #REF! | D21: =#REF! -> #REF! | E21: 1 | F21: 191114 | G21: 183379 | H21: 277191.14 | I21: 277151 | J21: 203348.42 | K21: 198254 | L21: =AVERAGE(F21,H21,J21) -> 223884.52 | M21: =AVERAGE(G21,I21,K21)*1.03 -> 226182.51 | AF21: 190000 | AG21: =AF21*19% -> 36100 | AH21: =+AF21+AG21 -> 226100 | AL21: 189000 | AM21: =+AL21*0.19 -> 35910 | AN21: =+AL21+AM21 -> 224910 | AO21: Frasco x 2,5 litro | AP21: PANREAC | AR21: 179980 | AS21: =+AR21*0.19 -> 34196.2 | AT21: =+AR21+AS21 -> 214176.2 | AU21: Frasco x 2,5 litro | AV21: PANREAC | AX21: 260576.73 | AY21: =+AX21*0.19 -> 49509.579 | AZ21: =+AX21+AY21 -> 310086.31 | BA21: Frasco x 2,5 litros | BB21: JT Baker | BV21: 296800 | BW21: =BV21*19% -> 56392 | BX21: =+BV21+BW21 -> 353192 | BY21: frasco x 2.5 litros | BZ21: MERCK | CB21: 128250 | CC21: =+CB21*19% -> 24367.5 | CD21: =+CC21+CB21 -> 152617.5 | CH21: 317576 | CI21: =+CH21*0.19 -> 60339.44 | CJ21: =+CH21+CI21 -> 377915.44 | CK21: frasco x 2.5 litros | CL21: MERCK | CT21: 416666.67 | CU21: 79166.667 | CV21: =+CT21+CU21 -> 495833.33 | CZ21: 142345 | DA21: =+CZ21*0.19 -> 27045.55 | DB21: =+CZ21+DA21 -> 169390.55 | DC21: 2.5 L | DD21: Merck | DE21: 1000622500 | FH21: =SUM(M21,P21,V21,AB21,AH21,AN21,AT21,AZ21,BF21,BL21,BR21,BX21,CD21,CJ21,CP21,CV21,DB21,DH21,DN21,DT21,DZ21,EF21,EL21,ER21,EX21,FD21) -> 2750403.8 | FI21: =COUNTA(M21,N21,T21,Z21,AF21,AL21,AR21,AX21,BD21,BJ21,BP21,BV21,CB21,CH21,CN21,CT21,CZ21,DF21,DL21,DR21,DX21,ED21,EJ21,EP21,EV21,FB21) -> 10 | FJ21: =IFERROR(FH21/FI21," ") -> 275040.38
A22: =#REF! -> #REF! | B22: =#REF! -> #REF! | C22: =#REF! -> #REF! | D22: =#REF! -> #REF! | E22: 1 | F22: 288646.43 | G22: 75300 | H22: 228376.64 | I22: 228361 | J22: 0 | K22: 0 | L22: =AVERAGE(F22,H22) -> 258511.53 | M22: =AVERAGE(G22,I22)*1.03 -> 156385.42 | AF22: 130000 | AG22: =AF22*19% -> 24700 | AH22: =+AF22+AG22 -> 154700 | AL22: 121000 | AM22: =+AL22*0 -> 0 | AN22: =+AL22+AM22 -> 121000 | AO22: Frasco x 100g | AP22: PANREAC | AR22: 273600 | AS22: =+AR22*0.19 -> 51984 | AT22: =+AR22+AS22 -> 325584 | AU22: Frasco x 100g | AV22: Santa Cruz Biotechnology | AX22: =711203.61/5 -> 142240.72 | AY22: =+AX22*0.19 -> 27025.737 | AZ22: =+AX22+AY22 -> 169266.46 | BA22: Frasco x 500g | BB22: JT Baker | BV22: 1135200 | BW22: =BV22*19% -> 215688 | BX22: =+BV22+BW22 -> 1350888 | BY22: frasco x 100 gr | BZ22: MACRON | CH22: 1146552 | CI22: =+CH22*0.19 -> 217844.88 | CJ22: =+CH22+CI22 -> 1364396.9 | CK22: frasco x 100 gr | CL22: MACRON | CT22: 1049920 | CU22: 199484.8 | CV22: =+CT22+CU22 -> 1249404.8 | CZ22: 83862 | DA22: 0 | DB22: 83862 | DC22: 100g | DD22: Merck | DE22: 1004680100 | FH22: =SUM(M22,P22,V22,AB22,AH22,AN22,AT22,AZ22,BF22,BL22,BR22,BX22,CD22,CJ22,CP22,CV22,DB22,DH22,DN22,DT22,DZ22,EF22,EL22,ER22,EX22,FD22) -> 4975487.6 | FI22: =COUNTA(M22,N22,T22,Z22,AF22,AL22,AR22,AX22,BD22,BJ22,BP22,BV22,CB22,CH22,CN22,CT22,CZ22,DF22,DL22,DR22,DX22,ED22,EJ22,EP22,EV22,FB22) -> 9 | FJ22: =IFERROR(FH22/FI22," ") -> 552831.95
A23: =#REF! -> #REF! | B23: =#REF! -> #REF! | C23: =#REF! -> #REF! | D23: =#REF! -> #REF! | E23: 1 | F23: 277448.5 | G23: 273224 | H23: 265023.19 | I23: 265013 | J23: 324258.88 | K23: 311780 | L23: =AVERAGE(F23,H23,J23) -> 288910.19 | M23: =AVERAGE(G23,I23,K23)*1.03 -> 291839.17 | AF23: 250000 | AG23: =AF23*19% -> 47500 | AH23: =+AF23+AG23 -> 297500 | AL23: 260000 | AM23: =+AL23*0.19 -> 49400 | AN23: =+AL23+AM23 -> 309400 | AO23: Frasco x 1Kg | AP23: PANREAC | AR23: 468000 | AS23: =+AR23*0.19 -> 88920 | AT23: =+AR23+AS23 -> 556920 | AU23: Frasco x 500g | AV23: Santa Cruz Biotechnology | BV23: 297600 | BW23: =BV23*19% -> 56544 | BX23: =+BV23+BW23 -> 354144 | BY23: frasco x 1kg | BZ23: JT BAKER | CB23: 188000 | CC23: =+CB23*19% -> 35720 | CD23: =+CC23+CB23 -> 223720 | CH23: 300576 | CI23: =+CH23*0.19 -> 57109.44 | CJ23: =+CH23+CI23 -> 357685.44 | CK23: frasco x 1kg | CL23: JT BAKER | CT23: 995520 | CU23: 189148.8 | CV23: =+CT23+CU23 -> 1184668.8 | CZ23: 179310 | DA23: =+CZ23*0.19 -> 34068.9 | DB23: =+CZ23+DA23 -> 213378.9 | DC23: 100g | DD23: Merck | DE23: 1004680100 | FH23: =SUM(M23,P23,V23,AB23,AH23,AN23,AT23,AZ23,BF23,BL23,BR23,BX23,CD23,CJ23,CP23,CV23,DB23,DH23,DN23,DT23,DZ23,EF23,EL23,ER23,EX23,FD23) -> 3789256.3 | FI23: =COUNTA(M23,N23,T23,Z23,AF23,AL23,AR23,AX23,BD23,BJ23,BP23,BV23,CB23,CH23,CN23,CT23,CZ23,DF23,DL23,DR23,DX23,ED23,EJ23,EP23,EV23,FB23) -> 9 | FJ23: =IFERROR(FH23/FI23," ") -> 421028.48
A24: =#REF! -> #REF! | B24: =#REF! -> #REF! | C24: =#REF! -> #REF! | D24: =#REF! -> #REF! | E24: 1 | F24: 384951.91 | G24: 371399 | H24: 374396.3 | I24: 374374 | J24: 307766.34 | K24: 357000 | L24: =AVERAGE(F24,H24,J24) -> 355704.85 | M24: =AVERAGE(G24,I24,K24)*1.03 -> 378618.73 | AF24: 400000 | AG24: =AF24*19% -> 76000 | AH24: =+AF24+AG24 -> 476000 | AL24: 321000 | AM24: =+AL24*0.19 -> 60990 | AN24: =+AL24+AM24 -> 381990 | AO24: Frasco x 1Kg | AP24: PANREAC | AR24: 273600 | AS24: =+AR24*0.19 -> 51984 | AT24: =+AR24+AS24 -> 325584 | AU24: Frasco x 500g | AV24: Santa Cruz Biotechnology | AX24: 184944.69 | AY24: =+AX24*0.19 -> 35139.491 | AZ24: =+AX24+AY24 -> 220084.18 | BA24: Frasco x 1kg | BB24: JT Baker | BV24: 480000 | BW24: =BV24*19% -> 91200 | BX24: =+BV24+BW24 -> 571200 | BY24: frasco x 1kg | BZ24: MERCK | CH24: 508800 | CI24: =+CH24*0.19 -> 96672 | CJ24: =+CH24+CI24 -> 605472 | CK24: frasco x 1kg | CL24: MERCK | CT24: 995520 | CU24: 189148.8 | CV24: =+CT24+CU24 -> 1184668.8 | CZ24: 229517 | DA24: =+CZ24*0.19 -> 43608.23 | DB24: =+CZ24+DA24 -> 273125.23 | DC24: 1 Kg | DD24: Merck | DE24: 1002441000 | FH24: =SUM(M24,P24,V24,AB24,AH24,AN24,AT24,AZ24,BF24,BL24,BR24,BX24,CD24,CJ24,CP24,CV24,DB24,DH24,DN24,DT24,DZ24,EF24,EL24,ER24,EX24,FD24) -> 4416742.9 | FI24: =COUNTA(M24,N24,T24,Z24,AF24,AL24,AR24,AX24,BD24,BJ24,BP24,BV24,CB24,CH24,CN24,CT24,CZ24,DF24,DL24,DR24,DX24,ED24,EJ24,EP24,EV24,FB24) -> 9 | FJ24: =IFERROR(FH24/FI24," ") -> 490749.22
A25: =#REF! -> #REF! | B25: =#REF! -> #REF! | C25: =#REF! -> #REF! | D25: =#REF! -> #REF! | E25: 1 | F25: 175229.2 | G25: 174930 | H25: 159205.28 | I25: 0 | J25: 211073.67 | K25: 190876 | L25: =AVERAGE(F25,H25,J25) -> 181836.05 | M25: =AVERAGE(G25,K25)*1.03 -> 188390.09 | AF25: 138000 | AG25: =AF25*19% -> 26220 | AH25: =+AF25+AG25 -> 164220 | AL25: 149000 | AM25: =+AL25*0.19 -> 28310 | AN25: =+AL25+AM25 -> 177310 | AO25: Frasco x 2,5 litro | AP25: PANREAC | BV25: 130500 | BW25: =BV25*19% -> 24795 | BX25: =+BV25+BW25 -> 155295 | BY25: frasco x 2.5 litros | BZ25: JT BAKER | CH25: 138330 | CI25: =+CH25*0.19 -> 26282.7 | CJ25: =+CH25+CI25 -> 164612.7 | CK25: frasco x 2.5 litros | CL25: JT BAKER | CT25: 250240 | CU25: 47545.6 | CV25: =+CT25+CU25 -> 297785.6 | CZ25: 99862 | DA25: =+CZ25*0.19 -> 18973.78 | DB25: =+CZ25+DA25 -> 118835.78 | DC25: 2.5 l | DD25: Merck | DE25: CTR1003172500 | FH25: =SUM(M25,P25,V25,AB25,AH25,AN25,AT25,AZ25,BF25,BL25,BR25,BX25,CD25,CJ25,CP25,CV25,DB25,DH25,DN25,DT25,DZ25,EF25,EL25,ER25,EX25,FD25) -> 1266449.2 | FI25: =COUNTA(M25,N25,T25,Z25,AF25,AL25,AR25,AX25,BD25,BJ25,BP25,BV25,CB25,CH25,CN25,CT25,CZ25,DF25,DL25,DR25,DX25,ED25,EJ25,EP25,EV25,FB25) -> 7 | FJ25: =IFERROR(FH25/FI25," ") -> 180921.31
A26: =#REF! -> #REF! | B26: =#REF! -> #REF! | C26: =#REF! -> #REF! | D26: =#REF! -> #REF! | E26: 1 | F26: 0 | G26: 0 | H26: 812403 | I26: 0 | J26: 0 | K26: 0 | L26: =H26 -> 812403 | AR26: =1728000/4 -> 432000 | AS26: =+AR26*0.19 -> 82080 | AT26: =+AR26+AS26 -> 514080 | AU26: Frasco x 100mg | AV26: Santa Cruz Biotechnology | BV26: 1414000 | BW26: =BV26*19% -> 268660 | BX26: =+BV26+BW26 -> 1682660 | BY26: frasco x 25 gr | BZ26: SIGMA | CH26: 1470560 | CI26: =+CH26*0.19 -> 279406.4 | CJ26: =+CH26+CI26 -> 1749966.4 | CK26: frasco x 25 gr | CL26: SIGMA | CT26: 233920 | CU26: 44444.8 | CV26: =+CT26+CU26 -> 278364.8 | CZ26: 1123762 | DA26: =+CZ26*0.19 -> 213514.78 | DB26: =+CZ26+DA26 -> 1337276.8 | DC26: 25g | DD26: Sigma aldrich | DE26: 31811625G | FH26: =SUM(M26,P26,V26,AB26,AH26,AN26,AT26,AZ26,BF26,BL26,BR26,BX26,CD26,CJ26,CP26,CV26,DB26,DH26,DN26,DT26,DZ26,EF26,EL26,ER26,EX26,FD26) -> 5562348 | FI26: =COUNTA(M26,N26,T26,Z26,AF26,AL26,AR26,AX26,BD26,BJ26,BP26,BV26,CB26,CH26,CN26,CT26,CZ26,DF26,DL26,DR26,DX26,ED26,EJ26,EP26,EV26,FB26) -> 5 | FJ26: =IFERROR(FH26/FI26," ") -> 1112469.6
A27: =#REF! -> #REF! | B27: =#REF! -> #REF! | C27: =#REF! -> #REF! | D27: =#REF! -> #REF! | E27: 1 | F27: 0 | G27: 0 | H27: 1120997.6 | I27: 197540 | J27: 333332.91 | K27: 315350 | L27: =AVERAGE(H27,J27) -> 727165.23 | M27: =AVERAGE(I27,K27)*1.03 -> 264138.35 | AF27: 260000 | AG27: =AF27*19% -> 49400 | AH27: =+AF27+AG27 -> 309400 | AL27: 276000 | AM27: =+AL27*0.19 -> 52440 | AN27: =+AL27+AM27 -> 328440 | AO27: Frasco x 2,5 litro | AP27: PANREAC | AR27: 271479 | AS27: =+AR27*0.19 -> 51581.01 | AT27: =+AR27+AS27 -> 323060.01 | AU27: Frasco x 2,5 litros | AV27: PANREAC | BV27: 404200 | BW27: =BV27*19% -> 76798 | BX27: =+BV27+BW27 -> 480998 | BY27: frasco x 2.5 litros | BZ27: MERCK | CH27: 416326 | CI27: =+CH27*0.19 -> 79101.94 | CJ27: =+CH27+CI27 -> 495427.94 | CK27: frasco x 2.5 litros | CL27: MERCK | CT27: 244800 | CU27: 46512 | CV27: =+CT27+CU27 -> 291312 | FH27: =SUM(M27,P27,V27,AB27,AH27,AN27,AT27,AZ27,BF27,BL27,BR27,BX27,CD27,CJ27,CP27,CV27,DB27,DH27,DN27,DT27,DZ27,EF27,EL27,ER27,EX27,FD27) -> 2492776.3 | FI27: =COUNTA(M27,N27,T27,Z27,AF27,AL27,AR27,AX27,BD27,BJ27,BP27,BV27,CB27,CH27,CN27,CT27,CZ27,DF27,DL27,DR27,DX27,ED27,EJ27,EP27,EV27,FB27) -> 7 | FJ27: =IFERROR(FH27/FI27," ") -> 356110.9
A28: =#REF! -> #REF! | B28: =#REF! -> #REF! | C28: =#REF! -> #REF! | D28: =#REF! -> #REF! | E28: 1 | F28: 0 | G28: 0 | H28: 0 | I28: 0 | J28: 0 | K28: 0 | AX28: 553735.82 | AY28: =+AX28*0.19 -> 105209.81 | AZ28: =+AX28+AY28 -> 658945.63 | BA28: Frasco x 2,5 litros | BB28: JT Baker | BV28: 454100 | BW28: =BV28*19% -> 86279 | BX28: =+BV28+BW28 -> 540379 | BY28: frasco 50 ml | BZ28: MERCK | CH28: 463182 | CI28: =+CH28*0.19 -> 88004.58 | CJ28: =+CH28+CI28 -> 551186.58 | CK28: frasco 50 ml | CL28: MERCK | CT28: 342720 | CU28: 65116.8 | CV28: =+CT28+CU28 -> 407836.8 | FH28: =SUM(M28,P28,V28,AB28,AH28,AN28,AT28,AZ28,BF28,BL28,BR28,BX28,CD28,CJ28,CP28,CV28,DB28,DH28,DN28,DT28,DZ28,EF28,EL28,ER28,EX28,FD28) -> 2158348 | FI28: =COUNTA(M28,N28,T28,Z28,AF28,AL28,AR28,AX28,BD28,BJ28,BP28,BV28,CB28,CH28,CN28,CT28,CZ28,DF28,DL28,DR28,DX28,ED28,EJ28,EP28,EV28,FB28) -> 4 | FJ28: =IFERROR(FH28/FI28," ") -> 539587
A29: =#REF! -> #REF! | B29: =#REF! -> #REF! | C29: =#REF! -> #REF! | D29: =#REF! -> #REF! | E29: 1 | F29: 0 | G29: 0 | H29: 1372129.5 | I29: 0 | J29: 1374436.9 | K29: 0 | L29: =AVERAGE(H29,J29) -> 1373283.2 | AL29: 1250000 | AM29: =+AL29*0.19 -> 237500 | AN29: =+AL29+AM29 -> 1487500 | AO29: Frasco x 100g | AP29: PANREAC | AR29: =893871/4 -> 223467.75 | AS29: =+AR29*0.19 -> 42458.872 | AT29: =+AR29+AS29 -> 265926.62 | AU29: Frasco x 100g | AV29: PANREAC | BV29: 3194800 | BW29: =BV29*19% -> 607012 | BX29: =+BV29+BW29 -> 3801812 | BY29: frasco x 25 gr | BZ29: JT BAKER | CT29: 369920 | CU29: 70284.8 | CV29: =+CT29+CU29 -> 440204.8 | CZ29: 342621 | DA29: =+CZ29*0.19 -> 65097.99 | DB29: =+CZ29+DA29 -> 407718.99 | DC29: BOTELLA/25g | DD29: Merck | DE29: 1005320025 | FH29: =SUM(M29,P29,V29,AB29,AH29,AN29,AT29,AZ29,BF29,BL29,BR29,BX29,CD29,CJ29,CP29,CV29,DB29,DH29,DN29,DT29,DZ29,EF29,EL29,ER29,EX29,FD29) -> 6403162.4 | FI29: =COUNTA(M29,N29,T29,Z29,AF29,AL29,AR29,AX29,BD29,BJ29,BP29,BV29,CB29,CH29,CN29,CT29,CZ29,DF29,DL29,DR29,DX29,ED29,EJ29,EP29,EV29,FB29) -> 5 | FJ29: =IFERROR(FH29/FI29," ") -> 1280632.5
A30: =#REF! -> #REF! | B30: =#REF! -> #REF! | C30: =#REF! -> #REF! | D30: =#REF! -> #REF! | E30: 1 | F30: 0 | G30: 0 | H30: 661045 | I30: 0 | J30: 0 | K30: 0 | L30: =H30 -> 661045 | BV30: 1151600 | BW30: =BV30*19% -> 218804 | BX30: =+BV30+BW30 -> 1370404 | BY30: frasco x 25gr | BZ30: JT BAKER | CH30: 1220696 | CI30: =+CH30*0.19 -> 231932.24 | CJ30: =+CH30+CI30 -> 1452628.2 | CK30: frasco x 25gr | CL30: JT BAKER | CT30: 183000 | CU30: 34770 | CV30: =+CT30+CU30 -> 217770 | FH30: =SUM(M30,P30,V30,AB30,AH30,AN30,AT30,AZ30,BF30,BL30,BR30,BX30,CD30,CJ30,CP30,CV30,DB30,DH30,DN30,DT30,DZ30,EF30,EL30,ER30,EX30,FD30) -> 3040802.2 | FI30: =COUNTA(M30,N30,T30,Z30,AF30,AL30,AR30,AX30,BD30,BJ30,BP30,BV30,CB30,CH30,CN30,CT30,CZ30,DF30,DL30,DR30,DX30,ED30,EJ30,EP30,EV30,FB30) -> 3 | FJ30: =IFERROR(FH30/FI30," ") -> 1013600.7
A31: =#REF! -> #REF! | B31: =#REF! -> #REF! | C31: =#REF! -> #REF! | D31: =#REF! -> #REF! | E31: 1 | F31: 1375838.3 | G31: 1341368 | H31: 682189.06 | I31: 514080 | J31: 0 | K31: 0 | L31: =AVERAGE(F31,H31) -> 1029013.7 | M31: =AVERAGE(G31,I31)*1.03 -> 955555.72 | AF31: 950000 | AG31: =AF31*19% -> 180500 | AH31: =+AF31+AG31 -> 1130500 | AL31: 759000 | AM31: =+AL31*0.19 -> 144210 | AN31: =+AL31+AM31 -> 903210 | AO31: Frasco x 5g | AP31: PANREAC | AR31: 964800 | AS31: =+AR31*0.19 -> 183312 | AT31: =+AR31+AS31 -> 1148112 | AU31: Frasco x 5g | AV31: Santa Cruz Biotechnology | BV31: 4452000 | BW31: =BV31*19% -> 845880 | BX31: =+BV31+BW31 -> 5297880 | BY31: frasco x 5 gr | BZ31: PANREAC | CT31: 250240 | CU31: 47545.6 | CV31: =+CT31+CU31 -> 297785.6 | FH31: =SUM(M31,P31,V31,AB31,AH31,AN31,AT31,AZ31,BF31,BL31,BR31,BX31,CD31,CJ31,CP31,CV31,DB31,DH31,DN31,DT31,DZ31,EF31,EL31,ER31,EX31,FD31) -> 9733043.3 | FI31: =COUNTA(M31,N31,T31,Z31,AF31,AL31,AR31,AX31,BD31,BJ31,BP31,BV31,CB31,CH31,CN31,CT31,CZ31,DF31,DL31,DR31,DX31,ED31,EJ31,EP31,EV31,FB31) -> 6 | FJ31: =IFERROR(FH31/FI31," ") -> 1622173.9
A32: =#REF! -> #REF! | B32: =#REF! -> #REF! | C32: =#REF! -> #REF! | D32: =#REF! -> #REF! | E32: 1 | F32: 0 | G32: 0 | H32: 0 | I32: 0 | J32: 0 | K32: 0 | AL32: 146000 | AM32: =+AL32*0.19 -> 27740 | AN32: =+AL32+AM32 -> 173740 | AO32: Frasco x 250g | AP32: PANREAC | AR32: 3960000 | AS32: =+AR32*0.19 -> 752400 | AT32: =+AR32+AS32 -> 4712400 | AU32: Frasco x 100g | AV32: Santa Cruz Biotechnology | BV32: 354700 | BW32: =BV32*19% -> 67393 | BX32: =+BV32+BW32 -> 422093 | BY32: frasco x 100 gr | BZ32: SIGMA | CH32: 358247 | CI32: =+CH32*0.19 -> 68066.93 | CJ32: =+CH32+CI32 -> 426313.93 | CK32: frasco x 100 gr | CL32: SIGMA | CT32: 168000 | CU32: 31920 | CV32: =+CT32+CU32 -> 199920 | CZ32: 184571 | DA32: =+CZ32*0.19 -> 35068.49 | DB32: =+CZ32+DA32 -> 219639.49 | DC32: 100g | DD32: Sigma | DE32: 49449100G | FH32: =SUM(M32,P32,V32,AB32,AH32,AN32,AT32,AZ32,BF32,BL32,BR32,BX32,CD32,CJ32,CP32,CV32,DB32,DH32,DN32,DT32,DZ32,EF32,EL32,ER32,EX32,FD32) -> 6154106.4 | FI32: =COUNTA(M32,N32,T32,Z32,AF32,AL32,AR32,AX32,BD32,BJ32,BP32,BV32,CB32,CH32,CN32,CT32,CZ32,DF32,DL32,DR32,DX32,ED32,EJ32,EP32,EV32,FB32) -> 6 | FJ32: =IFERROR(FH32/FI32," ") -> 1025684.4
A33: =#REF! -> #REF! | B33: =#REF! -> #REF! | C33: =#REF! -> #REF! | D33: =#REF! -> #REF! | E33: 1 | F33: 331752.17 | G33: 185521 | H33: 489978.88 | I33: 0 | J33: 404479.02 | K33: 0 | L33: =AVERAGE(F33,H33,J33) -> 408736.69 | M33: =G33*1.03 -> 191086.63 | AL33: =280000/4 -> 70000 | AM33: =+AL33*0.19 -> 13300 | AN33: =+AL33+AM33 -> 83300 | AO33: Frasco x 1 litro | AP33: PANREAC | AR33: =576000/4 -> 144000 | AS33: =+AR33*0.19 -> 27360 | AT33: =+AR33+AS33 -> 171360 | AU33: Frasco x 1 litro | AV33: Santa Cruz Biotechnology | BV33: 784000 | BW33: =BV33*19% -> 148960 | BX33: =+BV33+BW33 -> 932960 | BY33: frasco x 250 ml | BZ33: PANREAC | CH33: 791840 | CI33: =+CH33*0.19 -> 150449.6 | CJ33: =+CH33+CI33 -> 942289.6 | CK33: frasco x 250 ml | CL33: PANREAC | CT33: 209000 | CU33: 39710 | CV33: =+CT33+CU33 -> 248710 | FH33: =SUM(M33,P33,V33,AB33,AH33,AN33,AT33,AZ33,BF33,BL33,BR33,BX33,CD33,CJ33,CP33,CV33,DB33,DH33,DN33,DT33,DZ33,EF33,EL33,ER33,EX33,FD33) -> 2569706.2 | FI33: =COUNTA(M33,N33,T33,Z33,AF33,AL33,AR33,AX33,BD33,BJ33,BP33,BV33,CB33,CH33,CN33,CT33,CZ33,DF33,DL33,DR33,DX33,ED33,EJ33,EP33,EV33,FB33) -> 6 | FJ33: =IFERROR(FH33/FI33," ") -> 428284.37
A34: =#REF! -> #REF! | B34: =#REF! -> #REF! | C34: =#REF! -> #REF! | D34: =#REF! -> #REF! | E34: 1 | F34: 0 | G34: 0 | H34: 0 | I34: 0 | J34: 0 | K34: 0 | AF34: 296000 | AG34: =AF34*19% -> 56240 | AH34: =+AF34+AG34 -> 352240 | AL34: 359000 | AM34: =+AL34*0.19 -> 68210 | AN34: =+AL34+AM34 -> 427210 | AO34: Frasco x 2.5 litros | AP34: PANREAC | AR34: =+(179980/1000)*2500 -> 449950 | AS34: =+AR34*0.19 -> 85490.5 | AT34: =+AR34+AS34 -> 535440.5 | AU34: Frasco x 1 litro | AV34: PANREAC | BV34: 347800 | BW34: =BV34*19% -> 66082 | BX34: =+BV34+BW34 -> 413882 | BY34: frasco x 2.5 litros | BZ34: JT BAKER | CH34: 372146 | CI34: =+CH34*0.19 -> 70707.74 | CJ34: =+CH34+CI34 -> 442853.74 | CK34: frasco x 2.5 litros | CL34: JT BAKER | CT34: 527680 | CU34: 100259.2 | CV34: =+CT34+CU34 -> 627939.2 | CZ34: 311172 | DA34: =+CZ34*0.19 -> 59122.68 | DB34: =+CZ34+DA34 -> 370294.68 | DC34: 2.5 L | DD34: Merck | DE34: 1017992500 | FH34: =SUM(M34,P34,V34,AB34,AH34,AN34,AT34,AZ34,BF34,BL34,BR34,BX34,CD34,CJ34,CP34,CV34,DB34,DH34,DN34,DT34,DZ34,EF34,EL34,ER34,EX34,FD34) -> 3169860.1 | FI34: =COUNTA(M34,N34,T34,Z34,AF34,AL34,AR34,AX34,BD34,BJ34,BP34,BV34,CB34,CH34,CN34,CT34,CZ34,DF34,DL34,DR34,DX34,ED34,EJ34,EP34,EV34,FB34) -> 7 | FJ34: =IFERROR(FH34/FI34," ") -> 452837.16
A35: =#REF! -> #REF! | B35: =#REF! -> #REF! | C35: =#REF! -> #REF! | D35: =#REF! -> #REF! | E35: 1 | F35: 0 | G35: 0 | H35: 0 | I35: 0 | J35: 0 | K35: 0 | AF35: 190000 | AG35: =AF35*19% -> 36100 | AH35: =+AF35+AG35 -> 226100 | AL35: 340000 | AM35: =+AL35*0.19 -> 64600 | AN35: =+AL35+AM35 -> 404600 | AO35: Frasco x 1kg | AP35: PANREAC | AR35: 341863 | AS35: =+AR35*0.19 -> 64953.97 | AT35: =+AR35+AS35 -> 406816.97 | AU35: Frasco x 1kg | AV35: PANREAC | BV35: 1687400 | BW35: =BV35*19% -> 320606 | BX35: =+BV35+BW35 -> 2008006 | BY35: frasco x 1kg | BZ35: JT BAKER | CT35: 209000 | CU35: 39710 | CV35: =+CT35+CU35 -> 248710 | FH35: =SUM(M35,P35,V35,AB35,AH35,AN35,AT35,AZ35,BF35,BL35,BR35,BX35,CD35,CJ35,CP35,CV35,DB35,DH35,DN35,DT35,DZ35,EF35,EL35,ER35,EX35,FD35) -> 3294233 | FI35: =COUNTA(M35,N35,T35,Z35,AF35,AL35,AR35,AX35,BD35,BJ35,BP35,BV35,CB35,CH35,CN35,CT35,CZ35,DF35,DL35,DR35,DX35,ED35,EJ35,EP35,EV35,FB35) -> 5 | FJ35: =IFERROR(FH35/FI35," ") -> 658846.59
A36: =#REF! -> #REF! | B36: =#REF! -> #REF! | C36: =#REF! -> #REF! | D36: =#REF! -> #REF! | E36: 1 | F36: 0 | G36: 0 | H36: 1561698.4 | I36: 1561637 | J36: 1676184.4 | K36: 1634227 | L36: =AVERAGE(H36,J36) -> 1618941.4 | M36: =AVERAGE(I36,K36)*1.03 -> 1645870 | AF36: 1800000 | AG36: =AF36*19% -> 342000 | AH36: =+AF36+AG36 -> 2142000 | AL36: 1330000 | AM36: =+AL36*0.19 -> 252700 | AN36: =+AL36+AM36 -> 1582700 | AO36: Frasco x 2,5 litro | AP36: PANREAC | AR36: 1322206 | AS36: =+AR36*0.19 -> 251219.14 | AT36: =+AR36+AS36 -> 1573425.1 | AU36: Frasco x 2,5 litros | AV36: PANREAC | BV36: 1411900 | BW36: =BV36*19% -> 268261 | BX36: =+BV36+BW36 -> 1680161 | BY36: frasco x 2.5 litros | BZ36: MACRON | CT36: 209000 | CU36: 39710 | CV36: =+CT36+CU36 -> 248710 | FH36: =SUM(M36,P36,V36,AB36,AH36,AN36,AT36,AZ36,BF36,BL36,BR36,BX36,CD36,CJ36,CP36,CV36,DB36,DH36,DN36,DT36,DZ36,EF36,EL36,ER36,EX36,FD36) -> 8872866.1 | FI36: =COUNTA(M36,N36,T36,Z36,AF36,AL36,AR36,AX36,BD36,BJ36,BP36,BV36,CB36,CH36,CN36,CT36,CZ36,DF36,DL36,DR36,DX36,ED36,EJ36,EP36,EV36,FB36) -> 6 | FJ36: =IFERROR(FH36/FI36," ") -> 1478811
A37: =#REF! -> #REF! | B37: =#REF! -> #REF! | C37: =#REF! -> #REF! | D37: =#REF! -> #REF! | E37: 1 | F37: 0 | G37: 0 | H37: 776234.83 | I37: 0 | J37: 0 | K37: 0 | L37: =H37 -> 776234.83 | AF37: 850000 | AG37: =AF37*19% -> 161500 | AH37: =+AF37+AG37 -> 1011500 | AL37: 543000 | AM37: =+AL37*0.19 -> 103170 | AN37: =+AL37+AM37 -> 646170 | AO37: Frasco x 100g | AP37: PANREAC | AR37: =573123/4 -> 143280.75 | AS37: =+AR37*0.19 -> 27223.342 | AT37: =+AR37+AS37 -> 170504.09 | AU37: Frasco x 100g | AV37: PANREAC | BV37: 1874100 | BW37: =BV37*19% -> 356079 | BX37: =+BV37+BW37 -> 2230179 | BY37: frasco x 25 gr | BZ37: MERCK | CT37: 331840 | CU37: 63049.6 | CV37: =+CT37+CU37 -> 394889.6 | FH37: =SUM(M37,P37,V37,AB37,AH37,AN37,AT37,AZ37,BF37,BL37,BR37,BX37,CD37,CJ37,CP37,CV37,DB37,DH37,DN37,DT37,DZ37,EF37,EL37,ER37,EX37,FD37) -> 4453242.7 | FI37: =COUNTA(M37,N37,T37,Z37,AF37,AL37,AR37,AX37,BD37,BJ37,BP37,BV37,CB37,CH37,CN37,CT37,CZ37,DF37,DL37,DR37,DX37,ED37,EJ37,EP37,EV37,FB37) -> 5 | FJ37: =IFERROR(FH37/FI37," ") -> 890648.54
A38: =#REF! -> #REF! | B38: =#REF! -> #REF! | C38: =#REF! -> #REF! | D38: =#REF! -> #REF! | E38: 1 | F38: 0 | G38: 0 | H38: 775007.33 | I38: 0 | J38: 952221.94 | K38: 0 | L38: =AVERAGE(H38,J38) -> 863614.63 | AL38: 798000 | AM38: =+AL38*0.19 -> 151620 | AN38: =+AL38+AM38 -> 949620 | AO38: Frasco x 500g | AP38: PANREAC | AR38: 802373 | AS38: =+AR38*0.19 -> 152450.87 | AT38: =+AR38+AS38 -> 954823.87 | AU38: Frasco x 500g | AV38: PANREAC | BV38: 1345500 | BW38: =BV38*19% -> 255645 | BX38: =+BV38+BW38 -> 1601145 | BY38: frasco x 25 gr | BZ38: SIGMA | CT38: 212160 | CU38: 40310.4 | CV38: =+CT38+CU38 -> 252470.4 | FH38: =SUM(M38,P38,V38,AB38,AH38,AN38,AT38,AZ38,BF38,BL38,BR38,BX38,CD38,CJ38,CP38,CV38,DB38,DH38,DN38,DT38,DZ38,EF38,EL38,ER38,EX38,FD38) -> 3758059.3 | FI38: =COUNTA(M38,N38,T38,Z38,AF38,AL38,AR38,AX38,BD38,BJ38,BP38,BV38,CB38,CH38,CN38,CT38,CZ38,DF38,DL38,DR38,DX38,ED38,EJ38,EP38,EV38,FB38) -> 4 | FJ38: =IFERROR(FH38/FI38," ") -> 939514.82
A39: =#REF! -> #REF! | B39: =#REF! -> #REF! | C39: =#REF! -> #REF! | D39: =#REF! -> #REF! | E39: 1 | F39: 0 | G39: 0 | H39: 0 | I39: 0 | J39: 0 | K39: 0 | AF39: 175000 | AG39: =AF39*19% -> 33250 | AH39: =+AF39+AG39 -> 208250 | AL39: 192000 | AM39: =+AL39*0.19 -> 36480 | AN39: =+AL39+AM39 -> 228480 | AO39: Frasco x 2,5 litros | AP39: PANREAC | BV39: 202500 | BW39: =BV39*19% -> 38475 | BX39: =+BV39+BW39 -> 240975 | BY39: frasco x 2.5 litros | BZ39: JT BAKER | CH39: 206550 | CI39: =+CH39*0.19 -> 39244.5 | CJ39: =+CH39+CI39 -> 245794.5 | CK39: frasco x 2.5 litros | CL39: JT BAKER | CT39: 250240 | CU39: 47545.6 | CV39: =+CT39+CU39 -> 297785.6 | CZ39: 208000 | DA39: =+CZ39*0.19 -> 39520 | DB39: =+CZ39+DA39 -> 247520 | DC39: 2.5 LTS. | DD39: Merck | DE39: CTRM1120802500 | FH39: =SUM(M39,P39,V39,AB39,AH39,AN39,AT39,AZ39,BF39,BL39,BR39,BX39,CD39,CJ39,CP39,CV39,DB39,DH39,DN39,DT39,DZ39,EF39,EL39,ER39,EX39,FD39) -> 1468805.1 | FI39: =COUNTA(M39,N39,T39,Z39,AF39,AL39,AR39,AX39,BD39,BJ39,BP39,BV39,CB39,CH39,CN39,CT39,CZ39,DF39,DL39,DR39,DX39,ED39,EJ39,EP39,EV39,FB39) -> 6 | FJ39: =IFERROR(FH39/FI39," ") -> 244800.85
A40: =#REF! -> #REF! | B40: =#REF! -> #REF! | C40: =#REF! -> #REF! | D40: =#REF! -> #REF! | E40: 1 | F40: 329630 | G40: 321300 | H40: 284563.19 | I40: 0 | J40: 252869.45 | K40: 247758 | L40: =AVERAGE(F40,H40,J40) -> 289020.88 | M40: =AVERAGE(G40,K40)*1.03 -> 293064.87 | AF40: 300000 | AG40: =AF40*19% -> 57000 | AH40: =+AF40+AG40 -> 357000 | AL40: 173000 | AM40: =+AL40*0.19 -> 32870 | AN40: =+AL40+AM40 -> 205870 | AO40: Frasco x 250g | AP40: PANREAC | AR40: 180986 | AS40: =+AR40*0.19 -> 34387.34 | AT40: =+AR40+AS40 -> 215373.34 | AU40: Frasco x 500g | AV40: PANREAC | BV40: 349200 | BW40: =BV40*19% -> 66348 | BX40: =+BV40+BW40 -> 415548 | BY40: frasco x 250 gr | BZ40: MERCK | CH40: 356184 | CI40: =+CH40*0.19 -> 67674.96 | CJ40: =+CH40+CI40 -> 423858.96 | CK40: frasco x 250 gr | CL40: MERCK | CT40: 1408960 | CU40: 267702.4 | CV40: =+CT40+CU40 -> 1676662.4 | CZ40: 172690 | DA40: =+CZ40*0.19 -> 32811.1 | DB40: =+CZ40+DA40 -> 205501.1 | DC40: 250 G | DD40: Merck | DE40: 1008070250 | FH40: =SUM(M40,P40,V40,AB40,AH40,AN40,AT40,AZ40,BF40,BL40,BR40,BX40,CD40,CJ40,CP40,CV40,DB40,DH40,DN40,DT40,DZ40,EF40,EL40,ER40,EX40,FD40) -> 3792878.7 | FI40: =COUNTA(M40,N40,T40,Z40,AF40,AL40,AR40,AX40,BD40,BJ40,BP40,BV40,CB40,CH40,CN40,CT40,CZ40,DF40,DL40,DR40,DX40,ED40,EJ40,EP40,EV40,FB40) -> 8 | FJ40: =IFERROR(FH40/FI40," ") -> 474109.83
...

Sheet LP Reactivos
G1: 1. ELEMENTOS QUIMICOS LTDA | L1: 2. MOLECULAR ENGINEERING SAS NIT: 800.122.987-1 | Q1: 3. LABORATORIO MEDICO VETERINARIO - LMV SAS | V1: 4. INSOLAB | AA1: 6. QUIMIOLAB | AF1: 8. ANNAR DIAGNOSTICA IMPORT | AK1: 9. ARTILAB SA | AP1: 10. LABBRANDS | AU1: 11. PAF | AZ1: 13. EXOGENA LTDA | BE1: 14. AVANTIKA COLOMBIA S.A.S | BJ1: 15. Thermo Fisher Scientific | BO1: 16. SANITAS S.A.S | BT1: 17. AQUALAB | BY1: 18. Tecnologías Orozco Torres - TOT | CD1: 19. BIOCELL | CI1: 20. ADEQUIM S.A.S. | CN1: 21. IDC | CS1: 22. COMFANDI | CX1: 23. MERCALDAS | DC1: 24. ASESORÍA AGRÍCOLA Y APICULTURA | DH1: 25. AGROINSUMOS EL CONTADO | DM1: 28. CASA MATRIZ LTDA | DR1: 29. MERCK | DW1: 31. G&G SUCESORES | EB1: 31. MAQUETING NET SAS
A2: Ítem | B2: Descripción técnica | C2: Marca | D2: Presentación | E2: Cantidad | F2: Historico 2021 + IPC | G2: Valor unitario | H2: Valor IVA | I2: Valor Unitario con IVA | J2: MARCA | K2: Referencia | L2: Valor unitario | M2: Valor IVA | N2: Valor Unitario con IVA | O2: MARCA | P2: Referencia | Q2: Valor unitario | R2: Valor IVA | S2: Valor Unitario con IVA | T2: MARCA | U2: Referencia | V2: Valor unitario | W2: Valor IVA | X2: Valor Unitario con IVA | Y2: MARCA | Z2: Referencia | AA2: Valor unitario | AB2: Valor IVA | AC2: Valor Unitario con IVA | AD2: MARCA | AE2: Referencia | AF2: Valor unitario | AG2: Valor IVA | AH2: Valor Unitario con IVA | AI2: MARCA | AJ2: Referencia | AK2: Valor unitario | AL2: Valor IVA | AM2: Valor Unitario con IVA | AN2: MARCA | AO2: Referencia | AP2: Valor unitario | AQ2: Valor IVA | AR2: Valor Unitario con IVA | AS2: MARCA | AT2: Referencia | AU2: Valor unitario | AV2: Valor IVA | AW2: Valor Unitario con IVA | AX2: MARCA | AY2: Referencia | AZ2: Valor unitario | BA2: Valor IVA | BB2: Valor Unitario con IVA | BC2: MARCA | BD2: Referencia | BE2: Valor unitario | BF2: Valor IVA | BG2: Valor Unitario con IVA | BH2: MARCA | BI2: Referencia | BJ2: Valor unitario | BK2: Valor IVA | BL2: Valor Unitario con IVA | BM2: MARCA | BN2: Referencia | BO2: Valor unitario | BP2: Valor IVA | BQ2: Valor Unitario con IVA | BR2: MARCA | BS2: Referencia | BT2: Valor unitario | BU2: Valor IVA | BV2: Valor Unitario con IVA | BW2: MARCA | BX2: Referencia | BY2: Valor unitario | BZ2: Valor IVA | CA2: Valor Unitario con IVA | CB2: MARCA | CC2: Referencia | CD2: Valor unitario | CE2: Valor IVA | CF2: Valor Unitario con IVA | CG2: MARCA | CH2: Referencia | CI2: Valor unitario | CJ2: Valor IVA | CK2: Valor Unitario con IVA | CL2: MARCA | CM2: Referencia | CN2: Valor unitario | CO2: Valor IVA | CP2: Valor Unitario con IVA | CQ2: MARCA | CR2: Referencia | CS2: Valor unitario | CT2: Valor IVA | CU2: Valor Unitario con IVA | CV2: MARCA | CW2: Referencia | CX2: Valor unitario | CY2: Valor IVA | CZ2: Valor Unitario con IVA | DA2: MARCA | DB2: Referencia | DC2: Valor unitario | DD2: Valor IVA | DE2: Valor Unitario con IVA | DF2: MARCA | DG2: Referencia | DH2: Valor unitario | DI2: Valor IVA | DJ2: Valor Unitario con IVA | DK2: MARCA | DL2: Referencia | DM2: Valor unitario | DN2: Valor IVA | DO2: Valor Unitario con IVA | DP2: MARCA | DQ2: Referencia | DR2: Valor unitario | DS2: Valor IVA | DT2: Valor Unitario con IVA | DU2: MARCA | DV2: Referencia | DW2: Valor unitario | DX2: Valor IVA | DY2: Valor Unitario con IVA | DZ2: MARCA | EA2: Referencia | EB2: Valor unitario | EC2: Valor IVA | ED2: Valor Unitario con IVA | EE2: MARCA | EF2: Referencia
A3: 1 | B3: 1-Methylimidazole | C3: Aldrich M50834 | D3: 99% de puereza-Frasco de 100g | E3: 1 | AK3: 144000 | AL3: 27360 | AM3: 171360 | AN3: SIGMA | AO3: M50834-100G | AU3: 151688 | AV3: 28821 | AW3: 180509 | AX3: MERCK - SIGMA - SUPELCO | AY3: M50834-100G | BE3: 264000 | BF3: 50160 | BG3: 314160 | BH3: SIGMA | BI3: M50834-100G
A4: 2 | B4: 2-Mercaptoetanol (1.000X), 55mM en D-PBS. Frasco x50ml. Marca GIBCO /INVITROGEN Ref 21985023 | C4: Invitrogen | D4: Unidad | E4: 1 | AA4: 688500 | AB4: =+AA4*0.19 -> 130815 | AC4: =+AA4+AB4 -> 819315 | AD4: ABM | AE4: CH044 | BJ4: 250492.31 | BK4: 47593.539 | BL4: 298085.85 | BM4: GIBCO | BN4: 21985023
A5: 3 | B5: 2-Nitrobenzaldehido | C5: Sigma N10802 | D5: Frasco x 2g | E5: 1 | F5: 232522.43 | AK5: 105000 | AL5: 19950 | AM5: 124950 | AN5: SIGMA | AO5: N10802-2G | AU5: 110606 | AV5: 21015 | AW5: 131621 | AX5: MERCK - SIGMA - SUPELCO | AY5: N10802-2G | BE5: 192000 | BF5: 36480 | BG5: 228480 | BH5: SIGMA | BI5: N10802-2G
A6: 4 | B6: 5,6-dimetyl-2-thiouracil 97.5% | C6: Sigma-aldrich o equivalente | D6: Frasco x25 mg | E6: 1 | AU6: 827667.69 | AV6: 157257 | AW6: 984925 | AX6: MERCK - SIGMA - SUPELCO | AY6: 574554-1G
A7: 5 | B7: Aceite de clavo | C7: Cualquier marca | D7: Frasco x 250ml | E7: 1 | F7: 330558.91 | AK7: 284000 | AL7: 53960 | AM7: 337960 | AN7: SIGMA | AO7: C8392-100ML | AU7: 1028110 | AV7: 195341 | AW7: 1223451 | AX7: MERCK - SIGMA - SUPELCO | AY7: C8392-500ML | BE7: 336000 | BF7: 63840 | BG7: 399840 | BH7: ENTHOS | BI7: SA10800000
A8: 6 | B8: Aceite de inmersión | C8: Cualquier marca | D8: Frasco x 100ml | E8: 1 | F8: 134485.95 | G8: 172500 | H8: 32775 | I8: 205275 | J8: PANREAC | K8: A0699.0100 | AF8: 172000 | AG8: =AF8*0.19 -> 32680 | AH8: =AF8+AG8 -> 204680 | AI8: SCHARLAU Q | AJ8: AC00310100 | AK8: 103170 | AL8: 19602.3 | AM8: 122772.3 | AN8: MERCK | AO8: 1046990100 | AU8: 131198 | AV8: 24928 | AW8: 156126 | AX8: MERCK - SIGMA - SUPELCO | AY8: 1046990100 | BE8: 60000 | BF8: 11400 | BG8: 71400 | BH8: BIOQUIGEN | BI8: VA010001
A9: 7 | B9: Aceite mineral | C9: Cualquier marca | D9: Frasco x 50ml | E9: 1 | F9: 28908.194 | G9: 58750 | H9: 11162.5 | I9: 69912.5 | J9: CHEMI | K9: AMIN-1000 | AU9: 115873 | AV9: 22016 | AW9: 137889 | AX9: MERCK - SIGMA - SUPELCO | AY9: M8410-100ML | BE9: 44000 | BF9: 8360 | BG9: 52360 | BH9: BIOQUIGEN | BI9: VA040002
A10: 8 | B10: Aces buffer | C10: Sigma/A-3594 | D10: Frasco x 100 g | E10: 1 | AK10: 3833000 | AL10: 728270 | AM10: 4561270 | AN10: SIGMA | AO10: A3594-500G | AU10: 1852061.5 | AV10: 351892 | AW10: 2203953 | AX10: MERCK - SIGMA - SUPELCO | AY10: A3594-100G | BE10: 6996000 | BF10: 1329240 | BG10: 8325240 | BH10: MERCK | BI10: A3594-500
A11: 9 | B11: Acetato de amonio grado masas o equivalente | C11: Sigma Aldrich / Merck / JT Baker o equivalente | D11: Frasco x 100g (se aceptan presentaciones diferentes a frasco de 100 g siempre y cuando se cumpla con la cantidad solicitada por la entidad) | E11: 1 | F11: 2287518 | AF11: 900000 | AG11: =AF11*0.19 -> 171000 | AH11: =AF11+AG11 -> 1071000 | AI11: SCHARLAU Q | AJ11: AM02590050 | AK11: 300390 | AL11: 57074.1 | AM11: 357464.1 | AN11: MERCK | AO11: 5330040050 | AU11: 1799192 | AV11: 341846 | AW11: 2141038 | AX11: MERCK - SIGMA - SUPELCO | AY11: 73594-100G-F
A12: 10 | B12: Acetato de amonio grado RA | C12: Merck o equivalente | D12: frasco x 500g | E12: 1 | G12: 268750 | H12: 51062.5 | I12: 319812.5 | J12: PANREAC | K12: 131114.1210 | AF12: 470000 | AG12: =AF12*0.19 -> 89300 | AH12: =AF12+AG12 -> 559300 | AI12: SCHARLAU Q | AJ12: AM02540500 | AK12: 167010 | AL12: 31731.9 | AM12: 198741.9 | AN12: MERCK | AO12: 1011160500 | AU12: 212382 | AV12: 40353 | AW12: 252734 | AX12: MERCK - SIGMA - SUPELCO | AY12: 1011160500 | BE12: 122000 | BF12: 23180 | BG12: 145180 | BH12: JT BAKER | BI12: 0596-01-M
A13: 11 | B13: Acetato de etilo grado masas | C13: Sigma Aldrich / Merck / JT Baker o equivalente | D13: Frasco x 2.5 litros (Se aceptan presentaciones diferentes a 2.5 l siempre y cuando se cumpla con la cantidad solicitada por la entidad) | E13: 1 | F13: 307935.11 | AF13: 391000 | AG13: =AF13*0.19 -> 74290 | AH13: =AF13+AG13 -> 465290 | AI13: SCHARLAU Q | AJ13: AC01581000 | AK13: 274170 | AL13: 52092.3 | AM13: 326262.3 | AN13: MERCK | AO13: 1036492500 | AU13: 106553 | AV13: 20245 | AW13: 126798 | AX13: MERCK - SIGMA - SUPELCO | AY13: 1007891000
A14: 12 | B14: Acetato de etilo para análisis de residuos | C14: Sigma Aldrich / Merck / JT Baker o equivalente | D14: Frasco x 4 litros (Se aceptan presentaciones diferentes a 4 l siempre y cuando se cumpla con la cantidad solicitada por la entidad) | E14: 1 | F14: 818227.58 | AF14: 640000 | AG14: =AF14*0.19 -> 121600 | AH14: =AF14+AG14 -> 761600 | AI14: SCHARLAU Q | AJ14: AC01482500 | AK14: 539790 | AL14: 102560.1 | AM14: 642350.1 | AN14: MERCK | AO14: 1096234000 | AU14: 686435 | AV14: 130423 | AW14: 816858 | AX14: MERCK - SIGMA - SUPELCO | AY14: 1096234000 | BE14: 694000 | BF14: 131860 | BG14: 825860 | BH14: JT BAKER | BI14: 9260-03-U
A15: 13 | B15: Acetato de potasio | C15: Merck o Scharlau | D15: Frasco x 500g | E15: 1 | F15: 367008.38 | G15: 622500 | H15: 118275 | I15: 740775 | J15: PANREAC | K15: 141479.1211 | AF15: 488000 | AG15: =AF15*0.19 -> 92720 | AH15: =AF15+AG15 -> 580720 | AI15: SCHARLAU Q | AJ15: PO01091000 | AK15: 153750 | AL15: 29212.5 | AM15: 182962.5 | AN15: MERCK | AO15: 1048201000 | AU15: 343405 | AV15: 65247 | AW15: 408653 | AX15: MERCK - SIGMA - SUPELCO | AY15: 236497-500G
A16: 14 | B16: Acetato de sodio anhidro | C16: Cualquier marca | D16: 50 a 100g ó 500g | E16: 1 | F16: 311705.74 | G16: 350000 | H16: 66500 | I16: 416500 | J16: PANREAC | K16: 131633.1210 | AF16: 216000 | AG16: =AF16*0.19 -> 41040 | AH16: =AF16+AG16 -> 257040 | AI16: SCHARLAU Q | AJ16: SO00350500 | AK16: 188670 | AL16: 35847.3 | AM16: 224517.3 | AN16: MERCK | AO16: 1062680250 | AU16: 239926 | AV16: 45586 | AW16: 285512 | AX16: MERCK - SIGMA - SUPELCO | AY16: 1062680250 | BE16: 206000 | BF16: 39140 | BG16: 245140 | BH16: JT BAKER | BI16: 3470-01-M
A17: 15 | B17: Acetona grado reactivo | C17: Merck, JT Baker, Mallinckrodt, Scharlau o equivalente | D17: Frasco x 4 litros (Se aceptan presentaciones diferentes a 4 l siempre y cuando se cumpla con la cantidad solicitada por la entidad) | E17: 1 | F17: 285311.31 | G17: 343750 | H17: 65312.5 | I17: 409062.5 | J17: PANREAC | K17: 131007.1214 | AF17: 129000 | AG17: =AF17*0.19 -> 24510 | AH17: =AF17+AG17 -> 153510 | AI17: SCHARLAU Q | AJ17: AC03142500 | AK17: 182400 | AL17: 34656 | AM17: 217056 | AN17: MERCK | AO17: 1000144000 | AU17: 185562 | AV17: 35257 | AW17: 220819 | AX17: MERCK - SIGMA - SUPELCO | AY17: 1070214000 | BE17: 214000 | BF17: 40660 | BG17: 254660 | BH17: JT BAKER | BI17: 9006-03-M
A18: 16 | B18: Acetonitrilo grado gradiente | C18: Merck, JT Baker, Sigma o equivalente | D18: 4 Litros | E18: 1 | AF18: 240000 | AG18: =AF18*0.19 -> 45600 | AH18: =AF18+AG18 -> 285600 | AI18: SCHARLAU Q | AJ18: AC03294000 | AU18: 511746 | AV18: 97232 | AW18: 608977 | AX18: MERCK - SIGMA - SUPELCO | AY18: 1000305000 | DR18: 513000 | DS18: =+DR18*0.19 -> 97470 | DT18: =+DR18+DS18 -> 610470 | DU18: MERCK | DV18: 1000034000
A19: 17 | B19: Acetonitrilo grado HPLC con certificado de analisis y ficha de seguridad. Grado gradiente | C19: Cualquier marca | D19: Frasco x 4 litros | E19: 1 | F19: 412255.98 | G19: 411250 | H19: 78137.5 | I19: 489387.5 | J19: PANREAC | K19: 221881.16153 | AF19: 297000 | AG19: =AF19*0.19 -> 56430 | AH19: =AF19+AG19 -> 353430 | AI19: SCHARLAU Q | AJ19: AC03334000 | AK19: 386460 | AL19: 73427.4 | AM19: 459887.4 | AN19: MERCK | AO19: 1000304000 | AU19: 491450 | AV19: 93375 | AW19: 584825 | AX19: SUPELCO | AY19: 1000304000 | BE19: 317000 | BF19: 60230 | BG19: 377230 | BH19: JT BAKER | BI19: 9012-03-M | DM19: 508500 | DN19: =+DM19*0.19 -> 96615 | DO19: =+DM19+DN19 -> 605115 | DQ19: 1000304000
A20: 18 | B20: Acetonitrilo grado isocrático | C20: Merck, JT Baker, Sigma o equivalente | D20: 4 Litros | E20: 1 | AF20: 297000 | AG20: =AF20*0.19 -> 56430 | AH20: =AF20+AG20 -> 353430 | AI20: SCHARLAU Q | AJ20: AC03334000 | AU20: 489275 | AV20: 92962 | AW20: 582237 | AX20: SUPELCO | AY20: 1142914000
A21: 19 | B21: Acetonitrilo LC/MS con certificado de análisis y ficha de seguridad. | C21: Merck o JT Baker o equivalente | D21: Frasco x 2.5 litros | E21: 1 | F21: 1292070.6 | AF21: 1162000 | AG21: =AF21*0.19 -> 220780 | AH21: =AF21+AG21 -> 1382780 | AI21: SCHARLAU Q | AJ21: AC03712500 | AK21: 522120 | AL21: 99202.8 | AM21: 621322.8 | AN21: MERCK | AO21: 1000292500 | AU21: 663964 | AV21: 126153 | AW21: 790118 | AX21: MERCK - SIGMA - SUPELCO | AY21: 1000292500
A22: 20 | B22: Ácido acético glacial minimo 96% PA con certificado análisis y ficha de seguridad | C22: Cualquier marca | D22: Frasco x 2.5 litros | E22: 1 | F22: 262687.5 | G22: 206250 | H22: 39187.5 | I22: 245437.5 | J22: PANREAC | K22: 141008.1612 | AF22: 147000 | AG22: =AF22*0.19 -> 27930 | AH22: =AF22+AG22 -> 174930 | AI22: SCHARLAU Q | AJ22: AC03532500 | AK22: 213180 | AL22: 40504.2 | AM22: 253684.2 | AN22: MERCK | AO22: 1000622500 | AU22: 246450 | AV22: 46825 | AW22: 293275 | AX22: MERCK - SIGMA - SUPELCO | AY22: 1000622511 | BE22: 220000 | BF22: 41800 | BG22: 261800 | BH22: JT BAKER | BI22: 9508-05-M
A23: 21 | B23: Ácido ascórbico | C23: Cualquier marca | D23: Frasco x 100g | E23: 1 | G23: 162500 | H23: 0 | I23: 162500 | J23: PANREAC | K23: 131013.1208 | AA23: =980700 -> 980700 | AB23: =+AA23*0.19 -> 186333 | AC23: =+AA23+AB23 -> 1167033 | AD23: MP BIOMEDICALS | AE23: 100769 - 1kg | AF23: 105000 | AG23: =AF23*0.19 -> 19950 | AH23: =AF23+AG23 -> 124950 | AI23: SCHARLAU Q | AJ23: AC05150100 | AK23: 94620 | AM23: 94620 | AN23: MERCK | AO23: 1004680100 | AU23: 299163 | AV23: 56841 | AW23: 356004 | AX23: MERCK - SIGMA - SUPELCO | AY23: 33034-100G
