Workbook
Name _Toc199730894: 'Formato 1'!#REF!
Name _Toc199730894: 'Formato 2'!#REF!
Name _Toc199730894: 'Formato 3'!#REF!
Name _Toc199730894: 'Formato 4'!#REF!
Name _Toc199730894: 'Formato 5'!#REF!

Sheet PROPONENTE
A1: FORMATOS A DILIGENCIAR PARA UN PROCESO DE SELECCIÓN DE CONTRATISTA
A3: Entidad | B3: AEROPUERTO INTERNACIONAL MATECAÑA DE PEREIRA
B4: ="PROCESO DE SELECCIÓN N° "&B5&" - "&B6 -> PROCESO DE SELECCIÓN N° 2022-045 - SELECCIÓN DE MINIMA CUANTIA
A5: Proceso de Selección N° | B5: 2022-045
A6: Modalidad | B6: SELECCIÓN DE MINIMA CUANTIA
A7: Clasificación objeto (SECOP) | B7: Difusión de Tecnologías de Información y Telecomunicaciones, Software de manejo de licencias
A8: Objeto | B8: RENOVACION DE LAS LICENCIAS GOOGLE WORKSPACE BUSINESS STANDARD, PLATAFORMA DE COMUNICACIÓN Y COLABORACION; SERVICIO DE CORREO ELECTRONICO, MENSAJERIA INSTANTANEA, CALENDARIO, DOCUMENTOS, RED E INFORMES DE AUDITORIA, SERVICIO DE SOPORTE BASICO, CAPACITACION Y SOPORTE PLATAFORMA
A12: Tipo de Contrato | B12: COMPRAVENTA
A13: PROPONENTE: | B13: -
B15: (Escriba en la casilla sombreada con amarillo el nombre completo o razón social completa del proponente)
A18: Formato | B18: Descripción | C18: Presentación
A19: 1 | B19: Carta de presentación de propuesta | C19: Obligatoria
A20: 2 | B20: Conformación de Unión Temporal | C20: Obligatoria si el proponente es Unión Temporal
A21: 3 | B21: Conformación de Consorcio | C21: Obligatoria si el proponente es Consorcio
A22: 4 | B22: Pacto anticorrupción | C22: Obligatoria
A23: 5 | B23: Experiencia Específica del Proponente | C23: Obligatoria
A24: 6 | B24: Propuesta Económica | C24: Obligatoria
A25: 7 | B25: Acreditación cumplimiento contratos anteriores | C25: Obligatoria

Sheet Formato 1
A1: =PROPONENTE!B3 -> AEROPUERTO INTERNACIONAL MATECAÑA DE PEREIRA
A2: =PROPONENTE!B4 -> PROCESO DE SELECCIÓN N° 2022-045 - SELECCIÓN DE MINIMA CUANTIA
A3: =PROPONENTE!B8 -> RENOVACION DE LAS LICENCIAS GOOGLE WORKSPACE BUSINESS STANDARD, PLATAFORMA DE COMUNICACIÓN Y COLABORACION; SERVICIO DE CORREO ELECTRONICO, MENSAJERIA INSTANTANEA, CALENDARIO, DOCUMENTOS, RED E INFORMES DE AUDITORIA, SERVICIO DE SOPORTE BASICO, CAPACITACION Y SOPORTE PLATAFORMA
A5: CARTA DE PRESENTACIÓN DE LA PROPUESTA (FORMATO 1)
A7: PROPONENTE | B7: =PROPONENTE!B13 -> -
A9: Ciudad y fecha:
A11: Señores
A12: AEROPUERTO INTERNACIONAL MATECAÑA DE PEREIRA
A20: INFORMACIÓN DEL PROCESO DE CONTRATACIÓN
A21: Entidad Contratante | B21: =PROPONENTE!B3 -> AEROPUERTO INTERNACIONAL MATECAÑA DE PEREIRA
A22: Proceso de Contratación Nº | B22: =PROPONENTE!B5 -> 2022-045
A23: Tipo de Proceso de Selección | B23: =PROPONENTE!B6 -> SELECCIÓN DE MINIMA CUANTIA
A24: Clasificación del Objeto (SECOP) | B24: =PROPONENTE!B7 -> Difusión de Tecnologías de Información y Telecomunicaciones, Software de manejo de licencias
A25: Objeto | B25: =PROPONENTE!B8 -> RENOVACION DE LAS LICENCIAS GOOGLE WORKSPACE BUSINESS STANDARD, PLATAFORMA DE COMUNICACIÓN Y COLABORACION; SERVICIO DE CORREO ELECTRONICO, MENSAJERIA INSTANTANEA, CALENDARIO, DOCUMENTOS, RED E INFORMES DE AUDITORIA, SERVICIO DE SOPORTE BASICO, CAPACITACION Y SOPORTE PLATAFORMA
A28: Tipo de Contrato | B28: =+PROPONENTE!B12 -> COMPRAVENTA
A30: INFORMACIÓN DEL PROPONENTE Y DATOS PARA COMUNICACIONES
A31: Nombre completo del Proponente
A33: Cédula de Ciudadanía ó NIT
A34: Nombre Representante Legal (RL)
A35: Cédula de Ciudadanía ó NIT del RL
A36: Dirección
A37: Teléfonos | B37: Fijo | D37: Celular | F37: Fax
A38: Ciudad
A39: Buzón de correo electrónico (Email)
A41: INFORMACIÓN DE LA PROPUESTA
A42: Total de adendas conocidas por el proponente
A43: Número de folios de que consta la propuesta
A44: La propuesta contiene folios con reserva legal (si/no)
A45: Plazo propuesto

Sheet Formato 2
A1: AEROPUERTO INTERNACIONAL MATECAÑA DE PEREIRA
A2: =PROPONENTE!B4 -> PROCESO DE SELECCIÓN N° 2022-045 - SELECCIÓN DE MINIMA CUANTIA
A3: =PROPONENTE!B8 -> RENOVACION DE LAS LICENCIAS GOOGLE WORKSPACE BUSINESS STANDARD, PLATAFORMA DE COMUNICACIÓN Y COLABORACION; SERVICIO DE CORREO ELECTRONICO, MENSAJERIA INSTANTANEA, CALENDARIO, DOCUMENTOS, RED E INFORMES DE AUDITORIA, SERVICIO DE SOPORTE BASICO, CAPACITACION Y SOPORTE PLATAFORMA
A5: DOCUMENTO DE CONFORMACIÓN DE UNIÓN TEMPORAL
A7: PROPONENTE | B7: =PROPONENTE!B13 -> -
A9: Ciudad y fecha:
A11: Señores
A12: AEROPUERTO INTERNACIONAL MATECAÑA DE PEREIRA
A22: INFORMACIÓN DEL PROCESO DE CONTRATACIÓN
A23: Entidad Contratante | B23: AEROPUERTO INTERNACIONAL MATECAÑA DE PEREIRA
A24: Proceso de Contratación Nº | B24: ='Formato 1'!B22 -> 2022-045
A25: Tipo de Proceso de Selección | B25: DE SELECCIÓN DE MINIMA CUANTIA
A26: Clasificación del Objeto (SECOP) | B26: ='Formato 1'!B24 -> Difusión de Tecnologías de Información y Telecomunicaciones, Software de manejo de licencias
A27: Objeto | B27: ='Formato 1'!B25 -> RENOVACION DE LAS LICENCIAS GOOGLE WORKSPACE BUSINESS STANDARD, PLATAFORMA DE COMUNICACIÓN Y COLABORACION; SERVICIO DE CORREO ELECTRONICO, MENSAJERIA INSTANTANEA, CALENDARIO, DOCUMENTOS, RED E INFORMES DE AUDITORIA, SERVICIO DE SOPORTE BASICO, CAPACITACION Y SOPORTE PLATAFORMA
A30: Tipo de Contrato | B30: ='Formato 1'!B28 -> COMPRAVENTA
A32: INFORMACIÓN DE LA UNIÓN TEMPORAL Y DATOS PARA COMUNICACIONES
A33: Razón Social de la Unión Temporal
A35: Cédula de Ciudadanía ó NIT
A36: Representante Legal (RL)
A37: Cédula de Ciudadanía ó NIT del RL
A38: Representante Legal Suplente (RLS)
A39: Cédula de Ciudadanía ó NIT del RLS
A40: Número de Integrantes
A41: Dirección
A42: Teléfonos | B42: Fijo | D42: Celular | F42: Fax
A43: Ciudad
A44: Buzón de correo electrónico (Email)
A46: INFORMACIÓN DEL INTEGRANTE Nº 1 Y DATOS PARA COMUNICACIONES
A47: Nombre completo del Integrante
A49: Cédula de Ciudadanía ó NIT
A50: Representante Legal (RL)
A51: Cédula de Ciudadanía ó NIT del RL
A52: Dirección
A53: Teléfonos | B53: Fijo | D53: Celular | F53: Fax
A54: Ciudad
A55: Buzón de correo electrónico (Email)
A57: INFORMACIÓN DEL INTEGRANTE Nº 2 Y DATOS PARA COMUNICACIONES
A58: Nombre completo del Integrante
A60: Cédula de Ciudadanía ó NIT
A61: Representante Legal (RL)
...

Sheet Formato 3
A1: =PROPONENTE!B3 -> AEROPUERTO INTERNACIONAL MATECAÑA DE PEREIRA
A2: =PROPONENTE!B4 -> PROCESO DE SELECCIÓN N° 2022-045 - SELECCIÓN DE MINIMA CUANTIA
A3: =PROPONENTE!B8 -> RENOVACION DE LAS LICENCIAS GOOGLE WORKSPACE BUSINESS STANDARD, PLATAFORMA DE COMUNICACIÓN Y COLABORACION; SERVICIO DE CORREO ELECTRONICO, MENSAJERIA INSTANTANEA, CALENDARIO, DOCUMENTOS, RED E INFORMES DE AUDITORIA, SERVICIO DE SOPORTE BASICO, CAPACITACION Y SOPORTE PLATAFORMA
A5: DOCUMENTO DE CONFORMACIÓN DE CONSORCIO
A7: PROPONENTE | B7: =PROPONENTE!B13 -> -
A9: Ciudad y fecha:
A11: Señores
A12: AEROPUERTO INTERNACIONAL MATECAÑA DE PEREIRA
A22: INFORMACIÓN DEL PROCESO DE CONTRATACIÓN
A23: Entidad Contratante | B23: AEROPUERTO INTERNACIONAL MATECAÑA DE PEREIRA
A24: Proceso de Contratación Nº | B24: ='Formato 1'!B22 -> 2022-045
A25: Tipo de Proceso de Selección | B25: ='Formato 1'!B23 -> SELECCIÓN DE MINIMA CUANTIA
A26: Clasificación del Objeto (SECOP) | B26: ='Formato 1'!B24 -> Difusión de Tecnologías de Información y Telecomunicaciones, Software de manejo de licencias
A27: Objeto | B27: ='Formato 1'!B25 -> RENOVACION DE LAS LICENCIAS GOOGLE WORKSPACE BUSINESS STANDARD, PLATAFORMA DE COMUNICACIÓN Y COLABORACION; SERVICIO DE CORREO ELECTRONICO, MENSAJERIA INSTANTANEA, CALENDARIO, DOCUMENTOS, RED E INFORMES DE AUDITORIA, SERVICIO DE SOPORTE BASICO, CAPACITACION Y SOPORTE PLATAFORMA
A30: Tipo de Contrato | B30: ='Formato 1'!B28 -> COMPRAVENTA
A32: INFORMACIÓN DEL CONSORCIO Y DATOS PARA COMUNICACIONES
A33: Razón Social del Consorcio
A35: Cédula de Ciudadanía ó NIT
A36: Representante Legal (RL)
A37: Cédula de Ciudadanía ó NIT del RL
A38: Representante Legal Suplente (RLS)
A39: Cédula de Ciudadanía ó NIT del RLS
A40: Número de Integrantes
A41: Dirección
A42: Teléfonos | B42: Fijo | D42: Celular | F42: Fax
A43: Ciudad
A44: Buzón de correo electrónico (Email)
A46: INFORMACIÓN DEL INTEGRANTE Nº 1 Y DATOS PARA COMUNICACIONES
A47: Nombre completo del Integrante
A49: Cédula de Ciudadanía ó NIT
A50: Representante Legal (RL)
A51: Cédula de Ciudadanía ó NIT del RL
A52: Dirección
A53: Teléfonos | B53: Fijo | D53: Celular | F53: Fax
A54: Ciudad
A55: Buzón de correo electrónico (Email)
A57: INFORMACIÓN DEL INTEGRANTE Nº 2 Y DATOS PARA COMUNICACIONES
A58: Nombre completo del Integrante
A60: Cédula de Ciudadanía ó NIT
A61: Representante Legal (RL)
...

Sheet Formato 4
A1: =PROPONENTE!B3 -> AEROPUERTO INTERNACIONAL MATECAÑA DE PEREIRA
A2: =PROPONENTE!B4 -> PROCESO DE SELECCIÓN N° 2022-045 - SELECCIÓN DE MINIMA CUANTIA
A3: =PROPONENTE!B8 -> RENOVACION DE LAS LICENCIAS GOOGLE WORKSPACE BUSINESS STANDARD, PLATAFORMA DE COMUNICACIÓN Y COLABORACION; SERVICIO DE CORREO ELECTRONICO, MENSAJERIA INSTANTANEA, CALENDARIO, DOCUMENTOS, RED E INFORMES DE AUDITORIA, SERVICIO DE SOPORTE BASICO, CAPACITACION Y SOPORTE PLATAFORMA
A5: PACTO ANTICORRUPCIÓN (FORMATO 4)
A7: PROPONENTE | B7: =PROPONENTE!B13 -> -
A9: Ciudad y fecha:
A11: Señores
A12: AEROPUERTO INTERNACIONAL MATECAÑA DE PEREIRA
A23: INFORMACIÓN DEL PROCESO DE CONTRATACIÓN
A24: Entidad Contratante | B24: AEROPUERTO INTERNACIONAL MATECAÑA DE PEREIRA
A25: Proceso de Contratación Nº | B25: ='Formato 1'!B22 -> 2022-045
A26: Tipo de Proceso de Selección | B26: ='Formato 1'!B23 -> SELECCIÓN DE MINIMA CUANTIA
A27: Clasificación del Objeto (SECOP) | B27: ='Formato 1'!B24 -> Difusión de Tecnologías de Información y Telecomunicaciones, Software de manejo de licencias
A28: Objeto | B28: PRESTACIÓN DE SERVICIOS PARA DESARROLLAR ACTIVIDADES DE BIENESTAR SOCIAL E INCENTIVOS, EN EL AMBIENTE DE TRABAJO, ENCAMINADAS A PROPICIAR CONDICIONES QUE FAVOREZCAN EL DESARROLLO DE LOS FUNCIONARIOS Y SU NÚCLEO FAMILIAR.
A31: Tipo de Contrato | B31: ='Formato 1'!B28 -> COMPRAVENTA
A34: INFORMACIÓN DEL PROPONENTE Y DATOS PARA COMUNICACIONES
A35: Nombre completo del Proponente
A37: Cédula de Ciudadanía ó NIT
A38: Nombre Representante Legal (RL)
A39: Cédula de Ciudadanía ó NIT del RL
A40: Dirección
A41: Teléfonos | B41: Fijo | D41: Celular | F41: Fax
A42: Ciudad
A43: Buzón de correo electrónico (Email)

Sheet Formato 5
A1: =PROPONENTE!B3 -> AEROPUERTO INTERNACIONAL MATECAÑA DE PEREIRA
A2: =PROPONENTE!B4 -> PROCESO DE SELECCIÓN N° 2022-045 - SELECCIÓN DE MINIMA CUANTIA
A3: =PROPONENTE!B8 -> RENOVACION DE LAS LICENCIAS GOOGLE WORKSPACE BUSINESS STANDARD, PLATAFORMA DE COMUNICACIÓN Y COLABORACION; SERVICIO DE CORREO ELECTRONICO, MENSAJERIA INSTANTANEA, CALENDARIO, DOCUMENTOS, RED E INFORMES DE AUDITORIA, SERVICIO DE SOPORTE BASICO, CAPACITACION Y SOPORTE PLATAFORMA
A5: EXPERIENCIA ESPECÍFICA DEL PROPONENTE
A7: PROPONENTE | B7: =PROPONENTE!B13 -> -
A9: CONTRATO | B9: ENTIDAD | C9: PARTICIPACION (Individual - Consorcio - Unión Temporal) | D9: % PARTICIPACIÓN | E9: VALOR EN $ | F9: AÑO DE FIRMA DEL CONTRATO
D11: 0 | E11: 0
D12: 0 | E12: 0
D13: 0 | E13: 0
D14: 0 | E14: 0
D15: 0 | E15: 0
D16: 0 | E16: 0
A18: En caso de diferencia entre la información relacionada en este formato y las certificaciones y/o actas de recibo de trabajos prevalecerá la información contenida en estas últimas.
A25: FIRMA DEL PROPONENTE O SU REPRESENTANTE LEGAL

Sheet Formato 6
B2: AEROPUERTO INTERNACIONAL MATECAÑA DE PEREIRA
B3: PROCESO DE SELECCIÓN N° 2022-045 MINIMA CUANTÍA
B4: RENOVACION DE LAS LICENCIAS GOOGLE WORKSPACE BUSINESS STANDARD, PLATAFORMA DE COMUNICACIÓN Y COLABORACION; SERVICIO DE CORREO ELECTRONICO, MENSAJERIA INSTANTANEA, CALENDARIO, DOCUMENTOS, RED E INFORMES DE AUDITORIA, SERVICIO DE SOPORTE BASICO, CAPACITACION Y SOPORTE PLATAFORMA
B5: ITEM | C5: NOMBRE | D5: Cantidad | E5: Valor Total
B6: 1 | C6: Licencias Google Workspace Business Standard | D6: 25
B7: 2 | C7: Horas de soporte | D7: 10
B8: VALOR TOTAL PROPUESTA PARA EFECTOS DE EVALUACION
B18: FIRMA PROPONENTE - REPRESENTANTE LEGAL

Sheet Formato 7
A1: =PROPONENTE!B3 -> AEROPUERTO INTERNACIONAL MATECAÑA DE PEREIRA
A2: =PROPONENTE!B4 -> PROCESO DE SELECCIÓN N° 2022-045 - SELECCIÓN DE MINIMA CUANTIA
A3: =+PROPONENTE!B8 -> RENOVACION DE LAS LICENCIAS GOOGLE WORKSPACE BUSINESS STANDARD, PLATAFORMA DE COMUNICACIÓN Y COLABORACION; SERVICIO DE CORREO ELECTRONICO, MENSAJERIA INSTANTANEA, CALENDARIO, DOCUMENTOS, RED E INFORMES DE AUDITORIA, SERVICIO DE SOPORTE BASICO, CAPACITACION Y SOPORTE PLATAFORMA
A5: ACREDITACION CUMPLIMIENTO CONTRATOS ANTERIORES
A8: PROPONENTE | B8: =+PROPONENTE!B13 -> -
A10: DECLARACIÓN DE MULTAS Y SANCIONES DURANTE LOS ÚLTIMOS DOS (2) AÑOS:
A12: 1) Declaro que (si/no) | C12: he tenido multas y/o sanciones durante los últimos dos años.
A14: RELACIÓN DE MULTAS Y/O SANCIONES DENTRO DE LOS ÚLTIMOS DOS AÑOS
A15: Objeto del Contrato | B15: Nº del Contrato | C15: Entidad Contratante | D15: Valor Contrato ($) | E15: MULTA ö SANCIÓN
E16: Fecha | F16: Valor ($) | G16: Valor (SMMLV)
D17: 0
D18: 0
D19: 0
D20: 0
D21: 0
D22: 0
A24: 2) Declaro bajo la gravedad de juramento que la información consignada en éste formato es totalmente cierta.
A30: FIRMA DEL PROPONENTE O SU REPRESENTANTE LEGAL
A33: SI
A34: NO
