Workbook
Name ClasificacionActividad: [1]Listas!$D$3:$D$5
Name ClasificacionActividad: [1]Listas!$D$3:$D$5
Name ClasificacionActividad: [1]Listas!$D$3:$D$5
Name ClasificacionActividad: [1]Listas!$D$3:$D$5
Name ClasificacionActividad: [1]Listas!$D$3:$D$5
Name ClasificacionActividad: [1]Listas!$D$3:$D$5
Name ClasificacionActividad: [1]Listas!$D$3:$D$5
Name cundinamarca: [2]Listado!$F$675:$F$790
Name Genero: [3]Listas!$AE$3:$AE$4
Name marcolegal: [4]Listado!$T$2:$T$12

Sheet Anexo 1. Localización
B2: MUNICIPIO | C2: LINEA PRODUCTIVA
C3: AROMATICAS MEDICINALES | D3: CACAO | E3: CAÑA PANELERA | F3: CITRICOS | G3: LULO | H3: PLÁTANO | I3: TOTAL POR MUNICIPIO
B4: ANDALUCIA | F4: 119 | H4: 1 | I4: 120
B5: ANSERMANUEVO | E5: 34 | H5: 66 | I5: 100
B6: BOLIVAR | C6: 1 | E6: 35 | F6: 2 | G6: 9 | H6: 31 | I6: 78
B7: BUGA | H7: 60 | I7: 60
B8: BUGALAGRANDE | C8: 24 | E8: 4 | H8: 132 | I8: 160
B9: CAICEDONIA | D9: 23 | F9: 22 | H9: 195 | I9: 240
B10: CALI | C10: 18 | F10: 5 | H10: 17 | I10: 40
B11: CALIMA EL DARIEN | H11: 40 | I11: 40
B12: CARTAGO | F12: 7 | H12: 33 | I12: 40
B13: DAGUA | E13: 39 | H13: 1 | I13: 40
B14: EL AGUILA | H14: 80 | I14: 80
B15: EL CAIRO | E15: 26 | H15: 14 | I15: 40
B16: EL CERRITO | C16: 80 | I16: 80
B17: EL DOVIO | E17: 34 | F17: 1 | I17: 35
B18: FLORIDA | C18: 86 | F18: 34 | H18: 40 | I18: 160
B19: GINEBRA | E19: 14 | H19: 46 | I19: 60
B20: GUACARI | C20: 34 | E20: 13 | H20: 33 | I20: 80
B21: JAMUNDI | C21: 17 | F21: 63 | H21: 40 | I21: 120
B22: PALMIRA | C22: 120 | H22: 40 | I22: 160
B23: PRADERA | C23: 66 | H23: 54 | I23: 120
B24: ROLDANILLO | C24: 60 | H24: 60 | I24: 120
B25: SAN PEDRO | H25: 40 | I25: 40
B26: SEVILLA | E26: 16 | H26: 104 | I26: 120
B27: TRUJILLO | H27: 60 | I27: 60
B28: TULUÁ | F28: 40 | H28: 81 | I28: 121
B29: VERSALLES | E29: 40 | I29: 40
B30: ZARZAL | C30: 4 | F30: 34 | H30: 2 | I30: 40
B31: TOTAL | C31: 510 | D31: 23 | E31: 255 | F31: 327 | G31: 9 | H31: 1270 | I31: 2394

Sheet Anexo 2. Cadena de Valor
H2: VALOR ESTIIMADO PARA EL PROYECTO | J2: =G17*D17 -> 2000273184 | K2: =IF(J3>J2,"SUPERA CAPACIDAD DE FINANCIACIÓN","DENTRO DEL VALOR REQUERIDO") -> DENTRO DEL VALOR REQUERIDO
H3: VALOR DE LOS MÉTODOS PLANTEADOS | J3: =E33 -> 2000273184
C4: PDEA DEPARTAMENTO | D4: Valle del Cauca
C5: OBJETIVOS DEL PDEA | D5: 1. Contribuir a desarrollar las capacidades humanas y técnicas integrales de los productores agropecuarios del Departamento del Valle del Cauca.
D6: 2. Desarrollar capacidades sociales integrales y el fortalecimiento de la asociatividad, con el fin de que se beneficien los productores agropecuarios. | H6: VISITA INDIVIDUAL A PREDIO | I6: # VISITAS PLANEADAS | J6: DÍA DE CAMPO | K6: # EVENTOS PLANEADOS | L6: ESCUELA DE CAMPO | M6: # EVENTOS PLANEADOS | N6: RUEDA DE NEGOCIOS | O6: # EVENTOS PLANEADOS | P6: GIRA | Q6: # EVENTOS PLANEADOS | R6: CURSO | S6: # EVENTOS PLANEADOS
D7: 3. Fomentar el acceso y aprovechamiento efectivo de los productos tecnológicos y la adopción de las tecnologías, que sirvan para mejorar la actividad productiva agropecuaria en el Departamento del Valle del Cauca. | I7: 5
H8: VARIABLES | I8: VALORES | J8: VARIABLES | K8: VALORES | L8: VARIABLES | M8: VALORES | P8: VARIABLES | Q8: VALORES | R8: VARIABLES | S8: VALORES
D9: 4. Promover la gestión sustentable de los recursos naturales del Departamento del Valle del Cauca, con el propósito de que los productores implementen el enfoque agroecológico y hagan uso eficiente de los recursos tales como el suelo, agua, biodiversidad; entre otros, e integren prácticas orientadas a la mitigación y adaptación a la variabilidad y cambio climático de la Región. | H9: # de Beneficiarios | I9: =D17 -> 2394 | J9: # Asistentes | K9: 30 | L9: # Asistentes | M9: 30 | N9: # Asistentes | O9: =+D17 -> 2394 | P9: # Asistentes | Q9: 337 | R9: # Asistentes | S9: 25
H10: # de Usuarios x profesional | I10: 40 | J10: Valor estimado Día de Campo | K10: 1252000 | L10: Valor estimado ECA | M10: 1300000 | N10: Valor estimado Rueda de negocios | O10: 143600000 | P10: Valor estimado * usuario Gira | Q10: =+Q11/Q9 -> 231379.74 | R10: Valor estimado Curso | S10: 1000000
H11: # de profesionales a contratar | I11: =I9/I10 -> 59.85 | J11: Valor unitario Día de Campo | K11: =ROUNDDOWN(K10/K9,0) -> 41733 | L11: Valor unitario ECA | M11: =ROUNDDOWN(M10/M9,0) -> 43333 | N11: Valor unitario demostración de método | O11: =ROUNDDOWN(O10/O9,0) -> 59983 | P11: Valor Total Gira | Q11: 77974974 | R11: Valor unitario Curso | S11: =S10/S9 -> 40000
D12: 5. Fortalecer el desarrollo de habilidades para la participación de los productores agropecuarios en espacios de retroalimentación de la política pública, con el fin de autogestionar la solución de sus necesidades. | H12: # total de visitas | I12: =I9*I7 -> 11970 | J12: # de días de campo a realizar | K12: =ROUNDDOWN(D17/K9,0) -> 79 | L12: # de ECA a realizar | M12: =ROUNDDOWN(D17/M9,0) -> 79 | N12: # de demostración de método a realizar | O12: 36 | P12: # de usuarios asistentes a la Gira | Q12: 337 | R12: # de Curso a realizar | S12: =ROUNDUP((D17/S9),0) -> 96
H13: Salario prom. Prof | I13: 3610000
C14: MUNICIPIO(S) | D14: Alcalá, Andalucía, Ansermanuevo, Argelia, Bolívar, Buenaventura, Buga, Bugalagrande, Caicedonia, Calima, Candelaria, Cartago, Dagua, El Águila, El Cairo, El Cerrito, El Dovio, Florida, Ginebra, Guacarí, Jamundí, La Cumbre, La Unión, La Victoria, Obando, Palmira, Pradera, Restrepo, Riofrío, Roldanillo, San Pedro, Sevilla, Toro, Trujillo, Tuluá, Ulloa, Versalles, Vijes, Yotoco, Yumbo y Zarzal. Distritos: Buenaventura y Cali. | H14: Cto total de profesionales | I14: =I13*I11 -> 216058500
H15: Cto unitario visita | I15: =ROUNDDOWN(I13/I10,0) -> 90250
C16: LÍNEA PRODUCTIVA | D16: AROMATICAS MEDICINALES, CACAO, CAÑA PANELERA, CITRICOS, LULO Y PLÁTANO
C17: NÚMERO DE USUARIOS A BENEFICIAR | D17: 2394 | E17: VALOR POR USUARIO ESTABLECIDO | G17: 835536
C18: NOMBRE DEL PROYECTO: | D18: Proyecto para la Prestación del Servicio Público de Extensión Agropecuaria con Enfoque Diferencial, Territorial y Agroecológico en los Sistemas de Producción Agropecuarios Sustentables de los usuarios de las Comunidades Campesinas y Étnicas en las líneas productivas de Aromáticas Medicinales, Cacao, Caña Panelera, Cítricos, Lulo Y Plátano, priorizados en los municipios del Departamento del Valle del Cauca
C19: OBJETIVO GENERAL: | D19: Establecer acciones de acompañamiento integral y sistémico, orientado a empoderar y generar competencias y capacidades en los productores agropecuarios del departamento del Valle del Cauca (campesinos y grupos étnicos), con el fin de mejorar la calidad de los servicios de extensión agropecuaria, incorporando en sus sistemas de producción o líneas productivas; prácticas, tecnologías, conocimientos, saberes y comportamientos que beneficien su desempeño y mejoren su competitividad de manera sostenible y sustentable, así como su aporte a la soberanía, autosuficiencia, autonomía y seguridad alimentaria y nutricional, así como en su desarrollo como ser humano integral.
C22: OBJETIVOS ESPECIFICOS | D22: PRODUCTOS | E22: COSTO POR PRODUCTO | F22: META | G22: COMPONENTES A TENER EN CUENTA PARA EL DESARROLLO DE LAS ACTIVIDADES | H22: MÉTODOS INDIVIDUALES | J22: MÉTODOS GRUPALES
H23: VISITA INDIVIDUAL A PREDIO | I23: COSTO POR ACTIVIDAD POR USUARIO | J23: DÍA DE CAMPO | K23: COSTO POR ACTIVIDAD POR USUARIO | L23: ESCUELA DE CAMPO | M23: COSTO POR ACTIVIDAD POR USUARIO | N23: RUEDA DE NEGOCIOS | O23: COSTO POR ACTIVIDAD POR USUARIO | P23: GIRA | Q23: COSTO POR ACTIVIDAD POR USUARIO | R23: CURSO | S23: COSTO POR ACTIVIDAD POR USUARIO
C24: DESARROLLAR LAS CAPACIDADES INTEGRALES HUMANAS | D24: Servicio de extensión en los encadenamientos productivos | E24: =+SUM(I24:I27,K24:K27,M24:M27,S24:S27,O24:O27,Q24:Q27)*F24 -> 1091182806 | F24: =D17 -> 2394 | G24: Identificación de la actividad productiva principal | H24: =D17 -> 2394 | I24: =IF(H24=$I$9,$I$15,0) -> 90250 | K24: =IF(J24=$K$12,$K$11,0) -> 0 | M24: =IF(L24=$M$12,$M$11,0) -> 0 | O24: =IF(N24=$O$12,$O$11,0) -> 0 | Q24: =IF(P24=$Q$12,$Q$11,0) -> 0 | S24: =IF(R24=$S$12,$S$11,0) -> 0
G25: Uso de Buenas Prácticas Agrícolas y Pecuarias | H25: =D17 -> 2394 | I25: =IF(H25=$I$9,$I$15,0) -> 90250 | K25: =IF(J25=$K$12,$K$11,0) -> 0 | M25: =IF(L25=$M$12,$M$11,0) -> 0 | O25: =IF(N25=$O$12,$O$11,0) -> 0
H26: =D17 -> 2394 | I26: =IF(H26=$I$9,$I$15,0) -> 90250 | J26: 79 | K26: =IF(J26=$K$12,$K$11,0) -> 41733 | L26: 79 | M26: =IF(L26=$M$12,$M$11,0) -> 43333 | O26: =IF(N26=$O$12,$O$11,0) -> 0 | Q26: =IF(P26=$Q$12,$Q$11,0) -> 0 | R26: 96 | S26: =IF(R26=$S$12,$S$11,0) -> 40000
G27: Estructuras de comercialización | K27: =IF(J27=$K$12,$K$11,0) -> 0 | M27: =IF(L27=$M$12,$M$11,0) -> 0 | N27: 36 | O27: =IF(N27=$O$12,$O$11,0) -> 59983
C28: DESARROLLAR LAS CAPACIDADES SOCIALES INTEGRALES Y FORTALECIMIENTO DE LA ASOCIATIVIDA | D28: Servicio de extensión en el fomento y fortalecimiento organizacional y asociativo | E28: =+SUM(I28,K28,M28,Q28,S28)*F24 -> 103739202 | G28: Procesos de emprendimiento y asociatividad | I28: =IF(H28=$I$9,$I$15,0) -> 0 | K28: =IF(J28=$K$12,$K$11,0) -> 0 | L28: 79 | M28: =IF(L28=$M$12,$M$11,0) -> 43333 | O28: =IF(N28=$O$12,$O$11,0) -> 0
C29: FACILITAR EL ACCESO Y EL APROVECHAMIENTO DE LA INFORMACIÓN DE APOYO, TECNOLOGÍAS Y PRODUCTOS TECNOLÓGICOS. | D29: Servicio de extensión en el aprovechamiento y uso de las herramientas TIC´s | E29: =+SUM(I29,K29,M29,Q29,S29)*F24 -> 95760000 | G29: Habilidades y competencias en el uso de TIC | I29: =IF(H29=$I$9,$I$15,0) -> 0 | K29: =IF(J29=$K$12,$K$11,0) -> 0 | M29: =IF(L29=$M$12,$M$11,0) -> 0 | O29: =IF(N29=$O$12,$O$11,0) -> 0 | R29: 96 | S29: =IF(R29=$S$12,$S$11,0) -> 40000
C30: GESTIONAR EL USO SOSTENIBLE DE LOS RECURSOS NATURALES | D30: Servicio de extensión en en el manejo eficiente de los recursos naturales | E30: =(SUM(I30:I31,M30:M31,K30:K31,S30:S31)*F24)+(P30*Q30) -> 613831176 | G30: Prácticas ambientales sostenibles y/o sustentables | H30: =D17 -> 2394 | I30: =IF(H30=$I$9,$I$15,0) -> 90250 | K30: =IF(J30=$K$12,$K$11,0) -> 0 | L30: 79 | M30: =IF(L30=$M$12,$M$11,0) -> 43333 | O30: =IF(N30=$O$12,$O$11,0) -> 0 | P30: 337 | Q30: =Q10 -> 231379.74
G31: Actividades de mitigación y adaptación al cambio climático | H31: =D17 -> 2394 | I31: =IF(H31=$I$9,$I$15,0) -> 90250 | K31: =IF(J31=$K$12,$K$11,0) -> 0 | M31: =IF(L31=$M$12,$M$11,0) -> 0 | O31: =IF(N31=$O$12,$O$11,0) -> 0 | Q31: =IF(P31=$Q$12,$Q$11,0) -> 0 | S31: =IF(R31=$S$12,$S$11,0) -> 0
C32: DESARROLLAR HABILIDADES PARA LA PARTICIPACIÓ | D32: Servicio de extensión para la participación en espacios de politica pública sectorial | E32: =+SUM(I32,K32,M32,Q32,S32)*F24 -> 95760000 | G32: Fomento de la autogestión de las comunidades | I32: =IF(H32=$I$9,$I$15,0) -> 0 | K32: =IF(J32=$K$12,$K$11,0) -> 0 | M32: =IF(L32=$M$12,$M$11,0) -> 0 | O32: =IF(N32=$O$12,$O$11,0) -> 0 | Q32: =IF(P32=$Q$12,$Q$11,0) -> 0 | R32: 96 | S32: =IF(R32=$S$12,$S$11,0) -> 40000
C33: VALOR TOTAL LÍNEAS PRIORIZADAS | E33: =SUM(E24:E32) -> 2000273184 | H33: =+SUM(I24:I32)*F24 -> 1080292500 | J33: =SUM(K24:K32)*$D$17 -> 99908802 | L33: =SUM(M24:M32)*$D$17 -> 311217606 | N33: =SUM(O24:O32)*$D$17 -> 143599302 | P33: =+P30*Q30 -> 77974974 | R33: =SUM(S28:S32,S24:S26)*F24 -> 287280000
C37: Consideraciones para los proyectos:
C38: 1. Mínimo el 30% de los productores a beneficiar deben ser mujer rural
C39: 2. Contemplar mínimo 4 visitas individuales

Sheet Anexo 3. Objetivo Especifico 1
B3: PROYECTO: | C3: Proyecto para la Prestación del Servicio Público de Extensión Agropecuaria con Enfoque Diferencial, Territorial y Agroecológico en los Sistemas de Producción Agropecuarios Sustentables de los usuarios de las Comunidades Campesinas y Étnicas en las líneas productivas de Aromáticas Medicinales, Cacao, Caña Panelera, Cítricos, Lulo Y Plátano, priorizados en los municipios del Departamento del Valle del Cauca.
B5: OBJETIVOS ESPECIFICOS | C5: PRODUCTOS | D5: COSTO POR PRODUCTO | E5: META | F5: COMPONENTES A TENER EN CUENTA PARA EL DESARROLLO DE LAS ACTIVIDADES | G5: MÉTODOS INDIVIDUALES | I5: MÉTODOS GRUPALES O DE DIFUSIÓN
G6: VISITA INDIVIDUAL A PREDIO | H6: COSTO POR ACTIVIDAD POR USUARIO | I6: DÍA DE CAMPO | J6: COSTO POR ACTIVIDAD POR USUARIO | K6: ESCUELA DE CAMPO | L6: COSTO POR ACTIVIDAD POR USUARIO | M6: CURSO | N6: COSTO POR ACTIVIDAD POR USUARIO | O6: RUEDA DE NEGOCIO | P6: COSTO POR ACTIVIDAD POR USUARIO
B7: DESARROLLAR LAS CAPACIDADES INTEGRALES HUMANAS | C7: Servicio de extensión en los encadenamientos productivos | D7: =+SUM(H7:H10,J7:J10,L7:L10,N7:N10,P7:P10)*E7 -> 1091182806 | E7: =+'Anexo 2. Cadena de Valor'!D17 -> 2394 | F7: Identificación de la actividad productiva principal | G7: =+'Anexo 2. Cadena de Valor'!H24 -> 2394 | H7: =+'Anexo 2. Cadena de Valor'!I24 -> 90250 | I7: =+'Anexo 2. Cadena de Valor'!J24 -> 0 | J7: =+'Anexo 2. Cadena de Valor'!K24 -> 0 | K7: =+'Anexo 2. Cadena de Valor'!L24 -> 0 | L7: =+'Anexo 2. Cadena de Valor'!M24 -> 0 | M7: =+'Anexo 2. Cadena de Valor'!R24 -> 0 | N7: =+'Anexo 2. Cadena de Valor'!S24 -> 0 | O7: =+'Anexo 2. Cadena de Valor'!T24 -> 0 | P7: =+'Anexo 2. Cadena de Valor'!U24 -> 0
F8: Uso de Buenas Prácticas Agrícolas y Pecuarias | G8: =+'Anexo 2. Cadena de Valor'!H25 -> 2394 | H8: =+'Anexo 2. Cadena de Valor'!I25 -> 90250 | I8: =+'Anexo 2. Cadena de Valor'!J25 -> 0 | J8: =+'Anexo 2. Cadena de Valor'!K25 -> 0 | K8: =+'Anexo 2. Cadena de Valor'!L25 -> 0 | L8: =+'Anexo 2. Cadena de Valor'!M25 -> 0 | M8: =+'Anexo 2. Cadena de Valor'!R25 -> 0 | N8: =+'Anexo 2. Cadena de Valor'!S25 -> 0 | O8: =+'Anexo 2. Cadena de Valor'!T25 -> 0 | P8: =+'Anexo 2. Cadena de Valor'!U25 -> 0
G9: =+'Anexo 2. Cadena de Valor'!H26 -> 2394 | H9: =+'Anexo 2. Cadena de Valor'!I26 -> 90250 | I9: =+'Anexo 2. Cadena de Valor'!J26 -> 79 | J9: =+'Anexo 2. Cadena de Valor'!K26 -> 41733 | K9: =+'Anexo 2. Cadena de Valor'!L26 -> 79 | L9: =+'Anexo 2. Cadena de Valor'!M26 -> 43333 | M9: =+'Anexo 2. Cadena de Valor'!R26 -> 96 | N9: =+'Anexo 2. Cadena de Valor'!S26 -> 40000 | O9: =+'Anexo 2. Cadena de Valor'!T26 -> 0 | P9: =+'Anexo 2. Cadena de Valor'!U26 -> 0
F10: Estructuras de comercialización | N10: 0 | O10: =+'Anexo 2. Cadena de Valor'!N27 -> 36 | P10: =+'Anexo 2. Cadena de Valor'!O27 -> 59983
B11: VALOR TOTAL OBJETIVO 1 | D11: =+D7 -> 1091182806
B14: Consideraciones para los proyectos:
B15: 1. Mínimo el 30% de los productores a beneficiar deben ser mujer rural
B16: 2. Contemplar mínimo 4 visitas individuales
B17: Convenciones
B18: VISITA INDIVIDUAL
B19: DIA DE CAMPO
B20: ESCUELAS DE CAMPO PARA AGRICU LTORES
B21: GIRA
B22: CURSO

Sheet Anexo 4. Objetivo Especifico 2
B3: PROYECTO: | C3: Proyecto para la Prestación del Servicio Público de Extensión Agropecuaria con Enfoque Diferencial, Territorial y Agroecológico en los Sistemas de Producción Agropecuarios Sustentables de los usuarios de las Comunidades Campesinas y Étnicas en las líneas productivas de Aromáticas Medicinales, Cacao, Caña Panelera, Cítricos, Lulo Y Plátano, priorizados en los municipios del Departamento del Valle del Cauca.
B5: OBJETIVOS ESPECIFICOS | C5: PRODUCTOS | D5: COSTO POR PRODUCTO | E5: META | F5: COMPONENTES A TENER EN CUENTA PARA EL DESARROLLO DE LAS ACTIVIDADES | G5: MÉTODOS GRUPALES O DE DIFUSIÓN
G6: ESCUELA DE CAMPO | H6: COSTO POR ACTIVIDAD POR USUARIO
B7: DESARROLLAR LAS CAPACIDADES SOCIALES INTEGRALES Y FORTALECIMIENTO DE LA ASOCIATIVIDA | C7: Servicio de extensión en el fomento y fortalecimiento organizacional y asociativo | D7: =+E7*H7 -> 103739202 | E7: =+'Anexo 2. Cadena de Valor'!D17 -> 2394 | F7: Procesos de emprendimiento y asociatividad | G7: =+'Anexo 2. Cadena de Valor'!L28 -> 79 | H7: =+'Anexo 2. Cadena de Valor'!M28 -> 43333
B8: VALOR TOTAL OBJETIVO 2 | D8: =+D7 -> 103739202
B10: Consideraciones para los proyectos:
B11: 1. Mínimo el 30% de los productores a beneficiar deben ser mujer rural
B12: 2. Contemplar mínimo 4 visitas individuales
B13: Convenciones
B14: VISITA INDIVIDUAL
B15: DIA DE CAMPO
B16: ESCUELAS DE CAMPO PARA AGRICU LTORES
B17: GIRA
B18: CURSO

Sheet Anexo 5. Objetivo Especifico 3
B3: PROYECTO: | C3: Proyecto para la Prestación del Servicio Público de Extensión Agropecuaria con Enfoque Diferencial, Territorial y Agroecológico en los Sistemas de Producción Agropecuarios Sustentables de los usuarios de las Comunidades Campesinas y Étnicas en las líneas productivas de Aromáticas Medicinales, Cacao, Caña Panelera, Cítricos, Lulo Y Plátano, priorizados en los municipios del Departamento del Valle del Cauca.
B5: OBJETIVOS ESPECIFICOS | C5: PRODUCTOS | D5: COSTO POR PRODUCTO | E5: META | F5: COMPONENTES A TENER EN CUENTA PARA EL DESARROLLO DE LAS ACTIVIDADES | G5: MÉTODOS GRUPALES O DE DIFUSIÓN
G6: CURSO | H6: COSTO POR ACTIVIDAD POR USUARIO
B7: FACILITAR EL ACCESO Y EL APROVECHAMIENTO DE LA INFORMACIÓN DE APOYO, TECNOLOGÍAS Y PRODUCTOS TECNOLÓGICOS. | C7: Servicio de extensión en el aprovechamiento y uso de las herramientas TIC´s | D7: =+H7*E7 -> 95760000 | E7: =+'Anexo 2. Cadena de Valor'!D17 -> 2394 | F7: Habilidades y competencias en el uso de TIC | G7: 62 | H7: 40000
B8: VALOR TOTAL OBJETIVO 3 | D8: =+D7 -> 95760000

Sheet Anexo 6. Objetivo Especifico 4
B3: PROYECTO: | C3: Proyecto para la Prestación del Servicio Público de Extensión Agropecuaria con Enfoque Diferencial, Territorial y Agroecológico en los Sistemas de Producción Agropecuarios Sustentables de los usuarios de las Comunidades Campesinas y Étnicas en las líneas productivas de Aromáticas Medicinales, Cacao, Caña Panelera, Cítricos, Lulo Y Plátano, priorizados en los municipios del Departamento del Valle del Cauca.
B5: OBJETIVOS ESPECIFICOS | C5: PRODUCTOS | D5: COSTO POR PRODUCTO | E5: META | F5: COMPONENTES A TENER EN CUENTA PARA EL DESARROLLO DE LAS ACTIVIDADES | G5: MÉTODOS INDIVIDUALES | I5: MÉTODOS GRUPALES O DE DIFUSIÓN
G6: VISITA INDIVIDUAL A PREDIO | H6: COSTO POR ACTIVIDAD POR USUARIO | I6: ESCUELA DE CAMPO | J6: COSTO POR ACTIVIDAD POR USUARIO | K6: GIRA | L6: COSTO POR ACTIVIDAD POR USUARIO
B7: GESTIONAR EL USO SOSTENIBLE DE LOS RECURSOS NATURALES | C7: Servicio de extensión en en el manejo eficiente de los recursos naturales | D7: =(SUM(H7:H8,J7:J8)*E7)+(SUM(K7:K8*L7:L8)) -> 613831176 | E7: =+'Anexo 2. Cadena de Valor'!D17 -> 2394 | F7: Prácticas ambientales sostenibles y/o sustentables | G7: =+'Anexo 2. Cadena de Valor'!H30 -> 2394 | H7: =+'Anexo 2. Cadena de Valor'!I30 -> 90250 | I7: =+'Anexo 2. Cadena de Valor'!L30 -> 79 | J7: =+'Anexo 2. Cadena de Valor'!M30 -> 43333 | K7: =+'Anexo 2. Cadena de Valor'!P30 -> 337 | L7: =+'Anexo 2. Cadena de Valor'!Q30 -> 231379.74
F8: Actividades de mitigación y adaptación al cambio climático | G8: =+'Anexo 2. Cadena de Valor'!H31 -> 2394 | H8: =+'Anexo 2. Cadena de Valor'!I31 -> 90250 | I8: =+'Anexo 2. Cadena de Valor'!L31 -> 0 | J8: =+'Anexo 2. Cadena de Valor'!M31 -> 0 | K8: =+'Anexo 2. Cadena de Valor'!P31 -> 0 | L8: =+'Anexo 2. Cadena de Valor'!Q31 -> 0
B9: VALOR TOTAL OBJETIVO 5 | D9: =+D7 -> 613831176

Sheet Anexo 7. Objetivo Especifico 5
B2: Proyecto para la Prestación del Servicio Público de Extensión Agropecuaria con Enfoque Diferencial, Territorial y Agroecológico en los Sistemas de Producción Agropecuarios Sustentables de los usuarios de las Comunidades Campesinas y Étnicas en las líneas productivas de Aromáticas Medicinales, Cacao, Caña Panelera, Cítricos, Lulo Y Plátano, priorizados en los municipios del Departamento del Valle del Cauca
B4: OBJETIVOS ESPECIFICOS | C4: PRODUCTOS | D4: COSTO POR PRODUCTO | E4: META | F4: COMPONENTES A TENER EN CUENTA PARA EL DESARROLLO DE LAS ACTIVIDADES | G4: MÉTODOS GRUPALES O DE DIFUSIÓN
G5: CURSO | H5: COSTO POR ACTIVIDAD POR USUARIO
B6: DESARROLLAR HABILIDADES PARA LA PARTICIPACIÓN | C6: Servicio de extensión para la participación en espacios de politica pública sectorial | D6: =+H6*E6 -> 95760000 | E6: =+'Anexo 2. Cadena de Valor'!D17 -> 2394 | F6: Fomento de la autogestión de las comunidades | G6: =+'Anexo 2. Cadena de Valor'!R32 -> 96 | H6: =+'Anexo 2. Cadena de Valor'!S32 -> 40000
B7: VALOR TOTAL OBJETIVO 5 | D7: =SUM(D6) -> 95760000
B10: Consideraciones para los proyectos:
B11: 1. Mínimo el 30% de los productores a beneficiar deben ser mujer rural
B12: 2. Contemplar mínimo 4 visitas individuales
B13: Convenciones
B14: VISITA INDIVIDUAL
B15: DIA DE CAMPO
B16: ESCUELAS DE CAMPO PARA AGRICU LTORES
B17: GIRA
B18: CURSO

Sheet Anexo 8. Cronograma
B2: CRONOGRAMA DE ACTIVIDADES
B3: OBJETIVOS ESPECIFICOS | C3: PRODUCTOS | D3: COMPONENTE | E3: ACTIVIDAD | F3: Mes 1 | J3: Mes 2 | N3: Mes 3 | R3: Mes 4 | V3: Mes 5 | Z3: Mes 6
F4: S 1 | G4: S 2 | H4: S 3 | I4: S 4 | J4: S 1 | K4: S 2 | L4: S 3 | M4: S 4 | N4: S 1 | O4: S 2 | P4: S 3 | Q4: S 4 | R4: S 1 | S4: S 2 | T4: S 3 | U4: S 4 | V4: S 1 | W4: S 2 | X4: S 3 | Y4: S 4 | Z4: S 1 | AA4: S 2 | AB4: S 3 | AC4: S 4
B5: DESARROLLAR LAS CAPACIDADES INTEGRALES HUMANAS | C5: Servicio de extensión en los encadenamientos productivos | D5: Identificación de la actividad productiva principal | E5: VISITA INDIVIDUAL
D6: Uso de Buenas Prácticas Agrícolas y Pecuarias | E6: VISITA INDIVIDUAL
E7: VISITA INDIVIDUAL
E8: DIA DE CAMPO
E9: ECA
E10: CURSO
D11: Estructuras de comercialización | E11: RUEDA DE NEGOCIO
B12: DESARROLLAR LAS CAPACIDADES SOCIALES INTEGRALES Y FORTALECIMIENTO DE LA ASOCIATIVIDA | C12: Servicio de extensión en el fomento y fortalecimiento organizacional y asociativo | D12: Procesos de emprendimiento y asociatividad | E12: ECA
B13: FACILITAR EL ACCESO Y EL APROVECHAMIENTO DE LA INFORMACIÓN DE APOYO, TECNOLOGÍAS Y PRODUCTOS TECNOLÓGICOS. | C13: Servicio de extensión en el aprovechamiento y uso de las herramientas TIC´s | D13: Habilidades y competencias en el uso de TIC | E13: CURSO
B14: GESTIONAR EL USO SOSTENIBLE DE LOS RECURSOS NATURALES | C14: Servicio de extensión en en el manejo eficiente de los recursos naturales | D14: Prácticas ambientales sostenibles y/o sustentables | E14: VISITA INDIVIDUAL
E15: ECA
E16: GIRA
D17: Actividades de mitigación y adaptación al cambio climático | E17: VISITA INDIVIDUAL
B18: DESARROLLAR HABILIDADES PARA LA PARTICIPACIÓ | C18: Servicio de extensión para la participación en espacios de politica pública sectorial | D18: Fomento de la autogestión de las comunidades | E18: CURSO

Sheet Anexo 9. Indicadores
B2: Indicadores de Producto
B4: Nombre del proyecto | C4: Indicador | D4: Unidad de Medida | E4: Formula
B5: Proyecto para la Prestación del Servicio Público de Extensión Agropecuaria con Enfoque Diferencial, Territorial y Agroecológico en los Sistemas de Producción Agropecuarios Sustentables de los usuarios de las Comunidades Campesinas y Étnicas en las líneas productivas de Aromáticas Medicinales, Cacao, Caña Panelera, Cítricos, Lulo Y Plátano, priorizados en los municipios del Departamento del Valle del Cauca | C5: Cobertura y alcance del servicio público de extensión agropecuaria | D5: Número de usuarios a atender | E5: 2394
B8: Indicadores de Gestión
B10: Nombre del proyecto | C10: Indicador | D10: Unidad de Medida | E10: Formula
B11: Proyecto para la Prestación del Servicio Público de Extensión Agropecuaria con Enfoque Diferencial, Territorial y Agroecológico en los Sistemas de Producción Agropecuarios Sustentables de los usuarios de las Comunidades Campesinas y Étnicas en las líneas productivas de Aromáticas Medicinales, Cacao, Caña Panelera, Cítricos, Lulo Y Plátano, priorizados en los municipios del Departamento del Valle del Cauca | C11: Plan de fortalecimiento por productor en la línea priorizada, que incluya los cinco aspectos del enfoque | D11: Número | E11: 2394/2394
B14: Indicadores de Resultado
B16: Nombre del proyecto | C16: Indicador | D16: Unidad de Medida | E16: Formula
B17: Proyecto para la Prestación del Servicio Público de Extensión Agropecuaria con Enfoque Diferencial, Territorial y Agroecológico en los Sistemas de Producción Agropecuarios Sustentables de los usuarios de las Comunidades Campesinas y Étnicas en las líneas productivas de Aromáticas Medicinales, Cacao, Caña Panelera, Cítricos, Lulo Y Plátano, priorizados en los municipios del Departamento del Valle del Cauca | C17: Nivel de apropiación del conocimiento del productor en la línea priorizada | D17: Porcentaje | E17: Estado final del sistema productivo (Promedio de la evaluación final del productor al desarrollar el método de extensión) / Estado inicial del sistema productivo (Promedio de la evaluación inicial del productor al desarrollar el método de extensión)
B19: Nota: Lee este indicador debe ir acompañado de un informe de evaluación cuantitativo y cualitativo, que realice la EPSEA a cada uno de los usuarios donde se identifique claramente el estado inicial del productor, con respecto al momento final del proyecto.

Sheet Anexo 10. Visitas Técnicas
B2: PLAN DEPARTAMENTAL DE EXTENSIÓN AGROPECUARIA PARA EL DEPARTAMENTO DEL VALLE DEL CAUCA | G2: INICIO
B3: MÉTODO DE EXTENSIÓN AGROPECUARIA
B5: MÉTODO DE EXTENSIÓN
B6: NOMBRE | C6: Métodología Individual de Extensión
B7: TIPO | C7: Visita del extensionista al productor en su finca (Plan de Visitas)
B8: DEFINICIÓN | C8: Visita en donde la relación predominante es de tipo interpersonal; es decir, ocurre entre el extensionista y el productor. Se orienta generalmente a la atención particular de una problemática generalmente vinculada a un sistema productivo recolectando información para un diagnóstico situacional o para transmitir una información urgente.
B9: CARACTERÍSTICAS | C9: Visita interpersonal para realizar diagnóstico y planificación predial y dar recomendaciones prácticas al productor (el extensionista debe haber recibido curso de capacitación y formación por los actores del SNIA). | D9: UTILIDAD | E9: Oportunidad de crear vínculos de confianza y afecto que favorecen la acción del extensionista.
C10: Comunicación personal y horizontal entre productor y el agente de extensión, para intercambiar ideas, saberes y conocimientos. | E10: Fortalecer la confianza, la honestidad y responsabilidad entre el productor y el agente de extensión, en donde se fomenta el diálogo de saberes y los intersaberes e interconocimientos.
C11: Establecer buenas relaciones entre el extensionista, el productor y su familia (tener en cuenta las medidas de bioseguridad). | E11: Acceder a las diferentes innovaciones que se esten gestando en los diferentes actores del SNIA y las propias que emergen del productor en sus sistemas de producción.
B12: DESARROLLO DE CAPACIDADES DEL PRODUCTOR | C12: Empoderamiento del productor y su familia en la importancia del sector agropecuario, pesquero y la dimensión ambiental en el desarrollo rural territorial del departamento. | D12: ESTILO DE APRENDIZAJE | E12: Proceso de ensenanza-aprendizaje, teórico-practico para la solucion de problemas en los sistemas de producción, en un ambiente de aumento de la empatia y confianza entre el extensionista, la familia y el agricultor.
C13: Por medio de las relaciones humanas, se construyen las interacciones entre uno o más productores lo cual permite crear mecanismos para mejorar la producción, el desarrollo personal y comunal. Las relaciones humanas implican comunicación. | E13: Construcción colectiva de saberes y conocimientos entre el extensionista y el productos mediante la ecología de saberes.
C14: Desarrollar habilidades y destrezas para darle orden y secuencias logica a sus actividades, técnicas y procedimientos que realiza. | E14: Enfoque sistémico (transdisciplinar y multidesciplinar) para enterder la complejidad de los sistemas de producción sustentables en el territorio.
B16: ASPECTO ESPACIAL
B17: LUGAR | C17: El servicio de Extensión Agropecuario se prestara en el predio del productor, dicha visita se incia con un diagnóstico del predio, teniendo en cuenta los aspectos técnico-agronómicos, socioculturales, socioeconómicos (espirituales) y organizativos políticos de su sistemas de producción. Para posteriormente, terminar con la formulación participativa de un plan de trabajo de la finca. Estos insumos son fundamentales para elaborar el plan de trabajo de la organización y la vereda.
B18: CARACTERÍSTICAS | C18: El extensionista se debe enfocar en los siguientes aspectos, durante el recorrido del predio: 1. Características de su sistema de producción. 2. Características personales y familiares. 3. Información general de la finca. 4. Asociatividad y relación con la comunidad. 5. Técnicas, tecnologías y prácticas agropecuarias, pesqueras y ambientales que utiliza en el predio.
B20: ASPECTO TEMPORAL
B21: NÚMERO DE ACTIVIDADES | C21: El extensionista realizará 5 visitas individuales al predio del agricultor para un total de 14360 visitas . En las visitas se abordara el sistema de producción su totalidad.
B22: CARACTERÍSTICAS | C22: La visita sera concertada con el productor y tendra un tiempo estimado de duración (4 horas) y se debe explicitar las observaciones y recomendaciones generales para poner en práctica por parte del agricultor. En todos los casos, al finalizar la visita se debe dejar constancia de lo acordado y ser ingresado a un sistema de seguimiento y evaluación.
B24: ASPECTO CUANTITATIVO
B25: INDICADOR | C25: Número de visitas realizadas, Número de productores atendidos.
B26: UNIDAD DE MEDIDA DEL SERVICIO | C26: Número de visitas, Número de productores.
B28: GENERALIDADES DEL SERVICIO
B29: OBJETIVOS | C29: Identificar la actividad productiva principal del productor.
C30: Acompañar al productor agropecuario en la toma de decisiones en su sistema de producción promoviendo el uso e implementación de Buenas Prácticas Agrícolas, Pecuarias y Agroecológicas para el mejoraramiento de la producción, la autogestión del productor y su familia.
C31: Implementar Prácticas ambientales sostenibles y/o sustentables en los sistemas productivos
C32: Impulsar el desarrollo de actividades de mitigacion y adaptacion al cambio climatico
B33: ACTIVIDADES PRINCIPALES A DESARROLLAR | C33: Realizar el proceso de actualizacion y levantamiento de información diagnóstica del productor y el de sus sistemas productivos implementados en el predio, identificando metodos, conocimientos y necesidades de su producción. Actividad registrada en formatos preestablecidos, que permita identificar falencias y buscar las mejores decisiones referente al sistema.
C34: Acompañar a los productores para la adopción de buenas prácticas agrícolas (manejo ecológico del suelo, manejo de insectos plagas y enfermedades) y pecuarias agroecológicas (sanidad animal, salud, seguridad y bienestar animal, alimentación y suministro de agua).
C35: Identificar en los sistemas de producción la presencia de insectos plagas, enfermedades, deficiencia de nutrientes, alimentación animal, manejo de animales, bienestar animal y demás problemáticas que están afectando la unidad productiva, la chacra, la azotea, huerto diverso hortifruticola y a su vez brindar soluciones compartidas y adecuadas a los múltiples problemas técnicos, sociales, culturales, ambientales, económicos y espirituales que emergen e incluirlos en el Plan de Trabajo (tener encuenta los enfoques agroecológico, diferencial y género).
C36: Adopción de prácticas agroecológicas que propende por el cuidado de los bienes naturales (suelo, agua, flora y fauna), tales como rotación de cultivos, policultivos, sistemas agroforestales, cultivos de cobertura y mulches, integración de cultivos y animales, compostaje, biopreparados, labranza mínima, flores insectarias, pesticidas microbianos/botánicos, cercas vivas, abonos verdes, entre otros.
C37: Resaltar la importancia de las fuentes alternativas de produccion de energia (biodigestores, pozos sépticos, relictos boscosos y los bancos dendroenergéticos), como estrategía para minimizar la contaminaciones de las fuentes hídricas, el suelo y la presión sobre el bosque y la agrobiodiversidad. A su vez, Apoyar la adopción de prácticas de manejo, restauración y conservación de agua y suelos como estrategias de mitigación y adaptación a la variabilidad y cambio climático; además, en cumplimiento de las BPA. Por último, sistematizar las experiencias y prácticas desarrolladas en el sistema de producción del agricultor, para compartirlas con otros agricultores y posibilitar la mejora continua de los sistemas de producción.

Sheet Anexo 11. Grupal Día de Campo
B2: PLAN DEPARTAMENTAL DE EXTENSIÓN AGROPECUARIA PARA EL DEPARTAMENTO DEL VALLE DEL CAUCA | G2: INICIO
B3: MÉTODO DE EXTENSIÓN AGROPECUARIA
B5: ASPECTO MATERIAL
B6: NOMBRE | C6: Métodología Grupales de Extensión
B7: TIPO | C7: Día de Campo
B8: DEFINICIÓN | C8: Un grupo de productores se traslada a una finca o estación experimental para mostrar nuevas variedades, técnicas de cultivos o manejo de enfermedades que no existen en sus sistemas de producción. Esta técnica tiene mucha aceptación entre los productores ya que permite sacarlos de su rutina y observar resultados en otro ambiente. En suma, el día de campo campo debe considerar como una oportunidad para implementar los cambios fundamentales en los sistemas de producción, siempre y cuando se base en las necesidades reales de los productores.
B9: CARACTERÍSTICAS | C9: El productor puede acceder a la información disponible en forma directa, además de generar un intercambio inmediato de información entre o con otros productores. | D9: UTILIDAD | E9: Apropiación de conocimiento, saberes y valores por parte de los productores durante la gira.
C10: Proceso de enseñanza-aprendizaje donde el diálogo de intersaberes e interconocimiento es fundamental para la construcción colectiva de conocimientos y saberes. | E10: Acercamiento al uso de Buenas Prácticas Agrícolas y Pecuarias en los sistemas de producción, chacra, azotea y sistema biodiverso de los productores campesinos, indígenas y afros del Departamento.
C11: Aprender de lo visto y vivido en la salida. Vivenciar el saber y la prática. El productor solo aprende haciendo y replicando el saber de otro agricultor (Metodología CaC). | E11: Esta técnica tiene mucha aceptación entre los productores ya que permite sacarlos de su rutina y observar resultados en otro ambiente.
B12: DESARROLLO DE CAPACIDADES DEL PRODUCTOR | C12: El productor adopta conocimiento y saberes mediante el diálogo intercultural. | D12: ESTILO DE APRENDIZAJE | E12: Educación popular: educación para adultos (andragogía) y también para jóvenes y mujeres.
C13: Aprender haciendo que emerge de las necesidades de aprendizaje del productor. | E13: Proceso de ensenanza-aprendizaje, teórico-practico participativo con enfoque diferencial y agroecológico para la solucion de problemas en los sistemas de producción.
C14: Desarrollar un reservorio de técnicas, saberes y tecnologías para que los productores implementen en los sistemas de producción. | E14: Adoptar la Metodología de Campesino a Campesino para replicar en sus respectivos sistemas de producción sustentable y agroecológicos. Formar a campesinos promotores.
B16: ASPECTO ESPACIAL
B17: LUGAR | C17: El día de campo se va a realizar en los sistemas de producción de aguacate, mora, maíz de ladera y cítricos, banano, plátano, chontaduro, piscicultura, acuicultura, porcicultura, bovino de leche de los municipios, resguardos indígenas y territorios colectivos, del departamento del Valle del Cauca. Igualmente, en las estación de experimentación o granjas experimentales, laboratorios de aprendizaje, parcelas demostrativas que cuenten los actores de subsistema de investigación del SNIA.
B18: CARACTERÍSTICAS | C18: Los días de campo se concerta con los productores, gruos étnicos, además, se construyen en sinergia instituciona con los actores del SNIA. El día de campo debe contestar las siguientes preguntas: ¿Qué van a aprender y enseñar los productores durante la visita?, ¿Cuántas personas van a asistir y cómo van a desplazarse?. El día de camoa debe tener objetivos, recursos didacticos y aspectos organizativos.
B20: ASPECTO TEMPORAL
B21: NÚMERO DE ACTIVIDADES | C21: Se debe realizar un plan de días de campo que abarque las 20 cadenas productivas priorizadas por el PDEA (café, acuícola, pesca, plantas medicinales y aromáticas, aguacate, avícola, bovino (carne y leche), cacao, caña panelera, cilantro, críticos, fríjol ladero, maíz tradicional, mora, papaya, piña, plátano porcícola, tomate y uva). Se debe realizar replicas de campo a través de promotores campesinos. Cada día de campo tendra una duración de 8 horas, el número de asistentes (30 productores), el desplazamiento colectivo y a través de servicio público; conservando las medidas de bioprotección (los días de campo contempla refrigerios, alimentación y transporte donde se requiera).
B22: CARACTERÍSTICAS | C22: Los días de campo (41) se realizará en el departamento. Por cada línea productiva se ralizará una gira con 20 o 30 productores según las condiciones de bioseguridas exigidas. Se tendrán en cuenta las fincas reconocidas por la Secretaria de Desarrollo Rural, Agricultura y Pesca con relación al manejo y uso de Buenas Prácticas Agrícolas y Pecuarias coherentes con la líneas priorizadas el PDEA 2020-2023 en el marco del Plan de Desarrollo Departamental, Un Valle Invencible. Las temáticas se definen en los diagnósticos prediales construidos con los productores, espacios donde se exponene las necesidades. El tiempo planeado son ocho (8) horas. Se consideran sitios cercanos con condiciones agroecológicas similares a los sistemas de produccción de los agricultores.
B24: ASPECTO CUANTITATIVO
B25: INDICADOR | C25: Número de días de campo realizadas, Número de productores atendidos en el día de campo.
B26: UNIDAD DE MEDIDA DEL SERVICIO | C26: Número de días de campo, Número de productores.
B28: GENERALIDADES DEL SERVICIO
B29: OBJETIVOS | C29: Fomentar el uso de Buenas Prácticas Agrícolas y Pecuarias.
C30: Intercambio y construcción colectiva de conocimiento mediante la metodología Campesino a Campesino (CaC).
C31: Establecer un diálogo de saberes entre el productor responsable del sistema de producción y los productores para conocer de manera directa los éxitos y fracasos del sistema de producción.
C32: Mejorar los sistemas de producción a través de la replica de los visto y vivido en día de campo.
B33: ACTIVIDADES PRINCIPALES A DESARROLLAR | C33: Orientar a los productores uso de Buenas Prácticas Agrícolas y Pecuarias en los sistemas de producción, chacra, azotea y sistema biodiverso de los productores campesinos, indígenas y afros del Departamento.
C34: Desarrollar días de campos con criterios participativos y enfoque diferencial para el fortalecimientos de los sistemas agropecuarios de producción local.
C35: Sistematización de las experiencias y prácticas desarrolladas en lel día de campo, para compartirlas con otros agricultores y posibilitar la mejora continua de los sistemas de producción.
C36: Evaluar el impacto del día de campo o visitas de campo en los sistemas productivos y el manejo de los bienes naturales de los predios y del territorio abarcado.
B38: COMENTARIOS | C38: Tener en cuenta las medidas y los protocolos de bioseguridad de los municipios, resguardos indígenas, territorios colectivos y departamento. Las empresas transportadoras para el cumplimiento de los días de campo, deben soportar los documentos legales establecidos por la norma. Igualmente, contempla refrigerios y alimentación.

Sheet Anexo 12. Grupal ECAS
B2: EJECUCIÓN PLAN DEPARTAMENTAL DE EXTENSIÓN AGROPECUARIA DEPARTAMENTO DEL VALLE DEL CAUCA | G2: INICIO
B3: MÉTODO DE EXTENSIÓN AGROPECUARIA
B5: ASPECTO MATERIAL
B6: NOMBRE | C6: Métodología Grupales de Extensión
B7: TIPO | C7: Escuela de Campo (ECA)
B8: DEFINICIÓN | C8: Las Escuelas de Campo (ECA) son grupos de agricultores y agricultoras que se reúnen semanalmente, durante todo el ciclo vegetativo de un sistema de cultivo, con el fin de compartir y valorizar el conocimiento local, adquirir nuevos conocimientos y encontrar mejores estrategias para el manejo de nuevas tecnologías. Durante el proceso están siempre acompañados por un facilitador, persona que tiene la función de estimular el autoaprendizaje de cada uno de los participantes a través de la observación, reflexión y el análisis de los fenómenos o procesos que ocurren en el contexto de la ECA.
B9: CARACTERÍSTICAS | C9: Formar grupos de 20 0 25 agricultores y agricultoras. | D9: UTILIDAD | E9: Apropiación sistemática de conocimientos, saberes y valores por parte de los productores durante la implementación de la ECA.
C10: El aula de una ECA es el campo y el curso en el cual participan en el desarrollo del cultivo desde la siembra hasta la comercialización del producto cosechado. | E10: El facilitador o facilitadora puede ser un extensionista o un productor o productora graduado en la ECA.
C11: La ECA puede ser implementada para mejorar un cultivo, crianza de animales, manejar una plaga, comercializar un producto; es decir, cualquier problema o situación que se les presente a los productores y tiene que resolver. La ECA permite formar a campesinos promotores. | E11: Las ECAS contribuyen a la seguridad, autonomía, suficiencia y soberanía alimentaria de las comunidades campesinas y grupos étnicos en el territorio.
B12: DESARROLLO DE CAPACIDADES DEL PRODUCTOR | C12: Incentivar a que las familias mejoren sus capacidades para entender y solucionar sus problemas tecnológicos, sociales, económicos, desarrollando de esta manera las capacidades necesarias para tomar decisiones fundamentales en un análisis basado en la observación y en la experimentación. | D12: ESTILO DE APRENDIZAJE | E12: Construcción colectiva de conocimiento a través de experiencias significactivas que les permita posteriormente hallar soluciones a los problemas de la cotidianidad, en ambientes vivenciales, donde se promueva el intercambio de conocimientos y la visión holística de la vida, con compromiso social y ecológico.
C13: Se basa en un proceso de apreder haciendo y el haciendo para aprender, en el que los productores asumen un rol activo en la construcción de conocimientos para su desarrollo y liberación. | E13: En las ECAS se promueve los estilos de aprendizaje reflexivo, el cual valora las experiencias desde diferentes dimensiones, además, fortalece el aprendizaje social (interpersonal), donde el diálogo grupal potencia la emergencia de prácticas sustentables que se entrelazan con el estilo de aprendizaje natural, hacia el cuidado de los bienes comunes y la defensa del territorio.
C14: Desarrollar estrategias para potenciar los procesos de autogestión mediante el trabajo colectivo y la reivindicación de los valores comunitarios. | E14: En las ECAS se promueve los estilos de aprendizaje naturalista que enfatiza en los cuidados y sensibilidades hacia la naturaleza y el aprendizaje espacial que permite reconocer el territorio, relacionando el patrimonio y memoria biocultural.
B16: ASPECTO ESPACIAL
B17: LUGAR | C17: La ECA deben de tener un enfoque agroecológico, diferencial y territorial, dado que se van a constituir en las diferentes líneas productivas priorizadas: aguacate, mora, maíz de ladera y cítricos, banano, plátano, chontaduro, piscicultura, acuicultura, porcicultura, bovino de leche. Se van a constituir 41 ECAS, por línea productiva, en todos los municipios del departamento del Valle del Cauca.
B18: CARACTERÍSTICAS | C18: La ECA la componen entre 20 a 25 agricultores y agricultoras, el aula son la parcela de los agricultores.
B20: ASPECTO TEMPORAL
B21: NÚMERO DE ACTIVIDADES | C21: Se debe constituir diferentes ECAS que abarque las 20 cadenas productivas priorizadas (café, acuícola, pesca, plantas medicinales y aromáticas, aguacate, avícola, bovino (carne y leche), cacao, caña panelera, cilantro, críticos, fríjol ladero, maíz tradicional, mora, papaya, piña, plátano porcícola, tomate y uva) . Se debe realizar replicas ECAS a través de promotores campesinos. Cada ECA tendra una duración de 4 meses y se reúnen semanalmente (8 horas), el número de asistentes (20-25 productores). Las metodologías grupales implementadas en las ECAS, son : 41 días de campo, 62 cursos y 01 Gira.
B22: CARACTERÍSTICAS | C22: Las ECAS se concerta con los productores y se construyen en sinergia instituciona con los actores del territorio. La ECA debe garantizar los insums, materiales, refrigerios, transporte y alimentación de los perticipantes. Las técnicas grupales a desarrollar en las ECAS debe contemplar un proceso metodológico, obtivos, elementos didacticos y aspectos organizativos.
B24: ASPECTO CUANTITATIVO
B25: INDICADOR | C25: Número de ECAS constituidas, Número de productores miembros de las ECAS.
B26: UNIDAD DE MEDIDA DEL SERVICIO | C26: Número de ECAS, Número de productores.
B28: GENERALIDADES DEL SERVICIO
B29: OBJETIVOS | C29: Fortalecer los sistemas de producción, chacra, azoteas y sistemas agrodiversos de los productores campesinos, indígenas y afros del Depatamento a través de la implementación de Buenas Prácticas Agrícola, Pecuaria y Agroecológicas agroecológicas desarrolladas en el territorio.
C30: Implementación de prácticas ambientales sustentables y agroecológicas en las comunidades campesinas, indígenas y afros en cuatro subregiones (Sur, Pacífico, Centro y Norte) del departamento.
C31: Evaluar las técnicas, tecnologías y prácticas desarrolladas para el mejoramiento de los sistemas de producción, revalorización de los saberes locales y la oferta alimentaria en las subregiones priorizadas.
B32: ACTIVIDADES PRINCIPALES A DESARROLLAR | C32: Para la constitución de las Escuela de Campo se tiene como referencia las líneas productivas priorizadas en el PDEA del Valle del Cauca. Las ECAS se implementan para implementar el uso de las Buenas Prácticas Agrícolas y Pecuarias, prácticas ambientales sustentables (agroecológicas, bienestar animal) y fortalecer procesos de emprendimiento y asociatividad que posibiliten aumentar los rendimientos, cuidar y manejar los bienes naturales y mejorar la calidad de vida de las comunidaddes campesinas, indígenas y afros en cuatro subregiones (Sur, Pacífico, Centro y Norte) del departamento. Las ECAS trabajan bajo la Metodología Campesino a Campesino (CaC)
C33: Diálogo de Saberes posibilitando la construcción colectiva de conocimiento y aprender-haciendo. El objetivo de las ECAS es promover el diálogo de saberes en las comunidades y los grupos étnicos para fortalecimiento de valores comunitarios, los emprendimientos y la asociatividad;
C34: Desarrollo de prácticas sustentables en el territorio. Igualmente, las ECAS Implementan sistemas de producción agroecológicos que permitan el incremento de la agrobiodiversidad y la oferta alimentaria con base en las condiciones biogeográficas del territorio mediante el establecimiento de conucos de crianza, biofabricas de abonos orgánicos, prácticas de manejo y conservación de suelos y aguas, policultivos, cultivos de cubierta, abonos verdes, mulches, rotación de cultivos, pesticidas microbianos/botánicos, flores insectarias, cercas vivas, sistemas agroforestales, integración de cultivos y animales, entre otras, incrementando acceso, disponibilidad y abastecimiento en los circuitos locales cortos de comercialización.
B36: COMENTARIOS | C36: Tener en cuenta las medidas y los protocolos de bioseguridad de los municipios, resguardos indígenas, territorios colectivos y departamento. De otro lado, los productores y productoras campesinos, indígenas y afro participativamente y con el apoyo del facilitador (extensionista) deben llevar a cabo la sistematización de las experiencias y prácticas desarrolladas en el sistema de producción, chacra, azotea y sistema biodiversos del agricultor, para compartirlas con otros agricultores y posibilitar la mejora continua de los sistemas de producción.

Sheet Anexo 12. GrupaRueda de Negocio
B2: EJECUCIÓN PLAN DEPARTAMENTAL DE EXTENSIÓN AGROPECUARIA DEPARTAMENTO DEL VALLE DEL CAUCA
B3: MÉTODO DE EXTENSIÓN AGROPECUARIA
B5: ASPECTO MATERIAL
B6: NOMBRE | C6: RUEDA DE NEGOCIOS
B7: TIPO | C7: GRUPAL
B8: DEFINICIÓN | C8: La Rueda de Negocios es un mecanismo de gestión comercial mediante el cual se propician encuentros comerciales entre productores (oferentes) y empresas o entidades demandantes (compradores) que buscan generar negocios a corto y mediano plazo. Se convierte en un espacio propicio para aquellos productores, organizaciones y empresas que desean incursionar en nuevos mercados y validar el interés por sus productos e, incluso, identificar sus falencias o limitaciones técnicas, de calidad, normativas o logísticas con las que sus procesos y productos cuentan frente al mercado y a las necesidades de los clientes objetivo. De igual manera permite a las empresas demandantes de bienes y servicios ampliar su portafolio de proveedores y conocer nuevas alternativas de compra.
B9: CARACTERÍSTICAS | C9: Transparencia: la información compartida por los actores territoriales organizadores, así como la suministrada por los compradores y productores debe guardar claridad y consistencia, asegurando la adecuada planeación y desarrollo de la rueda, y permitiendo garantizar una efectividad mínima de las citas comerciales. | D9: UTILIDAD | E9: Facilitar el encuentro entre productores y potenciales aliados comerciales
C10: Articulación: el desarrollo de Ruedas de Negocios Agroalimentarias debe ser el resultado de la articulación de actores territoriales permitiendo aunar esfuerzos y lograr objetivos comunes con mayor eficiencia y sin saturar a los productores y organizaciones. | E10: Fortalecimiento de capacidades comerciales
C11: Planeación: el evento debe ser adecuadamente planeado y preparado, definiendo roles y responsabilidades de manera clara, para garantizar la realización de acciones oportunas y con calidad. | E11: Promoción de emprendimientos rurales
B12: DESARROLLO DE CAPACIDADES DEL PRODUCTOR | C12: Negociación | D12: ESTILO DE APRENDIZAJE | E12: Reflexivo
C13: Estructura de costos | E13: Activo
C14: Cohesión organizacional | E14: Pragmático
B16: ASPECTO ESPACIAL
B17: LUGAR | C17: Se realizará en espacio amplio y fresco, con los requerimientos propios de la actividad como sillas y mesas dispuestos para las citas de negocios
B18: CARACTERÍSTICAS | C18: El sitio debe ser cerrado, evitando las distracciones por personas externas o ruido. Se deberá garantizar el uso de mesas y sillas, pues cada cita debe ser independiente y con las condiciones idóneas para llevar sesiones de 10 a 15 minutos de charlas y negociación. Las mesas deben disponer habladores para los aliados estratégicos, facilitando su identificación
B20: ASPECTO TEMPORAL
B21: NÚMERO DE ACTIVIDADES | C21: SE REALIZARÁ UN (1) EVENTO POR MUNICIPIO
B22: CARACTERÍSTICAS | C22: Si bien la jornada que se ejecuta en la fase D, es un solo día, existen otros tiempos que deben ser contemplados para llevar a cabo una actividad exitosa
B24: ASPECTO CUANTITATIVO
B25: INDICADOR | C25: Productores con acuerdos comerciales suscrito
B26: UNIDAD DE MEDIDA DEL SERVICIO | C26: Número de acuerdos
B28: GENERALIDADES DEL SERVICIO
B29: OBJETIVOS | C29: Planeación y ejecución de rueda de negociación agroalimentaria
C30: Apropiación de la metodología, que hace parte integral de las herramientas con las que la Agencia de Desarrollo Rural de Colombia (ADR) implementa su Modelo de Atención y Prestación de Servicios de Apoyo a la Comercialización.
B31: ACTIVIDADES PRINCIPALES A DESARROLLAR | C31: Fase A. PLANEACIÓN Y ARTICULACIÓN INTERINSTITUCIONAL TERRITORIAL: Generar el acercamiento interinstitucional necesario para planear, realizar y hacer seguimiento de manera articulada y aunando esfuerzos para el logro de objetivos comunes. Fase B. SOCIALIZACIÓN Y PREPARACIÓN DE OFERTANTES Y COMPRADORES: Realizar la socialización de la iniciativa a ofertantes y compradores potenciales, y adelantar la jornada de preparación previa.
C32: Fase C. ORGANIZACIÓN DE LA RUEDA DE NEGOCIOS AGROALIMENTARIA: Adelantar la organización de la Rueda de Negocios Agroalimentaria conforme lo establecido en las fases anteriores a través del Plan de Trabajo y las condiciones definidas por el Comité Organizador. Fase D. REALIZACIÓN DE LA RUEDA DE NEGOCIOS AGROALIMENTARIA: Realizar la Rueda de Negocios Agroalimentaria conforme lo determinado en las fases anteriores a través del Plan de Trabajo y las condiciones definidas por el Comité Organizador. Fase E. SEGUIMIENTO DE ACUERDOS Y EXPECTATIVAS DE NEGOCIO: Realizar el seguimiento de los acuerdos comerciales suscritos o de las expectativas de negocio reportadas por ofertantes y compradores, y consolidar cuántos fueron materializados y por qué valor. También identificar causas de la no materialización de los mismos.
B34: OBSERVACIONES
B35: La metodología completa se puede descargar de: https://www.adr.gov.co/atencion-y-servicios-a-la-ciudadania/comercializacion/ https://www.adr.gov.co/wp-content/uploads/2021/07/metodologia-7.zip
C40: -

Sheet Anexo 13. Grupal Gira
B2: EJECUCIÓN PLAN DEPARTAMENTAL DE EXTENSIÓN AGROPECUARIA DEPARTAMENTO DEL VALLE DEL CAUCA | G2: INICIO
B3: MÉTODO DE EXTENSIÓN AGROPECUARIA
B5: ASPECTO MATERIAL
B6: NOMBRE | C6: Métodología Grupales de Extensión
B7: TIPO | C7: GIRA
B8: DEFINICIÓN | C8: Es un método de extensión que muestra y explica la aplicación de una o varias prácticas a un grupo de personas con el objeto de promover su adopción. Permiten mostrar los resultados de una nueva práctica. Los diferentes métodos usados en el manejo de explotaciones agropecuarias y los diferentes métodos de producción empleados en los hogares. Se realiza dentro o fuera del ambiente cotidiano de los productores.
B9: CARACTERÍSTICAS | C9: Ofrece la oportunidad de intercambiar conocimiento entre productores, ya que, en campo visualizan tecnologías apropiadas que ellos pueden replicar en sus fincas. | D9: UTILIDAD | E9: Apoyo a la evaluación y prueba de prácticas.
C10: Sirve de estímulo a los productores seleccionados para continuar adoptando las prácticas que son impartidas por los extensionistas. | E10: Permite la adopción y confirmación del conocimiento.
B11: DESARROLLO DE CAPACIDADES DEL PRODUCTOR | C11: Comparación con sistemas productivos superiores | D11: ESTILO DE APRENDIZAJE | E11: Compartir entre los productores conocimientos que conlleven a la discución y reflexión
C12: Comunicación horizontal entre el extensionista y los productores mediante la confontación de saberes. | E12: Empoderar a los productores para que puedan resolver problemas relacionados con la producción y el cuidado de los bienes naturales.
C13: Fortalecer los procesos de enseñanza-aprendizaje-participación-, con énfasis en innovación técnica y social en campesinos, indígenas y afrodescendientes que conllevan a mejoras en los sistemas de producción, chacra, azotea y sistema biodiverso. | E13: Proceso de enseñanza-aprendizaje, teórico-practico participativo con enfoque diferencial para mejorar una práctica agronómica del sistema de producción, chacra, azotea y sistema biodiverso que posibilite el cuidado de los bienes naturales.
B15: ASPECTO ESPACIAL
B16: LUGAR | C16: Escoger productores campesinos, indígenas y afro, especificamente de las líneas priorizadas por el PDEA (café, acuícola, pesca, plantas medicinales y aromáticas, aguacate, avícola, bovino (carne y leche), cacao, caña panelera, cilantro, críticos, fríjol ladera, maíz tradicional, mora, papaya, piña, plátano porcícola, tomate y uva), para que de la mano del extensionista, realicen el desplazamiento hacia sistemas productivos referentes. El espacio geográfica se circunscribe al departamento del Valle del Cauca, los resguardos indígenas y los territorios colectivos. Los criterios para escoger los productores son: 1. Productores que están incorporando prácticas ambientales y agroecológicas. 2. Se prioriza a las mujeres rurales y jóvenes. 3. Productores indígenas y afro. 4. Productores que pertenezca a algún tipo de organización. 5. Productores innovadores y curiosos, entre otros.
B17: CARACTERÍSTICAS | C17: La gira contempla, las siguientes: 1. Diseñar la hoja de ruta con los pasos y puntos clave de la demostración, con un lenguaje accesible y comprensible por las comunidades campesinas y grupos étnicos. 2. Explicar a los productores la importancia de la nueva técnica que van a aprender, enfatizando bondades como: revalorización y recuperación de saberes y mejoramiento de los sistemas de producción. 3. Socializarr aprendizajes, experiencias y preguntas. La gira garantiza los materiales, recursos didácticos, transporte, refrigerios y alimentación de los asistentes. La gira tiene una duración de 6 horas y debe contener la propuesta metodológica de la actividad.
B19: ASPECTO TEMPORAL
B20: NÚMERO DE ACTIVIDADES | C20: Se deben realizar una que aborden técnicas y prácticas ambientales sustentables y agroecológicas que mitigen y se adapten a la variabilidad y cambio climático relacionadas con las cadenas productivas priorizadas en el PDEA (café, acuícola, pesca, plantas medicinales y aromáticas, aguacate, avícola, bovino (carne y leche), cacao, caña panelera, cilantro, críticos, fríjol ladero, maíz tradicional, mora, papaya, piña, plátano porcícola, tomate y uva).
B21: CARACTERÍSTICAS | C21: La gira se desarrolla con un grupo seleccionado de productores (348), entre las líneas productivas priorizadas por el PDEA 2020-2023, de manera tal que puedan hacer un recorrido por sistemas de producción, chacra, azotea y sistema biodiverso referente, donde identifican prácticas ambientales sustentables y agroecológicas que puedan ser incluidos en sus unidades productivas y posibiliten mitigar la variabilidad y cambio climático y el cuidado del ambiente.
B23: ASPECTO CUANTITATIVO
B24: INDICADOR | C24: Número de Giras técnicas realizadas. Número de productores participantes.
B25: UNIDAD DE MEDIDA DEL SERVICIO | C25: Número de productores beneficiados con la gira.
B27: GENERALIDADES DEL SERVICIO
B28: OBJETIVOS | C28: Realizar la gira a sistemas de producción, chacra, azotea y sistema biodiverso referente con la finalidad de identificar de enseñar, convencer, animar o despertar el interés de los productores en determinadas técnicas o prácticas ambientales sustentables y agroecológicas que posibiliten la mitigación y adaptación a la variabilidad y cambio climático.
B29: ACTIVIDADES PRINCIPALES A DESARROLLAR | C29: Propiciar interacción de los productores con sistemas productivos referentes de los territorios colectivos, resguardos indígenas y fincas campesinas.
C30: Construcción colectivamente y apropiar conocimientos y saberes a partir de lo visto, vivido y experimentado en la gira.
C31: Implementación de prácticas, técnicas y tecnologías en las parcelas de los productores y comunidades étnicas para el aumento de la agrobiodiversidad, la producividad, competitividad, el cuidado de los bienes naturales en las localidades.
B33: COMENTARIOS | C33: Tener en cuenta las medidas y los protocolos de bioseguridad de los municipios, resguardos indígenas, territorios colectivos y departamento. Las empresas transportadoras para el cumplimiento de la Gira, deben soportar los documentos legales establecidos por la norma. Dicha actividad en su desarrollo y priorización de productores por linea productiva sera avalada por la supervisión del proyecto y la Secretaria de Agricultura del Departamento.

Sheet Anexo 14. M. Grupal Curso
B2: EJECUCIÓN PLAN DEPARTAMENTAL DE EXTENSIÓN AGROPECUARIA DEPARTAMENTO DEL VALLE DEL CAUCA | G2: INICIO
B3: MÉTODO DE EXTENSIÓN AGROPECUARIA
B5: ASPECTO MATERIAL
B6: NOMBRE | C6: Métodología Grupales de Extensión
B7: TIPO | C7: Curso
B8: DEFINICIÓN | C8: Los cursos de capacitaciones son actividades de corto plazo que pueden ir desde un medío día hasta dos o tres días. Su duración está determinada por la disponibilidad de tiempo de las personas productoras, el tema y la capacidad de los organizadores para el hospedaje y alimentación de los participantes. Los cursos de capacitación tienden a enfocarse en objetivos específicos adaptados a las necesidades de cada grupo de productores y de su actividad.
