Workbook
Name obser: [1]BD_SITP_08!$AP:$AV
Name PRINT_AREA: #N/A
Name PRINT_AREA_MI: #N/A
Name PRINT_AREA_MI: #N/A
Name PRINT_TITLES: #N/A
Name PRINT_TITLES_MI: #N/A
Name PRINT_TITLES_MI: #N/A

Sheet LISTA DE OFERENTES
A1: FONDO DE DESARROLLO LOCAL DE SAN CRISTÓBAL
A2: FDLSC-CMA-003-2022
A3: No. | B3: NOMBRE | C3: REPRESENTANTE LEGAL | D3: TIPO DE OFERENTE | E3: CONSORCIADO 1 | F3: CONSORCIADO 2
A4: 1 | B4: CONSTRUCCIONES CIVILES JFM SAS | C4: JOSE FREDY MAYORGA MATEUS | D4: SINGULAR
A5: 2 | B5: CONSORCIO INTERVENTORÍA SAX | C5: NIDIA ESPERANZA ROJAS OBANDO | D5: PLURAL | E5: CONSTRUCCIONES AXIOMA LTDA 75% | F5: EDGAR HENRRY SOLER RUBIO 25% | G5: 1
A6: 3 | B6: ICOD CONSTRUCCIONES Y PROYECTOS SAS | C6: OSCAR JULIAN MORENO CARRAZCO | D6: SINGULAR | G6: 1
A7: 4 | B7: PROYECTISTATAS ASOCIADOS | C7: OSCAR ANDRES PLAZAS ROLDAN | D7: SINGULAR

Sheet EXPERIENCIA DEL PROPONENTE
A1: FONDO DE DESARROLLO LOCAL DE SAN CRISTÓBAL
A2: FDLSC-CMA-003-2022
A3: REQUISITOS PONDERABLE FACTOR No. 1 | N3: CUMPLE
N4: NO CUMPLE
A8: 1 | E8: =VLOOKUP(A8,'LISTA DE OFERENTES'!$A$4:$B$7,2,FALSE) -> CONSTRUCCIONES CIVILES JFM SAS
A9: NÚMERO DE CONTRATOS PRESENTADOS | B9: 2 | C9: PRESUPUESTO OFICIAL EN SMMLV | D9: =$D$65 -> 82.148727
A10: PROMEDIO DE SMMLV | C10: =H18/B9 -> 171.21521
A11: TERMINO DE EJECUCION EXIGIDO
A12: CONDICIONES DE EXPERIENCIA | I12: EXPERIENCIA GENERAL | J12: CUMPLE CON LOS OBJETOS SOLICITADOS DE ACUERDO A LA MATRIZ 1 EXPERIENCIA GENERAL | K12: VERIFICACION RUP DEBE CUMPLIR CON LA CLASIFICACION EN ALGUNO DE LOS SIGUIENTES CODIGOS: 811015 O 801016 | L12: Observación y respuesta a observaciones
A13: Objeto del Contrato | B13: Entidad Contratante | D13: Valor Contrato | E13: Año de ejecución aportado | F13: Valor del Contrato en SMMLV | G13: Participación UT/CONSORCIO | H13: Participación en SMMLV | I13: VERIFICACION RESPECTO A PRESUPUESTO OFICIAL (PO)
A15: CONTRATO 077 DE 2014 INTERVENTORIA TECNICA, ADMINISTRATIVA Y FINANCIERA DE LOS SIGUIENTES PROYECTOS: 1. construcción del puente Circasia 2 en la vía Apulo–san Antonio de Anapoima sobre el rio Apulo en el municipio de Anapoima, departamento de Cundinamarca. 2. obras de recuperación puente sobre la quebrada Socotá, vereda Apicatá y obras de mitigación pontón santa lucia, quebrada el limonar,sector burgos santa lucia, quebrada el limonar, sector burgos contemplados en el plan municipal de gestión. 3. obras de reparación, reconstrucción y mantenimiento de alcantarillas, box coulbert y aletas de puentes del municipio de Anapoima. 4. construcción centro de desarrollo integral de la primera infancia barrio nueva Colombia. 5. construcción centro de desarrollo integral de la primera infancia inspección la paz, sector patio bonito. 6.construcción camellón etapa final del municipio de Anapoima; construcción anden es calle 5ªsur al mirador de las palmasdel municipiode Anapoima.7. construcción redes de alcantarillado sector carrera 2 (el camellón) entre calle 8 y carrera 5 del municipio de Anapoima, departamento de Cundinamarca. Nota: Mediante modificaciónNo.01, se aclaró objeto anterior el cual corresponde al contrato de obra No. 092-2014 | B15: MUNICIPIO DE ANAPOIMA | D15: 192000000 | E15: 2014 | F15: =D15/(VLOOKUP(E15,$D$85:$E$108,2,FALSE)) -> 311.68831 | G15: 1 | H15: =F15*G15 -> 311.68831 | I15: =+IF((SUM(H15:H16))>D9,"CUMPLE","NO CUMPLE") -> CUMPLE | J15: NO CUMPLE CON: INTERVENTORÍA A PROYECTOS DE: CONSTRUCCIÓN O REHABILITACIÓN O ADECUACIÓN O AMPLIACIÓN O MEJORAMIENTO O MANTENIMIENTO O RECONSTRUCCIÓN O REPAVIMENTACIÓN O PAVIMENTACIÓN O CONSERVACIÓN DE INFRAESTRUCTURA VIAL PARA TRÁFICO VEHICULAR DE VÍAS URBANAS O DE VÍAS PRIMARIAS O SECUNDARIAS - Por lo menos uno (1) de los contratos válidos aportados como experiencia general donde haya realizado la interventoría a actividades de diagnóstico y/o estudios y diseños, para actividades de conservación de vías. | K15: NO CUMPLE | L15: No cumple toda vez que al verificar la documentación allegada por parte del proponente construcciones civiles JFM SAS (CONTRATO 094 CAMELLON), se evidencia que la misma no esta debidamente suscrita, así como no es un documento idoneo para la certificación de la experiencia teniendo en cuenta lo establecido en la pagina 61 del documento "Documento base o pliego tipo de interventoria CMA-003-2022 DEFINITIVO.pdf" el cual establece que unicamente puede ser acreditada la experiencia mediante: acta de liquidación y/o recibo final, Acta de entrega o certificación de experiencia. Asi las cosas, el proponente NO CUMPLE con los solicitado por la entidad contratante.
A16: INTERVENTORIA TECNICA, ADMINISTRATIVA Y FINANCIERA DEL PROYECTO: CONSTRUCCION DE UN PUENTE SOBRE LA QUEBRADA LAS ANIMAS EN LA INSPECCION DESAN ANTONIOEN LA VIA SAN JOAQUIN LA MESA MUNICIPIODEANAPOIMA CUNDINAMARCA | B16: MUNICIPIO DE ANAPOIMA | D16: 18937139 | E16: 2014 | F16: =D16/(VLOOKUP(E16,$D$85:$E$108,2,FALSE)) -> 30.742109 | G16: 1 | H16: =F16*G16 -> 30.742109 | J16: NO CUMPLE CON: INTERVENTORÍA A PROYECTOS DE: CONSTRUCCIÓN O REFORZAMIENTO O MANTENIMIENTO O AMPLIACIÓN ESTRUCTURAL DE PUENTES PEATONALES O VEHICULARES (METÁLICOS O EN CONCRETO) -Por lo menos uno (1) de los contratos válidos aportados como experiencia general corresponda a la INTERVENOTRÍA PARA LA CONSTRUCCIÓN O REFORZAMIENTO O MANTENIMIENTO O AMPLIACIÓN ESTRUCTURAL DE PUENTES PEATONALES EN ESTRUCTURA DE CONCRETO HIDRÁULICO O METALICA O MIXTA (CONCRETO HIDRÁULICO Y METÁLICO). | K16: CUMPLE | L16: La certificacion aportada no permite verificar si es un puente metalico
A18: TOTALES | F18: =+SUM(F15:F16) -> 342.43042 | H18: =+SUM(H15:H16) -> 342.43042 | L18: NO CUMPLE
A20: 2 | E20: =VLOOKUP(A20,'LISTA DE OFERENTES'!$A$4:$B$7,2,FALSE) -> CONSORCIO INTERVENTORÍA SAX
A21: NÚMERO DE CONTRATOS PRESENTADOS | B21: 4 | C21: PRESUPUESTO OFICIAL EN SMMLV | D21: =$D$65 -> 82.148727
A22: PROMEDIO DE SMMLV | C22: =H34/B21 -> 267.38475
A23: TERMINO DE EJECUCION EXIGIDO | C23: 44543
A24: CONDICIONES DE EXPERIENCIA | I24: EXPERIENCIA GENERAL | J24: CONCLUSIÓN EXPERIENCIA GENERAL | K24: VERIFICACION RUP DEBE CUMPLIR CON LA CLASIFICACION EN ALGUNO DE LOS SIGUIENTES CODIGOS: 81101500, 80101600 | L24: Observación y respuesta a observaciones
A25: Objeto del Contrato | B25: Entidad Contratante | D25: Valor Contrato | E25: Año de ejecución aportado | F25: Valor del Contrato en SMMLV | G25: Participación UT/CONSORCIO | H25: Participación en SMMLV | I25: VERIFICACION RESPECTO A PRESUPUESTO OFICIAL (PO)
A26: =+'LISTA DE OFERENTES'!E5 -> CONSTRUCCIONES AXIOMA LTDA 75%
A27: INTERVENTORIA TÉCNICA, ADMINISTRATIVA Y FINANCIERA PARA LA EVALUACION, REHABILITACION Y/O CONSTRUCCIÓN A PRECIOS UNITARIOS FIJOS DE LA CARRERA 93 ENTRE CALLES 127 Y 128 A | B27: INSTITUTO DE DESARROLLO URBANO - IDU | D27: 209999996 | E27: 2000 | F27: =D27/(VLOOKUP(E27,$D$75:$E$106,2,FALSE)) -> 807.38176 | G27: 1 | H27: =F27*G27 -> 807.38176 | I27: NO CUMPLE | K27: NO CUMPLE | L27: Se allega observación por parte del oferente ICOD Construcciones y Proyectos SAS, en la cual identifica la no veracidad de la documentación allegada como experiencia para el contrato 112-2000. motivo por el cual se vuelve a realizar la verificación de la certificación y se evidencia que la misma cuenta con una parte legible (word pasa a pdf) y la otra parte tiene un scaner de firma. así las cosas no se puede verificar la veracidad de la documentación allegada, procediendo a correr traslado de dicha observación al oferente Consorcio Interventoria SAX sin que se pronunciara al respecto dentro del término del traslado, por tal motivo se procede a verificar en la página web de la Cámara De Comercio de Bogotá los contratos inscritos en el RUP del proponente consorciado Construcciones Axioma LTDA., evidenciando que la certificación aportada por el oferente no coincide con la aportada en el RUP sobre la cual pretende hacer valer la experiencia requerida de dicho contrato, lo que permite a la entidad entender que el documento aportado con la oferta por parte del proponente Consorcio Interventoria SAX presenta inconsistencias claras evidenciando una posible falsedad incurriendo así en la causal de rechazo descrita en el literal h del numeral 1.5 del pliego de condiciones, por lo cual el evaluador técnico procede a retractarse de la evaluación preliminar rechazando la oferta del proponente Consorcio Interventoria SAX.
A28: =+'LISTA DE OFERENTES'!F5 -> EDGAR HENRRY SOLER RUBIO 25%
A29: REALIZAR LA INTERVENTORIA TECNICA, ADMINISTRATIVA, FINANCIERA, AMBIENTAL, SOCIAL Y JURIDICA AL CONTRATO CUYO OBJETO ES " REALIZAR POR EL SISTEMA DE PRECIOS UNITARIOS FIJOS SIN FORMULA DE REAJUSTE: EL MANTENIMIENTO DE PUENTES SOBRE CORRIENTES DE AGUA EN LA LOCALIDAD DE SUMAPAZ”. | B29: FDLS ( Fondo de Desarrollo Local de Sumapaz) | D29: 67362033 | E29: 2018 | F29: =D29/(VLOOKUP(E29,$D$86:$E$109,2,FALSE)) -> 86.224285 | G29: 1 | H29: =F29*G29 -> 86.224285 | K29: CUMPLE
A30: REALIZAR LA INTERVENTORÍA TÉCNICA, ADMINISTRATIVA, FINANCIERA, AMBIENTAL Y SOCIAL AL CONTRATO CUYO OBJETO ES REALIZAR EL MANTENIMIENTO, REPARACIÓN Y REHABILITACIÓN DE PUENTES SOBRE CORRIENTE DE AGUA EN LA LOCALIDAD DE SUMAPAZ” | B30: FDLS ( Fondo de Desarrollo Local de Sumapaz) | D30: 195947826 | E30: 2015 | F30: =D30/(VLOOKUP(E30,$D$86:$E$109,2,FALSE)) -> 304.10154 | G30: 0.4 | H30: =F30*G30 -> 121.64062 | K30: CUMPLE
A31: REALIZAR LA INTERVENTORÍA TÉCNICA, ADMINISTRATIVA, FINANCIERA Y CONTABLE, A LA CONSTRUCCIÓN DE LOS PUENTES PEATONALES EN LA LOCALIDAD DE SUMAPAZ | B31: FDLS ( Fondo de Desarrollo Local de Sumapaz) | D31: 61534939 | E31: 2012 | F31: =D31/(VLOOKUP(E31,$D$86:$E$109,2,FALSE)) -> 108.58468 | G31: 0.5 | H31: =F31*G31 -> 54.292341 | K31: CUMPLE
A32: REALIZAR LA INTERVENTORÍA TÉCNICA, ADMINISTRATIVA, FINANCIERA Y CONTABLE, A LOS ESTUDIOS Y DISEÑOS DE 12 PUENTES PEATONALES EN LA LOCALIDAD DE SUMAPAZ | B32: FDLS ( Fondo de Desarrollo Local de Sumapaz) | D32: 46324424 | E32: 2012 | F32: =D32/(VLOOKUP(E32,$D$86:$E$109,2,FALSE)) -> 81.744175 | G32: 1 | H32: =F32*G32 -> 81.744175 | J32: NO CUMPLE DADO QUE ES INTERVENTORIA DE DISEÑOS | K32: NO CUMPLE | L32: El contrato que se presenta no corresponde a lo solicitado debido a que hace referencia a interventoria a diseños.
A34: TOTALES | F34: =+SUM(F26:F29) -> 893.60605 | H34: =+SUM(H26:H31) -> 1069.539 | L34: NO CUMPLE
A36: 3 | E36: =+'LISTA DE OFERENTES'!B6 -> ICOD CONSTRUCCIONES Y PROYECTOS SAS
A37: NÚMERO DE CONTRATOS PRESENTADOS | B37: 2 | C37: PRESUPUESTO OFICIAL EN SMMLV | D37: =$D$65 -> 82.148727
A38: PROMEDIO DE SMMLV | C38: =H46/B37 -> 171.69237
A39: TERMINO DE EJECUCION EXIGIDO | C39: 44543
A40: CONDICIONES DE EXPERIENCIA | I40: EXPERIENCIA GENERAL | J40: CONCLUSIÓN EXPERIENCIA GENERAL | K40: VERIFICACION RUP DEBE CUMPLIR CON LA CLASIFICACION EN ALGUNO DE LOS SIGUIENTES CODIGOS: 81101500, 80101600 | L40: Observación y respuesta a observaciones
A41: Objeto del Contrato | B41: Entidad Contratante | D41: Valor Contrato | E41: Año de ejecución aportado | F41: Valor del Contrato en SMMLV | G41: Participación UT/CONSORCIO | H41: Participación en SMMLV | I41: VERIFICACION RESPECTO A PRESUPUESTO OFICIAL (PO)
A42: =+'LISTA DE OFERENTES'!B6 -> ICOD CONSTRUCCIONES Y PROYECTOS SAS
A43: EJECUTAR A PRECIOS UNITARIOS SIN FÓRMULA DE REAJUSTE Y A MONTO AGOTABLE, LAS ACTIVIDADES NECESARIAS PARA EL DESARROLLO DE LAS OBRAS INTERVENCIÓN DE PUENTES VEHICULARES Y PEATONALES SOBRE CUERPOS DE AGUA EN LA LOCALIDAD DE SAN CRISTÓBAL | B43: ALCALDIA LOCAL DE SAN CRISTOBAL | D43: 179116051 | E43: 2020 | F43: =D43/(VLOOKUP(E43,$D$81:$E$104,2,FALSE)) -> 204.0504 | G43: 1 | H43: =+F43 -> 204.0504 | I43: CUMPLE | K43: CUMPLE
A44: EJECUTAR A MONTO AGOTABLE POR EL SISTEMA DE PRECIOS UNITARIOS FIJOS SIN FÓRMULA DE REAJUSTE LAS OBRAS Y ACTIVIDADES PARA LA CONSERVACIÓN DE PUENTES VEHICULARES Y PEATONALES SOBRE CUERPOS DE AGUA DE LA LOCALIDAD DE CIUDAD BOLÍVAR, EN BOGOTÁ D.C | B44: ALCALDIA LOCAL DE CIUDAD BOLIVAR | D44: 126588882 | E44: 2021 | F44: =D44/(VLOOKUP(E44,$D$86:$E$109,2,FALSE)) -> 139.33435 | G44: 1 | H44: =+F44 -> 139.33435 | L44: De acuerdo con la subsanación realizada y una vez verifiada las actividades a las cuales se realizó la interventería del contrato se evidencia la ejecución de actividades de CONSTRUCCIÓN O REHABILITACIÓN O ADECUACIÓN O AMPLIACIÓN O MEJORAMIENTO O MANTENIMIENTO O RECONSTRUCCIÓN O REPAVIMENTACIÓN O PAVIMENTACIÓN O CONSERVACIÓN DE INFRAESTRUCTURA VIAL PARA TRÁFICO VEHICULAR DE VÍAS URBANAS O DE VÍAS PRIMARIAS O SECUNDARIAS
A46: TOTALES | F46: =+SUM(F43:F44) -> 343.38475 | H46: =+SUM(H43:H44) -> 343.38475 | L46: CUMPLE
A48: 4 | E48: =+'LISTA DE OFERENTES'!B7 -> PROYECTISTATAS ASOCIADOS
A49: NÚMERO DE CONTRATOS PRESENTADOS | B49: 3 | C49: PRESUPUESTO OFICIAL EN SMMLV | D49: =$D$65 -> 82.148727
A50: PROMEDIO DE SMMLV | C50: =H59/B49 -> 290.60723
...

Sheet RESUMEN EVALUACIÓN
A1: FONDO DE DESARROLLO LOCAL DE SAN CRISTÓBAL
A2: FDLSC-CMA-003-2022
A3: REALIZAR LA INTERVENTORÍA TÉCNICA, ADMINISTRATIVA, FINANCIERA, JURÍDICA, SOCIAL, AMBIENTAL Y SISO AL CONTRATO DE OBRA CUYO OBJETO ES EJECUTAR A PRECIOS UNITARIOS SIN FORMULA DE REAJUSTE Y A MONTO AGOTABLE, LAS ACTIVIDADES NECESARIAS PARA EL DESARROLLO DE LAS OBRAS INTERVENCIÓN DE PUENTES VEHICULARES Y PEATONALES SOBRE CUERPOS DE AGUA EN LA LOCALIDAD DE SAN CRISTÓBAL EN LA CIUDAD DE BOGOTÁ D.C
B5: Nombre de Oferente : | C5: CAPACIDAD FINANCIERA | D5: CAPACIDAD JURIDICA | E5: CAPACIDAD TÉCNICA | F5: INFORME FINAL | G5: OBSERVACIONES
A6: 1 | B6: ='LISTA DE OFERENTES'!B4 -> CONSTRUCCIONES CIVILES JFM SAS | C6: Cumple | D6: Cumple | E6: No cumple | F6: No cumple
A7: 2 | B7: ='LISTA DE OFERENTES'!B5 -> CONSORCIO INTERVENTORÍA SAX | C7: Cumple | D7: Cumple | E7: No cumple | F7: No cumple | G7: Retractacion de la evaluacion preliminar conforme a observacion del informe tecnico
A8: 3 | B8: ='LISTA DE OFERENTES'!B6 -> ICOD CONSTRUCCIONES Y PROYECTOS SAS | C8: Cumple | D8: Cumple | E8: Cumple | F8: Cumple
A9: 4 | B9: ='LISTA DE OFERENTES'!B7 -> PROYECTISTATAS ASOCIADOS | C9: Cumple | D9: No cumple | E9: Cumple | F9: No cumple

Sheet F. PONDERABLES
A1: FONDO DE DESARROLLO LOCAL DE SAN CRISTÓBAL
A2: CONCURSO DE MERITOS ABIERTO FDLSC-CMA-003-2022
A3: FACTORES PONDERABLES
A7: FACTORES PONDERABLES / PUNTAJE FINAL | C7: EXPERIENCIA DEL PROPONENTE (68.75 PUNTOS) | D7: EQUIPO DE TRABAJO (PERSONAL CLAVE EVALUABLE) (10 PUNTOS) DILIGENCIA CORRECTAMENTE EL FORMATO 9 | E7: Criterios diferenciales para emprendimiento y empresas de mujeres en el sistema de compras publicas (0,25 PUNTOS) | F7: APOYO A LA INDUSTRIA NACIONAL (20 PUNTOS) | G7: VINCULACIÓN DE PERSONAS CON DISCAPACIDAD (1 PUNTO) | H7: PUNTAJE TOTAL | I7: OBSERVACIONES
A8: 1 | B8: =+'LISTA DE OFERENTES'!B4 -> CONSTRUCCIONES CIVILES JFM SAS | C8: 0 | D8: 10 | E8: 0.25 | F8: 20 | G8: 1 | H8: =SUM(C8:G8) -> 31.25 | I8: NO CUMPLE
A9: 2 | B9: =+'LISTA DE OFERENTES'!B5 -> CONSORCIO INTERVENTORÍA SAX | C9: 0 | D9: 10 | E9: 0.25 | F9: 20 | G9: 1 | H9: =SUM(C9:G9) -> 31.25 | I9: NO CUMPLE
A10: 3 | B10: =+'LISTA DE OFERENTES'!B6 -> ICOD CONSTRUCCIONES Y PROYECTOS SAS | C10: =+'MEDIA GEOMETRICA'!E12 -> 68.75 | D10: 10 | E10: 0.25 | F10: 20 | G10: 1 | H10: =SUM(C10:G10) -> 100 | I10: CUMPLE
A11: 4 | B11: =+'LISTA DE OFERENTES'!B7 -> PROYECTISTATAS ASOCIADOS | C11: =+'MEDIA GEOMETRICA'!E13 -> 0 | D11: 10 | E11: 0 | F11: 0 | G11: 1 | H11: =SUM(C11:G11) -> 11 | I11: NO CUMPLE

Sheet MEDIA GEOMETRICA
A1: EXPERIENCIA DEL PROPONENTE
A2: CANTIDAD DE SMMLV QUE REPRESENTAN EL PROMEDIO DE LOS CONTRATOS VALIDOS PARA ACREDITAR EXPERIENCIA | F2: PUNTAJE MAXIMO | G2: 68.75
A3: FDLSC-CMA-001-2021 | F3: TRM VIGENTE 30-JUN-2022 | G3: 4127.47
F4: PRIMERAS DOS CIFRAS DEC.TRM | G4: 47
A10: OFERENTES | C10: Promedio SMMLV | D10: MEDIA GEOMETRICA | E10: PUNTAJE
A11: 2 | B11: =VLOOKUP(A11,'LISTA DE OFERENTES'!$A$4:$B$35,2,FALSE) -> CONSORCIO INTERVENTORÍA SAX | C11: ='EXPERIENCIA DEL PROPONENTE'!C22 -> 267.38475 | D11: =GEOMEAN(C12:C13) -> 171.69237 | E11: =((1-(ABS($D$11-C11)/$D$11))*68.75) -> 30.432336 | F11: =ABS(C11-$D$11) -> 95.692376
A12: 3 | B12: =VLOOKUP(A12,'LISTA DE OFERENTES'!$A$4:$B$35,2,FALSE) -> ICOD CONSTRUCCIONES Y PROYECTOS SAS | C12: ='EXPERIENCIA DEL PROPONENTE'!C38 -> 171.69237 | E12: =((1-(ABS($D$11-C12)/$D$11))*68.75) -> 68.75 | F12: =ABS(C12-$D$11) -> 0
F13: =ABS(C13-$D$11) -> 171.69237

Sheet ORDEN ELE
A1: FONDO DE DESARROLLO LOCAL DE SAN CRISTÓBAL
A2: CONCURSO DE MERITOS DE ABIERTO FDLSC-CMA-003-2021
A3: ORDEN DE ELEGIBILIDAD
A6: ORDEN DE ELEGIBILIDAD | B6: No. OFERENTE | C6: OFERENTE | D6: PUNTAJE TOTAL
A7: 1 | B7: 2 | C7: =VLOOKUP(B7,'LISTA DE OFERENTES'!$A$4:$B$35,2,FALSE) -> CONSORCIO INTERVENTORÍA SAX | D7: =VLOOKUP(B7,'F. PONDERABLES'!$A$8:$H$11,8,FALSE) -> 31.25
A8: 1 | B8: 3 | C8: =VLOOKUP(B8,'LISTA DE OFERENTES'!$A$4:$B$35,2,FALSE) -> ICOD CONSTRUCCIONES Y PROYECTOS SAS | D8: =VLOOKUP(B8,'F. PONDERABLES'!$A$8:$H$11,8,FALSE) -> 100
