Workbook
Name IT: #REF!

Sheet PPT
B2: PRESUPUESTO DE OBRA
B4: Obra: | C4: MEJORAMIENTO E INTERVENCIÓN DE LA INFRAESTRUCTURA FISICA EN LAS DIFERENTES INSTITUCIONES Y SEDES EDUCATIVAS DEL MUNICIPIO DE GIRARDOT DEPARTAMENTO DE CUNDINAMARCADEPARTMAMENTO DE CUNDINAMARCA
F5: FECHA: | G5: =(TODAY()) -> 44753
B6: CANTIDADES DE OBRA APROXIMADAS, PRECIOS UNITARIOS Y VALOR TOTAL
B8: =+C4 -> MEJORAMIENTO E INTERVENCIÓN DE LA INFRAESTRUCTURA FISICA EN LAS DIFERENTES INSTITUCIONES Y SEDES EDUCATIVAS DEL MUNICIPIO DE GIRARDOT DEPARTAMENTO DE CUNDINAMARCADEPARTMAMENTO DE CUNDINAMARCA
B9: ITEM | C9: DESCRIPCION | D9: UNIDAD | E9: CANTIDAD | F9: VALOR UNITARIO | G9: VALOR TOTAL
B10: 1 | C10: INSTITUCION EDUCATIVA MANUEL ELKIN PATARROYO, SEDE DIAMANTE
B11: 1 | C11: PRELIMINARES
B12: 1,1 | C12: DEMOLICION ENCHAPE MURO | D12: M2 | E12: =+'1,1 DEM ENCHAPE'!J21 -> 24.406 | F12: 8609 | G12: =E12*F12 -> 210111.25
B13: 2 | C13: PISOS BASES
B14: 2,1 | C14: BALDOSA CERÁMICA PISO-PARED 20X20 CALIDAD PRIMERA | D14: M2 | E14: 17 | F14: 67326 | G14: =+F14*E14 -> 1144542
B15: 3 | C15: PINTURA
B16: 3,1 | C16: ESTUCO Y VINILO 3 MANOS | D16: M2 | E16: =+'3,1 VINILO'!J30 -> 486.964 | F16: 19061 | G16: =E16*F16 -> 9282020.8
B17: SUBTOTAL DE ACTIVIDADES | G17: =SUM(G12:G16) -> 10636674
B18: 2 | C18: INSTITUCION EDUCATIVA FUNDADORES RAMON BUENO Y JOSE TRIANA, SEDE PRINCIPAL
B19: 1 | C19: PRELIMINARES
B20: 1,1 | C20: IMPERMEBEALIZACION CUBIERTA | D20: M2 | E20: 14 | F20: 39337 | G20: =E20*F20 -> 550718
B21: 2 | C21: CIELO RASO
B22: 2,1 | C22: CIELO RASO EN PVC | D22: M2 | E22: =+'2. 2,1 CIELO RASO'!J24 -> 208 | F22: 68896 | G22: =E22*F22 -> 14330368
B23: 2,2 | C23: LÁMPARA 2X32 BAJO PLACA LÁMINA LATERAL INDUSTRIAL | D23: UND | E23: =+'2. 2,2 LAMPARA'!J26 -> 14 | F23: 89573 | G23: =E23*F23 -> 1254022
B24: 3 | C24: PINTURA
B25: 3,1 | C25: ESTUCO Y VINILO 3 MANOS | D25: M2 | E25: =+'2. 3,1 PINTURA'!J36 -> 840 | F25: 19061 | G25: =E25*F25 -> 16011240
B26: 4 | C26: INSTALACIONES HIDROSANITARIAS
B27: 4,1 | C27: DESMONTE APARATOS SANITARIOS | D27: UND | E27: =+'2. 4,1 DESMONTE ORINAL'!J16 -> 3 | F27: 25711 | G27: =E27*F27 -> 77133
B28: 4,2 | C28: SUMINISTRO E INSTALACIÓN ORINAL DE LLAVE (INCLUYE GRIFERÍA) | D28: UND | E28: =+'2. 4,2 SUM ORINAL'!J26 -> 3 | F28: 457949 | G28: =E28*F28 -> 1373847
B29: SUBTOTAL DE ACTIVIDADES | G29: =SUM(G20:G28) -> 33597328
B30: 3 | C30: INSTITUCIÓN EDUCATIVA NUEVO HORIZONTE, SEDE PRINCIPAL
B31: 1 | C31: PRELIMINARES
B32: 1,1 | C32: IMPERMEBEALIZACION CUBIERTA | D32: M2 | E32: 6 | F32: 39337 | G32: =+E32*F32 -> 236022
B33: 2 | C33: INSTALACIONES ELECTRICAS
B34: 2,1 | C34: TABLERO PARCIAL 4 CIRCUITOS | D34: UND | E34: 2 | F34: 111306 | G34: =+E34*F34 -> 222612
B35: 2,2 | C35: TUBERIA PVC CONDUIT 1/2 | D35: ML | E35: 165 | F35: 4122 | G35: =+E35*F35 -> 680130
B36: 2,3 | C36: ACOMETIDA AEREA. 10M PVC | D36: UND | E36: 2 | F36: 418643 | G36: =+E36*F36 -> 837286
B37: 3 | C37: CIELO RASO
B38: 3,1 | C38: CIELO RASO EN PVC | D38: M2 | E38: =+'3. 2.1 CIELO RASO'!J25 -> 204.4 | F38: 68896 | G38: =E38*F38 -> 14082342
B39: 3,2 | C39: LÁMPARA 2X32 BAJO PLACA LÁMINA LATERAL INDUSTRIAL | D39: UND | E39: =+'3. 2.2. LAMPARA'!J26 -> 14 | F39: 89573 | G39: =E39*F39 -> 1254022
B40: 4 | C40: PINTURA
B41: 4,1 | C41: ESTUCO Y VINILO 3 MANOS | D41: M2 | E41: =+'3 3.1 VINILOS'!J25 -> 540.54 | F41: 19061 | G41: =E41*F41 -> 10303233
B42: SUBTOTAL DE ACTIVIDADES | G42: =SUM(G32:G41) -> 27615647
B43: 4 | C43: INSTITUCION EDUCATIVA TECNICA FRANCISCO MANZANERA, SEDE JORGE ELIECER GAITAN
...

Sheet 1,1 DEM ENCHAPE
C1: ALCALDIA MUNICIPAL DE GIRARDOT
C2: DEPARTAMENTO DE CUNDINAMARCA
A3: PROYECTO: | C3: =+PPT!C4 -> MEJORAMIENTO E INTERVENCIÓN DE LA INFRAESTRUCTURA FISICA EN LAS DIFERENTES INSTITUCIONES Y SEDES EDUCATIVAS DEL MUNICIPIO DE GIRARDOT DEPARTAMENTO DE CUNDINAMARCADEPARTMAMENTO DE CUNDINAMARCA
A4: SEDE EDUCATIVA | C4: DIAMANTE
A5: CAPITULO | C5: ='[1]PRESUPUESTO '!C27 -> PRELIMINARES
A6: ITEM | B6: 1.2 | C6: ='[1]PRESUPUESTO '!C29 -> DEMOLICIÓN ENCHAPE MURO | I6: UNIDAD | J6: M2
E7: DESCRIPCION | F7: DIMENSIONES | I7: Nº DE ELEMENTOS | J7: MEDIDA TOTAL
F8: ANCHO | G8: ALTURA | H8: LONG
E10: BAÑO 1,2,3,4,5,6 | F10: 1.33 | H10: 1.2 | I10: 6 | J10: =F10*H10*I10 -> 9.576
E11: BEBEDERO 1 | F11: 3.1 | H11: 1.2 | I11: 1 | J11: =F11*H11*I11 -> 3.72
E12: BEBEDERO 2 | F12: 2.3 | H12: 1.7 | I12: 1 | J12: =F12*H12*I12 -> 3.91
E13: PASILLO BAÑO | F13: 3 | H13: 1.2 | I13: 2 | J13: =F13*H13*I13 -> 7.2
A19: OBSERVACIONES: | I19: SUBTOTAL | J19: =SUM(J9:J18) -> 24.406
I21: TOTAL | J21: =+J19 -> 24.406

Sheet 2,1 ENCHAPE
C1: ALCALDIA MUNICIPAL DE GIRARDOT
C2: DEPARTAMENTO DE CUNDINAMARCA
A3: PROYECTO: | C3: =+PPT!C4 -> MEJORAMIENTO E INTERVENCIÓN DE LA INFRAESTRUCTURA FISICA EN LAS DIFERENTES INSTITUCIONES Y SEDES EDUCATIVAS DEL MUNICIPIO DE GIRARDOT DEPARTAMENTO DE CUNDINAMARCADEPARTMAMENTO DE CUNDINAMARCA
A4: SEDE EDUCATIVA | C4: DIAMANTE
A5: CAPITULO | C5: ='[1]PRESUPUESTO '!C33 -> PISOS BASES
A6: ITEM | B6: 2.2 | C6: =+PPT!C14 -> BALDOSA CERÁMICA PISO-PARED 20X20 CALIDAD PRIMERA | I6: UNIDAD | J6: M2
E7: DESCRIPCION | F7: DIMENSIONES | I7: Nº DE ELEMENTOS | J7: MEDIDA TOTAL
F8: ANCHO | G8: ALTURA | H8: LONG
E10: BAÑO 1,2,3,4,5,6 | F10: 1.33 | H10: 1.2 | I10: 6 | J10: =F10*H10*I10 -> 9.576
E11: BEBEDERO 1 | F11: 3.1 | H11: 1.2 | I11: 1 | J11: =F11*H11*I11 -> 3.72
E12: BEBEDERO 2 | F12: 2.3 | H12: 1.7 | I12: 1 | J12: =F12*H12*I12 -> 3.91
E13: PASILLO BAÑO | F13: 3 | H13: 1.2 | I13: 2 | J13: =F13*H13*I13 -> 7.2
A14: OBSERVACIONES: | I14: SUBTOTAL | J14: =SUM(J9:J13) -> 24.406
I16: TOTAL | J16: =+J14 -> 24.406

Sheet 3,1 VINILO
C1: ALCALDIA MUNICIPAL DE GIRARDOT
C2: DEPARTAMENTO DE CUNDINAMARCA
A3: PROYECTO: | C3: =+PPT!C4 -> MEJORAMIENTO E INTERVENCIÓN DE LA INFRAESTRUCTURA FISICA EN LAS DIFERENTES INSTITUCIONES Y SEDES EDUCATIVAS DEL MUNICIPIO DE GIRARDOT DEPARTAMENTO DE CUNDINAMARCADEPARTMAMENTO DE CUNDINAMARCA
A4: SEDE EDUCATIVA | C4: DIAMANTE
A5: CAPITULO | C5: ='[1]PRESUPUESTO '!C38 -> PINTURA
A6: ITEM | B6: 3.1 | C6: ='[1]PRESUPUESTO '!C39 -> ESTUCO Y VINILO 3 MANOS | I6: UNIDAD | J6: M2
E7: DESCRIPCION | F7: DIMENSIONES | I7: Nº DE ELEMENTOS | J7: MEDIDA TOTAL
F8: ANCHO | G8: ALTURA | H8: LONG
E10: MURO PERIMETRAL BAÑO | F10: 3 | H10: 1.8 | I10: 2 | J10: =F10*H10*I10 -> 10.8
E11: MURO PERIMETRAL BAÑO | F11: 3 | H11: 1.8 | I11: 2 | J11: =F11*H11*I11 -> 10.8
E12: MURO DIVISIONES BAÑOS 1,2,3,4,5,6 | F12: 1.33 | H12: 1.8 | I12: 6 | J12: =F12*H12*I12 -> 14.364
E13: MURO AULA ESCOLAR 1 | F13: 8 | H13: 3 | I13: 4 | J13: =F13*H13*I13 -> 96
E14: MURO AULA ESCOLAR 2 | F14: 8 | H14: 3 | I14: 4 | J14: =F14*H14*I14 -> 96
E15: MURO AULA ESCOLAR 3 | F15: 6 | H15: 3 | I15: 2 | J15: =F15*H15*I15 -> 36
E16: MURO AULA ESCOLAR 3 | F16: 8 | H16: 3 | I16: 2 | J16: =F16*H16*I16 -> 48
E17: FACHADA EXTERIOR LADO LATERAL | F17: 40 | H17: 2.5 | I17: 1 | J17: =F17*H17*I17 -> 100
E18: FACHADA EXTERIOR LADO FRONTAL | F18: 50 | H18: 1.5 | I18: 1 | J18: =F18*H18*I18 -> 75
A28: OBSERVACIONES: | I28: SUBTOTAL | J28: =SUM(J9:J27) -> 486.964
I30: TOTAL | J30: =+J28 -> 486.964

Sheet 2. 2,1 CIELO RASO
C1: ALCALDIA MUNICIPAL DE GIRARDOT
C2: DEPARTAMENTO DE CUNDINAMARCA
A3: PROYECTO: | C3: =+PPT!C4 -> MEJORAMIENTO E INTERVENCIÓN DE LA INFRAESTRUCTURA FISICA EN LAS DIFERENTES INSTITUCIONES Y SEDES EDUCATIVAS DEL MUNICIPIO DE GIRARDOT DEPARTAMENTO DE CUNDINAMARCADEPARTMAMENTO DE CUNDINAMARCA
A4: SEDE EDUCATIVA | C4: FUNDADORES RAMON BUENO Y JOSE TRIANA
A5: CAPITULO | C5: ='[1]PRESUPUESTO '!C22 -> CIELO RASO
A6: ITEM | B6: 2.1 | C6: ='[1]PRESUPUESTO '!C23 -> CIELO RASO EN PVC | I6: UNIDAD | J6: M2
E7: DESCRIPCION | F7: DIMENSIONES | I7: Nº DE ELEMENTOS | J7: MEDIDA TOTAL
F8: ANCHO | G8: ALTURA | H8: LONG
E10: CIELO RASO AULA 1 PRIMARIA | F10: 8 | H10: 6 | I10: 1 | J10: =H10*F10*I10 -> 48
E11: SEGUNDO PISO AULA 2,3 BACHILLERATO | F11: 8 | H11: 10 | I11: 2 | J11: =H11*F11*I11 -> 160
A24: OBSERVACIONES: | I24: SUBTOTAL | J24: =SUM(J9:J23) -> 208
I26: TOTAL | J26: =+J24 -> 208

Sheet 2. 2,2 LAMPARA
C1: ALCALDIA MUNICIPAL DE GIRARDOT
C2: DEPARTAMENTO DE CUNDINAMARCA
A3: PROYECTO: | C3: =+PPT!C4 -> MEJORAMIENTO E INTERVENCIÓN DE LA INFRAESTRUCTURA FISICA EN LAS DIFERENTES INSTITUCIONES Y SEDES EDUCATIVAS DEL MUNICIPIO DE GIRARDOT DEPARTAMENTO DE CUNDINAMARCADEPARTMAMENTO DE CUNDINAMARCA
A4: CAPITULO | C4: CIELO RASO
A5: SEDE EDUCATIVA | C5: FUNDADORES RAMON BUENO Y JOSE TRIANA
A6: ITEM | B6: 2.2 | C6: =+'[1]PRESUPUESTO '!C17 -> LÁMPARA 2X32 BAJO PLACA LÁMINA LATERAL INDUSTRIAL | I6: UNIDAD | J6: UN
E7: DESCRIPCION | F7: DIMENSIONES | I7: Nº DE ELEMENTOS | J7: MEDIDA TOTAL
F8: ANCHO | G8: ALTURA | H8: LONG
E10: LAMPARA CIELO RASO | I10: 14 | J10: =+I10 -> 14
A24: OBSERVACIONES: | I24: SUBTOTAL | J24: =SUM(J9:J23) -> 14
I26: TOTAL | J26: =+J24 -> 14

Sheet 2.  3,1 PINTURA
C1: ALCALDIA MUNICIPAL DE GIRARDOT
C2: DEPARTAMENTO DE CUNDINAMARCA
A3: PROYECTO: | C3: =+PPT!C4 -> MEJORAMIENTO E INTERVENCIÓN DE LA INFRAESTRUCTURA FISICA EN LAS DIFERENTES INSTITUCIONES Y SEDES EDUCATIVAS DEL MUNICIPIO DE GIRARDOT DEPARTAMENTO DE CUNDINAMARCADEPARTMAMENTO DE CUNDINAMARCA
A4: SEDE EDUCATIVA | C4: FUNDADORES RAMON BUENO Y JOSE TRIANA
A5: CAPITULO | C5: ='[1]PRESUPUESTO '!C38 -> PINTURA
A6: ITEM | B6: 3.1 | C6: ='[1]PRESUPUESTO '!C39 -> ESTUCO Y VINILO 3 MANOS | I6: UNIDAD | J6: M2
E7: DESCRIPCION | F7: DIMENSIONES | I7: Nº DE ELEMENTOS | J7: MEDIDA TOTAL
F8: ANCHO | G8: ALTURA | H8: LONG
E9: PRIMARIA
E10: MURO AULA ESCOLAR 1 | F10: 8 | H10: 2.7 | I10: 2 | J10: =F10*H10*I10 -> 43.2
E11: MURO AULA ESCOLAR 1 | F11: 6 | H11: 2.7 | I11: 2 | J11: =F11*H11*I11 -> 32.4
E12: MURO AULA ESCOLAR 2 | F12: 9 | H12: 3 | I12: 2 | J12: =F12*H12*I12 -> 54
E13: MURO AULA ESCOLAR 2 | F13: 7 | H13: 3 | I13: 2 | J13: =F13*H13*I13 -> 42 | M13: 1623
E14: MURO AULA ESCOLAR 3 | F14: 9 | H14: 3 | I14: 2 | J14: =F14*H14*I14 -> 54
E15: MURO AULA ESCOLAR 3 | F15: 7 | H15: 3 | I15: 2 | J15: =F15*H15*I15 -> 42
E16: MURO AULA ESCOLAR 4 | F16: 10.3 | H16: 3 | I16: 2 | J16: =F16*H16*I16 -> 61.8
E17: MURO AULA ESCOLAR 4 | F17: 8 | H17: 3 | I17: 1 | J17: =F17*H17*I17 -> 24
E18: MURO AULA ESCOLAR 4 | F18: 8 | H18: 1.2 | I18: 1 | J18: =F18*H18*I18 -> 9.6
E19: MURO AULA ESCOLAR 5 | F19: 10.3 | H19: 3 | I19: 2 | J19: =F19*H19*I19 -> 61.8
E20: MURO AULA ESCOLAR 5 | F20: 8 | H20: 3 | I20: 1 | J20: =F20*H20*I20 -> 24
E21: MURO AULA ESCOLAR 5 | F21: 8 | H21: 1.2 | I21: 1 | J21: =F21*H21*I21 -> 9.6
E22: MURO AULA ESCOLAR 6 | F22: 10.3 | H22: 3 | I22: 2 | J22: =F22*H22*I22 -> 61.8
E23: MURO AULA ESCOLAR 6 | F23: 8 | H23: 3 | I23: 1 | J23: =F23*H23*I23 -> 24
E24: MURO AULA ESCOLAR 6 | F24: 8 | H24: 1.2 | I24: 1 | J24: =F24*H24*I24 -> 9.6
E25: MURO AULA ESCOLAR 7 | F25: 10.3 | H25: 3 | I25: 2 | J25: =F25*H25*I25 -> 61.8
... E33: MURO AULA ESCOLAR 9 | F33: 8 | H33: 1.2 | I33: 1 | J33: =F33*H33*I33 -> 9.6
A36: OBSERVACIONES: | I36: SUBTOTAL | J36: =SUM(J9:J34) -> 840
I38: TOTAL | J38: =+J36 -> 840

Sheet 2.  4,1 DESMONTE ORINAL
C1: ALCALDIA MUNICIPAL DE GIRARDOT
C2: DEPARTAMENTO DE CUNDINAMARCA
A3: PROYECTO: | C3: =+PPT!C4 -> MEJORAMIENTO E INTERVENCIÓN DE LA INFRAESTRUCTURA FISICA EN LAS DIFERENTES INSTITUCIONES Y SEDES EDUCATIVAS DEL MUNICIPIO DE GIRARDOT DEPARTAMENTO DE CUNDINAMARCADEPARTMAMENTO DE CUNDINAMARCA
A4: SEDE EDUCATIVA | C4: FUNDADORES RAMON BUENO Y JOSE TRIANA
A5: CAPITULO | C5: ='[1]PRESUPUESTO '!C27 -> PRELIMINARES
A6: ITEM | B6: 4.1 | C6: ='[1]PRESUPUESTO '!C30 -> DESMONTE APARATOS SANITARIOS | I6: UNIDAD | J6: M2
E7: DESCRIPCION | F7: DIMENSIONES | I7: Nº DE ELEMENTOS | J7: MEDIDA TOTAL
F8: ANCHO | G8: ALTURA | H8: LONG
E10: ORINALES | I10: 3 | J10: =I10 -> 3
A14: OBSERVACIONES: | I14: SUBTOTAL | J14: =SUM(J9:J13) -> 3
I16: TOTAL | J16: =+J14 -> 3

Sheet 2.  4,2 SUM ORINAL
C1: ALCALDIA MUNICIPAL DE GIRARDOT
C2: DEPARTAMENTO DE CUNDINAMARCA
A3: PROYECTO: | C3: =+'2. 4,1 DESMONTE ORINAL'!C3:J3 -> MEJORAMIENTO E INTERVENCIÓN DE LA INFRAESTRUCTURA FISICA EN LAS DIFERENTES INSTITUCIONES Y SEDES EDUCATIVAS DEL MUNICIPIO DE GIRARDOT DEPARTAMENTO DE CUNDINAMARCADEPARTMAMENTO DE CUNDINAMARCA
A4: SEDE EDUCATIVA | C4: FUNDADORES RAMON BUENO Y JOSÉ TRIANA
A5: CAPITULO | C5: ='[1]PRESUPUESTO '!C41 -> INSTALACIONES HIDROSANITARIAS
A6: ITEM | B6: 4.2 | C6: ='[1]PRESUPUESTO '!C43 -> SUMINISTRO E INSTALACIÓN ORINAL DE LLAVE (INCLUYE GRIFERÍA) | I6: UNIDAD | J6: M2
E7: DESCRIPCION | F7: DIMENSIONES | I7: Nº DE ELEMENTOS | J7: MEDIDA TOTAL
F8: ANCHO | G8: ALTURA | H8: LONG
E10: ORINALES | I10: 3 | J10: =I10 -> 3
A24: OBSERVACIONES: | I24: SUBTOTAL | J24: =SUM(J9:J23) -> 3
I26: TOTAL | J26: =+J24 -> 3

Sheet 3.  2.1 CIELO RASO
C1: ALCALDIA MUNICIPAL DE GIRARDOT
C2: DEPARTAMENTO DE CUNDINAMARCA
A3: PROYECTO: | C3: =+PPT!C4 -> MEJORAMIENTO E INTERVENCIÓN DE LA INFRAESTRUCTURA FISICA EN LAS DIFERENTES INSTITUCIONES Y SEDES EDUCATIVAS DEL MUNICIPIO DE GIRARDOT DEPARTAMENTO DE CUNDINAMARCADEPARTMAMENTO DE CUNDINAMARCA
A4: SEDE EDUCATIVA | C4: NUEVO HORIZONTE
A5: CAPITULO | C5: ='[1]PRESUPUESTO '!C22 -> CIELO RASO
A6: ITEM | B6: 2.1 | C6: ='[1]PRESUPUESTO '!C23 -> CIELO RASO EN PVC | I6: UNIDAD | J6: M2
E7: DESCRIPCION | F7: DIMENSIONES | I7: Nº DE ELEMENTOS | J7: MEDIDA TOTAL
F8: ANCHO | G8: ALTURA | H8: LONG
E10: AULA ESCOLAR 1,2,3,4 | F10: 7 | H10: 7.3 | I10: 4 | J10: =H10*F10*I10 -> 204.4
A23: OBSERVACIONES: | I23: SUBTOTAL | J23: =SUM(J9:J22) -> 204.4
I25: TOTAL | J25: =+J23 -> 204.4

Sheet 3.  2.2. LAMPARA
C1: ALCALDIA MUNICIPAL DE GIRARDOT
C2: DEPARTAMENTO DE CUNDINAMARCA
A3: PROYECTO: | C3: =+PPT!C4 -> MEJORAMIENTO E INTERVENCIÓN DE LA INFRAESTRUCTURA FISICA EN LAS DIFERENTES INSTITUCIONES Y SEDES EDUCATIVAS DEL MUNICIPIO DE GIRARDOT DEPARTAMENTO DE CUNDINAMARCADEPARTMAMENTO DE CUNDINAMARCA
A4: CAPITULO | C4: CIELO RASO
A5: SEDE EDUCATIVA | C5: NUEVO HORIZONTE
A6: ITEM | B6: 2.2 | C6: =+'[1]PRESUPUESTO '!C17 -> LÁMPARA 2X32 BAJO PLACA LÁMINA LATERAL INDUSTRIAL | I6: UNIDAD | J6: UN
E7: DESCRIPCION | F7: DIMENSIONES | I7: Nº DE ELEMENTOS | J7: MEDIDA TOTAL
F8: ANCHO | G8: ALTURA | H8: LONG
E10: LAMPARA CIELO RASO | I10: 14 | J10: =+I10 -> 14
A24: OBSERVACIONES: | I24: SUBTOTAL | J24: =SUM(J9:J23) -> 14
I26: TOTAL | J26: =+J24 -> 14

Sheet 3   3.1 VINILOS
C1: ALCALDIA MUNICIPAL DE GIRARDOT
C2: DEPARTAMENTO DE CUNDINAMARCA
A3: PROYECTO: | C3: =+PPT!C4 -> MEJORAMIENTO E INTERVENCIÓN DE LA INFRAESTRUCTURA FISICA EN LAS DIFERENTES INSTITUCIONES Y SEDES EDUCATIVAS DEL MUNICIPIO DE GIRARDOT DEPARTAMENTO DE CUNDINAMARCADEPARTMAMENTO DE CUNDINAMARCA
A4: SEDE EDUCATIVA | C4: NUEVO HORIZONTE
A5: CAPITULO | C5: ='[1]PRESUPUESTO '!C38 -> PINTURA
A6: ITEM | B6: 3.1 | C6: ='[1]PRESUPUESTO '!C39 -> ESTUCO Y VINILO 3 MANOS | I6: UNIDAD | J6: M2
E7: DESCRIPCION | F7: DIMENSIONES | I7: Nº DE ELEMENTOS | J7: MEDIDA TOTAL
F8: ANCHO | G8: ALTURA | H8: LONG
E9: PRIMARIA
E10: MURO AULA ESCOLAR 1 | F10: 7.3 | H10: 2.7 | I10: 2 | J10: =F10*H10*I10 -> 39.42
E11: MURO AULA ESCOLAR 1 | F11: 7 | H11: 2.7 | I11: 2 | J11: =F11*H11*I11 -> 37.8
E12: MURO AULA ESCOLAR 2 | F12: 7.3 | H12: 2.7 | I12: 2 | J12: =F12*H12*I12 -> 39.42
E13: MURO AULA ESCOLAR 2 | F13: 7 | H13: 2.7 | I13: 2 | J13: =F13*H13*I13 -> 37.8
E14: MURO AULA ESCOLAR 3 | F14: 7.3 | H14: 2.7 | I14: 2 | J14: =F14*H14*I14 -> 39.42
E15: MURO AULA ESCOLAR 3 | F15: 7 | H15: 2.7 | I15: 2 | J15: =F15*H15*I15 -> 37.8
E16: MURO AULA ESCOLAR 4 | F16: 7.3 | H16: 2.7 | I16: 2 | J16: =F16*H16*I16 -> 39.42
E17: MURO AULA ESCOLAR 4 | F17: 7 | H17: 2.7 | I17: 2 | J17: =F17*H17*I17 -> 37.8
E18: MURO AULA ESCOLAR 5 | F18: 7.3 | H18: 2.7 | I18: 2 | J18: =F18*H18*I18 -> 39.42
E19: MURO AULA ESCOLAR 5 | F19: 7 | H19: 2.7 | I19: 2 | J19: =F19*H19*I19 -> 37.8
E20: MURO AULA ESCOLAR 6 | F20: 7.3 | H20: 2.7 | I20: 2 | J20: =F20*H20*I20 -> 39.42
E21: MURO AULA ESCOLAR 6 | F21: 7 | H21: 2.7 | I21: 2 | J21: =F21*H21*I21 -> 37.8
... E23: MURO AULA ESCOLAR 7 | F23: 7 | H23: 2.7 | I23: 2 | J23: =F23*H23*I23 -> 37.8
A25: OBSERVACIONES: | I25: SUBTOTAL | J25: =SUM(J9:J24) -> 540.54
I27: TOTAL | J27: =+J25 -> 540.54

Sheet 4.  1,1 DEM ENCHAPE
C1: ALCALDIA MUNICIPAL DE GIRARDOT
C2: DEPARTAMENTO DE CUNDINAMARCA
A3: PROYECTO: | C3: =+'3 3.1 VINILOS'!C3:J3 -> MEJORAMIENTO E INTERVENCIÓN DE LA INFRAESTRUCTURA FISICA EN LAS DIFERENTES INSTITUCIONES Y SEDES EDUCATIVAS DEL MUNICIPIO DE GIRARDOT DEPARTAMENTO DE CUNDINAMARCADEPARTMAMENTO DE CUNDINAMARCA
A4: SEDE EDUCATIVA | C4: JORGE ELIECER GAITAN
A5: CAPITULO | C5: ='[1]PRESUPUESTO '!C27 -> PRELIMINARES
A6: ITEM | B6: 1.2 | C6: ='[1]PRESUPUESTO '!C29 -> DEMOLICIÓN ENCHAPE MURO | I6: UNIDAD | J6: M2
E7: DESCRIPCION | F7: DIMENSIONES | I7: Nº DE ELEMENTOS | J7: MEDIDA TOTAL
F8: ANCHO | G8: ALTURA | H8: LONG
E10: PASILLO ENTRADA | F10: 7.3 | H10: 1.6 | I10: 2 | J10: =F10*H10*I10 -> 23.36
E11: PASILLO FONDO | F11: 7 | H11: 1.6 | I11: 2 | J11: =F11*H11*I11 -> 22.4
A17: OBSERVACIONES: | I17: SUBTOTAL | J17: =SUM(J9:J16) -> 45.76
I19: TOTAL | J19: =+J17 -> 45.76

Sheet 4.   2,1 ENCHAPE
C1: ALCALDIA MUNICIPAL DE GIRARDOT
C2: DEPARTAMENTO DE CUNDINAMARCA
A3: PROYECTO: | C3: =+PPT!C4 -> MEJORAMIENTO E INTERVENCIÓN DE LA INFRAESTRUCTURA FISICA EN LAS DIFERENTES INSTITUCIONES Y SEDES EDUCATIVAS DEL MUNICIPIO DE GIRARDOT DEPARTAMENTO DE CUNDINAMARCADEPARTMAMENTO DE CUNDINAMARCA
A4: SEDE EDUCATIVA | C4: JORGE ELIECER GAITAN
A5: CAPITULO | C5: ='[1]PRESUPUESTO '!C33 -> PISOS BASES
A6: ITEM | B6: 2.2 | C6: =+PPT!C14 -> BALDOSA CERÁMICA PISO-PARED 20X20 CALIDAD PRIMERA | I6: UNIDAD | J6: M2
E7: DESCRIPCION | F7: DIMENSIONES | I7: Nº DE ELEMENTOS | J7: MEDIDA TOTAL
F8: ANCHO | G8: ALTURA | H8: LONG
E10: PASILLO ENTRADA | F10: 7.3 | H10: 1.6 | I10: 2 | J10: =F10*H10*I10 -> 23.36
E11: PASILLO FONDO | F11: 7 | H11: 1.6 | I11: 2 | J11: =F11*H11*I11 -> 22.4
A12: OBSERVACIONES: | I12: SUBTOTAL | J12: =SUM(J9:J11) -> 45.76
I14: TOTAL | J14: =+J12 -> 45.76

Sheet 4.   3,1 PINTURA
C1: ALCALDIA MUNICIPAL DE GIRARDOT
C2: DEPARTAMENTO DE CUNDINAMARCA
A3: PROYECTO: | C3: =+PPT!C4 -> MEJORAMIENTO E INTERVENCIÓN DE LA INFRAESTRUCTURA FISICA EN LAS DIFERENTES INSTITUCIONES Y SEDES EDUCATIVAS DEL MUNICIPIO DE GIRARDOT DEPARTAMENTO DE CUNDINAMARCADEPARTMAMENTO DE CUNDINAMARCA
A4: SEDE EDUCATIVA | C4: JORGE ELIECER GAITAN
A5: CAPITULO | C5: ='[1]PRESUPUESTO '!C38 -> PINTURA
A6: ITEM | B6: 3.1 | C6: ='[1]PRESUPUESTO '!C39 -> ESTUCO Y VINILO 3 MANOS | I6: UNIDAD | J6: M2
E7: DESCRIPCION | F7: DIMENSIONES | I7: Nº DE ELEMENTOS | J7: MEDIDA TOTAL
F8: ANCHO | G8: ALTURA | H8: LONG
E10: MURO PASILLO ENTRADA | F10: 7.3 | H10: 2.5 | I10: 2 | J10: =F10*H10*I10 -> 36.5
E11: MURO AULA ESCOLAR 1 | F11: 9.4 | H11: 2.7 | I11: 2 | J11: =F11*H11*I11 -> 50.76
E12: MURO AULA ESCOLAR 1 | F12: 7.3 | H12: 2.7 | I12: 2 | J12: =F12*H12*I12 -> 39.42
E13: MURO AULA ESCOLAR 2 | F13: 8.3 | H13: 2.7 | I13: 2 | J13: =F13*H13*I13 -> 44.82
E14: MURO AULA ESCOLAR 2 | F14: 4 | H14: 2.7 | I14: 2 | J14: =F14*H14*I14 -> 21.6
E15: MURO AULA ESCOLAR 3 | F15: 9.3 | H15: 2.7 | I15: 2 | J15: =F15*H15*I15 -> 50.22
E16: MURO AULA ESCOLAR 3 | F16: 7.1 | H16: 2.7 | I16: 2 | J16: =F16*H16*I16 -> 38.34
E17: MURO AULA ESCOLAR 4 | F17: 9.3 | H17: 2.7 | I17: 2 | J17: =F17*H17*I17 -> 50.22
E18: MURO AULA ESCOLAR 4 | F18: 4 | H18: 2.7 | I18: 2 | J18: =F18*H18*I18 -> 21.6
E19: MURO AULA ESCOLAR 5 | F19: 9.3 | H19: 2.7 | I19: 2 | J19: =F19*H19*I19 -> 50.22
E20: MURO AULA ESCOLAR 5 | F20: 6.95 | H20: 2.7 | I20: 2 | J20: =F20*H20*I20 -> 37.53
E21: MURO AULA ESCOLAR 6 | F21: 9.3 | H21: 2.7 | I21: 2 | J21: =F21*H21*I21 -> 50.22
... E26: MURO AULA ESCOLAR 8 | F26: 7.3 | H26: 2.7 | I26: 2 | J26: =F26*H26*I26 -> 39.42
A30: OBSERVACIONES: | I30: SUBTOTAL | J30: =SUM(J9:J29) -> 691.25
I32: TOTAL | J32: =+J30 -> 691.25

Sheet 5.  2,1 CIELO RASO
C1: ALCALDIA MUNICIPAL DE GIRARDOT
C2: DEPARTAMENTO DE CUNDINAMARCA
A3: PROYECTO: | C3: =+PPT!C4 -> MEJORAMIENTO E INTERVENCIÓN DE LA INFRAESTRUCTURA FISICA EN LAS DIFERENTES INSTITUCIONES Y SEDES EDUCATIVAS DEL MUNICIPIO DE GIRARDOT DEPARTAMENTO DE CUNDINAMARCADEPARTMAMENTO DE CUNDINAMARCA
A4: SEDE EDUCATIVA | C4: ANTONIO NARIÑO
A5: CAPITULO | C5: ='[1]PRESUPUESTO '!C22 -> CIELO RASO
A6: ITEM | B6: 2.1 | C6: ='[1]PRESUPUESTO '!C23 -> CIELO RASO EN PVC | I6: UNIDAD | J6: M2
E7: DESCRIPCION | F7: DIMENSIONES | I7: Nº DE ELEMENTOS | J7: MEDIDA TOTAL
F8: ANCHO | G8: ALTURA | H8: LONG
E10: AULA ESCOLAR 1 | F10: 7.26 | H10: 4.95 | I10: 1 | J10: =H10*F10*I10 -> 35.937
E11: AULA ESCOLAR 2 | F11: 7.26 | H11: 6 | I11: 1 | J11: =H11*F11*I11 -> 43.56
E12: AULA ESCOLAR 3 | F12: 7.26 | H12: 6.1 | I12: 1 | J12: =H12*F12*I12 -> 44.286
A18: OBSERVACIONES: | I18: SUBTOTAL | J18: =SUM(J9:J17) -> 123.783
I20: TOTAL | J20: =+J18 -> 123.783

Sheet 5.   2.2 LAMPARA
C1: ALCALDIA MUNICIPAL DE GIRARDOT
C2: DEPARTAMENTO DE CUNDINAMARCA
A3: PROYECTO: | C3: =+PPT!C4 -> MEJORAMIENTO E INTERVENCIÓN DE LA INFRAESTRUCTURA FISICA EN LAS DIFERENTES INSTITUCIONES Y SEDES EDUCATIVAS DEL MUNICIPIO DE GIRARDOT DEPARTAMENTO DE CUNDINAMARCADEPARTMAMENTO DE CUNDINAMARCA
A4: CAPITULO | C4: CIELO RASO
A5: SEDE EDUCATIVA | C5: ANTONIO NARIÑO
A6: ITEM | B6: 2.2 | C6: =+'[1]PRESUPUESTO '!C17 -> LÁMPARA 2X32 BAJO PLACA LÁMINA LATERAL INDUSTRIAL | I6: UNIDAD | J6: UN
E7: DESCRIPCION | F7: DIMENSIONES | I7: Nº DE ELEMENTOS | J7: MEDIDA TOTAL
F8: ANCHO | G8: ALTURA | H8: LONG
E10: LAMPARA CIELO RASO | I10: 12 | J10: =+I10 -> 12
A24: OBSERVACIONES: | I24: SUBTOTAL | J24: =SUM(J9:J23) -> 12
I26: TOTAL | J26: =+J24 -> 12

Sheet 5.  3.1 VINILO 
C1: ALCALDIA MUNICIPAL DE GIRARDOT
C2: DEPARTAMENTO DE CUNDINAMARCA
A3: PROYECTO: | C3: =+PPT!C4 -> MEJORAMIENTO E INTERVENCIÓN DE LA INFRAESTRUCTURA FISICA EN LAS DIFERENTES INSTITUCIONES Y SEDES EDUCATIVAS DEL MUNICIPIO DE GIRARDOT DEPARTAMENTO DE CUNDINAMARCADEPARTMAMENTO DE CUNDINAMARCA
A4: SEDE EDUCATIVA | C4: ANTONIO NARIÑO
A5: CAPITULO | C5: PINTURA
A6: ITEM | B6: 2.1 | C6: ESTUCO Y VINILO 3 MANOS | I6: UNIDAD | J6: M2
E7: DESCRIPCION | F7: DIMENSIONES | I7: Nº DE ELEMENTOS | J7: MEDIDA TOTAL
F8: ANCHO | G8: ALTURA | H8: LONG
E10: MURO AULA ESCOLAR 1 | F10: 7.26 | H10: 2.7 | I10: 2 | J10: =H10*F10*I10 -> 39.204 | L10: 36
E11: MURO AULA ESCOLAR 1 | F11: 4.95 | H11: 2.7 | I11: 2 | J11: =H11*F11*I11 -> 26.73
E12: MURO AULA ESCOLAR 2 | F12: 7.26 | H12: 2.7 | I12: 2 | J12: =H12*F12*I12 -> 39.204
E13: MURO AULA ESCOLAR 2 | F13: 6 | H13: 2.7 | I13: 2 | J13: =H13*F13*I13 -> 32.4 | L13: 539
E14: MURO AULA ESCOLAR 3 | F14: 7.26 | H14: 2.7 | I14: 2 | J14: =H14*F14*I14 -> 39.204
E15: MURO AULA ESCOLAR 3 | F15: 6 | H15: 2.7 | I15: 2 | J15: =H15*F15*I15 -> 32.4
E16: MURO AULA ESCOLAR 4 | F16: 8 | H16: 2.7 | I16: 2 | J16: =H16*F16*I16 -> 43.2
E17: MURO AULA ESCOLAR 4 | F17: 7.4 | H17: 2.7 | I17: 2 | J17: =H17*F17*I17 -> 39.96
E18: MURO AULA ESCOLAR 5 | F18: 8 | H18: 2.7 | I18: 2 | J18: =H18*F18*I18 -> 43.2
E19: MURO AULA ESCOLAR 5 | F19: 7.4 | H19: 2.7 | I19: 2 | J19: =H19*F19*I19 -> 39.96
E20: MURO AULA ESCOLAR 6 | F20: 7.3 | H20: 2.7 | I20: 2 | J20: =H20*F20*I20 -> 39.42
E21: MURO AULA ESCOLAR 6 | F21: 7.5 | H21: 2.7 | I21: 2 | J21: =H21*F21*I21 -> 40.5
E22: MURO FACHADA SALA DE SISTEMAS | F22: 30 | H22: 2.7 | I22: 1 | J22: =H22*F22*I22 -> 81
E23: MURO EXTERIOR FACHADA FRONTAL | F23: 66.2 | H23: 1.2 | I23: 1 | J23: =H23*F23*I23 -> 79.44
E24: MURO EXTERIOR FACHADA LATERAL | F24: 40 | H24: 1.2 | I24: 1 | J24: =H24*F24*I24 -> 48
E25: MURO EXTERIOR FACHADA TRASERA | F25: 66.2 | H25: 1.2 | I25: 1 | J25: =H25*F25*I25 -> 79.44
A31: OBSERVACIONES: | I31: SUBTOTAL | J31: =SUM(J9:J30) -> 743.262
I33: TOTAL | J33: =+J31 -> 743.262

Sheet APU CIELO RASO
B2: ALCALDIA MUNICIPAL DE GIRARDOT
B3: DEPARTAMENTO DE CUNDINAMARCA
B5: PROYECTO
B7: ANÁLISIS DE PRECIOS UNITARIOS
B8: CAPITULO | D8: CIELO RASO | H8: UNIDAD | I8: M2
B9: ITEM: | C9: SUMINISTRO E INSTALACIÓN DE CIELO RASO EN PVC | H9: UNIDAD : | I9: M2
B11: I. EQUIPO
B12: Descripción | E12: Tipo | F12: Tarifa/Hora | G12: Rendimiento | H12: Valor-Unit.
B13: Andamio Sección | E13: D | F13: 1421 | G13: 1.3 | H13: =F13/G13 -> 1093.0769
B14: Taladro | E14: D | F14: 39751 | G14: 100 | H14: =F14/G14 -> 397.51
H16: Sub-Total | I16: =SUM(H13:H14) -> 1490.5869
B17: II. MATERIALES EN OBRA
B18: Descripción | E18: Unidad | F18: Precio-Unit. | G18: Cantidad | H18: Valor-Unit.
B19: Angulo perimetral Cal 26 | E19: ml | F19: 4916 | G19: 0.35 | H19: =+G19*F19 -> 1720.6
B20: Perfil perimetral PVC | E20: ml | F20: 4499.33 | G20: 0.5 | H20: =+G20*F20 -> 2249.665
B21: Tornillo 7x7/16" | E21: Unidad | F21: 35 | G21: 11 | H21: =+G21*F21 -> 385
B22: Perfil Omega | E22: Unidad | F22: 7246 | G22: 0.9 | H22: =+G22*F22 -> 6521.4
B23: Tornillo para placa 1" (6x1) | E23: Unidad | F23: 53 | G23: 13 | H23: =+G23*F23 -> 689
B24: Tornillo extraplano | E24: Unidad | F24: 125 | G24: 10 | H24: =+G24*F24 -> 1250
B25: ángulo cal.26 lámina galv. 2.44 m | E25: Unidad | F25: 4916 | G25: 0.3 | H25: =+G25*F25 -> 1474.8
B26: Lámina cielo razo pvc de 3m x 25cm, | E26: m2 | F26: 30600 | G26: 1.05 | H26: =+G26*F26 -> 32130
H27: Sub-Total | I27: =SUM(H19:H26) -> 46420.465
B28: III. TRANSPORTES
B29: Material | D29: Vol. Peso ó Cant. | E29: Distancia | F29: M3-Km | G29: Tarifa | H29: Valor-Unit.
H30: 0
H31: 0
H32: 0
H33: Sub-Total | I33: =SUM(H30:H32) -> 0
B34: IV. MANO DE OBRA
B35: Trabajador | D35: Jornal | E35: Prestaciones | F35: Jornal Total | G35: Rendimiento | H35: Valor-Unit.
B36: MANO DE OBRA DD | D36: 114466 | E36: 2.2 | F36: =D36*E36 -> 251825.2 | G36: 12 | H36: =F36/G36 -> 20985.433
H37: 0
H38: 0
H39: 0
H40: Sub-Total | I40: =SUM(H36:H39) -> 20985.433
F42: Total Costo Directo | I42: =I16+I27+I33+I40 -> 68896.485

Sheet APU IMPERMEABILIZACION
B2: ALCALDIA MUNICIPAL DE GIRARDOT
B3: DEPARTAMENTO DE CUNDINAMARCA
B5: PROYECTO
B7: ANÁLISIS DE PRECIOS UNITARIOS
B8: CAPITULO | D8: IMPERMEABILIZACIÓN | H8: UNIDAD | I8: M2
B9: ITEM: | C9: SUMINISTRO E INSTALACIÓN DE IMPERMEABILIZACIÓN CUBIERTA PLANA. | H9: UNIDAD : | I9: M2
B11: I. EQUIPO
B12: Descripción | E12: Tipo | F12: Tarifa/Hora | G12: Rendimiento | H12: Valor-Unit.
B13: Herramienta menor | E13: GL | F13: 721.77 | G13: 1 | H13: =+G13*F13 -> 721.77
B14: Soplete y cilindro de gas | E14: D | F14: 65000 | G14: 18 | H14: =F14/G14 -> 3611.1111
H15: 0
H16: 0
H17: Sub-Total | I17: =SUM(H13:H16) -> 4332.8811
B18: II. MATERIALES EN OBRA
B19: Descripción | E19: Unidad | F19: Precio-Unit. | G19: Cantidad | H19: Valor-Unit.
B20: Manto Adhesivo 2mm Rollo x 10 Metros | E20: M2 | F20: 22490 | G20: 1.07 | H20: =+G20*F20 -> 24064.3
H21: =+G21*F21 -> 0
H22: 0
H23: 0
H24: Sub-Total | I24: =SUM(H20:H21) -> 24064.3
B25: III. TRANSPORTES
B26: Material | D26: Vol. Peso ó Cant. | E26: Distancia | F26: M3-Km | G26: Tarifa | H26: Valor-Unit.
H27: 0
H28: 0
H29: 0
H30: Sub-Total | I30: =SUM(H27:H29) -> 0
B31: IV. MANO DE OBRA
B32: Trabajador | D32: Jornal | E32: Prestaciones | F32: Jornal Total | G32: Rendimiento | H32: Valor-Unit.
B33: MANO DE OBRA BB | D33: 80000 | E33: 2.2 | F33: =D33*E33 -> 176000 | G33: 16 | H33: =F33/G33 -> 11000
H36: Sub-Total | I36: =SUM(H33:H35) -> 11000
F38: Total Costo Directo | I38: =I17+I24+I30+I36 -> 39397.181
