Workbook
Name CM001EEM1: PARAMETROS!$N$10
Name CM001EMM1: PARAMETROS!$L$10
Name CM001LM1: PARAMETROS!$J$10
Name CM001M1: PARAMETROS!$H$10
Name CM005EEM1: [1]PARAMETROS!#REF!
Name CM005EEM2: [1]PARAMETROS!#REF!
Name CM005EEM3: [1]PARAMETROS!#REF!
Name CM005EMM2: [1]PARAMETROS!#REF!
Name CM005EMM3: [1]PARAMETROS!#REF!
Name CM005LM2: [1]PARAMETROS!#REF!
Name CM005LM3: [1]PARAMETROS!#REF!
Name CM005M2: [1]PARAMETROS!#REF!
Name CM005M3: [1]PARAMETROS!#REF!
Name CM007EMM1: [2]PARAMETROS!$K$11

Sheet PARAMETROS
B2: Proyecto (Interventoría) | C2: Nº Proceso | D2: Presupuesto Oficial | E2: Año | F2: Presupuesto Oficial (SMMLV) | G2: Parametros | Q2: Fecha de cierre según Adendas | R2: Fecha de cierre según Pliego | S2: Fecha de Adjudicación
G3: Experiencia General | M3: Experiencia Especifica | O3: Desempate
G4: Sumatoria Exp. General | I4: Exp. Min por el Lider | K4: Exp. Min por contrato | M4: Exp. Min por contrato
G5: Porcentaje Requerido P.O. | H5: Valor | I5: Porcentaje Requerido P.O. | J5: Valor | K5: Porcentaje Requerido P.O. | L5: Valor | M5: Criterio | N5: Valor | O5: Criterio | P5: Valor
B6: AUTOPISTA AL MAR 2 | C6: VJ-VGC-CM-019-2015 | D6: 32213938131 | E6: 2013 | F6: =+D6/VLOOKUP(E6,$B$91:$C$117,2,FALSE) -> 54646.205 | G6: 0.4 | H6: =F6*G6 -> 21858.482 | I6: 0.204 | J6: =F6*I6 -> 11147.826 | K6: 0.04 | L6: =F6*K6 -> 2185.8482 | M6: 0.05 | N6: =F6*M6 -> 2732.3103 | O6: 0.15 | P6: =F6*O6 -> 8196.9308 | Q6: 42023 | R6: 42023
B7: VÍAS DEL NUS | C7: VJ-VGC-CM-023-2015 | D7: 28458744093 | E7: 2013 | F7: =+D7/VLOOKUP(E7,$B$91:$C$117,2,FALSE) -> 48276.071 | G7: 0.4 | H7: =F7*G7 -> 19310.429 | I7: 0.204 | J7: =F7*I7 -> 9848.3186 | K7: 0.04 | L7: =F7*K7 -> 1931.0429 | M7: 0.05 | N7: =F7*M7 -> 2413.8036 | O7: 0.15 | P7: =F7*O7 -> 7241.4107 | Q7: 42401 | R7: 42401
B8: ÁREA METROPOLITANA DE CÚCUTA Y NORTE DE SANTANDER | C8: VJ-VGC-CM-001-2016 | D8: 7241052994 | E8: 2015 | F8: =+D8/VLOOKUP(E8,$B$91:$C$117,2,FALSE) -> 11237.764 | G8: 0.5 | H8: =F8*G8 -> 5618.8818 | I8: 0.255 | J8: =F8*I8 -> 2865.6297 | K8: 0.15 | L8: =F8*K8 -> 1685.6645 | M8: 0.3 | N8: =F8*M8 -> 3371.3291 | O8: 0.425 | P8: =F8*O8 -> 4776.0495 | Q8: 42417 | R8: 42417
B9: RED FÉRREA DEL PACÍFICO | C9: VJ-VGC-CM-003-2016 | D9: 5593590000 | E9: 2015 | F9: =+D9/VLOOKUP(E9,$B$91:$C$117,2,FALSE) -> 8680.9808 | G9: 1 | H9: =F9*G9 -> 8680.9808 | I9: 0.51 | J9: =F9*I9 -> 4427.3002 | K9: 0.2 | L9: =F9*K9 -> 1736.1962 | M9: 0.2 | N9: =F9*M9 -> 1736.1962 | O9: 0.45 | P9: =F9*O9 -> 3906.4414 | Q9: NA | R9: 42472
B10: " CONTRATAR LA INTERVENTORÍA INTEGRAL PARA LA REVERSIÓN DEL CONTRATO DE CONCESIÓN PORTUARIA No. 003 DE DICIEMBRE 19 DE 2013 SUSCRITO ENTRE LA NACIÓN –AGENCIA NACIONAL DE INFRAESTRUCTURA - Y LA SOCIEDAD COCOLISO ALCATRAZ S.A. | C10: VJ-VGC-MC-002-2019 | D10: 76154682 | E10: 2019 | F10: =ROUND(D10/$C$120,0) -> 92 | G10: 1 | H10: =+F10*G10 -> 92 | I10: 0.51 | J10: =H10*I10 -> 46.92 | K10: 0.3 | L10: =H10*K10 -> 27.6 | M10: 0.15 | N10: =F10*M10 -> 13.8 | O10: =25%*(G10+(4*M10)) -> 0.4 | P10: =O10*F10 -> 36.8 | Q10: N/A | R10: 43168 | S10: 43185
B12: MÓDULO 1: CONTRATOS DE CONCESIÓN PORTUARIA No. 010 DE 2007, 012 DE 1994, 010 DE 1994 | C12: VJ-VGC-CM-005-2016 | D12: 891660000 | E12: 2016 | F12: =+D12/VLOOKUP(E12,$B$91:$C$117,2,FALSE) -> 1293.2824 | G12: 1 | H12: =F12*G12 -> 1293.2824 | I12: 0.51 | J12: =F12*I12 -> 659.57401 | K12: 0.2 | L12: =F12*K12 -> 258.65648 | M12: 0.2 | N12: =F12*M12 -> 258.65648 | O12: 0.45 | P12: =F12*O12 -> 581.97707
B13: MÓDULO 2: CONTRATOS DE CONCESIÓN PORTUARIA No. 010 DE 1994, 010 DE 2010, 007 DE 1993 | D13: 909360000 | E13: 2016 | F13: =+D13/VLOOKUP(E13,$B$91:$C$117,2,FALSE) -> 1318.9548 | G13: 1 | H13: =F13*G13 -> 1318.9548 | I13: 0.51 | J13: =F13*I13 -> 672.66696 | K13: 0.2 | L13: =F13*K13 -> 263.79097 | M13: 0.2 | N13: =F13*M13 -> 263.79097 | O13: 0.45 | P13: =F13*O13 -> 593.52967
B14: MÓDULO 3: CONTRATOS DE CONCESIÓN PORTUARIA No. 001 DE 2007, 008 DE 2004, 021 DE 1997 Y 001 DE 2009 | D14: 909360000 | E14: 2016 | F14: =+D14/VLOOKUP(E14,$B$91:$C$117,2,FALSE) -> 1318.9548 | G14: 1 | H14: =F14*G14 -> 1318.9548 | I14: 0.51 | J14: =F14*I14 -> 672.66696 | K14: 0.2 | L14: =F14*K14 -> 263.79097 | M14: 0.2 | N14: =F14*M14 -> 263.79097 | O14: 0.45 | P14: =F14*O14 -> 593.52967
B89: SERIE SMLMV | C89: SMMLV
B90: AÑO | C90: VALOR (COP)
B91: 1990 | C91: 41025
B92: 1991 | C92: 51716
B93: 1992 | C93: 65190
B94: 1993 | C94: 81510
B95: 1994 | C95: 98700
B96: 1995 | C96: 118933.5
B97: 1996 | C97: 142125
B98: 1997 | C98: 172005
B99: 1998 | C99: 203826
B100: 1999 | C100: 236460
B101: 2000 | C101: 260100
B102: 2001 | C102: 286000
... B120: 2019 | C120: 828116

Sheet CONSOLIDADO TECNICO-ECONOMICO
B1: AGENCIA NACIONAL DE INFRAESTRUCTURA
B2: PROCESO VJ-VGC-MC-002-2019
B3: CUMPLE / NO CUMPLE | D3: 9.2. REQUISITOS HABILITANTES TÉCNICOS | F3: 10. EVALUACIÓN OFERTA ECONÓMICA (MENOR VALOR OFERTADO)
B4: No | C4: PROPONENTE | D4: 9.2.1. Experiencia del proponente: a) EL proponente deberá acreditar máximo DOS (2) contratos ejecutados y terminados, que cumplan con todas las características relacionadas a continuación: a) Que el objeto haya sido o incluya: INTERVENTORIA DE PROYECTOS DE CONCESIÓN DE INFRAESTRUCTURA DE TRANSPORTE*. b) Que la sumatoria de sus cuantías en salarios mínimos legales mensuales vigentes (SMMLV) sea igual o superior al presupuesto oficial de la presente invitación. | E4: 9.2.2 Oferta Técnica: El Cumplimiento de las condiciones y especificaciones técnicas necesarias para el cumplimiento del objeto y las obligaciones se acredita por el proponente mediante la manifestación que efectúe en la propuesta o diligenciando el formato 1 – Carta de Presentación de la Propuesta,
B5: P02 | D5: CUMPLE | E5: =+'EVALUACION EXPERIENCIA'!T2 -> CUMPLE | F5: 61523000 | G5: RECHAZADO NO PRESENTÓ SUBSANE
B6: P02 | C6: SERVICIOS DE INGENIERÍA Y CONSTRUCCIÓN S.A.S “SERVINC S.A.S | D6: CUMPLE | E6: ='EVALUACION EXPERIENCIA'!T2 -> CUMPLE | F6: 44169716

Sheet EVALUACION EXPERIENCIA
A1: IDN1 | B1: IDN2 | C1: FOLIO CONTRATO | D1: INTEGRANTE | E1: ENTIDAD | F1: PAÍS DE EJECUCIÓN | G1: No. Contrato | H1: OBJETO DEL CONTRATO | I1: CONTRATO VÁLIDO PARA ACREDITAR EXPERIENCIA (SI/NO) | J1: a) EL proponente deberá acreditar máximo DOS (2) contratos ejecutados y terminados, que cumplan con todas las características relacionadas a continuación: a) Que el objeto haya sido o incluya: INTERVENTORIA DE PROYECTOS DE CONCESIÓN DE INFRAESTRUCTURA DE TRANSPORTE*. b) Que la sumatoria de sus cuantías en salarios mínimos legales mensuales vigentes (SMMLV) sea igual o superior al presupuesto oficial de la presente invitación. | K1: PORCENTAJE DE PARTICIPACIÓN | L1: Fecha de inicio del contrato | M1: Fecha de terminación del contrato | N1: Año de Finalización/ última facturación | O1: SMMLV Finalización / última facturación | P1: Valor del contrato incluido IVA | Q1: MONEDA | R1: SMMLV Valor del contrato | S1: SMMLV finalización del contrato PONDERADO | T1: SUMATORIA EXPERIENCIA GENERAL (MAYOR 92,00 SMMLV)
A2: P02 | B2: P02-01 | C2: 25 | D2: =+'CONSOLIDADO TECNICO-ECONOMICO'!C6 -> SERVICIOS DE INGENIERÍA Y CONSTRUCCIÓN S.A.S “SERVINC S.A.S | E2: ANI | F2: COLOMBIA | G2: 199 de 2015 | H2: CTO Nº 046/2014: Interventoría Integral del contrato de Concesión que incluye pero no se limita a la interventoría técnica, financiera, contable, administrativa, jurídica, medioambiental y socio-predial el contrato de concesión 446 de 1994 para la concesión malla vial del Meta. | I2: SI | J2: SI | K2: 0.6 | L2: 41803 | M2: 42350 | N2: =IF(M2="","",YEAR(M2)) -> 2015 | O2: =+PARAMETROS!C116 -> 644350 | P2: 1192548443 | Q2: COP | R2: =+P2/O2 -> 1850.7774 | S2: =IF(OR(I2="",J2="NO"),"",IF(I2="SI",IFERROR(R2*K2,""),"")) -> 1110.4665 | T2: CUMPLE
B3: P02-01 | D3: =+'CONSOLIDADO TECNICO-ECONOMICO'!C6 -> SERVICIOS DE INGENIERÍA Y CONSTRUCCIÓN S.A.S “SERVINC S.A.S | E3: INSTITUTO DE INFRAESTRUCTURA Y CONCESIONES DE CUNDINAMARCA ICCU | F3: COLOMBIA | H3: CTO Nº ICCU-021-2010: Interventoría técnica, socio-ambiental, jurídica y financiera para un periodo de la etapa de operación y para las actividades de la etapa preoperativa de las obras adicionales de las concesiones viales del departamento de Cundinamarca | I3: SI | J3: SI | K3: 0.5 | L3: 40331 | M3: 41215 | N3: =IF(M3="","",YEAR(M3)) -> 2012 | O3: =+PARAMETROS!C113 -> 566700 | P3: 4264498383 | Q3: COP | R3: =+P3/O3 -> 7525.1427 | S3: =IF(OR(I3="",J3="NO"),"",IF(I3="SI",IFERROR(R3*K3,""),"")) -> 3762.5714
A4: P04 | B4: P04-01 | C4: 25 | D4: GEOZAM LABORATORIO Y CONSULTORIA S.A.S | E4: VIAS DE CALI S.A.S | F4: COLOMBIA | G4: 199 de 2015 | H4: INTERVENTORIA, SUPERVISIÓN Y CONTROL DE CALIDAD DE OBRAS PARA LA REHABILITACIÓN DE LA CALLE 16 ENTRE CARRERAS 50 Y 10, PROYECTO INTEGRANTE DEL CONTRATO DE CONCESIÓN ENTRE EL MUNICIPIO DE SANTIAGO DE CALI Y LA SOCIEDAD VIAS DE CALI S.A.S | I4: SI | K4: 1 | L4: 40479 | M4: 40904 | N4: =IF(M4="","",YEAR(M4)) -> 2011 | O4: =+PARAMETROS!C118 -> 737717 | P4: 572891520 | Q4: COP | R4: =+P4/O4 -> 776.57356 | S4: =IF(OR(I4="",J4="NO"),"",IF(I4="SI",IFERROR(R4*K4,""),"")) -> 776.57356
B5: P04-01 | D5: GEOZAM LABORATORIO Y CONSULTORIA S.A.S | E5: VIAS DE CALI S.A.S | F5: COLOMBIA | G5: 0-0236-2017 | I5: SI | N5: =IF(M5="","",YEAR(M5)) | O5: =+PARAMETROS!C120 -> 828116 | Q5: COP | R5: =+P5/O5 -> 0 | S5: =IF(OR(I5="",J5="NO"),"",IF(I5="SI",IFERROR(R5*K5,""),"")) -> 0
S6: =SUM(S2:S3) -> 4873.0378
