Workbook
Name assess: #REF!
Name assess: #REF!
Name assess: #REF!
Name assess: #REF!
Name global: '[1]Do not delete'!$A$3:$A$9
Name global: '[2]Do not delete'!$A$3:$A$9
Name global: '[3]Do not delete'!$A$3:$A$9
Name kk: #REF!
Name kk: #REF!
Name kk: #REF!
Name kk: #REF!
Name kk: #REF!
Name kk: #REF!
Name level: [4]te_Proj_inputs!$B$31:$B$37
Name o1a: [4]te_Proj_inputs!$B$50:$B$55
Name tObjectives: #REF!
Name tObjectives: #REF!
Name tObjectives: #REF!
Name tObjectives: #REF!
Name tObjectives: #REF!
Name tObjectives: #REF!
Name yn: [4]te_Proj_inputs!$C$3:$C$5

Sheet INICIO
N21: Área protegida | P21: DRMI LURIZA
N24: Fecha | P24: 12 DE MAYO DE 2022

Sheet Información General
B3: Área protegida | F3: =+IF(INICIO!P21="","",INICIO!P21) -> DRMI LURIZA
B5: Categoría de manejo | F5: DISTRITO REGIONAL DE MANEJO INTEGRADO
B7: Autoridad ambiental responsable del manejo | F7: CRA
B9: Extensión (hectáreas) | F9: 837.17
B11: Acuerdo del Consejo Directivo (año de creación) | F11: No.003 DE 2011
B13: Subsistema al cual pertenece | F13: SIRAP CARIBE
B15: Objetivos de conservación | F15: 1.Proteger y conservar y recuperar una de as áreas representativas de los bosques secos del Caribe Colombiano y deldepartamento del Atlántico. Con zonas de buena cobertura vegetal y de suelo que cumple una importnte función ecológicacomo el mantenimiento de la microcuenca del arroyo Luriza,refugio de las epeciesde animales y plantasmás características dela región, protección de la biodiversidad biológica y genética. 2. perpetuar y conservar las bellezas escénicas y el valorpaisajísticoo del área y proporcionar facilidades para la recreación, el esparcimiento y alternativas sostenibles de uso como elecoturismo y la ganadería sostenible
B17: Forma/esquema de administración | F17: Pública
B19: Jurisdicción (Municipio(s)) | F19: Uiscuri-Piojó
B21: Acuerdo de aprobación del Plan de Manejo (Año y número de acuerdo) | F21: No.003 de 2011
B23: Extensión del área protegida que está traslapada con grupos etnicos (Ha) | F23: 0
B25: Presupuesto anual | F25: 120000000
B27: Número de personas de planta en la Corporación a cargo de áreas protegidas | F27: 0
B29: Número de personas contratistas en la Corporación a cargo de áreas protegidas | F29: 2
B31: Con cuáles otras áreas protegidas limita (regionales, fronterizas, privadas, etc.) | F31: ninguna
B33: Población | D33: Campesina | F33: 15
D34: Indígena
D35: Afrodescendiente | F35: 65
D36: Total | F36: =+SUM(F33:F35) -> 80
B38: Años de análisis de efectividad realizados | F38: 2022
B40: Participantes del análisis de efectividad | D40: Nombre | H40: Entidad, Organización a la que pertenece
D42: MERLY PATRICIA GUZMAN GUTIERREZ | H42: CRA
D44: JOE GARCIA QUIÑONES | H44: CRA
D46: SOFIA DEL RIO | H46: HECO

Sheet Conceptual
B3: Manejo efectivo | D3: Es la determinación de qué tan bien se está manejando un área protegida, es decir la medida en que se están protegiendo objetos y alcanzando las metas y objetivos. Incluye el entendimiento de que las dinámicas ecológicas y socio-culturales asociadas a los objetos de conservación trascienden la administración y en gran medida las fronteras del área protegida, por lo cual sólo es posible el logro de los objetivos de conservación mediante la articulación de ésta con sectores sociales, lógicas y espacios territoriales y regionales. El manejo efectivo de un área protegida permite integrar la conservación con el desarrollo sostenible aportando beneficios para el bienestar humano al tiempo que protege su herencia cultural.
B5: Análisis de la efectividad de manejo | D5: Se concibe como una reflexión periódica para conocer el nivel de cumplimiento de los objetivos de conservación del área protegida en su contexto regional. Está diseñado desde una perspectiva crítica que pretende, a partir de un ejercicio documentado y de reflexión colectiva, comprender la situación actual de manejo de un área protegida y orientarla hacia una situación deseada de manejo. La situación deseada se fundamenta en la noción del manejo efectivo, definido como aquel que se acerca al logro de los objetivos de conservación mediante un proceso legitimado socialmente y eficiente. El análisis de la efectividad del manejo forma parte esencial de la planeación, seguimiento y retroalimentación, por lo que no debe verse de manera aislada. En este sentido, los resultados que se obtengan retroalimentarán indistintamente la fase de planificación en que se encuentre el área protegida. Un análisis de efectividad es completo cuando integra el seguimiento a la gestión y manejo con el monitoreo de la biodiversidad, servicios ecosistémicos y presiones.
B7: Estrategias de manejo | D7: Responden a las situaciones del contexto en que se enmarca el área protegida y que tienen relación directa con la posibilidad de avanzar en el logro de los objetivos de conservación, adecuando la práctica de conservación para que refleje un contexto de prioridades y valores sociales dentro de un clima cambiante. Entre las situaciones relevantes están el ordenamiento territorial, los tensionantes, presiones o amenazas, incluyendo los posibles riesgos climáticos y, en general, los escenarios de cambio a las escalas pertinentes (TNC, 1999; UAESPNN, 2005 y PNNC, 2017). Estas estrategias abarcan aspectos de ordenamiento y de planeación estratégica para generar respuestas integrales a las situaciones priorizadas sobre las que se pretende intervenir. Los aspectos a tener en cuenta para las estrategias de manejo son: las situaciones de manejo prioritarias o prioridades de manejo, las decisiones sobre ordenamiento del territorio protegido (zonificación de manejo, regulación de usos y reglamentación de actividades permitidas, etc.), y las decisiones sobre la gestión del manejo (impactos de largo plazo y objetivos y metas de mediano plazo, y la planeación operativa).
B9: Prioridades de manejo | D9: Se entienden como aquellas situaciones positivas o negativas a las que debería responder la administración y manejo de un área protegida, de manera prioritaria en el plazo de vigencia del plan de manejo, para avanzar en el logro de los objetivos de conservación. Estas prioridades de manejo deben por lo tanto tener una relación directa con dichos objetivos. La relación entre las prioridades de manejo y los objetivos de conservación no se da solo porque las situaciones se presenten al interior del área protegida, sino particularmente por el impacto positivo o negativo que estas puedan tener en el logro de los objetivos de conservación, con una consideración amplia y suficiente de amenazas y presiones de origen climático y análisis de riesgos climáticos . De esta manera podrá haber prioridades de manejo que se presenten por fuera del área protegida, para lo cual se hace necesaria una debida articulación con las demás autoridades con jurisdicción y competencias por fuera de la misma. Estas prioridades deberán ser el foco de la Síntesis diagnóstica del Componente Diagnóstico del Plan de Manejo y deberán sustentarse en la información descriptiva relacionada y en los análisis realizados en este componente.
B11: Zonificación | D11: Parte de la respuesta a las prioridades de manejo se define con la zonificación de manejo del área protegida, a partir de la tipología de zonas que establece el Dec. 2372 de 2010 -compilado en el Decreto 1076 de 2015 -. La zonificación de manejo no debe entenderse como una zonificación ecológica o ambiental en la que se delimitan zonas homogéneas, sino como la zonificación prospectiva que propiciará el logro de los objetivos de conservación. En este sentido, para la zonificación de manejo de un área protegida habría que tener en cuenta no solo el estado (integridad, zonificación ecológica o ambiental, etc.) sino muy especialmente la prospectiva del territorio a manejar. Si no se requieren respuestas diferentes en distintos sectores del área protegida, entonces no es necesaria la división de la misma en zonas de manejo. Es decir, no hay que zonificar solo porque la norma establece una tipología de zonas. Si se zonifica es porque distintos sectores del área protegida deben responder a diferentes intenciones de manejo para propiciar el logro de los objetivos de conservación.
B13: Gobernanza | D13: Se entiende como "la forma y tipo de gobierno de áreas protegidas, incluyendo el tipo de actor principal que toma las decisiones, su capacidad de decisión y control, y la forma de dominio y posición legal del territorio. Gobernanza va mas allá de las formas de participación(…) se refiere a temas que para los actores relevantes incluyen marcos jurídico-institucionales, estructuras y sistemas de conocimiento y valores culturales que determinan la manera en que son tomadas las decisiones de gobierno de las áreas protegidas" (Alianza para la Conservación, 2017).
B15: Estructura de gobernanza | D15: Es una estructura organizativa cuyos componentes facilitan la adecuada coordinación y articulación entre actores públicos, privados y comunitarios que son importantes para la gestión efectiva de las áreas protegidas y en la toma de decisiones de un territorio
B17: Categoría de manejo | D17: Según el Decreto 2372 se define como la unidad de clasificación o denominación genérica que se asigna a las áreas protegidas teniendo en cuenta sus características específicas, con el fin de lograr objetivos específicos de conservación bajo unas mismas directrices de manejo, restricciones y usos permitidos.
B19: Conflicto socio-ambiental | D19: Se identifican como las controversias de información, intereses o valores entre al menos dos grupos independientes, referidas a cuestiones relacionadas con el acceso, uso, control, disponibilidad y aprovechamiento de los recursos naturales y de las condiciones ambientales del entorno que afectan la calidad de vida de las personas. Los conflictos ambientales involucran a las autoridades encargadas de otorgar las autorizaciones para la realización de los proyectos, además de las comunidades y organizaciones locales, a los pueblos indígenas, a las comunidades negras, a los dueños de los proyectos (empresas), a las Organizaciones no gubernamentales e incluso a los grupos al margen de la ley. Además de ser social es también político y comprende aspectos relacionados con el espacio, el territorio y la población que en él habita. (Fuente: Adaptado de la web de la Universidad del Rosario)
B21: Componente diagnóstico | D21: Recoge la descripción, caracterización y análisis de los aspectos y dinámicas más relevantes para entender el estado actual del manejo y administración del área protegida, teniendo en cuenta los contextos local, regional, nacional e internacional -cuando sean del caso-. Este componente se concreta en una síntesis diagnóstica, en la que se presentan las prioridades de manejo -sustentadas con información espacial, documental y primaria lo más actualizada y precisa posible-. (Fuente: Guía de planeación del manejo)
B23: Análisis de contexto integrado | D23: A partir del análisis de la información obtenida en el componente diagnóstico, se estructura el análisis de contexto integrado, que contiene de manera sucinta y estratégica, la situación actual, integrando los diferentes elementos del área protegida y del territorio donde está inmersa. Es así, como relaciona información, presentando un análisis desde las presiones y amenazas, dinámicas socio-económicas, vulnerabilidad climática, caracterización de actores, oportunidades y otros aspectos relevantes para la gestión del área protegida.
B25: Adaptación al cambio climático | D25: Proceso de ajuste al clima real o proyectado y sus efectos. En los sistemas humanos, la adaptación trata de moderar los daños o aprovechar las situaciones beneficiosas. En algunos sistemas naturales, la intervención humana puede facilitar el ajuste al clima proyectado y a sus efectos (IPCC, 2014). Capacidad adaptativa: capacidad de anticipar y responder frente a una amenaza atmosférica y/o climática (IDEAM, 2017). (Fuente: AbE. Guía de adaptación al cambio climático basada en ecosistemas en Colombia [Recurso electronico] / Dirección de Cambio Climático. Ministerio de Ambiente y Desarrollo Sostenible, 2018)
... B31: Servicios ecosistémicos (Denominado actualmente como contribuciones de la naturaleza) | D31: Son todos los beneficios que brinda la naturaleza. Se pueden dividir en cuatro grupos :

Sheet Orientaciones
D3: Ficha de cada elemento de análisis (Hoja "Aplicativo")
D4: A continuación un ejemplo para diligenciar la ficha técnica:
D28: PROCESO DE APLICACIÓN
D29: A continuación, encontrará los pasos sugeridos para analizar la efectividad de manejo

Sheet Estructura
A27: COMPOSICIÓN DE LA METODOLOGÍA

Sheet Metodología
A3: EJES TEMÁTICOS | B3: ELEMENTOS DE ANÁLISIS | D3: DESCRIPCIÓN | E3: NIVEL I | F3: NIVEL II | G3: NIVEL III | H3: NIVEL IV
A4: A. LOGROS | B4: 1 | C4: A1. Salud del área protegida | D4: Analiza el impacto que la gestión del área tiene en el estado/salud del área protegida, a través del conocimiento de sus objetos de conservación (Ej. poblaciones, especies, ecosistemas, paisajes) y su manejo para reducir sus presiones. Parte de su importancia radica en asegurar la base natural que sustenta los servicios ecosistémicos esenciales para el bienestar humano (culturales, regulación, provisión, soporte). | E4: La integridad del área protegida se encuentra en estado No Deseable, no se cumple al menos con el atributo ecológico función en ninguno de los objetos de conservación. La base natural que sustenta la provisión de servicios ecosistémicos está en riesgo crítico. | F4: La integridad del área protegida se encuentra en estado No Deseable, se cumple solo para una parte de los objetos de conservación con el atributo función. La base natural que sustenta la provisión de servicios ecosistémicos está en condición de riesgo. | G4: La integridad del área protegida se encuentra en estado Deseable, todos los objetos de conservación cumplen con el atributo ecológico función, pero la categoría de manejo del AP exige que se cumplan otros atributos ecológicos. La base natural que sustenta la provisión de servicios ecosistémicos está en condición vulnerable. | H4: La integridad del área protegida se encuentra en estado Deseable, los objetos de conservación cumplen los atributos ecológicos composición, estructura y función) acorde con la categoría de manejo del AP. La base natural sustenta la provisión de servicios ecosistémicos sin riesgo aparente.
B5: 2 | C5: A2. Adaptación frente al clima cambiante | D5: Analiza el impacto que la gestión del área tiene en su adaptación o mitigación al cambio climático, a la variabilidad y a los fenómenos relacionados con el clima. Esto a través de una planificación que recoge conocimiento en torno a las amenazas, riesgos climáticos, transformaciones ecológicas y cambio en los servicios ecosistémicos y objetos de conservación debido al impacto de un clima cambiante. | E5: La gestión del área no considera el cambio, la variabilidad climática y fenómenos asociados en el AP y su zona de influencia en el plan de manejo. | F5: El plan de manejo incluye en el diagnóstico información climática pero aún no se utiliza para la definición de medidas de adaptación o mitigación en las estrategias de manejo. | G5: Se está ajustando la planificación, con base en la información climática, planteando metas, objetivos e indicadores visionarios que consideran consciente y deliberadamente los riesgos, retos y oportunidades de un clima cambiante. No se ha evaluado su impacto y aún no se implementan en los POA | H5: La gestión contribuye a la adaptación y mitigación del AP al cambio climático, a la variabilidad climática y a los fenómenos relacionados con el clima. Se conoce el impacto que generan las medidas de adaptación y mitigación y se retroalimenta la planificación del manejo.
B6: 3 | C6: A3. Valores culturales asociados a los objetivos de conservación | D6: Analiza el impacto que la gestión del área tiene en el mantenimiento de bienes materiales e intangibles relacionados con los valores culturales para el cumplimiento de los objetivos de conservación. | E6: Los objetivos de conservación no integran el conocimiento ancestral, uso, valores culturales y espirituales y/o costumbres tradicionales | F6: La gestión del área protegida avanza en el reconocimiento de una parte del conocimiento ancestral, uso, valores culturales y espirituales y/o costumbres tradicionales asociadas al cumplimiento de los objetivos de conservación, se identifican objetos de conservación asociados a los valores culturales. | G6: La gestión del área protegida reconoce e integra a la planeación el conocimiento ancestral, uso, valores culturales y espirituales y/o costumbres tradicionales asociadas al cumplimiento de los objetivos de conservación. | H6: El conocimiento ancestral, uso, valores culturales y espirituales y/o costumbres tradicionales asociadas contribuyen al logro de los objetivos de conservación.
B7: 4 | C7: A4. Beneficios asociados a las contribuciones de la naturaleza | D7: Analiza los beneficios ambientales, sociales, culturales y económicos derivados de las contribuciones (anteriormente denominados servicios ecosistémicos) que el área brinda actualmente o que puede ofrecer a futuro. Parte del principio de la equidad en la distribución de los beneficios. | E7: Se identifican los beneficios derivados de las contribuciones de la naturaleza que brinda el área protegida, pero aún no se cuenta con una caracterización de los mismos. | F7: Se cuenta con la caracterización de las contribuciones de la naturaleza priorizadas que genera el área protegida y de los beneficios que brindan. | G7: Se toman medidas con los actores estratégicos para la distribución de los beneficios asociados a las contribuciones de la naturaleza que genera el área protegida | H7: Los beneficios asociados a las contribuciones de la naturaleza que genera el AP son de acceso justo y equitativo para los actores estratégicos y población en general.
A8: B. CONTEXTO | B8: 7 | C8: B1. Oportunidades en el territorio para la gestión | D8: Analiza las ventanas de oportunidad actuales y/o potenciales que permiten potenciar la gestión del área protegida. | E8: No se identifican las oportunidades que el territorio ofrece para la gestión del área protegida | F8: Se identifican las oportunidades que el territorio ofrece para la gestión del área protegida, pero no se toman medidas para aprovecharlas | G8: Las oportunidades que el territorio ofrece para la gestión del área protegida son aprovechadas pero aún no se conoce su impacto | H8: El área potencializa a su favor las oportunidades que el territorio ofrece para su gestión, generando impactos sobre los objetos de conservación
B9: 5 | C9: B2. Claridad en la propiedad de la tierra | D9: Analiza la claridad de la seguridad legal y jurídica de la propiedad de la tierra del área protegida. | E9: No se tiene claridad sobre la propiedad de la tierra en el AP | F9: Se avanza en la caracterización de la propiedad y tenencia de los predios en menos del 60% del área protegida, esta condición afecta la gestión | G9: Se avanza en la caracterización de la propiedad y tenencia de los predios en más del 60% del área protegida, esta condición no afecta la gestión | H9: Se tiene claridad sobre la propiedad de la tierra en la totalidad del área protegida, esta condición no afecta la gestión
B10: 6 | C10: B3. Conflictos socio-ambientales | D10: Analiza si el área protegida reconoce e incluye en su gestión acciones conducentes a minimizar o resolver los conflictos socio ambientales derivados de las presiones y amenazas. | E10: El diagnóstico de los conflictos socio-ambientales está desactualizado | F10: Se cuenta con un diagnóstico parcial de los conflictos socio-ambientales | G10: Se cuenta con un diagnóstico completo y actualizado de los conflictos socio-ambientales. Se inicia el diseño de estrategias participativas para resolverlos o minimizarlos | H10: La planeación del manejo integra estrategias participativas conducentes a resolver o minimizar los conflictos socio ambientales, por lo que son atendidos y gestionados oportunamente
B11: 8 | C11: B4. Presiones y amenazas | D11: Analiza si las acciones de manejo identificadas para enfrentar las principales presiones y amenazas, favorecen el logro de los objetivos de conservación | E11: No se cuenta con el análisis de las presiones y amenazas a los objetos de conservación. O el análisis de encuentra desactualizado | F11: Se cuenta con un análisis parcial de las presiones y amenazas a los objetos de conservación | G11: Se cuenta con el análisis completo de presiones y amenazas (localización, extensión y persistencia) a los objetos de conservación en el área protegida y en un contexto territorial. Se está en proceso de integrar el análisis en la planeación del manejo | H11: La planeación del manejo integra el análisis de presiones y amenazas, por lo que son atendidas y gestionadas oportunamente
A12: C. PLANEACIÓN Y SEGUIMIENTO | B12: 9 | C12: C1. Coherencia en el diseño del área protegida | D12: Analiza si el diseño del área protegida (delimitación del polígono) responde a la espacialización de los objetivos de conservación propuestos y si la zonificación y regulación de usos es coherente con los dos elementos mencionados | E12: No existe coherencia entre diseño del área, la categoría de manejo y la zonificación ya que no responden completamente a los objetivos de conservación del área, poniendo en riesgo su cumplimiento | F12: El diseño del área es coherente frente a los objetivos de conservación. La categoría de manejo y la zonificación presentan ciertas inconsistencias | G12: El diseño del área y la categoría de manejo son coherentes con los objetivos de conservación. Se toman medidas para mejorar la coherencia en la zonificación | H12: La categoría de manejo, el diseño del área y la zonificación son coherentes entre sí, favoreciendo el cumplimiento de los objetivos de conservación
B13: 10 | C13: C2. Límites del área protegida | D13: Identifica el estado en la claridad de los límites definidos para el área protegida, las acciones que se han implementado para su precisión, demarcación y socialización con los actores comunitarios e institucionales, entendiendo que son los objetivos de conservación los que orientan la definición de límites. | E13: Los límites no están claros, existen diferencias entre la resolución y la cartografía | F13: Se adelantan acciones para la clarificación de límites | G13: Los límites son claros y coherentes entre la resolución y la cartografía, y se inicia la socialización con actores sociales e institucionales | H13: Los límites son claros y coherentes entre la resolución y la cartografía, y son reconocidos y respetados por todos los actores sociales e institucionales
B14: 11 | C14: C3. Coherencia e implementación del plan de manejo | D14: Analiza si el plan de manejo es coherente entre sus componentes y si es un instrumento que orienta la gestión del área en un escenario regional. | E14: No se cuenta con un instrumento de planeación, o de existir, se encuentra desactualizado y no se implementa | F14: Existen vacíos en la coherencia en todos los componentes del plan de manejo. Se implementa parcialmente | G14: Existen vacíos en la coherencia en algunos de los componentes plan de manejo. Se implementa en su mayoría | H14: Existe sinergia entre los componentes del plan de manejo. Se implementa en su totalidad
B15: 12 | C15: C4. Articulación con áreas del SINAP y/u otras áreas de importancia para la conservación | D15: Analiza la integración de la gestión del área protegida, en el contexto regional, con otras áreas del SINAP y otras áreas de importancia para la conservación, ya que la mayor o menor distancia al área protegida, respecto de otras áreas en buen estado, influye en el flujo y supervivencia de los objetos de conservación, así como también en la permanencia de los procesos ecológicos vitales. | E15: No se ha iniciado la articulación y gestión con áreas del SINAP y/u otras áreas de importancia para la conservación alrededor del área protegida | F15: Se inicia la articulación con áreas del SINAP y/u otras áreas de importancia para la conservación alrededor del área protegida | G15: Existe articulación con otras áreas del SINAP y/u otras áreas de importancia para la conservación alrededor del área protegida, pero aún no se evidencian impactos | H15: La gestión del área protegida con otras áreas del SINAP y/u otras áreas de importancia para la conservación contribuye a la disminución ó prevención de las presiones y genera conectividad funcional.
B16: 13 | C16: C5. Articulación transfronteriza para la gestión | D16: Analiza la articulación entre autoridades ambientales responsables/competentes de áreas protegidas limítrofes entre otros países para la reducción de presiones comunes y mantener los objeto de conservación compartidos | E16: No existe relacionamiento entre las áreas protegidas fronterizas | F16: Las áreas protegidas fronterizas se reconocen mutuamente e inician acercamientos | G16: Las áreas protegidas fronterizas definen un plan de trabajo e inician la implementación de acciones conjuntamente | H16: Las áreas protegidas fronterizas implementan con participación de las comunidades, acciones de manejo enmarcadas en un plan de trabajo que aporta a la reducción de presiones comunes y conectividad de los ecosistemas compartidos
B17: 14 | C17: C6. Cumplimiento de la zonificación | D17: La zonificación, junto con el diagnóstico, es la base para dirigir las intervenciones sobre el área, lo cual se traduce en un manejo diferenciado para lograr los objetivos de conservación. El ordenamiento constituye un componente muy importante ya que tiene como fin identificar las reglas sobre el uso del área (www.parquesnacionales.gov.co) | E17: La zonificación no cuenta con una reglamentación específica | F17: Se está en proceso de definir una reglamentación específica que regule los usos del área. Se presentan conflictos con los usuarios en el área | G17: Se implementa la reglamentación específica para regular los usos del área y un esquema de control y vigilancia de acuerdo a la zonificación. Se identifica la reducción de las actividades prohibidas y restringidas en la mayoría del área | H17: La zonificación cuenta con un esquema de control y vigilancia y una reglamentación clara. Su implementación ha conducido a regular los usos permitidos, y reducir significativamente las actividades prohibidas y restringidas en la totalidad del área
B18: 15 | C18: C7. Articulación de la gestión del área con los planes de ordenamiento territorial | D18: Analiza en qué medida la zonificación y ejecución del plan estratégico del área protegida se incluye en el plan de ordenamiento territorial, reconociéndola como determinante ambiental. | E18: El plan de ordenamiento ambiental no reconoce el área como determinante ambiental | F18: Se inicia la gestión para que el área protegida sea reconocida como determinante ambiental en el plan de ordenamiento territorial | G18: El plan de ordenamiento territorial reconoce el área protegida como determinante ambiental | H18: El plan de ordenamiento reconoce el área protegida como determinante ambiental y su programa de ejecución y la zonificación ambiental del municipio lo integran y reconocen, lo cual se evidencia en la implementación de acciones
B19: 16 | C19: C8. Manejo y uso del conocimiento | D19: Analiza si la información se encuentra actualizada, disponible, completa y de alta calidad, de manera que permita contar con una línea base proveniente de cualquier fuente confiable, para la toma de decisiones adecuada y la formulación de acciones informadas para la implementación de las diferentes estrategias de manejo. | E19: El conocimiento para la planeación del manejo es insuficiente o se encuentra desactualizado | F19: Se identifican vacíos de conocimiento para la planeación del manejo y se establecen mecanismos para suplirlos | G19: Se implementan mecanismos para suplir los vacíos de conocimiento | H19: Se cuenta con conocimiento actualizado, completo, accesible y de alta calidad para la planeación del manejo
B20: 17 | C20: C9. Implementación de las líneas de gestión | D20: Analiza el nivel de avance de las líneas de gestión, en el marco del plan operativo anual - POA y su continuidad en la implementación | E20: Las líneas de gestión no han sido definidas | F20: Las líneas de gestión han sido definidas conjuntamente con los actores estratégicos y tienen un avance inferior al 60%. Su implementación tiene interrupciones | G20: Las líneas de gestión tienen un avance superior al 60% e inferior al 90%. Su implementación tiene interrupciones ocasionales | H20: Las líneas de gestión tienen una implementación superior al 90%. Su implementación es continúa
B21: 18 | C21: C10. Evaluación, seguimiento y retroalimentación a la planeación del manejo | D21: Analiza si el conocimiento y los aprendizajes de los procesos y logros son incorporados sistémicamente en la planeación del manejo | E21: No se realiza la evaluación, seguimiento, retroalimentación a la planeación del manejo | F21: Se realiza de manera discontinua la evaluación, seguimiento y retroalimentación | G21: La evaluación, seguimiento y retroalimentación se realizan periódicamente pero los resultados no se tienen en cuenta en la planeación del manejo | H21: La evaluación, seguimiento y retroalimentación se realiza periódicamente y sus resultados y aprendizajes se integran sistémicamente en la planeación del manejo
A22: D. GOBERNANZA | B22: 19 | C22: D1. Legitimidad de las instancias para la participación y coordinación | D22: Analiza los componentes que facilitan la adecuada participación, coordinación y articulación entre actores públicos, privados y comunitarios que son importantes para la planeación del manejo del área protegida y la toma de decisiones en el territorio donde se encuentra inmersa, generando además un escenario de confianza y transparencia para la gestión del área protegida | E22: No existen instancias para la participación y coordinación con actores estratégicos en la gestión del AP | F22: Existen instancias para la participación y coordinación, pero aún no se encuentran apropiadas por todos los actores estratégicos | G22: Las instancias para la gestión y toma de decisiones son reconocidas y apropiadas por la mayoría de los actores estratégicos | H22: Las instancias de participación y coordinación entre todos actores estratégicos facilita la gestión del AP
B23: 20 | C23: D2. Articulación entre la autoridad ambiental y la tradicional para la gestión del área protegida | D23: Analiza la existencia o no de mecanismos e instancias para el accionar articulado para la gestión del área protegida entre la autoridad ambiental y la tradicional | E23: La autoridad tradicional y la autoridad ambiental no reconocen mutuamente su rol en la gestión del área protegida | F23: Hay avances en el reconocimiento mutuo del rol en la gestión del área protegida de la autoridad tradicional y la autoridad ambiental, pero aún no hay mecanismos e instancias formales de articulación. | G23: Se establecen mecanismo(s) e instancia(s) para el relacionamiento entre la autoridad tradicional y la autoridad ambiental | H23: Existe un reconocimiento y relacionamiento formalizado para la articulación entre la autoridad tradicional y la autoridad ambiental, a través de mecanismos e instancias que hacen parte del instrumento de planeación
B24: 21 | C24: D3. Cualificación de actores estratégicos | D24: Analiza la cualificación y fortalecimiento de capacidades que se genera en los actores estratégicos para la gestión e implementación de estrategias de manejo | E24: Los actores estratégicos no se encuentran cualificados | F24: Se identifican las necesidades de cualificación de los actores estratégicos | G24: Se avanza en la cualificación de algunos actores estratégicos | H24: Los actores estratégicos se encuentran cualificados y participan de forma informada en la implementación de las estrategias
B25: 22 | C25: D4. Manejo de conflictos | D25: Analiza la existencia o no de los mecanismos adecuados conducentes a minimizar o solucionar conflictos y diferencias entre los actores estratégicos para la gestión del área. | E25: No se han identificado los conflictos y diferencias entre los actores estratégicos | F25: Se identifican y caracterizan los conflictos y se avanza en la construcción de mecanismos para su solución | G25: Se utilizan los mecanismos y canales para la resolución de conflictos/diferencias entre actores estratégicos. Estos se encuentran en proceso de consolidación y fortalecimiento | H25: Los conflictos/diferencias entre actores estratégicos se resuelven de manera justa y equitativa
B26: 23 | C26: D5. Incidencia del riesgo público en la gestión | D26: Las situaciones de riesgo público presentes en las áreas protegidas, afectan la gestión en el territorio, así como la integridad física del personal que labora en éstas. Es así, que el análisis de esta variable está dirigido a determinar el impacto de dichas situaciones en la implementación de las acciones de manejo definidas en el área protegida. En el caso en que no existan condiciones de riesgo público, este aspecto no será analizado. | E26: Las condiciones de riesgo público impiden la gestión en el área protegida | F26: Las condiciones de riesgo público impiden la gestión en gran parte del área protegida | G26: Las condiciones de riesgo público tienen una baja incidencia en la gestión, por lo que se realiza el manejo en gran parte del área protegida | H26: Las condiciones de riesgo público no afectan la gestión en el área protegida
B27: 24 | C27: D6. Inclusión de elementos intergeneracionales/género para la gestión del AP | D27: Interpreta cómo se incorporan de manera justa y equitativa elementos diferenciados de roles en la implementación de las estrategias de manejo; además de cómo se tienen en cuenta aspectos relacionados con relevo generacional que permita la continuidad en procesos de conservación en las AP a largo plazo. | E27: No se evidencia la inclusión de elementos de género e intergeneracionales en la planeación y manejo | F27: Se avanza en la identificación de elementos de género e intergeneracionales para incorporarlos en la planeación de manejo | G27: Las estrategias que lo requieren incorporan elementos de género e intergeneracionales | H27: Se implementan estrategias de manejo con el reconocimiento diferenciado de los roles de género e intergeneracionales en concordancia con el contexto socio-cultural de la comunidad.
A28: E. RECURSOS | B28: 25 | C28: E1. Sostenibilidad financiera | D28: Analiza si el presupuesto asignado al área anualmente, independiente de su fuente de financiamiento, permite cubrir los costos recurrentes y si como estrategia a largo plazo para la sostenibilidad de los procesos que se desarrollan en el área protegida, se ha contemplado mecanismos de financiamiento como cobro de tarifas a usuarios, permisos, entre otros. Los costos recurrentes corresponden a aquellos que se generan regularmente, año tras año y son esenciales para el manejo del área protegida. | E28: No existe un presupuesto asignado para la administración y manejo del área protegida | F28: Existe un presupuesto que cubre parte de los costos recurrentes | G28: El presupuesto cubre los costos recurrentes. Se diseñan mecanismos financieros para cubrir la totalidad de las necesidades de gestión y reducir la brecha financiera | H28: Se cuenta con un presupuesto continuo que cubre los costos recurrentes y las necesidades de gestión y se implementan diversos mecanismos financieros para reducir la brecha financiera, como: tasas, tarifas, permisos, entre otros.
B29: 26 | C29: E2. Talento humano | D29: Analiza la disponibilidad del talento humano y si el mismo cuenta con las destrezas y competencias requeridas para la adecuada gestión del área protegida. Esto implica que el talento humano cuenta con la formación, experiencia y capacidad técnica necesaria y que adicionalmente, ha sido entrenado para atender las necesidades de manejo. | E29: El personal es insuficiente para implementar todas las líneas de gestión y sus destrezas y competencias no son las requeridas | F29: El personal es insuficiente para implementar la mayoría de las líneas de gestión y sus destrezas y competencias no son las requeridas | G29: El personal es suficiente para implementar la mayoría de las líneas de gestión y sus destrezas y competencias son aceptables | H29: El personal es suficiente para implementar todas las líneas de gestión, se encuentra capacitado y tiene las competencias y destrezas requeridas
B30: 27 | C30: E3. Equipo e infraestructura | D30: Analiza para las líneas de gestión que lo requieren, la disponibilidad y mantenimiento de los equipos e infraestructura física. Este último incluye el mantenimiento preventivo y reparaciones oportunas. | E30: No se cuenta con el equipo e infraestructura para la gestión | F30: El equipo e infraestructura son inadecuados para la gestión | G30: El equipo e infraestructura son adecuados y su mantenimiento es esporádico. | H30: El equipo e infraestructura son suficientes y adecuados para la gestión, responden al plan de adquisiciones y cuentan con un mantenimiento continuo.
A31: F. SISTEMAS PRODUCTIVOS SOSTENIBLES | B31: 28 | C31: F1. Implementación de cadenas de valor | D31: Comprende la capacidad de generar valor agregado en la cadena de diferentes productos o servicios de los sistemas productivos que se dan en las AP y en su zona de influencia y la posibilidad de que estas cadenas generen un comercio justo que pone al centro los seres humanos y la sostenibilidad social, económica y ambiental de las sociedades; dignificando el trabajo, respetando el medio ambiente y fomentando una gestión responsable y sostenible de los recursos naturales. De acuerdo al Plan Nacional de Biocomercio, los bienes y servicios sostenibles provenientes de los recursos naturales, son aquellos que, en su proceso de aprovechamiento, producción, manejo, transformación, comercialización y/o disposición, incorporan mejores prácticas ambientales garantizando la conservación del medio de donde fueron extraídos y la sostenibilidad del recurso. (ONVS 2014). De acuerdo a lo anterior se identifican, entre otros, los siguientes productos o servicios de los sistemas de producción presentes en el AP y en su zona de influencia, provenientes de los servicios de los ecosistemas: • Productos maderables • Productos no maderables • Productos derivados de la fauna silvestre • Ecoturismo • Restauración | E31: No se generan cadenas de valor y biocomercio para los sistemas productivos del área protegida | F31: Se caracteriza y priorizan sistemas productivos para generar cadenas de valor y/o biocomercio | G31: Se avanza en la construcción del portafolio de productos y en la elaboración del programa de biocomercio | H31: Se cuenta con un portafolio de productos, se implementan programas de biocomercio generando cadenas de valor y beneficios en las comunidades
B32: 29 | C32: F2. Buenas prácticas | D32: Analiza si las prácticas utilizadas en los sistemas productivos y el turismo son sostenibles (en aspectos socioeconómicos, biofísicos y técnico productivos), de manera que sean coherentes con los objetivos del AP y con su área de influencia. | E32: No existe una caracterización detallada de los sistemas productivos del AP | F32: Los sistemas productivos del AP no incluyen buenas prácticas en sus procesos | G32: Se inicia la implementación de buenas prácticas en los sistemas productivos del AP | H32: Los sistemas productivos del AP incluyen buenas prácticas en sus procesos y contribuyen al logro de objetivos de conservación asociados a uso
B33: 30 | C33: F3. Turismo como estrategia de conservación | D33: Analiza como las áreas protegidas con vocación ecoturística, realizan actividades acordes con los objetivos de conservación del AP, ya sea al interior o en su zona de influencia, generando beneficios económicos a las comunidades locales. | E33: La actividad ecoturística se identifica como estrategia para el AP pero no se ha caracterizado | F33: La actividad ecoturística se encuentra caracterizada y se avanza en su regulación | G33: La actividad ecoturística se encuentra regulada e incorporada a la zonificación, se desconoce los beneficios que genera a las comunidades locales | H33: La actividad ecoturística se realiza de manera regulada y genera beneficios económicos a las comunidades locales
B34: 31 | C34: F4. Articulación con el sector productivo en la gestión del AP | D34: Analiza la gestión que desde el AP se realice con sectores productivos ubicados en el área y/o en su contexto local y/o regional para la adecuada implementación de estrategias de manejo asociadas a áreas de uso, de manera que también contribuya a disminuir presiones hacia el interior del área protegida y a mejorar los sistemas productivos que se encuentran en la zona de influencia. | E34: No existe relacionamiento con los sectores productivos | F34: Se inician acercamientos con los sectores productivos | G34: Se generan planes de trabajo con los sectores productivos priorizados pero aún no se implementan | H34: Se implementan planes de trabajo con los sectores productivos priorizados contribuyendo a la reducción de las presiones
C106: =Metodología!#REF! -> #REF!

Sheet Aplicativo
O1: 0 | P1: Si | Q1: Totalmente
L2: Si | O2: 2 | Q2: Parcialmente
C3: =Metodología!A4 -> A. LOGROS | L3: No | O3: 3
O4: 4
C5: =Metodología!C4 -> A1. Salud del área protegida
C6: DESCRIPCIÓN | D6: =Metodología!D4 -> Analiza el impacto que la gestión del área tiene en el estado/salud del área protegida, a través del conocimiento de sus objetos de conservación (Ej. poblaciones, especies, ecosistemas, paisajes) y su manejo para reducir sus presiones. Parte de su importancia radica en asegurar la base natural que sustenta los servicios ecosistémicos esenciales para el bienestar humano (culturales, regulación, provisión, soporte).
C7: MECANISMOS DE APOYO Y ORIENTACIONES PARA EL ANÁLISIS | D7: a) Listar objeto de conservación y mencionar con cuáles se cuenta información acerca de su estado b) En caso que el área protegida aún no cuente con análisis de integridad ecológica. Por favor estime una aproximación a partir de cualquiera de los siguientes análisis: - Análisis de cobertura/multitemporales ó monitoreo de los objeto de conservación - Análisis de pérdida de hábitat y conectividad de especies clave - Pérdida de estructura de ecosistemas estratégicos - Calidad de ecosistemas (p.e. agua o disturbio por tierra) - Cambio de ensamblaje y abundancia relativas c) Se requiere que se asigne una puntuación al nivel de información con que se analiza este elemento de análisis
C8: ANÁLISIS DE LA SITUACIÓN | D8: A) El área protegida cuenta con 7 objetos de conservación, los cuales estan siendo reeplanteados en la actualización del PMA que se encuentra vencido.:Bosque seco Tropical (Bs-T): Desde la realización del PMA no se ha realizado un monitoreo que determine el estado actual del bosque seco en AP. Cuerpos de Agua : Se cuenta con un documento donde se plasma la identificación de los cuerpos de agua presente en la zona y un estudio de la calidad de agua y estado fisico-quimico en que se encuetran. Comunidad de Aves : se cuenta con un listado actualizado de la comunidad de aves en el AP, a traves de observaciones realizados por organizaciones externas se han reportado un número importante de especies (240) en la zona que incluyen especies endemicas y casi endemicas, cifra importante a nivel departamental. Fauna Objeto de Cacería: Por medio del Centro de Reacción Inmediata CRIA-de la CRA no reporta para la zona cifras de decomiso o de actividad de caceria ilegal, sin embargo en mesa de trabajo realizada con la comunidad de la zona informan que se presentan algunos casos de caseria muy esporadicos especialmente de aves para comercilización y otros casos para autoconsumo. Tradición Artesanal con la Iraca : Si bien en el AP las mujeres se caracterizan por el arte del tejido de manera cultural,la Palma de Iraca no se da en la zona acuerdo a un estudio realizado por la CRA, esta materia prima para la elboración de productos llega a Usiacurí proveniente de los montes de Maria- Bolivar, por lo tanto este objeto de conservación sera reemplantado en la actualización del PMA Luriza. Conocimiento y uso sostenible de las Plantas Medicinales: No se ha realizado un estudio que permita verificar el estado de este objeto de conservación. Carreto (Aspidosperma polyneuron): Para la declaratoria del AP se encontro una pobalción de esta especie en estado de amaneza, sin embargo no se cuenta con información precisa del estado actual de la especie , por lo tanto este objeto de conservación será reeplanteado en la actualización del PMA. B)El Distrito Regional de Manejo Integrado DRMI Luriza, no cuenta con una anàlisis de integradad Ecològica que permita realizar una evaluaciòn temporal del estado de la cobertura vegetal desde inicio de su declaratoria en el año 2011 hace 10 años; Sin embargo algunas gestiones realizadas desde la CRA como entiddad administradora ha gestionado la compra de 452 hectareas de propietarios de predios privados de 837 declaradas, lo que ha permitido que se observe una recuperaciòn de la cobertura vegetal debido al abandono de actividades como ganaderìa o agricultura muy comunes a realziar en estos predios.
C9: MEDIOS DE VERIFICACIÓN | D9: Análisis de integridad | F9: No | J9: 0
D10: Mapa de coberturas para mínimo dos períodos de tiempo | F10: No | J10: 1
D11: Monitoreo de los objetos de conservación | F11: No | J11: 2
J12: 3
D13: Señale otros medios de verificación | J13: 4
C14: RANGO | D14: NIVELES SITUACIONALES
C15: 1 | D15: =Metodología!E4 -> La integridad del área protegida se encuentra en estado No Deseable, no se cumple al menos con el atributo ecológico función en ninguno de los objetos de conservación. La base natural que sustenta la provisión de servicios ecosistémicos está en riesgo crítico.
C16: 2 | D16: =Metodología!F4 -> La integridad del área protegida se encuentra en estado No Deseable, se cumple solo para una parte de los objetos de conservación con el atributo función. La base natural que sustenta la provisión de servicios ecosistémicos está en condición de riesgo.
C17: 3 | D17: =Metodología!G4 -> La integridad del área protegida se encuentra en estado Deseable, todos los objetos de conservación cumplen con el atributo ecológico función, pero la categoría de manejo del AP exige que se cumplan otros atributos ecológicos. La base natural que sustenta la provisión de servicios ecosistémicos está en condición vulnerable.
C18: 4 | D18: =Metodología!H4 -> La integridad del área protegida se encuentra en estado Deseable, los objetos de conservación cumplen los atributos ecológicos composición, estructura y función) acorde con la categoría de manejo del AP. La base natural sustenta la provisión de servicios ecosistémicos sin riesgo aparente.
D19: Situación asignada | H19: 2
C20: INFORMACIÓN PARA RESPONDER AL EJE TEMÁTICO | D20: No se cuenta con información para responder el elemento de análisis | H20: 1 | I20: 2
D21: El elemento de análisis se responde con base en el conocimiento empírico que el equipo tiene del área, pero no se cuenta con información producto de investigación, monitoreo u otras fuentes confiables | H21: 2
D22: El elemento de análisis se responde con alguna información de la investigación y el monitoreo u otras fuentes confiables | H22: 3
D23: El elemento de análisis se responde desde el análisis de integridad ecológica del área protegida | H23: 4
D24: Puntaje total del elemento de análisis (Ponderación: Situación Asignada + Información para responder al eje temático) | H24: =(50%*H19)+(50%*I20) -> 2
C25: MEDIDAS DE MANEJO REQUERIDAS | D25: 1. Actualización del Plan de Manejo del DRMI luriza,con el fin de reeplantear los objetos y objetivos de conservación 2. Realizar un análisis de integración ecologica una vez se actualice el PM del AP.3. Elaborar convenios con la academia que permita la investigación y monitoreo de los objetos de conservación del AP
C27: =Metodología!C5 -> A2. Adaptación frente al clima cambiante
C28: DESCRIPCIÓN | D28: =Metodología!D5 -> Analiza el impacto que la gestión del área tiene en su adaptación o mitigación al cambio climático, a la variabilidad y a los fenómenos relacionados con el clima. Esto a través de una planificación que recoge conocimiento en torno a las amenazas, riesgos climáticos, transformaciones ecológicas y cambio en los servicios ecosistémicos y objetos de conservación debido al impacto de un clima cambiante.
C29: MECANISMOS DE APOYO Y ORIENTACIONES PARA EL ANÁLISIS | D29: Se sugiere soportar el análisis con cualquiera de la siguiente información: - Análisis de vulnerabilidad de los objetos de conservación a riesgos climáticos - Análisis de riesgos climáticos y capacidad de adaptación (biofísica, social, económica). - Información climática en un lapso de tiempo que se encuentre sistematizada
C30: ANÁLISIS DE LA SITUACIÓN | D30: Para el caso particular del DRMI luriza hasta la fecha no existen datos biológicos acerca del estado en que se encuentran la fauna y flora silvestre como consecuencia del cambio climático y las extremas sequías que están azotado al Atlántico. Sin embargo, la situación del fenómeno de El Niño ha afectado notoriamente los ciclos de vegetación, como floración y pérdida foliar, lo que modifica el comportamiento de desplazamiento de la fauna, sus sitios de descanso, alimentación y apareamiento y con ello la migración de ciertas especies en busca de agua y alimentación.El AP cuenta con la aplicación de metodologia ARCA en el cual se plantearon las medidas de adaptación para cada uno de los riesgos y fenomenos identificados, el PM actual no incluye dentro de su diagnostico con información realcionada del cambio climático
C31: MEDIOS DE VERIFICACIÓN | D31: Análisis de vulnerabilidad a riesgos/cambio climático | F31: No
D32: Aplicación metodología ARCA | F32: Si
D33: Análisis climáticos dentro del componente diagnóstico del plan de manejo | F33: No
D35: Señale otros medios de verificación | F35: Plan integral de gestión de Cambio climatico territorial del Atlántico 2040.
C36: RANGO | D36: NIVELES SITUACIONALES
C37: 1 | D37: =Metodología!E5 -> La gestión del área no considera el cambio, la variabilidad climática y fenómenos asociados en el AP y su zona de influencia en el plan de manejo.
C38: 2 | D38: =Metodología!F5 -> El plan de manejo incluye en el diagnóstico información climática pero aún no se utiliza para la definición de medidas de adaptación o mitigación en las estrategias de manejo.
C39: 3 | D39: =Metodología!G5 -> Se está ajustando la planificación, con base en la información climática, planteando metas, objetivos e indicadores visionarios que consideran consciente y deliberadamente los riesgos, retos y oportunidades de un clima cambiante. No se ha evaluado su impacto y aún no se implementan en los POA
C40: 4 | D40: =Metodología!H5 -> La gestión contribuye a la adaptación y mitigación del AP al cambio climático, a la variabilidad climática y a los fenómenos relacionados con el clima. Se conoce el impacto que generan las medidas de adaptación y mitigación y se retroalimenta la planificación del manejo.
D41: Situación asignada | H41: 1
C42: MEDIDAS DE MANEJO REQUERIDAS | D42: Los resultados obtenido en el taller ARCA realizado el 11 de mayo de 2022, se plantearon las medidas de manejo, estan serán incluidas en la actualización del PM, asi como su implementación y plande seguimiento. Gestionar con las entidades territoriales la realización de un estudio de vulnerabilidad y análisis de riesgo para el AP.
...

Sheet Validación
A1: Presiones | D1: Conflictos Socio-Ambientales
A2: Actividad y emisiones volcánicas | D2: Cambios en el uso del suelo
A3: Agricultura | D3: Conflicto gente-fauna
A4: Antenas de comunicación | D4: Extracción de productos maderables y no maderales del bosque
A5: Aumento inusual de precipitación | D5: Hidrocarburos
A6: Aumento inusual de temperaturas | D6: Infraestructura
A7: Cacería | D7: Mineria
A8: Cambios en características físicas o químicas del mar | D8: Ocupación de tierras
A9: Cambios en el nivel del mar | D9: Pastoreo intensivo
A10: Captaciones de agua no reguladas | D10: Pesca
A11: Ciclón (depresión, tormenta, huracán) | D11: Producción de carbon vegetal
A12: Cultivos de uso no licito | D12: Propiedad de la tierra
... A23: Exploración y explotación de petróleo | D23: Fumigaciones
A24: Explotación de minerales
A25: Extracción de fauna
A26: Extracción de flora
A27: Extracción materiales de construcción y de material de arrastre
A28: Ganadería
A29: Helada
A30: Hidroeléctricas
A31: Incendio de coberturas vegetales
A32: Infraestructura
A33: Infraestructura portuaria
A34: Inundación
A35: Leñateo
... A50: Vías

Sheet Matrices de apoyo
O1: X | P1: 1
P2: 2
C3: C3. Coherencia e implementación del plan de manejo
C5: Esta matriz es orientativa para facilitar la comprensión del elemento de análisis. No tiene ponderación | I5: COHERENCIA Y CUMPLIMIENTO (Señale con una equis)
C6: COMPONENTES DEL PLAN DE MANEJO | D6: PREGUNTAS ORIENTADORAS | I6: Si | J6: Parcialmente | K6: No
I7: 3 | J7: 2 | K7: 1
C8: Diagnóstico | D8: ¿El diagnóstico incluye las situaciones y dinámicas relevantes actuales para el manejo del área protegida, teniendo en cuenta los contextos local, regional, nacional e internacional (cuando sean del caso)? | I8: X
D9: ¿La síntesis diagnóstica presenta las prioridades de manejo y su relación con los objetivos de conservación? | I9: X
D10: ¿Las prioridades de manejo responden a situaciones, tanto positivas como negativas, relacionadas con temas de manejo y de administración del área protegida? | I10: X
C11: Ordenamiento | D11: ¿La zonificación cuenta con definición de zonas y subzonas de acuerdo al Decreto 2372? | I11: X
D12: ¿Es acorde con la categoría de manejo? | I12: X
D13: ¿Cuenta con regulación de usos detallada para cada subzona? | I13: X
C14: Estratégico | D14: ¿Los compromisos establecidos en el plan estratégico de acción reflejan las necesidades de manejo del ordenamiento y de las prioridades de manejo del área? | J14: X
D15: ¿El plan estratégico se implementa con actores estratégicos? | J15: X
D16: ¿Las necesidades financieras identificadas tienen coherencia con las metas propuestas? | J16: X
C19: C9. Implementación de las líneas de gestión - E2. Talento humano
C21: C9. Implementación de las líneas de gestión | F21: E2. Talento humano
C22: LÍNEAS DE GESTIÓN DEL ÁREA PROTEGIDA | E22: Porcentaje de implementación | F22: ¿Cuenta con el personal requerido para implementar la línea de gestión? (Señale con una equis) | I22: ¿El personal cuenta con las destrezas y competencias requeridas para implementar la línea de acción? (Señale con una equis) | S22: Total
F23: Si | G23: Parcialmente | H23: No | I23: Si | J23: Parcialmente | K23: No
F24: 3 | G24: 2 | H24: 1 | I24: 3 | J24: 2 | K24: 1
C25: Restaurar un 100% de la cobertura vegetal del Bs-T en 200 ha del AP de Luriza. | E25: 0.6 | G25: X | J25: X
C26: Asegurar la recolección y manejo de residuos sólidos y líquidos en el 100 % del área de la microcuenca del Arroyo Luriza. | E26: 0.45 | H26: X | K26: X
C27: Alcanzar la recuperación del 100% de las coberturas del bosque de Galería y ripario de la microcuenca del Arroyo Luriza. | E27: 0.35 | G27: X | K27: X
C28: Obtener un 100% de la información de la avifauna presente y migratoria del Bs-T del AP de Luriza. | E28: 1 | F28: X | J28: X
C29: Reducir un 100% la cacería en toda el área del AP de Luriza. Indicadores de éxito | E29: 0.6 | G29: X | J29: X
C30: Implementar en un 50% de los hogares las huertas caseras de plantas medicinales en el AP de Luriza | E30: 0.7 | G30: X | J30: X
C31: Recuperar y conservar no menos del 50% de las poblaciones de Carreto en el AP de Luriza. | E31: 0 | H31: X | K31: X
C32: Hasta 2020 establecer un 100% la cadena productiva en torno a la producción de artesanías de iraca en el municipio de Usiacurí. | E32: 0.35 | G32: X | K32: X
C34: TOTAL | E34: =IF(E25="","",AVERAGE(E25:E33)) -> 0.50625
C63: Alimentos
C64: Materias primas
C65: Recursos medicinales
C66: Agua potable
C67: Regulación de la calidad del aire
C68: Regulación del clima
C69: Regulación del agua
C70: Regulación de la erosión
C71: Purificación del agua
C72: Control de plagas y enfermedades
C73: Polinización
...

Sheet Resumen 
B3: ÍNDICE DE EFECTIVIDAD DE MANEJO | D3: =Aplicativo!E653 -> 0.56782407
B5: EJE TEMÁTICO | D5: PUNTAJE | E5: DESCRIPCION DE LA SITUACION | F5: MEDIDAS DE MANEJO IDENTIFICADAS
B6: A. LOGROS | C6: =+Aplicativo!C5 -> A1. Salud del área protegida | D6: =Aplicativo!E81 -> 2 | E6: =+IF(Aplicativo!D8="","",Aplicativo!D8) -> A) El área protegida cuenta con 7 objetos de conservación, los cuales estan siendo reeplanteados en la actualización del PMA que se encuentra vencido.:Bosque seco Tropical (Bs-T): Desde la realización del PMA no se ha realizado un monitoreo que determine el estado actual del bosque seco en AP. Cuerpos de Agua : Se cuenta con un documento donde se plasma la identificación de los cuerpos de agua presente en la zona y un estudio de la calidad de agua y estado fisico-quimico en que se encuetran. Comunidad de Aves : se cuenta con un listado actualizado de la comunidad de aves en el AP, a traves de observaciones realizados por organizaciones externas se han reportado un número importante de especies (240) en la zona que incluyen especies endemicas y casi endemicas, cifra importante a nivel departamental. Fauna Objeto de Cacería: Por medio del Centro de Reacción Inmediata CRIA-de la CRA no reporta para la zona cifras de decomiso o de actividad de caceria ilegal, sin embargo en mesa de trabajo realizada con la comunidad de la zona informan que se presentan algunos casos de caseria muy esporadicos especialmente de aves para comercilización y otros casos para autoconsumo. Tradición Artesanal con la Iraca : Si bien en el AP las mujeres se caracterizan por el arte del tejido de manera cultural,la Palma de Iraca no se da en la zona acuerdo a un estudio realizado por la CRA, esta materia prima para la elboración de productos llega a Usiacurí proveniente de los montes de Maria- Bolivar, por lo tanto este objeto de conservación sera reemplantado en la actualización del PMA Luriza. Conocimiento y uso sostenible de las Plantas Medicinales: No se ha realizado un estudio que permita verificar el estado de este objeto de conservación. Carreto (Aspidosperma polyneuron): Para la declaratoria del AP se encontro una pobalción de esta especie en estado de amaneza, sin embargo no se cuenta con información precisa del estado actual de la especie , por lo tanto este objeto de conservación será reeplanteado en la actualización del PMA. B)El Distrito Regional de Manejo Integrado DRMI Luriza, no cuenta con una anàlisis de integradad Ecològica que permita realizar una evaluaciòn temporal del estado de la cobertura vegetal desde inicio de su declaratoria en el año 2011 hace 10 años; Sin embargo algunas gestiones realizadas desde la CRA como entiddad administradora ha gestionado la compra de 452 hectareas de propietarios de predios privados de 837 declaradas, lo que ha permitido que se observe una recuperaciòn de la cobertura vegetal debido al abandono de actividades como ganaderìa o agricultura muy comunes a realziar en estos predios. | F6: =+IF(Aplicativo!D25="","",Aplicativo!D25) -> 1. Actualización del Plan de Manejo del DRMI luriza,con el fin de reeplantear los objetos y objetivos de conservación 2. Realizar un análisis de integración ecologica una vez se actualice el PM del AP.3. Elaborar convenios con la academia que permita la investigación y monitoreo de los objetos de conservación del AP
