Workbook
Name _______AFC1: [1]INV!$A$25:$D$28
Name _______AFC3: [1]INV!$F$25:$I$28
Name _______AFC5: [1]INV!$K$25:$N$28
Name _______BGC1: [1]INV!$A$5:$D$8
Name _______BGC3: [1]INV!$F$5:$I$8
Name _______BGC5: [1]INV!$K$5:$N$8
Name _______CAC1: [1]INV!$A$19:$D$22
Name _______CAC3: [1]INV!$F$19:$I$22
Name _______CAC5: [1]INV!$K$19:$N$22
Name _______SBC1: [1]INV!$A$12:$D$15
Name _______SBC3: [1]INV!$F$12:$I$15
Name _______SBC5: [1]INV!$K$12:$N$15
Name ______AFC1: [1]INV!$A$25:$D$28
Name ______AFC3: [1]INV!$F$25:$I$28
Name ______AFC5: [1]INV!$K$25:$N$28
Name ______BGC1: [1]INV!$A$5:$D$8
Name ______BGC3: [1]INV!$F$5:$I$8
Name ______BGC5: [1]INV!$K$5:$N$8
Name ______CAC1: [1]INV!$A$19:$D$22
Name ______CAC3: [1]INV!$F$19:$I$22
Name ______CAC5: [1]INV!$K$19:$N$22
Name ______SBC1: [1]INV!$A$12:$D$15
Name ______SBC3: [1]INV!$F$12:$I$15
Name ______SBC5: [1]INV!$K$12:$N$15
Name _____AFC1: [1]INV!$A$25:$D$28
Name _____AFC3: [1]INV!$F$25:$I$28
Name _____AFC5: [1]INV!$K$25:$N$28
Name _____BGC1: [1]INV!$A$5:$D$8
Name _____BGC3: [1]INV!$F$5:$I$8
Name _____BGC5: [1]INV!$K$5:$N$8
Name _____CAC1: [1]INV!$A$19:$D$22
Name _____CAC3: [1]INV!$F$19:$I$22
Name _____CAC5: [1]INV!$K$19:$N$22
Name _____SBC1: [1]INV!$A$12:$D$15
Name _____SBC3: [1]INV!$F$12:$I$15
Name _____SBC5: [1]INV!$K$12:$N$15
Name ____AFC1: [1]INV!$A$25:$D$28
Name ____AFC3: [1]INV!$F$25:$I$28
Name ____AFC5: [1]INV!$K$25:$N$28
Name ____BGC1: [1]INV!$A$5:$D$8
Name ____BGC3: [1]INV!$F$5:$I$8
Name ____BGC5: [1]INV!$K$5:$N$8
Name ____CAC1: [1]INV!$A$19:$D$22
Name ____CAC3: [1]INV!$F$19:$I$22
Name ____CAC5: [1]INV!$K$19:$N$22
Name ____SBC1: [1]INV!$A$12:$D$15
Name ____SBC3: [1]INV!$F$12:$I$15
Name ____SBC5: [1]INV!$K$12:$N$15
Name ___AFC1: [1]INV!$A$25:$D$28
Name ___AFC3: [1]INV!$F$25:$I$28
Name ___AFC5: [1]INV!$K$25:$N$28
Name ___BGC1: [1]INV!$A$5:$D$8
Name ___BGC3: [1]INV!$F$5:$I$8
Name ___BGC5: [1]INV!$K$5:$N$8
Name ___CAC1: [1]INV!$A$19:$D$22
Name ___CAC3: [1]INV!$F$19:$I$22
Name ___CAC5: [1]INV!$K$19:$N$22
Name ___SBC1: [1]INV!$A$12:$D$15
Name ___SBC3: [1]INV!$F$12:$I$15
Name ___SBC5: [1]INV!$K$12:$N$15

Sheet PPTO POR RUBROS VS CDP
A1: COMPARACIÓN APROPIACIÓN POR RUBRO EN CDP VS TOTAL PRESUPUESTO POR RUBRO PROCESO
A2: DISPONIBILIDAD PRESUPUESTAL | B2: RUBRO | C2: DESCRIPCIÓN | D2: COMPONENTE DEL GASTO SEGÚN PRESUPUESTO | E2: COSTO TOTAL INCLUIDO AU
A3: 20220000646 | B3: 2.1.2.02.01.003 | C3: OTROS BIENES TRANSPORTABLES (EXCEPTO PRODUCTOS METÁLICOS) | D3: Suministros Sede Admin | E3: =+'PRESUPUESTO OFICIAL CONSOLID'!D25 -> 124989581
B4: 2.1.2.02.02.008 | C4: SERVICIOS PRESTADOS A LAS EMPRESAS Y SERVICIOS DE PRODUCCIÓN | D4: Mantenimientos Sede Admin | E4: =+'PPTO OF DETALLADO'!H16 -> 37800000
A5: TOTAL PRSUPUESTO POR RUBRO CDP VS PRESUPUESTO | E5: =ROUND(SUM(E3:E4),0) -> 162789581
A7: SMMLV | B7: AÑO | C7: PPTO OFICIAL | D7: PPTO EN SMMLV
A8: 1000000 | B8: 2022 | C8: =+E5 -> 162789581 | D8: =+C8/A8 -> 162.78958
E40: TOTAL PRESUPUESTO OFICIAL DEL PROCESO | F40: =+E5 -> 162789581
E41: ANTICIPO | F41: 0
E42: TOTAL CAPACIDAD RESIDUAL PARA EL PROYECTO | F42: =+F40 -> 162789581

Sheet PRESUPUESTO OFICIAL CONSOLID
A1: ÁREA METROPOLITANA DEL VALLE DE ABURRÁ
A2: PRESUPUESTO OFICIAL
A3: SELECCIÓN ABREVIADA DE MENOR CUANTÍA - SA 010 DE 2022
A4: “SUMINISTRO E INSTALACIÓN DE DOCE 12 CILINDROS DE LA GPU MARCA MARIOFF Y REPUESTOS PARA MANTENIMIENTO PREVENTIVO Y CORRECTIVO DEL SISTEMA DE PROTECCIÓN DE INCENDIOS HI-FOG DE LA SEDE ADMINISTRATIVA DEL ÁREA METROPOLITANA DEL VALLE DE ABURRA”
A6: PRESUPUESTO OFICIAL CONSOLIDADO
A8: RESUMEN CONSOLIDADO DEL PRESUPUESTO OFICIAL | D8: VALOR TOTAL DEL PRESUPUESTO OFICIAL INCLUIDO AU | E8: AU OFICIAL
D9: =+'PPTO OF DETALLADO'!I35 -> 162789581 | E9: 0.12
A11: TOTAL PRESUPUESTO OFICIAL CONSOLIDADO | C11: TOTAL COSTOS DIRECTOS | D11: AU OFICIAL EN % | E11: VALOR TOTAL DEL PRESUPUESTO OFICIAL INCLUIDO AU
C12: =+'PPTO OF DETALLADO'!F35 -> 145347840 | D12: 0.12 | E12: =+D9 -> 162789581
A14: RESUMEN CONSOLIDADO DEL PRESUPUESTO OFICIAL por ALCANCE
A15: DETALLE / ALCANCE | B15: TOTAL COSTOS DIRECTOS | C15: AU OFICIAL | D15: VALOR TOTAL DEL PRESUPUESTO OFICIAL INCLUIDO AU | E15: RUBROS PRESUPUESTALES
C16: 0.12
A17: Realizar el Mantenimiento Preventivo al sistema de extinción de incendios, en la sede administrativa del Area Metropolitana del Valle de Aburra | B17: =+'PPTO OF DETALLADO'!F14 -> 18750000 | C17: =+B17*$C$16 -> 2250000 | D17: =+B17+C17 -> 21000000 | E17: SERVICIOS PRESTADOS A LAS EMPRESAS Y SERVICIOS DE PRODUCCIÓN - 2.1.2.02.02.008
A18: Realizar el Mantenimiento Correctivo al sistema de extinción de incendios, en la sede administrativa del Area Metropolitana del Valle de Aburra (Valor estipulado por el ÁREA - Costos Directos Fijo, Inmodificable y con Presupuesto Oficial Máximo incluido AU por Rubro Presupuestal. ITEM con carácter Reembolsable)* | B18: =+'PPTO OF DETALLADO'!F15 -> 15000000 | C18: =+B18*$C$16 -> 1800000 | D18: =+B18+C18 -> 16800000 | E18: SERVICIOS PRESTADOS A LAS EMPRESAS Y SERVICIOS DE PRODUCCIÓN - 2.1.2.02.02.008
A19: Realizar el Suministro, Instalación y puesta en correcto funcionamiento de nuevos elementos en la sede administrativa del Area Metropolitana del Valle de Aburra | B19: =+'PPTO OF DETALLADO'!F30 -> 111597840 | C19: =+B19*$C$16 -> 13391741 | D19: =+B19+C19 -> 1.2498958e+08 | E19: OTROS BIENES TRANSPORTABLES (EXCEPTO PRODUCTOS METÁLICOS) - 2.1.2.02.01.003
A20: TOTAL PRESUPUESTO OFICIAL | B20: =SUM(B17:B19) -> 145347840 | C20: =SUM(C16:C19) -> 17441741 | D20: =ROUND(SUM(D17:D19),0) -> 162789581
A22: RESUMEN CONSOLIDADO DEL PRESUPUESTO OFICIAL POR COMPONENTE/ ALCANCE Y POR RUBRO PRESUPUESTAL
A23: COMPONENTE / ALCANCE | D23: VALOR TOTAL DEL PRESUPUESTO OFICIAL INCLUIDO AU | E23: RUBROS PRESUPUESTALES
A24: MANTENIMIENTO GENERAL SEDE ADMINISTRATIVA | D24: =+'PPTO OF DETALLADO'!H16 -> 37800000 | E24: SERVICIOS PRESTADOS A LAS EMPRESAS Y SERVICIOS DE PRODUCCIÓN - 2.1.2.02.02.008
A25: SUMINISTRO E INSTALACIÓN SEDE ADMINISTRATIVA | D25: =+'PPTO OF DETALLADO'!H30 -> 124989581 | E25: OTROS BIENES TRANSPORTABLES (EXCEPTO PRODUCTOS METÁLICOS) - 2.1.2.02.01.003
A26: TOTAL PRESUPUESTO OFICIAL | D26: =ROUND(SUM(D24:D25),0) -> 162789581 | E26: SUMATORIA DE LOS RUBROS
A28: RESUMEN CONSOLIDADO DEL PRESUPUESTO OFICIAL POR COMPONENTE/ ALCANCE - SEDE y POR RUBRO PRESUPUESTAL
A29: COMPONENTE/ALCANCE/SEDE | D29: VALOR TOTAL DEL PRESUPUESTO OFICIAL INCLUIDO AU | E29: RUBROS PRESUPUESTALES
A30: COMPONENTE: 1. MANTENIMIENTO
A31: SEDE ADMINISTRATIVA | B31: MANTENIMIENTO PREVENTIVO | D31: =+'PPTO OF DETALLADO'!H14 -> 21000000
B32: MANTENIMIENTO CORRECTIVO (*) | D32: =+'PPTO OF DETALLADO'!H15 -> 16800000
A33: TOTAL PRESUPUESTO OFICIAL - COMPONENTE 1. MANTENIMIENTO PREVENTIVO y CORRECTIVO | D33: =SUM(D31:D32) -> 37800000
A34: COMPONENTE: 2. SUMINISTROS E INSTALACIÓN
A35: SUMINISTRO, INSTALACION Y PUESTA EN CORRECTO FUNCIONAMIENTO DE NUEVOS ELEMENTOS- SEDE ADMINISTRATIVA | D35: =+'PPTO OF DETALLADO'!H30 -> 124989581
A36: TOTAL PRESUPUESTO OFICIAL - COMPONENTE 2. SUMINISTROS e INSTALACIÓN RUBRO PRESUPUESTAL 24 | D36: =+D35 -> 124989581
A37: TOTAL PRESUPUESTO OFICIAL | D37: =ROUND(D33+D36,0) -> 162789581
A39: PRESUPUESTO OFICIAL PARA MANTENIMIENTO CORRECTIVO
A40: ITEM | C40: TOTAL COSTOS DIRECTOS (*) | D40: PRESUPUESTO OFICIAL MÁXIMO INCLUIDO AU | E40: RUBROS PRESUPUESTALES
C41: =+'PPTO OF DETALLADO'!F15 -> 15000000 | D41: =+'PPTO OF DETALLADO'!H15 -> 16800000
A43: (*) VALOR COSTO DIRECTO FIJO, INMODIFICABLE Y CON PRESUPUESTO OFICIAL MÁXIMO INCLUIDO AU POR RUBRO PRESUPUESTAL. ÍTEM de carácter REEMBOLSABLE:
A44: (*) La Entidad para el ítem de MANTENIMIENTO CORRECTIVO, estableció un valor total fijo para los COSTOS DIRECTOS de QUINCE MILLONES DE PESOS M.L. ($15.000.000) antes de AU y UN PRESUPUESTO OFICIAL MÁXIMO DE DIECISEIS MILLONES OCHOCIENTOS MIL PESOS M.L. ($16,800.000) incluido AU. EL valor del Costo antes de AU es Fijo es Inmodificable por el Oferente en su propuesta, Además es Reembolsable, es decir, se debe demostrar que efectivamente se ejecutó el ítem, presentando para ello, el soporte del gasto efectivamente realizado correspondiente a dicho Ítem. Cuando en el plazo del Contrato no se haya consumido la totalidad del monto establecido o no se hayan presentado esos gastos o cuando habiéndose presentado los mismos, no se tenga el soporte adecuado, no se reconocerá dicho monto AL CONTRATISTA y se reintegrará el saldo correspondiente a la Entidad, antes de la Liquidación del Contrato
A45: La descripción de los ítems o componentes y variables de los mismos, se hizo acorde a los alcances del objeto contractual y para establecer el valor del Presupuesto se hizo con base en Estudio de Mercado, detallando los Costos Directos, definiendo a todos aquellos costos que están directamente relacionados con el cumplimiento del objeto y alcance contractual. Y los Costos Indirectos, como un porcentaje del costo directo y destinado a cubrir costos que no están directamente relacionados con el objeto contractual pero en los que incurre el contratista para su ejecución, determinando los Gastos de Administración (Ad) imputables al proceso y la Utilidad (U). Adicionalmente se establece que el presente proceso se hará se hará en virtud de el numeral 1° del artículo 32 de la Ley 80 de 1993, el artículo 658 del Código Civil y conceptos referidos en el capítulo 3 de los Estudios Previos. En dicho sentido, el área técnica, estableció que todos los Componentes del Presupuesto hacen parte de las actividades de mantenimiento de la Red de Incendios, y en dicho sentido, están excluidos de IVA.
A46: La fuente formal para la exclusión del IVA para el presente contrato que, se hace en virtud del numeral 1 del artículo 32 de la Ley 80 de 1993 y del artículo 100 de la Ley 21 de 1992.

Sheet PPTO OF DETALLADO
A1: ÁREA METROPOLITANA DEL VALLE DE ABURRÁ
A2: SELEECIÓN ABREVIADA DE MENOR CUANTÁ - SA 010 - 2022
A3: PRESUPUESTO OFICIAL
A4: OBJETO:
A5: “SUMINISTRO E INSTALACIÓN DE DOCE 12 CILINDROS DE LA GPU MARCA MARIOFF Y REPUESTOS PARA MANTENIMIENTO PREVENTIVO Y CORRECTIVO DEL SISTEMA DE PROTECCIÓN DE INCENDIOS HI-FOG DE LA SEDE ADMINISTRATIVA DEL ÁREA METROPOLITANA DEL VALLE DE ABURRA”
A6: PRESUPUESTO OFICIAL DETALLADO y POR RUBRO PRESUPUESTAL (INCLUYE AU OFICIAL)
A8: Ítem | B8: Descripción | C8: Cantidad | D8: Rondas | E8: COSTO UNITARIO | F8: TOTAL COSTOS DIRECTOS (a*b*c) | G8: AU | H8: TOTAL COSTOS INCLUIDO AU | I8: RUBRO PRESUPUESTAL
C9: a | D9: b | E9: c | G9: 0.12
A10: COMPONENTE 1. MANTENIMIENTO PREVENTIVO y CORRECTIVO
A11: MANTENIMIENTO PREVENTIVO - SEDE ADMINISTRATIVA
A12: 1 | B12: Mantenimiento preventivo del sistema HI-Fog, pruebas de activacion y funcionamiento del sistema. (en siete pisos, un cuarto técnico y cuenta con aspersores, válvulas, cilindros, bombas, switches, tablero eléctronico) | C12: 1 | D12: 1 | E12: 9000000 | F12: =+E12*D12*C12 -> 9000000 | G12: =+F12*$G$9 -> 1080000 | H12: =+G12+F12 -> 10080000 | I12: 2.1.2.02.02.008.
A13: 2 | B13: Recarga de cilindros de Nitrogeno. Cada cilindro de 50 Lts y 2900 psi. | C13: 13 | D13: 1 | E13: 750000 | F13: =+E13*D13*C13 -> 9750000 | G13: =+F13*$G$9 -> 1170000 | H13: =+G13+F13 -> 10920000 | I13: 2.1.2.02.02.008.
A14: TOTAL MANTENIMIENTO PREVENTIVO SEDE ADMINISTRATIVA | F14: =SUM(F12:F13) -> 18750000 | G14: =SUM(G12:G13) -> 2250000 | H14: =SUM(H12:H13) -> 21000000 | I14: 2.1.2.02.02.008.
A15: MANTENIMIENTO CORRECTIVO SEDE ADMINISTRATIVA (*) | F15: 15000000 | G15: =ROUND(F15*0.12,0) -> 1800000 | H15: =+F15+G15 -> 16800000 | I15: 2.1.2.02.02.008.
A16: SUBTOTAL PRESUPUESTO OFICIAL PARA MANTENIMIENTO PREVENTIVO y CORRECTIVO SEDE ADMINISTRATIVA - RUBROS PRESUPUESTALES 32 | F16: =+F14+F15 -> 33750000 | G16: =+G14+G15 -> 4050000 | H16: =+H14+H15 -> 37800000 | I16: 2.1.2.02.02.008.
A18: Ítem | B18: Descripción | C18: Ubicación | D18: Cantidad de Equipos | E18: COSTO UNITARIO | F18: TOTAL COSTOS DIRECTOS (a*b*c) | G18: AU | H18: TOTAL COSTOS INCLUIDO AU | I18: RUBRO PRESUPUESTAL
D19: a | E19: b | G19: 0.12
A20: COMPONENTE 2. SUMINISTRO e INSTALACIÓN
A21: SUMINISTROS e INSTALACIÓN- SEDE ADMINISTRATIVA
A22: 1 | B22: Suministro de adaptadores para vávulas esclavas y válvula CGA 580 | C22: Sótano | D22: 24 | E22: 316710 | F22: =+E22*D22 -> 7601040 | G22: =+ROUND(F22*$G$19,0) -> 912125 | H22: =+F22+G22 -> 8513165 | I22: 2.1.2.02.01.003.
A23: 2 | B23: Suministro e instalación válvula esclava/gas D21025 | C23: Sótano | D23: 5 | E23: 4347000 | F23: =+E23*D23 -> 21735000 | G23: =+ROUND(F23*$G$19,0) -> 2608200 | H23: =+F23+G23 -> 24343200 | I23: 2.1.2.02.01.003.
A24: 3 | B24: Suministro de e instalación Swich de presion "Pressure switch PMN250AWNTR18T190APTG" | C24: Sótano | D24: 24 | E24: 977500 | F24: =+E24*D24 -> 23460000 | G24: =+ROUND(F24*$G$19,0) -> 2815200 | H24: =+F24+G24 -> 26275200 | I24: 2.1.2.02.01.003.
A25: 4 | B25: Empaquetaduras y sellos de valvulas esclavas | C25: Sótano | D25: 22 | E25: 389850 | F25: =+E25*D25 -> 8576700 | G25: =+ROUND(F25*$G$19,0) -> 1029204 | H25: =+F25+G25 -> 9605904 | I25: 2.1.2.02.01.003.
A26: 5 | B26: Empaquetaduras y sellos de valvula delta P | C26: Sótano | D26: 1 | E26: 389850 | F26: =+E26*D26 -> 389850 | G26: =+ROUND(F26*$G$19,0) -> 46782 | H26: =+F26+G26 -> 436632 | I26: 2.1.2.02.01.003.
A27: 6 | B27: Empaquetaduras y sellos de valvula maestra | C27: Sótano | D27: 1 | E27: 389850 | F27: =+E27*D27 -> 389850 | G27: =+ROUND(F27*$G$19,0) -> 46782 | H27: =+F27+G27 -> 436632 | I27: 2.1.2.02.01.003.
A28: 7 | B28: Mangueras para valvulas delta p, esclava y maestra | C28: Sótano | D28: 26 | E28: 310500 | F28: =+E28*D28 -> 8073000 | G28: =+ROUND(F28*$G$19,0) -> 968760 | H28: =+F28+G28 -> 9041760 | I28: 2.1.2.02.01.003.
A29: 8 | B29: Suministro e instalación de cilindros Marioff de 50 Lts | C29: Sótano | D29: 12 | E29: 3447700 | F29: =+E29*D29 -> 41372400 | G29: =+ROUND(F29*$G$19,0) -> 4964688 | H29: =+F29+G29 -> 46337088 | I29: 2.1.2.02.01.003.
A30: TOTAL PRESUPUESTO OFICIAL - COMPONENTE 2. SUMINISTROS | F30: =SUM(F22:F29) -> 111597840 | G30: =SUM(G22:G29) -> 13391741 | H30: =SUM(H22:H29) -> 124989581 | I30: 2.1.2.02.01.003.
A32: TOTAL PRESUPUESTO OFICIAL PARA EL PROCESO (MANTENIMIENTOS + SUMINISTROS) | F32: =+F16+F30 -> 145347840 | G32: =+G16+G30 -> 17441741 | H32: =+H16+H30 -> 162789581
A34: TOTAL PRESUPUESTO OFICIAL CONSOLIDADO | F34: VALOR TOTAL COSTOS DIRECTOS | G34: AU OFICIAL EN % | H34: AU OFICIAL EN $ | I34: VALOR TOTAL PRESUPUESTO OFICIAL INCLUIDO AU
F35: =+F32 -> 145347840 | G35: 0.12 | H35: =+G32 -> 17441741 | I35: =H32 -> 162789581
A39: (*) La Entidad para el ítem de MANTENIMIENTO CORRECTIVO, estableció un valor total fijo para los COSTOS DIRECTOS de QUINCE MILLONES DE PESOS ($15.000.000) antes de AU y UN PRESUPUESTO OFICIAL MÁXIMO DE y DIECISEIS MILLONES OCHOCIENTOS MIL PESOS M.L. ($16.800.000) incluido AU EL valor del Costo antes de AU es Fijo es Inmodificable por el Oferente en su propuesta, Además es Reembolsable, es decir, se debe demostrar que efectivamente se ejecutó el ítem, presentando para ello, el soporte del gasto efectivamente realizado correspondiente a dicho Ítem. Cuando en el plazo del Contrato no se haya consumido la totalidad del monto establecido o no se hayan presentado esos gastos o cuando habiéndose presentado los mismos, no se tenga el soporte adecuado, no se reconocerá dicho monto AL CONTRATISTA y se reintegrará el saldo correspondiente a la Entidad, antes de la Liquidación del Contrato
A44: FIRMA AUTORIZADA
A45: Nombre:
A46: Cargo:
A47: Documento de Identidad:
A49: Los Proponentes interesados en el presente proceso, para presentar la Oferta Económica, deben hacerlo en el Formulario N° X– OFERTA ECONÓMICA, Hacen parte integral del Formulario N° 2, la Oferta Económica Detallada y el Detalle del AU
A50: Son parte integral del Formulario los siguientes documentos:
A51: *Oferta Económica Detallada – Por Rubro Presupuestal
A52: *Detalle de AU
...

Sheet ADMINISTRACIÓN Y UTILIDAD
A1: ÁREA METROPOLITANA DEL VALLE DE ABURRÁ
A2: PRESUPUESTO OFICIAL DETALLADO
A3: SELEECIÓN ABREVIADA DE MENOR CUANTÁ - SA 010 - 2022
A4: SUMINISTRO E INSTALACIÓN DE DOCE 12 CILINDROS DE LA GPU MARCA MARIOFF Y REPUESTOS PARA MANTENIMIENTO PREVENTIVO Y CORRECTIVO DEL SISTEMA DE PROTECCIÓN DE INCENDIOS HI-FOG DE LA SEDE ADMINISTRATIVA DEL ÁREA METROPOLITANA DEL VALLE DE ABURRA
A6: DETALLE DE AU OFICIAL
A8: GASTOS DE ADMINISTRACIÓN
A10: DESCRIPCIÓN | B10: UN | C10: CANTIDAD | D10: VALOR MENSUAL | F10: VALOR TOTAL
A11: Pólizas (Este ítem se cancelará contra soporte de valor real de la póliza, siendo el tope máximo para su reconocimiento el valor ofertado) | B11: GL | C11: 1 | D11: 583946 | E11: =ROUND(C15*0.45%,0) -> 732553 | F11: =ROUND(C11*E11,0) -> 732553
A12: SUBTOTAL GASTOS LEGALES | F12: =SUM(F11:F11) -> 732553
A13: IMPUESTOS, GRAVÁMENES, TASAS Y CONTRIBUCIONES
A14: DESCRIPCIÓN | B14: UN | C14: BASE (Costo Total incluido AU) | E14: TARIFA | F14: VALOR TOTAL
A15: 50% Gravamen a movimiento financieros (4x1000) =0,20% del Costo Total incluido AU | B15: GL | C15: =+'PPTO OF DETALLADO'!I35 -> 162789581 | E15: 0.002 | F15: =ROUND(C15*E15,0) -> 325579
A16: 5% Impuesto Contribucion Especial (Equivale al 5% del Costo Total incluido AU) | B16: GL | C16: =+C15 -> 162789581 | E16: 0.05 | F16: =ROUND(C16*E16,0) -> 8139479
A17: SUBTOTAL IMPUESTOS, GRAVÁMENES, TASAS Y CONTRIBUCIONES | F17: =+F15+F16 -> 8465058
A18: DESCRIPCIÓN | B18: UN | C18: CANTIDAD | D18: VALOR MENSUAL | F18: VALOR TOTAL
A19: Otros gastos de Administración (Pagados contra factura o soporte idoneo - siendo el tope máximo para su reconocimiento el valor total ofertado para cada ítem) | B19: GL | C19: 1 | D19: 583946 | E19: 976738 | F19: =+E19 -> 976738
A20: SUBTOTAL OTROS GASTOS DE ADMINISTRACIÓN | F20: =+F19 -> 976738
A21: TOTAL GASTOS DE ADMINISTRACIÓN | F21: =+F12+F17+F20 -> 10174349
A22: A.U. (ADMINISTRACIÓN Y UTILIDAD)
A23: Descripcion | E23: Porcentaje | F23: VALOR TOTAL
A24: Total Gastos de Administración | E24: =ROUND(F24/'PPTO OF DETALLADO'!F35,7) -> 0.07 | F24: =+F21 -> 10174349
A25: Utilidad | E25: 0.05 | F25: =E25*'PPTO OF DETALLADO'!F32 -> 7267392
A26: TOTAL A.U. (ADMINISTRACIÓN Y UTILIDAD) | E26: =SUM(E24:E25) -> 0.12 | F26: =+F24+F25 -> 17441741
A33: FIRMA AUTORIZADA
A34: Nombre:
A35: Cargo:
A36: Documento de Identidad:
A38: Los Proponentes interesados en el presente proceso, para presentar la Oferta Económica, deben hacerlo en el Formulario N° 2– OFERTA ECONÓMICA. El proponente deberá presentar junto con su propuesta, su Oferta Económica debidamente firmada por las personas competentes
A39: Son parte integral del Formulario los siguientes documentos:
A40: *Oferta Económica Detallada
A41: *Detalle de AU
A43: NOTAS ADICIONALES
A44: El porcentaje total de los Gastos de Administración = El Subtotal de Gastos de Administración dividido el total del Costo Directo El porcentaje total de la Utilidad = El Total definido de Utilidad dividido el Costos Directo establecido El porcentaje total del AU será la suma del porcentaje de Gastos de Administración más el % definido de Utilidad
A45: El valor y porcentaje de AU definido en el Detalle de AU, renglón "TOTAL A.U (ADMINISTRACIÓN y UTILIDAD) deben ser iguales a los presentados en la Relación de Precios, Renglón "TOTAL .A.U (ADMINISTRACIÓN y UTILIDAD)". - Cada precio unitario y totales, deben estar ajustados al peso, sin centavos es decir CERO decimales y El porcentaje del AU se debe ajustar a dos cifras decimales, teniendo en cuenta que cuando la milésima sea igual o superior a 5, se aproximará por exceso, y cuando sea inferior a 5 se aproximará a la centésima inferior.
A46: El valor del AU deberá ser presentado en porcentaje y en pesos. Debiendo tener presente que el porcentaje de AU definido en su Oferta Económica no debe exceder del Porcentaje del AU Oficial, que se estableció en un 12% sobre los costos directos, so pena de rechazo El porcentaje del AU, deberá estar ajustando a dos cifras decimales
A47: La Supervisión que se designe para la vigilancia y seguimiento del Contrato deberá revisar , los dineros que con recursos públicos ordena pagar, y por ello, no pueden existir ítems sin justificación alguna, por lo que la Interventoría deberá revisar acorde con lo mencionado, los dineros que ordena pagar, esto incluye el control directo y la verificación de soportes de la ejecución de cada uno de los ítems correspondientes a los Costos Directos, así como revisión de todos los gastos, apropiaciones, contribuciones, aportes, y demás pagos y gastos relacionados en los Gastos de Administración propuestos de tal forma que se compruebe su cumplimiento y valor real; y así sujetar los pagos de las Actas de pago y la Liquidación del Contrato a los ítems del Costo Directo y componentes de la Administración que realmente se ejecuten y por su valor respectivo; en caso que exista variaciones de los valores revisados con respecto del valor propuesto en un menor valor al de la propuesta, se efectuaran los ajustes respectivos para establecer el efectivo valor a pagar. En todo caso, lo ejecutado no podrá superar el valor de la propuesta económica. Lo anterior en cumplimiento a orientaciones de la Contraloría General y Concejo de Estado derivados del artículo 83 de la Ley 1474 de 2011
