Workbook

Sheet Acta de cierre y listado
A6: ACTA DE CIERRE Y LISTADO DE INSCRITOS
A7: PROCESO | B7: MINIMA CUANTÍA N° | D7: 23 DE 2022 | R7: =+B7 -> MINIMA CUANTÍA N° | S7: =+D7 -> 23 DE 2022
A9: OBJETO: | B9: Suministro de elementos de dotación de vestuario para los funcionarios de la Superintendencia de Industria y Comercio, que por ley tengan derecho
A10: PRESUPUESTO OFICIAL: | E10: 33513336
A12: FECHA DE CIERRE | C12: 29 de julio de 2022 | D12: HORA | E12: 11:00:00 a.m.
A14: Proponente | B14: Nombres de los Proponentes | D14: Valor Oferta Económica
A15: 1 | B15: ROSARIO VANEGAS NIETO | D15: 26214000
A16: 2 | B16: INVERSIONES BRT S.A.S | D16: 28130400
A17: 3 | B17: OPEN FOR DRESSMAKING S.A.S | D17: 28344000
A18: 4 | B18: JILBER ORLANDO BLANCO FORERO | D18: 30215898
A19: 5 | B19: CRR SOLUCIONES INTEGRALES S.A.S | D19: 32566436
A20: 6 | B20: KOSTA AZUL | D20: 33511620
A21: 7 | B21: C.I MORASU S.A.S | D21: 33573336
A23: DE CONFORMIDAD CON EL ESTATUTO DE CONTRATACION PUBLICA Y LA INVITACIÓN PÚBLICA DEL PRESENTE PROCESO, SE EVALUARA LA OFERTA QUE TENGA EL MENOR PRECIO Y EN EL EVENTO DE NO CUMPLIR CON LOS REQUISITOS EXIGIDOS, SE PROCEDERÁ A EVALUAR LA OFERTA QUE ESTE EN EL SEGUNDO ORDEN Y ASI SUCESIVAMENTE.
AB27: ASEGURADORA COLSEGUROS S. A.
AB28: ASEGURADORA SOLIDARIA DE COLOMBIA LTDA. ENTIDAD COOPERATIVA SOLIDARIA
AB29: BBVA SEGUROS COLOMBIA S.A. / BBVA SEGUROS
AB30: CARDIF COLOMBIA SEGUROS GENERALES S.A.
AB31: CHARTIS SEGUROS COLOMBIA S.A. / CHARTIS COLOMBIA / CHARTIS SEGUROS / CHARTIS
AB32: CHUBB DE COLOMBIA COMPAÑÍA DE SEGUROS S.A.
AB33: COMPAÑÍA ASEGURADORA DE FIANZAS S.A., CONFIANZA / CONFIANZA S.A.
AB34: COMPAÑÍA DE SEGUROS BOLÍVAR S.A.
AB35: COMPAÑÍA MUNDIAL DE SEGUROS S.A.
AB36: CÓNDOR S.A. COMPAÑÍA DE SEGUROS GENERALES
AB37: ECO SEGUROS S.A.
AB38: GENERALI COLOMBIA-SEGUROS GENERALES S.A
... AB54: SKANDIA COMPAÑÍA DE SEGUROS DE VIDA S.A.

Sheet ROSARIO VARGAS
A7: =+'Acta de cierre y listado'!R7 -> MINIMA CUANTÍA N° | E7: =+'Acta de cierre y listado'!S7 -> 23 DE 2022
A8: ANÁLISIS JURÍDICO
A9: OBJETO: | B9: =+'Acta de cierre y listado'!B9:E9 -> Suministro de elementos de dotación de vestuario para los funcionarios de la Superintendencia de Industria y Comercio, que por ley tengan derecho
A10: PRESUPUESTO OFICIAL: | F10: 33513336 | H10: =ROUNDDOWN(F10*10%,0) -> 3351333
A11: FECHA DE CIERRE | F11: =+'Acta de cierre y listado'!C12 -> 29 de julio de 2022
A12: NOMBRE DEL PROPONENTE
A13: ='Acta de cierre y listado'!B15 -> ROSARIO VANEGAS NIETO | J13: 1
A14: 2.3. REQUISITOS JURÍDICOS - CONTENIDO SOBRE 1 | B14: REQUERIMIENTO | E14: OBSERVACIÓN | J14: 0
A15: 1, MANIFESTACIÓN DE INTERÉS EN PARTICIPAR | B15: NO APLICA | C15: =IF(B15=H23,$H$15,IF(B15=H24,$H$18,IF(B15=H25,$H$19))) -> NO APLICA | G15: =IF($C$15=H27,J13,J14) -> 0 | H15: CUMPLE | I15: 30 | J15: =DAYS360(B23,F11) -> #VALUE!
A16: 2.- PRESENTACIÓN DE LA PROPUESTA (ANEXO 1) | B16: SI | C16: =IF(B16=H23,$H$15,IF(B16=H24,$H$18,IF(B16=I24,$H$32))) -> CUMPLE | G16: =IF($C$16=H27,J13,J14) -> 0
A17: 2.1. Firma el Representante Legal, suplente, apoderado o avalista | B17: SI | C17: =IF(B17=H24,$H$18,IF(B17=H23,$H15)) -> CUMPLE | G17: =IF($C$17=H27,J13,J14) -> 0
C18: =IF(B18=H23,$H$15,IF(B18=H24,$H$18,IF(B18=H24,$H$19))) -> FALSE | H18: NO CUMPLE | I18: 91 | J18: =DAYS360(F11,B29)+1 -> #VALUE!
C19: =IF(B19=H23,$H$15,IF(B19=H24,$H18)) -> FALSE | G19: =IF($C$19=H27,J13,J14) -> 0 | H19: NO APLICA | I19: 30 | J19: =DAYS360(B33,F11)+1 -> #VALUE!
A20: 2.2. Certificado de vigencia matricula profesional. (En procesos de obra) | B20: NO APLICA | G20: =IF($B$20=H27,J13,J14) -> 0 | H20: NO APLICA
A21: 2.3. Fotocopia de la cédula de ciudadanía de quien firma la propuesta | B21: PRESENTA | H21: PRESENTA | J21: =DAYS360(B33,F11) -> #VALUE!
A22: 3.- CERTIFICADO DE EXISTENCIA Y REPRESENTACIÓN LEGAL O MATRICULA MERCANTIL PERSONA NATURAL (30 DÍAS DE EXPEDICIÓN) | B22: FECHA DE EXPEDICIÓN | C22: CUMPLE | E22: SE VERIFICO LA INFORMACION EN EL REGISTRO UNICO EMPRESARIAL - RUES | G22: =IF($C$22=H27,J13,J14) -> 0 | H22: NO PRESENTA
B23: 44694 | H23: SI | N23: NO PRESENTA
A24: 3.1- OBJETO SOCIAL DE LA EMPRESA (RELACIONADO CON EL OBJETO A CONTRATAR) | B24: CUMPLE | G24: =IF($B$24=H27,J13,J14) -> 0 | H24: NO | N24: CONSULTA WEB
A25: 3.2- AUTORIZACIÓN DEL ÓRGANO CORRESPONDIENTE | B25: NO REQUIERE | G25: =IF($B$25=H27,J13,J14) -> 0 | H25: NO APLICA | N25: PRESENTA
A26: 4.- DOCUMENTO CONSORCIO O UNIÓN TEMPORAL | B26: NO APLICA | G26: =IF($B$26=H27,J13,J14) -> 0 | H26: CUMPLE | N26: HABILITADO
A27: 4.1. Duración del Consorcio o Unión Temporal | B27: NO APLICA | G27: =IF($B$27=H27,J13,J14) -> 0 | H27: NO CUMPLE | N27: NO HABILITADO
A28: 4. GARANTIA DE SERIEDAD DE LA OFERTA | B28: NO APLICA | G28: =IF($B$28=H22,J13,J14) -> 0 | H28: NO REQUIERE
A29: 4.1 VIGENCIA HASTA | C29: =IF(B28=H19,H20,IF(J18<$I$18,$H$18,$H$15)) -> NO APLICA | G29: =IF($C$29=H27,J13,J14) -> 0 | H29: HABILITADO
A30: 4.2. VALOR ASEGURADO | C30: =IF(B28=H19,H20,IF(B30<$H$10,$H$18,$H$15)) -> NO APLICA | G30: =IF($C$30=H27,J13,J14) -> 0 | H30: NO HABILITADO
A31: 5.- COMPROMISO ANTICORRUPCIÓN (ANEXO No. 3) | B31: NO APLICA | G31: =IF($B$31=H27,J13,J14) -> 0
A32: 5. CERTIFICACIÓN DE PAGOS DE SEGURIDAD SOCIAL Y PARAFISCALES PERSONA JURÍDICA O PERSONA NATURAL. | B32: CUMPLE | E32: VERIFICADA LA OFERTA, SE OBSERVO QUE NO SE ENCONTRABA ADJUNTO EL ANEXO No. 5, POR LO QUE AL SER UN REQUISITO HABILITANTE SE LE SOLICITO A TRAVÉS DE LA PLATAFORMA SECOP II DEL PROCESO, EL CITADO ANEXO. EL PROPONENTE EN MENSAJE ENVIADO POR LA CITADA PLATAFORMA ADJUNTO EL CITADO ANEXO CUMPLIENDO CON LO REQUERIDO EN LA INVITACIÓN PÚBLICA. | G32: =IF($B$32=H27,J13,J14) -> 0 | H32: FALSE
A33: 6. REGISTRO ÚNICO DE PROPONENTES. FECHA DE EXPEDICIÓN | C33: NO APLICA | G33: =IF(C33=H27,J13,J14) -> 0
A34: 6.1. INSCRITO, RENOVADO Y EN FIRME | G34: =IF($B$34=H27,J13,J14) -> 0
A35: 7. ANTECEDENTES DE LA PROCURADURÍA Y PENALES | B35: NO PRESENTA | C35: CUMPLE | E35: VERIFICADOS POR LA ENTIDAD | G35: =IF($C$35=H27,J13,J14) -> 0
A36: 10.- BOLETÍN DE RESPONSABLES FISCALES - CGR
A40: 8. CERTIFICADO DE CONTRALORÍA | B40: NO PRESENTA | C40: CUMPLE | E40: VERIFICADOS POR LA ENTIDAD | G40: =IF($C$40=H27,J13,J14) -> 0
A41: 10. FORMATO MULTAS | B41: NO APLICA | G41: =IF($B$41=H22,J13,J14) -> 0
A49: 9. CERTIFICACIÒN BANCARIA | B49: PRESENTA | C49: CUMPLE
A50: 10. RUT | B50: PRESENTA | C50: CUMPLE
A51: 11. COMPROMISO ANTICORRUPCIÒN | B51: PRESENTA | C51: CUMPLE
A52: 12.CERTIFICACIÒN DE PARTICIPACIÒN INDEPENDIENTE | B52: PRESENTA | C52: CUMPLE
A53: RESULTADO DE LA EVALUACIÓN | B53: HABILITADO | G53: =SUM(G15:G41) -> 0
O54: =+B53 -> HABILITADO

Sheet OFERTA 2
A7: =+'Acta de cierre y listado'!R7 -> MINIMA CUANTÍA N° | E7: =+'Acta de cierre y listado'!S7 -> 23 DE 2022
A8: ANÁLISIS JURÍDICO
A9: OBJETO: | B9: =+'Acta de cierre y listado'!B9:E9 -> Suministro de elementos de dotación de vestuario para los funcionarios de la Superintendencia de Industria y Comercio, que por ley tengan derecho
A10: PRESUPUESTO OFICIAL: | F10: =+'Acta de cierre y listado'!E10 -> 33513336 | H10: =ROUNDDOWN(F10*10%,0) -> 3351333
A11: FECHA DE CIERRE | F11: =+'Acta de cierre y listado'!C12 -> 29 de julio de 2022
A12: NOMBRE DEL PROPONENTE
J13: 1
A14: 2.3. REQUISITOS JURÍDICOS - CONTENIDO SOBRE 1 | B14: REQUERIMIENTO | E14: OBSERVACIÓN | J14: 0
A15: 1, MANIFESTACIÓN DE INTERÉS EN PARTICIPAR | B15: NO APLICA | C15: =IF(B15=H23,$H$15,IF(B15=H24,$H$18,IF(B15=H25,$H$19))) -> NO APLICA | G15: =IF($C$15=H27,J13,J14) -> 0 | H15: CUMPLE | I15: 30 | J15: =DAYS360(B23,F11) -> #VALUE!
A16: 2.- PRESENTACIÓN DE LA PROPUESTA (ANEXO 1 ) | B16: SI | C16: =IF(B16=H23,$H$15,IF(B16=H24,$H$18,IF(B16=I24,$H$32))) -> CUMPLE | E16: Mediante comunicaciòn del 22/09/2016,se requerio el oferente por no haber diligenciado el Anexo 1 debidamente, sin embargo mediante comunicaciòn de 23 de seprtiembre de 2016, anexò el documento debiamente diligenciado | G16: =IF($C$16=H27,J13,J14) -> 0
A17: 2.1. Firma el Representante Legal, suplente, apoderado o avalista | B17: SI | C17: =IF(B17=H24,$H$18,IF(B17=H23,$H15)) -> CUMPLE | G17: =IF($C$17=H27,J13,J14) -> 0
C18: =IF(B18=H23,$H$15,IF(B18=H24,$H$18,IF(B18=H24,$H$19))) -> FALSE | H18: NO CUMPLE | I18: 91 | J18: =DAYS360(F11,B29)+1 -> #VALUE!
C19: =IF(B19=H23,$H$15,IF(B19=H24,$H18)) -> FALSE | G19: =IF($C$19=H27,J13,J14) -> 0 | H19: NO APLICA | I19: 30 | J19: =DAYS360(B33,F11)+1 -> #VALUE!
A20: 2.2. Certificado de vigencia matricula profesional. (En procesos de obra) | B20: NO APLICA | G20: =IF($B$20=H27,J13,J14) -> 0 | H20: NO APLICA
A21: 2.3. Fotocopia de la cédula de ciudadanía de quien firma la propuesta | B21: PRESENTA | H21: PRESENTA | J21: =DAYS360(B33,F11) -> #VALUE!
A22: 3.- CERTIFICADO DE EXISTENCIA Y REPRESENTACIÓN LEGAL O MATRICULA MERCANTIL PERSONA NATURAL (30 DÍAS DE EXPEDICIÓN) | B22: FECHA DE EXPEDICIÓN | C22: =IF(B23=H31,H32,IF(J15>$I$15,$H$18,$H$15)) -> #VALUE! | G22: =IF($C$22=H27,J13,J14) -> #VALUE! | H22: NO PRESENTA
B23: 42613 | H23: SI | N23: NO PRESENTA
A24: 3.1- OBJETO SOCIAL DE LA EMPRESA (RELACIONADO CON EL OBJETO A CONTRATAR) | B24: CUMPLE | G24: =IF($B$24=H27,J13,J14) -> 0 | H24: NO | N24: CONSULTA WEB
A25: 3.2- AUTORIZACIÓN DEL ÓRGANO CORRESPONDIENTE | B25: NO REQUIERE | G25: =IF($B$25=H27,J13,J14) -> 0 | H25: NO APLICA | N25: PRESENTA
A26: 4.- DOCUMENTO CONSORCIO O UNIÓN TEMPORAL | G26: =IF($B$26=H27,J13,J14) -> 0 | H26: CUMPLE | N26: HABILITADO
A27: 4.1. Duración del Consorcio o Unión Temporal | G27: =IF($B$27=H27,J13,J14) -> 0 | H27: NO CUMPLE | N27: NO HABILITADO
A28: 4. GARANTIA DE SERIEDAD DE LA OFERTA | B28: NO APLICA | G28: =IF($B$28=H22,J13,J14) -> 0 | H28: NO REQUIERE
A29: 4.1 VIGENCIA HASTA | C29: =IF(B28=H19,H20,IF(J18<$I$18,$H$18,$H$15)) -> NO APLICA | G29: =IF($C$29=H27,J13,J14) -> 0 | H29: HABILITADO
A30: 4.2. VALOR ASEGURADO | C30: =IF(B28=H19,H20,IF(B30<$H$10,$H$18,$H$15)) -> NO APLICA | G30: =IF($C$30=H27,J13,J14) -> 0 | H30: NO HABILITADO
A31: 5.- COMPROMISO ANTICORRUPCIÓN (ANEXO No. 3) | B31: NO APLICA | G31: =IF($B$31=H27,J13,J14) -> 0
A32: 6. CERTIFICACIÓN DE PAGOS DE SEGURIDAD SOCIAL Y PARAFISCALES PERSONA JURÍDICA O PERSONA NATURAL. | B32: CUMPLE | G32: =IF($B$32=H27,J13,J14) -> 0 | H32: FALSE
A33: 7. REGISTRO ÚNICO DE PROPONENTES. FECHA DE EXPEDICIÓN | C33: =IF(B33=H31,H32,IF(J21>$I$15,$H$18,$H$15)) -> FALSE | G33: =IF(C33=H27,J13,J14) -> 0
A34: 7.1. INSCRITO, RENOVADO Y EN FIRME | G34: =IF($B$34=H27,J13,J14) -> 0
A35: 8. ANTECEDENTES DE LA PROCURADURÍA Y PENALES | B35: PRESENTA | C35: CUMPLE | G35: =IF($C$35=H27,J13,J14) -> 0
A36: 10.- BOLETÍN DE RESPONSABLES FISCALES - CGR
A40: 9. CERTIFICADO DE CONTRALORÍA | B40: PRESENTA | C40: CUMPLE | G40: =IF($C$40=H27,J13,J14) -> 0
A41: 10. FORMATO MULTAS | B41: NO APLICA | G41: =IF($B$41=H22,J13,J14) -> 0
A49: 10. CERTIFICACIÒN BANCARIA | B49: PRESENTA | C49: CUMPLE
A50: 11. RUT | B50: PRESENTA | C50: CUMPLE | E50: Mediante comunicaciòn del 22/09/2016,se requerio el oferente toda vez que el documento aportado no pudo verificarse, sin embargo mediante comunicaciòn de 23 de seprtiembre de 2016, anexò el documento.
A51: 12. COMPROMISO ANTICORRUPCIÒN | B51: PRESENTA | C51: CUMPLE
A52: 13.CERTIFICACIÒN DE PARTICIPACIÒN INDEPENDIENTE | B52: PRESENTA | C52: CUMPLE | E52: Mediante comunicaciòn del 22/09/2016,se requerio el oferente por no haber diligenciado el Anexo 6 debidamente, sin embargo mediante comunicaciòn de 23 de seprtiembre de 2016, anexò el documento debiamente diligenciado
A53: RESULTADO DE LA EVALUACIÓN | B53: =IF($G$53=J14,H29,H30) -> #VALUE! | G53: =SUM(G15:G41) -> #VALUE!
O54: =+B53 -> #VALUE!
A55: KRA 13 No 27-00 piso 3
A56: Conmutador (57 1) 5870000
...

Sheet OFERTA 3
A7: =+'Acta de cierre y listado'!R7 -> MINIMA CUANTÍA N° | E7: =+'Acta de cierre y listado'!S7 -> 23 DE 2022
A8: ANÁLISIS JURÍDICO
A9: OBJETO: | B9: =+'Acta de cierre y listado'!B9:E9 -> Suministro de elementos de dotación de vestuario para los funcionarios de la Superintendencia de Industria y Comercio, que por ley tengan derecho
A10: PRESUPUESTO OFICIAL: | F10: =+'Acta de cierre y listado'!E10 -> 33513336 | H10: =ROUNDDOWN(F10*10%,0) -> 3351333
A11: FECHA DE CIERRE | F11: =+'Acta de cierre y listado'!C12 -> 29 de julio de 2022
A12: NOMBRE DEL PROPONENTE
J13: 1
A14: 2.3. REQUISITOS JURÍDICOS - CONTENIDO SOBRE 1 | B14: REQUERIMIENTO | E14: OBSERVACIÓN | J14: 0
A15: 1, MANIFESTACIÓN DE INTERÉS EN PARTICIPAR | B15: NO APLICA | C15: =IF(B15=H23,$H$15,IF(B15=H24,$H$18,IF(B15=H25,$H$19))) -> NO APLICA | G15: =IF($C$15=H27,J13,J14) -> 0 | H15: CUMPLE | I15: 30 | J15: =DAYS360(B23,F11) -> #VALUE!
A16: 2.- PRESENTACIÓN DE LA PROPUESTA (ANEXO 1 ) | B16: SI | C16: =IF(B16=H23,$H$15,IF(B16=H24,$H$18,IF(B16=I24,$H$32))) -> CUMPLE | E16: Mediante comunicaciòn del 2/09/2016,se requerio el oferente por no haber diligenciado el Anexo 1 debidamente, sin embargo mediante comunicaciòn de 23 de seprtiembre de 2016, anexò el documento debiamente diligenciado | G16: =IF($C$16=H27,J13,J14) -> 0
A17: 2.1. Firma el Representante Legal, suplente, apoderado o avalista | B17: SI | C17: =IF(B17=H24,$H$18,IF(B17=H23,$H15)) -> CUMPLE | G17: =IF($C$17=H27,J13,J14) -> 0
C18: =IF(B18=H23,$H$15,IF(B18=H24,$H$18,IF(B18=H24,$H$19))) -> FALSE | H18: NO CUMPLE | I18: 91 | J18: =DAYS360(F11,B29)+1 -> #VALUE!
C19: =IF(B19=H23,$H$15,IF(B19=H24,$H18)) -> FALSE | G19: =IF($C$19=H27,J13,J14) -> 0 | H19: NO APLICA | I19: 30 | J19: =DAYS360(B33,F11)+1 -> #VALUE!
A20: 2.2. Certificado de vigencia matricula profesional. (En procesos de obra) | B20: NO APLICA | G20: =IF($B$20=H27,J13,J14) -> 0 | H20: NO APLICA
A21: 2.3. Fotocopia de la cédula de ciudadanía de quien firma la propuesta | B21: PRESENTA | H21: PRESENTA | J21: =DAYS360(B33,F11) -> #VALUE!
A22: 3.- CERTIFICADO DE EXISTENCIA Y REPRESENTACIÓN LEGAL O MATRICULA MERCANTIL PERSONA NATURAL (30 DÍAS DE EXPEDICIÓN) | B22: FECHA DE EXPEDICIÓN | C22: =IF(B23=H31,H32,IF(J15>$I$15,$H$18,$H$15)) -> #VALUE! | G22: =IF($C$22=H27,J13,J14) -> #VALUE! | H22: NO PRESENTA
B23: 42613 | H23: SI | N23: NO PRESENTA
A24: 3.1- OBJETO SOCIAL DE LA EMPRESA (RELACIONADO CON EL OBJETO A CONTRATAR) | B24: CUMPLE | G24: =IF($B$24=H27,J13,J14) -> 0 | H24: NO | N24: CONSULTA WEB
A25: 3.2- AUTORIZACIÓN DEL ÓRGANO CORRESPONDIENTE | B25: NO REQUIERE | G25: =IF($B$25=H27,J13,J14) -> 0 | H25: NO APLICA | N25: PRESENTA
A26: 4.- DOCUMENTO CONSORCIO O UNIÓN TEMPORAL | G26: =IF($B$26=H27,J13,J14) -> 0 | H26: CUMPLE | N26: HABILITADO
A27: 4.1. Duración del Consorcio o Unión Temporal | G27: =IF($B$27=H27,J13,J14) -> 0 | H27: NO CUMPLE | N27: NO HABILITADO
A28: 4. GARANTIA DE SERIEDAD DE LA OFERTA | B28: NO APLICA | G28: =IF($B$28=H22,J13,J14) -> 0 | H28: NO REQUIERE
A29: 4.1 VIGENCIA HASTA | C29: =IF(B28=H19,H20,IF(J18<$I$18,$H$18,$H$15)) -> NO APLICA | G29: =IF($C$29=H27,J13,J14) -> 0 | H29: HABILITADO
A30: 4.2. VALOR ASEGURADO | C30: =IF(B28=H19,H20,IF(B30<$H$10,$H$18,$H$15)) -> NO APLICA | G30: =IF($C$30=H27,J13,J14) -> 0 | H30: NO HABILITADO
A31: 5.- COMPROMISO ANTICORRUPCIÓN (ANEXO No. 3) | B31: NO APLICA | G31: =IF($B$31=H27,J13,J14) -> 0
A32: 6. CERTIFICACIÓN DE PAGOS DE SEGURIDAD SOCIAL Y PARAFISCALES PERSONA JURÍDICA O PERSONA NATURAL. | B32: CUMPLE | G32: =IF($B$32=H27,J13,J14) -> 0 | H32: FALSE
A33: 7. REGISTRO ÚNICO DE PROPONENTES. FECHA DE EXPEDICIÓN | C33: =IF(B33=H31,H32,IF(J21>$I$15,$H$18,$H$15)) -> FALSE | G33: =IF(C33=H27,J13,J14) -> 0
A34: 7.1. INSCRITO, RENOVADO Y EN FIRME | G34: =IF($B$34=H27,J13,J14) -> 0
A35: 8. ANTECEDENTES DE LA PROCURADURÍA Y PENALES | B35: PRESENTA | C35: CUMPLE | G35: =IF($C$35=H27,J13,J14) -> 0
A36: 10.- BOLETÍN DE RESPONSABLES FISCALES - CGR
A40: 9. CERTIFICADO DE CONTRALORÍA | B40: PRESENTA | C40: CUMPLE | G40: =IF($C$40=H27,J13,J14) -> 0
A41: 10. FORMATO MULTAS | B41: NO APLICA | G41: =IF($B$41=H22,J13,J14) -> 0
A49: 10. CERTIFICACIÒN BANCARIA | B49: PRESENTA | C49: CUMPLE
A50: 11. RUT | B50: PRESENTA | C50: CUMPLE | E50: Mediante comunicaciòn del 22/09/2016,se requerio el oferente toda vez que el documento aportado no pudo verificarse, sin embargo mediante comunicaciòn de 23 de seprtiembre de 2016, anexò el documento.
A51: 12. COMPROMISO ANTICORRUPCIÒN | B51: PRESENTA | C51: CUMPLE
A52: 13.CERTIFICACIÒN DE PARTICIPACIÒN INDEPENDIENTE | B52: PRESENTA | C52: CUMPLE | E52: Mediante comunicaciòn del 22/09/2016,se requerio el oferente por no haber diligenciado el Anexo 6 debidamente, sin embargo mediante comunicaciòn de 23 de seprtiembre de 2016, anexò el documento debiamente diligenciado
A53: RESULTADO DE LA EVALUACIÓN | B53: =IF($G$53=J14,H29,H30) -> #VALUE! | G53: =SUM(G15:G41) -> #VALUE!
O54: =+B53 -> #VALUE!
A55: KRA 13 No 27-00 piso 3
A56: Conmutador (57 1) 5870000
...

Sheet 2
A7: =+'Acta de cierre y listado'!R7 -> MINIMA CUANTÍA N° | E7: =+'Acta de cierre y listado'!S7 -> 23 DE 2022
A8: ANÁLISIS JURÍDICO
A9: OBJETO: | B9: =+'Acta de cierre y listado'!B9:E9 -> Suministro de elementos de dotación de vestuario para los funcionarios de la Superintendencia de Industria y Comercio, que por ley tengan derecho
A10: PRESUPUESTO OFICIAL: | F10: =+'Acta de cierre y listado'!E10 -> 33513336 | H10: =ROUNDDOWN(F10*10%,0) -> 3351333
A11: FECHA DE CIERRE | F11: =+'Acta de cierre y listado'!C12 -> 29 de julio de 2022
A12: NOMBRE DEL PROPONENTE
J13: 1
A14: 2.3. REQUISITOS JURÍDICOS - CONTENIDO SOBRE 1 | B14: REQUERIMIENTO | D14: FOLIOS | E14: OBSERVACIÓN | J14: 0
A15: 1, MANIFESTACIÓN DE INTERÉS EN PARTICIPAR | C15: =IF(B15=H23,$H$15,IF(B15=H24,$H$18,IF(B15=H25,$H$19))) -> FALSE | G15: =IF($C$15=H27,J13,J14) -> 0 | H15: CUMPLE | I15: 30 | J15: =DAYS360(B23,F11) -> #VALUE!
A16: 2.- PRESENTACIÓN DE LA PROPUESTA (ANEXO 1 ) | C16: =IF(B16=H23,$H$15,IF(B16=H24,$H$18,IF(B16=I24,$H$32))) -> FALSE | G16: =IF($C$16=H27,J13,J14) -> 0
A17: 2.1. Firma el Representante Legal, suplente, apoderado o avalista | C17: =IF(B17=H24,$H$18,IF(B17=H23,$H15)) -> FALSE | G17: =IF($C$17=H27,J13,J14) -> 0
C18: =IF(B18=H23,$H$15,IF(B18=H24,$H$18,IF(B18=H24,$H$19))) -> FALSE | H18: NO CUMPLE | I18: 91 | J18: =DAYS360(F11,B29)+1 -> #VALUE!
C19: =IF(B19=H23,$H$15,IF(B19=H24,$H18)) -> FALSE | G19: =IF($C$19=H27,J13,J14) -> 0 | H19: NO APLICA | I19: 30 | J19: =DAYS360(B33,F11)+1 -> #VALUE!
A20: 2.2. Certificado de vigencia matricula profesional. (En procesos de obra) | G20: =IF($B$20=H27,J13,J14) -> 0 | H20: NO APLICA
A21: 2.3. Fotocopia de la cédula de ciudadanía de quien firma la propuesta | B21: PRESENTA | H21: PRESENTA | J21: =DAYS360(B33,F11) -> #VALUE!
A22: 3.- CERTIFICADO DE EXISTENCIA Y REPRESENTACIÓN LEGAL O MATRICULA MERCANTIL PERSONA NATURAL (30 DÍAS DE EXPEDICIÓN) | B22: FECHA DE EXPEDICIÓN | C22: =IF(B23=H31,H32,IF(J15>$I$15,$H$18,$H$15)) -> FALSE | G22: =IF($C$22=H27,J13,J14) -> 0 | H22: NO PRESENTA
H23: SI | N23: NO PRESENTA
A24: 3.1- OBJETO SOCIAL DE LA EMPRESA (RELACIONADO CON EL OBJETO A CONTRATAR) | G24: =IF($B$24=H27,J13,J14) -> 0 | H24: NO | N24: CONSULTA WEB
A25: 3.2- AUTORIZACIÓN DEL ÓRGANO CORRESPONDIENTE | G25: =IF($B$25=H27,J13,J14) -> 0 | H25: NO APLICA | N25: PRESENTA
A26: 4.- DOCUMENTO CONSORCIO O UNIÓN TEMPORAL | G26: =IF($B$26=H27,J13,J14) -> 0 | H26: CUMPLE | N26: HABILITADO
A27: 4.1. Duración del Consorcio o Unión Temporal | G27: =IF($B$27=H27,J13,J14) -> 0 | H27: NO CUMPLE | N27: NO HABILITADO
A28: 4. GARANTIA DE SERIEDAD DE LA OFERTA | B28: NO APLICA | G28: =IF($B$28=H22,J13,J14) -> 0 | H28: NO REQUIERE
A29: 4.1 VIGENCIA HASTA | C29: =IF(B28=H19,H20,IF(J18<$I$18,$H$18,$H$15)) -> NO APLICA | G29: =IF($C$29=H27,J13,J14) -> 0 | H29: HABILITADO
A30: 4.2. VALOR ASEGURADO | C30: =IF(B28=H19,H20,IF(B30<$H$10,$H$18,$H$15)) -> NO APLICA | G30: =IF($C$30=H27,J13,J14) -> 0 | H30: NO HABILITADO
A31: 5.- COMPROMISO ANTICORRUPCIÓN (ANEXO No. 3) | G31: =IF($B$31=H27,J13,J14) -> 0
A32: 6. CERTIFICACIÓN DE PAGOS DE SEGURIDAD SOCIAL Y PARAFISCALES PERSONA JURÍDICA O PERSONA NATURAL. | G32: =IF($B$32=H27,J13,J14) -> 0 | H32: FALSE
A33: 7. REGISTRO ÚNICO DE PROPONENTES. FECHA DE EXPEDICIÓN | C33: =IF(B33=H31,H32,IF(J21>$I$15,$H$18,$H$15)) -> FALSE | G33: =IF(C33=H27,J13,J14) -> 0
A34: 7.1. INSCRITO, RENOVADO Y EN FIRME | G34: =IF($B$34=H27,J13,J14) -> 0
A35: 8. ANTECEDENTES DE LA PROCURADURÍA | G35: =IF($C$35=H27,J13,J14) -> 0
A36: 10.- BOLETÍN DE RESPONSABLES FISCALES - CGR
A40: 9. CERTIFICADO DE CONTRALORÍA | G40: =IF($C$40=H27,J13,J14) -> 0
A41: 10. FORMATO MULTAS | G41: =IF($B$41=H22,J13,J14) -> 0
A49: RESULTADO DE LA EVALUACIÓN | B49: =IF($G$49=J14,H29,H30) -> HABILITADO | G49: =SUM(G15:G41) -> 0
O50: =+B49 -> HABILITADO
A51: Carrera 8ª No. 8-55 Bogotá, Colombia
A52: Conmutador (57 1) 342 4100
A53: www.mincultura.gov.co

Sheet 3
A7: =+'Acta de cierre y listado'!#REF! -> #REF! | E7: =+'Acta de cierre y listado'!#REF! -> #REF!
A8: ANÁLISIS JURÍDICO
A9: OBJETO: | B9: =+'Acta de cierre y listado'!B9:E9 -> Suministro de elementos de dotación de vestuario para los funcionarios de la Superintendencia de Industria y Comercio, que por ley tengan derecho
A10: PRESUPUESTO OFICIAL: | F10: =+'Acta de cierre y listado'!E10 -> 33513336 | H10: =ROUNDDOWN(F10*10%,0) -> 3351333
A11: FECHA DE CIERRE | F11: =+'Acta de cierre y listado'!C12 -> 29 de julio de 2022
A12: NOMBRE DEL PROPONENTE
J13: 1
A14: REQUISITOS JURÍDICOS - CONTENIDO SOBRE 1 | B14: REQUERIMIENTO | D14: FOLIOS | E14: OBSERVACIÓN | J14: 0
A15: 1, MANIFESTACIÓN DE INTERÉS EN PARTICIPAR | C15: =IF(B15=H31,$H$15,IF(B15=H32,$H$16,IF(B15=H33,$H$17))) -> FALSE | G15: =IF($C$15=H35,J13,J14) -> 0 | H15: CUMPLE | I15: 30 | J15: =DAYS360(F11,B31)+1 -> #VALUE!
A16: 2.- PRESENTACIÓN DE LA PROPUESTA (ANEXO 1 ) | C16: =IF(B16=H31,$H$15,IF(B16=H32,$H$16,IF(B16=H32,$H$17))) -> FALSE | G16: =IF(C16=H35,J13,J14) -> 0 | H16: NO CUMPLE | I16: 90 | J16: =DAYS360(F11,B23) -> #VALUE!
A17: 2.1. Firma el Representante Legal, suplente, apoderado o avalista | B17: SI | C17: =IF(B17=H31,$H$15,IF(B17=H32,$H16)) -> CUMPLE | G17: =IF(C17=H35,J13,J14) -> 0 | H17: NO APLICA | I17: 30 | J17: =DAYS360(B31,F11)+1 -> #VALUE!
A18: 2.2. Certificado de vigencia de matricula profesional. (En procesos de obra) | B18: CUMPLE | G18: =IF($B$18=H35,J13,J14) -> 0 | H18: NO APLICA
A19: 2.3. Fotocopia de la cédula de ciudadanía de quien firma la propuesta | H19: PRESENTA
A20: 3. DOCUMENTO DE CONSTITUCIÓN UNION TEMPORAL O CONSORCIO | G20: =IF($B$20=H35,J13,J14) -> 0 | H20: NO PRESENTA
A21: 3.1. Duración de la Unión Temporal o Consorcio | G21: =IF($B$21=H35,J13,J14) -> 0
A22: 4. GARANTIA DE SERIEDAD DE LA OFERTA | B22: NO APLICA | G22: =IF($B$22=H20,J13,J14) -> 0 | H22: HABILITADO
A23: 5.1. Vigencia Hasta | C23: =IF(B22=H17,H18,IF(I16<$J$16,$H$15,$H$16)) -> NO APLICA | G23: =IF($C$23=H35,J13,J14) -> 0 | H23: NO HABILITADO
A24: 5.2. Valor Asegurado | C24: =IF(B22=H17,H18,IF(B24<$H$10,$H$16,$H$15)) -> NO APLICA | G24: =IF($C$24=H35,J13,J14) -> 0
A25: RESULTADO DE EVALUACIÓN DEL PROPONENTE PLURAL | E25: =IF($G$25=J14,H22,H23) -> HABILITADO | G25: =SUM(G15:G24) -> 0
A27: EVALUACIÓN INTEGRANTES DEL PROPONENTE PLURAL
A28: NOMBRE DEL INTEGRANTE 1
A30: 1.- CERTIFICADO DE EXISTENCIA Y REPRESENTACIÓN LEGAL O MATRICULA MERCANTIL PERSONA NATURAL (30 DÍAS DE EXPEDICIÓN) FECHA DE EXPEDICIÓN | G30: =IF($B$30=H20,J13,J14) -> 0
C31: =IF(B31=H38,H39,IF(I31>$J$31,$H$16,$H$15)) -> FALSE | G31: =IF($C$31=H35,J13,J14) -> 0 | H31: SI | I31: =DAYS360(B31,F11) -> #VALUE! | J31: 30
A32: 1.1- Objeto Social de la Firma (RELACIONADO CON EL OBJETO A CONTRATAR) | B32: CUMPLE | G32: =IF($B$32=H35,J13,J14) -> 0 | H32: NO | I32: =DAYS360(B37,F11) -> #VALUE! | J32: 31 | N32: CONSULTA WEB
A33: 1.2- Autorización del organo Competente | G33: =IF($B$33=H35,J13,J14) -> 0 | H33: NO APLICA | N33: PRESENTA
A34: 2.- CERTIFICACIÓN DE PAGOS DE SEGURIDAD SOCIAL Y PARAFISCALES PERSONA JURÍDICA O PERSONA NATURAL. (Anexo 2, 2a, 2b, 2c, 2d) | G34: =IF($B$34=H35,J13,J14) -> 0 | H34: CUMPLE | N34: HABILITADO
A35: 3. COMPROMISO ANTICORRUPCIÓN. (Anexo 3) | G35: =IF($B$35=H35,J13,J14) -> 0 | H35: NO CUMPLE | N35: NO HABILITADO
A36: 4. REGISTRO ÚNICO DE PROPONENTES. Inscrito, Renovado y en Firne. | G36: =IF($B$36=H35,J13,J14) -> 0 | H36: NO REQUIERE
A37: 4.1.Fecha de Expedición | C37: =IF(B36=H38,H39,IF(I32<$J$32,$H$15,$H$16)) -> FALSE | G37: =IF($C$37=H35,J13,J14) -> 0 | H37: HABILITADO
A38: 5. ANTECEDENTES DE LA PROCURADURÍA | G38: =IF($C$38=H35,J13,J14) -> 0
A39: 6.- BOLETÍN DE RESPONSABLES FISCALES - CGR | G39: =IF($C$39=H35,J13,J14) -> 0 | H39: FALSE
A40: 8. FORMATO MULTAS | B40: NO APLICA | G40: =IF($B$40=H20,J13,J14) -> 0
A41: RESULTADO | B41: =IF($G$41=J14,H22,H23) -> HABILITADO | G41: =SUM(G30:G40) -> 0
A44: 1.- CERTIFICADO DE EXISTENCIA Y REPRESENTACIÓN LEGAL O MATRICULA MERCANTIL PERSONA NATURAL (30 DÍAS DE EXPEDICIÓN) FECHA DE EXPEDICIÓN | G44: =IF($B$44=H20,J13,J14) -> 0
C45: =IF(B45=H38,H39,IF(I45>$J$32,$H$16,$H$15)) -> FALSE | G45: =IF($C$45=H16,J13,J14) -> 0 | I45: =DAYS360(B45,F11)+1 -> #VALUE! | O45: =+B41 -> HABILITADO
A46: 1.1- Objeto Social de la Firma (RELACIONADO CON EL OBJETO A CONTRATAR) | G46: =IF($C$46=H16,J13,J14) -> 0
A47: 1.2- Autorización del organo Competente | G47: =IF($B$47=H16,J13,J14) -> 0
A48: 2.- CERTIFICACIÓN DE PAGOS DE SEGURIDAD SOCIAL Y PARAFISCALES PERSONA JURÍDICA O PERSONA NATURAL. (Anexo 2, 2a, 2b, 2c, 2d) | G48: =IF($B$48=H16,J13,J14) -> 0
A49: 3. COMPROMISO ANTICORRUPCIÓN. (Anexo 3) | G49: =IF($B$49=H16,J13,J14) -> 0
A50: 4. REGISTRO ÚNICO DE PROPONENTES. Inscrito, Renovado y en Firne. | G50: =IF($B$50=H16,J13,J14) -> 0 | I50: =DAYS360(B51,F11) -> #VALUE! | J50: 31
...

Sheet RESUMEN EVALUACIÓN
A7: ='Acta de cierre y listado'!B7 -> MINIMA CUANTÍA N° | D7: =+'Acta de cierre y listado'!D7:E7 -> 23 DE 2022
A8: ANÁLISIS JURÍDICO
A9: OBJETO: | B9: =+'Acta de cierre y listado'!B9:E9 -> Suministro de elementos de dotación de vestuario para los funcionarios de la Superintendencia de Industria y Comercio, que por ley tengan derecho
A10: RESUMEN ANÁLISIS JURÍDICO PRELIMINAR
A12: N° DE PROPUESTA | B12: PROPONENTE | C12: CALIFICACIÓN | G12: HABILITADA
A13: 1 | B13: ='Acta de cierre y listado'!B15 -> ROSARIO VANEGAS NIETO | C13: HABILITADA
G16: NO HABILITADA
A17: 2 | B17: ='Acta de cierre y listado'!#REF! -> #REF!
A18: 3 | B18: ='Acta de cierre y listado'!#REF! -> #REF!
A19: 4 | B19: ='Acta de cierre y listado'!#REF! -> #REF!
A20: 5 | B20: ='Acta de cierre y listado'!#REF! -> #REF!
A21: 6 | B21: ='Acta de cierre y listado'!#REF! -> #REF!
A22: 7 | B22: ='Acta de cierre y listado'!#REF! -> #REF!
A23: 8 | B23: ='Acta de cierre y listado'!#REF! -> #REF!
A24: 9 | B24: ='Acta de cierre y listado'!#REF! -> #REF!
A25: 10 | B25: ='Acta de cierre y listado'!#REF! -> #REF!
A26: 11 | B26: ='Acta de cierre y listado'!#REF! -> #REF!
A27: 12 | B27: ='Acta de cierre y listado'!#REF! -> #REF!
A28: 13 | B28: ='Acta de cierre y listado'!#REF! -> #REF!
... A32: 17 | B32: ='Acta de cierre y listado'!#REF! -> #REF!
B36: ='Acta de cierre y listado'!#REF! -> #REF!
A38: MARCELO BARRETO DAZA
A39: Abogado Grupo de Trabajo de Contratación
A42: LILIA ADRIANA MATIZ FLOREZ
A43: Coordinadora Grupo de Trabajo de Contratación
A47: YOLIMA ACERO MONTAÑA
A48: JORGE MARIO HERNANDEZ
A49: JORGE ARIEL HERRERA
A50: JUAN DAVID LOZANO
A51: ANDRES FELIPE RAMIREZ
A52: NICKY LAURA ECHEVERRY
A53: NELLY ESPERANZA CONTRERAS
A54: CAROLINA TORRES
... A57: MARCELO BARRETO

Sheet ORDEN ELEGIBILIDAD PRELIMINAR
B6: CONSOLIDADO PRELIMINAR N° | E6: ='Acta de cierre y listado'!D7 -> 23 DE 2022 | F6: =+'Acta de cierre y listado'!#REF! -> #REF!
A8: OBJETO: | B8: =+'RESUMEN EVALUACIÓN'!B9:D9 -> Suministro de elementos de dotación de vestuario para los funcionarios de la Superintendencia de Industria y Comercio, que por ley tengan derecho
A9: ORDEN DE ELEGIBILIDAD PRELIMINAR
L10: NO APLICA
A11: N° DE PROPONENTE | B11: PROPONENTE | C11: A. JURÍDICO | D11: A. FINANCIERO | E11: TÉCNICA Y ECONOMICA | F11: PUNTAJE EXPERIENCIA | G11: I. NACIONAL | H11: CALIDAD | I11: RESULTADO | L11: HABILITADO
A12: 1 | B12: ='Acta de cierre y listado'!B15 -> ROSARIO VANEGAS NIETO | C12: ='RESUMEN EVALUACIÓN'!C13:D13 -> HABILITADA | E12: HABILITADO | I12: HABILITADO | L12: NO HABILITADO
A13: 2 | B13: ='Acta de cierre y listado'!#REF! -> #REF! | C13: =+'RESUMEN EVALUACIÓN'!C17:D17 -> 0 | E13: HABILITADO | L13: RECHAZADO
A14: 3 | B14: ='Acta de cierre y listado'!#REF! -> #REF! | C14: =+'RESUMEN EVALUACIÓN'!C18:D18 -> 0 | E14: HABILITADO
A15: 4 | B15: ='Acta de cierre y listado'!#REF! -> #REF! | C15: =+'RESUMEN EVALUACIÓN'!C19:D19 -> 0 | E15: HABILITADO
A16: 5 | B16: ='Acta de cierre y listado'!#REF! -> #REF! | C16: =+'RESUMEN EVALUACIÓN'!C20:D20 -> 0 | E16: HABILITADO
A17: 6 | B17: ='Acta de cierre y listado'!#REF! -> #REF! | C17: =+'RESUMEN EVALUACIÓN'!C21:D21 -> 0 | E17: HABILITADO
A18: 7 | B18: ='Acta de cierre y listado'!#REF! -> #REF! | C18: =+'RESUMEN EVALUACIÓN'!C22:D22 -> 0 | E18: HABILITADO
A19: 8 | B19: ='Acta de cierre y listado'!#REF! -> #REF! | C19: =+'RESUMEN EVALUACIÓN'!C23:D23 -> 0 | E19: HABILITADO
A20: 9 | B20: ='Acta de cierre y listado'!#REF! -> #REF! | C20: =+'RESUMEN EVALUACIÓN'!C24:D24 -> 0 | E20: HABILITADO
A21: 10 | B21: ='Acta de cierre y listado'!#REF! -> #REF! | C21: =+'RESUMEN EVALUACIÓN'!C25:D25 -> 0 | E21: HABILITADO
A22: 11 | B22: ='Acta de cierre y listado'!#REF! -> #REF! | C22: =+'RESUMEN EVALUACIÓN'!C26:D26 -> 0 | E22: HABILITADO
A23: 12 | B23: ='Acta de cierre y listado'!#REF! -> #REF! | C23: =+'RESUMEN EVALUACIÓN'!C27:D27 -> 0 | E23: HABILITADO
A24: 13 | B24: ='Acta de cierre y listado'!#REF! -> #REF! | C24: =+'RESUMEN EVALUACIÓN'!C28:D28 -> 0 | E24: HABILITADO
A25: 14 | B25: ='Acta de cierre y listado'!#REF! -> #REF! | C25: =+'RESUMEN EVALUACIÓN'!C29:D29 -> 0 | E25: HABILITADO
... A28: 17 | B28: ='Acta de cierre y listado'!#REF! -> #REF! | C28: =+'RESUMEN EVALUACIÓN'!C32:D32 -> 0 | E28: HABILITADO

Sheet Hoja2

Sheet Hoja3
A4: CUMPLE
A5: NO CUMPLE
A6: NO APLICA
