Workbook
Name __________PJ50: #REF!
Name __________PJ50: #REF!
Name __________PJ50: #REF!
Name __________PJ50: #REF!
Name __________PJ50: #REF!
Name __________PJ50: #REF!
Name __________PJ50: #REF!
Name __________PJ50: #REF!
Name __________PJ50: #REF!
Name __________PJ50: #REF!
Name __________pj51: #REF!
Name __________pj51: #REF!
Name __________pj51: #REF!
Name __________pj51: #REF!
Name __________pj51: #REF!
Name __________pj51: #REF!
Name __________pj51: #REF!
Name __________pj51: #REF!
Name __________pj51: #REF!
Name __________pj51: #REF!
Name _________PJ50: #REF!
Name _________PJ50: #REF!
Name _________PJ50: #REF!
Name _________PJ50: #REF!
Name _________PJ50: #REF!
Name _________PJ50: #REF!
Name _________PJ50: #REF!
Name _________PJ50: #REF!
Name _________PJ50: #REF!
Name _________PJ50: #REF!
Name _________pj51: #REF!
Name _________pj51: #REF!
Name _________pj51: #REF!
Name _________pj51: #REF!
Name _________pj51: #REF!
Name _________pj51: #REF!
Name _________pj51: #REF!
Name _________pj51: #REF!
Name _________pj51: #REF!
Name _________pj51: #REF!
Name ________MA2: #REF!
Name ________MA2: #REF!
Name ________MA2: #REF!
Name ________MA2: #REF!
Name ________MA2: #REF!
Name ________MA2: #REF!
Name ________MA2: #REF!
Name ________MA2: #REF!
Name ________MA2: #REF!
Name ________MA2: #REF!
Name ________PJ50: #REF!
Name ________PJ50: #REF!
Name ________PJ50: #REF!
Name ________PJ50: #REF!
Name ________PJ50: #REF!
Name ________PJ50: #REF!
Name ________PJ50: #REF!
Name ________PJ50: #REF!
Name ________PJ50: #REF!
Name ________PJ50: #REF!

Sheet M
B2: FORMATO - LISTA DE MATERIALES
B5: No. | C5: MATERIAL | D5: UNIDAD | E5: PRECIO - UNITARIO
B6: 1 | C6: Estacas de madera | D6: Un | E6: 870
B7: =B6+1 -> 2 | C7: Puntilla con cabeza o clavos de 1" a 3.1/2" | D7: Lb | E7: 2800
B8: =B7+1 -> 3 | C8: Madera redonda | D8: Un | E8: 4500
B9: =B8+1 -> 4 | C9: Puntillas | D9: Lb | E9: 3000
B10: =B9+1 -> 5 | C10: MORTERO 1:3 | D10: M3 | E10: 416235
B11: =B10+1 -> 6 | C11: Lona Verde | D11: m | E11: 3500
B12: =B11+1 -> 7 | C12: Material gravo arcilloso Tipo 2 | D12: M3 | E12: 20000
B13: =B12+1 -> 8 | C13: Base Granular en cumplimiento de las especificaciones del INVIAS | D13: M3 | E13: 115000
B14: =B13+1 -> 9 | C14: Agua | D14: Lts | E14: 80
B15: =B14+1 -> 10 | C15: Concreto de 3000 psi | D15: M3 | E15: 410017
B16: =B15+1 -> 11 | C16: Malla electrosoldada | D16: M2 | E16: 7500
B17: =B16+1 -> 12 | C17: Acero de Refuerzo (figurado) | D17: Kg | E17: 4691
B18: =B17+1 -> 13 | C18: Concreto de 3500 psi | D18: M3 | E18: 449980
... B21: =B20+1 -> 16 | C21: Madera | D21: m | E21: 4500
B22: =B21+1 -> 17 | C22: Concreto de 2500 psi | D22: M3 | E22: ='[50]3'!$F$596 -> 383715
B23: =B22+1 -> 18 | C23: Piedra Rajon | D23: M3 | E23: 140000
B24: =B23+1 -> 19 | C24: Listones de madera de 2" x 2" | D24: Un | E24: 12000
B25: =B24+1 -> 20 | C25: Ladrillo de arcilla a la vista tipo Hollman | D25: Un | E25: 1250
B26: =B25+1 -> 21 | C26: Impermeabilizante con sika 1 o similar | D26: Kg | E26: 15000
B27: =B26+1 -> 22 | C27: Ladrillo H- 10 | D27: Un | E27: 1150
B28: =B27+1 -> 23 | C28: Pintura Tipo 1 | D28: Gl | E28: 75000
B29: =B28+1 -> 24 | C29: Platiestuco | D29: Kg | E29: 1500
B30: =B29+1 -> 25 | C30: cielo f. acrilico pvc | D30: M2 | E30: 26000
B31: =B30+1 -> 26 | C31: angulo 1 x 3/ 4 alu tira de 6 metros | D31: m | E31: 5800
B32: =B31+1 -> 27 | C32: tee alum.anodizado 1"x3/4" | D32: m | E32: 2850
B33: =B32+1 -> 28 | C33: remache pop 4-2 1/4"x1/8" | D33: Un | E33: 160
B34: =B33+1 -> 29 | C34: alambre galvanizado # 18 u | D34: KG | E34: 5647
... B126: =B125+1 -> 121 | C126: Triturado de 3/4" | D126: M3 | E126: 85000

Sheet E
B2: FORMATO - EQUIPOS Y TRANSPORTE
B3: =M!B3 -> 0
B5: No. | C5: EQUIPO | D5: UNIDAD | E5: TARIFA
B6: 1 | C6: Equipo de topografia | D6: Dia | E6: 2500000
B7: =B6+1 -> 2 | C7: Retroexcavadora | D7: Dia | E7: 1200000
B8: =B7+1 -> 3 | C8: SALTARIN O RANA (incluye costos de insumos) | D8: Dia | E8: 100000
B9: =B8+1 -> 4 | C9: Retroexcavadora tipo Pajarita | D9: Hr | E9: 120000
B10: =B9+1 -> 5 | C10: Motoniveladora 120 G o similar | D10: Hr | E10: 160000
B11: =B10+1 -> 6 | C11: Vibrocompactador de rodillo 6 Ton | D11: Hr | E11: 120000
B12: =B11+1 -> 7 | C12: Carro Tanque de 5.000 Lts para riego de agua | D12: Hr | E12: 75000
B13: =B12+1 -> 8 | C13: Moldes para estampillar concreto en cara superior | D13: Dia | E13: 90000
B14: =B13+1 -> 9 | C14: Compresor y pistola para pintura elementos metalicos | D14: Dia | E14: 77907
B15: =B14+1 -> 10 | C15: Trompo mezclador | D15: Dia | E15: 85000
B16: =B15+1 -> 11 | C16: Cizalla | D16: Dia | E16: 5960
B17: =B16+1 -> 12 | C17: Andamios | D17: Un | E17: 2200
B18: =B17+1 -> 13 | C18: Equipo de soldadura | D18: Dia | E18: 100000

Sheet COSTOS INDIRECTOS
B1: =PPTO!$D$3 -> PRESUPUESTO MUNICIPIO EL BAGRE (ANTIOQUIA).
B3: ALCALDIA MUNICIPAL | H3: COSTOS ADMINISTRATIVOS - AIU
B5: =PPTO!$D$5 -> PROYECTO DE MEJORAMIENTO VIAL, ESPACIO PUBLICO Y OBRAS COMPLEMENTARIAS DE LA AVENIDA LA JUVENTUD Y TRAMOS ADYACENTES Y PRIORITARIOS DEL SECTOR URBANO EN EL MUNICIPIO EL BAGRE ANTIOQUIA.
B8: VALOR COSTO DIRECTO | D8: =PPTO!$I$124 -> 10714220439 | I8: % ADMIN PRESUPUESTO | K8: =J56 -> 0.26
B9: VALOR COSTO TOTAL CD + AIU | D9: =PPTO!I126 -> 14035628775
B11: COSTOS ADMINISTRATIVOS | D11: VALOR MENSUAL | E11: FP | F11: Salario Base | G11: %Ocup Mes | H11: Meses Dedic. | I11: VALOR PARCIAL | J11: %S/Costos Directos | K11: VALOR EN PESOS
B12: PERSONAL TÉCNCO Y ARDMINISTRATIVO (Inc.Prest. Soc.) | D12: =SUM(D14:D24) -> 62525200 | I12: =SUM(I14:I24) -> 877985440 | J12: =ROUND(SUM(J14:J24),4) -> 0.0818 | K12: =+J12*CD -> 8.7642323e+08 | O12: 877985440 | P12: 0.08 | Q12: 8.7642323e+08
C13: Cant. | L13: F.P | M13: SALARIO BASE
B14: DIRECTOR DE OBRA | C14: 1 | D14: =+M14*(1+L14) -> 12340500 | E14: =L14 -> 0.6454 | F14: =M14 -> 7500000 | G14: 1 | H14: 8 | I14: =C14*D14*G14*H14 -> 98724000 | J14: =+I14/CD -> 0.0092 | K14: =+I14 -> 98724000 | L14: =ffpp -> 0.6454 | M14: 7500000
B15: RESIDENTE DE OBRA | C15: 3 | D15: =+M15*(1+L15) -> 6581600 | E15: =L15 -> 0.6454 | F15: =M15 -> 4000000 | G15: 1 | H15: =$H$14 -> 8 | I15: =C15*D15*G15*H15 -> 157958400 | J15: =+I15/CD -> 0.0147 | K15: =+I15 -> 157958400 | L15: =L14 -> 0.6454 | M15: 4000000
B16: RESIDENTE DE CALIDAD | C16: 2 | D16: =+M16*(1+L16) -> 6252520 | E16: =L16 -> 0.6454 | F16: =M16 -> 3800000 | G16: 1 | H16: =$H$14 -> 8 | I16: =C16*D16*G16*H16 -> 100040320 | J16: =+I16/CD -> 0.0093 | K16: =+I16 -> 100040320 | L16: =L15 -> 0.6454 | M16: 3800000
B17: ESPECIALISTA EN PAVIMENTOS | C17: 1 | D17: =+M17*(1+L17) -> 9872400 | E17: =L17 -> 0.6454 | F17: =M17 -> 6000000 | G17: 1 | H17: =$H$14 -> 8 | I17: =C17*D17*G17*H17 -> 78979200 | J17: =+I17/CD -> 0.0074 | K17: =+I17 -> 78979200 | L17: =L15 -> 0.6454 | M17: 6000000
B18: SISO | C18: 3 | D18: =+M18*(1+L18) -> 5758900 | E18: =L18 -> 0.6454 | F18: =M18 -> 3500000 | G18: 1 | H18: =$H$14 -> 8 | I18: =C18*D18*G18*H18 -> 138213600 | J18: =+I18/CD -> 0.0129 | K18: =+I18 -> 138213600 | L18: =L17 -> 0.6454 | M18: 3500000
B19: TECNOLOGO EN SST | C19: 2 | D19: =+M19*(1+L19) -> 4113500 | E19: =L19 -> 0.6454 | F19: =M19 -> 2500000 | G19: 1 | H19: =$H$14 -> 8 | I19: =C19*D19*G19*H19 -> 65816000 | J19: =+I19/CD -> 0.0061 | K19: =+I19 -> 65816000 | L19: =L18 -> 0.6454 | M19: 2500000
B20: TOPOGRAFO | C20: 1 | D20: =+M20*(1+L20) -> 5758900 | E20: =L20 -> 0.6454 | F20: =M20 -> 3500000 | G20: 1 | H20: 8 | I20: =C20*D20*G20*H20 -> 46071200 | J20: =+I20/CD -> 0.0043 | K20: =+I20 -> 46071200 | L20: =L19 -> 0.6454 | M20: 3500000
B21: CADENERO | C21: 2 | D21: =+M21*(1+L21) -> 3290800 | E21: =L21 -> 0.6454 | F21: =M21 -> 2000000 | G21: 1 | H21: =$H$14 -> 8 | I21: =C21*D21*G21*H21 -> 52652800 | J21: =+I21/CD -> 0.0049 | K21: =+I21 -> 52652800 | L21: =L20 -> 0.6454 | M21: 2000000
B22: SECRETARIA | C22: 1 | D22: =+M22*(1+L22) -> 2632640 | E22: =L22 -> 0.6454 | F22: =M22 -> 1600000 | G22: 1 | H22: =$H$14 -> 8 | I22: =C22*D22*G22*H22 -> 21061120 | J22: =+I22/CD -> 0.002 | K22: =+I22 -> 21061120 | L22: =L21 -> 0.6454 | M22: 1600000
B23: CONDUCTOR | C23: 2 | D23: =+M23*(1+L23) -> 2961720 | E23: =L23 -> 0.6454 | F23: =M23 -> 1800000 | G23: 1 | H23: =$H$14 -> 8 | I23: =C23*D23*G23*H23 -> 47387520 | J23: =+I23/CD -> 0.0044 | K23: =+I23 -> 47387520 | L23: =L22 -> 0.6454 | M23: 1800000
B24: VIGIILANTE | C24: 3 | D24: =+M24*(1+L24) -> 2961720 | E24: =L24 -> 0.6454 | F24: =M24 -> 1800000 | G24: 1 | H24: =$H$14 -> 8 | I24: =C24*D24*G24*H24 -> 71081280 | J24: =+I24/CD -> 0.0066 | K24: =+I24 -> 71081280 | L24: =L23 -> 0.6454 | M24: 1800000
B25: OFICINA, PAPELERIA Y OTROS: | C25: Cant. | G25: %Utiliz. | H25: Meses | I25: =SUM(I26:I41) -> 122254452 | J25: =ROUND(SUM(J26:J41),4) -> 0.0113 | K25: =+J25*CD -> 1.2107069e+08 | O25: 122254452 | P25: 0.01 | Q25: 1.2107069e+08
B26: ARRENDAMIENTO PLANTA FISICA CON DOTACION DE OFICINA Y BODEGA. | C26: 1 | D26: =+L26*$M$26 -> 1401245 | G26: 1 | H26: =H14 -> 8 | I26: =+C26*D26*G26*H26 -> 11209960 | J26: =+I26/CD -> 0.001 | K26: =I26 -> 11209960 | L26: 1283081 | M26: 1.0920938
B27: COSTO PAPELERIA, FOTOCOPIAS, ETC | C27: 1 | D27: =+L27*$M$26 -> 1401245 | G27: 1 | H27: =H26 -> 8 | I27: =+C27*D27*G27*H27 -> 11209960 | J27: =+I27/CD -> 0.001 | K27: =I27 -> 11209960 | L27: 1283081
B28: SERVICIOS PUBLICOS Y OPERACIONALES | C28: 1 | D28: =+L28*$M$26 -> 336298 | G28: 1 | H28: =H27 -> 8 | I28: =+C28*D28*G28*H28 -> 2690384 | J28: =+I28/CD -> 0.0003 | K28: =I28 -> 2690384 | L28: 307939
B29: ALQUILER DE EQUIPOS DE COMPUTO Y COMUNICACIONES | C29: =SUM(C14:C19) -> 12 | D29: 128447 | G29: 1 | H29: =H28 -> 8 | I29: =+C29*D29*G29*H29 -> 12330912 | J29: =+I29/CD -> 0.0012 | K29: =I29 -> 12330912 | L29: 128308
B30: ALQUILER ESTACION TOPOGRAFICA, NIVEL Y ACCESORIOS. | C30: 1 | D30: =+L30*$M$26 -> 1401245 | G30: 1 | H30: =H29 -> 8 | I30: =+C30*D30*G30*H30 -> 11209960 | J30: =+I30/CD -> 0.001 | K30: =I30 -> 11209960 | L30: 1283081
B31: ENSAYOS DE LABORATORIO
B32: 1. Determinación del límite líquido de suelos cada 250ml | C32: 19 | D32: 52406 | I32: =C32*D32 -> 995714 | J32: =+I32/CD -> 0.0001 | K32: =I32 -> 995714 | L32: 47987
B33: 2. Límite plástico e índice de plasticidad de los suelos cada 250 ml | C33: 19 | D33: 49323 | I33: =C33*D33 -> 937137 | J33: =+I33/CD -> 0.0001 | K33: =I33 -> 937137 | L33: 45164
B34: 3. Relación de soporte del suelo en laboratorio CBR (Suelos Granulares) cada 250 ml | C34: 19 | D34: 255027 | I34: =C34*D34 -> 4845513 | J34: =+I34/CD -> 0.0005 | K34: =I34 -> 4845513 | L34: 233521
B35: 4.Relaciones de humedad - peso unitario seco en los suelos (ensayo normal de compactación): – Método A (molde 1/30 pie3) | C35: 50 | D35: 196174 | I35: =C35*D35 -> 9808700 | J35: =+I35/CD -> 0.0009 | K35: =I35 -> 9808700 | L35: 179631
B36: 5. Resistencia a la compresión de cilindros y núcleos de concreto Que la toma de cilindros de concreto se realice mínimo una vez por día, o por lo menos una vez por cada 120 m3 de concreto | C36: 100 | D36: 14013 | I36: =C36*D36 -> 1401300 | J36: =+I36/CD -> 0.0001 | K36: =I36 -> 1401300 | L36: 12831
B37: 6. Densidad o masa unitaria del suelo en el terreno método del cono de arena. Cada 40 m o 250m2 | C37: 62 | D37: 84075 | I37: =C37*D37 -> 5212650 | J37: =+I37/CD -> 0.0005 | K37: =I37 -> 5212650 | L37: 76985
B38: 7. Pruebas de resistencia de tension indirecta de cilindros de Concreto | C38: 50 | D38: 22645 | I38: =C38*D38 -> 1132250 | J38: =+I38/CD -> 0.0001 | K38: =I38 -> 1132250 | L38: 20735
B39: ALQUILER DE CAMIONETA (INCLUYE COMBUSTIBLE Y CONDUCTOR) | C39: 1 | D39: 3643236 | G39: 1 | H39: =H29 -> 8 | I39: =+C39*D39*G39*H39 -> 29145888 | J39: =+I39/CD -> 0.0027 | K39: =I39 -> 29145888 | L39: 3336010
B40: SEÑALIZACION DE SEGURIDAD INDUSTRIAL DE OBRA - TEMPORAL | C40: 1 | D40: 2183462 | G40: 1 | H40: =H30 -> 8 | I40: =+C40*D40*G40*H40 -> 17467696 | J40: =+I40/CD -> 0.0016 | K40: =I40 -> 17467696 | L40: 1999336
B41: VALLA INFORMATIVA SEGÚN CIRCULAR No.0006 DEL DEPARTAMENTO NACIONAL DE PLANEACION. (INCLUYE SOPORTES METALICOS). | C41: 2 | D41: 1328214 | I41: =C41*D41 -> 2656428 | J41: =+I41/CD -> 0.0002 | K41: =I41 -> 2656428 | L41: 1216209
B43: LEGALIZACION Y PERFECCIONAMIENTO | J43: 0.1669 | K43: =+J43*CD -> 1.7882034e+09
B45: GARANTIAS | G45: % | I45: VLR TOTAL
B46: Cumplimiento | F46: 0.0027 | I46: =+F46*CD -> 28928395 | L46: =SUM(L47:L49) -> #REF!
B47: Amparo de salarios y prest. sociales | F47: 0.002 | I47: =+F47*CD -> 21428441 | L47: =PPTO!#REF! -> #REF!
...

Sheet PPTO
D3: PRESUPUESTO MUNICIPIO EL BAGRE (ANTIOQUIA).
D5: PROYECTO DE MEJORAMIENTO VIAL, ESPACIO PUBLICO Y OBRAS COMPLEMENTARIAS DE LA AVENIDA LA JUVENTUD Y TRAMOS ADYACENTES Y PRIORITARIOS DEL SECTOR URBANO EN EL MUNICIPIO EL BAGRE ANTIOQUIA. | L5: Cant. Meses | M5: Mes de Inicio | N5: Mes de Finalización | O5: FLUJO DE INVERSIONES (Miles $)
B9: INV | D9: ITEM | E9: DESCRIPCION | F9: UNIDAD | G9: CANTIDAD | H9: PRECIO UNITARIO | I9: PARCIAL CONTRATADO | O9: 1 | P9: 2 | Q9: 3 | R9: 4 | S9: 5 | T9: 6 | U9: 7 | V9: 8 | W9: 9 | X9: 10
B10: DESCRIPCION | C10: CODIGO | D10: 1 | E10: TRABAJOS PRELIMINARES | O10: 10meses
D11: =D10+0.1 -> 1.1 | E11: Malla de cerramiento (tela aditiva; h=2,1 m ) y madera rolliza cada 3 mts | F11: m | G11: =MC!C203 -> 5882.58 | H11: ='1.1'!G42 -> 2862 | I11: =+G11*H11 -> 16835944 | K11: 2 | L11: 1 | M11: 1 | N11: =IF(L11="","",M11+L11-1) -> 1 | O11: =IF($L11="","",IF(OR(O$9<$M11,O$9>$N11),"",IF($K11=1,IF((O$9/$M11)=1,($I11/1000)/(($L11)*2)*$L11*1.3,IF((O$9/$M11)>1,($I11/1000)/(($L11)*2)*$L11*(0.7/($L11-1)))),IF($K11=2,($I11/1000)/$L11,IF($K11=3,IF((O$9/$N11)=1,($I11/1000)/(($L11)*2)*$L11*1.3,IF((O$9/$N11)<1,($I11/1000)/(($L11)*2)*$L11*(0.7/($L11-1))))))))) -> 16836 | P11: =IF($L11="","",IF(OR(P$9<$M11,P$9>$N11),"",IF($K11=1,IF((P$9/$M11)=1,($I11/1000)/(($L11)*2)*$L11*1.3,IF((P$9/$M11)>1,($I11/1000)/(($L11)*2)*$L11*(0.7/($L11-1)))),IF($K11=2,($I11/1000)/$L11,IF($K11=3,IF((P$9/$N11)=1,($I11/1000)/(($L11)*2)*$L11*1.3,IF((P$9/$N11)<1,($I11/1000)/(($L11)*2)*$L11*(0.7/($L11-1))))))))) | Q11: =IF($L11="","",IF(OR(Q$9<$M11,Q$9>$N11),"",IF($K11=1,IF((Q$9/$M11)=1,($I11/1000)/(($L11)*2)*$L11*1.3,IF((Q$9/$M11)>1,($I11/1000)/(($L11)*2)*$L11*(0.7/($L11-1)))),IF($K11=2,($I11/1000)/$L11,IF($K11=3,IF((Q$9/$N11)=1,($I11/1000)/(($L11)*2)*$L11*1.3,IF((Q$9/$N11)<1,($I11/1000)/(($L11)*2)*$L11*(0.7/($L11-1))))))))) | R11: =IF($L11="","",IF(OR(R$9<$M11,R$9>$N11),"",IF($K11=1,IF((R$9/$M11)=1,($I11/1000)/(($L11)*2)*$L11*1.3,IF((R$9/$M11)>1,($I11/1000)/(($L11)*2)*$L11*(0.7/($L11-1)))),IF($K11=2,($I11/1000)/$L11,IF($K11=3,IF((R$9/$N11)=1,($I11/1000)/(($L11)*2)*$L11*1.3,IF((R$9/$N11)<1,($I11/1000)/(($L11)*2)*$L11*(0.7/($L11-1))))))))) | S11: =IF($L11="","",IF(OR(S$9<$M11,S$9>$N11),"",IF($K11=1,IF((S$9/$M11)=1,($I11/1000)/(($L11)*2)*$L11*1.3,IF((S$9/$M11)>1,($I11/1000)/(($L11)*2)*$L11*(0.7/($L11-1)))),IF($K11=2,($I11/1000)/$L11,IF($K11=3,IF((S$9/$N11)=1,($I11/1000)/(($L11)*2)*$L11*1.3,IF((S$9/$N11)<1,($I11/1000)/(($L11)*2)*$L11*(0.7/($L11-1))))))))) | T11: =IF($L11="","",IF(OR(T$9<$M11,T$9>$N11),"",IF($K11=1,IF((T$9/$M11)=1,($I11/1000)/(($L11)*2)*$L11*1.3,IF((T$9/$M11)>1,($I11/1000)/(($L11)*2)*$L11*(0.7/($L11-1)))),IF($K11=2,($I11/1000)/$L11,IF($K11=3,IF((T$9/$N11)=1,($I11/1000)/(($L11)*2)*$L11*1.3,IF((T$9/$N11)<1,($I11/1000)/(($L11)*2)*$L11*(0.7/($L11-1))))))))) | U11: =IF($L11="","",IF(OR(U$9<$M11,U$9>$N11),"",IF($K11=1,IF((U$9/$M11)=1,($I11/1000)/(($L11)*2)*$L11*1.3,IF((U$9/$M11)>1,($I11/1000)/(($L11)*2)*$L11*(0.7/($L11-1)))),IF($K11=2,($I11/1000)/$L11,IF($K11=3,IF((U$9/$N11)=1,($I11/1000)/(($L11)*2)*$L11*1.3,IF((U$9/$N11)<1,($I11/1000)/(($L11)*2)*$L11*(0.7/($L11-1))))))))) | V11: =IF($L11="","",IF(OR(V$9<$M11,V$9>$N11),"",IF($K11=1,IF((V$9/$M11)=1,($I11/1000)/(($L11)*2)*$L11*1.3,IF((V$9/$M11)>1,($I11/1000)/(($L11)*2)*$L11*(0.7/($L11-1)))),IF($K11=2,($I11/1000)/$L11,IF($K11=3,IF((V$9/$N11)=1,($I11/1000)/(($L11)*2)*$L11*1.3,IF((V$9/$N11)<1,($I11/1000)/(($L11)*2)*$L11*(0.7/($L11-1))))))))) | ... X11: =IF($L11="","",IF(OR(X$9<$M11,X$9>$N11),"",IF($K11=1,IF((X$9/$M11)=1,($I11/1000)/(($L11)*2)*$L11*1.3,IF((X$9/$M11)>1,($I11/1000)/(($L11)*2)*$L11*(0.7/($L11-1)))),IF($K11=2,($I11/1000)/$L11,IF($K11=3,IF((X$9/$N11)=1,($I11/1000)/(($L11)*2)*$L11*1.3,IF((X$9/$N11)<1,($I11/1000)/(($L11)*2)*$L11*(0.7/($L11-1)))))))))
D12: =D11+0.1 -> 1.2 | E12: Demolicion de Pavimento y Andenes existentes en sector de proyecto, espesor y resistencia variables. | F12: m2 | G12: =MC!C213 -> 27916.18 | H12: ='1.2'!G42 -> 7002 | I12: =+G12*H12 -> 195469092 | K12: 2 | L12: 1 | M12: 1 | N12: =IF(L12="","",M12+L12-1) -> 1 | O12: =IF($L12="","",IF(OR(O$9<$M12,O$9>$N12),"",IF($K12=1,IF((O$9/$M12)=1,($I12/1000)/(($L12)*2)*$L12*1.3,IF((O$9/$M12)>1,($I12/1000)/(($L12)*2)*$L12*(0.7/($L12-1)))),IF($K12=2,($I12/1000)/$L12,IF($K12=3,IF((O$9/$N12)=1,($I12/1000)/(($L12)*2)*$L12*1.3,IF((O$9/$N12)<1,($I12/1000)/(($L12)*2)*$L12*(0.7/($L12-1))))))))) -> 195469 | P12: =IF($L12="","",IF(OR(P$9<$M12,P$9>$N12),"",IF($K12=1,IF((P$9/$M12)=1,($I12/1000)/(($L12)*2)*$L12*1.3,IF((P$9/$M12)>1,($I12/1000)/(($L12)*2)*$L12*(0.7/($L12-1)))),IF($K12=2,($I12/1000)/$L12,IF($K12=3,IF((P$9/$N12)=1,($I12/1000)/(($L12)*2)*$L12*1.3,IF((P$9/$N12)<1,($I12/1000)/(($L12)*2)*$L12*(0.7/($L12-1))))))))) | Q12: =IF($L12="","",IF(OR(Q$9<$M12,Q$9>$N12),"",IF($K12=1,IF((Q$9/$M12)=1,($I12/1000)/(($L12)*2)*$L12*1.3,IF((Q$9/$M12)>1,($I12/1000)/(($L12)*2)*$L12*(0.7/($L12-1)))),IF($K12=2,($I12/1000)/$L12,IF($K12=3,IF((Q$9/$N12)=1,($I12/1000)/(($L12)*2)*$L12*1.3,IF((Q$9/$N12)<1,($I12/1000)/(($L12)*2)*$L12*(0.7/($L12-1))))))))) | R12: =IF($L12="","",IF(OR(R$9<$M12,R$9>$N12),"",IF($K12=1,IF((R$9/$M12)=1,($I12/1000)/(($L12)*2)*$L12*1.3,IF((R$9/$M12)>1,($I12/1000)/(($L12)*2)*$L12*(0.7/($L12-1)))),IF($K12=2,($I12/1000)/$L12,IF($K12=3,IF((R$9/$N12)=1,($I12/1000)/(($L12)*2)*$L12*1.3,IF((R$9/$N12)<1,($I12/1000)/(($L12)*2)*$L12*(0.7/($L12-1))))))))) | S12: =IF($L12="","",IF(OR(S$9<$M12,S$9>$N12),"",IF($K12=1,IF((S$9/$M12)=1,($I12/1000)/(($L12)*2)*$L12*1.3,IF((S$9/$M12)>1,($I12/1000)/(($L12)*2)*$L12*(0.7/($L12-1)))),IF($K12=2,($I12/1000)/$L12,IF($K12=3,IF((S$9/$N12)=1,($I12/1000)/(($L12)*2)*$L12*1.3,IF((S$9/$N12)<1,($I12/1000)/(($L12)*2)*$L12*(0.7/($L12-1))))))))) | T12: =IF($L12="","",IF(OR(T$9<$M12,T$9>$N12),"",IF($K12=1,IF((T$9/$M12)=1,($I12/1000)/(($L12)*2)*$L12*1.3,IF((T$9/$M12)>1,($I12/1000)/(($L12)*2)*$L12*(0.7/($L12-1)))),IF($K12=2,($I12/1000)/$L12,IF($K12=3,IF((T$9/$N12)=1,($I12/1000)/(($L12)*2)*$L12*1.3,IF((T$9/$N12)<1,($I12/1000)/(($L12)*2)*$L12*(0.7/($L12-1))))))))) | U12: =IF($L12="","",IF(OR(U$9<$M12,U$9>$N12),"",IF($K12=1,IF((U$9/$M12)=1,($I12/1000)/(($L12)*2)*$L12*1.3,IF((U$9/$M12)>1,($I12/1000)/(($L12)*2)*$L12*(0.7/($L12-1)))),IF($K12=2,($I12/1000)/$L12,IF($K12=3,IF((U$9/$N12)=1,($I12/1000)/(($L12)*2)*$L12*1.3,IF((U$9/$N12)<1,($I12/1000)/(($L12)*2)*$L12*(0.7/($L12-1))))))))) | V12: =IF($L12="","",IF(OR(V$9<$M12,V$9>$N12),"",IF($K12=1,IF((V$9/$M12)=1,($I12/1000)/(($L12)*2)*$L12*1.3,IF((V$9/$M12)>1,($I12/1000)/(($L12)*2)*$L12*(0.7/($L12-1)))),IF($K12=2,($I12/1000)/$L12,IF($K12=3,IF((V$9/$N12)=1,($I12/1000)/(($L12)*2)*$L12*1.3,IF((V$9/$N12)<1,($I12/1000)/(($L12)*2)*$L12*(0.7/($L12-1))))))))) | ... X12: =IF($L12="","",IF(OR(X$9<$M12,X$9>$N12),"",IF($K12=1,IF((X$9/$M12)=1,($I12/1000)/(($L12)*2)*$L12*1.3,IF((X$9/$M12)>1,($I12/1000)/(($L12)*2)*$L12*(0.7/($L12-1)))),IF($K12=2,($I12/1000)/$L12,IF($K12=3,IF((X$9/$N12)=1,($I12/1000)/(($L12)*2)*$L12*1.3,IF((X$9/$N12)<1,($I12/1000)/(($L12)*2)*$L12*(0.7/($L12-1)))))))))
D13: =CONCATENATE("SUBTOTAL ",E10) -> SUBTOTAL TRABAJOS PRELIMINARES | I13: =SUM(I11:I12) -> 212305036 | K13: 2 | N13: =IF(L13="","",M13+L13-1) | O13: =IF($L13="","",IF(OR(O$9<$M13,O$9>$N13),"",IF($K13=1,IF((O$9/$M13)=1,($I13/1000)/(($L13)*2)*$L13*1.3,IF((O$9/$M13)>1,($I13/1000)/(($L13)*2)*$L13*(0.7/($L13-1)))),IF($K13=2,($I13/1000)/$L13,IF($K13=3,IF((O$9/$N13)=1,($I13/1000)/(($L13)*2)*$L13*1.3,IF((O$9/$N13)<1,($I13/1000)/(($L13)*2)*$L13*(0.7/($L13-1))))))))) | P13: =IF($L13="","",IF(OR(P$9<$M13,P$9>$N13),"",IF($K13=1,IF((P$9/$M13)=1,($I13/1000)/(($L13)*2)*$L13*1.3,IF((P$9/$M13)>1,($I13/1000)/(($L13)*2)*$L13*(0.7/($L13-1)))),IF($K13=2,($I13/1000)/$L13,IF($K13=3,IF((P$9/$N13)=1,($I13/1000)/(($L13)*2)*$L13*1.3,IF((P$9/$N13)<1,($I13/1000)/(($L13)*2)*$L13*(0.7/($L13-1))))))))) | Q13: =IF($L13="","",IF(OR(Q$9<$M13,Q$9>$N13),"",IF($K13=1,IF((Q$9/$M13)=1,($I13/1000)/(($L13)*2)*$L13*1.3,IF((Q$9/$M13)>1,($I13/1000)/(($L13)*2)*$L13*(0.7/($L13-1)))),IF($K13=2,($I13/1000)/$L13,IF($K13=3,IF((Q$9/$N13)=1,($I13/1000)/(($L13)*2)*$L13*1.3,IF((Q$9/$N13)<1,($I13/1000)/(($L13)*2)*$L13*(0.7/($L13-1))))))))) | R13: =IF($L13="","",IF(OR(R$9<$M13,R$9>$N13),"",IF($K13=1,IF((R$9/$M13)=1,($I13/1000)/(($L13)*2)*$L13*1.3,IF((R$9/$M13)>1,($I13/1000)/(($L13)*2)*$L13*(0.7/($L13-1)))),IF($K13=2,($I13/1000)/$L13,IF($K13=3,IF((R$9/$N13)=1,($I13/1000)/(($L13)*2)*$L13*1.3,IF((R$9/$N13)<1,($I13/1000)/(($L13)*2)*$L13*(0.7/($L13-1))))))))) | S13: =IF($L13="","",IF(OR(S$9<$M13,S$9>$N13),"",IF($K13=1,IF((S$9/$M13)=1,($I13/1000)/(($L13)*2)*$L13*1.3,IF((S$9/$M13)>1,($I13/1000)/(($L13)*2)*$L13*(0.7/($L13-1)))),IF($K13=2,($I13/1000)/$L13,IF($K13=3,IF((S$9/$N13)=1,($I13/1000)/(($L13)*2)*$L13*1.3,IF((S$9/$N13)<1,($I13/1000)/(($L13)*2)*$L13*(0.7/($L13-1))))))))) | T13: =IF($L13="","",IF(OR(T$9<$M13,T$9>$N13),"",IF($K13=1,IF((T$9/$M13)=1,($I13/1000)/(($L13)*2)*$L13*1.3,IF((T$9/$M13)>1,($I13/1000)/(($L13)*2)*$L13*(0.7/($L13-1)))),IF($K13=2,($I13/1000)/$L13,IF($K13=3,IF((T$9/$N13)=1,($I13/1000)/(($L13)*2)*$L13*1.3,IF((T$9/$N13)<1,($I13/1000)/(($L13)*2)*$L13*(0.7/($L13-1))))))))) | U13: =IF($L13="","",IF(OR(U$9<$M13,U$9>$N13),"",IF($K13=1,IF((U$9/$M13)=1,($I13/1000)/(($L13)*2)*$L13*1.3,IF((U$9/$M13)>1,($I13/1000)/(($L13)*2)*$L13*(0.7/($L13-1)))),IF($K13=2,($I13/1000)/$L13,IF($K13=3,IF((U$9/$N13)=1,($I13/1000)/(($L13)*2)*$L13*1.3,IF((U$9/$N13)<1,($I13/1000)/(($L13)*2)*$L13*(0.7/($L13-1))))))))) | V13: =IF($L13="","",IF(OR(V$9<$M13,V$9>$N13),"",IF($K13=1,IF((V$9/$M13)=1,($I13/1000)/(($L13)*2)*$L13*1.3,IF((V$9/$M13)>1,($I13/1000)/(($L13)*2)*$L13*(0.7/($L13-1)))),IF($K13=2,($I13/1000)/$L13,IF($K13=3,IF((V$9/$N13)=1,($I13/1000)/(($L13)*2)*$L13*1.3,IF((V$9/$N13)<1,($I13/1000)/(($L13)*2)*$L13*(0.7/($L13-1))))))))) | ... X13: =IF($L13="","",IF(OR(X$9<$M13,X$9>$N13),"",IF($K13=1,IF((X$9/$M13)=1,($I13/1000)/(($L13)*2)*$L13*1.3,IF((X$9/$M13)>1,($I13/1000)/(($L13)*2)*$L13*(0.7/($L13-1)))),IF($K13=2,($I13/1000)/$L13,IF($K13=3,IF((X$9/$N13)=1,($I13/1000)/(($L13)*2)*$L13*1.3,IF((X$9/$N13)<1,($I13/1000)/(($L13)*2)*$L13*(0.7/($L13-1)))))))))
D14: 2 | E14: MOVIMIENTOS DE TIERRA Y ADECUACIONES | K14: 2 | N14: =IF(L14="","",M14+L14-1) | O14: =IF($L14="","",IF(OR(O$9<$M14,O$9>$N14),"",IF($K14=1,IF((O$9/$M14)=1,($I14/1000)/(($L14)*2)*$L14*1.3,IF((O$9/$M14)>1,($I14/1000)/(($L14)*2)*$L14*(0.7/($L14-1)))),IF($K14=2,($I14/1000)/$L14,IF($K14=3,IF((O$9/$N14)=1,($I14/1000)/(($L14)*2)*$L14*1.3,IF((O$9/$N14)<1,($I14/1000)/(($L14)*2)*$L14*(0.7/($L14-1))))))))) | P14: =IF($L14="","",IF(OR(P$9<$M14,P$9>$N14),"",IF($K14=1,IF((P$9/$M14)=1,($I14/1000)/(($L14)*2)*$L14*1.3,IF((P$9/$M14)>1,($I14/1000)/(($L14)*2)*$L14*(0.7/($L14-1)))),IF($K14=2,($I14/1000)/$L14,IF($K14=3,IF((P$9/$N14)=1,($I14/1000)/(($L14)*2)*$L14*1.3,IF((P$9/$N14)<1,($I14/1000)/(($L14)*2)*$L14*(0.7/($L14-1))))))))) | Q14: =IF($L14="","",IF(OR(Q$9<$M14,Q$9>$N14),"",IF($K14=1,IF((Q$9/$M14)=1,($I14/1000)/(($L14)*2)*$L14*1.3,IF((Q$9/$M14)>1,($I14/1000)/(($L14)*2)*$L14*(0.7/($L14-1)))),IF($K14=2,($I14/1000)/$L14,IF($K14=3,IF((Q$9/$N14)=1,($I14/1000)/(($L14)*2)*$L14*1.3,IF((Q$9/$N14)<1,($I14/1000)/(($L14)*2)*$L14*(0.7/($L14-1))))))))) | R14: =IF($L14="","",IF(OR(R$9<$M14,R$9>$N14),"",IF($K14=1,IF((R$9/$M14)=1,($I14/1000)/(($L14)*2)*$L14*1.3,IF((R$9/$M14)>1,($I14/1000)/(($L14)*2)*$L14*(0.7/($L14-1)))),IF($K14=2,($I14/1000)/$L14,IF($K14=3,IF((R$9/$N14)=1,($I14/1000)/(($L14)*2)*$L14*1.3,IF((R$9/$N14)<1,($I14/1000)/(($L14)*2)*$L14*(0.7/($L14-1))))))))) | S14: =IF($L14="","",IF(OR(S$9<$M14,S$9>$N14),"",IF($K14=1,IF((S$9/$M14)=1,($I14/1000)/(($L14)*2)*$L14*1.3,IF((S$9/$M14)>1,($I14/1000)/(($L14)*2)*$L14*(0.7/($L14-1)))),IF($K14=2,($I14/1000)/$L14,IF($K14=3,IF((S$9/$N14)=1,($I14/1000)/(($L14)*2)*$L14*1.3,IF((S$9/$N14)<1,($I14/1000)/(($L14)*2)*$L14*(0.7/($L14-1))))))))) | T14: =IF($L14="","",IF(OR(T$9<$M14,T$9>$N14),"",IF($K14=1,IF((T$9/$M14)=1,($I14/1000)/(($L14)*2)*$L14*1.3,IF((T$9/$M14)>1,($I14/1000)/(($L14)*2)*$L14*(0.7/($L14-1)))),IF($K14=2,($I14/1000)/$L14,IF($K14=3,IF((T$9/$N14)=1,($I14/1000)/(($L14)*2)*$L14*1.3,IF((T$9/$N14)<1,($I14/1000)/(($L14)*2)*$L14*(0.7/($L14-1))))))))) | U14: =IF($L14="","",IF(OR(U$9<$M14,U$9>$N14),"",IF($K14=1,IF((U$9/$M14)=1,($I14/1000)/(($L14)*2)*$L14*1.3,IF((U$9/$M14)>1,($I14/1000)/(($L14)*2)*$L14*(0.7/($L14-1)))),IF($K14=2,($I14/1000)/$L14,IF($K14=3,IF((U$9/$N14)=1,($I14/1000)/(($L14)*2)*$L14*1.3,IF((U$9/$N14)<1,($I14/1000)/(($L14)*2)*$L14*(0.7/($L14-1))))))))) | V14: =IF($L14="","",IF(OR(V$9<$M14,V$9>$N14),"",IF($K14=1,IF((V$9/$M14)=1,($I14/1000)/(($L14)*2)*$L14*1.3,IF((V$9/$M14)>1,($I14/1000)/(($L14)*2)*$L14*(0.7/($L14-1)))),IF($K14=2,($I14/1000)/$L14,IF($K14=3,IF((V$9/$N14)=1,($I14/1000)/(($L14)*2)*$L14*1.3,IF((V$9/$N14)<1,($I14/1000)/(($L14)*2)*$L14*(0.7/($L14-1))))))))) | ... X14: =IF($L14="","",IF(OR(X$9<$M14,X$9>$N14),"",IF($K14=1,IF((X$9/$M14)=1,($I14/1000)/(($L14)*2)*$L14*1.3,IF((X$9/$M14)>1,($I14/1000)/(($L14)*2)*$L14*(0.7/($L14-1)))),IF($K14=2,($I14/1000)/$L14,IF($K14=3,IF((X$9/$N14)=1,($I14/1000)/(($L14)*2)*$L14*1.3,IF((X$9/$N14)<1,($I14/1000)/(($L14)*2)*$L14*(0.7/($L14-1)))))))))
B15: EXCAVACIONES VARIAS SIN CLASIFICAR | C15: 600.1.1 | D15: =D14+0.1 -> 2.1 | E15: Excavación manual para perfilado en sector de andenes y obras de arte, en material común de 0.0 - 2.0 mts | F15: m3 | G15: =ROUND(MC!$C$229,2) -> 984.71 | H15: =+'2.1'!G43 -> 25284 | I15: =+G15*H15 -> 24897408 | K15: 2 | L15: 1 | M15: 1 | N15: =IF(L15="","",M15+L15-1) -> 1 | O15: =IF($L15="","",IF(OR(O$9<$M15,O$9>$N15),"",IF($K15=1,IF((O$9/$M15)=1,($I15/1000)/(($L15)*2)*$L15*1.3,IF((O$9/$M15)>1,($I15/1000)/(($L15)*2)*$L15*(0.7/($L15-1)))),IF($K15=2,($I15/1000)/$L15,IF($K15=3,IF((O$9/$N15)=1,($I15/1000)/(($L15)*2)*$L15*1.3,IF((O$9/$N15)<1,($I15/1000)/(($L15)*2)*$L15*(0.7/($L15-1))))))))) -> 24897 | P15: =IF($L15="","",IF(OR(P$9<$M15,P$9>$N15),"",IF($K15=1,IF((P$9/$M15)=1,($I15/1000)/(($L15)*2)*$L15*1.3,IF((P$9/$M15)>1,($I15/1000)/(($L15)*2)*$L15*(0.7/($L15-1)))),IF($K15=2,($I15/1000)/$L15,IF($K15=3,IF((P$9/$N15)=1,($I15/1000)/(($L15)*2)*$L15*1.3,IF((P$9/$N15)<1,($I15/1000)/(($L15)*2)*$L15*(0.7/($L15-1))))))))) | Q15: =IF($L15="","",IF(OR(Q$9<$M15,Q$9>$N15),"",IF($K15=1,IF((Q$9/$M15)=1,($I15/1000)/(($L15)*2)*$L15*1.3,IF((Q$9/$M15)>1,($I15/1000)/(($L15)*2)*$L15*(0.7/($L15-1)))),IF($K15=2,($I15/1000)/$L15,IF($K15=3,IF((Q$9/$N15)=1,($I15/1000)/(($L15)*2)*$L15*1.3,IF((Q$9/$N15)<1,($I15/1000)/(($L15)*2)*$L15*(0.7/($L15-1))))))))) | R15: =IF($L15="","",IF(OR(R$9<$M15,R$9>$N15),"",IF($K15=1,IF((R$9/$M15)=1,($I15/1000)/(($L15)*2)*$L15*1.3,IF((R$9/$M15)>1,($I15/1000)/(($L15)*2)*$L15*(0.7/($L15-1)))),IF($K15=2,($I15/1000)/$L15,IF($K15=3,IF((R$9/$N15)=1,($I15/1000)/(($L15)*2)*$L15*1.3,IF((R$9/$N15)<1,($I15/1000)/(($L15)*2)*$L15*(0.7/($L15-1))))))))) | S15: =IF($L15="","",IF(OR(S$9<$M15,S$9>$N15),"",IF($K15=1,IF((S$9/$M15)=1,($I15/1000)/(($L15)*2)*$L15*1.3,IF((S$9/$M15)>1,($I15/1000)/(($L15)*2)*$L15*(0.7/($L15-1)))),IF($K15=2,($I15/1000)/$L15,IF($K15=3,IF((S$9/$N15)=1,($I15/1000)/(($L15)*2)*$L15*1.3,IF((S$9/$N15)<1,($I15/1000)/(($L15)*2)*$L15*(0.7/($L15-1))))))))) | T15: =IF($L15="","",IF(OR(T$9<$M15,T$9>$N15),"",IF($K15=1,IF((T$9/$M15)=1,($I15/1000)/(($L15)*2)*$L15*1.3,IF((T$9/$M15)>1,($I15/1000)/(($L15)*2)*$L15*(0.7/($L15-1)))),IF($K15=2,($I15/1000)/$L15,IF($K15=3,IF((T$9/$N15)=1,($I15/1000)/(($L15)*2)*$L15*1.3,IF((T$9/$N15)<1,($I15/1000)/(($L15)*2)*$L15*(0.7/($L15-1))))))))) | U15: =IF($L15="","",IF(OR(U$9<$M15,U$9>$N15),"",IF($K15=1,IF((U$9/$M15)=1,($I15/1000)/(($L15)*2)*$L15*1.3,IF((U$9/$M15)>1,($I15/1000)/(($L15)*2)*$L15*(0.7/($L15-1)))),IF($K15=2,($I15/1000)/$L15,IF($K15=3,IF((U$9/$N15)=1,($I15/1000)/(($L15)*2)*$L15*1.3,IF((U$9/$N15)<1,($I15/1000)/(($L15)*2)*$L15*(0.7/($L15-1))))))))) | V15: =IF($L15="","",IF(OR(V$9<$M15,V$9>$N15),"",IF($K15=1,IF((V$9/$M15)=1,($I15/1000)/(($L15)*2)*$L15*1.3,IF((V$9/$M15)>1,($I15/1000)/(($L15)*2)*$L15*(0.7/($L15-1)))),IF($K15=2,($I15/1000)/$L15,IF($K15=3,IF((V$9/$N15)=1,($I15/1000)/(($L15)*2)*$L15*1.3,IF((V$9/$N15)<1,($I15/1000)/(($L15)*2)*$L15*(0.7/($L15-1))))))))) | ... X15: =IF($L15="","",IF(OR(X$9<$M15,X$9>$N15),"",IF($K15=1,IF((X$9/$M15)=1,($I15/1000)/(($L15)*2)*$L15*1.3,IF((X$9/$M15)>1,($I15/1000)/(($L15)*2)*$L15*(0.7/($L15-1)))),IF($K15=2,($I15/1000)/$L15,IF($K15=3,IF((X$9/$N15)=1,($I15/1000)/(($L15)*2)*$L15*1.3,IF((X$9/$N15)<1,($I15/1000)/(($L15)*2)*$L15*(0.7/($L15-1)))))))))
B16: EXCAVACIONES VARIAS EN MATERIAL COMUN EN SECO | C16: 600.2.3 | D16: =D15+0.1 -> 2.2 | E16: Excavación mecánica de 0 a 2m (Incluye fractura de placas y corte ) | F16: m3 | G16: =ROUND(MC!$C$268,2) -> 25831.6 | H16: =+'2.2'!G43 -> 24213 | I16: =+G16*H16 -> 625460531 | K16: 2 | L16: 1 | M16: 1 | N16: =IF(L16="","",M16+L16-1) -> 1 | O16: =IF($L16="","",IF(OR(O$9<$M16,O$9>$N16),"",IF($K16=1,IF((O$9/$M16)=1,($I16/1000)/(($L16)*2)*$L16*1.3,IF((O$9/$M16)>1,($I16/1000)/(($L16)*2)*$L16*(0.7/($L16-1)))),IF($K16=2,($I16/1000)/$L16,IF($K16=3,IF((O$9/$N16)=1,($I16/1000)/(($L16)*2)*$L16*1.3,IF((O$9/$N16)<1,($I16/1000)/(($L16)*2)*$L16*(0.7/($L16-1))))))))) -> 625461 | P16: =IF($L16="","",IF(OR(P$9<$M16,P$9>$N16),"",IF($K16=1,IF((P$9/$M16)=1,($I16/1000)/(($L16)*2)*$L16*1.3,IF((P$9/$M16)>1,($I16/1000)/(($L16)*2)*$L16*(0.7/($L16-1)))),IF($K16=2,($I16/1000)/$L16,IF($K16=3,IF((P$9/$N16)=1,($I16/1000)/(($L16)*2)*$L16*1.3,IF((P$9/$N16)<1,($I16/1000)/(($L16)*2)*$L16*(0.7/($L16-1))))))))) | Q16: =IF($L16="","",IF(OR(Q$9<$M16,Q$9>$N16),"",IF($K16=1,IF((Q$9/$M16)=1,($I16/1000)/(($L16)*2)*$L16*1.3,IF((Q$9/$M16)>1,($I16/1000)/(($L16)*2)*$L16*(0.7/($L16-1)))),IF($K16=2,($I16/1000)/$L16,IF($K16=3,IF((Q$9/$N16)=1,($I16/1000)/(($L16)*2)*$L16*1.3,IF((Q$9/$N16)<1,($I16/1000)/(($L16)*2)*$L16*(0.7/($L16-1))))))))) | R16: =IF($L16="","",IF(OR(R$9<$M16,R$9>$N16),"",IF($K16=1,IF((R$9/$M16)=1,($I16/1000)/(($L16)*2)*$L16*1.3,IF((R$9/$M16)>1,($I16/1000)/(($L16)*2)*$L16*(0.7/($L16-1)))),IF($K16=2,($I16/1000)/$L16,IF($K16=3,IF((R$9/$N16)=1,($I16/1000)/(($L16)*2)*$L16*1.3,IF((R$9/$N16)<1,($I16/1000)/(($L16)*2)*$L16*(0.7/($L16-1))))))))) | S16: =IF($L16="","",IF(OR(S$9<$M16,S$9>$N16),"",IF($K16=1,IF((S$9/$M16)=1,($I16/1000)/(($L16)*2)*$L16*1.3,IF((S$9/$M16)>1,($I16/1000)/(($L16)*2)*$L16*(0.7/($L16-1)))),IF($K16=2,($I16/1000)/$L16,IF($K16=3,IF((S$9/$N16)=1,($I16/1000)/(($L16)*2)*$L16*1.3,IF((S$9/$N16)<1,($I16/1000)/(($L16)*2)*$L16*(0.7/($L16-1))))))))) | T16: =IF($L16="","",IF(OR(T$9<$M16,T$9>$N16),"",IF($K16=1,IF((T$9/$M16)=1,($I16/1000)/(($L16)*2)*$L16*1.3,IF((T$9/$M16)>1,($I16/1000)/(($L16)*2)*$L16*(0.7/($L16-1)))),IF($K16=2,($I16/1000)/$L16,IF($K16=3,IF((T$9/$N16)=1,($I16/1000)/(($L16)*2)*$L16*1.3,IF((T$9/$N16)<1,($I16/1000)/(($L16)*2)*$L16*(0.7/($L16-1))))))))) | U16: =IF($L16="","",IF(OR(U$9<$M16,U$9>$N16),"",IF($K16=1,IF((U$9/$M16)=1,($I16/1000)/(($L16)*2)*$L16*1.3,IF((U$9/$M16)>1,($I16/1000)/(($L16)*2)*$L16*(0.7/($L16-1)))),IF($K16=2,($I16/1000)/$L16,IF($K16=3,IF((U$9/$N16)=1,($I16/1000)/(($L16)*2)*$L16*1.3,IF((U$9/$N16)<1,($I16/1000)/(($L16)*2)*$L16*(0.7/($L16-1))))))))) | V16: =IF($L16="","",IF(OR(V$9<$M16,V$9>$N16),"",IF($K16=1,IF((V$9/$M16)=1,($I16/1000)/(($L16)*2)*$L16*1.3,IF((V$9/$M16)>1,($I16/1000)/(($L16)*2)*$L16*(0.7/($L16-1)))),IF($K16=2,($I16/1000)/$L16,IF($K16=3,IF((V$9/$N16)=1,($I16/1000)/(($L16)*2)*$L16*1.3,IF((V$9/$N16)<1,($I16/1000)/(($L16)*2)*$L16*(0.7/($L16-1))))))))) | ... X16: =IF($L16="","",IF(OR(X$9<$M16,X$9>$N16),"",IF($K16=1,IF((X$9/$M16)=1,($I16/1000)/(($L16)*2)*$L16*1.3,IF((X$9/$M16)>1,($I16/1000)/(($L16)*2)*$L16*(0.7/($L16-1)))),IF($K16=2,($I16/1000)/$L16,IF($K16=3,IF((X$9/$N16)=1,($I16/1000)/(($L16)*2)*$L16*1.3,IF((X$9/$N16)<1,($I16/1000)/(($L16)*2)*$L16*(0.7/($L16-1)))))))))
B17: TRANSPORTE DE MATERIALES PROVENIENTES DE LA EXCAVACION DE LA EXPLANACION, CANALES Y PRESTAMOS, ENTRE CIEN METROS (100 M) Y MIL METROS (1000 M) DE DISTANCIA | C17: 900.1 | D17: =D16+0.1 -> 2.3 | E17: Acarreo material de excavación sobrante (Incluye cargue y Transporte) | F17: m3-km | G17: =ROUND(MC!$C$285,2) -> 89286.75 | H17: =+'2.3'!G43 -> 1283 | I17: =+G17*H17 -> 114554900 | K17: 1 | L17: 2 | M17: 1 | N17: =IF(L17="","",M17+L17-1) -> 2 | O17: =IF($L17="","",IF(OR(O$9<$M17,O$9>$N17),"",IF($K17=1,IF((O$9/$M17)=1,($I17/1000)/(($L17)*2)*$L17*1.3,IF((O$9/$M17)>1,($I17/1000)/(($L17)*2)*$L17*(0.7/($L17-1)))),IF($K17=2,($I17/1000)/$L17,IF($K17=3,IF((O$9/$N17)=1,($I17/1000)/(($L17)*2)*$L17*1.3,IF((O$9/$N17)<1,($I17/1000)/(($L17)*2)*$L17*(0.7/($L17-1))))))))) -> 74461 | P17: =IF($L17="","",IF(OR(P$9<$M17,P$9>$N17),"",IF($K17=1,IF((P$9/$M17)=1,($I17/1000)/(($L17)*2)*$L17*1.3,IF((P$9/$M17)>1,($I17/1000)/(($L17)*2)*$L17*(0.7/($L17-1)))),IF($K17=2,($I17/1000)/$L17,IF($K17=3,IF((P$9/$N17)=1,($I17/1000)/(($L17)*2)*$L17*1.3,IF((P$9/$N17)<1,($I17/1000)/(($L17)*2)*$L17*(0.7/($L17-1))))))))) -> 40094 | Q17: =IF($L17="","",IF(OR(Q$9<$M17,Q$9>$N17),"",IF($K17=1,IF((Q$9/$M17)=1,($I17/1000)/(($L17)*2)*$L17*1.3,IF((Q$9/$M17)>1,($I17/1000)/(($L17)*2)*$L17*(0.7/($L17-1)))),IF($K17=2,($I17/1000)/$L17,IF($K17=3,IF((Q$9/$N17)=1,($I17/1000)/(($L17)*2)*$L17*1.3,IF((Q$9/$N17)<1,($I17/1000)/(($L17)*2)*$L17*(0.7/($L17-1))))))))) | R17: =IF($L17="","",IF(OR(R$9<$M17,R$9>$N17),"",IF($K17=1,IF((R$9/$M17)=1,($I17/1000)/(($L17)*2)*$L17*1.3,IF((R$9/$M17)>1,($I17/1000)/(($L17)*2)*$L17*(0.7/($L17-1)))),IF($K17=2,($I17/1000)/$L17,IF($K17=3,IF((R$9/$N17)=1,($I17/1000)/(($L17)*2)*$L17*1.3,IF((R$9/$N17)<1,($I17/1000)/(($L17)*2)*$L17*(0.7/($L17-1))))))))) | S17: =IF($L17="","",IF(OR(S$9<$M17,S$9>$N17),"",IF($K17=1,IF((S$9/$M17)=1,($I17/1000)/(($L17)*2)*$L17*1.3,IF((S$9/$M17)>1,($I17/1000)/(($L17)*2)*$L17*(0.7/($L17-1)))),IF($K17=2,($I17/1000)/$L17,IF($K17=3,IF((S$9/$N17)=1,($I17/1000)/(($L17)*2)*$L17*1.3,IF((S$9/$N17)<1,($I17/1000)/(($L17)*2)*$L17*(0.7/($L17-1))))))))) | T17: =IF($L17="","",IF(OR(T$9<$M17,T$9>$N17),"",IF($K17=1,IF((T$9/$M17)=1,($I17/1000)/(($L17)*2)*$L17*1.3,IF((T$9/$M17)>1,($I17/1000)/(($L17)*2)*$L17*(0.7/($L17-1)))),IF($K17=2,($I17/1000)/$L17,IF($K17=3,IF((T$9/$N17)=1,($I17/1000)/(($L17)*2)*$L17*1.3,IF((T$9/$N17)<1,($I17/1000)/(($L17)*2)*$L17*(0.7/($L17-1))))))))) | U17: =IF($L17="","",IF(OR(U$9<$M17,U$9>$N17),"",IF($K17=1,IF((U$9/$M17)=1,($I17/1000)/(($L17)*2)*$L17*1.3,IF((U$9/$M17)>1,($I17/1000)/(($L17)*2)*$L17*(0.7/($L17-1)))),IF($K17=2,($I17/1000)/$L17,IF($K17=3,IF((U$9/$N17)=1,($I17/1000)/(($L17)*2)*$L17*1.3,IF((U$9/$N17)<1,($I17/1000)/(($L17)*2)*$L17*(0.7/($L17-1))))))))) | V17: =IF($L17="","",IF(OR(V$9<$M17,V$9>$N17),"",IF($K17=1,IF((V$9/$M17)=1,($I17/1000)/(($L17)*2)*$L17*1.3,IF((V$9/$M17)>1,($I17/1000)/(($L17)*2)*$L17*(0.7/($L17-1)))),IF($K17=2,($I17/1000)/$L17,IF($K17=3,IF((V$9/$N17)=1,($I17/1000)/(($L17)*2)*$L17*1.3,IF((V$9/$N17)<1,($I17/1000)/(($L17)*2)*$L17*(0.7/($L17-1))))))))) | ... X17: =IF($L17="","",IF(OR(X$9<$M17,X$9>$N17),"",IF($K17=1,IF((X$9/$M17)=1,($I17/1000)/(($L17)*2)*$L17*1.3,IF((X$9/$M17)>1,($I17/1000)/(($L17)*2)*$L17*(0.7/($L17-1)))),IF($K17=2,($I17/1000)/$L17,IF($K17=3,IF((X$9/$N17)=1,($I17/1000)/(($L17)*2)*$L17*1.3,IF((X$9/$N17)<1,($I17/1000)/(($L17)*2)*$L17*(0.7/($L17-1)))))))))
B18: RELLENOS PARA ESTRUCTURAS CON RECEBO. | C18: 610.2 | D18: =D17+0.1 -> 2.4 | E18: Relleno con material tipo II (Gravo-Arcilloso) para suelo estabilizado con CAL | F18: m3 | G18: =+ROUND(MC!$C$297,2) -> 10065.12 | H18: =+'2.4'!G43 -> 51655 | I18: =+G18*H18 -> 519913774 | K18: 3 | L18: 2 | M18: 1 | N18: =IF(L18="","",M18+L18-1) -> 2 | O18: =IF($L18="","",IF(OR(O$9<$M18,O$9>$N18),"",IF($K18=1,IF((O$9/$M18)=1,($I18/1000)/(($L18)*2)*$L18*1.3,IF((O$9/$M18)>1,($I18/1000)/(($L18)*2)*$L18*(0.7/($L18-1)))),IF($K18=2,($I18/1000)/$L18,IF($K18=3,IF((O$9/$N18)=1,($I18/1000)/(($L18)*2)*$L18*1.3,IF((O$9/$N18)<1,($I18/1000)/(($L18)*2)*$L18*(0.7/($L18-1))))))))) -> 181970 | P18: =IF($L18="","",IF(OR(P$9<$M18,P$9>$N18),"",IF($K18=1,IF((P$9/$M18)=1,($I18/1000)/(($L18)*2)*$L18*1.3,IF((P$9/$M18)>1,($I18/1000)/(($L18)*2)*$L18*(0.7/($L18-1)))),IF($K18=2,($I18/1000)/$L18,IF($K18=3,IF((P$9/$N18)=1,($I18/1000)/(($L18)*2)*$L18*1.3,IF((P$9/$N18)<1,($I18/1000)/(($L18)*2)*$L18*(0.7/($L18-1))))))))) -> 337944 | Q18: =IF($L18="","",IF(OR(Q$9<$M18,Q$9>$N18),"",IF($K18=1,IF((Q$9/$M18)=1,($I18/1000)/(($L18)*2)*$L18*1.3,IF((Q$9/$M18)>1,($I18/1000)/(($L18)*2)*$L18*(0.7/($L18-1)))),IF($K18=2,($I18/1000)/$L18,IF($K18=3,IF((Q$9/$N18)=1,($I18/1000)/(($L18)*2)*$L18*1.3,IF((Q$9/$N18)<1,($I18/1000)/(($L18)*2)*$L18*(0.7/($L18-1))))))))) | R18: =IF($L18="","",IF(OR(R$9<$M18,R$9>$N18),"",IF($K18=1,IF((R$9/$M18)=1,($I18/1000)/(($L18)*2)*$L18*1.3,IF((R$9/$M18)>1,($I18/1000)/(($L18)*2)*$L18*(0.7/($L18-1)))),IF($K18=2,($I18/1000)/$L18,IF($K18=3,IF((R$9/$N18)=1,($I18/1000)/(($L18)*2)*$L18*1.3,IF((R$9/$N18)<1,($I18/1000)/(($L18)*2)*$L18*(0.7/($L18-1))))))))) | S18: =IF($L18="","",IF(OR(S$9<$M18,S$9>$N18),"",IF($K18=1,IF((S$9/$M18)=1,($I18/1000)/(($L18)*2)*$L18*1.3,IF((S$9/$M18)>1,($I18/1000)/(($L18)*2)*$L18*(0.7/($L18-1)))),IF($K18=2,($I18/1000)/$L18,IF($K18=3,IF((S$9/$N18)=1,($I18/1000)/(($L18)*2)*$L18*1.3,IF((S$9/$N18)<1,($I18/1000)/(($L18)*2)*$L18*(0.7/($L18-1))))))))) | T18: =IF($L18="","",IF(OR(T$9<$M18,T$9>$N18),"",IF($K18=1,IF((T$9/$M18)=1,($I18/1000)/(($L18)*2)*$L18*1.3,IF((T$9/$M18)>1,($I18/1000)/(($L18)*2)*$L18*(0.7/($L18-1)))),IF($K18=2,($I18/1000)/$L18,IF($K18=3,IF((T$9/$N18)=1,($I18/1000)/(($L18)*2)*$L18*1.3,IF((T$9/$N18)<1,($I18/1000)/(($L18)*2)*$L18*(0.7/($L18-1))))))))) | U18: =IF($L18="","",IF(OR(U$9<$M18,U$9>$N18),"",IF($K18=1,IF((U$9/$M18)=1,($I18/1000)/(($L18)*2)*$L18*1.3,IF((U$9/$M18)>1,($I18/1000)/(($L18)*2)*$L18*(0.7/($L18-1)))),IF($K18=2,($I18/1000)/$L18,IF($K18=3,IF((U$9/$N18)=1,($I18/1000)/(($L18)*2)*$L18*1.3,IF((U$9/$N18)<1,($I18/1000)/(($L18)*2)*$L18*(0.7/($L18-1))))))))) | V18: =IF($L18="","",IF(OR(V$9<$M18,V$9>$N18),"",IF($K18=1,IF((V$9/$M18)=1,($I18/1000)/(($L18)*2)*$L18*1.3,IF((V$9/$M18)>1,($I18/1000)/(($L18)*2)*$L18*(0.7/($L18-1)))),IF($K18=2,($I18/1000)/$L18,IF($K18=3,IF((V$9/$N18)=1,($I18/1000)/(($L18)*2)*$L18*1.3,IF((V$9/$N18)<1,($I18/1000)/(($L18)*2)*$L18*(0.7/($L18-1))))))))) | ... X18: =IF($L18="","",IF(OR(X$9<$M18,X$9>$N18),"",IF($K18=1,IF((X$9/$M18)=1,($I18/1000)/(($L18)*2)*$L18*1.3,IF((X$9/$M18)>1,($I18/1000)/(($L18)*2)*$L18*(0.7/($L18-1)))),IF($K18=2,($I18/1000)/$L18,IF($K18=3,IF((X$9/$N18)=1,($I18/1000)/(($L18)*2)*$L18*1.3,IF((X$9/$N18)<1,($I18/1000)/(($L18)*2)*$L18*(0.7/($L18-1)))))))))
D19: =D18+0.1 -> 2.5 | E19: Seleccion, extendido, conformación y compactación de material seleccionado proveniente de la excavacion. | F19: m3 | G19: =ROUND(MC!$C$312,2) -> 2988.23 | H19: ='2.5'!G43 -> 21318 | I19: =G19*H19 -> 63703087 | K19: 1 | L19: 2 | M19: 2 | N19: =IF(L19="","",M19+L19-1) -> 3 | O19: =IF($L19="","",IF(OR(O$9<$M19,O$9>$N19),"",IF($K19=1,IF((O$9/$M19)=1,($I19/1000)/(($L19)*2)*$L19*1.3,IF((O$9/$M19)>1,($I19/1000)/(($L19)*2)*$L19*(0.7/($L19-1)))),IF($K19=2,($I19/1000)/$L19,IF($K19=3,IF((O$9/$N19)=1,($I19/1000)/(($L19)*2)*$L19*1.3,IF((O$9/$N19)<1,($I19/1000)/(($L19)*2)*$L19*(0.7/($L19-1))))))))) | P19: =IF($L19="","",IF(OR(P$9<$M19,P$9>$N19),"",IF($K19=1,IF((P$9/$M19)=1,($I19/1000)/(($L19)*2)*$L19*1.3,IF((P$9/$M19)>1,($I19/1000)/(($L19)*2)*$L19*(0.7/($L19-1)))),IF($K19=2,($I19/1000)/$L19,IF($K19=3,IF((P$9/$N19)=1,($I19/1000)/(($L19)*2)*$L19*1.3,IF((P$9/$N19)<1,($I19/1000)/(($L19)*2)*$L19*(0.7/($L19-1))))))))) -> 41407 | Q19: =IF($L19="","",IF(OR(Q$9<$M19,Q$9>$N19),"",IF($K19=1,IF((Q$9/$M19)=1,($I19/1000)/(($L19)*2)*$L19*1.3,IF((Q$9/$M19)>1,($I19/1000)/(($L19)*2)*$L19*(0.7/($L19-1)))),IF($K19=2,($I19/1000)/$L19,IF($K19=3,IF((Q$9/$N19)=1,($I19/1000)/(($L19)*2)*$L19*1.3,IF((Q$9/$N19)<1,($I19/1000)/(($L19)*2)*$L19*(0.7/($L19-1))))))))) -> 22296 | R19: =IF($L19="","",IF(OR(R$9<$M19,R$9>$N19),"",IF($K19=1,IF((R$9/$M19)=1,($I19/1000)/(($L19)*2)*$L19*1.3,IF((R$9/$M19)>1,($I19/1000)/(($L19)*2)*$L19*(0.7/($L19-1)))),IF($K19=2,($I19/1000)/$L19,IF($K19=3,IF((R$9/$N19)=1,($I19/1000)/(($L19)*2)*$L19*1.3,IF((R$9/$N19)<1,($I19/1000)/(($L19)*2)*$L19*(0.7/($L19-1))))))))) | S19: =IF($L19="","",IF(OR(S$9<$M19,S$9>$N19),"",IF($K19=1,IF((S$9/$M19)=1,($I19/1000)/(($L19)*2)*$L19*1.3,IF((S$9/$M19)>1,($I19/1000)/(($L19)*2)*$L19*(0.7/($L19-1)))),IF($K19=2,($I19/1000)/$L19,IF($K19=3,IF((S$9/$N19)=1,($I19/1000)/(($L19)*2)*$L19*1.3,IF((S$9/$N19)<1,($I19/1000)/(($L19)*2)*$L19*(0.7/($L19-1))))))))) | T19: =IF($L19="","",IF(OR(T$9<$M19,T$9>$N19),"",IF($K19=1,IF((T$9/$M19)=1,($I19/1000)/(($L19)*2)*$L19*1.3,IF((T$9/$M19)>1,($I19/1000)/(($L19)*2)*$L19*(0.7/($L19-1)))),IF($K19=2,($I19/1000)/$L19,IF($K19=3,IF((T$9/$N19)=1,($I19/1000)/(($L19)*2)*$L19*1.3,IF((T$9/$N19)<1,($I19/1000)/(($L19)*2)*$L19*(0.7/($L19-1))))))))) | U19: =IF($L19="","",IF(OR(U$9<$M19,U$9>$N19),"",IF($K19=1,IF((U$9/$M19)=1,($I19/1000)/(($L19)*2)*$L19*1.3,IF((U$9/$M19)>1,($I19/1000)/(($L19)*2)*$L19*(0.7/($L19-1)))),IF($K19=2,($I19/1000)/$L19,IF($K19=3,IF((U$9/$N19)=1,($I19/1000)/(($L19)*2)*$L19*1.3,IF((U$9/$N19)<1,($I19/1000)/(($L19)*2)*$L19*(0.7/($L19-1))))))))) | V19: =IF($L19="","",IF(OR(V$9<$M19,V$9>$N19),"",IF($K19=1,IF((V$9/$M19)=1,($I19/1000)/(($L19)*2)*$L19*1.3,IF((V$9/$M19)>1,($I19/1000)/(($L19)*2)*$L19*(0.7/($L19-1)))),IF($K19=2,($I19/1000)/$L19,IF($K19=3,IF((V$9/$N19)=1,($I19/1000)/(($L19)*2)*$L19*1.3,IF((V$9/$N19)<1,($I19/1000)/(($L19)*2)*$L19*(0.7/($L19-1))))))))) | ... X19: =IF($L19="","",IF(OR(X$9<$M19,X$9>$N19),"",IF($K19=1,IF((X$9/$M19)=1,($I19/1000)/(($L19)*2)*$L19*1.3,IF((X$9/$M19)>1,($I19/1000)/(($L19)*2)*$L19*(0.7/($L19-1)))),IF($K19=2,($I19/1000)/$L19,IF($K19=3,IF((X$9/$N19)=1,($I19/1000)/(($L19)*2)*$L19*1.3,IF((X$9/$N19)<1,($I19/1000)/(($L19)*2)*$L19*(0.7/($L19-1)))))))))
D20: =D19+0.1 -> 2.6 | E20: Suministro, extendido, conformación y compactación de arena para proteccion de tuberia de Alcantarillado. | F20: m3 | G20: =ROUND(MC!$C$320,2) -> 1270.17 | H20: ='2.6'!G43 -> 65532 | I20: =G20*H20 -> 83236780 | K20: 2 | L20: 2 | M20: 2 | N20: =IF(L20="","",M20+L20-1) -> 3 | O20: =IF($L20="","",IF(OR(O$9<$M20,O$9>$N20),"",IF($K20=1,IF((O$9/$M20)=1,($I20/1000)/(($L20)*2)*$L20*1.3,IF((O$9/$M20)>1,($I20/1000)/(($L20)*2)*$L20*(0.7/($L20-1)))),IF($K20=2,($I20/1000)/$L20,IF($K20=3,IF((O$9/$N20)=1,($I20/1000)/(($L20)*2)*$L20*1.3,IF((O$9/$N20)<1,($I20/1000)/(($L20)*2)*$L20*(0.7/($L20-1))))))))) | P20: =IF($L20="","",IF(OR(P$9<$M20,P$9>$N20),"",IF($K20=1,IF((P$9/$M20)=1,($I20/1000)/(($L20)*2)*$L20*1.3,IF((P$9/$M20)>1,($I20/1000)/(($L20)*2)*$L20*(0.7/($L20-1)))),IF($K20=2,($I20/1000)/$L20,IF($K20=3,IF((P$9/$N20)=1,($I20/1000)/(($L20)*2)*$L20*1.3,IF((P$9/$N20)<1,($I20/1000)/(($L20)*2)*$L20*(0.7/($L20-1))))))))) -> 41618 | Q20: =IF($L20="","",IF(OR(Q$9<$M20,Q$9>$N20),"",IF($K20=1,IF((Q$9/$M20)=1,($I20/1000)/(($L20)*2)*$L20*1.3,IF((Q$9/$M20)>1,($I20/1000)/(($L20)*2)*$L20*(0.7/($L20-1)))),IF($K20=2,($I20/1000)/$L20,IF($K20=3,IF((Q$9/$N20)=1,($I20/1000)/(($L20)*2)*$L20*1.3,IF((Q$9/$N20)<1,($I20/1000)/(($L20)*2)*$L20*(0.7/($L20-1))))))))) -> 41618 | R20: =IF($L20="","",IF(OR(R$9<$M20,R$9>$N20),"",IF($K20=1,IF((R$9/$M20)=1,($I20/1000)/(($L20)*2)*$L20*1.3,IF((R$9/$M20)>1,($I20/1000)/(($L20)*2)*$L20*(0.7/($L20-1)))),IF($K20=2,($I20/1000)/$L20,IF($K20=3,IF((R$9/$N20)=1,($I20/1000)/(($L20)*2)*$L20*1.3,IF((R$9/$N20)<1,($I20/1000)/(($L20)*2)*$L20*(0.7/($L20-1))))))))) | S20: =IF($L20="","",IF(OR(S$9<$M20,S$9>$N20),"",IF($K20=1,IF((S$9/$M20)=1,($I20/1000)/(($L20)*2)*$L20*1.3,IF((S$9/$M20)>1,($I20/1000)/(($L20)*2)*$L20*(0.7/($L20-1)))),IF($K20=2,($I20/1000)/$L20,IF($K20=3,IF((S$9/$N20)=1,($I20/1000)/(($L20)*2)*$L20*1.3,IF((S$9/$N20)<1,($I20/1000)/(($L20)*2)*$L20*(0.7/($L20-1))))))))) | T20: =IF($L20="","",IF(OR(T$9<$M20,T$9>$N20),"",IF($K20=1,IF((T$9/$M20)=1,($I20/1000)/(($L20)*2)*$L20*1.3,IF((T$9/$M20)>1,($I20/1000)/(($L20)*2)*$L20*(0.7/($L20-1)))),IF($K20=2,($I20/1000)/$L20,IF($K20=3,IF((T$9/$N20)=1,($I20/1000)/(($L20)*2)*$L20*1.3,IF((T$9/$N20)<1,($I20/1000)/(($L20)*2)*$L20*(0.7/($L20-1))))))))) | U20: =IF($L20="","",IF(OR(U$9<$M20,U$9>$N20),"",IF($K20=1,IF((U$9/$M20)=1,($I20/1000)/(($L20)*2)*$L20*1.3,IF((U$9/$M20)>1,($I20/1000)/(($L20)*2)*$L20*(0.7/($L20-1)))),IF($K20=2,($I20/1000)/$L20,IF($K20=3,IF((U$9/$N20)=1,($I20/1000)/(($L20)*2)*$L20*1.3,IF((U$9/$N20)<1,($I20/1000)/(($L20)*2)*$L20*(0.7/($L20-1))))))))) | V20: =IF($L20="","",IF(OR(V$9<$M20,V$9>$N20),"",IF($K20=1,IF((V$9/$M20)=1,($I20/1000)/(($L20)*2)*$L20*1.3,IF((V$9/$M20)>1,($I20/1000)/(($L20)*2)*$L20*(0.7/($L20-1)))),IF($K20=2,($I20/1000)/$L20,IF($K20=3,IF((V$9/$N20)=1,($I20/1000)/(($L20)*2)*$L20*1.3,IF((V$9/$N20)<1,($I20/1000)/(($L20)*2)*$L20*(0.7/($L20-1))))))))) | ... X20: =IF($L20="","",IF(OR(X$9<$M20,X$9>$N20),"",IF($K20=1,IF((X$9/$M20)=1,($I20/1000)/(($L20)*2)*$L20*1.3,IF((X$9/$M20)>1,($I20/1000)/(($L20)*2)*$L20*(0.7/($L20-1)))),IF($K20=2,($I20/1000)/$L20,IF($K20=3,IF((X$9/$N20)=1,($I20/1000)/(($L20)*2)*$L20*1.3,IF((X$9/$N20)<1,($I20/1000)/(($L20)*2)*$L20*(0.7/($L20-1)))))))))
D21: =D20+0.1 -> 2.7 | E21: Colchon filtrante en material de entre 1 1/2" y 2 1/2" detrás de muros de contencion separado del suelo por Geotextil NT, e=0.30, incluye lloraderos de D=2" | F21: m2 | G21: =MC!C326 -> 0 | H21: ='2.7'!G43 -> 50971 | I21: =G21*H21 -> 0 | K21: 2 | L21: 2 | M21: 2 | N21: =IF(L21="","",M21+L21-1) -> 3 | O21: =IF($L21="","",IF(OR(O$9<$M21,O$9>$N21),"",IF($K21=1,IF((O$9/$M21)=1,($I21/1000)/(($L21)*2)*$L21*1.3,IF((O$9/$M21)>1,($I21/1000)/(($L21)*2)*$L21*(0.7/($L21-1)))),IF($K21=2,($I21/1000)/$L21,IF($K21=3,IF((O$9/$N21)=1,($I21/1000)/(($L21)*2)*$L21*1.3,IF((O$9/$N21)<1,($I21/1000)/(($L21)*2)*$L21*(0.7/($L21-1))))))))) | P21: =IF($L21="","",IF(OR(P$9<$M21,P$9>$N21),"",IF($K21=1,IF((P$9/$M21)=1,($I21/1000)/(($L21)*2)*$L21*1.3,IF((P$9/$M21)>1,($I21/1000)/(($L21)*2)*$L21*(0.7/($L21-1)))),IF($K21=2,($I21/1000)/$L21,IF($K21=3,IF((P$9/$N21)=1,($I21/1000)/(($L21)*2)*$L21*1.3,IF((P$9/$N21)<1,($I21/1000)/(($L21)*2)*$L21*(0.7/($L21-1))))))))) -> 0 | Q21: =IF($L21="","",IF(OR(Q$9<$M21,Q$9>$N21),"",IF($K21=1,IF((Q$9/$M21)=1,($I21/1000)/(($L21)*2)*$L21*1.3,IF((Q$9/$M21)>1,($I21/1000)/(($L21)*2)*$L21*(0.7/($L21-1)))),IF($K21=2,($I21/1000)/$L21,IF($K21=3,IF((Q$9/$N21)=1,($I21/1000)/(($L21)*2)*$L21*1.3,IF((Q$9/$N21)<1,($I21/1000)/(($L21)*2)*$L21*(0.7/($L21-1))))))))) -> 0 | R21: =IF($L21="","",IF(OR(R$9<$M21,R$9>$N21),"",IF($K21=1,IF((R$9/$M21)=1,($I21/1000)/(($L21)*2)*$L21*1.3,IF((R$9/$M21)>1,($I21/1000)/(($L21)*2)*$L21*(0.7/($L21-1)))),IF($K21=2,($I21/1000)/$L21,IF($K21=3,IF((R$9/$N21)=1,($I21/1000)/(($L21)*2)*$L21*1.3,IF((R$9/$N21)<1,($I21/1000)/(($L21)*2)*$L21*(0.7/($L21-1))))))))) | S21: =IF($L21="","",IF(OR(S$9<$M21,S$9>$N21),"",IF($K21=1,IF((S$9/$M21)=1,($I21/1000)/(($L21)*2)*$L21*1.3,IF((S$9/$M21)>1,($I21/1000)/(($L21)*2)*$L21*(0.7/($L21-1)))),IF($K21=2,($I21/1000)/$L21,IF($K21=3,IF((S$9/$N21)=1,($I21/1000)/(($L21)*2)*$L21*1.3,IF((S$9/$N21)<1,($I21/1000)/(($L21)*2)*$L21*(0.7/($L21-1))))))))) | T21: =IF($L21="","",IF(OR(T$9<$M21,T$9>$N21),"",IF($K21=1,IF((T$9/$M21)=1,($I21/1000)/(($L21)*2)*$L21*1.3,IF((T$9/$M21)>1,($I21/1000)/(($L21)*2)*$L21*(0.7/($L21-1)))),IF($K21=2,($I21/1000)/$L21,IF($K21=3,IF((T$9/$N21)=1,($I21/1000)/(($L21)*2)*$L21*1.3,IF((T$9/$N21)<1,($I21/1000)/(($L21)*2)*$L21*(0.7/($L21-1))))))))) | U21: =IF($L21="","",IF(OR(U$9<$M21,U$9>$N21),"",IF($K21=1,IF((U$9/$M21)=1,($I21/1000)/(($L21)*2)*$L21*1.3,IF((U$9/$M21)>1,($I21/1000)/(($L21)*2)*$L21*(0.7/($L21-1)))),IF($K21=2,($I21/1000)/$L21,IF($K21=3,IF((U$9/$N21)=1,($I21/1000)/(($L21)*2)*$L21*1.3,IF((U$9/$N21)<1,($I21/1000)/(($L21)*2)*$L21*(0.7/($L21-1))))))))) | V21: =IF($L21="","",IF(OR(V$9<$M21,V$9>$N21),"",IF($K21=1,IF((V$9/$M21)=1,($I21/1000)/(($L21)*2)*$L21*1.3,IF((V$9/$M21)>1,($I21/1000)/(($L21)*2)*$L21*(0.7/($L21-1)))),IF($K21=2,($I21/1000)/$L21,IF($K21=3,IF((V$9/$N21)=1,($I21/1000)/(($L21)*2)*$L21*1.3,IF((V$9/$N21)<1,($I21/1000)/(($L21)*2)*$L21*(0.7/($L21-1))))))))) | ... X21: =IF($L21="","",IF(OR(X$9<$M21,X$9>$N21),"",IF($K21=1,IF((X$9/$M21)=1,($I21/1000)/(($L21)*2)*$L21*1.3,IF((X$9/$M21)>1,($I21/1000)/(($L21)*2)*$L21*(0.7/($L21-1)))),IF($K21=2,($I21/1000)/$L21,IF($K21=3,IF((X$9/$N21)=1,($I21/1000)/(($L21)*2)*$L21*1.3,IF((X$9/$N21)<1,($I21/1000)/(($L21)*2)*$L21*(0.7/($L21-1)))))))))
D22: =CONCATENATE("SUBTOTAL ",E14) -> SUBTOTAL MOVIMIENTOS DE TIERRA Y ADECUACIONES | I22: =SUM(I15:I21) -> 1431766480 | K22: 2 | N22: =IF(L22="","",M22+L22-1) | O22: =IF($L22="","",IF(OR(O$9<$M22,O$9>$N22),"",IF($K22=1,IF((O$9/$M22)=1,($I22/1000)/(($L22)*2)*$L22*1.3,IF((O$9/$M22)>1,($I22/1000)/(($L22)*2)*$L22*(0.7/($L22-1)))),IF($K22=2,($I22/1000)/$L22,IF($K22=3,IF((O$9/$N22)=1,($I22/1000)/(($L22)*2)*$L22*1.3,IF((O$9/$N22)<1,($I22/1000)/(($L22)*2)*$L22*(0.7/($L22-1))))))))) | P22: =IF($L22="","",IF(OR(P$9<$M22,P$9>$N22),"",IF($K22=1,IF((P$9/$M22)=1,($I22/1000)/(($L22)*2)*$L22*1.3,IF((P$9/$M22)>1,($I22/1000)/(($L22)*2)*$L22*(0.7/($L22-1)))),IF($K22=2,($I22/1000)/$L22,IF($K22=3,IF((P$9/$N22)=1,($I22/1000)/(($L22)*2)*$L22*1.3,IF((P$9/$N22)<1,($I22/1000)/(($L22)*2)*$L22*(0.7/($L22-1))))))))) | Q22: =IF($L22="","",IF(OR(Q$9<$M22,Q$9>$N22),"",IF($K22=1,IF((Q$9/$M22)=1,($I22/1000)/(($L22)*2)*$L22*1.3,IF((Q$9/$M22)>1,($I22/1000)/(($L22)*2)*$L22*(0.7/($L22-1)))),IF($K22=2,($I22/1000)/$L22,IF($K22=3,IF((Q$9/$N22)=1,($I22/1000)/(($L22)*2)*$L22*1.3,IF((Q$9/$N22)<1,($I22/1000)/(($L22)*2)*$L22*(0.7/($L22-1))))))))) | R22: =IF($L22="","",IF(OR(R$9<$M22,R$9>$N22),"",IF($K22=1,IF((R$9/$M22)=1,($I22/1000)/(($L22)*2)*$L22*1.3,IF((R$9/$M22)>1,($I22/1000)/(($L22)*2)*$L22*(0.7/($L22-1)))),IF($K22=2,($I22/1000)/$L22,IF($K22=3,IF((R$9/$N22)=1,($I22/1000)/(($L22)*2)*$L22*1.3,IF((R$9/$N22)<1,($I22/1000)/(($L22)*2)*$L22*(0.7/($L22-1))))))))) | S22: =IF($L22="","",IF(OR(S$9<$M22,S$9>$N22),"",IF($K22=1,IF((S$9/$M22)=1,($I22/1000)/(($L22)*2)*$L22*1.3,IF((S$9/$M22)>1,($I22/1000)/(($L22)*2)*$L22*(0.7/($L22-1)))),IF($K22=2,($I22/1000)/$L22,IF($K22=3,IF((S$9/$N22)=1,($I22/1000)/(($L22)*2)*$L22*1.3,IF((S$9/$N22)<1,($I22/1000)/(($L22)*2)*$L22*(0.7/($L22-1))))))))) | T22: =IF($L22="","",IF(OR(T$9<$M22,T$9>$N22),"",IF($K22=1,IF((T$9/$M22)=1,($I22/1000)/(($L22)*2)*$L22*1.3,IF((T$9/$M22)>1,($I22/1000)/(($L22)*2)*$L22*(0.7/($L22-1)))),IF($K22=2,($I22/1000)/$L22,IF($K22=3,IF((T$9/$N22)=1,($I22/1000)/(($L22)*2)*$L22*1.3,IF((T$9/$N22)<1,($I22/1000)/(($L22)*2)*$L22*(0.7/($L22-1))))))))) | U22: =IF($L22="","",IF(OR(U$9<$M22,U$9>$N22),"",IF($K22=1,IF((U$9/$M22)=1,($I22/1000)/(($L22)*2)*$L22*1.3,IF((U$9/$M22)>1,($I22/1000)/(($L22)*2)*$L22*(0.7/($L22-1)))),IF($K22=2,($I22/1000)/$L22,IF($K22=3,IF((U$9/$N22)=1,($I22/1000)/(($L22)*2)*$L22*1.3,IF((U$9/$N22)<1,($I22/1000)/(($L22)*2)*$L22*(0.7/($L22-1))))))))) | V22: =IF($L22="","",IF(OR(V$9<$M22,V$9>$N22),"",IF($K22=1,IF((V$9/$M22)=1,($I22/1000)/(($L22)*2)*$L22*1.3,IF((V$9/$M22)>1,($I22/1000)/(($L22)*2)*$L22*(0.7/($L22-1)))),IF($K22=2,($I22/1000)/$L22,IF($K22=3,IF((V$9/$N22)=1,($I22/1000)/(($L22)*2)*$L22*1.3,IF((V$9/$N22)<1,($I22/1000)/(($L22)*2)*$L22*(0.7/($L22-1))))))))) | ... X22: =IF($L22="","",IF(OR(X$9<$M22,X$9>$N22),"",IF($K22=1,IF((X$9/$M22)=1,($I22/1000)/(($L22)*2)*$L22*1.3,IF((X$9/$M22)>1,($I22/1000)/(($L22)*2)*$L22*(0.7/($L22-1)))),IF($K22=2,($I22/1000)/$L22,IF($K22=3,IF((X$9/$N22)=1,($I22/1000)/(($L22)*2)*$L22*1.3,IF((X$9/$N22)<1,($I22/1000)/(($L22)*2)*$L22*(0.7/($L22-1)))))))))
D23: 3 | E23: ESTRUCTURA DE PAVIMENTO | K23: 2 | N23: =IF(L23="","",M23+L23-1) | O23: =IF($L23="","",IF(OR(O$9<$M23,O$9>$N23),"",IF($K23=1,IF((O$9/$M23)=1,($I23/1000)/(($L23)*2)*$L23*1.3,IF((O$9/$M23)>1,($I23/1000)/(($L23)*2)*$L23*(0.7/($L23-1)))),IF($K23=2,($I23/1000)/$L23,IF($K23=3,IF((O$9/$N23)=1,($I23/1000)/(($L23)*2)*$L23*1.3,IF((O$9/$N23)<1,($I23/1000)/(($L23)*2)*$L23*(0.7/($L23-1))))))))) | P23: =IF($L23="","",IF(OR(P$9<$M23,P$9>$N23),"",IF($K23=1,IF((P$9/$M23)=1,($I23/1000)/(($L23)*2)*$L23*1.3,IF((P$9/$M23)>1,($I23/1000)/(($L23)*2)*$L23*(0.7/($L23-1)))),IF($K23=2,($I23/1000)/$L23,IF($K23=3,IF((P$9/$N23)=1,($I23/1000)/(($L23)*2)*$L23*1.3,IF((P$9/$N23)<1,($I23/1000)/(($L23)*2)*$L23*(0.7/($L23-1))))))))) | Q23: =IF($L23="","",IF(OR(Q$9<$M23,Q$9>$N23),"",IF($K23=1,IF((Q$9/$M23)=1,($I23/1000)/(($L23)*2)*$L23*1.3,IF((Q$9/$M23)>1,($I23/1000)/(($L23)*2)*$L23*(0.7/($L23-1)))),IF($K23=2,($I23/1000)/$L23,IF($K23=3,IF((Q$9/$N23)=1,($I23/1000)/(($L23)*2)*$L23*1.3,IF((Q$9/$N23)<1,($I23/1000)/(($L23)*2)*$L23*(0.7/($L23-1))))))))) | R23: =IF($L23="","",IF(OR(R$9<$M23,R$9>$N23),"",IF($K23=1,IF((R$9/$M23)=1,($I23/1000)/(($L23)*2)*$L23*1.3,IF((R$9/$M23)>1,($I23/1000)/(($L23)*2)*$L23*(0.7/($L23-1)))),IF($K23=2,($I23/1000)/$L23,IF($K23=3,IF((R$9/$N23)=1,($I23/1000)/(($L23)*2)*$L23*1.3,IF((R$9/$N23)<1,($I23/1000)/(($L23)*2)*$L23*(0.7/($L23-1))))))))) | S23: =IF($L23="","",IF(OR(S$9<$M23,S$9>$N23),"",IF($K23=1,IF((S$9/$M23)=1,($I23/1000)/(($L23)*2)*$L23*1.3,IF((S$9/$M23)>1,($I23/1000)/(($L23)*2)*$L23*(0.7/($L23-1)))),IF($K23=2,($I23/1000)/$L23,IF($K23=3,IF((S$9/$N23)=1,($I23/1000)/(($L23)*2)*$L23*1.3,IF((S$9/$N23)<1,($I23/1000)/(($L23)*2)*$L23*(0.7/($L23-1))))))))) | T23: =IF($L23="","",IF(OR(T$9<$M23,T$9>$N23),"",IF($K23=1,IF((T$9/$M23)=1,($I23/1000)/(($L23)*2)*$L23*1.3,IF((T$9/$M23)>1,($I23/1000)/(($L23)*2)*$L23*(0.7/($L23-1)))),IF($K23=2,($I23/1000)/$L23,IF($K23=3,IF((T$9/$N23)=1,($I23/1000)/(($L23)*2)*$L23*1.3,IF((T$9/$N23)<1,($I23/1000)/(($L23)*2)*$L23*(0.7/($L23-1))))))))) | U23: =IF($L23="","",IF(OR(U$9<$M23,U$9>$N23),"",IF($K23=1,IF((U$9/$M23)=1,($I23/1000)/(($L23)*2)*$L23*1.3,IF((U$9/$M23)>1,($I23/1000)/(($L23)*2)*$L23*(0.7/($L23-1)))),IF($K23=2,($I23/1000)/$L23,IF($K23=3,IF((U$9/$N23)=1,($I23/1000)/(($L23)*2)*$L23*1.3,IF((U$9/$N23)<1,($I23/1000)/(($L23)*2)*$L23*(0.7/($L23-1))))))))) | V23: =IF($L23="","",IF(OR(V$9<$M23,V$9>$N23),"",IF($K23=1,IF((V$9/$M23)=1,($I23/1000)/(($L23)*2)*$L23*1.3,IF((V$9/$M23)>1,($I23/1000)/(($L23)*2)*$L23*(0.7/($L23-1)))),IF($K23=2,($I23/1000)/$L23,IF($K23=3,IF((V$9/$N23)=1,($I23/1000)/(($L23)*2)*$L23*1.3,IF((V$9/$N23)<1,($I23/1000)/(($L23)*2)*$L23*(0.7/($L23-1))))))))) | ... X23: =IF($L23="","",IF(OR(X$9<$M23,X$9>$N23),"",IF($K23=1,IF((X$9/$M23)=1,($I23/1000)/(($L23)*2)*$L23*1.3,IF((X$9/$M23)>1,($I23/1000)/(($L23)*2)*$L23*(0.7/($L23-1)))),IF($K23=2,($I23/1000)/$L23,IF($K23=3,IF((X$9/$N23)=1,($I23/1000)/(($L23)*2)*$L23*1.3,IF((X$9/$N23)<1,($I23/1000)/(($L23)*2)*$L23*(0.7/($L23-1)))))))))
B24: BASE GRANULAR CLASE A Transporte de material de subbase | C24: 320.1 T0010030 | D24: =D23+0.1 -> 3.1 | E24: Suministro, extendido, conformación y compactación de Sub-base granular. | F24: m3 | G24: =ROUND(MC!$C$332,2) -> 5295.1 | H24: =+'3.1'!G42 -> 135474 | I24: =G24*H24 -> 717348377 | K24: 1 | L24: 5 | M24: 3 | N24: =IF(L24="","",M24+L24-1) -> 7 | O24: =IF($L24="","",IF(OR(O$9<$M24,O$9>$N24),"",IF($K24=1,IF((O$9/$M24)=1,($I24/1000)/(($L24)*2)*$L24*1.3,IF((O$9/$M24)>1,($I24/1000)/(($L24)*2)*$L24*(0.7/($L24-1)))),IF($K24=2,($I24/1000)/$L24,IF($K24=3,IF((O$9/$N24)=1,($I24/1000)/(($L24)*2)*$L24*1.3,IF((O$9/$N24)<1,($I24/1000)/(($L24)*2)*$L24*(0.7/($L24-1))))))))) | P24: =IF($L24="","",IF(OR(P$9<$M24,P$9>$N24),"",IF($K24=1,IF((P$9/$M24)=1,($I24/1000)/(($L24)*2)*$L24*1.3,IF((P$9/$M24)>1,($I24/1000)/(($L24)*2)*$L24*(0.7/($L24-1)))),IF($K24=2,($I24/1000)/$L24,IF($K24=3,IF((P$9/$N24)=1,($I24/1000)/(($L24)*2)*$L24*1.3,IF((P$9/$N24)<1,($I24/1000)/(($L24)*2)*$L24*(0.7/($L24-1))))))))) | Q24: =IF($L24="","",IF(OR(Q$9<$M24,Q$9>$N24),"",IF($K24=1,IF((Q$9/$M24)=1,($I24/1000)/(($L24)*2)*$L24*1.3,IF((Q$9/$M24)>1,($I24/1000)/(($L24)*2)*$L24*(0.7/($L24-1)))),IF($K24=2,($I24/1000)/$L24,IF($K24=3,IF((Q$9/$N24)=1,($I24/1000)/(($L24)*2)*$L24*1.3,IF((Q$9/$N24)<1,($I24/1000)/(($L24)*2)*$L24*(0.7/($L24-1))))))))) -> 466276 | R24: =IF($L24="","",IF(OR(R$9<$M24,R$9>$N24),"",IF($K24=1,IF((R$9/$M24)=1,($I24/1000)/(($L24)*2)*$L24*1.3,IF((R$9/$M24)>1,($I24/1000)/(($L24)*2)*$L24*(0.7/($L24-1)))),IF($K24=2,($I24/1000)/$L24,IF($K24=3,IF((R$9/$N24)=1,($I24/1000)/(($L24)*2)*$L24*1.3,IF((R$9/$N24)<1,($I24/1000)/(($L24)*2)*$L24*(0.7/($L24-1))))))))) -> 62768 | S24: =IF($L24="","",IF(OR(S$9<$M24,S$9>$N24),"",IF($K24=1,IF((S$9/$M24)=1,($I24/1000)/(($L24)*2)*$L24*1.3,IF((S$9/$M24)>1,($I24/1000)/(($L24)*2)*$L24*(0.7/($L24-1)))),IF($K24=2,($I24/1000)/$L24,IF($K24=3,IF((S$9/$N24)=1,($I24/1000)/(($L24)*2)*$L24*1.3,IF((S$9/$N24)<1,($I24/1000)/(($L24)*2)*$L24*(0.7/($L24-1))))))))) -> 62768 | T24: =IF($L24="","",IF(OR(T$9<$M24,T$9>$N24),"",IF($K24=1,IF((T$9/$M24)=1,($I24/1000)/(($L24)*2)*$L24*1.3,IF((T$9/$M24)>1,($I24/1000)/(($L24)*2)*$L24*(0.7/($L24-1)))),IF($K24=2,($I24/1000)/$L24,IF($K24=3,IF((T$9/$N24)=1,($I24/1000)/(($L24)*2)*$L24*1.3,IF((T$9/$N24)<1,($I24/1000)/(($L24)*2)*$L24*(0.7/($L24-1))))))))) -> 62768 | U24: =IF($L24="","",IF(OR(U$9<$M24,U$9>$N24),"",IF($K24=1,IF((U$9/$M24)=1,($I24/1000)/(($L24)*2)*$L24*1.3,IF((U$9/$M24)>1,($I24/1000)/(($L24)*2)*$L24*(0.7/($L24-1)))),IF($K24=2,($I24/1000)/$L24,IF($K24=3,IF((U$9/$N24)=1,($I24/1000)/(($L24)*2)*$L24*1.3,IF((U$9/$N24)<1,($I24/1000)/(($L24)*2)*$L24*(0.7/($L24-1))))))))) -> 62768 | V24: =IF($L24="","",IF(OR(V$9<$M24,V$9>$N24),"",IF($K24=1,IF((V$9/$M24)=1,($I24/1000)/(($L24)*2)*$L24*1.3,IF((V$9/$M24)>1,($I24/1000)/(($L24)*2)*$L24*(0.7/($L24-1)))),IF($K24=2,($I24/1000)/$L24,IF($K24=3,IF((V$9/$N24)=1,($I24/1000)/(($L24)*2)*$L24*1.3,IF((V$9/$N24)<1,($I24/1000)/(($L24)*2)*$L24*(0.7/($L24-1))))))))) | ... X24: =IF($L24="","",IF(OR(X$9<$M24,X$9>$N24),"",IF($K24=1,IF((X$9/$M24)=1,($I24/1000)/(($L24)*2)*$L24*1.3,IF((X$9/$M24)>1,($I24/1000)/(($L24)*2)*$L24*(0.7/($L24-1)))),IF($K24=2,($I24/1000)/$L24,IF($K24=3,IF((X$9/$N24)=1,($I24/1000)/(($L24)*2)*$L24*1.3,IF((X$9/$N24)<1,($I24/1000)/(($L24)*2)*$L24*(0.7/($L24-1)))))))))
