Workbook
Name SIoNO: #REF!
Name SIoNO: #REF!
Name SIoNO: #REF!
Name SIoNO: #REF!
Name SIoNO: #REF!
Name SIoNO: #REF!
Name SIoNO: #REF!

Sheet GENERAL
A1: MUNICIPIO DE PALMIRA PROCESO DE OBRA PÚBLICA - SELECCIÓN ABREVIADA DE MENOR CUANTÍA No. MP-STT-SA-OP-066-2022. OBJETO: “ADECUACIÓN, MODERNIZACIÓN, MEJORAMIENTO Y OBRAS COMPLEMENTARIAS DE LA RED SEMAFÓRICA DEL MUNICIPIO DE PALMIRA VALLE DEL CAUCA."
A2: PRESUPUESTO OFICIAL | F2: $80.816.956
A3: FECHA DE CIERRE | F3: 44754
A4: No. | B4: PROPONENTE | C4: INTEGRANTES | D4: PORCENTAJE PARTICIPACIÓN | E4: REPRESENTANTE LEGAL | F4: HABILITADO / NO HABILITADO
A5: 1 | B5: GRUPO VIAL S.A.S | E5: Luis Carlos Moya Ospina 16.711.093 de Cali | F5: HABILITADO
A6: 2 | B6: SEÑALIZACIONES Y CONSTRUCCIONES S.A.S. SEÑALCON S.A.S. | E6: Samuel Schuter Bejman C.C.No.79.150.325 de Usaquen | F6: HABILITADO
A11: 3 | B11: PROTOLED INGENIERIA S.A.S | E11: JAIME EDUARDO FRANCO GUTIEREZ C.C.16.656.208 de CALI-VALLE | F11: HABILITADO
A12: 4 | B12: AFS SERVICE S.A.S. | E12: Anibal Franco Soto C. C. No. 10.274.097 de Manizales | F12: HABILITADO
A14: 5 | B14: CONSORCIO SOLUCIONES VIALES | C14: RIOT INGENIERIA S.A.S. | D14: 0.7 | E14: Dubier Alejandro Arias Gómez C.C.1.110.523.206 de Ibagué | F14: HABILITADO
C15: INGENIERIA Y SEÑAL S.A.S. | D15: 0.3
A16: 6 | B16: 5K CON SULTING GROUP S.A.S | E16: SANTIAGO ANDRADE GOMEZ C. C. No. 1.000.380.313 de Bogotá | F16: HABILITADO
B31: Se suscribe en Palmira el tres (09) de agosto del 2022.
B38: Abogada contratista- Secretaría de Tránsito y Transporte
B39: Evaluadora Jurídica

Sheet 1
A1: MUNICIPIO DE PALMIRA PROCESO DE OBRA PÚBLICA - SELECCIÓN ABREVIADA DE MENOR CUANTÍA No. MP-STT-SA-OP-066-2022. OBJETO: “ADECUACIÓN, MODERNIZACIÓN, MEJORAMIENTO Y OBRAS COMPLEMENTARIAS DE LA RED SEMAFÓRICA DEL MUNICIPIO DE PALMIRA VALLE DEL CAUCA."
A2: EVALUACIÓN JURÍDICA VERIFICACIÓN DE REQUISITOS HABILITANTES
A3: GRUPO VIAL S.A.S NIT: 900434069-5
A4: =+CONCATENATE("PROPUESTA No ",1) -> PROPUESTA No 1
A5: DOCUMENTOS QUE SOPORTAN LA CAPACIDAD JURÍDICA
A6: CONDICIÓN | C6: =A3 -> GRUPO VIAL S.A.S NIT: 900434069-5
C7: VERIFICADO | D7: OBSERVACIONES | E7: CUMPLE SI / NO
A8: CARTA DE PRESENTACIÓN DE LA PROPUESTA | S8: OK
A9: La carta de presentación de la propuesta debe ser diligenciada según el Formato 1 – Carta de presentación de la oferta | C9: OK | D9: El proponente GRUPO VIAL SAS, presenta conforme al formato 1. Carta de Presentación de la Propuesta. | E9: CUMPLE | S9: N/A
A10: Debe ser firmada por el proponente así: firmado por la persona natural proponente o por el representante legal del proponente individual o plural o por el apoderado. (el apoderado debe cumplir con lo descrito en el numeral 2.2. del Capitulo II. | C10: OK | D10: Se encuentra firmada por el representante legal del proponente Luis Carlos Moya Ospina, identificado con la cedula de ciudadanía No. 16.711.093 de Cali. | S10: NO PRESENTA
A11: En todo caso, de acuerdo con en el artículo 20 de la Ley 842 de 2003, si el Proponente –persona natural– o el representante legal o el apoderado del proponente individual persona jurídica o el representante legal o apoderado de la estructura plural, no posee título de ingeniero en la respectiva rama de la ingeniería, la oferta tendrá que ser avalada por un ingeniero, para lo cual debe adjuntar copia de la tarjeta profesional y copia del certificado de vigencia de matrícula profesional expedida por el COPNIA, en la respectiva rama de la ingeniería, según corresponda, vigente a la fecha de cierre de este procedimiento de selección. El requisito de la tarjeta profesional se puede suplir con el registro de que trata el artículo 18 del Decreto-Ley 2106 de 2019. | C11: OK | D11: La carta de presentación se encuentra suscrita por el representante legal Luis Carlos Moya Ospina identificado con cedula de ciudadanía No. 16.711.093 de Cali , con MATRICULA PROFESIONAL 76202-29398 desde el 18 de Agosto de 1988, adjunta certificado del COPNIA No. CVAD-2022-1466324, el cual indica que se encuentra vigente y que el mismo no cuenta con antecedentes disciplinarios ético-profesional. La entidad verificó la autenticidad de la certificación COPNIA.
A12: El aval del ingeniero civil de que trata el artículo 20 de la Ley 842 de 2003 hace parte integral del Formato 1 – Carta de presentación de la oferta, cuando el proponente deba presentarlo. | C12: N/A
A13: Todos los espacios en blanco deberán diligenciarse con la información solicitada. | C13: OK | D13: Presenta formato totalmente diligenciado
A14: REGISTRO ÚNICO DE PROPONENTES -RUP.
A15: Los proponentes obligados a estar inscritos en el Registro Único de Proponentes (RUP), deben aportar certificado con fecha de expedición no mayor a treinta (30) días calendario anteriores a la fecha de cierre del proceso de contratación. En caso de modificarse la fecha de cierre del Proceso, se tendrá como referencia para establecer el plazo de vigencia del certificado la fecha originalmente establecida en el pliego de condiciones definitivo. El RUP debe estar en firme en la fecha prevista para el cierre del proceso de contratación | C15: OK | D15: Proponente allega RUP expedido por la Cámara de Comercio de Cali, expedido el 22 de julio de 2022, con código de verificación No.CÓDIGO VERIFICACIÓN: 0822HXP1UK La información contenida en el RUP se encuentra en firme a la fecha prevista para el cierre del proceso de contratación. La entidad verifica información de RUP. | E15: =IF(AND(OR(C15="OK",C15="N/A"),OR(C16="OK",C16="N/A"),OR(C17="OK",C17="N/A")),"CUMPLE","NO CUMPLE") -> CUMPLE
A16: la Entidad aplicará lo dispuesto en el artículo 58 de la Ley 2195 del 2022, a los proponentes del presente proceso de selección que se les haya impuesto una o más multas o cláusulas penales durante el último año, contado a partir de la fecha prevista para la presentación de ofertas, sin importar su cuantía y sin perjuicios de las demás consecuencias derivadas del incumplimiento. Para ello, la Entidad validará la información correspondiente en el Registro Único de Proponentes RUP vigente al momento del cierre del proceso de selección. | C16: OK
A17: Cuando se trate de un consorcio o unión temporal, cada integrante debe cumplir con las exigencias del pliego de condiciones. | C17: N/A
A18: CAPACIDAD JURÍDICA
A19: Individualmente como: a) personas naturales nacionales o extranjeras, b) personas jurídicas nacionales o extranjeras. | C19: OK | D19: El proponente es persona jurídica denominada Grupo Vial S.A.S. NIT.900434069 - 5 y su representante legal Luis Carlos Moya Ospina identificado con C. C. No. 16.711.093 de Cali. | E19: =IF(AND(OR(C19="OK",C19="N/A"),OR(C20="OK",C20="N/A"),OR(C21="OK",C21="N/A"),OR(C22="OK",C22="N/A"),OR(C23="OK",C23="N/A"),OR(C25="OK",C25="N/A")),"CUMPLE","NO CUMPLE") -> CUMPLE
A20: Conjuntamente, como proponentes plurales en cualquiera de las formas de asociación previstas en el artículo 7 de la Ley 80 de 1993. | C20: N/A
A21: Tener capacidad jurídica para la presentación de la oferta. | C21: OK
A22: Tener capacidad jurídica para la celebración y ejecución del contrato. | C22: OK | D22: El Representante Legal, no tiene restricciones de contratación por razón de la naturaleza ni de la cuantía de los actos que celebre. Por tanto, se entenderá que el representante legal podrá celebrar o ejecutar todos los actos y contratos comprendidos en el objeto social o que se relacionen directamente con la existencia y el funcionamiento de sociedad.
A23: No estar incursos en ninguna de las circunstancias de inhabilidad, incompatibilidad, conflicto de interés o prohibición para contratar previstas en la Constitución y en la ley. | C23: OK | D23: Formato 1 Carta de presentación de la oferta numerales 8 y 9 manifiesta no estar en circunstancias de inhabilidad, incompatibilidad, conflicto de interés o prohibición para contratar previstas en la Constitución y la Ley
A24: No estar reportados en el último Boletín de Responsables Fiscales vigente publicado por la Contraloría General de la República. Esta disposición aplica para el proponente e integrantes de un proponente plural con domicilio en Colombia. Tratándose de proponentes extranjeros sin domicilio o sin sucursal en Colombia, deben declarar que no son responsables fiscales por actividades ejercidas en Colombia en el pasado y que no tienen sanciones vigentes en Colombia que impliquen inhabilidad para contratar con el Estado. | C24: OK | D24: Se consultan las páginas de www.procuraduria.gov.co; www.contraloría.gov.co; NO SE ENCUENTRAN REPORTADOS
A25: La entidad deberá consultar los antecedentes judiciales en línea en los registros de las bases de datos, al igual que el certificado de antecedentes disciplinarios conforme el artículo 1 de la Ley 1238de 2008 y consultar en el Registro Nacional de Medidas Correctivas del Ministerio de DefensaNacional – Policía Nacional de acuerdo con lo dispuesto en el artículo 184 de la Ley 1801 de 2016 –Código Nacional de Seguridad y Convivencia Ciudadana–. | C25: OK | D25: Se consulta la página www.policiajudicial.gov.co; NO PRESENTAN ANTECEDENTES PENALES . SE CONSULTAN MEDIDAS CORREECTIVAS SOLO DEL INGENIERO CIVIL AVAL, FABIO JESUS MEJIA MEDINA, NO REGISTRA MEDIDAS CORRECTIVAS A LA FECHA DE LA CONSULTA. NO SE PUEDE CONSULTAR A LA REP LEGAL ADRIANA CAROLINA SANABRIA NIETO, POR CUANTO NO APORTO FOTOCOPIA DE SU CEDULA DE CIUDADANIA. SUBSANAR
A26: CERTIFICADO DE EXISTENCIA Y REPRESENTACIÓN
A27: PERSONAS NATURALES: A. Persona natural de nacionalidad colombiana: cédula de ciudadanía. B. Persona natural extranjera con residencia en Colombia: cédula de extranjería vigente expedida por la autoridad competente. C. Persona natural extranjera sin domicilio en Colombia: pasaporte. | C27: N/A | E27: CUMPLE
A28: PERSONAS JURÍDICAS: A. Persona jurídica nacional o extranjera con sucursal en Colombia: I. Certificado de existencia y representación legal expedido por la Cámara de Comercio o autoridad competente en el que se verificará: a. Fecha de expedición del certificado no mayor a treinta (30) días calendario anteriores a la fecha de cierre del proceso de contratación. b. Que el objeto de la sociedad permita ejecutar las actividades descritas en el objeto del presente proceso de contratación. c. Las personas jurídicas nacionales y extranjeras deberán acreditar que su duración no será inferior a la del plazo del contrato y un año más. d. Si el representante legal de la sociedad tiene restricciones para contraer obligaciones en nombre de la misma, deberá acreditar su capacidad a través de una autorización suficiente otorgada por parte del órgano social competente respectivo para cada caso. e. El nombramiento del revisor fiscal en caso que exista. f. Que las personas jurídicas extranjeras con actividades permanentes en la República de Colombia (contratos de obra o servicios) deberán estar legalmente establecidas en el territorio nacional de acuerdo con los artículos 471 y 474 del Código de Comercio. II. Certificación del revisor fiscal en caso de ser sociedad anónima colombiana, en la que conste si es abierta o cerrada. III. Fotocopia del documento de identificación del representante legal. | C28: OK | D28: PERSONA JURIDICA NACIONAL.Grupo Vial S.A.S. NIT.900434069-5 I. Aporta Certificado de Existencia y Representación Legal, expedido por la Cámara de Comercio de Cali, con código de vertificación No.0822DFIL36 a. Fecha de expedición el 22 de junio de 2022. b. Se verifica que el objeto social permite el desarrollo de las actividades de interventoría; c. N/A. d. Se consultan las facultades del Rep. Legal, el cual no tiene restricciones; e.N/A. f.N/A. f.N/A. II. N/A. III. Se aporta fotocopia de la cédula de ciudadanía del Representante Legal Luis Carlos Moya Ospina identificado con cédula de ciudadanía No. 16.711.093 de Cali .
A29: PERSONA JURÍDICA: B. Persona jurídica extranjera sin sucursal o domicilio en Colombia: Documentos que acrediten la existencia y representación legal de la sociedad extranjera, presentados de conformidad con lo establecido en el presente Pliego de Condiciones: I. Nombre o razón social completa. II. Nombre del representante legal o de la persona facultada para comprometer a la persona jurídica. III. Que el objeto de la sociedad permita ejecutar las actividades descritas en el objeto del proceso de selección. IV. Facultades del representante legal o de la persona facultada para comprometer a la persona jurídica, en la que se señale expresamente que el representante no tiene limitaciones para contraer obligaciones en nombre de la misma o aportando la autorización o documento correspondiente del órgano social competente respectivo para cada caso. V. Tipo, número y fecha del documento de constitución o creación. VI. Fecha y clase de documento por el cual se reconoce la personería jurídica VII. Acreditar que su duración no será inferior a la del plazo del contrato y un año más. VIII. Fotocopia del documento de identificación del representante legal. | C29: N/A
A30: PERSONA JURÍDICA: C. Entidades estatales: Deben presentar los siguientes documentos para acreditar su existencia: I. Acto de creación de la entidad estatal. Este puede ser ley, decreto, ordenanza, acuerdo o certificado de existencia y representación legal (este último no mayor a treinta (30) días calendario anteriores a la fecha de cierre del proceso de contratación) o documento equivalente que permita conocer la naturaleza jurídica, funciones, órganos de dirección, régimen jurídico de contratación de la entidad estatal. NOTA: En el evento de personas jurídicas no obligadas a aportar el certificado de existencia y representación legal, deberán aportar un documento equivalente que acredite su existencia, junto con los documentos que demuestren la capacidad del representante legal de la entidad o sociedad a contratar, conforme lo establecido en el pliego de condiciones. | C30: N/A
A31: PROPONENTES PLURALES
A32: A. Acreditar la existencia del proponente plural y clasificarlo en Unión Temporal o Consorcio. En este documento los integrantes deben expresar su intención de conformar el proponente plural. En caso que no exista claridad sobre el tipo de asociación se solicitará la aclaración. Los proponentes deben incluir como mínimo la información requerida en el Formato 2 – Conformación de Proponente Plural (Formato 2A – Consorcios) (Formato 2B – Uniones Temporales). Los proponentes podrán incluir información adicional que no contradiga lo dispuesto en los documentos del proceso. B. Acreditar el nombramiento de un representante y un suplente cuya intervención deberá quedar definida en el Formato 2 – Conformación de Proponente Plural (Formato 2A – Consorcios) (Formato 2B – Uniones Temporales), de todas las personas naturales y/o jurídicas asociadas, con facultades suficientes para la representación sin limitaciones de todos y cada uno de los integrantes, en todos los aspectos que se requieran para la presentación de la oferta, para la suscripción y ejecución del contrato, así como también la facultad para firmar el acta de terminación y liquidación. C. Aportar copia del documento de identificación del representante principal y suplente de la estructura plural. D. Acreditar que la vigencia de la estructura plural no sea inferior a la del plazo del contrato y un año adicional. Para efectos de la evaluación, este plazo será contado a partir de la fecha del cierre del proceso de contratación. E. El proponente plural debe señalar expresamente cuál es el porcentaje de participación de cada uno de sus miembros. La sumatoria del porcentaje de participación no podrá ser diferente al 100%. F. En la etapa contractual, no podrán ser modificados los porcentajes de participación sin el consentimiento previo de la entidad. Dicho documento debe estar firmado por todos y cada uno de los integrantes del proponente plural y en el caso del integrante persona jurídica, por el representante legal de dicha persona, o por el apoderado de cualquiera de los anteriores. | C32: N/A | E32: =IF(AND(OR(C32="OK",C32="N/A")),"CUMPLE","NO CUMPLE") -> CUMPLE
A33: CERTIFICACIÓN DE PAGOS DE SEGURIDAD SOCIAL Y APORTES LEGALES
A34: PERSONAS JURÍDICAS: El proponente persona jurídica debe presentar el Formato 5 – Pagos de seguridad social y aportes legales suscrito por el revisor fiscal, de acuerdo con los requerimientos de ley o por el representante legal, bajo la gravedad del juramento, cuando no se requiera revisor fiscal, en el que conste el pago de los aportes de sus empleados a los sistemas de salud, riesgos profesionales, pensiones y aportes a las Cajas de Compensación Familiar, al Instituto Colombiano de Bienestar Familiar, al Servicio Nacional de Aprendizaje y al Fondo Nacional de Formación Profesional para la Industria de Construcción, cuando a ello haya lugar. Cuando la persona jurídica está exonerada en los términos previstos en el artículo 65 de la Ley 1819 de 2016 debe indicarlo en el Formato 6 – Pagos de seguridad social y aportes legales. Esta misma previsión aplica para las personas jurídicas extranjeras con domicilio o sucursal en Colombia las cuales deben acreditar este requisito respecto del personal vinculado en Colombia. | C34: OK | D34: El proponente adjunta Formato #6 suscrito por el Revisor Fiscal de Grupo Vial S.A.S Abelardo Antonio Abril Chavez identificado con C.C. 94.415.260 de Cali, y con tarjeta profesional No.188804-T de la Junta Central de Contadores de Colombia | E34: =IF(AND(OR(C34="OK",C34="N/A")),"CUMPLE","NO CUMPLE") -> CUMPLE
A35: PERSONAS NATURALES: El proponente persona natural debe acreditar la afiliación a los sistemas de seguridad social en salud y pensiones aportando los certificados de afiliación respectivos o con el certificado de pago de la correspondiente planilla. Los certificados de afiliación se deben presentar con fecha de expedición no mayor a treinta (30) días calendario, anteriores a la fecha del cierre del proceso de contratación. En caso de modificarse la fecha de cierre del proceso, se tendrá como referencia para establecer el plazo de vigencia de los certificados de afiliación la fecha originalmente establecida en el pliego de condiciones definitivo. La persona natural que reúna los requisitos para acceder a la pensión de vejez, o se pensione por invalidez o anticipadamente, presentará el certificado que lo acredite y, además la afiliación al sistema de salud. Esta misma previsión aplica para las personas naturales extranjeras con domicilio en Colombia las cuales deberán acreditar este requisito respecto del personal vinculado en Colombia. | C35: N/A | E35: =IF(AND(OR(C35="OK",C35="N/A")),"CUMPLE","NO CUMPLE") -> CUMPLE
A36: PROPONENTES PLURALES: Cada uno de los integrantes del proponente plural debe suscribir por separado la declaración de la que tratan los numerales anteriores. | C36: N/A | E36: =IF(AND(OR(C36="OK",C36="N/A")),"CUMPLE","NO CUMPLE") -> CUMPLE
A37: GARANTÍA DE SERIEDAD DE LA OFERTA
A38: Cualquiera de las clases permitidas por el artículo 2.2.1.2.3.1.2 del Decreto 1082 de 2015, a saber: (i) Contrato de seguro contenido en una póliza, (ii) Patrimonio autónomo y (iii) Garantía Bancaria. | D38: COMPAÑIA: ASEGURADORA SOLIDARIA DE COLOMBIA. NIT: 860.524.654-6 Póliza No.430 47 994000056663 | E38: CUMPLE
A39: La garantía deberá contener: Asegurado y beneficiario: MUNICIPIO DE PALMIRA NIT. 891.380.007-3 | C39: OK | D39: Asegurado / Beneficiario: MUNICIPIO DE PALMIRA, NIT: 891.380.007-3 El objeto se encuentra conforme e igual el numero del proceso Tomador:GRUPO VIAL SAS. NIT.900.434.069-5
A40: Tomador / Afianzado: ● Para las personas jurídicas: la garantía deberá tomarse con el nombre o razón social y tipo societario que figura en el certificado de existencia y representación legal expedido por la Cámara de Comercio respectiva, y no solo con su sigla, a no ser que en el referido documento se exprese que la sociedad podrá denominarse de esa manera. ● Para los proponentes plurales: la garantía deberá ser otorgada por todos los integrantes del proponente plural, para lo cual se deberá relacionar claramente los integrantes, su identificación y porcentaje de participación, quienes para todos los efectos serán los otorgantes de la misma. | C40: OK
...

Sheet 2
A1: =GENERAL!A1 -> MUNICIPIO DE PALMIRA PROCESO DE OBRA PÚBLICA - SELECCIÓN ABREVIADA DE MENOR CUANTÍA No. MP-STT-SA-OP-066-2022. OBJETO: “ADECUACIÓN, MODERNIZACIÓN, MEJORAMIENTO Y OBRAS COMPLEMENTARIAS DE LA RED SEMAFÓRICA DEL MUNICIPIO DE PALMIRA VALLE DEL CAUCA."
A2: EVALUACIÓN JURÍDICA VERIFICACIÓN DE REQUISITOS HABILITANTES
A3: SEÑALIZACIONES Y CONSTRUCCIONES S.A.S. SEÑALCON S.A.S. NIT: 830.505.579-1
A4: =+CONCATENATE("PROPUESTA No 2") -> PROPUESTA No 2
A5: DOCUMENTOS QUE SOPORTAN LA CAPACIDAD JURÍDICA
A6: CONDICIÓN | C6: SEÑALIZACIONES Y CONSTRUCCIONES S.A.S. SEÑALCON S.A.S. NIT: 830.505.579-1
C7: VERIFICADO | D7: OBSERVACIONES | E7: CUMPLE SI / NO
A8: CARTA DE PRESENTACIÓN DE LA PROPUESTA | S8: OK
A9: La carta de presentación de la propuesta debe ser diligenciada según el Formato 1 – Carta de presentación de la oferta | C9: OK | D9: El proponente SEÑALIZACIONES Y CONSTRUCCIONES S.A.S. SEÑALCON S.A.S.., allega formato 1 Carta de Presentación debidamente diligenciado | E9: CUMPLE | S9: N/A
A10: Debe ser firmada por el proponente así: firmado por la persona natural proponente o por el representante legal del proponente individual o plural o por el apoderado. (el apoderado debe cumplir con lo descrito en el numeral 2.2. del Capitulo II. | C10: OK | D10: Se encuentra firmada por el representante legal del proponente Samuel Schuter Bejman C.C.No.79.150.325 de Usaquen | S10: NO PRESENTA
A11: En todo caso, de acuerdo con en el artículo 20 de la Ley 842 de 2003, si el Proponente –persona natural– o el representante legal o el apoderado del proponente individual persona jurídica o el representante legal o apoderado de la estructura plural, no posee título de ingeniero en la respectiva rama de la ingeniería, la oferta tendrá que ser avalada por un ingeniero, para lo cual debe adjuntar copia de la tarjeta profesional y copia del certificado de vigencia de matrícula profesional expedida por el COPNIA, en la respectiva rama de la ingeniería, según corresponda, vigente a la fecha de cierre de este procedimiento de selección. El requisito de la tarjeta profesional se puede suplir con el registro de que trata el artículo 18 del Decreto-Ley 2106 de 2019. | C11: N/A
A12: El aval del ingeniero civil de que trata el artículo 20 de la Ley 842 de 2003 hace parte integral del Formato 1 – Carta de presentación de la oferta, cuando el proponente deba presentarlo. | C12: N/A
A13: Todos los espacios en blanco deberán diligenciarse con la información solicitada. | C13: OK | D13: Presenta formato totalmente diligenciado
A14: REGISTRO ÚNICO DE PROPONENTES -RUP.
A15: Los proponentes obligados a estar inscritos en el Registro Único de Proponentes (RUP), deben aportar certificado con fecha de expedición no mayor a treinta (30) días calendario anteriores a la fecha de cierre del proceso de contratación. En caso de modificarse la fecha de cierre del Proceso, se tendrá como referencia para establecer el plazo de vigencia del certificado la fecha originalmente establecida en el pliego de condiciones definitivo. El RUP debe estar en firme en la fecha prevista para el cierre del proceso de contratación | C15: OK | D15: Proponente allega RUP expedido por la Cámara de Comercio de Bogotá, el 13 de julio de 2022, con código de verificación No. B22083182E28F4 La información contenida en el RUP se encuentra en firme a la fecha prevista para el cierre del proceso de contratación | E15: =IF(AND(OR(C15="OK",C15="N/A"),OR(C16="OK",C16="N/A"),OR(C17="OK",C17="N/A")),"CUMPLE","NO CUMPLE") -> CUMPLE
A16: la Entidad aplicará lo dispuesto en el artículo 58 de la Ley 2195 del 2022, a los proponentes del presente proceso de selección que se les haya impuesto una o más multas o cláusulas penales durante el último año, contado a partir de la fecha prevista para la presentación de ofertas, sin importar su cuantía y sin perjuicios de las demás consecuencias derivadas del incumplimiento. Para ello, la Entidad validará la información correspondiente en el Registro Único de Proponentes RUP vigente al momento del cierre del proceso de selección. | C16: OK | D16: Proponente no presenta multas o sanciones por incumplimiento como contratista
A17: Cuando se trate de un consorcio o unión temporal, cada integrante debe cumplir con las exigencias del pliego de condiciones. | C17: N/A
A18: CAPACIDAD JURÍDICA
A19: Individualmente como: a) personas naturales nacionales o extranjeras, b) personas jurídicas nacionales o extranjeras. | C19: OK | D19: El proponente se presenta como persona jurídica denomimada SEÑALIZACIONES Y CONSTRUCCIONES S.A.S. SEÑALCON S.A.S. con NIT.830.505.579-1, y como respresentante legal Samuel Schuter Bejman C.C.No.79.150.325 de Usaquen | E19: CUMPLE
A20: Conjuntamente, como proponentes plurales en cualquiera de las formas de asociación previstas en el artículo 7 de la Ley 80 de 1993. | C20: N/A
A21: Tener capacidad jurídica para la presentación de la oferta. | C21: OK
A22: Tener capacidad jurídica para la celebración y ejecución del contrato. | C22: OK
A23: No estar incursos en ninguna de las circunstancias de inhabilidad, incompatibilidad, conflicto de interés o prohibición para contratar previstas en la Constitución y en la ley. | C23: OK | D23: Carta de presentación de la oferta numerales 8 y 9 manifiesta de no estar en circunstancias de inhabilidad, incompatibilidad, conflicto de interés o prohibición para contratar previstas en la Constitución y la Ley
A24: No estar reportados en el último Boletín de Responsables Fiscales vigente publicado por la Contraloría General de la República. Esta disposición aplica para el proponente e integrantes de un proponente plural con domicilio en Colombia. Tratándose de proponentes extranjeros sin domicilio o sin sucursal en Colombia, deben declarar que no son responsables fiscales por actividades ejercidas en Colombia en el pasado y que no tienen sanciones vigentes en Colombia que impliquen inhabilidad para contratar con el Estado. | C24: OK | D24: Se consultan las páginas de www.procuraduria.gov.co; www.contraloría.gov.co; NO SE ENCUENTRAN REPORTADOS
A25: La entidad deberá consultar los antecedentes judiciales en línea en los registros de las bases de datos, al igual que el certificado de antecedentes disciplinarios conforme el artículo 1 de la Ley 1238de 2008 y consultar en el Registro Nacional de Medidas Correctivas del Ministerio de DefensaNacional – Policía Nacional de acuerdo con lo dispuesto en el artículo 184 de la Ley 1801 de 2016 –Código Nacional de Seguridad y Convivencia Ciudadana–. | C25: OK | D25: Se consulta la página www.policiajudicial.gov.co; NO PRESENTAN ANTECEDENTES PENALES . SE CONSULTAN MEDIDAS CORREECTIVAS NO REGISTRAN MEDIDAS CORRECTIVAS A LA FECHA DE LA CONSULTA.
A26: CERTIFICADO DE EXISTENCIA Y REPRESENTACIÓN
A27: PERSONAS NATURALES: A. Persona natural de nacionalidad colombiana: cédula de ciudadanía. B. Persona natural extranjera con residencia en Colombia: cédula de extranjería vigente expedida por la autoridad competente. C. Persona natural extranjera sin domicilio en Colombia: pasaporte. | C27: N/A | E27: CUMPLE
A28: PERSONAS JURÍDICAS: A. Persona jurídica nacional o extranjera con sucursal en Colombia: I. Certificado de existencia y representación legal expedido por la Cámara de Comercio o autoridad competente en el que se verificará: a. Fecha de expedición del certificado no mayor a treinta (30) días calendario anteriores a la fecha de cierre del proceso de contratación. b. Que el objeto de la sociedad permita ejecutar las actividades descritas en el objeto del presente proceso de contratación. c. Las personas jurídicas nacionales y extranjeras deberán acreditar que su duración no será inferior a la del plazo del contrato y un año más. d. Si el representante legal de la sociedad tiene restricciones para contraer obligaciones en nombre de la misma, deberá acreditar su capacidad a través de una autorización suficiente otorgada por parte del órgano social competente respectivo para cada caso. e. El nombramiento del revisor fiscal en caso que exista. f. Que las personas jurídicas extranjeras con actividades permanentes en la República de Colombia (contratos de obra o servicios) deberán estar legalmente establecidas en el territorio nacional de acuerdo con los artículos 471 y 474 del Código de Comercio. II. Certificación del revisor fiscal en caso de ser sociedad anónima colombiana, en la que conste si es abierta o cerrada. III. Fotocopia del documento de identificación del representante legal. | C28: OK | D28: PERSONA JURIDICA NACIONAL. LITORAL CONSULTING SAS. NIT.901.499.397-9 I. Aporta Certificado de Existencia y Representación Legal, expedido por la Cámara de Comercio de Cali, con código de vertificación No.08229TTU9O a. Fecha de expedición el 17 de junio de 2022. b. Se verifica que el objeto social permite el desarrollo de las actividades de interventoría; c. N/A. d. Se consultan las facultades del Rep. Legal, el cual no tiene restricciones; e.N/A. f.N/A. f.N/A. II. N/A. III. Se aporta fotocopia de la cédula de ciudadanía de la Representante Legal JUAN CAMILO RODRIGUEZ AYALA, identificado con la cedula de ciudadanía 1.107.104.544 de Cali (Valle) .
A29: PERSONA JURÍDICA: B. Persona jurídica extranjera sin sucursal o domicilio en Colombia: Documentos que acrediten la existencia y representación legal de la sociedad extranjera, presentados de conformidad con lo establecido en el presente Pliego de Condiciones: I. Nombre o razón social completa. II. Nombre del representante legal o de la persona facultada para comprometer a la persona jurídica. III. Que el objeto de la sociedad permita ejecutar las actividades descritas en el objeto del proceso de selección. IV. Facultades del representante legal o de la persona facultada para comprometer a la persona jurídica, en la que se señale expresamente que el representante no tiene limitaciones para contraer obligaciones en nombre de la misma o aportando la autorización o documento correspondiente del órgano social competente respectivo para cada caso. V. Tipo, número y fecha del documento de constitución o creación. VI. Fecha y clase de documento por el cual se reconoce la personería jurídica VII. Acreditar que su duración no será inferior a la del plazo del contrato y un año más. VIII. Fotocopia del documento de identificación del representante legal.
A30: PERSONA JURÍDICA: C. Entidades estatales: Deben presentar los siguientes documentos para acreditar su existencia: I. Acto de creación de la entidad estatal. Este puede ser ley, decreto, ordenanza, acuerdo o certificado de existencia y representación legal (este último no mayor a treinta (30) días calendario anteriores a la fecha de cierre del proceso de contratación) o documento equivalente que permita conocer la naturaleza jurídica, funciones, órganos de dirección, régimen jurídico de contratación de la entidad estatal. NOTA: En el evento de personas jurídicas no obligadas a aportar el certificado de existencia y representación legal, deberán aportar un documento equivalente que acredite su existencia, junto con los documentos que demuestren la capacidad del representante legal de la entidad o sociedad a contratar, conforme lo establecido en el pliego de condiciones. | C30: N/A
A31: PROPONENTES PLURALES
A32: A. Acreditar la existencia del proponente plural y clasificarlo en Unión Temporal o Consorcio. En este documento los integrantes deben expresar su intención de conformar el proponente plural. En caso que no exista claridad sobre el tipo de asociación se solicitará la aclaración. Los proponentes deben incluir como mínimo la información requerida en el Formato 2 – Conformación de Proponente Plural (Formato 2A – Consorcios) (Formato 2B – Uniones Temporales). Los proponentes podrán incluir información adicional que no contradiga lo dispuesto en los documentos del proceso. B. Acreditar el nombramiento de un representante y un suplente cuya intervención deberá quedar definida en el Formato 2 – Conformación de Proponente Plural (Formato 2A – Consorcios) (Formato 2B – Uniones Temporales), de todas las personas naturales y/o jurídicas asociadas, con facultades suficientes para la representación sin limitaciones de todos y cada uno de los integrantes, en todos los aspectos que se requieran para la presentación de la oferta, para la suscripción y ejecución del contrato, así como también la facultad para firmar el acta de terminación y liquidación. C. Aportar copia del documento de identificación del representante principal y suplente de la estructura plural. D. Acreditar que la vigencia de la estructura plural no sea inferior a la del plazo del contrato y un año adicional. Para efectos de la evaluación, este plazo será contado a partir de la fecha del cierre del proceso de contratación. E. El proponente plural debe señalar expresamente cuál es el porcentaje de participación de cada uno de sus miembros. La sumatoria del porcentaje de participación no podrá ser diferente al 100%. F. En la etapa contractual, no podrán ser modificados los porcentajes de participación sin el consentimiento previo de la entidad. Dicho documento debe estar firmado por todos y cada uno de los integrantes del proponente plural y en el caso del integrante persona jurídica, por el representante legal de dicha persona, o por el apoderado de cualquiera de los anteriores. | C32: N/A | E32: =IF(AND(OR(C32="OK",C32="N/A")),"CUMPLE","NO CUMPLE") -> CUMPLE
A33: CERTIFICACIÓN DE PAGOS DE SEGURIDAD SOCIAL Y APORTES LEGALES
A34: PERSONAS JURÍDICAS: El proponente persona jurídica debe presentar el Formato 6 – Pagos de seguridad social y aportes legales suscrito por el revisor fiscal, de acuerdo con los requerimientos de ley o por el representante legal, bajo la gravedad del juramento, cuando no se requiera revisor fiscal, en el que conste el pago de los aportes de sus empleados a los sistemas de salud, riesgos profesionales, pensiones y aportes a las Cajas de Compensación Familiar, al Instituto Colombiano de Bienestar Familiar, al Servicio Nacional de Aprendizaje y al Fondo Nacional de Formación Profesional para la Industria de Construcción, cuando a ello haya lugar. Cuando la persona jurídica está exonerada en los términos previstos en el artículo 65 de la Ley 1819 de 2016 debe indicarlo en el Formato 6 – Pagos de seguridad social y aportes legales. Esta misma previsión aplica para las personas jurídicas extranjeras con domicilio o sucursal en Colombia las cuales deben acreditar este requisito respecto del personal vinculado en Colombia. | C34: OK | D34: El proponente adjunta Formato #6 suscrito por la Representante Legal el Señor Samuel Schuter Bejman y el Revisor Fiscal Ricardo Manga Morales. | E34: =IF(AND(OR(C34="OK",C34="N/A")),"CUMPLE","NO CUMPLE") -> CUMPLE
A35: PERSONAS NATURALES: El proponente persona natural debe acreditar la afiliación a los sistemas de seguridad social en salud y pensiones aportando los certificados de afiliación respectivos o con el certificado de pago de la correspondiente planilla. Los certificados de afiliación se deben presentar con fecha de expedición no mayor a treinta (30) días calendario, anteriores a la fecha del cierre del proceso de contratación. En caso de modificarse la fecha de cierre del proceso, se tendrá como referencia para establecer el plazo de vigencia de los certificados de afiliación la fecha originalmente establecida en el pliego de condiciones definitivo. La persona natural que reúna los requisitos para acceder a la pensión de vejez, o se pensione por invalidez o anticipadamente, presentará el certificado que lo acredite y, además la afiliación al sistema de salud. Esta misma previsión aplica para las personas naturales extranjeras con domicilio en Colombia las cuales deberán acreditar este requisito respecto del personal vinculado en Colombia. | C35: N/A | E35: =IF(AND(OR(C35="OK",C35="N/A")),"CUMPLE","NO CUMPLE") -> CUMPLE
A36: PROPONENTES PLURALES: Cada uno de los integrantes del proponente plural debe suscribir por separado la declaración de la que tratan los numerales anteriores. | C36: N/A | E36: =IF(AND(OR(C36="OK",C36="N/A")),"CUMPLE","NO CUMPLE") -> CUMPLE
A37: GARANTÍA DE SERIEDAD DE LA OFERTA
A38: Cualquiera de las clases permitidas por el artículo 2.2.1.2.3.1.2 del Decreto 1082 de 2015, a saber: (i) Contrato de seguro contenido en una póliza, (ii) Patrimonio autónomo y (iii) Garantía Bancaria. | C38: OK | D38: COMPAÑIA: SEGUROS DEL ESTADO S.A NIT: 860.009.578-6 Póliza No.11-44-101189183 | E38: CUMPLE
A39: La garantía deberá contener: Asegurado y beneficiario: MUNICIPIO DE PALMIRA NIT. 891.380.007-3 | C39: OK | D39: Asegurado / Beneficiario: MUNICIPIO DE PALMIRA, NIT: 891.380.007-3 La Dirección del beneficiario es correcta, la dirección de la Alcaldía de Palmira es Calle 30 – Carrera 29, Esquina. El objeto se encuentra conforme e igual el numero del proceso Tomador:SEÑALIZACIONES Y CONSTRUCCIONES SAS, NIT: 830.505.579-1
A40: Tomador / Afianzado: ● Para las personas jurídicas: la garantía deberá tomarse con el nombre o razón social y tipo societario que figura en el certificado de existencia y representación legal expedido por la Cámara de Comercio respectiva, y no solo con su sigla, a no ser que en el referido documento se exprese que la sociedad podrá denominarse de esa manera. ● Para los proponentes plurales: la garantía deberá ser otorgada por todos los integrantes del proponente plural, para lo cual se deberá relacionar claramente los integrantes, su identificación y porcentaje de participación, quienes para todos los efectos serán los otorgantes de la misma. | C40: OK
...

Sheet 4
A1: =GENERAL!A1 -> MUNICIPIO DE PALMIRA PROCESO DE OBRA PÚBLICA - SELECCIÓN ABREVIADA DE MENOR CUANTÍA No. MP-STT-SA-OP-066-2022. OBJETO: “ADECUACIÓN, MODERNIZACIÓN, MEJORAMIENTO Y OBRAS COMPLEMENTARIAS DE LA RED SEMAFÓRICA DEL MUNICIPIO DE PALMIRA VALLE DEL CAUCA."
A2: EVALUACIÓN JURÍDICA VERIFICACIÓN DE REQUISITOS HABILITANTES
A3: PROTOLED INGENIERIA S.A.S NIT: No. 900.887.852-1
A4: =+CONCATENATE("PROPUESTA No 4") -> PROPUESTA No 4
A5: DOCUMENTOS QUE SOPORTAN LA CAPACIDAD JURÍDICA
A6: CONDICIÓN | C6: =A3 -> PROTOLED INGENIERIA S.A.S NIT: No. 900.887.852-1
C7: VERIFICADO | D7: OBSERVACIONES | E7: CUMPLE SI / NO
A8: CARTA DE PRESENTACIÓN DE LA PROPUESTA | S8: OK
A9: La carta de presentación de la propuesta debe ser diligenciada según el Formato 1 – Carta de presentación de la oferta | C9: OK | D9: El proponente PROTOLED INGENIERIA S.A.S identificada con Nit 900.887.852-1, allega formato 1 Carta de Presentación, sin embargo el numeral 20. COMPOSICIÓN DE LA PERSONA JURÍDICA, no fue diliegenciada y se encuentra el espacio en blanco. El proponenteSubsano en debida forma. | E9: =IF(AND(OR(C9="OK",C9="N/A"),OR(C10="OK",C10="N/A"),OR(C11="OK",C11="N/A"),OR(C12="OK",C12="N/A"),OR(C13="OK",C13="N/A")),"CUMPLE","NO CUMPLE") -> CUMPLE | S9: N/A
A10: Debe ser firmada por el proponente así: firmado por la persona natural proponente o por el representante legal del proponente individual o plural o por el apoderado. (el apoderado debe cumplir con lo descrito en el numeral 2.2. del Capitulo II. | C10: OK | D10: Se encuentra firmada por el representante legal del proponente JAIME EDUARDO FRANCO GUTIEREZ identificado con cedula de ciudadanía No 16.656.208 de CALI-VALLE | S10: NO PRESENTA
A11: En todo caso, de acuerdo con en el artículo 20 de la Ley 842 de 2003, si el Proponente –persona natural– o el representante legal o el apoderado del proponente individual persona jurídica o el representante legal o apoderado de la estructura plural, no posee título de ingeniero en la respectiva rama de la ingeniería, la oferta tendrá que ser avalada por un ingeniero, para lo cual debe adjuntar copia de la tarjeta profesional y copia del certificado de vigencia de matrícula profesional expedida por el COPNIA, en la respectiva rama de la ingeniería, según corresponda, vigente a la fecha de cierre de este procedimiento de selección. El requisito de la tarjeta profesional se puede suplir con el registro de que trata el artículo 18 del Decreto-Ley 2106 de 2019. | C11: OK | D11: El representante legal del proponente no posee titulo de ingeniero. Así las cosas, tal y como reza en el pliego de condiciones en su capitulo II. ELABORACIÓN Y PRESENTACIÓN DE LA OFERTA Numeral 2.1. "... En virtud de lo previsto en la Ley 842 de 2003 y con el fin de evitar el ejercicio ilegal de la Ingeniería, la persona natural (proponente individual o integrante de la estructura plural) que pretenda participar en el presente proceso, debe acreditar que posee título como ingeniero, para lo cual debe adjuntar copia de la tarjeta profesional y copia del certificado de vigencia de matrícula profesional expedida por el Copnia o Consejo Profesional de Ingeniería de Transportes y Vías de Colombia en la respectiva rama de la ingeniería, según corresponda, vigente a la fecha de cierre de este Proceso de selección. El requisito de la tarjeta profesional se puede suplir con el registro de que trata el artículo 18 del Decreto 2106 de 2019. De acuerdo con en el artículo 20 de la Ley 842 de 2003, si el representante legal o apoderado del proponente individual persona jurídica o el representante legal o apoderado de la estructura plural, no posee título de una de las profesiones catalogadas como ejercicio de la ingeniería, la oferta debe ser avalada por un ingeniero, para lo cual debe adjuntar copia de la tarjeta profesional y copia del certificado de vigencia de matrícula profesional expedida por el Copnia o Consejo Profesional de Ingeniería de Transportes y Vías de Colombia, en la respectiva rama de la ingeniería, según corresponda, vigente a la fecha de cierre de este proceso de selección. El requisito de la tarjeta profesional se puede suplir con el registro de que trata el artículo 18 del Decreto 2106 de 2019... " De acuerdo a lo anterior, el proponente aporta una hoja de vida de CARLOS EDUARDO GONZALEZ ZULUAGA Ingeniero de Sistemas, sin embargo no adjuntan título como ingeniero, copia de la tarjeta profesional y copia del certificado de vigencia de matrícula profesional expedida por el Copnia. El proponente subasana en debida forma.
A12: El aval del ingeniero civil de que trata el artículo 20 de la Ley 842 de 2003 hace parte integral del Formato 1 – Carta de presentación de la oferta, cuando el proponente deba presentarlo. | C12: OK
A13: Todos los espacios en blanco deberán diligenciarse con la información solicitada. | C13: OK | D13: El numeral 20. COMPOSICIÓN DE LA PERSONA JURÍDICA, del FORMARTO 1- Carta de Presentación, no fue diliegenciada por el proponente y se encuentra el espacio en blanco. El proponente subsana en debida forma.
A14: REGISTRO ÚNICO DE PROPONENTES -RUP.
A15: Los proponentes obligados a estar inscritos en el Registro Único de Proponentes (RUP), deben aportar certificado con fecha de expedición no mayor a treinta (30) días calendario anteriores a la fecha de cierre del proceso de contratación. En caso de modificarse la fecha de cierre del Proceso, se tendrá como referencia para establecer el plazo de vigencia del certificado la fecha originalmente establecida en el pliego de condiciones definitivo. El RUP debe estar en firme en la fecha prevista para el cierre del proceso de contratación | C15: OK | D15: Proponente allega RUP expedido por la Cámara de Comercio de Cali, el 25 de julio de 2022, con código de verificación No.08224FFC4F La información contenida en el RUP se encuentra en firme a la fecha prevista para el cierre del proceso de contratación | E15: =IF(AND(OR(C15="OK",C15="N/A"),OR(C16="OK",C16="N/A"),OR(C17="OK",C17="N/A")),"CUMPLE","NO CUMPLE") -> CUMPLE
A16: la Entidad aplicará lo dispuesto en el artículo 58 de la Ley 2195 del 2022, a los proponentes del presente proceso de selección que se les haya impuesto una o más multas o cláusulas penales durante el último año, contado a partir de la fecha prevista para la presentación de ofertas, sin importar su cuantía y sin perjuicios de las demás consecuencias derivadas del incumplimiento. Para ello, la Entidad validará la información correspondiente en el Registro Único de Proponentes RUP vigente al momento del cierre del proceso de selección. | C16: OK | D16: Proponente no presenta multas o sanciones por incumplimiento como contratista
A17: Cuando se trate de un consorcio o unión temporal, cada integrante debe cumplir con las exigencias del pliego de condiciones. | C17: N/A
A18: CAPACIDAD JURÍDICA
A19: Individualmente como: a) personas naturales nacionales o extranjeras, b) personas jurídicas nacionales o extranjeras. | C19: OK | D19: Se presenta como persona jurídica nacional, aporta certificado de matricula de persona jurídica | E19: CUMPLE
A20: Conjuntamente, como proponentes plurales en cualquiera de las formas de asociación previstas en el artículo 7 de la Ley 80 de 1993. | C20: N/A
A21: Tener capacidad jurídica para la presentación de la oferta. | C21: OK
A22: Tener capacidad jurídica para la celebración y ejecución del contrato. | C22: OK
A23: No estar incursos en ninguna de las circunstancias de inhabilidad, incompatibilidad, conflicto de interés o prohibición para contratar previstas en la Constitución y en la ley. | C23: OK | D23: Carta de presentación de la oferta numerales 8 y 9 manifiesta de no estar en circunstancias de inhabilidad, incompatibilidad, conflicto de interés o prohibición para contratar previstas en la Constitución y la Ley
A24: No estar reportados en el último Boletín de Responsables Fiscales vigente publicado por la Contraloría General de la República. Esta disposición aplica para el proponente e integrantes de un proponente plural con domicilio en Colombia. Tratándose de proponentes extranjeros sin domicilio o sin sucursal en Colombia, deben declarar que no son responsables fiscales por actividades ejercidas en Colombia en el pasado y que no tienen sanciones vigentes en Colombia que impliquen inhabilidad para contratar con el Estado. | C24: OK | D24: Se consultan las páginas de www.procuraduria.gov.co; www.contraloría.gov.co; NO SE ENCUENTRAN REPORTADOS
A25: La entidad deberá consultar los antecedentes judiciales en línea en los registros de las bases de datos, al igual que el certificado de antecedentes disciplinarios conforme el artículo 1 de la Ley 1238de 2008 y consultar en el Registro Nacional de Medidas Correctivas del Ministerio de DefensaNacional – Policía Nacional de acuerdo con lo dispuesto en el artículo 184 de la Ley 1801 de 2016 –Código Nacional de Seguridad y Convivencia Ciudadana–. | C25: OK | D25: Se consulta la página www.policiajudicial.gov.co; NO PRESENTAN ANTECEDENTES PENALES . SE CONSULTAN MEDIDAS CORREECTIVAS NO REGISTRAN MEDIDAS CORRECTIVAS A LA FECHA DE LA CONSULTA.
A26: CERTIFICADO DE EXISTENCIA Y REPRESENTACIÓN
A27: PERSONAS NATURALES: A. Persona natural de nacionalidad colombiana: cédula de ciudadanía. B. Persona natural extranjera con residencia en Colombia: cédula de extranjería vigente expedida por la autoridad competente. C. Persona natural extranjera sin domicilio en Colombia: pasaporte. | C27: N/A | E27: CUMPLE
A28: PERSONAS JURÍDICAS: A. Persona jurídica nacional o extranjera con sucursal en Colombia: I. Certificado de existencia y representación legal expedido por la Cámara de Comercio o autoridad competente en el que se verificará: a. Fecha de expedición del certificado no mayor a treinta (30) días calendario anteriores a la fecha de cierre del proceso de contratación. b. Que el objeto de la sociedad permita ejecutar las actividades descritas en el objeto del presente proceso de contratación. c. Las personas jurídicas nacionales y extranjeras deberán acreditar que su duración no será inferior a la del plazo del contrato y un año más. d. Si el representante legal de la sociedad tiene restricciones para contraer obligaciones en nombre de la misma, deberá acreditar su capacidad a través de una autorización suficiente otorgada por parte del órgano social competente respectivo para cada caso. e. El nombramiento del revisor fiscal en caso que exista. f. Que las personas jurídicas extranjeras con actividades permanentes en la República de Colombia (contratos de obra o servicios) deberán estar legalmente establecidas en el territorio nacional de acuerdo con los artículos 471 y 474 del Código de Comercio. II. Certificación del revisor fiscal en caso de ser sociedad anónima colombiana, en la que conste si es abierta o cerrada. III. Fotocopia del documento de identificación del representante legal. | C28: OK
A29: PERSONA JURÍDICA: B. Persona jurídica extranjera sin sucursal o domicilio en Colombia: Documentos que acrediten la existencia y representación legal de la sociedad extranjera, presentados de conformidad con lo establecido en el presente Pliego de Condiciones: I. Nombre o razón social completa. II. Nombre del representante legal o de la persona facultada para comprometer a la persona jurídica. III. Que el objeto de la sociedad permita ejecutar las actividades descritas en el objeto del proceso de selección. IV. Facultades del representante legal o de la persona facultada para comprometer a la persona jurídica, en la que se señale expresamente que el representante no tiene limitaciones para contraer obligaciones en nombre de la misma o aportando la autorización o documento correspondiente del órgano social competente respectivo para cada caso. V. Tipo, número y fecha del documento de constitución o creación. VI. Fecha y clase de documento por el cual se reconoce la personería jurídica VII. Acreditar que su duración no será inferior a la del plazo del contrato y un año más. VIII. Fotocopia del documento de identificación del representante legal. | C29: OK
A30: PERSONA JURÍDICA: C. Entidades estatales: Deben presentar los siguientes documentos para acreditar su existencia: I. Acto de creación de la entidad estatal. Este puede ser ley, decreto, ordenanza, acuerdo o certificado de existencia y representación legal (este último no mayor a treinta (30) días calendario anteriores a la fecha de cierre del proceso de contratación) o documento equivalente que permita conocer la naturaleza jurídica, funciones, órganos de dirección, régimen jurídico de contratación de la entidad estatal. NOTA: En el evento de personas jurídicas no obligadas a aportar el certificado de existencia y representación legal, deberán aportar un documento equivalente que acredite su existencia, junto con los documentos que demuestren la capacidad del representante legal de la entidad o sociedad a contratar, conforme lo establecido en el pliego de condiciones. | C30: N/A
A31: PROPONENTES PLURALES
A32: A. Acreditar la existencia del proponente plural y clasificarlo en Unión Temporal o Consorcio. En este documento los integrantes deben expresar su intención de conformar el proponente plural. En caso que no exista claridad sobre el tipo de asociación se solicitará la aclaración. Los proponentes deben incluir como mínimo la información requerida en el Formato 2 – Conformación de Proponente Plural (Formato 2A – Consorcios) (Formato 2B – Uniones Temporales). Los proponentes podrán incluir información adicional que no contradiga lo dispuesto en los documentos del proceso. B. Acreditar el nombramiento de un representante y un suplente cuya intervención deberá quedar definida en el Formato 2 – Conformación de Proponente Plural (Formato 2A – Consorcios) (Formato 2B – Uniones Temporales), de todas las personas naturales y/o jurídicas asociadas, con facultades suficientes para la representación sin limitaciones de todos y cada uno de los integrantes, en todos los aspectos que se requieran para la presentación de la oferta, para la suscripción y ejecución del contrato, así como también la facultad para firmar el acta de terminación y liquidación. C. Aportar copia del documento de identificación del representante principal y suplente de la estructura plural. D. Acreditar que la vigencia de la estructura plural no sea inferior a la del plazo del contrato y un año adicional. Para efectos de la evaluación, este plazo será contado a partir de la fecha del cierre del proceso de contratación. E. El proponente plural debe señalar expresamente cuál es el porcentaje de participación de cada uno de sus miembros. La sumatoria del porcentaje de participación no podrá ser diferente al 100%. F. En la etapa contractual, no podrán ser modificados los porcentajes de participación sin el consentimiento previo de la entidad. Dicho documento debe estar firmado por todos y cada uno de los integrantes del proponente plural y en el caso del integrante persona jurídica, por el representante legal de dicha persona, o por el apoderado de cualquiera de los anteriores. | C32: N/A | E32: =IF(AND(OR(C32="OK",C32="N/A")),"CUMPLE","NO CUMPLE") -> CUMPLE
A33: CERTIFICACIÓN DE PAGOS DE SEGURIDAD SOCIAL Y APORTES LEGALES
A34: PERSONAS JURÍDICAS: El proponente persona jurídica debe presentar el Formato 6 – Pagos de seguridad social y aportes legales suscrito por el revisor fiscal, de acuerdo con los requerimientos de ley o por el representante legal, bajo la gravedad del juramento, cuando no se requiera revisor fiscal, en el que conste el pago de los aportes de sus empleados a los sistemas de salud, riesgos profesionales, pensiones y aportes a las Cajas de Compensación Familiar, al Instituto Colombiano de Bienestar Familiar, al Servicio Nacional de Aprendizaje y al Fondo Nacional de Formación Profesional para la Industria de Construcción, cuando a ello haya lugar. Cuando la persona jurídica está exonerada en los términos previstos en el artículo 65 de la Ley 1819 de 2016 debe indicarlo en el Formato 6 – Pagos de seguridad social y aportes legales. Esta misma previsión aplica para las personas jurídicas extranjeras con domicilio o sucursal en Colombia las cuales deben acreditar este requisito respecto del personal vinculado en Colombia. | C34: OK | D34: El proponente no dilengio el FORMATO 6-PAGO DE SEGURIDAD SOCIAL Y AOPORTES LEGALES. El proponente subsano en debida forma. | E34: =IF(AND(OR(C34="OK",C34="N/A")),"CUMPLE","NO CUMPLE") -> CUMPLE
A35: PERSONAS NATURALES: El proponente persona natural debe acreditar la afiliación a los sistemas de seguridad social en salud y pensiones aportando los certificados de afiliación respectivos o con el certificado de pago de la correspondiente planilla. Los certificados de afiliación se deben presentar con fecha de expedición no mayor a treinta (30) días calendario, anteriores a la fecha del cierre del proceso de contratación. En caso de modificarse la fecha de cierre del proceso, se tendrá como referencia para establecer el plazo de vigencia de los certificados de afiliación la fecha originalmente establecida en el pliego de condiciones definitivo. La persona natural que reúna los requisitos para acceder a la pensión de vejez, o se pensione por invalidez o anticipadamente, presentará el certificado que lo acredite y, además la afiliación al sistema de salud. Esta misma previsión aplica para las personas naturales extranjeras con domicilio en Colombia las cuales deberán acreditar este requisito respecto del personal vinculado en Colombia. | C35: N/A | E35: =IF(AND(OR(C35="OK",C35="N/A")),"CUMPLE","NO CUMPLE") -> CUMPLE
A36: PROPONENTES PLURALES: Cada uno de los integrantes del proponente plural debe suscribir por separado la declaración de la que tratan los numerales anteriores. | C36: N/A | E36: =IF(AND(OR(C36="OK",C36="N/A")),"CUMPLE","NO CUMPLE") -> CUMPLE
A37: GARANTÍA DE SERIEDAD DE LA OFERTA
A38: Cualquiera de las clases permitidas por el artículo 2.2.1.2.3.1.2 del Decreto 1082 de 2015, a saber: (i) Contrato de seguro contenido en una póliza, (ii) Patrimonio autónomo y (iii) Garantía Bancaria. | C38: OK | D38: COMPAÑIA: SEGUROS MUNDIAL NIT: 860.037.013-6 Póliza No.100047049 | E38: CUMPLE
A39: La garantía deberá contener: Asegurado y beneficiario: MUNICIPIO DE PALMIRA NIT. 891.380.007-3 | C39: OK | D39: Asegurado / Beneficiario: MUNICIPIO DE PALMIRA, NIT: 891.380.007-3 Dirección de la Alcaldía de Palmira es Calle 30 – Carrera 29, Esquina. El objeto se encuentra conforme e igual el numero del proceso Tomador: PROTOLED INGENIERIA SAS., NIT: 900.887.852-1
A40: Tomador / Afianzado: ● Para las personas jurídicas: la garantía deberá tomarse con el nombre o razón social y tipo societario que figura en el certificado de existencia y representación legal expedido por la Cámara de Comercio respectiva, y no solo con su sigla, a no ser que en el referido documento se exprese que la sociedad podrá denominarse de esa manera. ● Para los proponentes plurales: la garantía deberá ser otorgada por todos los integrantes del proponente plural, para lo cual se deberá relacionar claramente los integrantes, su identificación y porcentaje de participación, quienes para todos los efectos serán los otorgantes de la misma. | C40: OK
...

Sheet 5
A1: =GENERAL!A1 -> MUNICIPIO DE PALMIRA PROCESO DE OBRA PÚBLICA - SELECCIÓN ABREVIADA DE MENOR CUANTÍA No. MP-STT-SA-OP-066-2022. OBJETO: “ADECUACIÓN, MODERNIZACIÓN, MEJORAMIENTO Y OBRAS COMPLEMENTARIAS DE LA RED SEMAFÓRICA DEL MUNICIPIO DE PALMIRA VALLE DEL CAUCA."
A2: EVALUACIÓN JURÍDICA VERIFICACIÓN DE REQUISITOS HABILITANTES
A3: AFS SERVICE S.A.S. NIT: 901380311-3
A4: =+CONCATENATE("PROPUESTA No ",6) -> PROPUESTA No 6
A5: DOCUMENTOS QUE SOPORTAN LA CAPACIDAD JURÍDICA
A6: CONDICIÓN | C6: =A3 -> AFS SERVICE S.A.S. NIT: 901380311-3
C7: VERIFICADO | D7: OBSERVACIONES | E7: CUMPLE SI / NO
A8: CARTA DE PRESENTACIÓN DE LA PROPUESTA | S8: OK
A9: La carta de presentación de la propuesta debe ser diligenciada según el Formato 1 – Carta de presentación de la oferta | C9: OK | D9: El proponente allega formato 1 Carta de Presentación COMPLETA. | E9: =IF(AND(OR(C9="OK",C9="N/A"),OR(C10="OK",C10="N/A"),OR(C11="OK",C11="N/A"),OR(C12="OK",C12="N/A"),OR(C13="OK",C13="N/A")),"CUMPLE","NO CUMPLE") -> CUMPLE | S9: N/A
A10: Debe ser firmada por el proponente así: firmado por la persona natural proponente o por el representante legal del proponente individual o plural o por el apoderado. (el apoderado debe cumplir con lo descrito en el numeral 2.2. del Capitulo II. | C10: OK | D10: El proponente suscribe propuesta a través de su representante legal, Anibal Franco Soto C. C. No. 10.274.097 de Manizales | S10: NO PRESENTA
A11: En todo caso, de acuerdo con en el artículo 20 de la Ley 842 de 2003, si el Proponente –persona natural– o el representante legal o el apoderado del proponente individual persona jurídica o el representante legal o apoderado de la estructura plural, no posee título de ingeniero en la respectiva rama de la ingeniería, la oferta tendrá que ser avalada por un ingeniero, para lo cual debe adjuntar copia de la tarjeta profesional y copia del certificado de vigencia de matrícula profesional expedida por el COPNIA, en la respectiva rama de la ingeniería, según corresponda, vigente a la fecha de cierre de este procedimiento de selección. El requisito de la tarjeta profesional se puede suplir con el registro de que trata el artículo 18 del Decreto-Ley 2106 de 2019. | C11: OK | D11: El proponente suscribe propuesta a través de su representante legal,Anibal Franco Soto C. C. No. 10.274.097 de Manizales, y de acuerdo con lo expresado en la Ley 842 de 2003 y debido a que el suscriptor de la presente propuesta no es ingeniero matriculado, Daniel Felipe Arroyave Franco ingeniero con matrícula profesional No. 1736-283249 CLD y C.C. No. 1.053.803.964 de Manizales, avaló la presente propuesta.
A12: El aval del ingeniero civil de que trata el artículo 20 de la Ley 842 de 2003 hace parte integral del Formato 1 – Carta de presentación de la oferta, cuando el proponente deba presentarlo. | C12: OK
A13: Todos los espacios en blanco deberán diligenciarse con la información solicitada. | C13: OK | D13: Presenta formato totalmente diligenciado
A14: REGISTRO ÚNICO DE PROPONENTES -RUP.
