Workbook
Name SIoNO: #REF!
Name SIoNO: #REF!
Name SIoNO: #REF!
Name SIoNO: #REF!
Name SIoNO: #REF!
Name P_3: #REF!
Name SIoNO: #REF!
Name SIoNO: #REF!

Sheet GENERAL
B1: INFORMACIÓN DEL PROCESO | C1: MUNICIPIO DE PALMIRA SELECCIÓN ABREVIADA DE MENOR CUANTÍA DE INFRAESTRUCTURA DE TRANSPORTE No. MP-STT-SA-OP- 066-2022 OBJETO: “ADECUACIÓN, MODERNIZACIÓN, MEJORAMIENTO Y OBRAS COMPLEMENTARIAS DE LA RED SEMAFÓRICA DEL MUNICIPIO DE PALMIRA"􏰃
C2: PRESUPUESTO OFICIAL ($) : | D2: 376279580
C3: PRESUPUESTO OFICIAL (SMMLV) : | D3: =D2/1000000 -> 376.27958
C4: FECHA DE CIERRE PROCESO | D4: 44769
B6: OFERENTE | C6: PROPUESTA 1
B7: INFORMACIÓN DEL OFERENTE | C7: GRUPO VIAL S.A.S
B8: REPRESENTANTE LEGAL | C8: Luis Carlos Moya Ospina
B9: NIT | C9: 900434069-5
B10: RESULTADO DE LA EVALUACIÓN TÉCNICA HABILITANTE | C10: =P_1!C70 -> HABILITADO
B11: FACTOR DE CALIDAD (PUNTOS) | C11: =P_1!C77 -> 20
B14: OFERENTE | C14: 2
B15: INFORMACIÓN DEL OFERENTE | C15: INSERTE NOMBRE DEL OFERENTE
B16: REPRESENTANTE LEGAL
B17: NIT
B18: RESULTADO DE LA EVALUACIÓN TÉCNICA HABILITANTE
B19: RESULTADO DE LA EVALUACIÓN TÉCNICA PONDERABLE
B21: OFERENTE | C21: 3
B22: INFORMACIÓN DEL OFERENTE | C22: INSERTE NOMBRE DEL OFERENTE
B23: REPRESENTANTE LEGAL
B24: NIT
B25: RESULTADO DE LA EVALUACIÓN TÉCNICA HABILITANTE
B26: RESULTADO DE LA EVALUACIÓN TÉCNICA PONDERABLE
B28: OFERENTE | C28: 4
B29: INFORMACIÓN DEL OFERENTE | C29: INSERTE NOMBRE DEL OFERENTE
B30: REPRESENTANTE LEGAL
B31: NIT
B32: RESULTADO DE LA EVALUACIÓN TÉCNICA HABILITANTE
B33: RESULTADO DE LA EVALUACIÓN TÉCNICA PONDERABLE
B35: OFERENTE | C35: PROPUESTA 2
B36: INFORMACIÓN DEL OFERENTE | C36: SEÑALIZACIONES Y CONSTRUCCIONES S.A.S.
B37: REPRESENTANTE LEGAL | C37: SAMUEL SCHUSTER BEJMAN
B38: NIT | C38: 830505579-1
B39: RESULTADO DE LA EVALUACIÓN TÉCNICA HABILITANTE | C39: =P_2!C70 -> HABILITADO
B40: FACTOR DE CALIDAD (PUNTOS) | C40: =P_2!C77 -> 20
B42: OFERENTE | C42: PROPUESTA 3
B43: INFORMACIÓN DEL OFERENTE | C43: PROTOLED INGENIERIA SAS
B44: REPRESENTANTE LEGAL | C44: JAIME EDUARDO FRANCO GUTIEREZ
B45: NIT | C45: 900887852-1
B46: RESULTADO DE LA EVALUACIÓN TÉCNICA HABILITANTE | C46: =P_3!C70 -> HABILITADO
B47: FACTOR DE CALIDAD (PUNTOS) | C47: =P_3!C77 -> 10
...

Sheet P_1
A1: =GENERAL!C1 -> MUNICIPIO DE PALMIRA SELECCIÓN ABREVIADA DE MENOR CUANTÍA DE INFRAESTRUCTURA DE TRANSPORTE No. MP-STT-SA-OP- 066-2022 OBJETO: “ADECUACIÓN, MODERNIZACIÓN, MEJORAMIENTO Y OBRAS COMPLEMENTARIAS DE LA RED SEMAFÓRICA DEL MUNICIPIO DE PALMIRA"􏰃
A2: EVALUACIÓN TÉCNICA VERIFICACIÓN DE REQUISITOS HABILITANTES Y PONDERABLES
A3: =GENERAL!C7 -> GRUPO VIAL S.A.S
A4: PROPUESTA No 1
A5: CONDICIÓN | B5: =A3 -> GRUPO VIAL S.A.S
B6: OBSERVACIONES | C6: CUMPLE SI / NO
A7: REQUISITOS HABILITANTES
A8: EXPERIENCIA - Anexo 3
A9: A. Que hayan contenido la ejecución de: 6.12 PROYECTOS DE CONSTRUCCIÓN Y/O EXPANSIÓN Y/O MANTENIMIENTO Y/O MEJORAMIENTO Y/O OPTIMIZACIÓN Y/O ADECUACIÓN DE OBRAS CIVILES PARA SISTEMAS DE SEMAFORIZACIÓN (VEHICULAR Y/O PEATONAL) GENERAL :  Construcción o Mantenimiento de Obras Civiles para Intersecciones Semaforizadas.  Intervención del espacio público para la construcción de infraestructura soporte de redes de energía y/o telecomunicaciones en zonas urbanas.  Construcción y/o mantenimiento de andenes en la construcción de canalizaciones para redes de servicios públicos.  Construcción y/o mantenimiento de andenes en proyectos de obras civiles en espacio público. Experiencia Específica cuando:  Por lo menos uno (1) de los contratos válidos aportados como experiencia general debe acreditar la Construcción o Mantenimiento de Obras Civiles para Intersecciones Semaforizadas.  Por lo menos uno (1) de los contratos válidos aportados como experiencia general debe acreditar en el componente de semaforización un valor igual o superior al 40% del Componente de Semaforización del Presupuesto Oficial estimado de contratación. | B9: 1) Contratar el estudio, diseño y construccion de intersecciones semaforizadas,suministros de repuestos para la red semaforica, señalizacion vertical y reductores de velocidad para el Municipio de Girardot- Cundinamarca El contrato aportado para acreditar la experiencia cumple con lo señalado en el Documento Base y la Matriz 1 - Experiencia. | C9: SI
A10: B. Estar relacionados en el Formato 3 – Experiencia con el número consecutivo del contrato en el RUP. Los proponentes plurales deben indicar qué integrante aporta cada uno de los contratos señalados en el Formato 3 – Experiencia. Este documento debe presentarlo el proponente plural y no cada integrante. El hecho de que el proponente no aporte el ―Formato 3 - Experiencia‖ en ningún caso será motivo para rechazar la oferta. La subsanación de este requisito podrá realizarse en los términos del numeral 1.6. Mientras esté pendiente la subsanación del requisito, y en caso de que este no se subsane, la entidad tendrá en cuenta para la evaluación los seis (6) contratos aportados de mayor valor. | B10: Número consecutivo del reporte del contrato ejecutado en el RUP #54 | C10: SI
A11: C. El proponente podrá acreditar la experiencia con mínimo uno (1) y máximo seis (6) contratos los cuales serán evaluados teniendo en cuenta la tabla incluida en el numeral 3.5.8. del pliego de condiciones, así como el contenido establecido en la Matriz 1 – Experiencia. | B11: Acredita la experiencia con 1 contrato certificando mas del 75% del presupuesto oficial, acreditando 691,43 SMMLV | C11: SI
A12: D. Deben haber terminado antes de la fecha de cierre del presente proceso de contratación. | B12: finalizacion de los contratos aportados para acreditar la experiencia: contrato # 917; RUP #54 finalizo 26/12/2019 | C12: SI
A13: E. Para los contratos que sean aportados por socios de empresas que no cuentan con más de tres (3) años de constituidas, además del RUP, deben adjuntar un documento suscrito por el representante legal y el revisor fiscal o contador público (según corresponda) donde se indique la conformación de la empresa. La entidad tendrá en cuenta la experiencia individual de los accionistas, socios o constituyentes de las sociedades con menos de tres (3) años de constituidas. Pasado este tiempo, la sociedad conservará esta experiencia, tal y como haya quedado registrada en el RUP. | C13: N/A
A14: F. La experiencia a la que se refiere este numeral podrá ser validada mediante los documentos establecidos en el pliego de condiciones señalados en el numeral 3.5.6 | B14: Aporta para el contrato # 917; RUP #54 lo siguiente: Acta de liquidacion firmada por Fernando Farfan Murcia Secretario de Transito y Trasnporte - Alcaldia Municipal de Girardot En este documento se puede validar datos del contrato aportado. | C14: SI
A15: G. Para proyectos de infraestructura vial que se hayan realizado fuera del territorio nacional, se consideran ―Carreteras primarias‖ aquellas que sean certificadas por la entidad contratante mediante alguno de los documentos válidos establecidos en el numeral 3.5.6 del pliego de condiciones, siempre que se indique que el ancho de calzada es mayor o igual a siete (7.0) metros, y/o que se acrediten tres o más carriles vehiculares por calzada. | C15: N/A
A16: 3.5.3. CONSIDERACIONES PARA LA VALIDEZ DE LA EXPERIENCIA REQUERIDA
A17: La Entidad tendrá en cuenta los siguientes aspectos para analizar la experiencia acreditada y que la misma sea válida como experiencia requerida:
A18: A. En el Clasificador de Bienes y Servicios, el segmento correspondiente para la clasificación de la experiencia es el segmento 72. | B18: Al verificar en el RUP dichos contratos se identifica el codigo 72101500 | C18: SI
A19: B. La Entidad contratante únicamente podrá exigir para la verificación de la experiencia los contratos celebrados por el interesado, identificados con el Clasificador de Bienes y Servicios hasta el tercer nivel. | B19: 721015 | C19: SI
A20: C. Si el Proponente relaciona o anexa más de seis (6) contratos en el Formato 3 – Experiencia, para efectos de evaluación de la experiencia se tendrá en cuenta máximo los seis (6) contratos aportados de mayor valor. | C20: N/A
A21: D.Tratándose de proponentes plurales se tendrá en cuenta lo siguiente: i) uno de los integrantes debe aportar como mínimo el cincuenta por ciento (50 %) de la experiencia mínima exigida; ii) los demás integrantes deben acreditar al menos el cinco por ciento (5 %) de la experiencia mínima exigida; y iii) sin perjuicio de lo anterior, solo uno (1) de los integrantes, si así lo considera pertinente, podrá no acreditar experiencia. En este último caso, el porcentaje de participación del integrante que no aporta experiencia en la estructura plural no podrá superar el cinco por ciento (5 %). Estos porcentajes de experiencia mínima que cumplirán los integrantes del proponente plural, bastará acreditarlos con contratos que cumplan con el requisito de experiencia general exigida en el pliego de condiciones y se calcularán sobre el “valor mínimo a certificar (como % del Presupuesto Oficial de obra expresado en SMMLV)” de conformidad con el numeral 3.5.8. Independientemente de el o los integrantes del proponente plural que aporten contratos para acreditar la experiencia, estos se tendrán en cuenta para calcular el "Número de contratos con los cuales el Proponente cumple la experiencia acreditada" de que trata el numeral 3.5.8. | C21: N/A
A22: E. Cuando el contrato que se pretende acreditar como experiencia haya sido ejecutado en Consorcio o Unión Temporal, el porcentaje de participación del integrante será el registrado en el RUP de este o en alguno de los documentos válidos para la acreditación de experiencia en caso de que el integrante no esté obligado a tener RUP. | C22: N/A
A23: F. Cuando el contrato que se pretende acreditar como experiencia haya sido ejecutado en Consorcio o Unión Temporal, el valor a considerar será el registrado en el RUP o documento válido en caso de que el integrante no esté obligado a RUP, para la acreditación de experiencia multiplicada por el porcentaje de participación que tuvo el integrante o los integrantes. | C23: N/A
A24: H. Cuando el contrato que se aporte para la experiencia haya sido ejecutado por un Consorcio o Unión Temporal, y dos (2) o más de sus integrantes conformen un Proponente Plural para participar en el presente Proceso, dicho contrato se entenderá aportado como un (1) solo contrato y se tendrá en cuenta para el aporte de la experiencia la sumatoria de los porcentajes de los integrantes del Consorcio o Unión Temporal que ejecutaron el contrato y que están participando en el presente Proceso. | C24: N/A
A25: I. Para el caso de los proyectos de concesiones viales, únicamente se tendrá en cuenta la etapa constructiva y/o de intervención de la obra de infraestructura de transporte, lo cual deberá demostrarse con los documentos soporte de la experiencia. En consecuencia, no será válida la experiencia obtenida en la etapa de operación, administración y/o mantenimiento de la infraestructura concesionada. | C25: N/A
A26: 3.5.4. CLASIFICACIÓN DE LA EXPERIENCIA EN EL “CLASIFICADOR DE BIENES, OBRAS Y SERVICIOS DE LAS NACIONES UNIDAS”
A27: Los contratos aportados para efectos de acreditación de la experiencia requerida deben estar clasificados en alguno de los siguientes códigos:
A28: Segmentos. Nombre
A29: 72 10 15. SERVICIO DE APOYO PARA LA CONSTRUCCIÓN | B29: 72101500 | C29: SI
A30: 72 15 15 SERVICIOS DE SISTEMAS ELECTRICOS
A31: 3.5.5. ACREDITACIÓN DE LA EXPERIENCIA REQUERIDA
A32: Los proponentes acreditarán para cada uno de los contratos aportados la siguiente información mediante alguno de los documentos señalados en la sección 3.5.6. del Pliego de Condiciones:
A33: A. Contratante | B33: Contrato # 917 - Municipio de Girardot | C33: SI
A34: B. Objeto del contrato | B34: 1)#917: Contratar el estudio, diseño y construccion de intersecciones semaforizadas,suministros de repuestos para la red semaforica, señalizacion vertical y reductores de velocidad para el Municipio de Girardot- Cundinamarca | C34: SI
A35: C. Principales actividades ejecutadas | B35: Aporta para el contrato lo siguiente: contrato #917: Acta de liquidacion firmada por Fernando Farfan Murcia Secretario de Transito y Trasnporte - Alcaldia Municipal de Girardot Donde se encuentran las principales actividades ejecutadas | C35: SI
A36: D. Las longitudes, volúmenes, dimensiones, tipologías y demás condiciones de experiencia establecidas en la Matriz 1 – Experiencia, si aplica. | C36: N/A
A37: E. La fecha de iniciación de la ejecución del contrato: Esta fecha es diferente a la de suscripción del contrato, a menos que de los documentos del numeral 3.5.6 de forma expresa así se determine. Si en los documentos válidos aportados para la acreditación de experiencia solo se evidencia fecha (mes, año) de suscripción y/o inicio del contrato: se tendrá en cuenta el último día del mes que se encuentre señalado en la certificación | B37: Inicio del contrato aportado para acreditar la experiencia: contrato # 917; RUP #54 inicio 27/09/2019 | C37: SI
A38: F. La fecha de terminación de la ejecución del contrato: Esta fecha de terminación no es la fecha de entrega y/o recibo final, liquidación, o acta final, salvo que de los documentos del numeral 3.5.6 de forma expresa así se determine. Si en los documentos válidos aportados para la acreditación de experiencia solo se evidencia fecha (mes, año) de terminación del contrato: se tendrá en cuenta el primer día del mes que se encuentre señalado en la certificación | B38: finalizacion de lo contrato aportado para acreditar la experiencia: contrato # 917; RUP #54 finalizo 26/12/2019 | C38: SI
A39: G. Nombre y cargo de la persona que expide la certificación. | B39: contrato #917: Acta de liquidacion firmada por Fernando Farfan Murcia Secretario de Transito y Trasnporte - Alcaldia Municipal de Girardot | C39: SI
A40: H. El porcentaje de participación del integrante del contratista plural. | C40: N/A
...

Sheet P_2
A1: =GENERAL!C1 -> MUNICIPIO DE PALMIRA SELECCIÓN ABREVIADA DE MENOR CUANTÍA DE INFRAESTRUCTURA DE TRANSPORTE No. MP-STT-SA-OP- 066-2022 OBJETO: “ADECUACIÓN, MODERNIZACIÓN, MEJORAMIENTO Y OBRAS COMPLEMENTARIAS DE LA RED SEMAFÓRICA DEL MUNICIPIO DE PALMIRA"􏰃
A2: EVALUACIÓN TÉCNICA VERIFICACIÓN DE REQUISITOS HABILITANTES Y PONDERABLES
A3: =GENERAL!C36 -> SEÑALIZACIONES Y CONSTRUCCIONES S.A.S.
A4: PROPUESTA No 2
A5: CONDICIÓN | B5: =A3 -> SEÑALIZACIONES Y CONSTRUCCIONES S.A.S.
B6: OBSERVACIONES | C6: CUMPLE SI / NO
A7: REQUISITOS HABILITANTES
A8: EXPERIENCIA - Anexo 3
A9: A. Que hayan contenido la ejecución de: 6.12 PROYECTOS DE CONSTRUCCIÓN Y/O EXPANSIÓN Y/O MANTENIMIENTO Y/O MEJORAMIENTO Y/O OPTIMIZACIÓN Y/O ADECUACIÓN DE OBRAS CIVILES PARA SISTEMAS DE SEMAFORIZACIÓN (VEHICULAR Y/O PEATONAL) GENERAL :  Construcción o Mantenimiento de Obras Civiles para Intersecciones Semaforizadas.  Intervención del espacio público para la construcción de infraestructura soporte de redes de energía y/o telecomunicaciones en zonas urbanas.  Construcción y/o mantenimiento de andenes en la construcción de canalizaciones para redes de servicios públicos.  Construcción y/o mantenimiento de andenes en proyectos de obras civiles en espacio público. Experiencia Específica cuando:  Por lo menos uno (1) de los contratos válidos aportados como experiencia general debe acreditar la Construcción o Mantenimiento de Obras Civiles para Intersecciones Semaforizadas.  Por lo menos uno (1) de los contratos válidos aportados como experiencia general debe acreditar en el componente de semaforización un valor igual o superior al 40% del Componente de Semaforización del Presupuesto Oficial estimado de contratación. | B9: 1) MANTENIMIENTO Y OBRAS DE AMPLIACION Y REPOSICION DE LA RED DE SEMAFOROS EN EL MUNICIPIO DE MEDELLIN El contrato aportado para acreditar la experiencia cumple con lo señalado en el Documento Base y la Matriz 1 - Experiencia. | C9: SI
A10: B. Estar relacionados en el Formato 3 – Experiencia con el número consecutivo del contrato en el RUP. Los proponentes plurales deben indicar qué integrante aporta cada uno de los contratos señalados en el Formato 3 – Experiencia. Este documento debe presentarlo el proponente plural y no cada integrante. El hecho de que el proponente no aporte el ―Formato 3 - Experiencia‖ en ningún caso será motivo para rechazar la oferta. La subsanación de este requisito podrá realizarse en los términos del numeral 1.6. Mientras esté pendiente la subsanación del requisito, y en caso de que este no se subsane, la entidad tendrá en cuenta para la evaluación los seis (6) contratos aportados de mayor valor. | B10: Número consecutivo del reporte del contrato ejecutado en el RUP #200 | C10: SI
A11: C. El proponente podrá acreditar la experiencia con mínimo uno (1) y máximo seis (6) contratos los cuales serán evaluados teniendo en cuenta la tabla incluida en el numeral 3.5.8. del pliego de condiciones, así como el contenido establecido en la Matriz 1 – Experiencia. | B11: Acredita la experiencia con 1 contrato certificando mas del 75% del presupuesto oficial, acreditando 4124,91SMMLV | C11: SI
A12: D. Deben haber terminado antes de la fecha de cierre del presente proceso de contratación. | B12: finalizacion de los contratos aportados para acreditar la experiencia: contrato # 4600087809 DE 2020; RUP #200 finalizo 10/05/2021 | C12: SI
A13: E. Para los contratos que sean aportados por socios de empresas que no cuentan con más de tres (3) años de constituidas, además del RUP, deben adjuntar un documento suscrito por el representante legal y el revisor fiscal o contador público (según corresponda) donde se indique la conformación de la empresa. La entidad tendrá en cuenta la experiencia individual de los accionistas, socios o constituyentes de las sociedades con menos de tres (3) años de constituidas. Pasado este tiempo, la sociedad conservará esta experiencia, tal y como haya quedado registrada en el RUP. | C13: N/A
A14: F. La experiencia a la que se refiere este numeral podrá ser validada mediante los documentos establecidos en el pliego de condiciones señalados en el numeral 3.5.6 | B14: Aporta para el contrato #4600087809 DE 2020; RUP #200 lo siguiente: Acta de terminacion firmada por CAMILO ANDRES ANGEL SALDARIAGA - INTERVENTOR En este documento se puede validar datos del contrato aportado. | C14: SI
A15: G. Para proyectos de infraestructura vial que se hayan realizado fuera del territorio nacional, se consideran ―Carreteras primarias‖ aquellas que sean certificadas por la entidad contratante mediante alguno de los documentos válidos establecidos en el numeral 3.5.6 del pliego de condiciones, siempre que se indique que el ancho de calzada es mayor o igual a siete (7.0) metros, y/o que se acrediten tres o más carriles vehiculares por calzada. | C15: N/A
A16: 3.5.3. CONSIDERACIONES PARA LA VALIDEZ DE LA EXPERIENCIA REQUERIDA
A17: La Entidad tendrá en cuenta los siguientes aspectos para analizar la experiencia acreditada y que la misma sea válida como experiencia requerida:
A18: A. En el Clasificador de Bienes y Servicios, el segmento correspondiente para la clasificación de la experiencia es el segmento 72. | B18: Al verificar en el RUP dichos contratos se identifica el codigo 72101500 | C18: SI
A19: B. La Entidad contratante únicamente podrá exigir para la verificación de la experiencia los contratos celebrados por el interesado, identificados con el Clasificador de Bienes y Servicios hasta el tercer nivel. | B19: 721015 | C19: SI
A20: C. Si el Proponente relaciona o anexa más de seis (6) contratos en el Formato 3 – Experiencia, para efectos de evaluación de la experiencia se tendrá en cuenta máximo los seis (6) contratos aportados de mayor valor. | C20: N/A
A21: D.Tratándose de proponentes plurales se tendrá en cuenta lo siguiente: i) uno de los integrantes debe aportar como mínimo el cincuenta por ciento (50 %) de la experiencia mínima exigida; ii) los demás integrantes deben acreditar al menos el cinco por ciento (5 %) de la experiencia mínima exigida; y iii) sin perjuicio de lo anterior, solo uno (1) de los integrantes, si así lo considera pertinente, podrá no acreditar experiencia. En este último caso, el porcentaje de participación del integrante que no aporta experiencia en la estructura plural no podrá superar el cinco por ciento (5 %). Estos porcentajes de experiencia mínima que cumplirán los integrantes del proponente plural, bastará acreditarlos con contratos que cumplan con el requisito de experiencia general exigida en el pliego de condiciones y se calcularán sobre el “valor mínimo a certificar (como % del Presupuesto Oficial de obra expresado en SMMLV)” de conformidad con el numeral 3.5.8. Independientemente de el o los integrantes del proponente plural que aporten contratos para acreditar la experiencia, estos se tendrán en cuenta para calcular el "Número de contratos con los cuales el Proponente cumple la experiencia acreditada" de que trata el numeral 3.5.8. | C21: N/A
A22: E. Cuando el contrato que se pretende acreditar como experiencia haya sido ejecutado en Consorcio o Unión Temporal, el porcentaje de participación del integrante será el registrado en el RUP de este o en alguno de los documentos válidos para la acreditación de experiencia en caso de que el integrante no esté obligado a tener RUP. | C22: N/A
A23: F. Cuando el contrato que se pretende acreditar como experiencia haya sido ejecutado en Consorcio o Unión Temporal, el valor a considerar será el registrado en el RUP o documento válido en caso de que el integrante no esté obligado a RUP, para la acreditación de experiencia multiplicada por el porcentaje de participación que tuvo el integrante o los integrantes. | C23: N/A
A24: H. Cuando el contrato que se aporte para la experiencia haya sido ejecutado por un Consorcio o Unión Temporal, y dos (2) o más de sus integrantes conformen un Proponente Plural para participar en el presente Proceso, dicho contrato se entenderá aportado como un (1) solo contrato y se tendrá en cuenta para el aporte de la experiencia la sumatoria de los porcentajes de los integrantes del Consorcio o Unión Temporal que ejecutaron el contrato y que están participando en el presente Proceso. | C24: N/A
A25: I. Para el caso de los proyectos de concesiones viales, únicamente se tendrá en cuenta la etapa constructiva y/o de intervención de la obra de infraestructura de transporte, lo cual deberá demostrarse con los documentos soporte de la experiencia. En consecuencia, no será válida la experiencia obtenida en la etapa de operación, administración y/o mantenimiento de la infraestructura concesionada. | C25: N/A
A26: 3.5.4. CLASIFICACIÓN DE LA EXPERIENCIA EN EL “CLASIFICADOR DE BIENES, OBRAS Y SERVICIOS DE LAS NACIONES UNIDAS”
A27: Los contratos aportados para efectos de acreditación de la experiencia requerida deben estar clasificados en alguno de los siguientes códigos:
A28: Segmentos. Nombre
A29: 72 10 15. SERVICIO DE APOYO PARA LA CONSTRUCCIÓN | B29: 72101500 | C29: SI
A30: 72 15 15 SERVICIOS DE SISTEMAS ELECTRICOS
A31: 3.5.5. ACREDITACIÓN DE LA EXPERIENCIA REQUERIDA
A32: Los proponentes acreditarán para cada uno de los contratos aportados la siguiente información mediante alguno de los documentos señalados en la sección 3.5.6. del Pliego de Condiciones:
A33: A. Contratante | B33: Contrato # 4600087809 DE 2020 - Municipio de Medellin | C33: SI
A34: B. Objeto del contrato | B34: 1)#4600087809 DE 2020: MANTENIMIENTO Y OBRAS DE AMPLIACION Y REPOSICION DE LA RED DE SEMAFOROS EN EL MUNICIPIO DE MEDELLIN | C34: SI
A35: C. Principales actividades ejecutadas | B35: Aporta para el contrato #4600087809 DE 2020; RUP #200 lo siguiente: Acta de terminacion firmada por CAMILO ANDRES ANGEL SALDARIAGA - INTERVENTOR Donde se encuentran las principales actividades ejecutadas | C35: SI
A36: D. Las longitudes, volúmenes, dimensiones, tipologías y demás condiciones de experiencia establecidas en la Matriz 1 – Experiencia, si aplica. | C36: N/A
A37: E. La fecha de iniciación de la ejecución del contrato: Esta fecha es diferente a la de suscripción del contrato, a menos que de los documentos del numeral 3.5.6 de forma expresa así se determine. Si en los documentos válidos aportados para la acreditación de experiencia solo se evidencia fecha (mes, año) de suscripción y/o inicio del contrato: se tendrá en cuenta el último día del mes que se encuentre señalado en la certificación | B37: Inicio del contrato aportado para acreditar la experiencia: contrato # 4600087809 DE 2020; RUP #200 inicio 25/11/2020 | C37: SI
A38: F. La fecha de terminación de la ejecución del contrato: Esta fecha de terminación no es la fecha de entrega y/o recibo final, liquidación, o acta final, salvo que de los documentos del numeral 3.5.6 de forma expresa así se determine. Si en los documentos válidos aportados para la acreditación de experiencia solo se evidencia fecha (mes, año) de terminación del contrato: se tendrá en cuenta el primer día del mes que se encuentre señalado en la certificación | B38: finalizacion de lo contrato aportado para acreditar la experiencia: contrato # 4600087809 DE 2020; RUP #200 finalizo 10/05/2021 | C38: SI
A39: G. Nombre y cargo de la persona que expide la certificación. | B39: contrato #4600087809 DE 2020; RUP #200: Acta de terminacion firmada por CAMILO ANDRES ANGEL SALDARIAGA - INTERVENTOR | C39: SI
A40: H. El porcentaje de participación del integrante del contratista plural. | C40: N/A
...

Sheet P_3
A1: =GENERAL!C1 -> MUNICIPIO DE PALMIRA SELECCIÓN ABREVIADA DE MENOR CUANTÍA DE INFRAESTRUCTURA DE TRANSPORTE No. MP-STT-SA-OP- 066-2022 OBJETO: “ADECUACIÓN, MODERNIZACIÓN, MEJORAMIENTO Y OBRAS COMPLEMENTARIAS DE LA RED SEMAFÓRICA DEL MUNICIPIO DE PALMIRA"􏰃
A2: EVALUACIÓN TÉCNICA VERIFICACIÓN DE REQUISITOS HABILITANTES Y PONDERABLES
A3: =GENERAL!C43 -> PROTOLED INGENIERIA SAS
A4: PROPUESTA No 3
A5: CONDICIÓN | B5: =A3 -> PROTOLED INGENIERIA SAS
B6: OBSERVACIONES | C6: CUMPLE SI / NO
A7: REQUISITOS HABILITANTES
A8: EXPERIENCIA - Anexo 3
A9: A. Que hayan contenido la ejecución de: 6.12 PROYECTOS DE CONSTRUCCIÓN Y/O EXPANSIÓN Y/O MANTENIMIENTO Y/O MEJORAMIENTO Y/O OPTIMIZACIÓN Y/O ADECUACIÓN DE OBRAS CIVILES PARA SISTEMAS DE SEMAFORIZACIÓN (VEHICULAR Y/O PEATONAL) GENERAL :  Construcción o Mantenimiento de Obras Civiles para Intersecciones Semaforizadas.  Intervención del espacio público para la construcción de infraestructura soporte de redes de energía y/o telecomunicaciones en zonas urbanas.  Construcción y/o mantenimiento de andenes en la construcción de canalizaciones para redes de servicios públicos.  Construcción y/o mantenimiento de andenes en proyectos de obras civiles en espacio público. Experiencia Específica cuando:  Por lo menos uno (1) de los contratos válidos aportados como experiencia general debe acreditar la Construcción o Mantenimiento de Obras Civiles para Intersecciones Semaforizadas.  Por lo menos uno (1) de los contratos válidos aportados como experiencia general debe acreditar en el componente de semaforización un valor igual o superior al 40% del Componente de Semaforización del Presupuesto Oficial estimado de contratación. | B9: 1) Desarrollo de actividades contempladas en el diseño de la semaforización vertical y horizontal y adecuaciones viales de las intersecciones semaforizadas localizadas en la ciudad de Cali, y comprenden la realización de obras civiles y el suministro e instalación de postes y semáforos. 2) Intervención de semáforos y mantenimiento de postes (tipo pedestal y/o ménsula larga) suministro y aplicación de pintura de los postes pertenecientes al sistema de semaforización de Municipio de Santiago de Cali." 3) Contrato de obra para la construcción de 7 cruces semaforizados en el municipio de Guacarí – valle del cauca según cantidades de anexo cantidades de obra. Se incluye obras civiles, fabricación de postes, mano de obra, suministro e instalación de equipo de semaforización e implementación de central tipo web para controladores. 4) SEMAFORIZACIÓN Y MODERNIZACIÓN PUNTOS DE SEMÁFOROS EN EL MUNICIPIO DE FLORENCIA, CHAQUETA” El contrato aportado para acreditar la experiencia cumple con lo señalado en el Documento Base y la Matriz 1 - Experiencia. | C9: SI
A10: B. Estar relacionados en el Formato 3 – Experiencia con el número consecutivo del contrato en el RUP. Los proponentes plurales deben indicar qué integrante aporta cada uno de los contratos señalados en el Formato 3 – Experiencia. Este documento debe presentarlo el proponente plural y no cada integrante. El hecho de que el proponente no aporte el ―Formato 3 - Experiencia‖ en ningún caso será motivo para rechazar la oferta. La subsanación de este requisito podrá realizarse en los términos del numeral 1.6. Mientras esté pendiente la subsanación del requisito, y en caso de que este no se subsane, la entidad tendrá en cuenta para la evaluación los seis (6) contratos aportados de mayor valor. | B10: Número consecutivo del reporte de los contratos ejecutados en el RUP #28, 24, 4, 31 | C10: SI
A11: C. El proponente podrá acreditar la experiencia con mínimo uno (1) y máximo seis (6) contratos los cuales serán evaluados teniendo en cuenta la tabla incluida en el numeral 3.5.8. del pliego de condiciones, así como el contenido establecido en la Matriz 1 – Experiencia. | B11: Acredita la experiencia con 4 contrato certificando mas del 120% del presupuesto oficial, acreditando 2900,29 SMMLV | C11: SI
A12: D. Deben haber terminado antes de la fecha de cierre del presente proceso de contratación. | B12: finalizacion de los contratos aportados para acreditar la experiencia: Contrato # 1; RUP #28 finalizo 31/12/2019 Contrato # 061-2305-2018; RUP #24 finalizo 27/12/2018 Contrato # O.C ; RUP #4 finalizo 30/12/2017 Contrato # No.001 de 2019 ; RUP #31 finalizo 30/12/2019 | C12: SI
A13: E. Para los contratos que sean aportados por socios de empresas que no cuentan con más de tres (3) años de constituidas, además del RUP, deben adjuntar un documento suscrito por el representante legal y el revisor fiscal o contador público (según corresponda) donde se indique la conformación de la empresa. La entidad tendrá en cuenta la experiencia individual de los accionistas, socios o constituyentes de las sociedades con menos de tres (3) años de constituidas. Pasado este tiempo, la sociedad conservará esta experiencia, tal y como haya quedado registrada en el RUP. | C13: N/A
A14: F. La experiencia a la que se refiere este numeral podrá ser validada mediante los documentos establecidos en el pliego de condiciones señalados en el numeral 3.5.6 | B14: Aporta para los contratos lo siguiente: Contrato # 1 Certificación firmada por Jesus Hernando Cortes - Representante legal UTSC Contrato # 061-2305-2018 Certificacion firmada por Fabio Hernan Soto Can - Represnetante legal FAHESO SAS Contrato # O.C Certificacion firmada por Gilmar Andres Delgado - Representante Legal CONCIVILMET S.A.S Contrato # No.001 de 2019 Certificacion firmada por Gabriel Hernando Ramos Gasca - Representante legal INGENIEROS DE SISTEMAS ASOCIADOS SAS En este documento se puede validar datos del contrato aportado. | C14: SI
A15: G. Para proyectos de infraestructura vial que se hayan realizado fuera del territorio nacional, se consideran ―Carreteras primarias‖ aquellas que sean certificadas por la entidad contratante mediante alguno de los documentos válidos establecidos en el numeral 3.5.6 del pliego de condiciones, siempre que se indique que el ancho de calzada es mayor o igual a siete (7.0) metros, y/o que se acrediten tres o más carriles vehiculares por calzada. | C15: N/A
A16: 3.5.3. CONSIDERACIONES PARA LA VALIDEZ DE LA EXPERIENCIA REQUERIDA
A17: La Entidad tendrá en cuenta los siguientes aspectos para analizar la experiencia acreditada y que la misma sea válida como experiencia requerida:
A18: A. En el Clasificador de Bienes y Servicios, el segmento correspondiente para la clasificación de la experiencia es el segmento 72. | B18: Al verificar en el RUP dichos contratos se identifica el codigo 721515 | C18: SI
A19: B. La Entidad contratante únicamente podrá exigir para la verificación de la experiencia los contratos celebrados por el interesado, identificados con el Clasificador de Bienes y Servicios hasta el tercer nivel. | B19: 721515 | C19: SI
A20: C. Si el Proponente relaciona o anexa más de seis (6) contratos en el Formato 3 – Experiencia, para efectos de evaluación de la experiencia se tendrá en cuenta máximo los seis (6) contratos aportados de mayor valor. | C20: N/A
A21: D.Tratándose de proponentes plurales se tendrá en cuenta lo siguiente: i) uno de los integrantes debe aportar como mínimo el cincuenta por ciento (50 %) de la experiencia mínima exigida; ii) los demás integrantes deben acreditar al menos el cinco por ciento (5 %) de la experiencia mínima exigida; y iii) sin perjuicio de lo anterior, solo uno (1) de los integrantes, si así lo considera pertinente, podrá no acreditar experiencia. En este último caso, el porcentaje de participación del integrante que no aporta experiencia en la estructura plural no podrá superar el cinco por ciento (5 %). Estos porcentajes de experiencia mínima que cumplirán los integrantes del proponente plural, bastará acreditarlos con contratos que cumplan con el requisito de experiencia general exigida en el pliego de condiciones y se calcularán sobre el “valor mínimo a certificar (como % del Presupuesto Oficial de obra expresado en SMMLV)” de conformidad con el numeral 3.5.8. Independientemente de el o los integrantes del proponente plural que aporten contratos para acreditar la experiencia, estos se tendrán en cuenta para calcular el "Número de contratos con los cuales el Proponente cumple la experiencia acreditada" de que trata el numeral 3.5.8. | C21: N/A
A22: E. Cuando el contrato que se pretende acreditar como experiencia haya sido ejecutado en Consorcio o Unión Temporal, el porcentaje de participación del integrante será el registrado en el RUP de este o en alguno de los documentos válidos para la acreditación de experiencia en caso de que el integrante no esté obligado a tener RUP. | C22: N/A
A23: F. Cuando el contrato que se pretende acreditar como experiencia haya sido ejecutado en Consorcio o Unión Temporal, el valor a considerar será el registrado en el RUP o documento válido en caso de que el integrante no esté obligado a RUP, para la acreditación de experiencia multiplicada por el porcentaje de participación que tuvo el integrante o los integrantes. | C23: N/A
A24: H. Cuando el contrato que se aporte para la experiencia haya sido ejecutado por un Consorcio o Unión Temporal, y dos (2) o más de sus integrantes conformen un Proponente Plural para participar en el presente Proceso, dicho contrato se entenderá aportado como un (1) solo contrato y se tendrá en cuenta para el aporte de la experiencia la sumatoria de los porcentajes de los integrantes del Consorcio o Unión Temporal que ejecutaron el contrato y que están participando en el presente Proceso. | C24: N/A
A25: I. Para el caso de los proyectos de concesiones viales, únicamente se tendrá en cuenta la etapa constructiva y/o de intervención de la obra de infraestructura de transporte, lo cual deberá demostrarse con los documentos soporte de la experiencia. En consecuencia, no será válida la experiencia obtenida en la etapa de operación, administración y/o mantenimiento de la infraestructura concesionada. | C25: N/A
A26: 3.5.4. CLASIFICACIÓN DE LA EXPERIENCIA EN EL “CLASIFICADOR DE BIENES, OBRAS Y SERVICIOS DE LAS NACIONES UNIDAS”
A27: Los contratos aportados para efectos de acreditación de la experiencia requerida deben estar clasificados en alguno de los siguientes códigos:
A28: Segmentos. Nombre
A29: 72 10 15. SERVICIO DE APOYO PARA LA CONSTRUCCIÓN | B29: 72101500 | C29: SI
A30: 72 15 15 SERVICIOS DE SISTEMAS ELECTRICOS
A31: 3.5.5. ACREDITACIÓN DE LA EXPERIENCIA REQUERIDA
A32: Los proponentes acreditarán para cada uno de los contratos aportados la siguiente información mediante alguno de los documentos señalados en la sección 3.5.6. del Pliego de Condiciones:
A33: A. Contratante | B33: Contrato # 1 - UTSC Contrato # 061-2305-2018 - FAHESO SAS Contrato # O.C - CONCIVILMET S.A.S Contrato # No.001 de 2019 - INGENIEROS DE SISTEMAS ASOCIADOS SAS | C33: SI
A34: B. Objeto del contrato | B34: 1) Contrato # 1: Desarrollo de actividades contempladas en el diseño de la semaforización vertical y horizontal y adecuaciones viales de las intersecciones semaforizadas localizadas en la ciudad de Cali, y comprenden la realización de obras civiles y el suministro e instalación de postes y semáforos. 2) Contrato # 061-2305-2018: Intervención de semáforos y mantenimiento de postes (tipo pedestal y/o ménsula larga) suministro y aplicación de pintura de los postes pertenecientes al sistema de semaforización de Municipio de Santiago de Cali." 3) Contrato # O.C: Contrato de obra para la construcción de 7 cruces semaforizados en el municipio de Guacarí – valle del cauca según cantidades de anexo cantidades de obra. Se incluye obras civiles, fabricación de postes, mano de obra, suministro e instalación de equipo de semaforización e implementación de central tipo web para controladores. 4) Contrato # No.001 de 2019: SEMAFORIZACIÓN Y MODERNIZACIÓN PUNTOS DE SEMÁFOROS EN EL MUNICIPIO DE FLORENCIA, CHAQUETA” | C34: SI
A35: C. Principales actividades ejecutadas | B35: Aporta para los contratos lo siguiente: Contrato # 1 Certificación firmada por Jesus Hernando Cortes - Representante legal UTSC Contrato # 061-2305-2018 Certificacion firmada por Fabio Hernan Soto Can - Represnetante legal FAHESO SAS Contrato # O.C Certificacion firmada por Gilmar Andres Delgado - Representante Legal CONCIVILMET S.A.S Contrato # No.001 de 2019 Certificacion firmada por Gabriel Hernando Ramos Gasca - Representante legal INGENIEROS DE SISTEMAS ASOCIADOS SAS Donde se encuentran las principales actividades ejecutadas | C35: SI
A36: D. Las longitudes, volúmenes, dimensiones, tipologías y demás condiciones de experiencia establecidas en la Matriz 1 – Experiencia, si aplica. | C36: N/A
A37: E. La fecha de iniciación de la ejecución del contrato: Esta fecha es diferente a la de suscripción del contrato, a menos que de los documentos del numeral 3.5.6 de forma expresa así se determine. Si en los documentos válidos aportados para la acreditación de experiencia solo se evidencia fecha (mes, año) de suscripción y/o inicio del contrato: se tendrá en cuenta el último día del mes que se encuentre señalado en la certificación | B37: Inicio del contrato aportado para acreditar la experiencia: Contrato # 1; RUP #28 inicio 30/08/2019 Contrato # 061-2305-2018; RUP #24 inicio 31/05/2018 Contrato # O.C ; RUP #4 inicio 7/10/2017 Contrato # No.001 de 2019 ; RUP #31 inicio 30/11/2019 | C37: SI
A38: F. La fecha de terminación de la ejecución del contrato: Esta fecha de terminación no es la fecha de entrega y/o recibo final, liquidación, o acta final, salvo que de los documentos del numeral 3.5.6 de forma expresa así se determine. Si en los documentos válidos aportados para la acreditación de experiencia solo se evidencia fecha (mes, año) de terminación del contrato: se tendrá en cuenta el primer día del mes que se encuentre señalado en la certificación | B38: finalizacion de lo contrato aportado para acreditar la experiencia: Contrato # 1; RUP #28 finalizo 31/12/2019 Contrato # 061-2305-2018; RUP #24 finalizo 27/12/2018 Contrato # O.C ; RUP #4 finalizo 30/12/2017 Contrato # No.001 de 2019 ; RUP #31 finalizo 30/12/2019 | C38: SI
A39: G. Nombre y cargo de la persona que expide la certificación. | B39: Contrato # 1 Certificación firmada por Jesus Hernando Cortes - Representante legal UTSC Contrato # 061-2305-2018 Certificacion firmada por Fabio Hernan Soto Can - Represnetante legal FAHESO SAS Contrato # O.C Certificacion firmada por Gilmar Andres Delgado - Representante Legal CONCIVILMET S.A.S Contrato # No.001 de 2019 Certificacion firmada por Gabriel Hernando Ramos Gasca - Representante legal INGENIEROS DE SISTEMAS ASOCIADOS SAS | C39: SI
A40: H. El porcentaje de participación del integrante del contratista plural. | C40: N/A
...

Sheet P_4
A1: =GENERAL!C1 -> MUNICIPIO DE PALMIRA SELECCIÓN ABREVIADA DE MENOR CUANTÍA DE INFRAESTRUCTURA DE TRANSPORTE No. MP-STT-SA-OP- 066-2022 OBJETO: “ADECUACIÓN, MODERNIZACIÓN, MEJORAMIENTO Y OBRAS COMPLEMENTARIAS DE LA RED SEMAFÓRICA DEL MUNICIPIO DE PALMIRA"􏰃
A2: EVALUACIÓN TÉCNICA VERIFICACIÓN DE REQUISITOS HABILITANTES Y PONDERABLES
A3: =GENERAL!C50 -> AFS SERVICE S.A.S.
A4: PROPUESTA No 4
A5: CONDICIÓN | B5: =A3 -> AFS SERVICE S.A.S.
B6: OBSERVACIONES | C6: CUMPLE SI / NO
A7: REQUISITOS HABILITANTES
A8: EXPERIENCIA - Anexo 3
A9: A. Que hayan contenido la ejecución de: 6.12 PROYECTOS DE CONSTRUCCIÓN Y/O EXPANSIÓN Y/O MANTENIMIENTO Y/O MEJORAMIENTO Y/O OPTIMIZACIÓN Y/O ADECUACIÓN DE OBRAS CIVILES PARA SISTEMAS DE SEMAFORIZACIÓN (VEHICULAR Y/O PEATONAL) GENERAL :  Construcción o Mantenimiento de Obras Civiles para Intersecciones Semaforizadas.  Intervención del espacio público para la construcción de infraestructura soporte de redes de energía y/o telecomunicaciones en zonas urbanas.  Construcción y/o mantenimiento de andenes en la construcción de canalizaciones para redes de servicios públicos.  Construcción y/o mantenimiento de andenes en proyectos de obras civiles en espacio público. Experiencia Específica cuando:  Por lo menos uno (1) de los contratos válidos aportados como experiencia general debe acreditar la Construcción o Mantenimiento de Obras Civiles para Intersecciones Semaforizadas.  Por lo menos uno (1) de los contratos válidos aportados como experiencia general debe acreditar en el componente de semaforización un valor igual o superior al 40% del Componente de Semaforización del Presupuesto Oficial estimado de contratación. | B9: 1) Contrato # 1905100401; RUP #22: Mantenimiento preventivo y correctivo a todo costo de del sistema semafórico de la ciudad de Manizales garantizando el correcto mantenimiento de los mismos. Para acreditar la experiencia del contrato # 1905100401; RUP #22, es necesario que el proponente subsane aportando la composicion accionaria de la empresa AFS SERVICE SAS, con el fin de validar se el señor Anibal Franco Soto es accionista de la empresa y desde cuando. El proponente subsana en debida forma. 2) CONTRATO #2111251081; RUP #25: Canalización , cableado, suministro e instalación de semáforos en la Avenida Gilberto Alzate con calle 23 de la ciudad de Manizales El contrato #2111251081; RUP #25, aportado para acreditar la experiencia cumple con lo señalado en el Documento Base y la Matriz 1 - Experiencia. | C9: SI
A10: B. Estar relacionados en el Formato 3 – Experiencia con el número consecutivo del contrato en el RUP. Los proponentes plurales deben indicar qué integrante aporta cada uno de los contratos señalados en el Formato 3 – Experiencia. Este documento debe presentarlo el proponente plural y no cada integrante. El hecho de que el proponente no aporte el ―Formato 3 - Experiencia‖ en ningún caso será motivo para rechazar la oferta. La subsanación de este requisito podrá realizarse en los términos del numeral 1.6. Mientras esté pendiente la subsanación del requisito, y en caso de que este no se subsane, la entidad tendrá en cuenta para la evaluación los seis (6) contratos aportados de mayor valor. | B10: Número consecutivo del reporte de los contratos ejecutados en el RUP #22, 25 | C10: SI
A11: C. El proponente podrá acreditar la experiencia con mínimo uno (1) y máximo seis (6) contratos los cuales serán evaluados teniendo en cuenta la tabla incluida en el numeral 3.5.8. del pliego de condiciones, así como el contenido establecido en la Matriz 1 – Experiencia. | B11: Acredita la experiencia con 2 contratos certificando mas del 75% del presupuesto oficial, acreditando 364,41 SMMLV | C11: SI
A12: D. Deben haber terminado antes de la fecha de cierre del presente proceso de contratación. | B12: finalizacion de los contratos aportados para acreditar la experiencia: Contrato # 1905100401; RUP #22 finalizo 27/12/2019 Contrato #2111251081; RUP #25 finalizo 30/12/2021 | C12: SI
A13: E. Para los contratos que sean aportados por socios de empresas que no cuentan con más de tres (3) años de constituidas, además del RUP, deben adjuntar un documento suscrito por el representante legal y el revisor fiscal o contador público (según corresponda) donde se indique la conformación de la empresa. La entidad tendrá en cuenta la experiencia individual de los accionistas, socios o constituyentes de las sociedades con menos de tres (3) años de constituidas. Pasado este tiempo, la sociedad conservará esta experiencia, tal y como haya quedado registrada en el RUP. | C13: N/A
A14: F. La experiencia a la que se refiere este numeral podrá ser validada mediante los documentos establecidos en el pliego de condiciones señalados en el numeral 3.5.6 | B14: Contrato # 1905100401 Certificacion firmada por Leonardo Leal Garcia - Profesional Universitario - Alcaldia de Manizales Contrato #2111251081 Certificacion firmada por Leonardo Leal Garcia - Profesional Universitario - Alcaldia de Manizales En este documento se puede validar datos del contrato aportado. | C14: SI
A15: G. Para proyectos de infraestructura vial que se hayan realizado fuera del territorio nacional, se consideran ―Carreteras primarias‖ aquellas que sean certificadas por la entidad contratante mediante alguno de los documentos válidos establecidos en el numeral 3.5.6 del pliego de condiciones, siempre que se indique que el ancho de calzada es mayor o igual a siete (7.0) metros, y/o que se acrediten tres o más carriles vehiculares por calzada. | C15: N/A
A16: 3.5.3. CONSIDERACIONES PARA LA VALIDEZ DE LA EXPERIENCIA REQUERIDA
A17: La Entidad tendrá en cuenta los siguientes aspectos para analizar la experiencia acreditada y que la misma sea válida como experiencia requerida:
A18: A. En el Clasificador de Bienes y Servicios, el segmento correspondiente para la clasificación de la experiencia es el segmento 72. | B18: Al verificar en el RUP dichos contratos se identifica el codigo 721515 | C18: SI
A19: B. La Entidad contratante únicamente podrá exigir para la verificación de la experiencia los contratos celebrados por el interesado, identificados con el Clasificador de Bienes y Servicios hasta el tercer nivel. | B19: 721515 | C19: SI
A20: C. Si el Proponente relaciona o anexa más de seis (6) contratos en el Formato 3 – Experiencia, para efectos de evaluación de la experiencia se tendrá en cuenta máximo los seis (6) contratos aportados de mayor valor. | C20: N/A
A21: D.Tratándose de proponentes plurales se tendrá en cuenta lo siguiente: i) uno de los integrantes debe aportar como mínimo el cincuenta por ciento (50 %) de la experiencia mínima exigida; ii) los demás integrantes deben acreditar al menos el cinco por ciento (5 %) de la experiencia mínima exigida; y iii) sin perjuicio de lo anterior, solo uno (1) de los integrantes, si así lo considera pertinente, podrá no acreditar experiencia. En este último caso, el porcentaje de participación del integrante que no aporta experiencia en la estructura plural no podrá superar el cinco por ciento (5 %). Estos porcentajes de experiencia mínima que cumplirán los integrantes del proponente plural, bastará acreditarlos con contratos que cumplan con el requisito de experiencia general exigida en el pliego de condiciones y se calcularán sobre el “valor mínimo a certificar (como % del Presupuesto Oficial de obra expresado en SMMLV)” de conformidad con el numeral 3.5.8. Independientemente de el o los integrantes del proponente plural que aporten contratos para acreditar la experiencia, estos se tendrán en cuenta para calcular el "Número de contratos con los cuales el Proponente cumple la experiencia acreditada" de que trata el numeral 3.5.8. | C21: N/A
A22: E. Cuando el contrato que se pretende acreditar como experiencia haya sido ejecutado en Consorcio o Unión Temporal, el porcentaje de participación del integrante será el registrado en el RUP de este o en alguno de los documentos válidos para la acreditación de experiencia en caso de que el integrante no esté obligado a tener RUP. | C22: N/A
A23: F. Cuando el contrato que se pretende acreditar como experiencia haya sido ejecutado en Consorcio o Unión Temporal, el valor a considerar será el registrado en el RUP o documento válido en caso de que el integrante no esté obligado a RUP, para la acreditación de experiencia multiplicada por el porcentaje de participación que tuvo el integrante o los integrantes. | C23: N/A
A24: H. Cuando el contrato que se aporte para la experiencia haya sido ejecutado por un Consorcio o Unión Temporal, y dos (2) o más de sus integrantes conformen un Proponente Plural para participar en el presente Proceso, dicho contrato se entenderá aportado como un (1) solo contrato y se tendrá en cuenta para el aporte de la experiencia la sumatoria de los porcentajes de los integrantes del Consorcio o Unión Temporal que ejecutaron el contrato y que están participando en el presente Proceso. | C24: N/A
A25: I. Para el caso de los proyectos de concesiones viales, únicamente se tendrá en cuenta la etapa constructiva y/o de intervención de la obra de infraestructura de transporte, lo cual deberá demostrarse con los documentos soporte de la experiencia. En consecuencia, no será válida la experiencia obtenida en la etapa de operación, administración y/o mantenimiento de la infraestructura concesionada. | C25: N/A
A26: 3.5.4. CLASIFICACIÓN DE LA EXPERIENCIA EN EL “CLASIFICADOR DE BIENES, OBRAS Y SERVICIOS DE LAS NACIONES UNIDAS”
A27: Los contratos aportados para efectos de acreditación de la experiencia requerida deben estar clasificados en alguno de los siguientes códigos:
A28: Segmentos. Nombre
A29: 72 10 15. SERVICIO DE APOYO PARA LA CONSTRUCCIÓN | B29: 721515 | C29: SI
A30: 72 15 15 SERVICIOS DE SISTEMAS ELECTRICOS
A31: 3.5.5. ACREDITACIÓN DE LA EXPERIENCIA REQUERIDA
A32: Los proponentes acreditarán para cada uno de los contratos aportados la siguiente información mediante alguno de los documentos señalados en la sección 3.5.6. del Pliego de Condiciones:
A33: A. Contratante | B33: Contrato # 1905100401 - Alcaldia de Manizales Contrato #2111251081 - Alcaldia de Manizales | C33: SI
A34: B. Objeto del contrato | B34: 1) Contrato # 1905100401; RUP #22: Mantenimiento preventivo y correctivo a todo costo de del sistema semafórico de la ciudad de Manizales garantizando el correcto mantenimiento de los mismos. 2) CONTRATO #2111251081; RUP #25: Canalización , cableado, suministro e instalación de semáforos en la Avenida Gilberto Alzate con calle 23 de la ciudad de Manizales | C34: SI
A35: C. Principales actividades ejecutadas | B35: Contrato # 1905100401 Certificacion firmada por Leonardo Leal Garcia - Profesional Universitario - Alcaldia de Manizales Contrato #2111251081 Certificacion firmada por Leonardo Leal Garcia - Profesional Universitario - Alcaldia de Manizales Donde se encuentran las principales actividades ejecutadas | C35: SI
A36: D. Las longitudes, volúmenes, dimensiones, tipologías y demás condiciones de experiencia establecidas en la Matriz 1 – Experiencia, si aplica. | C36: N/A
A37: E. La fecha de iniciación de la ejecución del contrato: Esta fecha es diferente a la de suscripción del contrato, a menos que de los documentos del numeral 3.5.6 de forma expresa así se determine. Si en los documentos válidos aportados para la acreditación de experiencia solo se evidencia fecha (mes, año) de suscripción y/o inicio del contrato: se tendrá en cuenta el último día del mes que se encuentre señalado en la certificación | B37: Inicio de los contratos aportados para acreditar la experiencia: Contrato # 1905100401; RUP #22 inicio 13/05/2019 Contrato #2111251081; RUP #25 inicio 30/11/2021 | C37: SI
A38: F. La fecha de terminación de la ejecución del contrato: Esta fecha de terminación no es la fecha de entrega y/o recibo final, liquidación, o acta final, salvo que de los documentos del numeral 3.5.6 de forma expresa así se determine. Si en los documentos válidos aportados para la acreditación de experiencia solo se evidencia fecha (mes, año) de terminación del contrato: se tendrá en cuenta el primer día del mes que se encuentre señalado en la certificación | B38: finalizacion de los contratos aportados para acreditar la experiencia: Contrato # 1905100401; RUP #22 finalizo 27/12/2019 Contrato #2111251081; RUP #25 finalizo 30/12/2021 | C38: SI
A39: G. Nombre y cargo de la persona que expide la certificación. | B39: Contrato # 1905100401 Certificacion firmada por Leonardo Leal Garcia - Profesional Universitario - Alcaldia de Manizales Contrato #2111251081 Certificacion firmada por Leonardo Leal Garcia - Profesional Universitario - Alcaldia de Manizales | C39: SI
A40: H. El porcentaje de participación del integrante del contratista plural. | C40: N/A
...

Sheet P_5
A1: =GENERAL!C1 -> MUNICIPIO DE PALMIRA SELECCIÓN ABREVIADA DE MENOR CUANTÍA DE INFRAESTRUCTURA DE TRANSPORTE No. MP-STT-SA-OP- 066-2022 OBJETO: “ADECUACIÓN, MODERNIZACIÓN, MEJORAMIENTO Y OBRAS COMPLEMENTARIAS DE LA RED SEMAFÓRICA DEL MUNICIPIO DE PALMIRA"􏰃
A2: EVALUACIÓN TÉCNICA VERIFICACIÓN DE REQUISITOS HABILITANTES Y PONDERABLES
A3: =GENERAL!C57 -> CONSORCIO SOLUCIONES VIALES
A4: PROPUESTA No 5
A5: CONDICIÓN | B5: =A3 -> CONSORCIO SOLUCIONES VIALES
B6: OBSERVACIONES | C6: CUMPLE SI / NO
A7: REQUISITOS HABILITANTES
A8: EXPERIENCIA - Anexo 3
A9: A. Que hayan contenido la ejecución de: 6.12 PROYECTOS DE CONSTRUCCIÓN Y/O EXPANSIÓN Y/O MANTENIMIENTO Y/O MEJORAMIENTO Y/O OPTIMIZACIÓN Y/O ADECUACIÓN DE OBRAS CIVILES PARA SISTEMAS DE SEMAFORIZACIÓN (VEHICULAR Y/O PEATONAL) GENERAL :  Construcción o Mantenimiento de Obras Civiles para Intersecciones Semaforizadas.  Intervención del espacio público para la construcción de infraestructura soporte de redes de energía y/o telecomunicaciones en zonas urbanas.  Construcción y/o mantenimiento de andenes en la construcción de canalizaciones para redes de servicios públicos.  Construcción y/o mantenimiento de andenes en proyectos de obras civiles en espacio público. Experiencia Específica cuando:  Por lo menos uno (1) de los contratos válidos aportados como experiencia general debe acreditar la Construcción o Mantenimiento de Obras Civiles para Intersecciones Semaforizadas.  Por lo menos uno (1) de los contratos válidos aportados como experiencia general debe acreditar en el componente de semaforización un valor igual o superior al 40% del Componente de Semaforización del Presupuesto Oficial estimado de contratación. | B9: 1) Contrato # 2413 DEL 21 DE JULIO DE 2015; RUP #50: CONTRATAR LA MODERNIZACION DE LA RED SEMAFORICA DEL MUNICIPIO DE IBAGUE TOLIA, EN EJECUCION DEL PROYECTO DENOMINADO - IMPLEMENTACION DE ACCIONES EN MATERIA DE SEGURIDAD VIAL EN EL MUNICIPIO DE IBAGUE - TOLIMA. 2) ASEIC-ADM- 2019-038; RUP # 001 "SUMINISTRO E INSTALACION DE LOS ELEMENTOS NECESARIOS PARA REGULAR CON SEMAFOROS DOS INTERSECCIONES EN LA CALLE 77 SUR, PARA LA MODERNIZACION DE LA RED SEMAFORICA Y MANTENIMIENTO DE LA RED EXISTENTE EN EL MUNICIPIO DE SABANETA" Los contratos # 2413 DEL 21 DE JULIO DE 2015; RUP #50 y ASEIC-ADM- 2019-038; RUP # 001 , aportados para acreditar la experiencia cumplen con lo señalado en el Documento Base y la Matriz 1 - Experiencia. | C9: SI
A10: B. Estar relacionados en el Formato 3 – Experiencia con el número consecutivo del contrato en el RUP. Los proponentes plurales deben indicar qué integrante aporta cada uno de los contratos señalados en el Formato 3 – Experiencia. Este documento debe presentarlo el proponente plural y no cada integrante. El hecho de que el proponente no aporte el ―Formato 3 - Experiencia‖ en ningún caso será motivo para rechazar la oferta. La subsanación de este requisito podrá realizarse en los términos del numeral 1.6. Mientras esté pendiente la subsanación del requisito, y en caso de que este no se subsane, la entidad tendrá en cuenta para la evaluación los seis (6) contratos aportados de mayor valor. | B10: Número consecutivo del reporte de los contratos ejecutados en el RUP #50 Ingeniería y Señales SAS y RUP # 001 RIOT Ingeniería SAS. | C10: SI
A11: C. El proponente podrá acreditar la experiencia con mínimo uno (1) y máximo seis (6) contratos los cuales serán evaluados teniendo en cuenta la tabla incluida en el numeral 3.5.8. del pliego de condiciones, así como el contenido establecido en la Matriz 1 – Experiencia. | B11: Acredita la experiencia con 2 contrato certificando mas del 75% del presupuesto oficial, acreditando 1303,69 SMMLV | C11: SI
A12: D. Deben haber terminado antes de la fecha de cierre del presente proceso de contratación. | B12: finalizacion de los contratos aportados para acreditar la experiencia: contrato # 2413 DEL 21 DE JULIO DE 2015 finalizo 3/11/2017 contrato # ASEIC-ADM- 2019-038 finalizo 26/12/2019 | C12: SI
A13: E. Para los contratos que sean aportados por socios de empresas que no cuentan con más de tres (3) años de constituidas, además del RUP, deben adjuntar un documento suscrito por el representante legal y el revisor fiscal o contador público (según corresponda) donde se indique la conformación de la empresa. La entidad tendrá en cuenta la experiencia individual de los accionistas, socios o constituyentes de las sociedades con menos de tres (3) años de constituidas. Pasado este tiempo, la sociedad conservará esta experiencia, tal y como haya quedado registrada en el RUP. | C13: N/A
A14: F. La experiencia a la que se refiere este numeral podrá ser validada mediante los documentos establecidos en el pliego de condiciones señalados en el numeral 3.5.6 | B14: Aporta para los dos contratos lo siguiente: contrato #2413 DEL 21 DE JULIO DE 2015: Certificado Final de Cumplimiento firmada Miguel Eduardo Saavedra Parra - Profesional U. Supervisor - ALcaldia Municipal de Ibague contrato #ASEIC-ADM- 2019-038: Certificacion firmada por Nestor Orlando Villamil Torres - Director Administrativo y Financiero ASEIC SAS En estos documentos se puede validar datos de los contratos aportado. | C14: SI
A15: G. Para proyectos de infraestructura vial que se hayan realizado fuera del territorio nacional, se consideran ―Carreteras primarias‖ aquellas que sean certificadas por la entidad contratante mediante alguno de los documentos válidos establecidos en el numeral 3.5.6 del pliego de condiciones, siempre que se indique que el ancho de calzada es mayor o igual a siete (7.0) metros, y/o que se acrediten tres o más carriles vehiculares por calzada. | C15: N/A
A16: 3.5.3. CONSIDERACIONES PARA LA VALIDEZ DE LA EXPERIENCIA REQUERIDA
A17: La Entidad tendrá en cuenta los siguientes aspectos para analizar la experiencia acreditada y que la misma sea válida como experiencia requerida:
A18: A. En el Clasificador de Bienes y Servicios, el segmento correspondiente para la clasificación de la experiencia es el segmento 72. | B18: al verificar en el RUP dichos contratos se identifica el codigo 721515 | C18: SI
A19: B. La Entidad contratante únicamente podrá exigir para la verificación de la experiencia los contratos celebrados por el interesado, identificados con el Clasificador de Bienes y Servicios hasta el tercer nivel. | B19: 721515 | C19: SI
A20: C. Si el Proponente relaciona o anexa más de seis (6) contratos en el Formato 3 – Experiencia, para efectos de evaluación de la experiencia se tendrá en cuenta máximo los seis (6) contratos aportados de mayor valor. | C20: N/A
