Workbook
Name SIoNO: #REF!
Name SIoNO: #REF!
Name SIoNO: #REF!
Name SIoNO: #REF!
Name SIoNO: #REF!
Name P_3: #REF!
Name SIoNO: #REF!
Name SIoNO: #REF!

Sheet GENERAL
B1: INFORMACIÓN DEL PROCESO | C1: MUNICIPIO DE PALMIRA SELECCIÓN ABREVIADA DE MENOR CUANTÍA DE INFRAESTRUCTURA DE TRANSPORTE No. MP-STT-SA-OP- 066-2022 OBJETO: “ADECUACIÓN, MODERNIZACIÓN, MEJORAMIENTO Y OBRAS COMPLEMENTARIAS DE LA RED SEMAFÓRICA DEL MUNICIPIO DE PALMIRA"􏰃
C2: PRESUPUESTO OFICIAL ($) : | D2: 376279580
C3: PRESUPUESTO OFICIAL (SMMLV) : | D3: =D2/1000000 -> 376.27958
C4: FECHA DE CIERRE PROCESO | D4: 44769
B6: OFERENTE | C6: PROPUESTA 1
B7: INFORMACIÓN DEL OFERENTE | C7: GRUPO VIAL S.A.S
B8: REPRESENTANTE LEGAL | C8: Luis Carlos Moya Ospina
B9: NIT | C9: 900434069-5
B10: RESULTADO DE LA EVALUACIÓN TÉCNICA HABILITANTE | C10: =P_1!C70 -> HABILITADO
B11: FACTOR DE CALIDAD (PUNTOS) | C11: =P_1!C77 -> 20
B14: OFERENTE | C14: 2
B15: INFORMACIÓN DEL OFERENTE | C15: INSERTE NOMBRE DEL OFERENTE
B16: REPRESENTANTE LEGAL
B17: NIT
B18: RESULTADO DE LA EVALUACIÓN TÉCNICA HABILITANTE
B19: RESULTADO DE LA EVALUACIÓN TÉCNICA PONDERABLE
B21: OFERENTE | C21: 3
B22: INFORMACIÓN DEL OFERENTE | C22: INSERTE NOMBRE DEL OFERENTE
B23: REPRESENTANTE LEGAL
B24: NIT
B25: RESULTADO DE LA EVALUACIÓN TÉCNICA HABILITANTE
B26: RESULTADO DE LA EVALUACIÓN TÉCNICA PONDERABLE
B28: OFERENTE | C28: 4
B29: INFORMACIÓN DEL OFERENTE | C29: INSERTE NOMBRE DEL OFERENTE
B30: REPRESENTANTE LEGAL
B31: NIT
B32: RESULTADO DE LA EVALUACIÓN TÉCNICA HABILITANTE
B33: RESULTADO DE LA EVALUACIÓN TÉCNICA PONDERABLE
B35: OFERENTE | C35: PROPUESTA 2
B36: INFORMACIÓN DEL OFERENTE | C36: SEÑALIZACIONES Y CONSTRUCCIONES S.A.S.
B37: REPRESENTANTE LEGAL | C37: SAMUEL SCHUSTER BEJMAN
B38: NIT | C38: 830505579-1
B39: RESULTADO DE LA EVALUACIÓN TÉCNICA HABILITANTE | C39: =P_2!C70 -> HABILITADO
B40: FACTOR DE CALIDAD (PUNTOS) | C40: =P_2!C77 -> 20
B42: OFERENTE | C42: PROPUESTA 3
B43: INFORMACIÓN DEL OFERENTE | C43: PROTOLED INGENIERIA SAS
B44: REPRESENTANTE LEGAL | C44: JAIME EDUARDO FRANCO GUTIEREZ
B45: NIT | C45: 900887852-1
B46: RESULTADO DE LA EVALUACIÓN TÉCNICA HABILITANTE | C46: =P_3!C70 -> HABILITADO
B47: FACTOR DE CALIDAD (PUNTOS) | C47: =P_3!C77 -> 10
B49: OFERENTE | C49: PROPUESTA 4
B50: INFORMACIÓN DEL OFERENTE | C50: AFS SERVICE S.A.S.
B51: REPRESENTANTE LEGAL (Primer Suplente) | C51: Anibal Franco Soto
B52: NIT | C52: 901380311-3
B53: RESULTADO DE LA EVALUACIÓN TÉCNICA HABILITANTE | C53: =P_4!C70 -> HABILITADO
B54: FACTOR DE CALIDAD (PUNTOS) | C54: =P_4!C77 -> 0
B56: OFERENTE | C56: PROPUESTA 5
B57: INFORMACIÓN DEL OFERENTE | C57: CONSORCIO SOLUCIONES VIALES
B58: INTEGRANTES | C58: RIOT INGENIERIA S.A.S. | D58: INGENIERIA Y SEÑAL S.A.S.
B59: NIT | C59: 901322361-4 | D59: 900622463-0
B60: Participación | C60: 70% | D60: 30%
B61: RESULTADO DE LA EVALUACIÓN TÉCNICA HABILITANTE | C61: =P_5!C70 -> HABILITADO
B62: FACTOR DE CALIDAD (PUNTOS) | C62: =P_5!C77 -> 20
B64: OFERENTE | C64: PROPUESTA 6
B65: INFORMACIÓN DEL OFERENTE | C65: 5K CONSULTING GROUP S.A.S
B66: REPRESENTANTE LEGAL | C66: SANTIAGO ANDRADE GOMEZ
B67: NIT | C67: 900874331-8
B68: RESULTADO DE LA EVALUACIÓN TÉCNICA HABILITANTE | C68: =P_6!C70 -> HABILITADO
B69: FACTOR DE CALIDAD (PUNTOS) | C69: =P_6!C77 -> 20
B72: OFERENTE | C72: 6
B73: INFORMACIÓN DEL OFERENTE | C73: INSERTE NOMBRE DEL OFERENTE
B74: REPRESENTANTE LEGAL
B75: NIT
B76: RESULTADO DE LA EVALUACIÓN TÉCNICA HABILITANTE
B77: RESULTADO DE LA EVALUACIÓN TÉCNICA PONDERABLE
B80: OFERENTE | C80: 7
B81: INFORMACIÓN DEL OFERENTE | C81: INSERTE NOMBRE DEL OFERENTE
B82: REPRESENTANTE LEGAL
B83: NIT
B84: RESULTADO DE LA EVALUACIÓN TÉCNICA HABILITANTE
B85: RESULTADO DE LA EVALUACIÓN TÉCNICA PONDERABLE
B87: OFERENTE | C87: 8
B88: INFORMACIÓN DEL OFERENTE | C88: INSERTE NOMBRE DEL OFERENTE
B89: REPRESENTANTE LEGAL
B90: NIT
B91: RESULTADO DE LA EVALUACIÓN TÉCNICA HABILITANTE
B92: RESULTADO DE LA EVALUACIÓN TÉCNICA PONDERABLE
B93: OFERENTE
C95: 14
C96: INSERTE NOMBRE DEL OFERENTE
C102: 15
C103: INSERTE NOMBRE DEL OFERENTE
C109: 16
C110: INSERTE NOMBRE DEL OFERENTE
C116: 17
C117: INSERTE NOMBRE DEL OFERENTE
B123: ANDRÉS FELIPE ANAYA ERAZO PROFESIONAL ESPECIALIZADO 03 SUBSECRETARIA DE DESARROLLO ESTRATÉGICO DE MVILIDAD

Sheet P_1
A1: =GENERAL!C1 -> MUNICIPIO DE PALMIRA SELECCIÓN ABREVIADA DE MENOR CUANTÍA DE INFRAESTRUCTURA DE TRANSPORTE No. MP-STT-SA-OP- 066-2022 OBJETO: “ADECUACIÓN, MODERNIZACIÓN, MEJORAMIENTO Y OBRAS COMPLEMENTARIAS DE LA RED SEMAFÓRICA DEL MUNICIPIO DE PALMIRA"􏰃
A2: EVALUACIÓN TÉCNICA VERIFICACIÓN DE REQUISITOS HABILITANTES Y PONDERABLES
A3: =GENERAL!C7 -> GRUPO VIAL S.A.S
A4: PROPUESTA No 1
A5: CONDICIÓN | B5: =A3 -> GRUPO VIAL S.A.S
B6: OBSERVACIONES | C6: CUMPLE SI / NO
A7: REQUISITOS HABILITANTES
A8: EXPERIENCIA - Anexo 3
A9: A. Que hayan contenido la ejecución de: 6.12 PROYECTOS DE CONSTRUCCIÓN Y/O EXPANSIÓN Y/O MANTENIMIENTO Y/O MEJORAMIENTO Y/O OPTIMIZACIÓN Y/O ADECUACIÓN DE OBRAS CIVILES PARA SISTEMAS DE SEMAFORIZACIÓN (VEHICULAR Y/O PEATONAL) GENERAL :  Construcción o Mantenimiento de Obras Civiles para Intersecciones Semaforizadas.  Intervención del espacio público para la construcción de infraestructura soporte de redes de energía y/o telecomunicaciones en zonas urbanas.  Construcción y/o mantenimiento de andenes en la construcción de canalizaciones para redes de servicios públicos.  Construcción y/o mantenimiento de andenes en proyectos de obras civiles en espacio público. Experiencia Específica cuando:  Por lo menos uno (1) de los contratos válidos aportados como experiencia general debe acreditar la Construcción o Mantenimiento de Obras Civiles para Intersecciones Semaforizadas.  Por lo menos uno (1) de los contratos válidos aportados como experiencia general debe acreditar en el componente de semaforización un valor igual o superior al 40% del Componente de Semaforización del Presupuesto Oficial estimado de contratación. | B9: 1) Contratar el estudio, diseño y construccion de intersecciones semaforizadas,suministros de repuestos para la red semaforica, señalizacion vertical y reductores de velocidad para el Municipio de Girardot- Cundinamarca El contrato aportado para acreditar la experiencia cumple con lo señalado en el Documento Base y la Matriz 1 - Experiencia. | C9: SI
A10: B. Estar relacionados en el Formato 3 – Experiencia con el número consecutivo del contrato en el RUP. Los proponentes plurales deben indicar qué integrante aporta cada uno de los contratos señalados en el Formato 3 – Experiencia. Este documento debe presentarlo el proponente plural y no cada integrante. El hecho de que el proponente no aporte el ―Formato 3 - Experiencia‖ en ningún caso será motivo para rechazar la oferta. La subsanación de este requisito podrá realizarse en los términos del numeral 1.6. Mientras esté pendiente la subsanación del requisito, y en caso de que este no se subsane, la entidad tendrá en cuenta para la evaluación los seis (6) contratos aportados de mayor valor. | B10: Número consecutivo del reporte del contrato ejecutado en el RUP #54 | C10: SI
A11: C. El proponente podrá acreditar la experiencia con mínimo uno (1) y máximo seis (6) contratos los cuales serán evaluados teniendo en cuenta la tabla incluida en el numeral 3.5.8. del pliego de condiciones, así como el contenido establecido en la Matriz 1 – Experiencia. | B11: Acredita la experiencia con 1 contrato certificando mas del 75% del presupuesto oficial, acreditando 691,43 SMMLV | C11: SI
A12: D. Deben haber terminado antes de la fecha de cierre del presente proceso de contratación. | B12: finalizacion de los contratos aportados para acreditar la experiencia: contrato # 917; RUP #54 finalizo 26/12/2019 | C12: SI
A13: E. Para los contratos que sean aportados por socios de empresas que no cuentan con más de tres (3) años de constituidas, además del RUP, deben adjuntar un documento suscrito por el representante legal y el revisor fiscal o contador público (según corresponda) donde se indique la conformación de la empresa. La entidad tendrá en cuenta la experiencia individual de los accionistas, socios o constituyentes de las sociedades con menos de tres (3) años de constituidas. Pasado este tiempo, la sociedad conservará esta experiencia, tal y como haya quedado registrada en el RUP. | C13: N/A
A14: F. La experiencia a la que se refiere este numeral podrá ser validada mediante los documentos establecidos en el pliego de condiciones señalados en el numeral 3.5.6 | B14: Aporta para el contrato # 917; RUP #54 lo siguiente: Acta de liquidacion firmada por Fernando Farfan Murcia Secretario de Transito y Trasnporte - Alcaldia Municipal de Girardot En este documento se puede validar datos del contrato aportado. | C14: SI
A15: G. Para proyectos de infraestructura vial que se hayan realizado fuera del territorio nacional, se consideran ―Carreteras primarias‖ aquellas que sean certificadas por la entidad contratante mediante alguno de los documentos válidos establecidos en el numeral 3.5.6 del pliego de condiciones, siempre que se indique que el ancho de calzada es mayor o igual a siete (7.0) metros, y/o que se acrediten tres o más carriles vehiculares por calzada. | C15: N/A
A16: 3.5.3. CONSIDERACIONES PARA LA VALIDEZ DE LA EXPERIENCIA REQUERIDA
A17: La Entidad tendrá en cuenta los siguientes aspectos para analizar la experiencia acreditada y que la misma sea válida como experiencia requerida:
A18: A. En el Clasificador de Bienes y Servicios, el segmento correspondiente para la clasificación de la experiencia es el segmento 72. | B18: Al verificar en el RUP dichos contratos se identifica el codigo 72101500 | C18: SI
A19: B. La Entidad contratante únicamente podrá exigir para la verificación de la experiencia los contratos celebrados por el interesado, identificados con el Clasificador de Bienes y Servicios hasta el tercer nivel. | B19: 721015 | C19: SI
A20: C. Si el Proponente relaciona o anexa más de seis (6) contratos en el Formato 3 – Experiencia, para efectos de evaluación de la experiencia se tendrá en cuenta máximo los seis (6) contratos aportados de mayor valor. | C20: N/A
A21: D.Tratándose de proponentes plurales se tendrá en cuenta lo siguiente: i) uno de los integrantes debe aportar como mínimo el cincuenta por ciento (50 %) de la experiencia mínima exigida; ii) los demás integrantes deben acreditar al menos el cinco por ciento (5 %) de la experiencia mínima exigida; y iii) sin perjuicio de lo anterior, solo uno (1) de los integrantes, si así lo considera pertinente, podrá no acreditar experiencia. En este último caso, el porcentaje de participación del integrante que no aporta experiencia en la estructura plural no podrá superar el cinco por ciento (5 %). Estos porcentajes de experiencia mínima que cumplirán los integrantes del proponente plural, bastará acreditarlos con contratos que cumplan con el requisito de experiencia general exigida en el pliego de condiciones y se calcularán sobre el “valor mínimo a certificar (como % del Presupuesto Oficial de obra expresado en SMMLV)” de conformidad con el numeral 3.5.8. Independientemente de el o los integrantes del proponente plural que aporten contratos para acreditar la experiencia, estos se tendrán en cuenta para calcular el "Número de contratos con los cuales el Proponente cumple la experiencia acreditada" de que trata el numeral 3.5.8. | C21: N/A
A22: E. Cuando el contrato que se pretende acreditar como experiencia haya sido ejecutado en Consorcio o Unión Temporal, el porcentaje de participación del integrante será el registrado en el RUP de este o en alguno de los documentos válidos para la acreditación de experiencia en caso de que el integrante no esté obligado a tener RUP. | C22: N/A
A23: F. Cuando el contrato que se pretende acreditar como experiencia haya sido ejecutado en Consorcio o Unión Temporal, el valor a considerar será el registrado en el RUP o documento válido en caso de que el integrante no esté obligado a RUP, para la acreditación de experiencia multiplicada por el porcentaje de participación que tuvo el integrante o los integrantes. | C23: N/A
A24: H. Cuando el contrato que se aporte para la experiencia haya sido ejecutado por un Consorcio o Unión Temporal, y dos (2) o más de sus integrantes conformen un Proponente Plural para participar en el presente Proceso, dicho contrato se entenderá aportado como un (1) solo contrato y se tendrá en cuenta para el aporte de la experiencia la sumatoria de los porcentajes de los integrantes del Consorcio o Unión Temporal que ejecutaron el contrato y que están participando en el presente Proceso. | C24: N/A
A25: I. Para el caso de los proyectos de concesiones viales, únicamente se tendrá en cuenta la etapa constructiva y/o de intervención de la obra de infraestructura de transporte, lo cual deberá demostrarse con los documentos soporte de la experiencia. En consecuencia, no será válida la experiencia obtenida en la etapa de operación, administración y/o mantenimiento de la infraestructura concesionada. | C25: N/A
A26: 3.5.4. CLASIFICACIÓN DE LA EXPERIENCIA EN EL “CLASIFICADOR DE BIENES, OBRAS Y SERVICIOS DE LAS NACIONES UNIDAS”
A27: Los contratos aportados para efectos de acreditación de la experiencia requerida deben estar clasificados en alguno de los siguientes códigos:
A28: Segmentos. Nombre
A29: 72 10 15. SERVICIO DE APOYO PARA LA CONSTRUCCIÓN | B29: 72101500 | C29: SI
A30: 72 15 15 SERVICIOS DE SISTEMAS ELECTRICOS
A31: 3.5.5. ACREDITACIÓN DE LA EXPERIENCIA REQUERIDA
A32: Los proponentes acreditarán para cada uno de los contratos aportados la siguiente información mediante alguno de los documentos señalados en la sección 3.5.6. del Pliego de Condiciones:
A33: A. Contratante | B33: Contrato # 917 - Municipio de Girardot | C33: SI
A34: B. Objeto del contrato | B34: 1)#917: Contratar el estudio, diseño y construccion de intersecciones semaforizadas,suministros de repuestos para la red semaforica, señalizacion vertical y reductores de velocidad para el Municipio de Girardot- Cundinamarca | C34: SI
A35: C. Principales actividades ejecutadas | B35: Aporta para el contrato lo siguiente: contrato #917: Acta de liquidacion firmada por Fernando Farfan Murcia Secretario de Transito y Trasnporte - Alcaldia Municipal de Girardot Donde se encuentran las principales actividades ejecutadas | C35: SI
A36: D. Las longitudes, volúmenes, dimensiones, tipologías y demás condiciones de experiencia establecidas en la Matriz 1 – Experiencia, si aplica. | C36: N/A
A37: E. La fecha de iniciación de la ejecución del contrato: Esta fecha es diferente a la de suscripción del contrato, a menos que de los documentos del numeral 3.5.6 de forma expresa así se determine. Si en los documentos válidos aportados para la acreditación de experiencia solo se evidencia fecha (mes, año) de suscripción y/o inicio del contrato: se tendrá en cuenta el último día del mes que se encuentre señalado en la certificación | B37: Inicio del contrato aportado para acreditar la experiencia: contrato # 917; RUP #54 inicio 27/09/2019 | C37: SI
A38: F. La fecha de terminación de la ejecución del contrato: Esta fecha de terminación no es la fecha de entrega y/o recibo final, liquidación, o acta final, salvo que de los documentos del numeral 3.5.6 de forma expresa así se determine. Si en los documentos válidos aportados para la acreditación de experiencia solo se evidencia fecha (mes, año) de terminación del contrato: se tendrá en cuenta el primer día del mes que se encuentre señalado en la certificación | B38: finalizacion de lo contrato aportado para acreditar la experiencia: contrato # 917; RUP #54 finalizo 26/12/2019 | C38: SI
A39: G. Nombre y cargo de la persona que expide la certificación. | B39: contrato #917: Acta de liquidacion firmada por Fernando Farfan Murcia Secretario de Transito y Trasnporte - Alcaldia Municipal de Girardot | C39: SI
A40: H. El porcentaje de participación del integrante del contratista plural. | C40: N/A
A41: I. El porcentaje de participación en el valor ejecutado en el caso de contratistas plurales. | C41: N/A
A42: 3.5.6. DOCUMENTOS VÁLIDOS PARA LA ACREDITACIÓN DE LA EXPERIENCIA REQUERIDA
A43: En aquellos casos en que por las características del objeto a contratar se requiera verificar información adicional a la contenida en el RUP, el proponente podrá aportar uno o algunos de los documentos que se establecen a continuación para que la Entidad realice la verificación en forma directa. Los mismos deberán estar debidamente diligenciados y suscritos por el contratante, el contratista o el interventor, según corresponda. En caso de existir discrepancias entre dos (2) o más documentos aportados por el proponente para la acreditación de experiencia, se tendrá en cuenta el orden de prevalencia establecido a continuación:
A44: A. Acta de liquidación | B44: contrato #917: Acta de liquidacion firmada por Fernando Farfan Murcia Secretario de Transito y Trasnporte - Alcaldia Municipal de Girardot | C44: SI
A45: B. Acta de entrega, terminación, final o de recibo definitivo. | C45: N/A
A46: C. Certificación de experiencia. Expedida con posterioridad a la fecha de terminación del contrato en la que conste el recibo a satisfacción de la obra contratada debidamente suscrita por quien esté en capacidad u obligación de hacerlo. | C46: N/A
A47: D. Acta de inicio o la orden de inicio. La misma sólo será válida para efectos de acreditar la fecha de inicio. | C47: N/A
A48: E. Para los contratos que hayan sido objeto de cesión, el contrato deberá encontrarse debidamente inscrito y clasificado en el RUP o en uno o alguno de los documentos considerados como válidos para la acreditación de experiencia de la empresa cesionaria, según aplique. La experiencia se admitirá para el cesionario y no se reconocerá experiencia alguna al cedente. | C48: N/A
A49: Para efectos de acreditación de experiencia entre particulares, el proponente deberá aportar adicionalmente alguno de los documentos que se describen a continuación: A. Certificación de facturación expedida con posterioridad a la fecha de terminación del contrato emitida por el revisor fiscal o contador público del proponente que acredita la experiencia, según corresponda, con la copia de la tarjeta profesional y certificado de antecedente disciplinarios vigente, expedido por la Junta Central de Contadores, o los documentos equivalentes que hagan sus veces en el país donde se expide el documento del profesional. | C49: N/A
A50: 3.5.7. PARA SUBCONTRATOS
A51: Para la acreditación de experiencia de subcontratos, cuyo contrato principal fue suscrito con particulares se aplicarán las disposiciones establecidas en el numeral anterior. | C51: N/A
A52: Para la acreditación de experiencia de los contratos derivados de contratos suscritos con entidades estatales el proponente deberá aportar los documentos que se describen a continuación:
A53: A. Certificación del subcontrato. Certificación expedida con posterioridad a la fecha de terminación del subcontrato, la cual debe estar suscrita por el representante legal del contratista, del concesionario, o del EPC o consorcio constructor. Así mismo, debe contener la información requerida en el presente pliego de condiciones para efectos de acreditación de la experiencia. | C53: N/A
A54: B. Certificación expedida por la entidad estatal del contrato principal del cual se derivó el subcontrato. Dicha certificación debe contener la información requerida para acreditar experiencia y la siguiente: | C54: N/A
A55: I. Alcance de las obras ejecutadas en el contrato, en las que se pueda evidenciar las obras subcontratadas que pretendan ser acreditadas para efectos de validación de experiencia, en el presente proceso de selección. | C55: N/A
A56: II. Autorización de la entidad estatal a cargo de la infraestructura por medio de la cual se autoriza el subcontrato. En caso de que no requiera autorización, el proponente podrá aportar con su propuesta alguno de los siguientes documentos que den cuenta de esa circunstancia: (i) copia del contrato o (ii) certificación emitida por la entidad concedente, donde acredite que para subcontratar no se requería autorización. | C56: N/A
A57: Para los subcontratos, las actividades subcontratadas solo serán válidas para el subcontratista cuando ambos se presenten de manera separada al proceso de contratación; es decir, dichas actividades no serán tenidas en cuenta para efectos de acreditación de experiencia del contratista directo. | C57: N/A
A58: En todo caso, la experiencia será válida para quien efectivamente haya ejecutado las actividades exigidas. | C58: N/A
A59: Los proponentes deberán advertir a la entidad cuando en otros procesos, el contratista original haya certificado que, dentro de su contrato, se llevó a cabo la subcontratación, por cuanto tales actividades no serán tenidas en cuenta para efectos de acreditación de experiencia del contratista original. Para tal fin, deberán informar a la entidad, mediante comunicación escrita, indicando el proceso en el cual el contratista certificó la respectiva subcontratación. | C59: N/A
A60: La obligación de informar las situaciones de subcontratación estará en cabeza de los proponentes y de ninguna manera dicha obligación será de la entidad. En aquellos casos en los que el proponente no advierta tal situación, la entidad no tendrá responsabilidad alguna por cuanto no fue advertida. En ese caso, el contrato de concesión se contabilizará como un todo y no se tendrá en cuenta lo relacionado con la subcontratación. | C60: N/A
A61: 3.5.1. RELACIÓN DE LOS CONTRATOS FRENTE AL PRESUPUESTO OFICIAL
A62: La verificación del número de contratos para acreditar la experiencia se realiza de la siguiente manera:
A63: Número de contratos con los cuales el Proponente cumple la experiencia acreditada. Valor mínimo a certificar (como % del Presupuesto Oficial de obra expresado en SMMLV)
A64: De 1 hasta 2 75% | B64: Acredita la experiencia con 1 contrato certificando mas del 75% del presupuesto oficial, acreditando 691,43 SMMLV | C64: SI
A65: De 3 hasta 4. 120%
A66: De 5 hasta 6. 150%
A67: La verificación se hará con base en la sumatoria de los valores totales ejecutados (incluido IVA) en SMMLV de los contratos que cumplan con los requisitos establecidos en este pliego de condiciones.
A68: El proponente cumple el requisito de experiencia si la sumatoria de los valores totales ejecutados (incluido IVA) de los contratos expresados en SMMLV es mayor o igual al valor mínimo a certificar establecido en la tabla anterior.
A69: En caso de que el número de contratos con los cuales el proponente acredita la experiencia no satisfaga el porcentaje mínimo a certificar establecido en la tabla anterior, se calificará la propuesta como no hábil y el Proponente podrá subsanarla en los términos establecidos en la sección 1.6.
C70: HABILITADO
A74: FACTOR DE CALIDAD | C74: PUNTOS
A75: PRESENTACIÓN DE UN PLAN DE CALIDAD (10 PUNTOS) | B75: La entidad asignará 10 puntos al Proponente que se comprometa a presentar un Plan de Calidad específico para el proyecto, elaborado conforme a los parámetros establecidos en la última actualización de las normas NTC ISO 9001:2015 y NTC ISO 10005:2018 mediante la suscripción del Formato 7C - Plan de calidad | C75: 10
A76: GARANTÍA SUPLEMENTARIA O ADICIONAL (10 PUNTOS) | B76: La entidad asignará 10 puntos al proponente que se comprometa a otorgar garantías suplementarias o adicionales a la legal establecida para la estabilidad y calidad de la obra, mediante la suscripción del Formato 7D - Garantía Suplementaria o Adicional, en el cual bajo la gravedad de juramento conste el compromiso que asume. | C76: 10
B77: total | C77: =SUM(C75:C76) -> 20

Sheet P_2
A1: =GENERAL!C1 -> MUNICIPIO DE PALMIRA SELECCIÓN ABREVIADA DE MENOR CUANTÍA DE INFRAESTRUCTURA DE TRANSPORTE No. MP-STT-SA-OP- 066-2022 OBJETO: “ADECUACIÓN, MODERNIZACIÓN, MEJORAMIENTO Y OBRAS COMPLEMENTARIAS DE LA RED SEMAFÓRICA DEL MUNICIPIO DE PALMIRA"􏰃
A2: EVALUACIÓN TÉCNICA VERIFICACIÓN DE REQUISITOS HABILITANTES Y PONDERABLES
A3: =GENERAL!C36 -> SEÑALIZACIONES Y CONSTRUCCIONES S.A.S.
A4: PROPUESTA No 2
A5: CONDICIÓN | B5: =A3 -> SEÑALIZACIONES Y CONSTRUCCIONES S.A.S.
B6: OBSERVACIONES | C6: CUMPLE SI / NO
A7: REQUISITOS HABILITANTES
A8: EXPERIENCIA - Anexo 3
A9: A. Que hayan contenido la ejecución de: 6.12 PROYECTOS DE CONSTRUCCIÓN Y/O EXPANSIÓN Y/O MANTENIMIENTO Y/O MEJORAMIENTO Y/O OPTIMIZACIÓN Y/O ADECUACIÓN DE OBRAS CIVILES PARA SISTEMAS DE SEMAFORIZACIÓN (VEHICULAR Y/O PEATONAL) GENERAL :  Construcción o Mantenimiento de Obras Civiles para Intersecciones Semaforizadas.  Intervención del espacio público para la construcción de infraestructura soporte de redes de energía y/o telecomunicaciones en zonas urbanas.  Construcción y/o mantenimiento de andenes en la construcción de canalizaciones para redes de servicios públicos.  Construcción y/o mantenimiento de andenes en proyectos de obras civiles en espacio público. Experiencia Específica cuando:  Por lo menos uno (1) de los contratos válidos aportados como experiencia general debe acreditar la Construcción o Mantenimiento de Obras Civiles para Intersecciones Semaforizadas.  Por lo menos uno (1) de los contratos válidos aportados como experiencia general debe acreditar en el componente de semaforización un valor igual o superior al 40% del Componente de Semaforización del Presupuesto Oficial estimado de contratación. | B9: 1) MANTENIMIENTO Y OBRAS DE AMPLIACION Y REPOSICION DE LA RED DE SEMAFOROS EN EL MUNICIPIO DE MEDELLIN El contrato aportado para acreditar la experiencia cumple con lo señalado en el Documento Base y la Matriz 1 - Experiencia. | C9: SI
A10: B. Estar relacionados en el Formato 3 – Experiencia con el número consecutivo del contrato en el RUP. Los proponentes plurales deben indicar qué integrante aporta cada uno de los contratos señalados en el Formato 3 – Experiencia. Este documento debe presentarlo el proponente plural y no cada integrante. El hecho de que el proponente no aporte el ―Formato 3 - Experiencia‖ en ningún caso será motivo para rechazar la oferta. La subsanación de este requisito podrá realizarse en los términos del numeral 1.6. Mientras esté pendiente la subsanación del requisito, y en caso de que este no se subsane, la entidad tendrá en cuenta para la evaluación los seis (6) contratos aportados de mayor valor. | B10: Número consecutivo del reporte del contrato ejecutado en el RUP #200 | C10: SI
A11: C. El proponente podrá acreditar la experiencia con mínimo uno (1) y máximo seis (6) contratos los cuales serán evaluados teniendo en cuenta la tabla incluida en el numeral 3.5.8. del pliego de condiciones, así como el contenido establecido en la Matriz 1 – Experiencia. | B11: Acredita la experiencia con 1 contrato certificando mas del 75% del presupuesto oficial, acreditando 4124,91SMMLV | C11: SI
A12: D. Deben haber terminado antes de la fecha de cierre del presente proceso de contratación. | B12: finalizacion de los contratos aportados para acreditar la experiencia: contrato # 4600087809 DE 2020; RUP #200 finalizo 10/05/2021 | C12: SI
A13: E. Para los contratos que sean aportados por socios de empresas que no cuentan con más de tres (3) años de constituidas, además del RUP, deben adjuntar un documento suscrito por el representante legal y el revisor fiscal o contador público (según corresponda) donde se indique la conformación de la empresa. La entidad tendrá en cuenta la experiencia individual de los accionistas, socios o constituyentes de las sociedades con menos de tres (3) años de constituidas. Pasado este tiempo, la sociedad conservará esta experiencia, tal y como haya quedado registrada en el RUP. | C13: N/A
A14: F. La experiencia a la que se refiere este numeral podrá ser validada mediante los documentos establecidos en el pliego de condiciones señalados en el numeral 3.5.6 | B14: Aporta para el contrato #4600087809 DE 2020; RUP #200 lo siguiente: Acta de terminacion firmada por CAMILO ANDRES ANGEL SALDARIAGA - INTERVENTOR En este documento se puede validar datos del contrato aportado. | C14: SI
A15: G. Para proyectos de infraestructura vial que se hayan realizado fuera del territorio nacional, se consideran ―Carreteras primarias‖ aquellas que sean certificadas por la entidad contratante mediante alguno de los documentos válidos establecidos en el numeral 3.5.6 del pliego de condiciones, siempre que se indique que el ancho de calzada es mayor o igual a siete (7.0) metros, y/o que se acrediten tres o más carriles vehiculares por calzada. | C15: N/A
A16: 3.5.3. CONSIDERACIONES PARA LA VALIDEZ DE LA EXPERIENCIA REQUERIDA
A17: La Entidad tendrá en cuenta los siguientes aspectos para analizar la experiencia acreditada y que la misma sea válida como experiencia requerida:
A18: A. En el Clasificador de Bienes y Servicios, el segmento correspondiente para la clasificación de la experiencia es el segmento 72. | B18: Al verificar en el RUP dichos contratos se identifica el codigo 72101500 | C18: SI
A19: B. La Entidad contratante únicamente podrá exigir para la verificación de la experiencia los contratos celebrados por el interesado, identificados con el Clasificador de Bienes y Servicios hasta el tercer nivel. | B19: 721015 | C19: SI
A20: C. Si el Proponente relaciona o anexa más de seis (6) contratos en el Formato 3 – Experiencia, para efectos de evaluación de la experiencia se tendrá en cuenta máximo los seis (6) contratos aportados de mayor valor. | C20: N/A
A21: D.Tratándose de proponentes plurales se tendrá en cuenta lo siguiente: i) uno de los integrantes debe aportar como mínimo el cincuenta por ciento (50 %) de la experiencia mínima exigida; ii) los demás integrantes deben acreditar al menos el cinco por ciento (5 %) de la experiencia mínima exigida; y iii) sin perjuicio de lo anterior, solo uno (1) de los integrantes, si así lo considera pertinente, podrá no acreditar experiencia. En este último caso, el porcentaje de participación del integrante que no aporta experiencia en la estructura plural no podrá superar el cinco por ciento (5 %). Estos porcentajes de experiencia mínima que cumplirán los integrantes del proponente plural, bastará acreditarlos con contratos que cumplan con el requisito de experiencia general exigida en el pliego de condiciones y se calcularán sobre el “valor mínimo a certificar (como % del Presupuesto Oficial de obra expresado en SMMLV)” de conformidad con el numeral 3.5.8. Independientemente de el o los integrantes del proponente plural que aporten contratos para acreditar la experiencia, estos se tendrán en cuenta para calcular el "Número de contratos con los cuales el Proponente cumple la experiencia acreditada" de que trata el numeral 3.5.8. | C21: N/A
A22: E. Cuando el contrato que se pretende acreditar como experiencia haya sido ejecutado en Consorcio o Unión Temporal, el porcentaje de participación del integrante será el registrado en el RUP de este o en alguno de los documentos válidos para la acreditación de experiencia en caso de que el integrante no esté obligado a tener RUP. | C22: N/A
A23: F. Cuando el contrato que se pretende acreditar como experiencia haya sido ejecutado en Consorcio o Unión Temporal, el valor a considerar será el registrado en el RUP o documento válido en caso de que el integrante no esté obligado a RUP, para la acreditación de experiencia multiplicada por el porcentaje de participación que tuvo el integrante o los integrantes. | C23: N/A
A24: H. Cuando el contrato que se aporte para la experiencia haya sido ejecutado por un Consorcio o Unión Temporal, y dos (2) o más de sus integrantes conformen un Proponente Plural para participar en el presente Proceso, dicho contrato se entenderá aportado como un (1) solo contrato y se tendrá en cuenta para el aporte de la experiencia la sumatoria de los porcentajes de los integrantes del Consorcio o Unión Temporal que ejecutaron el contrato y que están participando en el presente Proceso. | C24: N/A
A25: I. Para el caso de los proyectos de concesiones viales, únicamente se tendrá en cuenta la etapa constructiva y/o de intervención de la obra de infraestructura de transporte, lo cual deberá demostrarse con los documentos soporte de la experiencia. En consecuencia, no será válida la experiencia obtenida en la etapa de operación, administración y/o mantenimiento de la infraestructura concesionada. | C25: N/A
A26: 3.5.4. CLASIFICACIÓN DE LA EXPERIENCIA EN EL “CLASIFICADOR DE BIENES, OBRAS Y SERVICIOS DE LAS NACIONES UNIDAS”
A27: Los contratos aportados para efectos de acreditación de la experiencia requerida deben estar clasificados en alguno de los siguientes códigos:
A28: Segmentos. Nombre
A29: 72 10 15. SERVICIO DE APOYO PARA LA CONSTRUCCIÓN | B29: 72101500 | C29: SI
A30: 72 15 15 SERVICIOS DE SISTEMAS ELECTRICOS
A31: 3.5.5. ACREDITACIÓN DE LA EXPERIENCIA REQUERIDA
A32: Los proponentes acreditarán para cada uno de los contratos aportados la siguiente información mediante alguno de los documentos señalados en la sección 3.5.6. del Pliego de Condiciones:
A33: A. Contratante | B33: Contrato # 4600087809 DE 2020 - Municipio de Medellin | C33: SI
A34: B. Objeto del contrato | B34: 1)#4600087809 DE 2020: MANTENIMIENTO Y OBRAS DE AMPLIACION Y REPOSICION DE LA RED DE SEMAFOROS EN EL MUNICIPIO DE MEDELLIN | C34: SI
A35: C. Principales actividades ejecutadas | B35: Aporta para el contrato #4600087809 DE 2020; RUP #200 lo siguiente: Acta de terminacion firmada por CAMILO ANDRES ANGEL SALDARIAGA - INTERVENTOR Donde se encuentran las principales actividades ejecutadas | C35: SI
A36: D. Las longitudes, volúmenes, dimensiones, tipologías y demás condiciones de experiencia establecidas en la Matriz 1 – Experiencia, si aplica. | C36: N/A
A37: E. La fecha de iniciación de la ejecución del contrato: Esta fecha es diferente a la de suscripción del contrato, a menos que de los documentos del numeral 3.5.6 de forma expresa así se determine. Si en los documentos válidos aportados para la acreditación de experiencia solo se evidencia fecha (mes, año) de suscripción y/o inicio del contrato: se tendrá en cuenta el último día del mes que se encuentre señalado en la certificación | B37: Inicio del contrato aportado para acreditar la experiencia: contrato # 4600087809 DE 2020; RUP #200 inicio 25/11/2020 | C37: SI
A38: F. La fecha de terminación de la ejecución del contrato: Esta fecha de terminación no es la fecha de entrega y/o recibo final, liquidación, o acta final, salvo que de los documentos del numeral 3.5.6 de forma expresa así se determine. Si en los documentos válidos aportados para la acreditación de experiencia solo se evidencia fecha (mes, año) de terminación del contrato: se tendrá en cuenta el primer día del mes que se encuentre señalado en la certificación | B38: finalizacion de lo contrato aportado para acreditar la experiencia: contrato # 4600087809 DE 2020; RUP #200 finalizo 10/05/2021 | C38: SI
A39: G. Nombre y cargo de la persona que expide la certificación. | B39: contrato #4600087809 DE 2020; RUP #200: Acta de terminacion firmada por CAMILO ANDRES ANGEL SALDARIAGA - INTERVENTOR | C39: SI
A40: H. El porcentaje de participación del integrante del contratista plural. | C40: N/A
A41: I. El porcentaje de participación en el valor ejecutado en el caso de contratistas plurales. | C41: N/A
A42: 3.5.6. DOCUMENTOS VÁLIDOS PARA LA ACREDITACIÓN DE LA EXPERIENCIA REQUERIDA
A43: En aquellos casos en que por las características del objeto a contratar se requiera verificar información adicional a la contenida en el RUP, el proponente podrá aportar uno o algunos de los documentos que se establecen a continuación para que la Entidad realice la verificación en forma directa. Los mismos deberán estar debidamente diligenciados y suscritos por el contratante, el contratista o el interventor, según corresponda. En caso de existir discrepancias entre dos (2) o más documentos aportados por el proponente para la acreditación de experiencia, se tendrá en cuenta el orden de prevalencia establecido a continuación:
A44: A. Acta de liquidación | C44: N/A
A45: B. Acta de entrega, terminación, final o de recibo definitivo. | B45: contrato #4600087809 DE 2020; RUP #200: Acta de terminacion firmada por CAMILO ANDRES ANGEL SALDARIAGA - INTERVENTOR | C45: SI
A46: C. Certificación de experiencia. Expedida con posterioridad a la fecha de terminación del contrato en la que conste el recibo a satisfacción de la obra contratada debidamente suscrita por quien esté en capacidad u obligación de hacerlo. | C46: N/A
A47: D. Acta de inicio o la orden de inicio. La misma sólo será válida para efectos de acreditar la fecha de inicio. | C47: N/A
A48: E. Para los contratos que hayan sido objeto de cesión, el contrato deberá encontrarse debidamente inscrito y clasificado en el RUP o en uno o alguno de los documentos considerados como válidos para la acreditación de experiencia de la empresa cesionaria, según aplique. La experiencia se admitirá para el cesionario y no se reconocerá experiencia alguna al cedente. | C48: N/A
A49: Para efectos de acreditación de experiencia entre particulares, el proponente deberá aportar adicionalmente alguno de los documentos que se describen a continuación: A. Certificación de facturación expedida con posterioridad a la fecha de terminación del contrato emitida por el revisor fiscal o contador público del proponente que acredita la experiencia, según corresponda, con la copia de la tarjeta profesional y certificado de antecedente disciplinarios vigente, expedido por la Junta Central de Contadores, o los documentos equivalentes que hagan sus veces en el país donde se expide el documento del profesional. | C49: N/A
A50: 3.5.7. PARA SUBCONTRATOS
A51: Para la acreditación de experiencia de subcontratos, cuyo contrato principal fue suscrito con particulares se aplicarán las disposiciones establecidas en el numeral anterior. | C51: N/A
A52: Para la acreditación de experiencia de los contratos derivados de contratos suscritos con entidades estatales el proponente deberá aportar los documentos que se describen a continuación:
A53: A. Certificación del subcontrato. Certificación expedida con posterioridad a la fecha de terminación del subcontrato, la cual debe estar suscrita por el representante legal del contratista, del concesionario, o del EPC o consorcio constructor. Así mismo, debe contener la información requerida en el presente pliego de condiciones para efectos de acreditación de la experiencia. | C53: N/A
A54: B. Certificación expedida por la entidad estatal del contrato principal del cual se derivó el subcontrato. Dicha certificación debe contener la información requerida para acreditar experiencia y la siguiente: | C54: N/A
A55: I. Alcance de las obras ejecutadas en el contrato, en las que se pueda evidenciar las obras subcontratadas que pretendan ser acreditadas para efectos de validación de experiencia, en el presente proceso de selección. | C55: N/A
A56: II. Autorización de la entidad estatal a cargo de la infraestructura por medio de la cual se autoriza el subcontrato. En caso de que no requiera autorización, el proponente podrá aportar con su propuesta alguno de los siguientes documentos que den cuenta de esa circunstancia: (i) copia del contrato o (ii) certificación emitida por la entidad concedente, donde acredite que para subcontratar no se requería autorización. | C56: N/A
A57: Para los subcontratos, las actividades subcontratadas solo serán válidas para el subcontratista cuando ambos se presenten de manera separada al proceso de contratación; es decir, dichas actividades no serán tenidas en cuenta para efectos de acreditación de experiencia del contratista directo. | C57: N/A
A58: En todo caso, la experiencia será válida para quien efectivamente haya ejecutado las actividades exigidas. | C58: N/A
A59: Los proponentes deberán advertir a la entidad cuando en otros procesos, el contratista original haya certificado que, dentro de su contrato, se llevó a cabo la subcontratación, por cuanto tales actividades no serán tenidas en cuenta para efectos de acreditación de experiencia del contratista original. Para tal fin, deberán informar a la entidad, mediante comunicación escrita, indicando el proceso en el cual el contratista certificó la respectiva subcontratación. | C59: N/A
A60: La obligación de informar las situaciones de subcontratación estará en cabeza de los proponentes y de ninguna manera dicha obligación será de la entidad. En aquellos casos en los que el proponente no advierta tal situación, la entidad no tendrá responsabilidad alguna por cuanto no fue advertida. En ese caso, el contrato de concesión se contabilizará como un todo y no se tendrá en cuenta lo relacionado con la subcontratación. | C60: N/A
A61: 3.5.1. RELACIÓN DE LOS CONTRATOS FRENTE AL PRESUPUESTO OFICIAL
A62: La verificación del número de contratos para acreditar la experiencia se realiza de la siguiente manera:
A63: Número de contratos con los cuales el Proponente cumple la experiencia acreditada. Valor mínimo a certificar (como % del Presupuesto Oficial de obra expresado en SMMLV)
A64: De 1 hasta 2 75% | B64: Acredita la experiencia con 1 contrato certificando mas del 75% del presupuesto oficial, acreditando 4124,91SMMLV | C64: SI
A65: De 3 hasta 4. 120%
A66: De 5 hasta 6. 150%
A67: La verificación se hará con base en la sumatoria de los valores totales ejecutados (incluido IVA) en SMMLV de los contratos que cumplan con los requisitos establecidos en este pliego de condiciones.
A68: El proponente cumple el requisito de experiencia si la sumatoria de los valores totales ejecutados (incluido IVA) de los contratos expresados en SMMLV es mayor o igual al valor mínimo a certificar establecido en la tabla anterior.
A69: En caso de que el número de contratos con los cuales el proponente acredita la experiencia no satisfaga el porcentaje mínimo a certificar establecido en la tabla anterior, se calificará la propuesta como no hábil y el Proponente podrá subsanarla en los términos establecidos en la sección 1.6.
C70: HABILITADO
A74: FACTOR DE CALIDAD | C74: PUNTOS
A75: PRESENTACIÓN DE UN PLAN DE CALIDAD (10 PUNTOS) | B75: La entidad asignará 10 puntos al Proponente que se comprometa a presentar un Plan de Calidad específico para el proyecto, elaborado conforme a los parámetros establecidos en la última actualización de las normas NTC ISO 9001:2015 y NTC ISO 10005:2018 mediante la suscripción del Formato 7C - Plan de calidad | C75: 10
A76: GARANTÍA SUPLEMENTARIA O ADICIONAL (10 PUNTOS) | B76: La entidad asignará 10 puntos al proponente que se comprometa a otorgar garantías suplementarias o adicionales a la legal establecida para la estabilidad y calidad de la obra, mediante la suscripción del Formato 7D - Garantía Suplementaria o Adicional, en el cual bajo la gravedad de juramento conste el compromiso que asume. | C76: 10
B77: total | C77: =SUM(C75:C76) -> 20

Sheet P_3
A1: =GENERAL!C1 -> MUNICIPIO DE PALMIRA SELECCIÓN ABREVIADA DE MENOR CUANTÍA DE INFRAESTRUCTURA DE TRANSPORTE No. MP-STT-SA-OP- 066-2022 OBJETO: “ADECUACIÓN, MODERNIZACIÓN, MEJORAMIENTO Y OBRAS COMPLEMENTARIAS DE LA RED SEMAFÓRICA DEL MUNICIPIO DE PALMIRA"􏰃
A2: EVALUACIÓN TÉCNICA VERIFICACIÓN DE REQUISITOS HABILITANTES Y PONDERABLES
A3: =GENERAL!C43 -> PROTOLED INGENIERIA SAS
A4: PROPUESTA No 3
A5: CONDICIÓN | B5: =A3 -> PROTOLED INGENIERIA SAS
B6: OBSERVACIONES | C6: CUMPLE SI / NO
A7: REQUISITOS HABILITANTES
A8: EXPERIENCIA - Anexo 3
A9: A. Que hayan contenido la ejecución de: 6.12 PROYECTOS DE CONSTRUCCIÓN Y/O EXPANSIÓN Y/O MANTENIMIENTO Y/O MEJORAMIENTO Y/O OPTIMIZACIÓN Y/O ADECUACIÓN DE OBRAS CIVILES PARA SISTEMAS DE SEMAFORIZACIÓN (VEHICULAR Y/O PEATONAL) GENERAL :  Construcción o Mantenimiento de Obras Civiles para Intersecciones Semaforizadas.  Intervención del espacio público para la construcción de infraestructura soporte de redes de energía y/o telecomunicaciones en zonas urbanas.  Construcción y/o mantenimiento de andenes en la construcción de canalizaciones para redes de servicios públicos.  Construcción y/o mantenimiento de andenes en proyectos de obras civiles en espacio público. Experiencia Específica cuando:  Por lo menos uno (1) de los contratos válidos aportados como experiencia general debe acreditar la Construcción o Mantenimiento de Obras Civiles para Intersecciones Semaforizadas.  Por lo menos uno (1) de los contratos válidos aportados como experiencia general debe acreditar en el componente de semaforización un valor igual o superior al 40% del Componente de Semaforización del Presupuesto Oficial estimado de contratación. | B9: 1) Desarrollo de actividades contempladas en el diseño de la semaforización vertical y horizontal y adecuaciones viales de las intersecciones semaforizadas localizadas en la ciudad de Cali, y comprenden la realización de obras civiles y el suministro e instalación de postes y semáforos. 2) Intervención de semáforos y mantenimiento de postes (tipo pedestal y/o ménsula larga) suministro y aplicación de pintura de los postes pertenecientes al sistema de semaforización de Municipio de Santiago de Cali." 3) Contrato de obra para la construcción de 7 cruces semaforizados en el municipio de Guacarí – valle del cauca según cantidades de anexo cantidades de obra. Se incluye obras civiles, fabricación de postes, mano de obra, suministro e instalación de equipo de semaforización e implementación de central tipo web para controladores. 4) SEMAFORIZACIÓN Y MODERNIZACIÓN PUNTOS DE SEMÁFOROS EN EL MUNICIPIO DE FLORENCIA, CHAQUETA” El contrato aportado para acreditar la experiencia cumple con lo señalado en el Documento Base y la Matriz 1 - Experiencia. | C9: SI
A10: B. Estar relacionados en el Formato 3 – Experiencia con el número consecutivo del contrato en el RUP. Los proponentes plurales deben indicar qué integrante aporta cada uno de los contratos señalados en el Formato 3 – Experiencia. Este documento debe presentarlo el proponente plural y no cada integrante. El hecho de que el proponente no aporte el ―Formato 3 - Experiencia‖ en ningún caso será motivo para rechazar la oferta. La subsanación de este requisito podrá realizarse en los términos del numeral 1.6. Mientras esté pendiente la subsanación del requisito, y en caso de que este no se subsane, la entidad tendrá en cuenta para la evaluación los seis (6) contratos aportados de mayor valor. | B10: Número consecutivo del reporte de los contratos ejecutados en el RUP #28, 24, 4, 31 | C10: SI
A11: C. El proponente podrá acreditar la experiencia con mínimo uno (1) y máximo seis (6) contratos los cuales serán evaluados teniendo en cuenta la tabla incluida en el numeral 3.5.8. del pliego de condiciones, así como el contenido establecido en la Matriz 1 – Experiencia. | B11: Acredita la experiencia con 4 contrato certificando mas del 120% del presupuesto oficial, acreditando 2900,29 SMMLV | C11: SI
A12: D. Deben haber terminado antes de la fecha de cierre del presente proceso de contratación. | B12: finalizacion de los contratos aportados para acreditar la experiencia: Contrato # 1; RUP #28 finalizo 31/12/2019 Contrato # 061-2305-2018; RUP #24 finalizo 27/12/2018 Contrato # O.C ; RUP #4 finalizo 30/12/2017 Contrato # No.001 de 2019 ; RUP #31 finalizo 30/12/2019 | C12: SI
A13: E. Para los contratos que sean aportados por socios de empresas que no cuentan con más de tres (3) años de constituidas, además del RUP, deben adjuntar un documento suscrito por el representante legal y el revisor fiscal o contador público (según corresponda) donde se indique la conformación de la empresa. La entidad tendrá en cuenta la experiencia individual de los accionistas, socios o constituyentes de las sociedades con menos de tres (3) años de constituidas. Pasado este tiempo, la sociedad conservará esta experiencia, tal y como haya quedado registrada en el RUP. | C13: N/A
A14: F. La experiencia a la que se refiere este numeral podrá ser validada mediante los documentos establecidos en el pliego de condiciones señalados en el numeral 3.5.6 | B14: Aporta para los contratos lo siguiente: Contrato # 1 Certificación firmada por Jesus Hernando Cortes - Representante legal UTSC Contrato # 061-2305-2018 Certificacion firmada por Fabio Hernan Soto Can - Represnetante legal FAHESO SAS Contrato # O.C Certificacion firmada por Gilmar Andres Delgado - Representante Legal CONCIVILMET S.A.S Contrato # No.001 de 2019 Certificacion firmada por Gabriel Hernando Ramos Gasca - Representante legal INGENIEROS DE SISTEMAS ASOCIADOS SAS En este documento se puede validar datos del contrato aportado. | C14: SI
A15: G. Para proyectos de infraestructura vial que se hayan realizado fuera del territorio nacional, se consideran ―Carreteras primarias‖ aquellas que sean certificadas por la entidad contratante mediante alguno de los documentos válidos establecidos en el numeral 3.5.6 del pliego de condiciones, siempre que se indique que el ancho de calzada es mayor o igual a siete (7.0) metros, y/o que se acrediten tres o más carriles vehiculares por calzada. | C15: N/A
A16: 3.5.3. CONSIDERACIONES PARA LA VALIDEZ DE LA EXPERIENCIA REQUERIDA
A17: La Entidad tendrá en cuenta los siguientes aspectos para analizar la experiencia acreditada y que la misma sea válida como experiencia requerida:
A18: A. En el Clasificador de Bienes y Servicios, el segmento correspondiente para la clasificación de la experiencia es el segmento 72. | B18: Al verificar en el RUP dichos contratos se identifica el codigo 721515 | C18: SI
A19: B. La Entidad contratante únicamente podrá exigir para la verificación de la experiencia los contratos celebrados por el interesado, identificados con el Clasificador de Bienes y Servicios hasta el tercer nivel. | B19: 721515 | C19: SI
A20: C. Si el Proponente relaciona o anexa más de seis (6) contratos en el Formato 3 – Experiencia, para efectos de evaluación de la experiencia se tendrá en cuenta máximo los seis (6) contratos aportados de mayor valor. | C20: N/A
A21: D.Tratándose de proponentes plurales se tendrá en cuenta lo siguiente: i) uno de los integrantes debe aportar como mínimo el cincuenta por ciento (50 %) de la experiencia mínima exigida; ii) los demás integrantes deben acreditar al menos el cinco por ciento (5 %) de la experiencia mínima exigida; y iii) sin perjuicio de lo anterior, solo uno (1) de los integrantes, si así lo considera pertinente, podrá no acreditar experiencia. En este último caso, el porcentaje de participación del integrante que no aporta experiencia en la estructura plural no podrá superar el cinco por ciento (5 %). Estos porcentajes de experiencia mínima que cumplirán los integrantes del proponente plural, bastará acreditarlos con contratos que cumplan con el requisito de experiencia general exigida en el pliego de condiciones y se calcularán sobre el “valor mínimo a certificar (como % del Presupuesto Oficial de obra expresado en SMMLV)” de conformidad con el numeral 3.5.8. Independientemente de el o los integrantes del proponente plural que aporten contratos para acreditar la experiencia, estos se tendrán en cuenta para calcular el "Número de contratos con los cuales el Proponente cumple la experiencia acreditada" de que trata el numeral 3.5.8. | C21: N/A
A22: E. Cuando el contrato que se pretende acreditar como experiencia haya sido ejecutado en Consorcio o Unión Temporal, el porcentaje de participación del integrante será el registrado en el RUP de este o en alguno de los documentos válidos para la acreditación de experiencia en caso de que el integrante no esté obligado a tener RUP. | C22: N/A
A23: F. Cuando el contrato que se pretende acreditar como experiencia haya sido ejecutado en Consorcio o Unión Temporal, el valor a considerar será el registrado en el RUP o documento válido en caso de que el integrante no esté obligado a RUP, para la acreditación de experiencia multiplicada por el porcentaje de participación que tuvo el integrante o los integrantes. | C23: N/A
A24: H. Cuando el contrato que se aporte para la experiencia haya sido ejecutado por un Consorcio o Unión Temporal, y dos (2) o más de sus integrantes conformen un Proponente Plural para participar en el presente Proceso, dicho contrato se entenderá aportado como un (1) solo contrato y se tendrá en cuenta para el aporte de la experiencia la sumatoria de los porcentajes de los integrantes del Consorcio o Unión Temporal que ejecutaron el contrato y que están participando en el presente Proceso. | C24: N/A
A25: I. Para el caso de los proyectos de concesiones viales, únicamente se tendrá en cuenta la etapa constructiva y/o de intervención de la obra de infraestructura de transporte, lo cual deberá demostrarse con los documentos soporte de la experiencia. En consecuencia, no será válida la experiencia obtenida en la etapa de operación, administración y/o mantenimiento de la infraestructura concesionada. | C25: N/A
A26: 3.5.4. CLASIFICACIÓN DE LA EXPERIENCIA EN EL “CLASIFICADOR DE BIENES, OBRAS Y SERVICIOS DE LAS NACIONES UNIDAS”
A27: Los contratos aportados para efectos de acreditación de la experiencia requerida deben estar clasificados en alguno de los siguientes códigos:
A28: Segmentos. Nombre
A29: 72 10 15. SERVICIO DE APOYO PARA LA CONSTRUCCIÓN | B29: 72101500 | C29: SI
A30: 72 15 15 SERVICIOS DE SISTEMAS ELECTRICOS
A31: 3.5.5. ACREDITACIÓN DE LA EXPERIENCIA REQUERIDA
A32: Los proponentes acreditarán para cada uno de los contratos aportados la siguiente información mediante alguno de los documentos señalados en la sección 3.5.6. del Pliego de Condiciones:
A33: A. Contratante | B33: Contrato # 1 - UTSC Contrato # 061-2305-2018 - FAHESO SAS Contrato # O.C - CONCIVILMET S.A.S Contrato # No.001 de 2019 - INGENIEROS DE SISTEMAS ASOCIADOS SAS | C33: SI
A34: B. Objeto del contrato | B34: 1) Contrato # 1: Desarrollo de actividades contempladas en el diseño de la semaforización vertical y horizontal y adecuaciones viales de las intersecciones semaforizadas localizadas en la ciudad de Cali, y comprenden la realización de obras civiles y el suministro e instalación de postes y semáforos. 2) Contrato # 061-2305-2018: Intervención de semáforos y mantenimiento de postes (tipo pedestal y/o ménsula larga) suministro y aplicación de pintura de los postes pertenecientes al sistema de semaforización de Municipio de Santiago de Cali." 3) Contrato # O.C: Contrato de obra para la construcción de 7 cruces semaforizados en el municipio de Guacarí – valle del cauca según cantidades de anexo cantidades de obra. Se incluye obras civiles, fabricación de postes, mano de obra, suministro e instalación de equipo de semaforización e implementación de central tipo web para controladores. 4) Contrato # No.001 de 2019: SEMAFORIZACIÓN Y MODERNIZACIÓN PUNTOS DE SEMÁFOROS EN EL MUNICIPIO DE FLORENCIA, CHAQUETA” | C34: SI
A35: C. Principales actividades ejecutadas | B35: Aporta para los contratos lo siguiente: Contrato # 1 Certificación firmada por Jesus Hernando Cortes - Representante legal UTSC Contrato # 061-2305-2018 Certificacion firmada por Fabio Hernan Soto Can - Represnetante legal FAHESO SAS Contrato # O.C Certificacion firmada por Gilmar Andres Delgado - Representante Legal CONCIVILMET S.A.S Contrato # No.001 de 2019 Certificacion firmada por Gabriel Hernando Ramos Gasca - Representante legal INGENIEROS DE SISTEMAS ASOCIADOS SAS Donde se encuentran las principales actividades ejecutadas | C35: SI
A36: D. Las longitudes, volúmenes, dimensiones, tipologías y demás condiciones de experiencia establecidas en la Matriz 1 – Experiencia, si aplica. | C36: N/A
A37: E. La fecha de iniciación de la ejecución del contrato: Esta fecha es diferente a la de suscripción del contrato, a menos que de los documentos del numeral 3.5.6 de forma expresa así se determine. Si en los documentos válidos aportados para la acreditación de experiencia solo se evidencia fecha (mes, año) de suscripción y/o inicio del contrato: se tendrá en cuenta el último día del mes que se encuentre señalado en la certificación | B37: Inicio del contrato aportado para acreditar la experiencia: Contrato # 1; RUP #28 inicio 30/08/2019 Contrato # 061-2305-2018; RUP #24 inicio 31/05/2018 Contrato # O.C ; RUP #4 inicio 7/10/2017 Contrato # No.001 de 2019 ; RUP #31 inicio 30/11/2019 | C37: SI
A38: F. La fecha de terminación de la ejecución del contrato: Esta fecha de terminación no es la fecha de entrega y/o recibo final, liquidación, o acta final, salvo que de los documentos del numeral 3.5.6 de forma expresa así se determine. Si en los documentos válidos aportados para la acreditación de experiencia solo se evidencia fecha (mes, año) de terminación del contrato: se tendrá en cuenta el primer día del mes que se encuentre señalado en la certificación | B38: finalizacion de lo contrato aportado para acreditar la experiencia: Contrato # 1; RUP #28 finalizo 31/12/2019 Contrato # 061-2305-2018; RUP #24 finalizo 27/12/2018 Contrato # O.C ; RUP #4 finalizo 30/12/2017 Contrato # No.001 de 2019 ; RUP #31 finalizo 30/12/2019 | C38: SI
A39: G. Nombre y cargo de la persona que expide la certificación. | B39: Contrato # 1 Certificación firmada por Jesus Hernando Cortes - Representante legal UTSC Contrato # 061-2305-2018 Certificacion firmada por Fabio Hernan Soto Can - Represnetante legal FAHESO SAS Contrato # O.C Certificacion firmada por Gilmar Andres Delgado - Representante Legal CONCIVILMET S.A.S Contrato # No.001 de 2019 Certificacion firmada por Gabriel Hernando Ramos Gasca - Representante legal INGENIEROS DE SISTEMAS ASOCIADOS SAS | C39: SI
A40: H. El porcentaje de participación del integrante del contratista plural. | C40: N/A
A41: I. El porcentaje de participación en el valor ejecutado en el caso de contratistas plurales. | C41: N/A
A42: 3.5.6. DOCUMENTOS VÁLIDOS PARA LA ACREDITACIÓN DE LA EXPERIENCIA REQUERIDA
A43: En aquellos casos en que por las características del objeto a contratar se requiera verificar información adicional a la contenida en el RUP, el proponente podrá aportar uno o algunos de los documentos que se establecen a continuación para que la Entidad realice la verificación en forma directa. Los mismos deberán estar debidamente diligenciados y suscritos por el contratante, el contratista o el interventor, según corresponda. En caso de existir discrepancias entre dos (2) o más documentos aportados por el proponente para la acreditación de experiencia, se tendrá en cuenta el orden de prevalencia establecido a continuación:
A44: A. Acta de liquidación | C44: N/A
A45: B. Acta de entrega, terminación, final o de recibo definitivo. | C45: N/A
A46: C. Certificación de experiencia. Expedida con posterioridad a la fecha de terminación del contrato en la que conste el recibo a satisfacción de la obra contratada debidamente suscrita por quien esté en capacidad u obligación de hacerlo. | B46: Contrato # 1 Certificación firmada por Jesus Hernando Cortes - Representante legal UTSC Contrato # 061-2305-2018 Certificacion firmada por Fabio Hernan Soto Can - Represnetante legal FAHESO SAS Contrato # O.C Certificacion firmada por Gilmar Andres Delgado - Representante Legal CONCIVILMET S.A.S Contrato # No.001 de 2019 Certificacion firmada por Gabriel Hernando Ramos Gasca - Representante legal INGENIEROS DE SISTEMAS ASOCIADOS SAS | C46: SI
A47: D. Acta de inicio o la orden de inicio. La misma sólo será válida para efectos de acreditar la fecha de inicio. | C47: N/A
A48: E. Para los contratos que hayan sido objeto de cesión, el contrato deberá encontrarse debidamente inscrito y clasificado en el RUP o en uno o alguno de los documentos considerados como válidos para la acreditación de experiencia de la empresa cesionaria, según aplique. La experiencia se admitirá para el cesionario y no se reconocerá experiencia alguna al cedente. | C48: N/A
A49: Para efectos de acreditación de experiencia entre particulares, el proponente deberá aportar adicionalmente alguno de los documentos que se describen a continuación: A. Certificación de facturación expedida con posterioridad a la fecha de terminación del contrato emitida por el revisor fiscal o contador público del proponente que acredita la experiencia, según corresponda, con la copia de la tarjeta profesional y certificado de antecedente disciplinarios vigente, expedido por la Junta Central de Contadores, o los documentos equivalentes que hagan sus veces en el país donde se expide el documento del profesional. | C49: N/A
A50: 3.5.7. PARA SUBCONTRATOS
A51: Para la acreditación de experiencia de subcontratos, cuyo contrato principal fue suscrito con particulares se aplicarán las disposiciones establecidas en el numeral anterior. | C51: N/A
A52: Para la acreditación de experiencia de los contratos derivados de contratos suscritos con entidades estatales el proponente deberá aportar los documentos que se describen a continuación:
A53: A. Certificación del subcontrato. Certificación expedida con posterioridad a la fecha de terminación del subcontrato, la cual debe estar suscrita por el representante legal del contratista, del concesionario, o del EPC o consorcio constructor. Así mismo, debe contener la información requerida en el presente pliego de condiciones para efectos de acreditación de la experiencia. | C53: N/A
A54: B. Certificación expedida por la entidad estatal del contrato principal del cual se derivó el subcontrato. Dicha certificación debe contener la información requerida para acreditar experiencia y la siguiente: | C54: N/A
A55: I. Alcance de las obras ejecutadas en el contrato, en las que se pueda evidenciar las obras subcontratadas que pretendan ser acreditadas para efectos de validación de experiencia, en el presente proceso de selección. | C55: N/A
A56: II. Autorización de la entidad estatal a cargo de la infraestructura por medio de la cual se autoriza el subcontrato. En caso de que no requiera autorización, el proponente podrá aportar con su propuesta alguno de los siguientes documentos que den cuenta de esa circunstancia: (i) copia del contrato o (ii) certificación emitida por la entidad concedente, donde acredite que para subcontratar no se requería autorización. | C56: N/A
A57: Para los subcontratos, las actividades subcontratadas solo serán válidas para el subcontratista cuando ambos se presenten de manera separada al proceso de contratación; es decir, dichas actividades no serán tenidas en cuenta para efectos de acreditación de experiencia del contratista directo. | C57: N/A
A58: En todo caso, la experiencia será válida para quien efectivamente haya ejecutado las actividades exigidas. | C58: N/A
A59: Los proponentes deberán advertir a la entidad cuando en otros procesos, el contratista original haya certificado que, dentro de su contrato, se llevó a cabo la subcontratación, por cuanto tales actividades no serán tenidas en cuenta para efectos de acreditación de experiencia del contratista original. Para tal fin, deberán informar a la entidad, mediante comunicación escrita, indicando el proceso en el cual el contratista certificó la respectiva subcontratación. | C59: N/A
A60: La obligación de informar las situaciones de subcontratación estará en cabeza de los proponentes y de ninguna manera dicha obligación será de la entidad. En aquellos casos en los que el proponente no advierta tal situación, la entidad no tendrá responsabilidad alguna por cuanto no fue advertida. En ese caso, el contrato de concesión se contabilizará como un todo y no se tendrá en cuenta lo relacionado con la subcontratación. | C60: N/A
A61: 3.5.1. RELACIÓN DE LOS CONTRATOS FRENTE AL PRESUPUESTO OFICIAL
A62: La verificación del número de contratos para acreditar la experiencia se realiza de la siguiente manera:
A63: Número de contratos con los cuales el Proponente cumple la experiencia acreditada. Valor mínimo a certificar (como % del Presupuesto Oficial de obra expresado en SMMLV)
A64: De 1 hasta 2 75% | B64: Acredita la experiencia con 4 contrato certificando mas del 120% del presupuesto oficial, acreditando 2900,29 SMMLV | C64: SI
A65: De 3 hasta 4. 120%
A66: De 5 hasta 6. 150%
A67: La verificación se hará con base en la sumatoria de los valores totales ejecutados (incluido IVA) en SMMLV de los contratos que cumplan con los requisitos establecidos en este pliego de condiciones.
A68: El proponente cumple el requisito de experiencia si la sumatoria de los valores totales ejecutados (incluido IVA) de los contratos expresados en SMMLV es mayor o igual al valor mínimo a certificar establecido en la tabla anterior.
A69: En caso de que el número de contratos con los cuales el proponente acredita la experiencia no satisfaga el porcentaje mínimo a certificar establecido en la tabla anterior, se calificará la propuesta como no hábil y el Proponente podrá subsanarla en los términos establecidos en la sección 1.6.
C70: HABILITADO
A74: FACTOR DE CALIDAD | C74: PUNTOS
A75: PRESENTACIÓN DE UN PLAN DE CALIDAD (10 PUNTOS) | B75: La entidad asignará 10 puntos al Proponente que se comprometa a presentar un Plan de Calidad específico para el proyecto, elaborado conforme a los parámetros establecidos en la última actualización de las normas NTC ISO 9001:2015 y NTC ISO 10005:2018 mediante la suscripción del Formato 7C - Plan de calidad | C75: 10
A76: GARANTÍA SUPLEMENTARIA O ADICIONAL (10 PUNTOS) | B76: La entidad asignará 10 puntos al proponente que se comprometa a otorgar garantías suplementarias o adicionales a la legal establecida para la estabilidad y calidad de la obra, mediante la suscripción del Formato 7D - Garantía Suplementaria o Adicional, en el cual bajo la gravedad de juramento conste el compromiso que asume. | C76: 0 | D76: No aporto formato
B77: total | C77: =SUM(C75:C76) -> 10

Sheet P_4
A1: =GENERAL!C1 -> MUNICIPIO DE PALMIRA SELECCIÓN ABREVIADA DE MENOR CUANTÍA DE INFRAESTRUCTURA DE TRANSPORTE No. MP-STT-SA-OP- 066-2022 OBJETO: “ADECUACIÓN, MODERNIZACIÓN, MEJORAMIENTO Y OBRAS COMPLEMENTARIAS DE LA RED SEMAFÓRICA DEL MUNICIPIO DE PALMIRA"􏰃
A2: EVALUACIÓN TÉCNICA VERIFICACIÓN DE REQUISITOS HABILITANTES Y PONDERABLES
A3: =GENERAL!C50 -> AFS SERVICE S.A.S.
A4: PROPUESTA No 4
A5: CONDICIÓN | B5: =A3 -> AFS SERVICE S.A.S.
B6: OBSERVACIONES | C6: CUMPLE SI / NO
A7: REQUISITOS HABILITANTES
A8: EXPERIENCIA - Anexo 3
A9: A. Que hayan contenido la ejecución de: 6.12 PROYECTOS DE CONSTRUCCIÓN Y/O EXPANSIÓN Y/O MANTENIMIENTO Y/O MEJORAMIENTO Y/O OPTIMIZACIÓN Y/O ADECUACIÓN DE OBRAS CIVILES PARA SISTEMAS DE SEMAFORIZACIÓN (VEHICULAR Y/O PEATONAL) GENERAL :  Construcción o Mantenimiento de Obras Civiles para Intersecciones Semaforizadas.  Intervención del espacio público para la construcción de infraestructura soporte de redes de energía y/o telecomunicaciones en zonas urbanas.  Construcción y/o mantenimiento de andenes en la construcción de canalizaciones para redes de servicios públicos.  Construcción y/o mantenimiento de andenes en proyectos de obras civiles en espacio público. Experiencia Específica cuando:  Por lo menos uno (1) de los contratos válidos aportados como experiencia general debe acreditar la Construcción o Mantenimiento de Obras Civiles para Intersecciones Semaforizadas.  Por lo menos uno (1) de los contratos válidos aportados como experiencia general debe acreditar en el componente de semaforización un valor igual o superior al 40% del Componente de Semaforización del Presupuesto Oficial estimado de contratación. | B9: 1) Contrato # 1905100401; RUP #22: Mantenimiento preventivo y correctivo a todo costo de del sistema semafórico de la ciudad de Manizales garantizando el correcto mantenimiento de los mismos. Para acreditar la experiencia del contrato # 1905100401; RUP #22, es necesario que el proponente subsane aportando la composicion accionaria de la empresa AFS SERVICE SAS, con el fin de validar se el señor Anibal Franco Soto es accionista de la empresa y desde cuando. El proponente subsana en debida forma. 2) CONTRATO #2111251081; RUP #25: Canalización , cableado, suministro e instalación de semáforos en la Avenida Gilberto Alzate con calle 23 de la ciudad de Manizales El contrato #2111251081; RUP #25, aportado para acreditar la experiencia cumple con lo señalado en el Documento Base y la Matriz 1 - Experiencia. | C9: SI
A10: B. Estar relacionados en el Formato 3 – Experiencia con el número consecutivo del contrato en el RUP. Los proponentes plurales deben indicar qué integrante aporta cada uno de los contratos señalados en el Formato 3 – Experiencia. Este documento debe presentarlo el proponente plural y no cada integrante. El hecho de que el proponente no aporte el ―Formato 3 - Experiencia‖ en ningún caso será motivo para rechazar la oferta. La subsanación de este requisito podrá realizarse en los términos del numeral 1.6. Mientras esté pendiente la subsanación del requisito, y en caso de que este no se subsane, la entidad tendrá en cuenta para la evaluación los seis (6) contratos aportados de mayor valor. | B10: Número consecutivo del reporte de los contratos ejecutados en el RUP #22, 25 | C10: SI
A11: C. El proponente podrá acreditar la experiencia con mínimo uno (1) y máximo seis (6) contratos los cuales serán evaluados teniendo en cuenta la tabla incluida en el numeral 3.5.8. del pliego de condiciones, así como el contenido establecido en la Matriz 1 – Experiencia. | B11: Acredita la experiencia con 2 contratos certificando mas del 75% del presupuesto oficial, acreditando 364,41 SMMLV | C11: SI
A12: D. Deben haber terminado antes de la fecha de cierre del presente proceso de contratación. | B12: finalizacion de los contratos aportados para acreditar la experiencia: Contrato # 1905100401; RUP #22 finalizo 27/12/2019 Contrato #2111251081; RUP #25 finalizo 30/12/2021 | C12: SI
A13: E. Para los contratos que sean aportados por socios de empresas que no cuentan con más de tres (3) años de constituidas, además del RUP, deben adjuntar un documento suscrito por el representante legal y el revisor fiscal o contador público (según corresponda) donde se indique la conformación de la empresa. La entidad tendrá en cuenta la experiencia individual de los accionistas, socios o constituyentes de las sociedades con menos de tres (3) años de constituidas. Pasado este tiempo, la sociedad conservará esta experiencia, tal y como haya quedado registrada en el RUP. | C13: N/A
A14: F. La experiencia a la que se refiere este numeral podrá ser validada mediante los documentos establecidos en el pliego de condiciones señalados en el numeral 3.5.6 | B14: Contrato # 1905100401 Certificacion firmada por Leonardo Leal Garcia - Profesional Universitario - Alcaldia de Manizales Contrato #2111251081 Certificacion firmada por Leonardo Leal Garcia - Profesional Universitario - Alcaldia de Manizales En este documento se puede validar datos del contrato aportado. | C14: SI
A15: G. Para proyectos de infraestructura vial que se hayan realizado fuera del territorio nacional, se consideran ―Carreteras primarias‖ aquellas que sean certificadas por la entidad contratante mediante alguno de los documentos válidos establecidos en el numeral 3.5.6 del pliego de condiciones, siempre que se indique que el ancho de calzada es mayor o igual a siete (7.0) metros, y/o que se acrediten tres o más carriles vehiculares por calzada. | C15: N/A
A16: 3.5.3. CONSIDERACIONES PARA LA VALIDEZ DE LA EXPERIENCIA REQUERIDA
A17: La Entidad tendrá en cuenta los siguientes aspectos para analizar la experiencia acreditada y que la misma sea válida como experiencia requerida:
A18: A. En el Clasificador de Bienes y Servicios, el segmento correspondiente para la clasificación de la experiencia es el segmento 72. | B18: Al verificar en el RUP dichos contratos se identifica el codigo 721515 | C18: SI
A19: B. La Entidad contratante únicamente podrá exigir para la verificación de la experiencia los contratos celebrados por el interesado, identificados con el Clasificador de Bienes y Servicios hasta el tercer nivel. | B19: 721515 | C19: SI
A20: C. Si el Proponente relaciona o anexa más de seis (6) contratos en el Formato 3 – Experiencia, para efectos de evaluación de la experiencia se tendrá en cuenta máximo los seis (6) contratos aportados de mayor valor. | C20: N/A
A21: D.Tratándose de proponentes plurales se tendrá en cuenta lo siguiente: i) uno de los integrantes debe aportar como mínimo el cincuenta por ciento (50 %) de la experiencia mínima exigida; ii) los demás integrantes deben acreditar al menos el cinco por ciento (5 %) de la experiencia mínima exigida; y iii) sin perjuicio de lo anterior, solo uno (1) de los integrantes, si así lo considera pertinente, podrá no acreditar experiencia. En este último caso, el porcentaje de participación del integrante que no aporta experiencia en la estructura plural no podrá superar el cinco por ciento (5 %). Estos porcentajes de experiencia mínima que cumplirán los integrantes del proponente plural, bastará acreditarlos con contratos que cumplan con el requisito de experiencia general exigida en el pliego de condiciones y se calcularán sobre el “valor mínimo a certificar (como % del Presupuesto Oficial de obra expresado en SMMLV)” de conformidad con el numeral 3.5.8. Independientemente de el o los integrantes del proponente plural que aporten contratos para acreditar la experiencia, estos se tendrán en cuenta para calcular el "Número de contratos con los cuales el Proponente cumple la experiencia acreditada" de que trata el numeral 3.5.8. | C21: N/A
A22: E. Cuando el contrato que se pretende acreditar como experiencia haya sido ejecutado en Consorcio o Unión Temporal, el porcentaje de participación del integrante será el registrado en el RUP de este o en alguno de los documentos válidos para la acreditación de experiencia en caso de que el integrante no esté obligado a tener RUP. | C22: N/A
A23: F. Cuando el contrato que se pretende acreditar como experiencia haya sido ejecutado en Consorcio o Unión Temporal, el valor a considerar será el registrado en el RUP o documento válido en caso de que el integrante no esté obligado a RUP, para la acreditación de experiencia multiplicada por el porcentaje de participación que tuvo el integrante o los integrantes. | C23: N/A
A24: H. Cuando el contrato que se aporte para la experiencia haya sido ejecutado por un Consorcio o Unión Temporal, y dos (2) o más de sus integrantes conformen un Proponente Plural para participar en el presente Proceso, dicho contrato se entenderá aportado como un (1) solo contrato y se tendrá en cuenta para el aporte de la experiencia la sumatoria de los porcentajes de los integrantes del Consorcio o Unión Temporal que ejecutaron el contrato y que están participando en el presente Proceso. | C24: N/A
A25: I. Para el caso de los proyectos de concesiones viales, únicamente se tendrá en cuenta la etapa constructiva y/o de intervención de la obra de infraestructura de transporte, lo cual deberá demostrarse con los documentos soporte de la experiencia. En consecuencia, no será válida la experiencia obtenida en la etapa de operación, administración y/o mantenimiento de la infraestructura concesionada. | C25: N/A
A26: 3.5.4. CLASIFICACIÓN DE LA EXPERIENCIA EN EL “CLASIFICADOR DE BIENES, OBRAS Y SERVICIOS DE LAS NACIONES UNIDAS”
A27: Los contratos aportados para efectos de acreditación de la experiencia requerida deben estar clasificados en alguno de los siguientes códigos:
A28: Segmentos. Nombre
A29: 72 10 15. SERVICIO DE APOYO PARA LA CONSTRUCCIÓN | B29: 721515 | C29: SI
A30: 72 15 15 SERVICIOS DE SISTEMAS ELECTRICOS
A31: 3.5.5. ACREDITACIÓN DE LA EXPERIENCIA REQUERIDA
A32: Los proponentes acreditarán para cada uno de los contratos aportados la siguiente información mediante alguno de los documentos señalados en la sección 3.5.6. del Pliego de Condiciones:
A33: A. Contratante | B33: Contrato # 1905100401 - Alcaldia de Manizales Contrato #2111251081 - Alcaldia de Manizales | C33: SI
A34: B. Objeto del contrato | B34: 1) Contrato # 1905100401; RUP #22: Mantenimiento preventivo y correctivo a todo costo de del sistema semafórico de la ciudad de Manizales garantizando el correcto mantenimiento de los mismos. 2) CONTRATO #2111251081; RUP #25: Canalización , cableado, suministro e instalación de semáforos en la Avenida Gilberto Alzate con calle 23 de la ciudad de Manizales | C34: SI
A35: C. Principales actividades ejecutadas | B35: Contrato # 1905100401 Certificacion firmada por Leonardo Leal Garcia - Profesional Universitario - Alcaldia de Manizales Contrato #2111251081 Certificacion firmada por Leonardo Leal Garcia - Profesional Universitario - Alcaldia de Manizales Donde se encuentran las principales actividades ejecutadas | C35: SI
A36: D. Las longitudes, volúmenes, dimensiones, tipologías y demás condiciones de experiencia establecidas en la Matriz 1 – Experiencia, si aplica. | C36: N/A
A37: E. La fecha de iniciación de la ejecución del contrato: Esta fecha es diferente a la de suscripción del contrato, a menos que de los documentos del numeral 3.5.6 de forma expresa así se determine. Si en los documentos válidos aportados para la acreditación de experiencia solo se evidencia fecha (mes, año) de suscripción y/o inicio del contrato: se tendrá en cuenta el último día del mes que se encuentre señalado en la certificación | B37: Inicio de los contratos aportados para acreditar la experiencia: Contrato # 1905100401; RUP #22 inicio 13/05/2019 Contrato #2111251081; RUP #25 inicio 30/11/2021 | C37: SI
A38: F. La fecha de terminación de la ejecución del contrato: Esta fecha de terminación no es la fecha de entrega y/o recibo final, liquidación, o acta final, salvo que de los documentos del numeral 3.5.6 de forma expresa así se determine. Si en los documentos válidos aportados para la acreditación de experiencia solo se evidencia fecha (mes, año) de terminación del contrato: se tendrá en cuenta el primer día del mes que se encuentre señalado en la certificación | B38: finalizacion de los contratos aportados para acreditar la experiencia: Contrato # 1905100401; RUP #22 finalizo 27/12/2019 Contrato #2111251081; RUP #25 finalizo 30/12/2021 | C38: SI
A39: G. Nombre y cargo de la persona que expide la certificación. | B39: Contrato # 1905100401 Certificacion firmada por Leonardo Leal Garcia - Profesional Universitario - Alcaldia de Manizales Contrato #2111251081 Certificacion firmada por Leonardo Leal Garcia - Profesional Universitario - Alcaldia de Manizales | C39: SI
A40: H. El porcentaje de participación del integrante del contratista plural. | C40: N/A
A41: I. El porcentaje de participación en el valor ejecutado en el caso de contratistas plurales. | C41: N/A
A42: 3.5.6. DOCUMENTOS VÁLIDOS PARA LA ACREDITACIÓN DE LA EXPERIENCIA REQUERIDA
A43: En aquellos casos en que por las características del objeto a contratar se requiera verificar información adicional a la contenida en el RUP, el proponente podrá aportar uno o algunos de los documentos que se establecen a continuación para que la Entidad realice la verificación en forma directa. Los mismos deberán estar debidamente diligenciados y suscritos por el contratante, el contratista o el interventor, según corresponda. En caso de existir discrepancias entre dos (2) o más documentos aportados por el proponente para la acreditación de experiencia, se tendrá en cuenta el orden de prevalencia establecido a continuación:
A44: A. Acta de liquidación | C44: N/A
A45: B. Acta de entrega, terminación, final o de recibo definitivo. | C45: N/A
A46: C. Certificación de experiencia. Expedida con posterioridad a la fecha de terminación del contrato en la que conste el recibo a satisfacción de la obra contratada debidamente suscrita por quien esté en capacidad u obligación de hacerlo. | B46: Contrato # 1905100401 Certificacion firmada por Leonardo Leal Garcia - Profesional Universitario - Alcaldia de Manizales Contrato #2111251081 Certificacion firmada por Leonardo Leal Garcia - Profesional Universitario - Alcaldia de Manizales | C46: SI
A47: D. Acta de inicio o la orden de inicio. La misma sólo será válida para efectos de acreditar la fecha de inicio. | C47: N/A
A48: E. Para los contratos que hayan sido objeto de cesión, el contrato deberá encontrarse debidamente inscrito y clasificado en el RUP o en uno o alguno de los documentos considerados como válidos para la acreditación de experiencia de la empresa cesionaria, según aplique. La experiencia se admitirá para el cesionario y no se reconocerá experiencia alguna al cedente. | C48: N/A
A49: Para efectos de acreditación de experiencia entre particulares, el proponente deberá aportar adicionalmente alguno de los documentos que se describen a continuación: A. Certificación de facturación expedida con posterioridad a la fecha de terminación del contrato emitida por el revisor fiscal o contador público del proponente que acredita la experiencia, según corresponda, con la copia de la tarjeta profesional y certificado de antecedente disciplinarios vigente, expedido por la Junta Central de Contadores, o los documentos equivalentes que hagan sus veces en el país donde se expide el documento del profesional. | C49: N/A
A50: 3.5.7. PARA SUBCONTRATOS
A51: Para la acreditación de experiencia de subcontratos, cuyo contrato principal fue suscrito con particulares se aplicarán las disposiciones establecidas en el numeral anterior. | C51: N/A
A52: Para la acreditación de experiencia de los contratos derivados de contratos suscritos con entidades estatales el proponente deberá aportar los documentos que se describen a continuación:
A53: A. Certificación del subcontrato. Certificación expedida con posterioridad a la fecha de terminación del subcontrato, la cual debe estar suscrita por el representante legal del contratista, del concesionario, o del EPC o consorcio constructor. Así mismo, debe contener la información requerida en el presente pliego de condiciones para efectos de acreditación de la experiencia. | C53: N/A
A54: B. Certificación expedida por la entidad estatal del contrato principal del cual se derivó el subcontrato. Dicha certificación debe contener la información requerida para acreditar experiencia y la siguiente: | C54: N/A
A55: I. Alcance de las obras ejecutadas en el contrato, en las que se pueda evidenciar las obras subcontratadas que pretendan ser acreditadas para efectos de validación de experiencia, en el presente proceso de selección. | C55: N/A
A56: II. Autorización de la entidad estatal a cargo de la infraestructura por medio de la cual se autoriza el subcontrato. En caso de que no requiera autorización, el proponente podrá aportar con su propuesta alguno de los siguientes documentos que den cuenta de esa circunstancia: (i) copia del contrato o (ii) certificación emitida por la entidad concedente, donde acredite que para subcontratar no se requería autorización. | C56: N/A
A57: Para los subcontratos, las actividades subcontratadas solo serán válidas para el subcontratista cuando ambos se presenten de manera separada al proceso de contratación; es decir, dichas actividades no serán tenidas en cuenta para efectos de acreditación de experiencia del contratista directo. | C57: N/A
A58: En todo caso, la experiencia será válida para quien efectivamente haya ejecutado las actividades exigidas. | C58: N/A
A59: Los proponentes deberán advertir a la entidad cuando en otros procesos, el contratista original haya certificado que, dentro de su contrato, se llevó a cabo la subcontratación, por cuanto tales actividades no serán tenidas en cuenta para efectos de acreditación de experiencia del contratista original. Para tal fin, deberán informar a la entidad, mediante comunicación escrita, indicando el proceso en el cual el contratista certificó la respectiva subcontratación. | C59: N/A
A60: La obligación de informar las situaciones de subcontratación estará en cabeza de los proponentes y de ninguna manera dicha obligación será de la entidad. En aquellos casos en los que el proponente no advierta tal situación, la entidad no tendrá responsabilidad alguna por cuanto no fue advertida. En ese caso, el contrato de concesión se contabilizará como un todo y no se tendrá en cuenta lo relacionado con la subcontratación. | C60: N/A
A61: 3.5.1. RELACIÓN DE LOS CONTRATOS FRENTE AL PRESUPUESTO OFICIAL
A62: La verificación del número de contratos para acreditar la experiencia se realiza de la siguiente manera:
A63: Número de contratos con los cuales el Proponente cumple la experiencia acreditada. Valor mínimo a certificar (como % del Presupuesto Oficial de obra expresado en SMMLV)
A64: De 1 hasta 2 75% | B64: Acredita la experiencia con 2 contratos certificando mas del 75% del presupuesto oficial, acreditando 364,41 SMMLV | C64: SI
A65: De 3 hasta 4. 120%
A66: De 5 hasta 6. 150%
A67: La verificación se hará con base en la sumatoria de los valores totales ejecutados (incluido IVA) en SMMLV de los contratos que cumplan con los requisitos establecidos en este pliego de condiciones.
A68: El proponente cumple el requisito de experiencia si la sumatoria de los valores totales ejecutados (incluido IVA) de los contratos expresados en SMMLV es mayor o igual al valor mínimo a certificar establecido en la tabla anterior.
A69: En caso de que el número de contratos con los cuales el proponente acredita la experiencia no satisfaga el porcentaje mínimo a certificar establecido en la tabla anterior, se calificará la propuesta como no hábil y el Proponente podrá subsanarla en los términos establecidos en la sección 1.6.
C70: HABILITADO
A74: FACTOR DE CALIDAD | C74: PUNTOS
A75: PRESENTACIÓN DE UN PLAN DE CALIDAD (10 PUNTOS) | B75: La entidad asignará 10 puntos al Proponente que se comprometa a presentar un Plan de Calidad específico para el proyecto, elaborado conforme a los parámetros establecidos en la última actualización de las normas NTC ISO 9001:2015 y NTC ISO 10005:2018 mediante la suscripción del Formato 7C - Plan de calidad | C75: 0 | D75: No aporto formato
A76: GARANTÍA SUPLEMENTARIA O ADICIONAL (10 PUNTOS) | B76: La entidad asignará 10 puntos al proponente que se comprometa a otorgar garantías suplementarias o adicionales a la legal establecida para la estabilidad y calidad de la obra, mediante la suscripción del Formato 7D - Garantía Suplementaria o Adicional, en el cual bajo la gravedad de juramento conste el compromiso que asume. | C76: 0 | D76: No aporto formato
B77: total | C77: =SUM(C75:C76) -> 0

Sheet P_5
A1: =GENERAL!C1 -> MUNICIPIO DE PALMIRA SELECCIÓN ABREVIADA DE MENOR CUANTÍA DE INFRAESTRUCTURA DE TRANSPORTE No. MP-STT-SA-OP- 066-2022 OBJETO: “ADECUACIÓN, MODERNIZACIÓN, MEJORAMIENTO Y OBRAS COMPLEMENTARIAS DE LA RED SEMAFÓRICA DEL MUNICIPIO DE PALMIRA"􏰃
A2: EVALUACIÓN TÉCNICA VERIFICACIÓN DE REQUISITOS HABILITANTES Y PONDERABLES
A3: =GENERAL!C57 -> CONSORCIO SOLUCIONES VIALES
A4: PROPUESTA No 5
A5: CONDICIÓN | B5: =A3 -> CONSORCIO SOLUCIONES VIALES
B6: OBSERVACIONES | C6: CUMPLE SI / NO
A7: REQUISITOS HABILITANTES
A8: EXPERIENCIA - Anexo 3
A9: A. Que hayan contenido la ejecución de: 6.12 PROYECTOS DE CONSTRUCCIÓN Y/O EXPANSIÓN Y/O MANTENIMIENTO Y/O MEJORAMIENTO Y/O OPTIMIZACIÓN Y/O ADECUACIÓN DE OBRAS CIVILES PARA SISTEMAS DE SEMAFORIZACIÓN (VEHICULAR Y/O PEATONAL) GENERAL :  Construcción o Mantenimiento de Obras Civiles para Intersecciones Semaforizadas.  Intervención del espacio público para la construcción de infraestructura soporte de redes de energía y/o telecomunicaciones en zonas urbanas.  Construcción y/o mantenimiento de andenes en la construcción de canalizaciones para redes de servicios públicos.  Construcción y/o mantenimiento de andenes en proyectos de obras civiles en espacio público. Experiencia Específica cuando:  Por lo menos uno (1) de los contratos válidos aportados como experiencia general debe acreditar la Construcción o Mantenimiento de Obras Civiles para Intersecciones Semaforizadas.  Por lo menos uno (1) de los contratos válidos aportados como experiencia general debe acreditar en el componente de semaforización un valor igual o superior al 40% del Componente de Semaforización del Presupuesto Oficial estimado de contratación. | B9: 1) Contrato # 2413 DEL 21 DE JULIO DE 2015; RUP #50: CONTRATAR LA MODERNIZACION DE LA RED SEMAFORICA DEL MUNICIPIO DE IBAGUE TOLIA, EN EJECUCION DEL PROYECTO DENOMINADO - IMPLEMENTACION DE ACCIONES EN MATERIA DE SEGURIDAD VIAL EN EL MUNICIPIO DE IBAGUE - TOLIMA. 2) ASEIC-ADM- 2019-038; RUP # 001 "SUMINISTRO E INSTALACION DE LOS ELEMENTOS NECESARIOS PARA REGULAR CON SEMAFOROS DOS INTERSECCIONES EN LA CALLE 77 SUR, PARA LA MODERNIZACION DE LA RED SEMAFORICA Y MANTENIMIENTO DE LA RED EXISTENTE EN EL MUNICIPIO DE SABANETA" Los contratos # 2413 DEL 21 DE JULIO DE 2015; RUP #50 y ASEIC-ADM- 2019-038; RUP # 001 , aportados para acreditar la experiencia cumplen con lo señalado en el Documento Base y la Matriz 1 - Experiencia. | C9: SI
A10: B. Estar relacionados en el Formato 3 – Experiencia con el número consecutivo del contrato en el RUP. Los proponentes plurales deben indicar qué integrante aporta cada uno de los contratos señalados en el Formato 3 – Experiencia. Este documento debe presentarlo el proponente plural y no cada integrante. El hecho de que el proponente no aporte el ―Formato 3 - Experiencia‖ en ningún caso será motivo para rechazar la oferta. La subsanación de este requisito podrá realizarse en los términos del numeral 1.6. Mientras esté pendiente la subsanación del requisito, y en caso de que este no se subsane, la entidad tendrá en cuenta para la evaluación los seis (6) contratos aportados de mayor valor. | B10: Número consecutivo del reporte de los contratos ejecutados en el RUP #50 Ingeniería y Señales SAS y RUP # 001 RIOT Ingeniería SAS. | C10: SI
A11: C. El proponente podrá acreditar la experiencia con mínimo uno (1) y máximo seis (6) contratos los cuales serán evaluados teniendo en cuenta la tabla incluida en el numeral 3.5.8. del pliego de condiciones, así como el contenido establecido en la Matriz 1 – Experiencia. | B11: Acredita la experiencia con 2 contrato certificando mas del 75% del presupuesto oficial, acreditando 1303,69 SMMLV | C11: SI
A12: D. Deben haber terminado antes de la fecha de cierre del presente proceso de contratación. | B12: finalizacion de los contratos aportados para acreditar la experiencia: contrato # 2413 DEL 21 DE JULIO DE 2015 finalizo 3/11/2017 contrato # ASEIC-ADM- 2019-038 finalizo 26/12/2019 | C12: SI
A13: E. Para los contratos que sean aportados por socios de empresas que no cuentan con más de tres (3) años de constituidas, además del RUP, deben adjuntar un documento suscrito por el representante legal y el revisor fiscal o contador público (según corresponda) donde se indique la conformación de la empresa. La entidad tendrá en cuenta la experiencia individual de los accionistas, socios o constituyentes de las sociedades con menos de tres (3) años de constituidas. Pasado este tiempo, la sociedad conservará esta experiencia, tal y como haya quedado registrada en el RUP. | C13: N/A
A14: F. La experiencia a la que se refiere este numeral podrá ser validada mediante los documentos establecidos en el pliego de condiciones señalados en el numeral 3.5.6 | B14: Aporta para los dos contratos lo siguiente: contrato #2413 DEL 21 DE JULIO DE 2015: Certificado Final de Cumplimiento firmada Miguel Eduardo Saavedra Parra - Profesional U. Supervisor - ALcaldia Municipal de Ibague contrato #ASEIC-ADM- 2019-038: Certificacion firmada por Nestor Orlando Villamil Torres - Director Administrativo y Financiero ASEIC SAS En estos documentos se puede validar datos de los contratos aportado. | C14: SI
A15: G. Para proyectos de infraestructura vial que se hayan realizado fuera del territorio nacional, se consideran ―Carreteras primarias‖ aquellas que sean certificadas por la entidad contratante mediante alguno de los documentos válidos establecidos en el numeral 3.5.6 del pliego de condiciones, siempre que se indique que el ancho de calzada es mayor o igual a siete (7.0) metros, y/o que se acrediten tres o más carriles vehiculares por calzada. | C15: N/A
A16: 3.5.3. CONSIDERACIONES PARA LA VALIDEZ DE LA EXPERIENCIA REQUERIDA
A17: La Entidad tendrá en cuenta los siguientes aspectos para analizar la experiencia acreditada y que la misma sea válida como experiencia requerida:
A18: A. En el Clasificador de Bienes y Servicios, el segmento correspondiente para la clasificación de la experiencia es el segmento 72. | B18: al verificar en el RUP dichos contratos se identifica el codigo 721515 | C18: SI
A19: B. La Entidad contratante únicamente podrá exigir para la verificación de la experiencia los contratos celebrados por el interesado, identificados con el Clasificador de Bienes y Servicios hasta el tercer nivel. | B19: 721515 | C19: SI
A20: C. Si el Proponente relaciona o anexa más de seis (6) contratos en el Formato 3 – Experiencia, para efectos de evaluación de la experiencia se tendrá en cuenta máximo los seis (6) contratos aportados de mayor valor. | C20: N/A
A21: D.Tratándose de proponentes plurales se tendrá en cuenta lo siguiente: i) uno de los integrantes debe aportar como mínimo el cincuenta por ciento (50 %) de la experiencia mínima exigida; ii) los demás integrantes deben acreditar al menos el cinco por ciento (5 %) de la experiencia mínima exigida; y iii) sin perjuicio de lo anterior, solo uno (1) de los integrantes, si así lo considera pertinente, podrá no acreditar experiencia. En este último caso, el porcentaje de participación del integrante que no aporta experiencia en la estructura plural no podrá superar el cinco por ciento (5 %). Estos porcentajes de experiencia mínima que cumplirán los integrantes del proponente plural, bastará acreditarlos con contratos que cumplan con el requisito de experiencia general exigida en el pliego de condiciones y se calcularán sobre el “valor mínimo a certificar (como % del Presupuesto Oficial de obra expresado en SMMLV)” de conformidad con el numeral 3.5.8. Independientemente de el o los integrantes del proponente plural que aporten contratos para acreditar la experiencia, estos se tendrán en cuenta para calcular el "Número de contratos con los cuales el Proponente cumple la experiencia acreditada" de que trata el numeral 3.5.8. | B21: El consorcio cumple con esta condicion RIOT INGENIERÍA SAS tiene un compromiso en el consorcio del 70% aportanto mas del 50% de la experiencia expresada en SMMLV e INGENIERÍA Y SEÑALES SAS tiene un compromiso en el consorcio del 30% aportando el resto de experiencia | C21: SI
A22: E. Cuando el contrato que se pretende acreditar como experiencia haya sido ejecutado en Consorcio o Unión Temporal, el porcentaje de participación del integrante será el registrado en el RUP de este o en alguno de los documentos válidos para la acreditación de experiencia en caso de que el integrante no esté obligado a tener RUP. | B22: Los dos aportan el 100% del contrato aportado por cada integrante del consorcio | C22: SI
A23: F. Cuando el contrato que se pretende acreditar como experiencia haya sido ejecutado en Consorcio o Unión Temporal, el valor a considerar será el registrado en el RUP o documento válido en caso de que el integrante no esté obligado a RUP, para la acreditación de experiencia multiplicada por el porcentaje de participación que tuvo el integrante o los integrantes. | B23: RIOT INGENIERÍA SAS 226,04 SMMLV e INGENIERÍA Y SEÑALES SAS 1077,65 SMMLV | C23: SI
A24: H. Cuando el contrato que se aporte para la experiencia haya sido ejecutado por un Consorcio o Unión Temporal, y dos (2) o más de sus integrantes conformen un Proponente Plural para participar en el presente Proceso, dicho contrato se entenderá aportado como un (1) solo contrato y se tendrá en cuenta para el aporte de la experiencia la sumatoria de los porcentajes de los integrantes del Consorcio o Unión Temporal que ejecutaron el contrato y que están participando en el presente Proceso. | C24: N/A
A25: I. Para el caso de los proyectos de concesiones viales, únicamente se tendrá en cuenta la etapa constructiva y/o de intervención de la obra de infraestructura de transporte, lo cual deberá demostrarse con los documentos soporte de la experiencia. En consecuencia, no será válida la experiencia obtenida en la etapa de operación, administración y/o mantenimiento de la infraestructura concesionada. | C25: N/A
A26: 3.5.4. CLASIFICACIÓN DE LA EXPERIENCIA EN EL “CLASIFICADOR DE BIENES, OBRAS Y SERVICIOS DE LAS NACIONES UNIDAS”
A27: Los contratos aportados para efectos de acreditación de la experiencia requerida deben estar clasificados en alguno de los siguientes códigos:
A28: Segmentos. Nombre
A29: 72 10 15. SERVICIO DE APOYO PARA LA CONSTRUCCIÓN | B29: 721515 | C29: SI
A30: 72 15 15 SERVICIOS DE SISTEMAS ELECTRICOS
A31: 3.5.5. ACREDITACIÓN DE LA EXPERIENCIA REQUERIDA
A32: Los proponentes acreditarán para cada uno de los contratos aportados la siguiente información mediante alguno de los documentos señalados en la sección 3.5.6. del Pliego de Condiciones:
A33: A. Contratante | B33: contrato # 2413 DEL 21 DE JULIO DE 2015 - Alcaldía Municipal de Ibague contrato # ASEIC-ADM- 2019-038 - ASEIC SAS | C33: SI
A34: B. Objeto del contrato | B34: 1) Contrato # 2413 DEL 21 DE JULIO DE 2015; RUP #50: CONTRATAR LA MODERNIZACION DE LA RED SEMAFORICA DEL MUNICIPIO DE IBAGUE TOLIA, EN EJECUCION DEL PROYECTO DENOMINADO - IMPLEMENTACION DE ACCIONES EN MATERIA DE SEGURIDAD VIAL EN EL MUNICIPIO DE IBAGUE - TOLIMA. 2) ASEIC-ADM- 2019-038; RUP # 001 "SUMINISTRO E INSTALACION DE LOS ELEMENTOS NECESARIOS PARA REGULAR CON SEMAFOROS DOS INTERSECCIONES EN LA CALLE 77 SUR, PARA LA MODERNIZACION DE LA RED SEMAFORICA Y MANTENIMIENTO DE LA RED EXISTENTE EN EL MUNICIPIO DE SABANETA" | C34: SI
A35: C. Principales actividades ejecutadas | B35: Aporta para los dos contratos lo siguiente: contrato #2413 DEL 21 DE JULIO DE 2015: Certificado Final de Cumplimiento firmada Miguel Eduardo Saavedra Parra - Profesional U. Supervisor - ALcaldia Municipal de Ibague contrato #ASEIC-ADM- 2019-038: Certificacion firmada por Nestor Orlando Villamil Torres - Director Administrativo y Financiero ASEIC SAS Donde se encuentran las principales actividades ejecutadas | C35: SI
A36: D. Las longitudes, volúmenes, dimensiones, tipologías y demás condiciones de experiencia establecidas en la Matriz 1 – Experiencia, si aplica. | C36: N/A
A37: E. La fecha de iniciación de la ejecución del contrato: Esta fecha es diferente a la de suscripción del contrato, a menos que de los documentos del numeral 3.5.6 de forma expresa así se determine. Si en los documentos válidos aportados para la acreditación de experiencia solo se evidencia fecha (mes, año) de suscripción y/o inicio del contrato: se tendrá en cuenta el último día del mes que se encuentre señalado en la certificación | B37: Inicio de los contratos aportados para acreditar la experiencia: contrato # 2413 DEL 21 DE JULIO DE 2015 inicio 18/08/2015 contrato # ASEIC-ADM- 2019-038 inicio 16/09/2019 | C37: SI
A38: F. La fecha de terminación de la ejecución del contrato: Esta fecha de terminación no es la fecha de entrega y/o recibo final, liquidación, o acta final, salvo que de los documentos del numeral 3.5.6 de forma expresa así se determine. Si en los documentos válidos aportados para la acreditación de experiencia solo se evidencia fecha (mes, año) de terminación del contrato: se tendrá en cuenta el primer día del mes que se encuentre señalado en la certificación | B38: finalizacion de los contratos aportados para acreditar la experiencia: contrato # 2413 DEL 21 DE JULIO DE 2015 finalizo 3/11/2017 contrato # ASEIC-ADM- 2019-038 finalizo 26/12/2019 | C38: SI
A39: G. Nombre y cargo de la persona que expide la certificación. | B39: contrato #2413 DEL 21 DE JULIO DE 2015: Certificado Final de Cumplimiento firmada Miguel Eduardo Saavedra Parra - Profesional U. Supervisor - ALcaldia Municipal de Ibague contrato #ASEIC-ADM- 2019-038: Certificacion firmada por Nestor Orlando Villamil Torres - Director Administrativo y Financiero ASEIC SAS | C39: SI
A40: H. El porcentaje de participación del integrante del contratista plural. | B40: RIOT INGENIERÍA SAS tiene un compromiso en el consorcio del 70% INGENIERÍA Y SEÑALES SAS tiene un compromiso en el consorcio del 30% | C40: SI
A41: I. El porcentaje de participación en el valor ejecutado en el caso de contratistas plurales. | B41: RIOT INGENIERÍA SAS tiene un compromiso en el consorcio del 70% aportanto 226,04 SMMLV INGENIERÍA Y SEÑALES SAS tiene un compromiso en el consorcio del 30% aportando 1077,65 SMMLV | C41: SI
A42: 3.5.6. DOCUMENTOS VÁLIDOS PARA LA ACREDITACIÓN DE LA EXPERIENCIA REQUERIDA
A43: En aquellos casos en que por las características del objeto a contratar se requiera verificar información adicional a la contenida en el RUP, el proponente podrá aportar uno o algunos de los documentos que se establecen a continuación para que la Entidad realice la verificación en forma directa. Los mismos deberán estar debidamente diligenciados y suscritos por el contratante, el contratista o el interventor, según corresponda. En caso de existir discrepancias entre dos (2) o más documentos aportados por el proponente para la acreditación de experiencia, se tendrá en cuenta el orden de prevalencia establecido a continuación:
A44: A. Acta de liquidación | C44: N/A
A45: B. Acta de entrega, terminación, final o de recibo definitivo. | C45: N/A
A46: C. Certificación de experiencia. Expedida con posterioridad a la fecha de terminación del contrato en la que conste el recibo a satisfacción de la obra contratada debidamente suscrita por quien esté en capacidad u obligación de hacerlo. | B46: contrato #2413 DEL 21 DE JULIO DE 2015: Certificado Final de Cumplimiento firmada Miguel Eduardo Saavedra Parra - Profesional U. Supervisor - ALcaldia Municipal de Ibague contrato #ASEIC-ADM- 2019-038: Certificacion firmada por Nestor Orlando Villamil Torres - Director Administrativo y Financiero ASEIC SAS | C46: SI
A47: D. Acta de inicio o la orden de inicio. La misma sólo será válida para efectos de acreditar la fecha de inicio. | C47: N/A
A48: E. Para los contratos que hayan sido objeto de cesión, el contrato deberá encontrarse debidamente inscrito y clasificado en el RUP o en uno o alguno de los documentos considerados como válidos para la acreditación de experiencia de la empresa cesionaria, según aplique. La experiencia se admitirá para el cesionario y no se reconocerá experiencia alguna al cedente. | C48: N/A
A49: Para efectos de acreditación de experiencia entre particulares, el proponente deberá aportar adicionalmente alguno de los documentos que se describen a continuación: A. Certificación de facturación expedida con posterioridad a la fecha de terminación del contrato emitida por el revisor fiscal o contador público del proponente que acredita la experiencia, según corresponda, con la copia de la tarjeta profesional y certificado de antecedente disciplinarios vigente, expedido por la Junta Central de Contadores, o los documentos equivalentes que hagan sus veces en el país donde se expide el documento del profesional. | C49: N/A
A50: 3.5.7. PARA SUBCONTRATOS
A51: Para la acreditación de experiencia de subcontratos, cuyo contrato principal fue suscrito con particulares se aplicarán las disposiciones establecidas en el numeral anterior. | C51: N/A
A52: Para la acreditación de experiencia de los contratos derivados de contratos suscritos con entidades estatales el proponente deberá aportar los documentos que se describen a continuación:
A53: A. Certificación del subcontrato. Certificación expedida con posterioridad a la fecha de terminación del subcontrato, la cual debe estar suscrita por el representante legal del contratista, del concesionario, o del EPC o consorcio constructor. Así mismo, debe contener la información requerida en el presente pliego de condiciones para efectos de acreditación de la experiencia. | C53: N/A
A54: B. Certificación expedida por la entidad estatal del contrato principal del cual se derivó el subcontrato. Dicha certificación debe contener la información requerida para acreditar experiencia y la siguiente: | C54: N/A
A55: I. Alcance de las obras ejecutadas en el contrato, en las que se pueda evidenciar las obras subcontratadas que pretendan ser acreditadas para efectos de validación de experiencia, en el presente proceso de selección. | C55: N/A
A56: II. Autorización de la entidad estatal a cargo de la infraestructura por medio de la cual se autoriza el subcontrato. En caso de que no requiera autorización, el proponente podrá aportar con su propuesta alguno de los siguientes documentos que den cuenta de esa circunstancia: (i) copia del contrato o (ii) certificación emitida por la entidad concedente, donde acredite que para subcontratar no se requería autorización. | C56: N/A
A57: Para los subcontratos, las actividades subcontratadas solo serán válidas para el subcontratista cuando ambos se presenten de manera separada al proceso de contratación; es decir, dichas actividades no serán tenidas en cuenta para efectos de acreditación de experiencia del contratista directo. | C57: N/A
A58: En todo caso, la experiencia será válida para quien efectivamente haya ejecutado las actividades exigidas. | C58: N/A
A59: Los proponentes deberán advertir a la entidad cuando en otros procesos, el contratista original haya certificado que, dentro de su contrato, se llevó a cabo la subcontratación, por cuanto tales actividades no serán tenidas en cuenta para efectos de acreditación de experiencia del contratista original. Para tal fin, deberán informar a la entidad, mediante comunicación escrita, indicando el proceso en el cual el contratista certificó la respectiva subcontratación. | C59: N/A
A60: La obligación de informar las situaciones de subcontratación estará en cabeza de los proponentes y de ninguna manera dicha obligación será de la entidad. En aquellos casos en los que el proponente no advierta tal situación, la entidad no tendrá responsabilidad alguna por cuanto no fue advertida. En ese caso, el contrato de concesión se contabilizará como un todo y no se tendrá en cuenta lo relacionado con la subcontratación. | C60: N/A
A61: 3.5.1. RELACIÓN DE LOS CONTRATOS FRENTE AL PRESUPUESTO OFICIAL
A62: La verificación del número de contratos para acreditar la experiencia se realiza de la siguiente manera:
A63: Número de contratos con los cuales el Proponente cumple la experiencia acreditada. Valor mínimo a certificar (como % del Presupuesto Oficial de obra expresado en SMMLV)
A64: De 1 hasta 2 75% | B64: RIOT INGENIERÍA SAS 226,04 SMMLV e INGENIERÍA Y SEÑALES SAS ACREDITAN 1077,65 SMMLV MAS DEL 75% DEL PRESUPUESTO OFICIAL EXPESADO EN SMMLV | C64: SI
A65: De 3 hasta 4. 120%
A66: De 5 hasta 6. 150%
A67: La verificación se hará con base en la sumatoria de los valores totales ejecutados (incluido IVA) en SMMLV de los contratos que cumplan con los requisitos establecidos en este pliego de condiciones.
A68: El proponente cumple el requisito de experiencia si la sumatoria de los valores totales ejecutados (incluido IVA) de los contratos expresados en SMMLV es mayor o igual al valor mínimo a certificar establecido en la tabla anterior.
A69: En caso de que el número de contratos con los cuales el proponente acredita la experiencia no satisfaga el porcentaje mínimo a certificar establecido en la tabla anterior, se calificará la propuesta como no hábil y el Proponente podrá subsanarla en los términos establecidos en la sección 1.6.
C70: HABILITADO
A74: FACTOR DE CALIDAD | C74: PUNTOS
A75: PRESENTACIÓN DE UN PLAN DE CALIDAD (10 PUNTOS) | B75: La entidad asignará 10 puntos al Proponente que se comprometa a presentar un Plan de Calidad específico para el proyecto, elaborado conforme a los parámetros establecidos en la última actualización de las normas NTC ISO 9001:2015 y NTC ISO 10005:2018 mediante la suscripción del Formato 7C - Plan de calidad | C75: 10
A76: GARANTÍA SUPLEMENTARIA O ADICIONAL (10 PUNTOS) | B76: La entidad asignará 10 puntos al proponente que se comprometa a otorgar garantías suplementarias o adicionales a la legal establecida para la estabilidad y calidad de la obra, mediante la suscripción del Formato 7D - Garantía Suplementaria o Adicional, en el cual bajo la gravedad de juramento conste el compromiso que asume. | C76: 10
B77: total | C77: =SUM(C75:C76) -> 20

Sheet P_6
A1: =GENERAL!C1 -> MUNICIPIO DE PALMIRA SELECCIÓN ABREVIADA DE MENOR CUANTÍA DE INFRAESTRUCTURA DE TRANSPORTE No. MP-STT-SA-OP- 066-2022 OBJETO: “ADECUACIÓN, MODERNIZACIÓN, MEJORAMIENTO Y OBRAS COMPLEMENTARIAS DE LA RED SEMAFÓRICA DEL MUNICIPIO DE PALMIRA"􏰃
A2: EVALUACIÓN TÉCNICA VERIFICACIÓN DE REQUISITOS HABILITANTES Y PONDERABLES
A3: =GENERAL!C65 -> 5K CONSULTING GROUP S.A.S
A4: PROPUESTA No 6
A5: CONDICIÓN | B5: =A3 -> 5K CONSULTING GROUP S.A.S
B6: OBSERVACIONES | C6: CUMPLE SI / NO
A7: REQUISITOS HABILITANTES
A8: EXPERIENCIA - Anexo 3
A9: A. Que hayan contenido la ejecución de: 6.12 PROYECTOS DE CONSTRUCCIÓN Y/O EXPANSIÓN Y/O MANTENIMIENTO Y/O MEJORAMIENTO Y/O OPTIMIZACIÓN Y/O ADECUACIÓN DE OBRAS CIVILES PARA SISTEMAS DE SEMAFORIZACIÓN (VEHICULAR Y/O PEATONAL) GENERAL :  Construcción o Mantenimiento de Obras Civiles para Intersecciones Semaforizadas.  Intervención del espacio público para la construcción de infraestructura soporte de redes de energía y/o telecomunicaciones en zonas urbanas.  Construcción y/o mantenimiento de andenes en la construcción de canalizaciones para redes de servicios públicos.  Construcción y/o mantenimiento de andenes en proyectos de obras civiles en espacio público. Experiencia Específica cuando:  Por lo menos uno (1) de los contratos válidos aportados como experiencia general debe acreditar la Construcción o Mantenimiento de Obras Civiles para Intersecciones Semaforizadas.  Por lo menos uno (1) de los contratos válidos aportados como experiencia general debe acreditar en el componente de semaforización un valor igual o superior al 40% del Componente de Semaforización del Presupuesto Oficial estimado de contratación. | B9: 1) Contrato # 969 de 2020: Contrato de obra para realizar el mantenimiento preventivo y correctivo de la red de semaforizacion vial adscrita a la secretaria de movilidad de NEIVA 2) Contrato # 101 de 2019: Suministro, instalacion y puesta en funcionamiento del mobiliario semaforico para el corredor del TRAMO 2A del proyecto de METROPLUS en el municipio de ENVIGADO. El contrato aportado para acreditar la experiencia cumple con lo señalado en el Documento Base y la Matriz 1 - Experiencia. | C9: SI
A10: B. Estar relacionados en el Formato 3 – Experiencia con el número consecutivo del contrato en el RUP. Los proponentes plurales deben indicar qué integrante aporta cada uno de los contratos señalados en el Formato 3 – Experiencia. Este documento debe presentarlo el proponente plural y no cada integrante. El hecho de que el proponente no aporte el ―Formato 3 - Experiencia‖ en ningún caso será motivo para rechazar la oferta. La subsanación de este requisito podrá realizarse en los términos del numeral 1.6. Mientras esté pendiente la subsanación del requisito, y en caso de que este no se subsane, la entidad tendrá en cuenta para la evaluación los seis (6) contratos aportados de mayor valor. | B10: Número consecutivo del reporte de los contratos ejecutados en el RUP # 6, 1 | C10: SI
A11: C. El proponente podrá acreditar la experiencia con mínimo uno (1) y máximo seis (6) contratos los cuales serán evaluados teniendo en cuenta la tabla incluida en el numeral 3.5.8. del pliego de condiciones, así como el contenido establecido en la Matriz 1 – Experiencia. | B11: Acredita la experiencia con 2 contrato certificando mas del 75% del presupuesto oficial, acreditando 743,05 SMMLV | C11: SI
A12: D. Deben haber terminado antes de la fecha de cierre del presente proceso de contratación. | B12: finalizacion de los contratos aportados para acreditar la experiencia: Contrato # 969 de 2020; RUP # 6 finalizo 22 de Diciembr e de 2021 Contrato # 101 de 2019; RUP # 1 finalizo 16 de Febrero de 2020 | C12: SI
A13: E. Para los contratos que sean aportados por socios de empresas que no cuentan con más de tres (3) años de constituidas, además del RUP, deben adjuntar un documento suscrito por el representante legal y el revisor fiscal o contador público (según corresponda) donde se indique la conformación de la empresa. La entidad tendrá en cuenta la experiencia individual de los accionistas, socios o constituyentes de las sociedades con menos de tres (3) años de constituidas. Pasado este tiempo, la sociedad conservará esta experiencia, tal y como haya quedado registrada en el RUP. | C13: N/A
A14: F. La experiencia a la que se refiere este numeral podrá ser validada mediante los documentos establecidos en el pliego de condiciones señalados en el numeral 3.5.6 | B14: Aporta para los contratos lo siguiente: Contrato # 969 de 2020 Certificación firmada por Alexander Sanchez Hernandez - Secretario de Movilidad de Neiva Contrato # 101 de 2019 Acta de Terminacion firmada por Liliana Mejia Ramirez - Directora de Infraestructura METROPLUS S.A. En este documento se puede validar datos del contrato aportado. | C14: SI
A15: G. Para proyectos de infraestructura vial que se hayan realizado fuera del territorio nacional, se consideran ―Carreteras primarias‖ aquellas que sean certificadas por la entidad contratante mediante alguno de los documentos válidos establecidos en el numeral 3.5.6 del pliego de condiciones, siempre que se indique que el ancho de calzada es mayor o igual a siete (7.0) metros, y/o que se acrediten tres o más carriles vehiculares por calzada. | C15: N/A
A16: 3.5.3. CONSIDERACIONES PARA LA VALIDEZ DE LA EXPERIENCIA REQUERIDA
A17: La Entidad tendrá en cuenta los siguientes aspectos para analizar la experiencia acreditada y que la misma sea válida como experiencia requerida:
A18: A. En el Clasificador de Bienes y Servicios, el segmento correspondiente para la clasificación de la experiencia es el segmento 72. | B18: Al verificar en el RUP dichos contratos se identifica el codigo 721015 Y 721515 | C18: SI
A19: B. La Entidad contratante únicamente podrá exigir para la verificación de la experiencia los contratos celebrados por el interesado, identificados con el Clasificador de Bienes y Servicios hasta el tercer nivel. | B19: 721515, 721015 | C19: SI
A20: C. Si el Proponente relaciona o anexa más de seis (6) contratos en el Formato 3 – Experiencia, para efectos de evaluación de la experiencia se tendrá en cuenta máximo los seis (6) contratos aportados de mayor valor. | C20: N/A
A21: D.Tratándose de proponentes plurales se tendrá en cuenta lo siguiente: i) uno de los integrantes debe aportar como mínimo el cincuenta por ciento (50 %) de la experiencia mínima exigida; ii) los demás integrantes deben acreditar al menos el cinco por ciento (5 %) de la experiencia mínima exigida; y iii) sin perjuicio de lo anterior, solo uno (1) de los integrantes, si así lo considera pertinente, podrá no acreditar experiencia. En este último caso, el porcentaje de participación del integrante que no aporta experiencia en la estructura plural no podrá superar el cinco por ciento (5 %). Estos porcentajes de experiencia mínima que cumplirán los integrantes del proponente plural, bastará acreditarlos con contratos que cumplan con el requisito de experiencia general exigida en el pliego de condiciones y se calcularán sobre el “valor mínimo a certificar (como % del Presupuesto Oficial de obra expresado en SMMLV)” de conformidad con el numeral 3.5.8. Independientemente de el o los integrantes del proponente plural que aporten contratos para acreditar la experiencia, estos se tendrán en cuenta para calcular el "Número de contratos con los cuales el Proponente cumple la experiencia acreditada" de que trata el numeral 3.5.8. | C21: N/A
A22: E. Cuando el contrato que se pretende acreditar como experiencia haya sido ejecutado en Consorcio o Unión Temporal, el porcentaje de participación del integrante será el registrado en el RUP de este o en alguno de los documentos válidos para la acreditación de experiencia en caso de que el integrante no esté obligado a tener RUP. | B22: Contrato # 969 de 2020 fue ejecutado como UT su porsentaje de participacion fue del 30% equivalente a 374,45 SMMLV Contrato # 101 de 2019 fue ejecutado como UT su porsentaje de participacion fue del 30% equivalente a 368,60 SMMLV | C22: SI
A23: F. Cuando el contrato que se pretende acreditar como experiencia haya sido ejecutado en Consorcio o Unión Temporal, el valor a considerar será el registrado en el RUP o documento válido en caso de que el integrante no esté obligado a RUP, para la acreditación de experiencia multiplicada por el porcentaje de participación que tuvo el integrante o los integrantes. | B23: Contrato # 969 de 2020 fue ejecutado como UT su porsentaje de participacion fue del 30% equivalente a 374,45 SMMLV Contrato # 101 de 2019 fue ejecutado como UT su porsentaje de participacion fue del 30% equivalente a 368,60 SMMLV | C23: SI
A24: H. Cuando el contrato que se aporte para la experiencia haya sido ejecutado por un Consorcio o Unión Temporal, y dos (2) o más de sus integrantes conformen un Proponente Plural para participar en el presente Proceso, dicho contrato se entenderá aportado como un (1) solo contrato y se tendrá en cuenta para el aporte de la experiencia la sumatoria de los porcentajes de los integrantes del Consorcio o Unión Temporal que ejecutaron el contrato y que están participando en el presente Proceso. | C24: N/A
A25: I. Para el caso de los proyectos de concesiones viales, únicamente se tendrá en cuenta la etapa constructiva y/o de intervención de la obra de infraestructura de transporte, lo cual deberá demostrarse con los documentos soporte de la experiencia. En consecuencia, no será válida la experiencia obtenida en la etapa de operación, administración y/o mantenimiento de la infraestructura concesionada. | C25: N/A
A26: 3.5.4. CLASIFICACIÓN DE LA EXPERIENCIA EN EL “CLASIFICADOR DE BIENES, OBRAS Y SERVICIOS DE LAS NACIONES UNIDAS”
A27: Los contratos aportados para efectos de acreditación de la experiencia requerida deben estar clasificados en alguno de los siguientes códigos:
A28: Segmentos. Nombre
A29: 72 10 15. SERVICIO DE APOYO PARA LA CONSTRUCCIÓN | B29: 721015 y 721515 | C29: SI
A30: 72 15 15 SERVICIOS DE SISTEMAS ELECTRICOS
A31: 3.5.5. ACREDITACIÓN DE LA EXPERIENCIA REQUERIDA
A32: Los proponentes acreditarán para cada uno de los contratos aportados la siguiente información mediante alguno de los documentos señalados en la sección 3.5.6. del Pliego de Condiciones:
A33: A. Contratante | B33: Contrato # 969 de 2020 Municipio de Neiva Contrato # 101 de 2019 ra METROPLUS S.A. | C33: SI
A34: B. Objeto del contrato | B34: 1) Contrato # 969 de 2020: Contrato de obra para realizar el mantenimiento preventivo y correctivo de la red de semaforizacion vial adscrita a la secretaria de movilidad de NEIVA 2) Contrato # 101 de 2019: Suministro, instalacion y puesta en funcionamiento del mobiliario semaforico para el corredor del TRAMO 2A del proyecto de METROPLUS en el municipio de ENVIGADO. | C34: SI
A35: C. Principales actividades ejecutadas | B35: Aporta para los contratos lo siguiente: Contrato # 969 de 2020 Certificación firmada por Alexander Sanchez Hernandez - Secretario de Movilidad de Neiva Contrato # 101 de 2019 Acta de Terminacion firmada por Liliana Mejia Ramirez - Directora de Infraestructura METROPLUS S.A. Donde se encuentran las principales actividades ejecutadas | C35: SI
A36: D. Las longitudes, volúmenes, dimensiones, tipologías y demás condiciones de experiencia establecidas en la Matriz 1 – Experiencia, si aplica. | C36: N/A
A37: E. La fecha de iniciación de la ejecución del contrato: Esta fecha es diferente a la de suscripción del contrato, a menos que de los documentos del numeral 3.5.6 de forma expresa así se determine. Si en los documentos válidos aportados para la acreditación de experiencia solo se evidencia fecha (mes, año) de suscripción y/o inicio del contrato: se tendrá en cuenta el último día del mes que se encuentre señalado en la certificación | B37: Inicio del contrato aportado para acreditar la experiencia: Contrato # 969 de 2020; RUP # 6 inicio 07 de abril del 2021 Contrato # 101 de 2019; RUP # 1 inicio 13 de Agosto de 2019 | C37: SI
A38: F. La fecha de terminación de la ejecución del contrato: Esta fecha de terminación no es la fecha de entrega y/o recibo final, liquidación, o acta final, salvo que de los documentos del numeral 3.5.6 de forma expresa así se determine. Si en los documentos válidos aportados para la acreditación de experiencia solo se evidencia fecha (mes, año) de terminación del contrato: se tendrá en cuenta el primer día del mes que se encuentre señalado en la certificación | B38: finalizacion de lo contrato aportado para acreditar la experiencia: Contrato # 969 de 2020; RUP # 6 finalizo 22 de Diciembr e de 2021 Contrato # 101 de 2019; RUP # 1 finalizo 16 de Febrero de 2020 | C38: SI
A39: G. Nombre y cargo de la persona que expide la certificación. | B39: Contrato # 969 de 2020 Certificación firmada por Alexander Sanchez Hernandez - Secretario de Movilidad de Neiva Contrato # 101 de 2019 Acta de Terminacion firmada por Liliana Mejia Ramirez - Directora de Infraestructura METROPLUS S.A. | C39: SI
A40: H. El porcentaje de participación del integrante del contratista plural. | C40: N/A
A41: I. El porcentaje de participación en el valor ejecutado en el caso de contratistas plurales. | C41: N/A
A42: 3.5.6. DOCUMENTOS VÁLIDOS PARA LA ACREDITACIÓN DE LA EXPERIENCIA REQUERIDA
A43: En aquellos casos en que por las características del objeto a contratar se requiera verificar información adicional a la contenida en el RUP, el proponente podrá aportar uno o algunos de los documentos que se establecen a continuación para que la Entidad realice la verificación en forma directa. Los mismos deberán estar debidamente diligenciados y suscritos por el contratante, el contratista o el interventor, según corresponda. En caso de existir discrepancias entre dos (2) o más documentos aportados por el proponente para la acreditación de experiencia, se tendrá en cuenta el orden de prevalencia establecido a continuación:
A44: A. Acta de liquidación | C44: N/A
A45: B. Acta de entrega, terminación, final o de recibo definitivo. | B45: Contrato # 101 de 2019 Acta de Terminacion firmada por Liliana Mejia Ramirez - Directora de Infraestructura METROPLUS S.A. | C45: SI
A46: C. Certificación de experiencia. Expedida con posterioridad a la fecha de terminación del contrato en la que conste el recibo a satisfacción de la obra contratada debidamente suscrita por quien esté en capacidad u obligación de hacerlo. | B46: Contrato # 969 de 2020 Certificación firmada por Alexander Sanchez Hernandez - Secretario de Movilidad de Neiva | C46: SI
A47: D. Acta de inicio o la orden de inicio. La misma sólo será válida para efectos de acreditar la fecha de inicio. | C47: N/A
A48: E. Para los contratos que hayan sido objeto de cesión, el contrato deberá encontrarse debidamente inscrito y clasificado en el RUP o en uno o alguno de los documentos considerados como válidos para la acreditación de experiencia de la empresa cesionaria, según aplique. La experiencia se admitirá para el cesionario y no se reconocerá experiencia alguna al cedente. | C48: N/A
A49: Para efectos de acreditación de experiencia entre particulares, el proponente deberá aportar adicionalmente alguno de los documentos que se describen a continuación: A. Certificación de facturación expedida con posterioridad a la fecha de terminación del contrato emitida por el revisor fiscal o contador público del proponente que acredita la experiencia, según corresponda, con la copia de la tarjeta profesional y certificado de antecedente disciplinarios vigente, expedido por la Junta Central de Contadores, o los documentos equivalentes que hagan sus veces en el país donde se expide el documento del profesional. | C49: N/A
A50: 3.5.7. PARA SUBCONTRATOS
A51: Para la acreditación de experiencia de subcontratos, cuyo contrato principal fue suscrito con particulares se aplicarán las disposiciones establecidas en el numeral anterior. | C51: N/A
A52: Para la acreditación de experiencia de los contratos derivados de contratos suscritos con entidades estatales el proponente deberá aportar los documentos que se describen a continuación:
A53: A. Certificación del subcontrato. Certificación expedida con posterioridad a la fecha de terminación del subcontrato, la cual debe estar suscrita por el representante legal del contratista, del concesionario, o del EPC o consorcio constructor. Así mismo, debe contener la información requerida en el presente pliego de condiciones para efectos de acreditación de la experiencia. | C53: N/A
A54: B. Certificación expedida por la entidad estatal del contrato principal del cual se derivó el subcontrato. Dicha certificación debe contener la información requerida para acreditar experiencia y la siguiente: | C54: N/A
A55: I. Alcance de las obras ejecutadas en el contrato, en las que se pueda evidenciar las obras subcontratadas que pretendan ser acreditadas para efectos de validación de experiencia, en el presente proceso de selección. | C55: N/A
A56: II. Autorización de la entidad estatal a cargo de la infraestructura por medio de la cual se autoriza el subcontrato. En caso de que no requiera autorización, el proponente podrá aportar con su propuesta alguno de los siguientes documentos que den cuenta de esa circunstancia: (i) copia del contrato o (ii) certificación emitida por la entidad concedente, donde acredite que para subcontratar no se requería autorización. | C56: N/A
A57: Para los subcontratos, las actividades subcontratadas solo serán válidas para el subcontratista cuando ambos se presenten de manera separada al proceso de contratación; es decir, dichas actividades no serán tenidas en cuenta para efectos de acreditación de experiencia del contratista directo. | C57: N/A
A58: En todo caso, la experiencia será válida para quien efectivamente haya ejecutado las actividades exigidas. | C58: N/A
A59: Los proponentes deberán advertir a la entidad cuando en otros procesos, el contratista original haya certificado que, dentro de su contrato, se llevó a cabo la subcontratación, por cuanto tales actividades no serán tenidas en cuenta para efectos de acreditación de experiencia del contratista original. Para tal fin, deberán informar a la entidad, mediante comunicación escrita, indicando el proceso en el cual el contratista certificó la respectiva subcontratación. | C59: N/A
A60: La obligación de informar las situaciones de subcontratación estará en cabeza de los proponentes y de ninguna manera dicha obligación será de la entidad. En aquellos casos en los que el proponente no advierta tal situación, la entidad no tendrá responsabilidad alguna por cuanto no fue advertida. En ese caso, el contrato de concesión se contabilizará como un todo y no se tendrá en cuenta lo relacionado con la subcontratación. | C60: N/A
A61: 3.5.1. RELACIÓN DE LOS CONTRATOS FRENTE AL PRESUPUESTO OFICIAL
A62: La verificación del número de contratos para acreditar la experiencia se realiza de la siguiente manera:
A63: Número de contratos con los cuales el Proponente cumple la experiencia acreditada. Valor mínimo a certificar (como % del Presupuesto Oficial de obra expresado en SMMLV)
A64: De 1 hasta 2 75% | B64: Acredita la experiencia con 2 contrato certificando mas del 75% del presupuesto oficial, acreditando 743,05 SMMLV | C64: SI
A65: De 3 hasta 4. 120%
A66: De 5 hasta 6. 150%
A67: La verificación se hará con base en la sumatoria de los valores totales ejecutados (incluido IVA) en SMMLV de los contratos que cumplan con los requisitos establecidos en este pliego de condiciones.
A68: El proponente cumple el requisito de experiencia si la sumatoria de los valores totales ejecutados (incluido IVA) de los contratos expresados en SMMLV es mayor o igual al valor mínimo a certificar establecido en la tabla anterior.
A69: En caso de que el número de contratos con los cuales el proponente acredita la experiencia no satisfaga el porcentaje mínimo a certificar establecido en la tabla anterior, se calificará la propuesta como no hábil y el Proponente podrá subsanarla en los términos establecidos en la sección 1.6.
C70: HABILITADO
A74: FACTOR DE CALIDAD | C74: PUNTOS
A75: PRESENTACIÓN DE UN PLAN DE CALIDAD (10 PUNTOS) | B75: La entidad asignará 10 puntos al Proponente que se comprometa a presentar un Plan de Calidad específico para el proyecto, elaborado conforme a los parámetros establecidos en la última actualización de las normas NTC ISO 9001:2015 y NTC ISO 10005:2018 mediante la suscripción del Formato 7C - Plan de calidad | C75: 10
A76: GARANTÍA SUPLEMENTARIA O ADICIONAL (10 PUNTOS) | B76: La entidad asignará 10 puntos al proponente que se comprometa a otorgar garantías suplementarias o adicionales a la legal establecida para la estabilidad y calidad de la obra, mediante la suscripción del Formato 7D - Garantía Suplementaria o Adicional, en el cual bajo la gravedad de juramento conste el compromiso que asume. | C76: 10
B77: total | C77: =SUM(C75:C76) -> 20
