Workbook
Name _: #REF!
Name _: #REF!
Name __: #REF!
Name ___AFC1: [1]INV!$A$25:$D$28
Name ___AFC3: [1]INV!$F$25:$I$28
Name ___AFC5: [1]INV!$K$25:$N$28
Name ___BGC1: [1]INV!$A$5:$D$8
Name ___BGC3: [1]INV!$F$5:$I$8
Name ___BGC5: [1]INV!$K$5:$N$8
Name ___CAC1: [1]INV!$A$19:$D$22
Name ___CAC3: [1]INV!$F$19:$I$22
Name ___CAC5: [1]INV!$K$19:$N$22
Name ___EST1: #REF!
Name ___EST10: #REF!
Name ___EST11: #REF!
Name ___EST12: #REF!
Name ___EST13: #REF!
Name ___EST14: #REF!
Name ___EST15: #REF!
Name ___EST16: #REF!
Name ___EST17: #REF!
Name ___EST18: #REF!
Name ___EST19: #REF!
Name ___EST2: #REF!
Name ___EST3: #REF!
Name ___EST4: #REF!
Name ___EST5: #REF!
Name ___EST6: #REF!
Name ___EST7: #REF!
Name ___EST8: #REF!
Name ___EST9: #REF!
Name ___EXC1: #REF!
Name ___EXC10: #REF!
Name ___EXC11: #REF!
Name ___EXC12: #REF!
Name ___EXC2: #REF!
Name ___EXC3: #REF!
Name ___EXC4: #REF!
Name ___EXC5: #REF!
Name ___EXC6: #REF!
Name ___EXC7: #REF!
Name ___EXC8: #REF!
Name ___EXC9: #REF!
Name ___SBC1: [1]INV!$A$12:$D$15
Name ___SBC3: [1]INV!$F$12:$I$15
Name ___SBC5: [1]INV!$K$12:$N$15
Name __AFC1: [1]INV!$A$25:$D$28
Name __AFC3: [1]INV!$F$25:$I$28
Name __AFC5: [1]INV!$K$25:$N$28
Name __BGC1: [1]INV!$A$5:$D$8
Name __BGC3: [1]INV!$F$5:$I$8
Name __BGC5: [1]INV!$K$5:$N$8
Name __CAC1: [1]INV!$A$19:$D$22
Name __CAC3: [1]INV!$F$19:$I$22
Name __CAC5: [1]INV!$K$19:$N$22
Name __EST1: #REF!
Name __EST10: #REF!
Name __EST11: #REF!
Name __EST12: #REF!
Name __EST13: #REF!

Sheet SMMLV
A1: AÑO | B1: SMMLV
A2: 2022 | B2: 1000000
A3: 2021 | B3: 908526
A4: 2020 | B4: 877802
A5: 2019 | B5: 828116
A6: 2018 | B6: 781242
A7: 2017 | B7: 737717
A8: 2016 | B8: 689454
A9: 2015 | B9: 644350
A10: 2014 | B10: 616000
A11: 2013 | B11: 589500
A12: 2012 | B12: 566700
A13: 2011 | B13: 535600
... A55: 1960 | B55: 198

Sheet General
A1: Proceso No. | B1: FNA-SG-SB-007-2022 | D1: Entidad: | E1: FONDO NACIONAL DEL AHORRO
A2: Objeto T: | B2: SUMINISTRO DE MATERIAL PROMOCIONAL PUBLICITARIO INSTITUCIONAL PARA LA PROMOCIÓN, POSICIONAMIENTO, SOCIALIZACIÓN Y DIFUSIÓN DE LA MARCA FNA
H3: Presupuesto: | I3: 800000000
H4: Póliza de G. Y C. Crédito Req:
H5: Póliza de G. Y C. Crédito Req Grupo Unico
H6: Presupuesto Oficial en SMMLV | I6: =I3/I15 -> 800
H7: Pago de derechos de participación
H9: USD
H10: Profesional de Estudios Previos
A11: Cronograma: | H11: Gerente de Convenio
B12: Cierre del término para presentar propuestas: | H12: Asesor Juridico del Proceso
B13: Informe de Solicitud de Aclaraciones
B14: Plazo para Subsanar | H14: Año de evaluacion del proceso | I14: 2022
B15: Informe de Verificación de Requisitos Habilitantes | H15: SMMLV del año del proceso | I15: =VLOOKUP(I14, SMMLV!$A$2:$B$55,2,FALSE) -> 1000000
B16: Plazo para Observaciones
B17: Publicacion Observaciones
B18: Respuesta a Observaciones
B19: Audiencia
B22: Fecha 1 mes antes de cierre para control Certificado Existencia y Póliza Garantía
F27: FIRMEZA DE RUP
H28: REVISAR DIEZ DIAS HABILES
B105: PROFESIONAL DE ESTUDIOS PREVIOS | E105: ASESOR JURIDICO DEL PROCESO
B106: CARLOS HECTOR CASTRO | E106: JHON JAIRO CORREDOR CALDAS
B107: CELMIRA MORENO CARRERO | E107: ALEXANDRA BAUTISTA BELTRAN
B108: DIANA PATRICIA LOPEZ ESTUPIÑAN | E108: CLAUDIA BEATRIZ NIETO
B109: ERICK VONN CABARCAS GOMEZ | E109: ELSA LUCIA CRUZ RODRIGUEZ
B110: FREDY CASTELLANOS OVIEDO | E110: GERMAN ANDRES URREGO SABOGAL
B111: GERMAN ALFONSO RODRIGUEZ SILVA | E111: IVAN ABELARDO SARMIENTO GALVIS
B112: HERNANDO ALFONSO GOMEZ LOPEZ | E112: JOSE RODRIGO BERMUDEZ CASTRO
B113: JAIRO FIDEL ORTEGA CHAPARRO | E113: MARGARITA MARIA MUÑOZ CABRERA
B114: JHON JAIRO ORTIZ RODRIGUEZ | E114: SANTIAGO PEREZ BUITRAGO
B115: JORGE ANDRES OSORIO ORTIZ | E115: TANIA LILIANA SANABRIA BARRERA
B116: LUSANGELA GALINDO BERROCAL | E116: JAIME ALEJANDRO DURAN FONTANILLA
... B119: ORLANDO FABIO BARRIOS LOZANO | E119: JUAN SEBASTIAN ARANGO PASTOR
B120: OSCAR JULIAN OLEA SALGADO
B121: SANDRA GIOVANA SALEH FRANCO
B122: WILSON BONILLA CRISTANCHO
B123: LUIS CARLOS ANDRADE FONSECA

Sheet Directorio
A1: No. | B1: TIPO DE PROCESO CD, SB. CP, CPA | C1: NOMBRE DEL OFERENTE | D1: NIT | E1: REPRESENTANTE LEGAL | F1: CEDULA | G1: Teléfono | H1: Fax | I1: Celular | J1: Direccion | K1: Email | L1: Ciudad | M1: NOMBRE COMPLETO | N1: INTEGRANTES DEL CONSORCIO O DE LA UNION TEMPORAL | W1: INTEGRANTES DEL CONSORCIO O DE LA UNION TEMPORAL | AF1: INTEGRANTES DEL CONSORCIO O DE LA UNION TEMPORAL | AO1: Socios Integrante 1 | BA1: Socios Integrante 2 | BM1: Socios Integrante 3
M2: ="("&E2&": "&N2&" "&TEXT(O2,"##0,00%")&" - "&P2&" "&TEXT(Q2,"##0,00%")&" - "&R2&" "&TEXT(S2,"##0,00%")&")" -> (: Integrante 1 % Int. 1 - NIT O CEDULA DE CIUDADANIA Integrante 2 - % Int. 2 NIT O CEDULA DE CIUDADANIA) | N2: Integrante 1 | O2: % Int. 1 | P2: NIT O CEDULA DE CIUDADANIA | Q2: Integrante 2 | R2: % Int. 2 | S2: NIT O CEDULA DE CIUDADANIA | T2: INTEGRANTE 3 | U2: % Int. 3 | V2: NIT O CEDULA DE CIUDADANIA | W2: Integrante 4 | X2: % Int. 4 | Y2: NIT O CEDULA DE CIUDADANIA | Z2: Integrante 5 | AA2: % Int. 5 | AB2: NIT O CEDULA DE CIUDADANIA | AC2: INTEGRANTE 6 | AD2: % Int. 6 | AE2: NIT O CEDULA DE CIUDADANIA | AF2: Integrante 7 | AG2: % Int. 7 | AH2: NIT O CEDULA DE CIUDADANIA | AI2: Integrante 8 | AJ2: % Int. 8 | AK2: NIT O CEDULA DE CIUDADANIA | AL2: INTEGRANTE 9 | AM2: % Int. 9 | AN2: NIT O CEDULA DE CIUDADANIA | AO2: Socio 1 | AQ2: Socio 2 | AS2: Socio 3 | AU2: Socio 4 | AW2: Socio 5 | AY2: Socio 6 | BA2: Socio 1 | BC2: Socio 2 | BE2: Socio 3 | BG2: Socio 4 | BI2: Socio 5 | BK2: Socio 6 | BM2: Socio 1 | BO2: Socio 2 | BQ2: Socio 3 | BS2: Socio 4 | BU2: Socio 5 | BW2: Socio 6
M3: ="("&N3&" "&TEXT(O3,"##0,00%")&" - "&P3&" "&TEXT(Q3,"##0,00%")&" - "&R3&" "&TEXT(S3,"##0,00%")&")" -> ( 000% - 000% - 000%) | AO3: Nombre | AP3: C. de Ciudadania | AQ3: Nombre | AR3: C. de Ciudadania | AS3: Nombre | AT3: C. de Ciudadania | AU3: Nombre | AV3: C. de Ciudadania | AW3: Nombre | AX3: C. de Ciudadania | AY3: Nombre | AZ3: C. de Ciudadania | BA3: Nombre | BB3: C. de Ciudadania | BC3: Nombre | BD3: C. de Ciudadania | BE3: Nombre | BF3: C. de Ciudadania | BG3: Nombre | BH3: C. de Ciudadania | BI3: Nombre | BJ3: C. de Ciudadania | BK3: Nombre | BL3: C. de Ciudadania | BM3: Nombre | BN3: C. de Ciudadania | BO3: Nombre | BP3: C. de Ciudadania | BQ3: Nombre | BR3: C. de Ciudadania | BS3: Nombre | BT3: C. de Ciudadania | BU3: Nombre | BV3: C. de Ciudadania | BW3: Nombre | BX3: C. de Ciudadania
A4: 1 | B4: FNA-SG-SB-007-2022 | C4: CONSORCIO LM & CB | E4: WILLIAM HERNANDO VERA MORENO | F4: 79.520.090 | L4: BOGOTA | M4: ="("&C4&": "&N4&" "&TEXT(O4,"##0,00%")&" - "&Q4&" "&TEXT(R4,"##0,00%")&" - "&T4&" "&TEXT(U4,"##0,00%")&")" -> (CONSORCIO LM & CB: LITTLE MONKEY BTL SAS 048% - COMERCIALIZADORA CAFÉ BOTERO SAS 052% - 000%) | N4: LITTLE MONKEY BTL SAS | O4: 0.48 | Q4: COMERCIALIZADORA CAFÉ BOTERO SAS | R4: 0.52
A5: 2 | B5: FNA-SG-SB-007-2022 | C5: COMERCIALIZADORA COMSILA SAS | D5: 900.889.064-1 | E5: MARIA CAMILA SIERRA | F5: 1.022.384.264 | L5: BOGOTA | M5: ="("&C5&": "&N5&" "&TEXT(O5,"##0,00%")&" - "&Q5&" "&TEXT(R5,"##0,00%")&" - "&T5&" "&TEXT(U5,"##0,00%")&")" -> (COMERCIALIZADORA COMSILA SAS: COMERCIALIZADORA COMSILA SAS 100% - 000% - 000%) | N5: COMERCIALIZADORA COMSILA SAS | O5: 1 | P5: 900.889.064-1
A6: 3 | B6: FNA-SG-SB-007-2022 | C6: 4P PUBLICIDAD SAS | D6: 901.092.024-9 | E6: NHORA APARICIO REYES | F6: 31.170.954 | L6: BOGOTA | M6: ="("&C6&": "&N6&" "&TEXT(O6,"##0,00%")&" - "&Q6&" "&TEXT(R6,"##0,00%")&" - "&T6&" "&TEXT(U6,"##0,00%")&")" -> (4P PUBLICIDAD SAS: 4P PUBLICIDAD SAS 100% - 000% - 000%) | N6: 4P PUBLICIDAD SAS | O6: 1 | P6: 901.092.024-9
A7: 4 | B7: FNA-SG-SB-007-2022 | C7: GN GENERACION DE NEGOCIOS SAS | D7: 901.370.420-5 | E7: CRISTIAN CAMILO CEDEÑO V. | F7: 79.939.350 | L7: BOGOTA | M7: ="("&C7&": "&N7&" "&TEXT(O7,"##0,00%")&" - "&Q7&" "&TEXT(R7,"##0,00%")&" - "&T7&" "&TEXT(U7,"##0,00%")&")" -> (GN GENERACION DE NEGOCIOS SAS: GN GENERACION DE NEGOCIOS SAS 100% - 000% - 000%) | N7: GN GENERACION DE NEGOCIOS SAS | O7: 1 | P7: 901.370.420-5
A8: 5 | B8: FNA-SG-SB-007-2022 | C8: PROMOS LTDA. | D8: 830.018.350-3 | E8: GABRIEL FERNANDO RAMIREZ BOTERO | F8: 79141115 | L8: BOGOTA | M8: ="("&C8&": "&N8&" "&TEXT(O8,"##0,00%")&" - "&Q8&" "&TEXT(R8,"##0,00%")&" - "&T8&" "&TEXT(U8,"##0,00%")&")" -> (PROMOS LTDA.: PROMOS LTDA. 100% - 000% - 000%) | N8: PROMOS LTDA. | O8: 1 | P8: 830.018.350-3
A9: 6 | B9: FNA-SG-SB-007-2022 | C9: Signal Marketing SAS | D9: 800.226.923-6 | E9: María Antonia Mejía Gutiérrez | F9: 30.321.584 | L9: MANIZALEZ | M9: ="("&C9&": "&N9&" "&TEXT(O9,"##0,00%")&" - "&Q9&" "&TEXT(R9,"##0,00%")&" - "&T9&" "&TEXT(U9,"##0,00%")&")" -> (Signal Marketing SAS: Signal Marketing SAS 100% - 000% - 000%) | N9: Signal Marketing SAS | O9: 1 | P9: 800.226.923-6
A10: 7 | B10: FNA-SG-SB-007-2022 | C10: IMPRIDEAS S.A.S. | D10: 900.305.563-1 | E10: ALEJANDRO RESTREPO VÉLEZ | F10: 98558678 | L10: MEDELLIN | M10: ="("&C10&": "&N10&" "&TEXT(O10,"##0,00%")&" - "&Q10&" "&TEXT(R10,"##0,00%")&" - "&T10&" "&TEXT(U10,"##0,00%")&")" -> (IMPRIDEAS S.A.S.: IMPRIDEAS S.A.S. 100% - 000% - 000%) | N10: IMPRIDEAS S.A.S. | O10: 1 | P10: 900.305.563-1

Sheet Conclusión de Evaluación
A2: =General!E1 -> FONDO NACIONAL DEL AHORRO
A4: =General!B1 -> FNA-SG-SB-007-2022
A6: =General!B2 -> SUMINISTRO DE MATERIAL PROMOCIONAL PUBLICITARIO INSTITUCIONAL PARA LA PROMOCIÓN, POSICIONAMIENTO, SOCIALIZACIÓN Y DIFUSIÓN DE LA MARCA FNA
A7: INFORME DE EVALUACIÓN Y VERIFICACIÓN DE REQUISITOS DE CARÁCTER TÉCNICO
A8: Como producto de la verificación de los Requisitos Técnicos, a la fecha del presente Informe el resultado es el siguiente:
B10: No | C10: OFERENTE | E10: REQUISITOS MÍNIMOS EXIGIDOS
B11: 1 | C11: =VLOOKUP(B11,Directorio!$A$4:$C$23,3) -> CONSORCIO LM & CB | E11: RECHAZADO
B12: =B11+1 -> 2 | C12: =VLOOKUP(B12,Directorio!$A$4:$C$23,3) -> COMERCIALIZADORA COMSILA SAS | E12: HABILITADO
B13: =+B12+1 -> 3 | C13: =VLOOKUP(B13,Directorio!$A$4:$C$23,3) -> 4P PUBLICIDAD SAS | E13: RECHAZADO
B14: =+B13+1 -> 4 | C14: =VLOOKUP(B14,Directorio!$A$4:$C$23,3) -> GN GENERACION DE NEGOCIOS SAS | E14: HABILITADO
B15: =+B14+1 -> 5 | C15: =VLOOKUP(B15,Directorio!$A$4:$C$23,3) -> PROMOS LTDA. | E15: HABILITADO
B16: =+B15+1 -> 6 | C16: =VLOOKUP(B16,Directorio!$A$4:$C$23,3) -> Signal Marketing SAS | E16: HABILITADO
B17: =+B16+1 -> 7 | C17: =VLOOKUP(B17,Directorio!$A$4:$C$23,3) -> IMPRIDEAS S.A.S. | E17: HABILITADO
A50: Bogotá D.C., a los nueve (9) días del mes de agosto de 2022
D52: (ORIGINAL FIRMADO)
A53: WILSON BONILLA CRISTANCHO
A54: Evaluador Técnico
D56: (ORIGINAL FIRMADO)

Sheet Exp. Proponente
A1: =General!B2 -> SUMINISTRO DE MATERIAL PROMOCIONAL PUBLICITARIO INSTITUCIONAL PARA LA PROMOCIÓN, POSICIONAMIENTO, SOCIALIZACIÓN Y DIFUSIÓN DE LA MARCA FNA
A2: =General!B1 -> FNA-SG-SB-007-2022
A3: Condiciones Experiencia del OFERENTE
A5: Experiencia a Acreditar | E5: # Contratos | F5: Fecha Lím. Fin. Cont. | G5: Valor Sumatoria Contratos SMMLV | H5: PRESUPUESTO | I5: INSCRIPCIÓN EN EL REGISTRO ÚNICO DE PROPONENTES
A6: 4.1.3.1. EXPERIENCIA ESPECIFICA La experiencia se acreditará mediante la presentación de mínimo uno (1) y máximo cuatro (4) certificaciones de contratos terminados o ejecutados o liquidados que deberán estar registrados en el Registro Único de Proponentes donde el objeto u obligaciones contractuales contemplen alguno de los siguientes aspectos: • Producción y/o suministro de material publicitario. • Promoción comercial (Merchandising) Adicionalmente que cumplan en conjunto con las siguientes condiciones: • La sumatoria de la experiencia certificada sea igual o mayor al presupuesto oficial expresado en SMMLV. La verificación de la experiencia se realizará en SMLMV, tomando el valor del contrato al momento de la terminación y se divide por el valor del SMMLV del año correspondiente. | E6: MAX 4 | F6: 40741 | G6: =General!I6 -> 800 | H6: =General!I3 -> 800000000
V8: 0.5 | W8: 1 | X8: 1.5 | Y8: 2
A9: No. | B9: 1 | C9: OFERENTE: | D9: =VLOOKUP(B9,Directorio!$A$4:$V$23,3,FALSE) -> CONSORCIO LM & CB | I9: =VLOOKUP(B9,Directorio!$A$4:$V$23,4,FALSE) -> 0 | R9: I1 | S9: I2 | T9: I3 | V9: =H6*V8 -> 400000000 | W9: =H6*W8 -> 800000000 | X9: =H6*X8 -> 1200000000 | Y9: =H6*Y8 -> 1600000000
A10: Folio | B10: Propietario o Entidad Contratante | C10: Contratista | D10: Objeto | E10: Fecha Finalización | F10: Valor Contrato us$ | G10: TRM (Si aplica) | H10: Valor Contrato | I10: SMMLV para Cálculo | J10: % Part Ejecuc | K10: Valor Contrato en SMMLV | L10: Inscripción en el RUP | M10: Código UNSPSC | N10: HABILITADO / NO HABILITADO | O10: Observaciones | R10: =D17 -> LITTLE MONKEY BTL SAS | S10: =D18 -> COMERCIALIZADORA CAFÉ BOTERO SAS | T10: =D19 -> 0 | V10: =V9/781242 -> 512.00524 | W10: =W9/781242 -> 1024.0105 | X10: =X9/781242 -> 1536.0157 | Y10: =Y9/781242 -> 2048.021
A11: Acreditación Experiencia Especifica del Oferente Formato No. 6; | B11: D&M SOLUTIONS | C11: COMERCIALIZADORA CAFÉ BOTERO SAS | D11: Suministro de tapabocas Reutilizables INPEC y material promocional Impreso | F11: N/A | G11: N/A | I11: =IF(E11>0,VLOOKUP(YEAR(E11),SMMLV!$A$2:$B$55,2,FALSE),0) -> 0 | K11: =IF(AND(E11>=$F$6,H11>0),H11/I11*J11,0) -> 0 | N11: NO HABILITADO | O11: El oferente debera allegar la certificacion y/o acta de terminacion y/o acta de liquidacion de los contratos aportados, con el fin de verificar la informacion del contrato. Asi mismo debe allegar el Formato No. 6 debidamente suscrito por el Representante Legal El orferente no allego dentro del termino establecido para la subsanacion de requisitos tecnicos habilitantes los documentos solicitados en el informe prteliminar de verificacion, por lo tanto el oferente incurre en causal de rechazo No. "1. Cuando el comité evaluador haya solicitado presentar algún documento o subsanar o aclarar alguna información necesaria para el cumplimiento de los requisitos habilitantes, y el oferente no aporte, subsane o aclare lo pertinente, en los plazos y condiciones señalados por el comité evaluador." | R11: =IF(C11=$R$10,K11,0) -> 0 | S11: =IF(C11=$S$10,K11,0) -> 0 | T11: =IF(C11=$T$10,K11,0) -> 0 | V11: =G6*V8 -> 400 | W11: =G6*W8 -> 800 | X11: =G6*X8 -> 1200 | Y11: =G6*Y8 -> 1600
B12: IMPRENTA NACIONAL | C12: COMERCIALIZADORA CAFÉ BOTERO SAS | D12: Suministro de Material Publicitario | F12: N/A | G12: N/A | I12: =IF(E12>0,VLOOKUP(YEAR(E12),SMMLV!$A$2:$B$55,2,FALSE),0) -> 0 | K12: =IF(AND(E12>=$F$6,H12>0),H12/I12*J12,0) -> 0
B13: MSM PROMOCIONALES SAS | C13: COMERCIALIZADORA CAFÉ BOTERO SAS | D13: Suministro de Material Publicitario y Material Impreso | F13: N/A | G13: N/A | I13: =IF(E13>0,VLOOKUP(YEAR(E13),SMMLV!$A$2:$B$55,2,FALSE),0) -> 0 | K13: =IF(AND(E13>=$F$6,H13>0),H13/I13*J13,0) -> 0
C14: ELECTRICOS.COM LTDA | F14: N/A | G14: N/A | I14: =IF(E14>0,VLOOKUP(YEAR(E14),SMMLV!$A$2:$B$55,2,FALSE),0) -> 0 | J14: 1 | K14: =IF(AND(E14>=$F$6,H14>0),H14/I14*J14,0) -> 0 | R14: =IF(C14=$R$10,K14,0) -> 0
K15: =SUM(K11:K14) -> 0 | R15: =SUM(R5:R14) -> 0 | S15: =SUM(S5:S14) -> 0 | T15: =SUM(T5:T14) -> 0 | U15: =MAX(R15:T15) -> 0
K16: =IF(AND(K15>=$G$6,G17="Vo.Bo."),"CUMPLE", "NO CUMPLE ") -> NO CUMPLE
D17: =VLOOKUP(B9,Directorio!$A$4:$V$23,14,FALSE) -> LITTLE MONKEY BTL SAS | E17: =VLOOKUP(B9,Directorio!$A$4:$V$23,15,FALSE) -> 0.48 | F17: =R15 -> 0 | G17: =IF(F17>0,IF(F17=K$15,IF(E17>=0.34,"Vo.Bo.","No Vo.Bo."),IF(F17=U$15,IF(E17>=0.34,"Vo.Bo.","No Vo.Bo."),"")),"")
D18: =VLOOKUP(B9,Directorio!$A$4:$V$23,17,FALSE) -> COMERCIALIZADORA CAFÉ BOTERO SAS | E18: =VLOOKUP(B9,Directorio!$A$4:$V$23,18,FALSE) -> 0.52 | F18: =S15 -> 0 | G18: =IF(F18>0,IF(F18=K$15,IF(E18>=0.34,"Vo.Bo.","No Vo.Bo."),IF(F18=U$15,IF(E18>=0.34,"Vo.Bo.","No Vo.Bo."),"")),"")
D19: =VLOOKUP(B9,Directorio!$A$4:$V$23,20,FALSE) -> 0 | E19: =VLOOKUP(B9,Directorio!$A$4:$V$23,21,FALSE) -> 0 | F19: =T15 -> 0 | G19: =IF(F19>0,IF(F19=K$15,IF(E19>=0.34,"Vo.Bo.","No Vo.Bo."),IF(F19=U$15,IF(E19>=0.34,"Vo.Bo.","No Vo.Bo."),"")),"")
G20: =COUNTIF(G17:G19,"Vo.Bo.") -> 0
A21: EXPERIENCIA ADICIONAL | R21: =IF(C21=#REF!,K21,0) -> #REF! | S21: =IF(C21=#REF!,K21,0) -> #REF! | T21: =IF(C21=#REF!,K21,0) -> #REF!
F22: N/A | G22: N/A | I22: =IF(E22>0,VLOOKUP(YEAR(E22),SMMLV!$A$6:$B$55,2,FALSE),0) -> 0 | K22: =IF(AND(E22>=$F$6,H22>0),H22/I22*J22,0) -> 0 | R22: =IF(C22=#REF!,K22,0) -> #REF! | S22: =IF(C22=#REF!,K22,0) -> #REF! | T22: =IF(C22=#REF!,K22,0) -> #REF!
F23: N/A | G23: N/A | I23: =IF(E23>0,VLOOKUP(YEAR(E23),SMMLV!$A$6:$B$55,2,FALSE),0) -> 0 | K23: =IF(AND(E23>=$F$6,H23>0),H23/I23*J23,0) -> 0 | R23: =IF(C23=#REF!,K23,0) -> #REF! | S23: =IF(C23=#REF!,K23,0) -> #REF! | T23: =IF(C23=#REF!,K23,0) -> #REF!
F24: N/A | G24: N/A | I24: =IF(E24>0,VLOOKUP(YEAR(E24),SMMLV!$A$9:$B$55,2,FALSE),0) -> 0 | K24: =IF(AND(E24>=$F$6,H24>0),H24/I24*J24,0) -> 0 | R24: =IF(C24=#REF!,K24,0) -> #REF! | S24: =IF(C24=#REF!,K24,0) -> #REF! | T24: =IF(C24=#REF!,K24,0) -> #REF!
I25: =IF(E25>0,VLOOKUP(YEAR(E25),SMMLV!$A$9:$B$55,2,FALSE),0) -> 0 | K25: =IF(AND(E25>=$F$6,H25>0),H25/I25*J25,0) -> 0 | R25: =IF(C25=#REF!,K25,0) -> #REF! | S25: =IF(C25=#REF!,K25,0) -> #REF! | T25: =IF(C25=#REF!,K25,0) -> #REF!
I26: =IF(E26>0,VLOOKUP(YEAR(E26),SMMLV!$A$9:$B$55,2,FALSE),0) -> 0 | K26: =IF(AND(E26>=$F$6,H26>0),H26/I26*J26,0) -> 0 | R26: =IF(C26=#REF!,K26,0) -> #REF! | S26: =IF(C26=#REF!,K26,0) -> #REF! | T26: =IF(C26=#REF!,K26,0) -> #REF!
I27: =IF(E27>0,VLOOKUP(YEAR(E27),SMMLV!$A$9:$B$55,2,FALSE),0) -> 0 | K27: =IF(AND(E27>=$F$6,H27>0),H27/I27*J27,0) -> 0 | R27: =IF(C27=#REF!,K27,0) -> #REF! | S27: =IF(C27=#REF!,K27,0) -> #REF! | T27: =IF(C27=#REF!,K27,0) -> #REF!
K28: =SUM(K22:K27) -> 0 | R28: =SUM(R11:R27) -> #REF! | S28: =SUM(S11:S27) -> #REF! | T28: =SUM(T11:T27) -> #REF! | U28: =MAX(R28:T28) -> #REF!
K29: =IF(AND(K28>=$G$6,G19>0),"CUMPLE", "NO CUMPLE ") -> NO CUMPLE
K31: =IF(AND(K28>=$V$10,K28<=$W$10,K28>0),"CUMPLE", "NO CUMPLE ") -> NO CUMPLE | O31: NUMERAL 6.2.1 PRIMER CRITERIO (8 PUNTOS)
K32: =IF(AND(K28>=$W$10,K28<=$X$10,K28>0),"CUMPLE", "NO CUMPLE ") -> NO CUMPLE | O32: NUMERAL 6.2.1 SEGUNDO CRITERIO (15 PUNTOS)
K33: =IF(AND(K29>=$X$10,K29<=$Y$10,K29>0),"CUMPLE", "NO CUMPLE ") -> NO CUMPLE | O33: NUMERAL 6.2.1 TERCER CRITERIO (15 PUNTOS)
K34: =IF(AND(K28>=$Y$10,K28>0),"CUMPLE", "NO CUMPLE ") -> NO CUMPLE | O34: NUMERAL 6.2.1 TERCER CRITERIO (20 PUNTOS)
A36: No. | B36: =B9+1 -> 2 | C36: OFERENTE: | D36: =VLOOKUP(B36,Directorio!$A$4:$V$23,3,FALSE) -> COMERCIALIZADORA COMSILA SAS | I36: =VLOOKUP(B36,Directorio!$A$4:$V$23,4,FALSE) -> 900.889.064-1 | R36: I1 | S36: I2 | T36: I3
A37: Folio | B37: Propietario o Entidad Contratante | C37: Contratista | D37: Objeto | E37: Fecha Finalización | F37: Valor Contrato us$ | G37: TRM (Si aplica) | H37: Valor Contrato | I37: SMMLV para Cálculo | J37: % Part Ejecuc | K37: Valor Contrato en SMMLV | L37: Inscripción en el RUP | M37: Código UNSPSC | N37: HABILITADO / NO HABILITADO | O37: Observaciones | R37: =D45 -> COMERCIALIZADORA COMSILA SAS | S37: =D46 -> 0 | T37: =D47 -> 0
A38: Acreditación Experiencia Especifica del Oferente Formato No. 6; | B38: VENTAS 577 | C38: COMERCIALIZADORA COMSILA SAS | D38: Diseño, Impresión, producción y entrega en los puntos asignados de kits publicitarios. | E38: 43480 | F38: N/A | G38: N/A | H38: 1200000000 | I38: =IF(E38>0,VLOOKUP(YEAR(E38),SMMLV!$A$2:$B$55,2,FALSE),0) -> 828116 | J38: 1 | K38: =IF(AND(E38>=$F$6,H38>0),H38/I38*J38,0) -> 1449.0724 | L38: 33 | M38: 80141600; | N38: HABILITADO | R38: =IF(C38=$R$37,K38,0) -> 1449.0724 | S38: =IF(C38=$S$37,K38,0) -> 0 | T38: =IF(C38=$T$37,K38,0) -> 0
C39: BACATA INGENIEROS LTDA | F39: N/A | G39: N/A | I39: =IF(E39>0,VLOOKUP(YEAR(E39),SMMLV!$A$2:$B$55,2,FALSE),0) -> 0 | K39: =IF(AND(E39>=$F$6,H39>0),H39/I39*J39,0) -> 0 | R39: =IF(C39=$R$37,K39,0) -> 0
C40: BACATA INGENIEROS LTDA | F40: N/A | G40: N/A | I40: =IF(E40>0,VLOOKUP(YEAR(E40),SMMLV!$A$2:$B$55,2,FALSE),0) -> 0 | K40: =IF(AND(E40>=$F$6,H40>0),H40/I40*J40,0) -> 0
C41: BACATA INGENIEROS LTDA | F41: N/A | G41: N/A | I41: =IF(E41>0,VLOOKUP(YEAR(E41),SMMLV!$A$2:$B$55,2,FALSE),0) -> 0 | K41: =IF(AND(E41>=$F$6,H41>0),H41/I41*J41,0) -> 0 | R41: =IF(C41=$R$37,K41,0) -> 0 | S41: =IF(C41=$S$37,K41,0) -> 0 | T41: =IF(C41=$T$37,K41,0) -> 0
C42: BACATA INGENIEROS LTDA | F42: N/A | G42: N/A | I42: =IF(E42>0,VLOOKUP(YEAR(E42),SMMLV!$A$2:$B$55,2,FALSE),0) -> 0 | K42: =IF(AND(E42>=$F$6,H42>0),H42/I42*J42,0) -> 0 | R42: =IF(C42=$R$37,K42,0) -> 0 | S42: =IF(C42=$S$37,K42,0) -> 0 | T42: =IF(C42=$T$37,K42,0) -> 0
K43: =SUM(K38:K42) -> 1449.0724 | R43: =SUM(R38:R42) -> 1449.0724 | S43: =SUM(S38:S42) -> 0 | T43: =SUM(T38:T42) -> 0 | U43: =MAX(R43:T43) -> 1449.0724
K44: =IF(AND(K43>=$G$6,F45>0),"CUMPLE", "NO CUMPLE ") -> CUMPLE
...

Sheet Requisitos Técnicos
A1: 4.5.3.1. CERTIFICACIONES | B1: 1 | C1: =VLOOKUP(B1,Directorio!$A$4:$V$23,3,FALSE) -> CONSORCIO LM & CB | F1: =1+B1 -> 2 | G1: =VLOOKUP(F1,Directorio!$A$4:$V$23,3,FALSE) -> COMERCIALIZADORA COMSILA SAS | J1: =1+#REF! -> #REF! | K1: =VLOOKUP(J1,Directorio!$A$4:$V$23,3,FALSE) -> #REF! | N1: =1+J1 -> #REF! | O1: =VLOOKUP(N1,Directorio!$A$4:$V$23,3,FALSE) -> #REF! | R1: =1+N1 -> #REF! | S1: =VLOOKUP(R1,Directorio!$A$4:$V$23,3,FALSE) -> #REF! | V1: =1+R1 -> #REF! | W1: =VLOOKUP(V1,Directorio!$A$4:$V$23,3,FALSE) -> #REF! | Z1: =1+V1 -> #REF! | AA1: =VLOOKUP(Z1,Directorio!$A$4:$V$23,3,FALSE) -> #REF! | AD1: =1+Z1 -> #REF! | AE1: =VLOOKUP(AD1,Directorio!$A$4:$V$23,3,FALSE) -> #REF! | AH1: =1+AD1 -> #REF! | AI1: =VLOOKUP(AH1,Directorio!$A$4:$V$23,3,FALSE) -> #REF! | AL1: =1+AH1 -> #REF! | AM1: =VLOOKUP(AL1,Directorio!$A$4:$V$23,3,FALSE) -> #REF! | AP1: =1+AL1 -> #REF! | AQ1: =VLOOKUP(AP1,Directorio!$A$4:$V$23,3,FALSE) -> #REF! | AT1: =1+AP1 -> #REF! | AU1: =VLOOKUP(AT1,Directorio!$A$4:$V$23,3,FALSE) -> #REF! | AX1: =1+AT1 -> #REF! | AY1: =VLOOKUP(AX1,Directorio!$A$4:$V$23,3,FALSE) -> #REF! | BB1: =1+AX1 -> #REF! | BC1: =VLOOKUP(BB1,Directorio!$A$4:$V$23,3,FALSE) -> #REF! | BF1: =1+BB1 -> #REF! | BG1: =VLOOKUP(BF1,Directorio!$A$4:$V$23,3,FALSE) -> #REF! | BJ1: =1+BF1 -> #REF! | BK1: =VLOOKUP(BJ1,Directorio!$A$4:$V$23,3,FALSE) -> #REF! | BN1: =1+BJ1 -> #REF! | BO1: =VLOOKUP(BN1,Directorio!$A$4:$V$23,3,FALSE) -> #REF! | BR1: =1+BN1 -> #REF! | BS1: =VLOOKUP(BR1,Directorio!$A$4:$V$23,3,FALSE) -> #REF! | BV1: =1+BR1 -> #REF! | BW1: =VLOOKUP(BV1,Directorio!$A$4:$V$23,3,FALSE) -> #REF! | BZ1: =+F1+1 -> 3 | CA1: =VLOOKUP(BZ1,Directorio!$A$4:$V$23,3,FALSE) -> 4P PUBLICIDAD SAS | CD1: =+BZ1+1 -> 4 | CE1: =VLOOKUP(CD1,Directorio!$A$4:$V$23,3,FALSE) -> GN GENERACION DE NEGOCIOS SAS | CH1: =+CD1+1 -> 5 | CI1: =VLOOKUP(CH1,Directorio!$A$4:$V$23,3,FALSE) -> PROMOS LTDA. | CL1: =+CH1+1 -> 6 | CM1: =VLOOKUP(CL1,Directorio!$A$4:$V$23,3,FALSE) -> Signal Marketing SAS | CP1: =+CL1+1 -> 7 | CQ1: =VLOOKUP(CP1,Directorio!$A$4:$V$23,3,FALSE) -> IMPRIDEAS S.A.S.
B2: =VLOOKUP(B1,Directorio!$A$4:$V$23,13,FALSE) -> (CONSORCIO LM & CB: LITTLE MONKEY BTL SAS 048% - COMERCIALIZADORA CAFÉ BOTERO SAS 052% - 000%) | F2: =VLOOKUP(F1,Directorio!$A$4:$V$23,13,FALSE) -> (COMERCIALIZADORA COMSILA SAS: COMERCIALIZADORA COMSILA SAS 100% - 000% - 000%) | J2: =VLOOKUP(J1,Directorio!$A$4:$V$23,13,FALSE) -> #REF! | N2: =VLOOKUP(N1,Directorio!$A$4:$V$23,13,FALSE) -> #REF! | R2: =VLOOKUP(R1,Directorio!$A$4:$V$23,13,FALSE) -> #REF! | V2: =VLOOKUP(V1,Directorio!$A$4:$V$23,13,FALSE) -> #REF! | Z2: =VLOOKUP(Z1,Directorio!$A$4:$V$23,13,FALSE) -> #REF! | AD2: =VLOOKUP(AD1,Directorio!$A$4:$V$23,13,FALSE) -> #REF! | AH2: =VLOOKUP(AH1,Directorio!$A$4:$V$23,13,FALSE) -> #REF! | AL2: =VLOOKUP(AL1,Directorio!$A$4:$V$23,13,FALSE) -> #REF! | AP2: =VLOOKUP(AP1,Directorio!$A$4:$V$23,13,FALSE) -> #REF! | AT2: =VLOOKUP(AT1,Directorio!$A$4:$V$23,13,FALSE) -> #REF! | AX2: =VLOOKUP(AX1,Directorio!$A$4:$V$23,13,FALSE) -> #REF! | BB2: =VLOOKUP(BB1,Directorio!$A$4:$V$23,13,FALSE) -> #REF! | BF2: =VLOOKUP(BF1,Directorio!$A$4:$V$23,13,FALSE) -> #REF! | BJ2: =VLOOKUP(BJ1,Directorio!$A$4:$V$23,13,FALSE) -> #REF! | BN2: =VLOOKUP(BN1,Directorio!$A$4:$V$23,13,FALSE) -> #REF! | BR2: =VLOOKUP(BR1,Directorio!$A$4:$V$23,13,FALSE) -> #REF! | BV2: =VLOOKUP(BV1,Directorio!$A$4:$V$23,13,FALSE) -> #REF! | BZ2: =VLOOKUP(BZ1,Directorio!$A$4:$V$23,13,FALSE) -> (4P PUBLICIDAD SAS: 4P PUBLICIDAD SAS 100% - 000% - 000%) | CD2: =VLOOKUP(CD1,Directorio!$A$4:$V$23,13,FALSE) -> (GN GENERACION DE NEGOCIOS SAS: GN GENERACION DE NEGOCIOS SAS 100% - 000% - 000%) | CH2: =VLOOKUP(CH1,Directorio!$A$4:$V$23,13,FALSE) -> (PROMOS LTDA.: PROMOS LTDA. 100% - 000% - 000%) | CL2: =VLOOKUP(CL1,Directorio!$A$4:$V$23,13,FALSE) -> (Signal Marketing SAS: Signal Marketing SAS 100% - 000% - 000%) | CP2: =VLOOKUP(CP1,Directorio!$A$4:$V$23,13,FALSE) -> (IMPRIDEAS S.A.S.: IMPRIDEAS S.A.S. 100% - 000% - 000%)
A5: DOCUMENTO | B5: SI | C5: NO | D5: Folio | E5: OBSERVACIONES | F5: SI | G5: NO | H5: Folio | I5: OBSERVACIONES | J5: SI | K5: NO | L5: Folio | M5: OBSERVACIONES | N5: SI | O5: NO | P5: Folio | Q5: OBSERVACIONES | R5: SI | S5: NO | T5: Folio | U5: OBSERVACIONES | V5: SI | W5: NO | X5: Folio | Y5: OBSERVACIONES | Z5: SI | AA5: NO | AB5: Folio | AC5: OBSERVACIONES | AD5: SI | AE5: NO | AF5: Folio | AG5: OBSERVACIONES | AH5: SI | AI5: NO | AJ5: Folio | AK5: OBSERVACIONES | AL5: SI | AM5: NO | AN5: Folio | AO5: OBSERVACIONES | AP5: SI | AQ5: NO | AR5: Folio | AS5: OBSERVACIONES | AT5: SI | AU5: NO | AV5: Folio | AW5: OBSERVACIONES | AX5: SI | AY5: NO | AZ5: Folio | BA5: OBSERVACIONES | BB5: SI | BC5: NO | BD5: Folio | BE5: OBSERVACIONES | BF5: SI | BG5: NO | BH5: Folio | BI5: OBSERVACIONES | BJ5: SI | BK5: NO | BL5: Folio | BM5: OBSERVACIONES | BN5: SI | BO5: NO | BP5: Folio | BQ5: OBSERVACIONES | BR5: SI | BS5: NO | BT5: Folio | BU5: OBSERVACIONES | BV5: SI | BW5: NO | BX5: Folio | BY5: OBSERVACIONES | BZ5: SI | CA5: NO | CB5: Folio | CC5: OBSERVACIONES | CD5: SI | CE5: NO | CF5: Folio | CG5: OBSERVACIONES | CH5: SI | CI5: NO | CJ5: Folio | CK5: OBSERVACIONES | CL5: SI | CM5: NO | CN5: Folio | CO5: OBSERVACIONES | CP5: SI | CQ5: NO | CR5: Folio | CS5: OBSERVACIONES
A6: REQUISITOS HABILITANTES
A7: 4.1.2.1. MANIFESTACIÓN DE ACEPTACIÓN DE REQUERIMIENTOS MÍNIMOS OBLIGATORIOS
A8: El oferente deberá manifestar mediante la suscripción por el Representante Legal del FORMATO No. 15, que entiende, acepta y cumple cada uno de los requerimientos técnicos mínimos obligatorios exigidos en el Anexo No. 1. Especificaciones Técnicas, el anexo No. 2 Análisis del sector, el Anexo No 3. Matriz de Riesgos, el Anexo No. 4 Acuerdo Niveles de Servicio y el Anexo No. 5 Estudio de Mercado, los cuales han sido dados a conocer, sin perjuicio de que en la ejecución del contrato se acuerden entre las partes requerimientos técnicos adicionales a los establecidos en el proceso de selección. | B8: X | E8: Anexa formato No. 15 | F8: X | I8: Anexa formato No. 15 | BZ8: X | CC8: Anexa formato No. 15 | CD8: X | CG8: Anexa formato No. 15 | CH8: X | CK8: Anexa formato No. 15 | CL8: X | CO8: Anexa formato No. 15 | CP8: X | CS8: Anexa formato No. 15
A9: TOTAL | B9: CUMPLE | F9: CUMPLE | J9: NO CUMPLE | N9: NO CUMPLE | R9: CUMPLE | V9: NO CUMPLE | Z9: NO CUMPLE | AD9: NO CUMPLE | AH9: NO CUMPLE | AL9: NO CUMPLE | AP9: NO CUMPLE | AT9: NO CUMPLE | AX9: NO CUMPLE | BB9: NO CUMPLE | BF9: NO CUMPLE | BJ9: NO CUMPLE | BN9: NO CUMPLE | BR9: NO CUMPLE | BV9: NO CUMPLE | BZ9: CUMPLE | CD9: CUMPLE | CH9: CUMPLE | CL9: CUMPLE | CP9: CUMPLE
