Workbook
Name _____PJ50: #REF!
Name _____pj51: #REF!
Name ____PJ50: #REF!
Name ____pj51: #REF!
Name ___PJ50: #REF!
Name ___pj51: #REF!
Name __123Graph_A: #REF!
Name __123Graph_AGraph2: #REF!
Name __123Graph_X: #REF!
Name __PJ50: #REF!
Name __PJ50: #REF!
Name __pj51: #REF!
Name __pj51: #REF!
Name _01: #REF!
Name _01: #REF!
Name _A17000: #REF!
Name _A20000: #REF!
Name _A30000: #REF!
Name _APU221: #REF!
Name _APU465: [2]!absc
Name _Parse_Out: #REF!
Name _PJ50: #REF!
Name _pj51: #REF!
Name _Table1_In1: #REF!
Name _Table1_Out: #REF!
Name \a: [3]Egre99SH!#REF!
Name \a: [3]Egre99SH!#REF!
Name \b: [3]Egre99SH!#REF!
Name \b: [3]Egre99SH!#REF!
Name \c: [3]Egre99SH!#REF!
Name \c: [3]Egre99SH!#REF!
Name \d: [3]Egre99SH!#REF!
Name \d: [3]Egre99SH!#REF!
Name \e: [3]Egre99SH!#REF!
Name \e: [3]Egre99SH!#REF!
Name \g: [3]Egre99SH!#REF!
Name \i: [3]Egre99SH!#REF!
Name \r: [3]Egre99SH!#REF!
Name \t: [3]Egre99SH!#REF!
Name °b: [3]Egre99SH!#REF!
Name A: #REF!
Name A_impresión_IM: #REF!
Name AA: #REF!
Name absc: #N/A
Name ACADEMIA: [4]DEPENDENCIAS!$E$2:$E$5
Name ACALZADA: #REF!
Name ACALZADA: #REF!
Name acarg1: [5]INTRO!$C$36
Name acarg2: [5]INTRO!$C$39
Name acarg3: [6]INTRO!#REF!
Name Activo_corriente: #REF!
Name Activo_total: #REF!
Name AD: #REF!
Name adoq: [7]!absc
Name alc: [8]!absc
Name Ambiental: #REF!
Name AÑO1988: #REF!
Name AÑO1988: #REF!
Name AÑO1996: #REF!
Name AÑO1996: #REF!

Sheet PRESUPUESTO
C3: ANEXO 1. PRESUPUESTO
C5: AUNAR ESFUERZOS TÉCNICOS, ADMINISTRATIVOS Y FINANCIEROS ENTRE LA SECRETARÍA DE AMBIENTE DEL DEPARTAMENTO DE CUNDINAMARCA Y LA CORPORACIÓN AUTÓNOMA REGIONAL DE LA ORINOQUIA - CORPORINOQUIA PARA GARANTIZAR LA PROTECCIÓN Y RECUPERACIÓN DEL RECURSO HÍDRICO, LA DISMUNICIÓN DE LA REFORESTACIÓN Y EL AUMENTO DE LAS PRECIPITACIONES EN LAS DIFERENTES FUENTES HIDRICAS, A TRAVES DE LA INSTALACIÓN DE ESTUFAS ECOEFICIENTES Y SUS RESPECTIVOS HUERTOS LEÑEROS EN EL DEPARTAMENTO DE CUNDINAMARCA
C9: 1. CONSTRUCCIÓN DE ESTUFAS ECOEFICIENTES
C10: 1.1. ESTUFAS ECOEFICIENTES | F10: UNIDAD | G10: CANTIDAD | H10: VALOR UNITARIO | I10: VALOR TOTAL
C12: 1.1.1. | D12: ESTUFAS ECOEFICIENTES | F12: UND. | G12: 200 | H12: ='1.ESTUFAS'!I42 -> 1558191.5 | I12: =(G12*H12) -> 3.116383e+08
C13: Subtotal Costo Directo Estufas Ecoeficientes | I13: =SUM(I12:I12) -> 3.116383e+08
C15: ADMINISTRACION | H15: 0.26 | I15: =ROUND(H15*I13,0) -> 81025957
C16: IMPREVISTO | H16: 0.01 | I16: =ROUND(H16*I13,0) -> 3116383
C17: UTILIDAD | H17: 0.04 | I17: =ROUND(H17*I13,0) -> 12465532
C18: IVA SOBRE UTILIDAD | H18: 0.19 | I18: =ROUND(I17*H18,0) -> 2368451
C19: Subtotal Estufas Ecoeficientes | I19: =SUM(I15:I18)+I13 -> 4.1061462e+08
C22: 2. ESTABLECIMIENTO DE HUERTOS LEÑEROS
C23: 2.1. HUERTOS LEÑEROS | F23: UNIDAD | G23: CANTIDAD | H23: VALOR UNITARIO | I23: VALOR TOTAL
C25: 2.1.1. | D25: SIEMBRA HUERTOS LEÑEROS | F25: UND. | G25: =G12 -> 200 | H25: ='2.HUERTO'!F45 -> 813579 | I25: =(G25*H25) -> 162715800
C26: Subtotal Huertos Leñeros | I26: =SUM(I25:I25) -> 162715800
C29: SUBTOTAL COSTO DIRECTO | I29: =I19+I26 -> 5.7333042e+08
C31: VALOR EN EFECTIVO DEL CONVENIO | I31: =I29 -> 5.7333042e+08
C33: VALOR TOTAL DEL CONVENIO | I33: =I31 -> 5.7333042e+08

Sheet 1.ESTUFAS
C3: =PRESUPUESTO!$C$3 -> ANEXO 1. PRESUPUESTO
C4: =PRESUPUESTO!$C$5 -> AUNAR ESFUERZOS TÉCNICOS, ADMINISTRATIVOS Y FINANCIEROS ENTRE LA SECRETARÍA DE AMBIENTE DEL DEPARTAMENTO DE CUNDINAMARCA Y LA CORPORACIÓN AUTÓNOMA REGIONAL DE LA ORINOQUIA - CORPORINOQUIA PARA GARANTIZAR LA PROTECCIÓN Y RECUPERACIÓN DEL RECURSO HÍDRICO, LA DISMUNICIÓN DE LA REFORESTACIÓN Y EL AUMENTO DE LAS PRECIPITACIONES EN LAS DIFERENTES FUENTES HIDRICAS, A TRAVES DE LA INSTALACIÓN DE ESTUFAS ECOEFICIENTES Y SUS RESPECTIVOS HUERTOS LEÑEROS EN EL DEPARTAMENTO DE CUNDINAMARCA
C5: =PRESUPUESTO!C10 -> 1.1. ESTUFAS ECOEFICIENTES
C6: I. EQUIPO | K6: VALOR COTIZACIONES
K7: SCC GLOBAL COLOMBIA | L7: MEROBEL LTDA | M7: SIDEB SAS | N7: PROMEDIO
C8: Descripción | E8: Tipo | F8: Tarifa/Dia | G8: Rendimiento | H8: Valor-Unit. | K8: Tarifa/Dia
C9: HERRAMIENTA MENOR | F9: =N9 -> 18149 | G9: 1 | H9: =+F9/G9 -> 18149 | K9: 16334.1 | L9: 18149 | M9: 19963.9 | N9: =(K9+L9+M9)/3 -> 18149
H10: Sub-Total | I10: =SUM(H9:H9) -> 18149
C12: II. MATERIALES | K12: VALOR COTIZACIONES
K13: SCC GLOBAL COLOMBIA | L13: MEROBEL LTDA | M13: SIDEB SAS | N13: PROMEDIO
C14: Descripción | E14: Unidad | F14: Precio-Unit. | G14: Cantidad | H14: Valor-Unit. | K14: Precio-Unit.
C15: Base en (90cm largo x 70 cm de ancho x 10cm de grosor) Concreto 3000 psi | E15: m3 | F15: 459583.5 | G15: 0.063 | H15: =F15*G15 -> 28953.76 | K15: 413625.15 | L15: 459583.5 | M15: 505541.85 | N15: =(K15+L15+M15)/3 -> 459583.5
C16: Planchas | E16: un | F16: =N16 -> 52000 | G16: 2 | H16: =F16*G16 -> 104000 | K16: 46800 | L16: 52000 | M16: 57200 | N16: =(K16+L16+M16)/3 -> 52000
C17: Puertas industriales | E17: un | F17: =N17 -> 75000 | G17: 1 | H17: =F17*G17 -> 75000 | K17: 67500 | L17: 75000 | M17: 82500 | N17: =(K17+L17+M17)/3 -> 75000
C18: Registros de aluminio | E18: un | F18: =N18 -> 27000 | G18: 2 | H18: =F18*G18 -> 54000 | K18: 24300 | L18: 27000 | M18: 29700 | N18: =(K18+L18+M18)/3 -> 27000
C19: Hornos de aluminio | E19: un | F19: =N19 -> 105260 | G19: 1 | H19: =F19*G19 -> 105260 | K19: 94734 | L19: 105260 | M19: 115786 | N19: =(K19+L19+M19)/3 -> 105260
C20: Correderas de aluminio | E20: un | F20: =N20 -> 35000 | G20: 1 | H20: =F20*G20 -> 35000 | K20: 31500 | L20: 35000 | M20: 38500 | N20: =(K20+L20+M20)/3 -> 35000
C21: Marcos Angulo | E21: un | F21: =N21 -> 26992 | G21: 1 | H21: =F21*G21 -> 26992 | K21: 24292.8 | L21: 26992 | M21: 29691.2 | N21: =(K21+L21+M21)/3 -> 26992
C22: Parrillas Leña | E22: un | F22: =N22 -> 48980 | G22: 1 | H22: =F22*G22 -> 48980 | K22: 44082 | L22: 48980 | M22: 53878 | N22: =(K22+L22+M22)/3 -> 48980
C23: Tubos de Gress | E23: un | F23: =N23 -> 26000 | G23: 3 | H23: =F23*G23 -> 78000 | K23: 23400 | L23: 26000 | M23: 28600 | N23: =(K23+L23+M23)/3 -> 26000
C24: Enchape de pared tableta de gres | E24: m2 | F24: =N24 -> 56220 | G24: 1 | H24: =F24*G24 -> 56220 | K24: 50598 | L24: 56220 | M24: 61842 | N24: =(K24+L24+M24)/3 -> 56220
C25: Mamposteria Ladrillo Tipo Santafe | E25: m2 | F25: =N25 -> 205490 | G25: 2.25 | H25: =F25*G25 -> 462352.5 | K25: 184941 | L25: 205490 | M25: 226039 | N25: =(K25+L25+M25)/3 -> 205490
C26: Manposteria Ladrillo Tolete | E26: m2 | F26: =N26 -> 52957 | G26: 1.34 | H26: =F26*G26 -> 70962.38 | K26: 47661.3 | L26: 52957 | M26: 58252.7 | N26: =(K26+L26+M26)/3 -> 52957
H27: Sub-Total | I27: =SUM(H15:H26) -> 1145720.6
C29: III. TRANSPORTES | K29: VALOR COTIZACIONES
K30: SCC GLOBAL COLOMBIA | L30: MEROBEL LTDA | M30: SIDEB SAS | N30: PROMEDIO
C31: k | D31: Vol-peso ó Cant. | E31: Distancia | F31: M3-Km | G31: Tarifa | H31: Valor-Unit. | K31: Tarifa
C32: TRASPORTE | D32: 1 | G32: =N32 -> 149953 | H32: =+D32*G32 -> 149953 | K32: 134957.7 | L32: 149953 | M32: 164948.3 | N32: =(K32+L32+M32)/3 -> 149953
C33: TRASIEGO | D33: 1 | G33: =N33 -> 70000 | H33: =+D33*G33 -> 70000 | K33: 63000 | L33: 70000 | M33: 77000 | N33: =(K33+L33+M33)/3 -> 70000
H34: Sub-Total | I34: =SUM(H32:H33) -> 219953
K35: VALOR COTIZACIONES
C36: IV. MANO DE OBRA | K36: SCC GLOBAL COLOMBIA | L36: MEROBEL LTDA | M36: SIDEB SAS | N36: PROMEDIO
C37: Trabajador | D37: Jornal | E37: Prestaciones | F37: Jornal Total | G37: Rendimiento | H37: Valor-Unit. | K37: Jornal
C38: OFICIAL | D38: =N38 -> 69648.34 | E38: =+D38*0.75 -> 52236.255 | F38: =D38+E38 -> 121884.6 | G38: 1 | H38: =+F38/G38 -> 121884.6 | K38: 69648.34 | L38: 69648.34 | M38: 69648.34 | N38: =(K38+L38+M38)/3 -> 69648.34
C39: AYUDANTE | D39: =N39 -> 29991 | E39: =+D39*0.75 -> 22493.25 | F39: =D39+E39 -> 52484.25 | G39: =G38 -> 1 | H39: =+F39/G39 -> 52484.25 | K39: 29991 | L39: 29991 | M39: 29991 | N39: =(K39+L39+M39)/3 -> 29991
H40: Sub-Total | I40: =SUM(H37:H39) -> 174368.85
C42: VALOR UNITARIO ESTUFA ECOEFICIENTE | I42: =(I10+I27+I34+I40) -> 1558191.5

Sheet 2.HUERTO
B2: =PRESUPUESTO!$C$3 -> ANEXO 1. PRESUPUESTO
B3: =PRESUPUESTO!$C$5 -> AUNAR ESFUERZOS TÉCNICOS, ADMINISTRATIVOS Y FINANCIEROS ENTRE LA SECRETARÍA DE AMBIENTE DEL DEPARTAMENTO DE CUNDINAMARCA Y LA CORPORACIÓN AUTÓNOMA REGIONAL DE LA ORINOQUIA - CORPORINOQUIA PARA GARANTIZAR LA PROTECCIÓN Y RECUPERACIÓN DEL RECURSO HÍDRICO, LA DISMUNICIÓN DE LA REFORESTACIÓN Y EL AUMENTO DE LAS PRECIPITACIONES EN LAS DIFERENTES FUENTES HIDRICAS, A TRAVES DE LA INSTALACIÓN DE ESTUFAS ECOEFICIENTES Y SUS RESPECTIVOS HUERTOS LEÑEROS EN EL DEPARTAMENTO DE CUNDINAMARCA
B4: =PRESUPUESTO!C23 -> 2.1. HUERTOS LEÑEROS
B5: ÍTEM | C5: CATEGORÍA DE INVERSIÓN | E5: Unidad | F5: Area siembra Ha/ Huerto | G5: Valor Unitario por Jornal | H5: ValorTotal/Huerto | J5: VALOR COTIZACIONES Valor Unitario por Jornal
B6: 1. | C6: MANO DE OBRA
B7: 1.1 | C7: Establecimiento Plantación Forestal por Ha | J7: GAM INGENIERIA SAS | K7: O-I OBRAS E INGENIERIA SOSTENIBLE SAS | L7: JM CONSTRUCION Y CONSULTORIA S.A.S. | M7: SJ CONSTRUCCION Y CONSULTORIA S.A.S. | N7: PROMEDIO
B8: 1.1.1 | C8: Trazado | E8: Jornales | F8: 0.0225 | G8: =N8 -> 1466620 | H8: =ROUND(F8*G8,0) -> 32999 | J8: 1553000 | K8: 1438000 | L8: 1380480 | M8: 1495000 | N8: =(J8+K8+L8+M8)/4 -> 1466620
B9: 1.1.2 | C9: Plateo | E9: Jornales | F9: 0.0225 | G9: =N9 -> 2016583.5 | H9: =ROUND(F9*G9,0) -> 45373 | J9: 2135000 | K9: 1977200 | L9: 1898134 | M9: 2056000 | N9: =(J9+K9+L9+M9)/4 -> 2016583.5
B10: 1.1.3 | C10: Ahoyado | E10: Jornales | F10: 0.0225 | G10: =N10 -> 2750118.5 | H10: =ROUND(F10*G10,0) -> 61878 | J10: 2911900 | K10: 2696200 | L10: 2588374 | M10: 2804000 | N10: =(J10+K10+L10+M10)/4 -> 2750118.5
B11: 1.1.4 | C11: Aplicación de fertilizantes y correctivos | E11: Jornales | F11: 0.0225 | G11: =N11 -> 1283651 | H11: =ROUND(F11*G11,0) -> 28882 | J11: 1360000 | K11: 1258470 | L11: 1208134 | M11: 1308000 | N11: =(J11+K11+L11+M11)/4 -> 1283651
B12: 1.1.5 | C12: Plantación(siembra) | E12: Jornales | F12: 0.0225 | G12: =N12 -> 2014833.5 | H12: =ROUND(F12*G12,0) -> 45334 | J12: 2135000 | K12: 1970200 | L12: 1898134 | M12: 2056000 | N12: =(J12+K12+L12+M12)/4 -> 2014833.5
B13: 1.1.6 | C13: Control fitosanitario | E13: Jornales | F13: 0.0225 | G13: =N13 -> 733285 | H13: =ROUND(F13*G13,0) -> 16499 | J13: 776500 | K13: 719000 | L13: 690240 | M13: 747400 | N13: =(J13+K13+L13+M13)/4 -> 733285
B14: 1. Mano de Obra - Establecimiento Plantación Forestal | H14: =ROUND(SUM(H8:H13),0) -> 230965 | J14: =SUM(J8:J13) -> 10871400 | K14: =SUM(K8:K13) -> 10059070 | L14: =SUM(L8:L13) -> 9663496 | M14: =SUM(M8:M13) -> 10466400 | N14: =SUM(N8:N13) -> 10265092
B15: Los ítems 1.1.1. al 1.1.7 se encuentran excluidos de IVA según lo establece Estatuto Tributario Nacional en el artículo 476 Servicios excluidos del impuesto sobre las ventas, numeral 24, literales d y l.
B17: ÍTEM | C17: ESPECIFICACIONES | D17: Unidad | E17: Cantidad / Ha | F17: Cantidad / Huerto | G17: Vr Unitario | H17: Vr Total / Huerto | J17: VALOR COTIZACIONES Vr Unitario
B18: 2. | C18: INSUMOS
B19: 2.1 | C19: Establecimiento Plantación Forestal | J19: GAM INGENIERIA SAS | K19: O-I OBRAS E INGENIERIA SOSTENIBLE SAS | L19: JM CONSTRUCION Y CONSULTORIA S.A.S. | M19: SJ CONSTRUCCION Y CONSULTORIA S.A.S. | N19: PROMEDIO
B20: 2.1.1 | C20: Material vegetal (Incluye transporte) | D20: Árbol | E20: 1600 | F20: 100 | G20: =N20 -> 4302.5 | H20: =ROUND(F20*G20,0) -> 430250 | J20: 4590 | K20: 4200 | L20: 4000 | M20: 4420 | N20: =(J20+K20+L20+M20)/4 -> 4302.5
B21: 2.1.2 | C21: NPK(15-15-15 ó similar) | D21: Bulto | E21: 1.6 | F21: 0.1 | G21: =N21 -> 153000 | H21: =ROUND(F21*G21,0) -> 15300 | J21: 162000 | K21: 150000 | L21: 144000 | M21: 156000 | N21: =(J21+K21+L21+M21)/4 -> 153000
B22: 2.1.3 | C22: Correctivos | D22: Bulto | E22: 3.2 | F22: 0.2 | G22: =N22 -> 29100 | H22: =ROUND(F22*G22,0) -> 5820 | J22: 31000 | K22: 28000 | L22: 27500 | M22: 29900 | N22: =(J22+K22+L22+M22)/4 -> 29100
B23: 2.1.4 | C23: Fertilizantes menores | D23: Bulto | E23: 1 | F23: 0.0225 | G23: =N23 -> 171937.5 | H23: =ROUND(F23*G23,0) -> 3869 | J23: 182250 | K23: 168000 | L23: 162000 | M23: 175500 | N23: =(J23+K23+L23+M23)/4 -> 171937.5
B24: 2.1.5 | C24: Hidroretenedor | D24: Kgr. | E24: 8 | F24: 0.5 | G24: =N24 -> 69925 | H24: =ROUND(F24*G24,0) -> 34963 | J24: 74200 | K24: 68000 | L24: 66000 | M24: 71500 | N24: =(J24+K24+L24+M24)/4 -> 69925
B25: 2.1.6 | C25: Insecticida | D25: Kgr.-Lts. | E25: 1 | F25: 0.0225 | G25: =N25 -> 86675 | H25: =ROUND(F25*G25,0) -> 1950 | J25: 91800 | K25: 85000 | L25: 81500 | M25: 88400 | N25: =(J25+K25+L25+M25)/4 -> 86675
B26: 2.INSUMOS (Ítems2.1.1+2.2+2.3+2.4+2.5) | H26: =SUM(H20:H25) -> 492152 | J26: =SUM(J20:J25) -> 545840 | K26: =SUM(K20:K25) -> 503200 | L26: =SUM(L20:L25) -> 485000 | M26: =SUM(M20:M25) -> 525720 | N26: =SUM(N20:N25) -> 514940
B27: Los ítems 2.1.1 al 2.1.6 se encuentran excluidos de IVA de acuerdo con lo establecido en el art 424 de Estatuto Tributario (Partidas arancelarias 06.02.20; 25.18.10; 31.01; 31.04, 31.05.)
B29: ÍTEM | C29: CATEGORÍA DE INVERSIÓN
B30: 3. | C30: COSTOS INDIRECTOS
B31: 3.1 | C31: Establecimiento Plantación Forestal | H31: Valor Total
B32: 3.1.1 | C32: Herramientas = ( 5% MANO DE OBRA. Establecimiento Plantacion Forestal. Item 1.1) | H32: =ROUND((H14)*0.05,0) -> 11548
B33: 3.1.2 | C33: Transporte (8% INSUMOS. Establecimiento Plantacion forestal Item 2.1 ). Se excluye material vegetal | H33: =ROUND((H26-H20)*8%,0) -> 4952
B34: 3. COSTOS INDIRECTOS (Ítems3.1.1+3.1.2) | H34: =SUM(H32:H33) -> 16500
B35: Herramientas excluidas de IVA según lo establece el Estatuto Tributario Nacional en el Art 424 Arancel 84.36.80
B36: Transporte Excluido de IVA Art 476 EstatutoTributario
C38: RESUMEN PRESUPUESTO
C39: ÍTEM | D39: DESCRIPCIÓN | F39: VALOR
C40: 1. | D40: MANO DE OBRA | F40: =H14 -> 230965
C41: 2. | D41: INSUMOS | F41: =H26 -> 492152
C42: 3. | D42: COSTO INDIRECTOS | F42: =H34 -> 16500
C43: TOTAL (Sin Replanteo) | F43: =SUM(F40:F42) -> 739617
C44: 4. | D44: REPLANTEO | F44: =ROUND(F43*10%,0) -> 73962
...

Sheet  AIU-Obra
A3: =PRESUPUESTO!C5 -> AUNAR ESFUERZOS TÉCNICOS, ADMINISTRATIVOS Y FINANCIEROS ENTRE LA SECRETARÍA DE AMBIENTE DEL DEPARTAMENTO DE CUNDINAMARCA Y LA CORPORACIÓN AUTÓNOMA REGIONAL DE LA ORINOQUIA - CORPORINOQUIA PARA GARANTIZAR LA PROTECCIÓN Y RECUPERACIÓN DEL RECURSO HÍDRICO, LA DISMUNICIÓN DE LA REFORESTACIÓN Y EL AUMENTO DE LAS PRECIPITACIONES EN LAS DIFERENTES FUENTES HIDRICAS, A TRAVES DE LA INSTALACIÓN DE ESTUFAS ECOEFICIENTES Y SUS RESPECTIVOS HUERTOS LEÑEROS EN EL DEPARTAMENTO DE CUNDINAMARCA
E5: COSTO DIRECTO DE OBRA (CD) | G5: =PRESUPUESTO!I13 -> 3.116383e+08
E6: TERMINO DE EJECUCIÓN DE OBRA (MESES) | G6: 4
A8: A. ADMINISTRACIÓN
A9: ÍTEM | B9: DESCRIPCION | C9: UN | D9: % DEDICACION | E9: TIEMPO (MESES) | F9: ASIGNACION BASICA ACTUALIZADA (INC. FACTOR PRESTACIONAL) | H9: VALOR
A10: 1 | B10: PERSONAL PROFESIONAL Y TECNICO ADMINISTRATIVO
A14: SUBTOTAL | H14: =SUM(H11:H13) -> 0
A15: 2 | B15: OTROS GASTOS
B16: GRAVAMEN DE MOVIMIENTOS FINANCIEROS (4X1000) | C16: UN | H16: =+ROUND((F49-H32-15%*F46)*0.004,2) -> 1335803.4
A17: SUBTOTAL | H17: =SUM(H16:H16) -> 1335803.4
A18: 3 | B18: GASTOS LEGALES OBRA
B19: POLIZA OBRA | H19: =1%*G5 -> 3116383
A20: SUBTOTAL | H20: =SUM(H19) -> 3116383
A21: 4 | B21: IMPUESTOS
B22: RETENCION EN LA FUENTE (2% SOBRE EL VALOR GRAVABLE DEL CONTRATO) | C22: UN | F22: =F49-F46 -> 408246169 | G22: 0.02 | H22: =ROUND(F22*G22,2) -> 8164923.4
B23: CONTRIBUCION ESPECIAL PARA CONTRATOS DE OBRA PUBLICA (5% SOBRE EL VALOR GRAVABLE DEL CONTRATO) | C23: UN | G23: 0.05 | H23: =ROUND(F22*G23,2) -> 20412308
B24: INDUSTRIA Y COMERCIO (6,99/1000 SOBRE EL VALOR GRAVABLE DEL CONTRATO). | C24: UN | G24: =6.9/1000 -> 0.0069 | H24: =ROUND(F22*G24,2) -> 2816898.6
B25: ESTAMPILLA PRO-DESARROLLO DEPARTAMENTAL | C25: UN | G25: 0.02 | H25: =ROUND(F22*G25,2) -> 8164923.4
B26: ESTAMPILLA PRO-ELECTRIFICACIÓN | C26: UN | H26: 7300
B27: ESTAMPILLA PRO-HOSPITALES UNIVERSITARIOS DE CUNDINAMARCA | C27: UN | G27: 0.02 | H27: =ROUND(F22*G27,2) -> 8164923.4
B28: ESTAMPILLA PRO-CULTURA | C28: UN | G28: 0.01 | H28: =ROUND(F22*G28,2) -> 4082461.7
B29: ESTAMPILLA PRO-DESARROLLO UNIVERSIDAD DE CUNDINAMARCA | C29: UN | G29: 0.015 | H29: =ROUND(F22*G29,2) -> 6123692.5
B30: ESTAMPILLA PARA EL BIENESTAR DEL ADULTO MAYOR | C30: UN | G30: 0.02 | H30: =+ROUND(F22*G30,2) -> 8164923.4
B31: ESTAMPILLA PRODEPORTE | C31: UN | G31: 0.025 | H31: =ROUND(F22*G31,2) -> 10206154
A32: SUBTOTAL | H32: =SUM(H22:H31) -> 76308509
A34: SUBTOTAL VALOR DE LA ADMINISTRACIÓN | H34: =+H32+H20+H17+H14 -> 80760695 | J34: componente del A
J35: =SUM(G22:G31) -> 0.1869 | K35: carga de impuestos
E36: PORCENTAJE ADMINISTRACIÓN | H36: =IFERROR(ROUND((H34/G5),2),0) -> 0.26 | J36: =H36-J35 -> 0.0731 | K36: carga administrativa
D42: Obra directo | F42: =+G5 -> 3.116383e+08
D43: A | E43: 0.26 | F43: =ROUND(F42*E43,2) -> 81025957
D44: I | E44: 0.01 | F44: =ROUND(F42*E44,2) -> 3116383
D45: U | E45: 0.04 | F45: =F42*E45 -> 12465532
D46: IVA SOBRE U | F46: =ROUND(F45*0.19,0) -> 2368451
D47: Consultoría
D48: Gerencia
D49: Total | F49: =ROUND(SUM(F42:F48),0) -> 410614620

Sheet Hoja1
