Workbook

Sheet CONSOLIDADO
A1: ITEM | B1: CONCEPTO | C1: VALOR | D1: SUBTOTAL
A2: 1 | B2: prestacion de servicios | C2: =PERSONAL!E6 -> 45000000 | D2: =C2 -> 45000000
A3: 2 | B3: nuevo comienzo | C3: =+'NUEVO COMIENZO'!E38 -> 42903400 | D3: =C3 -> 42903400
A4: 3 | B4: realizacion evento adulto mayor | C4: =+'ADULTO MAYOR'!E28 -> 74762400 | D4: =C4 -> 74762400
A5: 4 | B5: actividades ludicas | C5: ='ACTIVIDADES LUDICAS'!G5 -> 20000000 | D5: =C5 -> 20000000
A6: 5 | B6: insumos | C6: =INSUMOS!D36 -> 33859000 | D6: =C6 -> 33859000
A7: 8 | B7: encuentro de saberes | C7: ='ENCUENTRO DE SABERES'!E9 -> 8185000 | D7: =C7 -> 8185000
A8: 9 | B8: entrega de anchetas | C8: ='ENTREGA ANCHETAS DE DICIEMBRE'!F14 -> 23080000 | D8: =C8 -> 23080000
A9: 10 | B9: ayudas tecnicas | C9: ='AYUDAS TECNICAS'!E9 -> 28080000 | D9: =C9 -> 28080000
A10: TOTAL | D10: =SUM(D2:D9) -> 275869800

Sheet PERSONAL
A1: CONTRATOS PRESTACION DE SERVICIOS
A2: ITEM | B2: OBJETO | C2: No. PERSONAS | D2: UNITARIO | E2: SUBTOTAL
A3: 1 | B3: contrato de prestacion de servicios profesionales como fisioterapeuta, para actividades ludicas en el municipio de Sandona Narino. (durante toda la ejecucion del convenio) | C3: 1 | D3: 15000000 | E3: =D3*C3 -> 15000000
A4: 2 | B4: contrato de prestacion de servicios de apoyo a la gestion como nutricionista en el municipio de Sandona (N). (durante toda la ejecucion del convenio) | C4: 1 | D4: =D3 -> 15000000 | E4: =D4*C4 -> 15000000
A5: 3 | B5: contrato de prestacion de servicios profesionales como coordinador general del convenio. (durante toda la ejecucion del convenio) | C5: 1 | D5: 15000000 | E5: =D5*C5 -> 15000000
A6: SUBTOTAL | E6: =SUM(E3:E5) -> 45000000

Sheet NUEVO COMIENZO
A1: EVENTO NUEVO COMIENZO
A2: ITEM | B2: DESCRIPCION | C2: CANTIDAD | D2: VR UNITARIO | E2: SUBTOTAL
A3: 1 | B3: Publicidad y promoción del evento “NUEVO COMIENZO”, mediante perifoneo en el área urbana y rural, por un espacio de tres (03) días en vehículo tipo camioneta, las rutas a recorrer serán designadas por el supervisor del contrato | C3: 3 | D3: 500000 | E3: =D3*C3 -> 1500000
A4: 2 | B4: Arco de bombas de 6 metros de longitud con bombar R-12 el color será designado por el supervisor del contrato (20 paquetas X 50 UNIDADES) con soporte en tubo PVC de 6 metros de largo, contiene cinta decorativa para moños de 45 mts de longitud por 2.5. cm de ancho y Nylon transparente de 12 libras - carreto de 100 mts de largo | C4: 1 | D4: 600000 | E4: =D4*C4 -> 600000
A5: 3 | B5: (2) Pendones de dimensiones 50 cm de ancho x 70 cm con con imágenes a color y mensajes alusivos al respeto y dignificación de los adultos mayores | C5: 2 | D5: 30000 | E5: =D5*C5 -> 60000
A6: 4 | B6: (1) pendon de dimensiones 50 cm de ancho x 70 con mesaje de" NUEVO COMIENZO " | C6: 1 | D6: =D5 -> 30000 | E6: =D6*C6 -> 30000
A7: 5 | B7: (3) Pendones de dimensiones 1,80 cm de ancho x 80 cm de alto con araña metalica con imágenes a color y mensajes alusivos al respeto y dignificación de los adultos mayores | C7: 3 | D7: 160000 | E7: =D7*C7 -> 480000
A8: 6 | B8: Moños elaborados en cinta decorativa de dimensiones de 20 cms de diametro ubicados en los 2 extremos laterales del lugar del evento | C8: 12 | D8: 12700 | E8: =D8*C8 -> 152400
A9: 7 | B9: Ubicación de Mesa de Honor y mesa de jurado calificador, cada una deberá estar compuesta por 3 sillas decoradas mesa, mantel y arreglo floral | C9: 1 | D9: 200000 | E9: =D9*C9 -> 200000
A10: 8 | B10: Alquiler, disposición y organización de sillas plásticas en el lugar del evento y hora estipuladas por el supervisor del contrato, de acuerdo a las siguientes características: Largo: 71.6cm; Ancho: 49cm; Alto: 23 cm. 2.3Kg, color: Blanco | C10: 350 | D10: 700 | E10: =D10*C10 -> 245000
A11: 9 | B11: Diseño e impresión y entrega de pendón medidas 3 metros de longitud x 1 metro de ancho en lona Baner en el cual ubicará la presentación del evento (el diseño se acordará con el supervisor del contrato). | C11: 1 | D11: 150000 | E11: =D11*C11 -> 150000
A12: 10 | B12: Alquiler, disposición y organización de Mesas plásticas desarmables, en el lugar del evento y hora estipuladas por el supervisor del contrato, de acuerdo a las siguientes características: medidas: 71cm X 73 cm x 77 Cm de altura, color: Blanco. | C12: 40 | D12: 5000 | E12: =D12*C12 -> 200000
A13: =+A12+1 -> 11 | B13: Alquiler de sonido durante toda la organización del evento, con las siguientes características: montaje de seis (06) cabinas originales y cinco (05) sub bajos, monitores de piso y de trípode, micrófonos para instrumentos de viento y micrófonos de aire multidireccional, estructura metálica profesional para suspender el sonido en el aire. | C13: 1 | D13: 2000000 | E13: =D13*C13 -> 2000000
A14: 12 | B14: Disponer de un animador para la ejecución del evento “NUEVO COMIENZO, OTRO MOTIVO PARA VIVIR”, que estará presente en la duración de todo el evento, con la idoneidad y experiencia. | C14: 1 | D14: 500000 | E14: =D14*C14 -> 500000
A15: =+A14+1 -> 13 | B15: Cobija térmica ovejera grande cama sencilla 210 cm x 120 cm | C15: 50 | D15: 86200 | E15: =D15*C15 -> 4310000
A16: 14 | B16: Refrigerio para los asistentes, acompañantes y organizadores del evento consiste en: panificado y bebida lactea de 200ml | C16: 700 | D16: 5000 | E16: =D16*C16 -> 3500000
A17: =+A16+1 -> 15 | B17: Almuerzo para los asistentes, acompañantes y organizadores del evento consistente en: porción de arroz aprox. 90 gr, una porción de una farinacea (papa) aprox. 35 gr, Porción de ensalada de verduras frescas aprox. 35 gr, principio de legumbres (lentejas) aprox. 45 gr, una proteína (pollo dos presas) aprox. 250 gr y bebida natural (limonada) 250 ml. El almuerzo deberá ser servido en empaque desechable para alimentos, cubiertos plasticos y servilletas con los debidos protocolos de bioseguridad. | C17: 350 | D17: 15000 | E17: =D17*C17 -> 5250000
A18: 16 | B18: Honorarios de personal para entrega de hidratación, refrigerios, ubicación de los participantes en sus respectivos stand, aplicación de protocolos de bioseguridad y entrega de incentivos a los participantes, jurado calificador, mesa de honor | C18: 10 | D18: 60000 | E18: =D18*C18 -> 600000
A19: =+A18+1 -> 17 | B19: Diseño e impresión de escarapela de dimensiones 10 cm de ancho x 11 cm de largo, por cada participante del evento y jurado calificador. | C19: 50 | D19: 6500 | E19: =D19*C19 -> 325000
A20: 18 | B20: entrega de pasabocas, de dulces tipicos de la region. | C20: 700 | D20: 3000 | E20: =D20*C20 -> 2100000
A21: 19 | B21: Diseño e impresión y entrega de carnet de identificación de dimensiones 10 cm de ancho x 11 cm de largo, para el equipo de apoyo logistico del evento. | C21: 30 | D21: 5700 | E21: =D21*C21 -> 171000
A22: =+A21+1 -> 20 | B22: Entrega de diploma a los participantes del evento en papel Kimberly y tinta de colores (El contenido del diploma será acordado con el supervisor del contrato) | C22: 50 | D22: 7000 | E22: =D22*C22 -> 350000
A23: 21 | B23: entrega de placas conmemorativas a los 5 primeros puestos | C23: 5 | D23: 30000 | E23: =D23*C23 -> 150000
A24: =+A23+1 -> 22 | B24: premiacion primer puesto | C24: 1 | D24: 300000 | E24: =D24*C24 -> 300000
A25: 23 | B25: premiacion segundo puesto | C25: 1 | D25: 300000 | E25: =D25*C25 -> 300000
A26: =+A25+1 -> 24 | B26: premiacion tercer puesto | C26: 1 | D26: 300000 | E26: =D26*C26 -> 300000
A27: 25 | B27: premiacion cuarto puesto | C27: 1 | D27: 300000 | E27: =D27*C27 -> 300000
A28: 26 | B28: premiacion quinto puesto | C28: 1 | D28: 300000 | E28: =D28*C28 -> 300000
A29: 27 | B29: Hidratación para los participantes, mesa de honor y jurado del evento que consiste en la entrega de una botella de agua de 600 ml | C29: 700 | D29: 3000 | E29: =D29*C29 -> 2100000
A30: =+A29+1 -> 28 | B30: Stand por cada ambiente lúdico que consta de 4 bases elaboradas en madera, con carteles alusivos a cada ambiente (El contenido de los Stand será acordado con el supervisor del contrato). | C30: 4 | D30: 100000 | E30: =D30*C30 -> 400000
A31: 29 | B31: Presentación de Grupo Musical que deberá entonar pasillos, cumbias y san juanitos por un periodo de 40 minutos en dos ocasiones durante el desarrollo del evento. | C31: 2 | D31: 2000000 | E31: =D31*C31 -> 4000000
A32: =+A31+1 -> 30 | B32: diseno, impresión y entrega de pendon medidas 3 metros de longitud x 1 metro de ancho. | C32: 1 | D32: 150000 | E32: =D32*C32 -> 150000
A33: 31 | B33: talleres de habitos y estilos de vida saludables | C33: 1 | D33: 2000000 | E33: =D33*C33 -> 2000000
A34: 32 | B34: talleres de promocion y prevencion de enfermedades | C34: 1 | D34: 2000000 | E34: =D34*C34 -> 2000000
A35: =+A34+1 -> 33 | B35: talleres de autocuidado en el adulto y personas mayores | C35: 1 | D35: 2000000 | E35: =D35*C35 -> 2000000
A36: 34 | B36: conjunto sudadera chaqueta y camiseta polo, sombrero y par de zapatos deportivos. | C36: 8 | D36: 360000 | E36: =D36*C36 -> 2880000
A37: 35 | B37: Transporte municipal de los adultos mayores desde las diferentes veredas del municipio hasta el lugar del evento y regreso hasta las distintas veredas de origen a la finalización del evento, las rutas y cronograma serán entregados con anterioridad por parte del Supervisor del Contrato. | C37: 1 | D37: 3000000 | E37: =D37*C37 -> 3000000
A38: SUBTOTAL | E38: =SUM(E3:E37) -> 42903400

Sheet ADULTO MAYOR
A1: EVENTO DIA ADULTO MAYOR
A2: ITEM | B2: DESCRIPCION | C2: CANTIDAD | D2: VR UNITARIO | E2: SUBTOTAL
A3: 1 | B3: Publicidad y promoción del evento “CELEBRACIÓN DEL DÍA NACIONAL DEL ADULTO MAYOR”, mediante perifoneo en el área urbana y rural, por un espacio de tres (3) días en vehículo tipo camioneta, las rutas a recorrer serán designadas por el supervisor del contrato. | C3: 3 | D3: 500000 | E3: =D3*C3 -> 1500000
A4: =+A3+1 -> 2 | B4: Arreglo y decoración del lugar donde se realizará el evento “CELEBRACIÓN DEL DÍA NACIONAL DEL ADULTO MAYOR”, con bombas R-12, el color será designado por el supervisor del contrato | C4: 1 | D4: 900000 | E4: =D4*C4 -> 900000
A5: =+A4+1 -> 3 | B5: Alquiler, disposición y organización de sillas plásticas en el lugar del evento y hora estipuladas por el supervisor del contrato, de acuerdo a las siguientes características: Largo: 71.6cm; Ancho: 49cm; Alto: 230cm. 2.3Kg. | C5: 1300 | D5: 700 | E5: =D5*C5 -> 910000
A6: =+A5+1 -> 4 | B6: Alquiler, disposición y organización de Mesas plásticas desarmables, en el lugar del evento y hora estipuladas por el supervisor del contrato, de acuerdo a las siguientes características: medidas: 71cm X 73 cm x 77 Cm de altura. | C6: 20 | D6: 5000 | E6: =D6*C6 -> 100000
A7: =+A6+1 -> 5 | B7: Alquiler de sonido durante toda la organización del evento, con las siguientes características: montaje de doce (12) cabinas originales y diez (10) sub bajos, monitores de piso y de trípode, micrófonos para instrumentos de viento y micrófonos de aire multidireccional, estructura metálica profesional para suspender el sonido en el aire. | C7: 1 | D7: 2000000 | E7: =D7*C7 -> 2000000
A8: =+A7+1 -> 6 | B8: Disponer de un animador para la ejecución del evento “CELEBRACIÓN DEL DÍA NACIONAL DEL ADULTO MAYOR”, que estará presente en la duración de todo el evento, con la idoneidad y experiencia. | C8: 1 | D8: 500000 | E8: =D8*C8 -> 500000
A9: =+A8+1 -> 7 | B9: Estímulos a los participantes de las dinámicas del evento que consiste en una ancheta la cual debe contener: arroz, azucar, sal, aceite vegetal , pasta, lenteja, harina, arrocillo, café, atun, recipiente plastico tipo ponchera | C9: 100 | D9: 70000 | E9: =D9*C9 -> 7000000
A10: =+A9+1 -> 8 | B10: entrega de pasabocas, de dulces tipicos de la region. | C10: 1300 | D10: 3000 | E10: =D10*C10 -> 3900000
A11: =+A10+1 -> 9 | B11: Refrigerio para los asistentes, acompañantes y organizadores del evento consiste en: panificado y bebida lactea de 200ml | C11: 1300 | D11: 5000 | E11: =D11*C11 -> 6500000
A12: =+A11+1 -> 10 | B12: Almuerzo para los asistentes, acompañantes y organizadores del evento consistente en: porción de arroz aprox. 90 gr, una porción de una farinacea (papa) aprox. 35 gr, Porción de ensalada de verduras frescas aprox. 35 gr, principio de legumbres (lentejas) aprox. 45 gr, una proteína (pollo dos presas) aprox. 250 gr y bebida natural (limonada) 250 ml. El almuerzo deberá ser servido en empaque desechable para alimentos, cubiertos plasticos y servilletas con los debidos protocolos de bioseguridad. | C12: 1300 | D12: 15000 | E12: =D12*C12 -> 19500000
A13: =+A12+1 -> 11 | B13: Presentación de 2 Danzas folcloricas las cuales deberan realizar dos presentaciones cada una en el desarrollo del evento | C13: 2 | D13: 300000 | E13: =D13*C13 -> 600000
A14: =+A13+1 -> 12 | B14: realizacion reinado adulto mayor | C14: 1 | D14: 2000000 | E14: =D14*C14 -> 2000000
A15: =+A14+1 -> 13 | B15: Integración musical con la puesta en tarima de tres (3) grupos musicales con las siguientes características: su voz principal, voces asistentes, acompañado por instrumentos de percusión, cuerda y teclados, con una duración en tarima de una hora cada grupo musical. | C15: 3 | D15: 2000000 | E15: =D15*C15 -> 6000000
A16: =+A15+1 -> 14 | B16: (2) Pendones de dimensiones 50 cm de ancho x 70 cm con con imágenes a color y mensajes alusivos al respeto y dignificación de los adultos mayores. | C16: 3 | D16: 30000 | E16: =D16*C16 -> 90000
B17: (1) pendon de dimensiones 50 cm de ancho x 70 con mesaje de" DIA DEL ADULTO MAYOR" | C17: 1 | D17: 30000 | E17: =D17*C17 -> 30000
A18: =+A16+1 -> 15 | B18: (3) Pendones de dimensiones 1,80 cm de ancho x 2,00 mt de alto con imágenes a color y mensajes alusivos al respeto y dignificación de los adultos mayores | C18: 3 | D18: 160000 | E18: =D18*C18 -> 480000
A19: =+A18+1 -> 16 | B19: Moños elaborados en cinta decorativa de dimensiones de 20 cms de diametro ubicados en los 2 extremos laterales del lugar del evento | C19: 12 | D19: 12700 | E19: =D19*C19 -> 152400
A20: =+A19+1 -> 17 | B20: Desarrollo de dinámicas y juegos de integración para los participantes del evento y asistentes que consisten en: - Bailoterapia, misma que deberá desarrollarse por un lapso de 20 minutos. -2 dinámicas que deberan realizarse por un lapso de 10 minutos cada una | C20: 1 | D20: 2000000 | E20: =D20*C20 -> 2000000
A21: =+A20+1 -> 18 | B21: Transporte municipal de los adultos mayores desde las diferentes veredas del municipio hasta el lugar del evento “Coliseo Cubierto Gerardo Arcos Meza” y regreso hasta las distintas veredas de origen a la finalización del evento, las rutas y cronograma serán entregados con anterioridad por parte del Supervisor del Contrato. | C21: 1 | D21: 6100000 | E21: =D21*C21 -> 6100000
A22: =+A21+1 -> 19 | B22: Personal encargado de repartir incentivos, refrigerios, ubicar y organizar a las personas asistentes, organizar y disponer los elementos que entregará la Administración Municipal necesario para cada actividad. | C22: 50 | D22: 60000 | E22: =D22*C22 -> 3000000
A23: =+A22+1 -> 20 | B23: talleres de habitos y estilos de vida saludables | C23: 1 | D23: 2000000 | E23: =D23*C23 -> 2000000
A24: =+A23+1 -> 21 | B24: talleres de promocion y prevencion de enfermedades | C24: 1 | D24: 2000000 | E24: =D24*C24 -> 2000000
A25: =+A24+1 -> 22 | B25: talleres de autocuidado en el adulto y personas mayores | C25: 1 | D25: 2000000 | E25: =D25*C25 -> 2000000
A26: 23 | B26: fotos recuerdo dia adulto mayor | C26: 1 | D26: 1500000 | E26: =D26*C26 -> 1500000
A27: 24 | B27: Honorarios por organización de logística | C27: 1 | D27: 4000000 | E27: =D27*C27 -> 4000000
A28: SUBTOTAL | E28: =SUM(E3:E27) -> 74762400

Sheet ACTIVIDADES LUDICAS
A1: ACTIVIDADES LUDICAS
A2: ITEM | B2: DESCRIPCION | C2: BENEFICIARIOS | D2: JORNADAS | E2: CANTIDAD | F2: VR UNITARIO | G2: SUBTOTAL
A3: 1 | B3: Hidratacion | C3: 50 | D3: 50 | E3: =D3*C3 -> 2500 | F3: =3000 -> 3000 | G3: =F3*E3 -> 7500000
A4: 2 | B4: refregerios | C4: 50 | D4: 50 | E4: =D4*C4 -> 2500 | F4: 5000 | G4: =F4*E4 -> 12500000
A5: SUBTOTAL | G5: =SUM(G3:G4) -> 20000000

Sheet INSUMOS
A1: INSUMOS ACTIVIDADES LUDICAS
A2: MATERIALES | B2: CANTIDAD | C2: VALOR UNITARIO | D2: VALOR TOTAL
A3: Tijera escolar punta roma, en acero inoxidable | B3: 200 | C3: 4000 | D3: =B3*C3 -> 800000
A4: Barra de silicona transparente en barra delgada 7.4 mm, largo 30 cm. Paquete por 57 | B4: 8 | C4: 51000 | D4: =B4*C4 -> 408000
A5: Silicona líquida transparente 100ml. Adhesivo Multipropósito de aplicación en frío. | B5: 200 | C5: 7800 | D5: =B5*C5 -> 1560000
A6: Pinceles de cerda dura, punta redonda tamaño 10 y 12. | B6: 200 | C6: 4000 | D6: =B6*C6 -> 800000
A7: Pinceles sinteticos, uso para pintura, acuerala y oleo, tamaños del 8 al 14 | B7: 200 | C7: 5500 | D7: =B7*C7 -> 1100000
A8: Paquete de fomi x10, color piel, tamaño lamina 70x90 cm | B8: 20 | C8: 20000 | D8: =B8*C8 -> 400000
A9: Paquete de fomi x10, color blanco, tamaño lamina 70x90 cm | B9: 20 | C9: 20000 | D9: =B9*C9 -> 400000
A10: Paquete de fomi x10, color negro, tamaño lamina 70x90 cm | B10: 20 | C10: 20000 | D10: =B10*C10 -> 400000
A11: Paquete de fomi x10, color verde aguamarina tamaño lamina 70x90 cm | B11: 20 | C11: 40000 | D11: =B11*C11 -> 800000
A12: Paquete de fomi x10, en colores tamaño lamina 70x90 cm | B12: 20 | C12: 40000 | D12: =B12*C12 -> 800000
A13: Cartulina Escolar 50x70 Colores Surtidos X 10 Ud, gramaje 150, uso para manualidades escuela y oficina | B13: 20 | C13: 24000 | D13: =B13*C13 -> 480000
A14: Pistola de silicona 20 w + 3 barras de silicona, material plástico y aluminio, potencia de funcionamiento 20W, voltaje de funcionamiento 100 a 240V, Diámetro de la boquilla 0.070 - 0.078 pulgadas, longitud del Cable 55 pulgadas | B14: 15 | C14: 30000 | D14: =B14*C14 -> 450000
... A35: Rollo de cinta decorativa papel para moños por 45 mts x 2,5 cm | B35: 19 | C35: 11000 | D35: =B35*C35 -> 209000
A36: SUBTOTAL | D36: =SUM(D3:D35) -> 33859000

Sheet ENCUENTRO DE SABERES
A1: REUNIONES ENCUENTRO DE SABERES
A2: ITEM | B2: DESCRIPCION | C2: CANTIDAD | D2: VR UNITARIO | E2: SUBTOTAL
A3: 1 | B3: Sillas | C3: 200 | D3: 700 | E3: =D3*C3 -> 140000
A4: =+A3+1 -> 2 | B4: mesas | C4: 15 | D4: 3000 | E4: =D4*C4 -> 45000
A5: =+A4+1 -> 3 | B5: Almuerzo para los asistentes, acompañantes y organizadores del evento consistente en: porción de arroz aprox. 90 gr, una porción de una farinacea (papa) aprox. 35 gr, Porción de ensalada de verduras frescas aprox. 35 gr, principio de legumbres (lentejas) aprox. 45 gr, una proteína (pollo dos presas) aprox. 250 gr y bebida natural (limonada) 250 ml. El almuerzo deberá ser servido en empaque desechable para alimentos, cubiertos plasticos y servilletas con los debidos protocolos de bioseguridad. | C5: 200 | D5: 15000 | E5: =D5*C5 -> 3000000
A6: =+A5+1 -> 4 | B6: talleres derechos del adulto mayor y jovenes. | C6: 1 | D6: 2000000 | E6: =D6*C6 -> 2000000
A7: =+A6+1 -> 5 | B7: Refrigerio para los asistentes, acompañantes y organizadores del evento consiste en: panificado y bebida lactea de 200ml | C7: 200 | D7: 5000 | E7: =D7*C7 -> 1000000
A8: =+A7+1 -> 6 | B8: talleres de habitos y estilos de vida saludable | C8: 1 | D8: 2000000 | E8: =D8*C8 -> 2000000
A9: SUBTOTAL | E9: =SUM(E3:E8) -> 8185000

Sheet ENTREGA ANCHETAS DE DICIEMBRE
A1: ANCHETAS
A2: ITEM | B2: DESCRIPCION | C2: PRESENTACION | D2: CANTIDAD | E2: VR UNITARIO | F2: SUBTOTAL
A3: 1 | B3: Galleta navideña de Harina de trigo fortificada (contiene gluten, niacina, tiamina (vitamina B1), riboflavina (vitamina b2) fumarato ferroso y acido fólico) azúcar, grasa vegetal de palma no hidrogenada, aguza, azúcar invertido, color caramelo I, cocoa en polvo, almidón de maíz, emulsionantes (lecitina de soya, estearoil láctico de sodio), sal yodada, margarina, proteína de soya, acidulante (acido cítrico) saborizantes artificiales, aceite refinado de maíz no hidrogenado, huevo en polvo, leudantes (bicarbonato de socio, bicarbonato de amonio, fosfato monocíclico) color natura (anato betanina, carmín) | C3: 300 gr | D3: 400 | E3: 9000 | F3: =E3*D3 -> 3600000
A4: =+A3+1 -> 2 | B4: preparado en polvo para la elaboracion en frio de natillas compuesta por almidon modificado E'1422, azucar, dextrosa, estabilizante E'407, aromas, sal,colorantes E'102, | C4: 300 gr | D4: 400 | E4: 8000 | F4: =E4*D4 -> 3200000
A5: =+A4+1 -> 3 | B5: mezcla para preparar buñuelos, humedad %13. aspecto - polvo, color - blanco ligeramente crema, olor - libre de olores extranos, sabor - dulce ligeramente salado. | C5: 300 gr | D5: 400 | E5: 6500 | F5: =E5*D5 -> 2600000
A6: =+A5+1 -> 4 | B6: ARROZ BLANCO TRADICIONAL : Producto seleccionado y clasificado electrónicamente, capas de la aleurona, arroz blanco, de grano entero tamaño medio, con ácido fólico y vitaminas. Seco y limpio para el consumo, no debe presentar signos de infestación, paquete X1000 grs. Información Nutricional Tamaño de la porción: ¼ Taza (50 g) Porciones por envase: 20 Cantidad por Porción Calorías 175 Calorías de grasa 0 % Valor Diario* Grasa Total 0 g 0% Grasa saturada 0 g 0% Grasa Trans 0 g Colesterol 0 mg 0% Sodio 0 mg 0% Carbohidratos Totales 41 g 14% Fibra Dietaría 1 g 4% Azucares 3 g Proteína 3 g Vitamina A 10% Vitamina C 0% Calcio 0% Hierro 0% Ácido Fólico 10% *Los porcentajes de Valores Diarios están basados en una dieta de 2000 calorías | C6: 1000 gr | D6: 400 | E6: 3500 | F6: =E6*D6 -> 1400000
A7: =+A6+1 -> 5 | B7: Aceite Vegetal refinado de Soya: aceite de acuerdo a la norma NTC 255, extraído de semillas o germen natural, aceite comestible, apto para consumo humano, sin ningún sabor u olor, el cual debe ser refinado, descerado, blanqueado y desodorizado, de apariencia liquida, color Traslucido amarillento, sabor neutro, contenido de ácidos grasos libres máximo del 0.2%. Aspecto limpio a 25°C, libre de rancidez, de materiales extraños, de sustancias empleadas en su extracción y refinación, empaque en botella de plástico PET con tapa de rosca plástica por 1000 Ml, Producto Colombiano. información nutricional Carbohidratos0 g Fibra dietética0 g Azúcar0 g Grasas130 g Saturadas2 g Poliinsaturados1 g Monoinsaturados10 g Trans0 g Proteínas0 g Sodio0 mg Potasio0 mg Colesterol0 mg Vitamina A0 % Vitamina C0 % Calcio0 % Hierro0 % | C7: 1000 ml | D7: 400 | E7: 14000 | F7: =E7*D7 -> 5600000
A8: 6 | B8: PANELA: producto solido de jugo de caña color café. La panela debe estar libre de olores, sabores extraños, ablandamientos excesivos; no puede estar fermentada ni presentar ataques de hongos o insectos. En la elaboración no se permite el uso de hidrosulfito de sodio ni hiposulfito de sodio, ni otras sustancias químicas con propiedades blanqueadoras. La calidad que debe cumplir según la NTC 1311. (segunda Revisión). Calidad tipo: Extra. Características físicoquímicas dentro de los siguientes parámetros: - Humedad (%) 0.075 máximo. - Azucares no reductores (como sacarosa %) 83 máximo - Cenizas (%) 0.05 máximo. En empaque de Polipropileno termoencogible de material atóxico, resistente, e inalterable al contacto con el producto, panela redonda paquete por 2 unidades x 833 g. producto Colombiano | C8: 500 gr | D8: 400 | E8: 2300 | F8: =E8*D8 -> 920000
A9: 7 | B9: SAL PURIFICADA YODADA: Sal purificada, refinada, yodada y fluorizada, seca y limpia para consumo humano. Contiene anticompactante, de color blanco, en empaque de plástico transparente, no debe presentar signos de infestación o infecciones, presentación 500 gr. Producto Colombiano | C9: 1000 gr | D9: 400 | E9: 1200 | F9: =E9*D9 -> 480000
A10: =+A9+1 -> 8 | B10: Harina de trigo: polvo blanco finamente dividido obtenido del endospermo del trigo, fortificada molida y cernida del endospermo y capas internas del pericarpio de granos de trigo común, con Vitamina B1,Vitamina B2, niacina, hierro, acido fólico sin sustancias tóxicas, adulterantes y conservantes, libre de residuos de plaguicidas e impurezas, empacado en bolsa de polietileno de baja densidad para proteger de humedad, que no altere la calidad del producto en presentación de 500 gr. producto Colombiano | C10: 1000 gr | D10: 400 | E10: 3500 | F10: =E10*D10 -> 1400000
A11: =+A10+1 -> 9 | B11: Pasta natural de seco: color amarillo de forma espagueti preparado mediante el secado apropiado de mezcla de agua- Harina de trigo duro y/o sémola de trigo (Cereal que contiene gluten): los cuales se encuentran fortificados por los siguientes micro nutrientes: Niacina, Hierro, Tiamina (Vitamina B1), Riboflavina (Vitamina B2), Ácido Fólico, agua y colorante natural (cúrcuma), empacado en polipropileno laminado como empaque primario de material atoxico que asegura la buena conservación en presentación de 250 gr., producto Colombiano | C11: 250 gr | D11: 400 | E11: 2900 | F11: =E11*D11 -> 1160000
A12: =+A11+1 -> 10 | B12: Fideos pasta: natural de sopa de color amarillo forma de cabello de ángel color amarillo de forma espagueti preparado mediante el secado apropiado de mezcla de agua- Harina de trigo duro y/o sémola de trigo (Cereal que contiene gluten): los cuales se encuentran fortificados por los siguientes micro nutrientes: Niacina, Hierro, Tiamina (Vitamina B1), Riboflavina (Vitamina B2), Ácido Fólico, agua y colorante natural (cúrcuma), empacado en polipropileno laminado como empaque primario de material atoxico que asegura la buena conservación en presentación de 250 gr., producto Colombiano | C12: 250 gr | D12: 400 | E12: =E11 -> 2900 | F12: =E12*D12 -> 1160000
A13: =+A12+1 -> 11 | B13: Azúcar blanca granulada; libre de impurezas; Polarización (ºZ a 20ºC),Min. 99,4, Cenizas (9%) Máx. 0,150,Humedad (9%), Máx. 0,07, Color (UI) Máx. 150, Turbiedad (UI) Máx. 80, Coliformes totales (UFC/10g)Máx. 80, Coliformes Fecales (UFC/10g) 0, Bacterias Mesofílicas Aerobias (UFC/10g) Máx. 200, Mohos y levaduras (UFC/10g) Máx. 100 en presentación de 1000 grs. producto Colombiano | C13: 1000 gr | D13: 400 | E13: 3900 | F13: =E13*D13 -> 1560000
A14: SUBTOTAL | F14: =SUM(F3:F13) -> 23080000

Sheet AYUDAS TECNICAS
A1: AYUDAS TECNICAS
A2: ITEM | B2: DESCRIPCION | C2: CANTIDAD | D2: VR UNITARIO | E2: SUBTOTAL
A3: 1 | B3: Silla de Ruedas básica con chasís plegable con marco marco de acero al carbono, espaldar en lona, altura al nivel de ángulo escapular eje dual que permite levantar el asiento, apoya brazos acolchados cortos extraíbles para una mejor transferencia del paciente. Reposa pies abatibles con correas de sujeción en velcroc y con elevapies, frenos laterales largos, ruedas posteriores de 24” con aro autopropulsor antideslizante, ruedas anteriores de 6” macizas, ruedas tope antivuelco | C3: 24 | D3: 580000 | E3: =D3*C3 -> 13920000
A4: 2 | B4: Caminador doble función, con mecanismo plegable, tapones antideslizantes y botones de cobre. Altura promedio 86 cm, ancho aproximado de 50.8 cm, capacidad de peso 113 Kg | C4: 20 | D4: 180000 | E4: =D4*C4 -> 3600000
A5: 3 | B5: Bastón plegable adecuado para diferentes alturas, mango en plastico y cuerpo en aluminio, tamaño aprox. Plegado 28 x 13 x 3 cm, desplegado 93 x 13 x 3 cm, peso aprox. 240 grs, tiene mecanismo de pulsador para ajustar y adaptar su altura. | C5: 40 | D5: 44000 | E5: =D5*C5 -> 1760000
A6: 4 | B6: Muleta canadiense adulto integral de fabricación en aluminio anodizado resistente y ligero, están diseñadas con todos los requisitos de funcionalidad y calidad. Codera con diseño ergonómico, material de la empuñadura plástico, ajustable en altura, extensión telescópica, tapón antideslizante de goma para una mejor tracción, capacidad de peso 100 Kg, calibre del tubo 1 mm, altura total : mínima 72 cm, máximo 94 cm | C6: 20 | D6: 57000 | E6: =D6*C6 -> 1140000
A7: 5 | B7: Muletas en aluminio, con graduación de altura por medio de pin, axilares y manilares abullonados (par) Capacidad de peso 100 KGS - Peso: 1.92 kgs aprox, talla S, M, L | C7: 14 | D7: 90000 | E7: =D7*C7 -> 1260000
A8: 6 | B8: Colchon antiescaras con forro antifluido, dimensiones, Ancho: 90 cms, Largo: 1.90 mts, Espesor: 14 cms, Forrado en material anti-fluido con Espuma de alta densidad | C8: 16 | D8: 400000 | E8: =D8*C8 -> 6400000
A9: TOTAL | E9: =SUM(E3:E8) -> 28080000
