Workbook
Name \a: #REF!
Name \b: #REF!
Name \eliminar: [1]RESUM96!#REF!
Name \eliminar1: [1]RESUM96!#REF!
Name \q: #REF!
Name _______________EST1: #REF!
Name _______________EST10: #REF!
Name _______________EST11: #REF!
Name _______________EST12: #REF!
Name _______________EST13: #REF!
Name _______________EST14: #REF!
Name _______________EST15: #REF!
Name _______________EST16: #REF!
Name _______________EST17: #REF!
Name _______________EST18: #REF!
Name _______________EST19: #REF!
Name _______________EST2: #REF!
Name _______________EST3: #REF!
Name _______________EST4: #REF!
Name _______________EST5: #REF!
Name _______________EST6: #REF!
Name _______________EST7: #REF!
Name _______________EST8: #REF!
Name _______________EST9: #REF!
Name _______________EXC1: #REF!
Name _______________EXC10: #REF!
Name _______________EXC11: #REF!
Name _______________EXC12: #REF!
Name _______________EXC2: #REF!
Name _______________EXC3: #REF!
Name _______________EXC4: #REF!
Name _______________EXC5: #REF!
Name _______________EXC6: #REF!
Name _______________EXC7: #REF!
Name _______________EXC8: #REF!
Name _______________EXC9: #REF!
Name _____________EST1: #REF!
Name _____________EST10: #REF!
Name _____________EST11: #REF!
Name _____________EST12: #REF!
Name _____________EST13: #REF!
Name _____________EST14: #REF!
Name _____________EST15: #REF!
Name _____________EST16: #REF!
Name _____________EST17: #REF!
Name _____________EST18: #REF!
Name _____________EST19: #REF!
Name _____________EST2: #REF!
Name _____________EST3: #REF!
Name _____________EST4: #REF!
Name _____________EST5: #REF!
Name _____________EST6: #REF!
Name _____________EST7: #REF!
Name _____________EST8: #REF!
Name _____________EST9: #REF!
Name _____________EXC1: #REF!
Name _____________EXC10: #REF!
Name _____________EXC11: #REF!
Name _____________EXC12: #REF!
Name _____________EXC2: #REF!

Sheet PPTO GRAL DEL CTO
B2: FORMATO No. 2
B3: FORMATO OFICIAL DE PRECIOS UNITARIOS PARA ITEMS DE ILUMINACION-CERTIFICACIONES RETIE-RETILAP Y PUESTA EN MARCHA DEL SISTEMA. A COSTO DIRECTO.
B4: NOMBRE DEL PROPONENTE:
B5: NOMBRE DEL REPRESENTANTE LEGAL:
B6: Manifiesto que he leído y comprendo completamente el pliego de condiciones del proceso de selección TMSA-LP-09-2022 (sus formatos, formularios, anexos, estudios previos) que tiene por objeto: “Realizar la actualización tecnológica del sistema de iluminación del Portal Eldorado incluido el suministro, instalación y puesta en funcionamiento de dispositivos de iluminación tipo LED y un sistema automatizado de control de iluminación, de acuerdo con las especificaciones fijadas por la Entidad” y procedo a presentar los valores unitarios que hacen parte de la propuesta económica:
B8: ITEM | C8: DESCRIPCIÓN | D8: U.M. | E8: PRECIO UNITARIO MÍNIMO A OFERTAR (No incluye AIU) | F8: PRECIO UNITARIO OBTENIDO POR LA ENTIDAD EN EL ESTUDIO DE MERCADO / PRECIO UNITARIO MAXIMO A OFERTAR (No incluye AIU) | G8: PRECIO UNITARIO VALOR PROPUESTO (No incluye AIU) | H8: CANTIDADES PARA EVALUACIÓN (Única y exclusivamente para efectos de evaluación) | I8: SUBTOTAL | J8: VERIFICACIÓN VALOR UNITARIO PROPUESTO
B9: 1.1 | C9: =VLOOKUP(B9,'LISTA DE ACTIVIDADES'!$B$4:E$200,2,0) -> SUMINISTRO E INSTALACIÓN DE LUMINARIA (L01) (3,9M) APLIQUE UP-DOWN, 20W, 948 LM, IP 65, 30X10,7X17 CM, IRC >80, 4000K, FP=0,98, CRI= 80, 50,000 HORAS L70, 5 AÑOS DE GARANTÍA.. INCLUYE TORRE ANDAMIO CERTIFICADO. | D9: =VLOOKUP(B9,'LISTA DE ACTIVIDADES'!$B$4:E$200,3,0) -> UN | E9: =ROUND(F9*0.9,0) -> 320486 | F9: =VLOOKUP(B9,'LISTA DE ACTIVIDADES'!$B$4:E$200,4,0) -> 356095 | H9: 35 | I9: =ROUND(G9*H9,0) -> 0 | J9: =IF(OR(G9<E9,G9>F9),"ERROR","OK") -> ERROR
B10: 1.2 | C10: =VLOOKUP(B10,'LISTA DE ACTIVIDADES'!$B$4:E$200,2,0) -> SUMINISTRO E INSTALACIÓN DE LUMINARIA (L02) (4M) DE 25.3W 3800 lm – 4000k, 150 LM/W, 100,000 HORAS L90, MACADAM STEP 3, IP67, IK09, CRI 70, LOR=100.. INCLUYE TORRE ANDAMIO CERTIFICADO. | D10: =VLOOKUP(B10,'LISTA DE ACTIVIDADES'!$B$4:E$200,3,0) -> UN | E10: =ROUND(F10*0.9,0) -> 1562809 | F10: =VLOOKUP(B10,'LISTA DE ACTIVIDADES'!$B$4:E$200,4,0) -> 1736454 | H10: 100 | I10: =ROUND(G10*H10,0) -> 0 | J10: =IF(OR(G10<E10,G10>F10),"ERROR","OK") -> ERROR
B11: 1.3 | C11: =VLOOKUP(B11,'LISTA DE ACTIVIDADES'!$B$4:E$200,2,0) -> SUMINISTRO E INSTALACIÓN DE LUMINARIA (L02) (4M) DE 25.3W 3800 lm – 4000k, 150 LM/W, 100,000 HORAS L90, MACADAM STEP 3, IP67, IK09, CRI 70, LOR=100.. INCLUYE MANLIFT. | D11: =VLOOKUP(B11,'LISTA DE ACTIVIDADES'!$B$4:E$200,3,0) -> UN | E11: =ROUND(F11*0.9,0) -> 1613343 | F11: =VLOOKUP(B11,'LISTA DE ACTIVIDADES'!$B$4:E$200,4,0) -> 1792603 | H11: 8 | I11: =ROUND(G11*H11,0) -> 0 | J11: =IF(OR(G11<E11,G11>F11),"ERROR","OK") -> ERROR
B12: 1.4 | C12: =VLOOKUP(B12,'LISTA DE ACTIVIDADES'!$B$4:E$200,2,0) -> SUMINISTRO E INSTALACIÓN DE LUMINARIA (L03) (2,6M) TIPO HERMÉTICA, 40W, 4968 LM, 120 LM/W, 4000K, FP= 0,96, IP 65, CRI=80, 100,000 HORAS L70.. INCLUYE TORRE ANDAMIO CERTIFICADO. | D12: =VLOOKUP(B12,'LISTA DE ACTIVIDADES'!$B$4:E$200,3,0) -> UN | E12: =ROUND(F12*0.9,0) -> 210914 | F12: =VLOOKUP(B12,'LISTA DE ACTIVIDADES'!$B$4:E$200,4,0) -> 234349 | H12: 26 | I12: =ROUND(G12*H12,0) -> 0 | J12: =IF(OR(G12<E12,G12>F12),"ERROR","OK") -> ERROR
B13: 1.5 | C13: =VLOOKUP(B13,'LISTA DE ACTIVIDADES'!$B$4:E$200,2,0) -> SUMINISTRO E INSTALACIÓN DE LUMINARIA (L04) HIGH BAY 37,5 W - 47W, IP66, 3937 LM - 5022 LM, IK 08, 100,000 HORAS, 4000K.. INCLUYE TORRE ANDAMIO CERTIFICADO. | D13: =VLOOKUP(B13,'LISTA DE ACTIVIDADES'!$B$4:E$200,3,0) -> UN | E13: =ROUND(F13*0.9,0) -> 631812 | F13: =VLOOKUP(B13,'LISTA DE ACTIVIDADES'!$B$4:E$200,4,0) -> 702013 | H13: 49 | I13: =ROUND(G13*H13,0) -> 0 | J13: =IF(OR(G13<E13,G13>F13),"ERROR","OK") -> ERROR
B14: 1.6 | C14: =VLOOKUP(B14,'LISTA DE ACTIVIDADES'!$B$4:E$200,2,0) -> SUMINISTRO E INSTALACIÓN DE LUMINARIA (L04) HIGH BAY 37,5 W - 47W, IP66, 3937 LM - 5022 LM, IK 08, 100,000 HORAS, 4000K.. INCLUYE MANLIFT. | D14: =VLOOKUP(B14,'LISTA DE ACTIVIDADES'!$B$4:E$200,3,0) -> UN | E14: =ROUND(F14*0.9,0) -> 673086 | F14: =VLOOKUP(B14,'LISTA DE ACTIVIDADES'!$B$4:E$200,4,0) -> 747873 | H14: 18 | I14: =ROUND(G14*H14,0) -> 0 | J14: =IF(OR(G14<E14,G14>F14),"ERROR","OK") -> ERROR
B15: 1.7 | C15: =VLOOKUP(B15,'LISTA DE ACTIVIDADES'!$B$4:E$200,2,0) -> SUMINISTRO E INSTALACIÓN DE LUMINARIA (L05) DE DESCOLGAR O SOBREPONER DE 42W 60CM, 100.000 HORAS L70, GARANTÍA DE 7 AÑOS, 120V-277V, 4013 LM, 4000K, IP40, 95 LM/W, CRI >80.INCLUYE 16m DE GUAYA-CABLE ACERO 1/4" + 4m DE CABLE ENCAUCHETADO 3x14 HFFRLS. INCLUYE TORRE ANDAMIO CERTIFICADO. | D15: =VLOOKUP(B15,'LISTA DE ACTIVIDADES'!$B$4:E$200,3,0) -> UN | E15: =ROUND(F15*0.9,0) -> 1139560 | F15: =VLOOKUP(B15,'LISTA DE ACTIVIDADES'!$B$4:E$200,4,0) -> 1266178 | H15: 8 | I15: =ROUND(G15*H15,0) -> 0 | J15: =IF(OR(G15<E15,G15>F15),"ERROR","OK") -> ERROR
B16: 1.8 | C16: =VLOOKUP(B16,'LISTA DE ACTIVIDADES'!$B$4:E$200,2,0) -> SUMINISTRO E INSTALACIÓN DE LUMINARIA (L06) DE DESCOLGAR O SOBREPONER ANTIVANDALICA DE BICICLETEROS EN PINTURA ELECTROSTÁTICA BLANCA, CONDIFUSOR DE POLICARBNATO DE ALTA TRANSMITANCIA, 4000K, CRI >80, 50,000 HORAS, 120-277V, FP =0,9, 1220MMX85MMX260MM. INCLUYE 4M DE GUAYA-CABLE ACERO 1/4". INCLUYE TORRE ANDAMIO CERTIFICADO. | D16: =VLOOKUP(B16,'LISTA DE ACTIVIDADES'!$B$4:E$200,3,0) -> UN | E16: =ROUND(F16*0.9,0) -> 954953 | F16: =VLOOKUP(B16,'LISTA DE ACTIVIDADES'!$B$4:E$200,4,0) -> 1061059 | H16: 21 | I16: =ROUND(G16*H16,0) -> 0 | J16: =IF(OR(G16<E16,G16>F16),"ERROR","OK") -> ERROR
B17: 1.9 | C17: =VLOOKUP(B17,'LISTA DE ACTIVIDADES'!$B$4:E$200,2,0) -> SUMINISTRO E INSTALACIÓN DE LUMINARIA (L07) TIPO WALL GRAZING, LED RGB, 48VCC CON CONTROL DMX512-RDM. L=1495MM, IK05, IP66, 1087 LM, 42,6W, 25,5 LM/W, 50,000 HORAS L80. INCLUYE BRAZO ORIENTABLE +/- 90° EN ACERO INOXIDABLE PARA APLICACIÓN EN PARED O EN TECHO - L=115 PARA LED MONOCROMÁTICO REGULABLE Y RGB. INCLUYE 1,5m DE TUBERIA CONDUIT GALVANIZADA IMC D=1" ACCESORIOS DE FIJACIÓN, 2m DE CABLE 3X12 HFFRLS, ACCESORIOS DE CONEXIÓN, CAJA 2400 TIPO RAWLET. TAPA, PRENSAESTOPA Y ACCESORIOS DE FIJACIÓN. INCLUYE ALQUILER DE MANLIFT. | D17: =VLOOKUP(B17,'LISTA DE ACTIVIDADES'!$B$4:E$200,3,0) -> UN | E17: =ROUND(F17*0.9,0) -> 5079382 | F17: =VLOOKUP(B17,'LISTA DE ACTIVIDADES'!$B$4:E$200,4,0) -> 5643758 | H17: 14 | I17: =ROUND(G17*H17,0) -> 0 | J17: =IF(OR(G17<E17,G17>F17),"ERROR","OK") -> ERROR
B18: 1.10 | C18: =VLOOKUP(B18,'LISTA DE ACTIVIDADES'!$B$4:E$200,2,0) -> SUMINISTRO E INSTALACIÓN DE LUMINARIA (L08) LINEAL DE 60C (44 20W Y 98 DE 10W) IP40, 1148 LUMEN, 57 LM/W, ANGULO DE APERTURA 105°, IRC= 80, 4000K, FP=0,98, 100.000 HORAS L70, 7 AÑOS DE GARANTÍA.. INCLUYE TORRE ANDAMIO CERTIFICADO. | D18: =VLOOKUP(B18,'LISTA DE ACTIVIDADES'!$B$4:E$200,3,0) -> UN | E18: =ROUND(F18*0.9,0) -> 357213 | F18: =VLOOKUP(B18,'LISTA DE ACTIVIDADES'!$B$4:E$200,4,0) -> 396903 | H18: 142 | I18: =ROUND(G18*H18,0) -> 0 | J18: =IF(OR(G18<E18,G18>F18),"ERROR","OK") -> ERROR
B19: 1.11 | C19: =VLOOKUP(B19,'LISTA DE ACTIVIDADES'!$B$4:E$200,2,0) -> SUMINISTRO E INSTALACIÓN DE LUMINARIA (L09) RECESADA DE 8W, IP40, 85-277V, 705 LM, 84 LM/W, 4000K, FP= 0,97, IRC 80, 90,9CM, 100,000 HORAS L70, 7 AÑOS DE GARANTÍA.. INCLUYE TORRE ANDAMIO CERTIFICADO. | D19: =VLOOKUP(B19,'LISTA DE ACTIVIDADES'!$B$4:E$200,3,0) -> UN | E19: =ROUND(F19*0.9,0) -> 151619 | F19: =VLOOKUP(B19,'LISTA DE ACTIVIDADES'!$B$4:E$200,4,0) -> 168465 | H19: 19 | I19: =ROUND(G19*H19,0) -> 0 | J19: =IF(OR(G19<E19,G19>F19),"ERROR","OK") -> ERROR
B20: 1.12 | C20: =VLOOKUP(B20,'LISTA DE ACTIVIDADES'!$B$4:E$200,2,0) -> SUMINISTRO E INSTALACIÓN DE LUMINARIA (L11) PANEL CUADRADO 60X60 DE 40W RECESADO, 4263 LM, IP40, 120-277V, 102LM/W, FP 0,99, 100.000 HORAS L70, 7 AÑOS DE GARANTÍA.. INCLUYE TORRE ANDAMIO CERTIFICADO. | D20: =VLOOKUP(B20,'LISTA DE ACTIVIDADES'!$B$4:E$200,3,0) -> UN | E20: =ROUND(F20*0.9,0) -> 277978 | F20: =VLOOKUP(B20,'LISTA DE ACTIVIDADES'!$B$4:E$200,4,0) -> 308864 | H20: 36 | I20: =ROUND(G20*H20,0) -> 0 | J20: =IF(OR(G20<E20,G20>F20),"ERROR","OK") -> ERROR
... B83: 4.13 | C83: =VLOOKUP(B83,'LISTA DE ACTIVIDADES'!$B$4:E$200,2,0) -> TRASIEGO, CARGUE, RETIRO Y DISPOSICIÓN FINAL DEL DRYWALL DESMONTADO. INCLUYE ENTREGA DE CERTIFICADO DE DISPOSICIÓN DE MATERIAL. | D83: =VLOOKUP(B83,'LISTA DE ACTIVIDADES'!$B$4:E$200,3,0) -> GLOBAL | E83: =ROUND(F83*0.9,0) -> 11832322 | F83: =VLOOKUP(B83,'LISTA DE ACTIVIDADES'!$B$4:E$200,4,0) -> 13147024 | H83: 1 | I83: =ROUND(G83*H83,0) -> 0 | J83: =IF(OR(G83<E83,G83>F83),"ERROR","OK") -> ERROR
B84: SUBTOTAL COSTOS DIRECTOS ESTIMADOS | I84: =SUM(I9:I83) -> 0
B85: A.I.U. PARA ACTIVIDADES DE ILUMINACIÓN | F85: 0.25 | I85: =ROUND(I84*F85,0) -> 0
B87: SUBTOTAL AJUSTES ESTIMADOS POR CAMBIO DE VIGENCIA PARA ACTIVIDADES ILUMINACIÓN
B89: ITEM | C89: DESCRIPCIÓN | D89: U.M. | E89: PRECIO UNITARIO MÍNIMO A OFERTAR (No incluye AIU) | F89: PRECIO UNITARIO OBTENIDO POR LA ENTIDAD EN EL ESTUDIO DE MERCADO / PRECIO UNITARIO MAXIMO A OFERTAR (No incluye IVA) | G89: PRECIO UNITARIO VALOR PROPUESTO (No incluye IVA) | H89: CANTIDADES PARA EVALUACIÓN (Única y exclusivamente para efectos de evaluación) | I89: SUBTOTAL | J89: VERIFICACIÓN VALOR UNITARIO PROPUESTO
B90: 5.1 | C90: =VLOOKUP(B90,'LISTA DE ACTIVIDADES'!$B$4:E$200,2,0) -> ACOMPAÑAMIENTO Y ASESORÍA TÉCNICA PARA INSTALACIÓN DE SISTEMA RGB CONTROLADO POR SISTEMA DMX A. VISITA PREVIA Y LEVANTAMIENTO DE ESQUEMA DE CONEXIÓN B. VISTA INICIO DE OBRA C. VISTA 30% AVANCE DE OBRA Y LEVANTAMIENTO DE INFORME D. 50% AVANCE DE OBRA Y LEVANTAMIENTO DE INFORME E. AVANCE DE OBRA 70% Y LEVANTAMIENTO DE INFORMEF. 90% AVANCE DE OBRA Y LEVANTAMIENTO DE INFORME G. 100% TERMINACIÓN DE INSTALACIÓN Y PUESTA A PUNTO Y PROGRAMACIÓN DE EQUIPOS Y ALQUILER DEL SOFTWARE DE PROGRAMACIÓN. | D90: =VLOOKUP(B90,'LISTA DE ACTIVIDADES'!$B$4:E$200,3,0) -> GLOBAL | E90: =ROUND(F90*0.9,0) -> 4530706 | F90: =ROUND(VLOOKUP(B90,'LISTA DE ACTIVIDADES'!$B$4:E$200,4,0)/1.19,0) -> 5034118 | H90: 1 | I90: =ROUND(H90*G90,0) -> 0 | J90: =IF(OR(G90<E90,G90>F90),"ERROR","OK") -> ERROR
B91: 5.2 | C91: =VLOOKUP(B91,'LISTA DE ACTIVIDADES'!$B$4:E$200,2,0) -> PUESTA EN MARCHA POR INGENIEROS CERTIFICADOS POR FABRICA PARA LA MISMA. CAPACITACIÓN PRE-INSTALACIÓN DE SOFTWARE Y PROGRAMACIÓN SEGÚN REQUERIMIENTOS DEL CLIENTE FINAL. | D91: =VLOOKUP(B91,'LISTA DE ACTIVIDADES'!$B$4:E$200,3,0) -> GLOBAL | E91: =ROUND(F91*0.9,0) -> 3289721 | F91: =ROUND(VLOOKUP(B91,'LISTA DE ACTIVIDADES'!$B$4:E$200,4,0)/1.19,0) -> 3655245 | H91: 1 | I91: =ROUND(H91*G91,0) -> 0 | J91: =IF(OR(G91<E91,G91>F91),"ERROR","OK") -> ERROR
B92: 5.3 | C92: =VLOOKUP(B92,'LISTA DE ACTIVIDADES'!$B$4:E$200,2,0) -> INSPECCIÓN RETIE USO FINAL REMODELACIÓN ILUMINACIÓN INTERNA PLATAFORMAS PORTAL DE TRANSMILENIO EL DORADO CON UN ÁREA TOTAL APROXIMADA DE 5000M2 APROXIMADAMENTE, INCLUYE REVISIÓN DESDE TABLERO ELÉCTRICO EXISTENTE HASTA SALIDAS DE ILUMINACIÓN DEL TABLERO TILC-N Y TILC - S, INCLUYE ILUMINACIÓN PLATAFORMA NORTE, PLATAFORMA CENTRAL COSTADO OCCIDENTAL, PLATAFORMA SUR Y PLATAFORMA CENTRAL COSTADO ORIENTAL, Y SISTEMA PUESTO A TIERRA. | D92: =VLOOKUP(B92,'LISTA DE ACTIVIDADES'!$B$4:E$200,3,0) -> GLOBAL | E92: =ROUND(F92*0.9,0) -> 3150000 | F92: =ROUND(VLOOKUP(B92,'LISTA DE ACTIVIDADES'!$B$4:E$200,4,0)/1.19,0) -> 3500000 | H92: 1 | I92: =ROUND(H92*G92,0) -> 0 | J92: =IF(OR(G92<E92,G92>F92),"ERROR","OK") -> ERROR
B93: 5.4 | C93: =VLOOKUP(B93,'LISTA DE ACTIVIDADES'!$B$4:E$200,2,0) -> INSPECCIÓN RETILAP REMODELACIÓN ILUMINACIÓN INTERNA PLATAFORMAS PORTAL DE TRANSMILENIO EL DORADO CON UN ÁREA TOTAL APROXIMADA DE 5000m2 APROXIMADAMENTE, INCLUYE ILUMINACIÓN PLATAFORMA NORTE, PLATAFORMA CENTRAL COSTADO OCCIDENTAL, PLATAFORMA SUR Y PLATAFORMA CENTRAL COSTADO ORIENTAL. | D93: =VLOOKUP(B93,'LISTA DE ACTIVIDADES'!$B$4:E$200,3,0) -> GLOBAL | E93: =ROUND(F93*0.9,0) -> 6750000 | F93: =ROUND(VLOOKUP(B93,'LISTA DE ACTIVIDADES'!$B$4:E$200,4,0)/1.19,0) -> 7500000 | H93: 1 | I93: =ROUND(H93*G93,0) -> 0 | J93: =IF(OR(G93<E93,G93>F93),"ERROR","OK") -> ERROR
B94: 5.5 | C94: =VLOOKUP(B94,'LISTA DE ACTIVIDADES'!$B$4:E$200,2,0) -> MANIOBRA DE MEDICIÓN DE AISLAMIENTO DE ACOMETIDAS Y TIERRA POR INGENIERO CAPACITADO Y CON EQUIPOS CORRESPONDIENTES PARA VERIFICACIÓN DE CABLEADO EXISTENTE, INCLUYE PERSONAL TÉCNICO Y ESCALERA. | D94: =VLOOKUP(B94,'LISTA DE ACTIVIDADES'!$B$4:E$200,3,0) -> GLOBAL | E94: =ROUND(F94*0.9,0) -> 575569 | F94: =ROUND(VLOOKUP(B94,'LISTA DE ACTIVIDADES'!$B$4:E$200,4,0),0) -> 639521 | H94: 3 | I94: =ROUND(H94*G94,0) -> 0 | J94: =IF(OR(G94<E94,G94>F94),"ERROR","OK") -> ERROR
B95: SUBTOTAL COSTOS PARA CERTIFICACIONES Y PUESTA EN MARCHA DEL SISTEMA | I95: =SUM(I90:I94) -> 0
B96: I.V.A. SOBRE LOS COSTOS PARA CERTIF. Y PUESTA EN MARCHA DEL SISTEMA | F96: 0.19 | I96: =ROUND(I95*F96,0) -> 0
B98: VALOR TOTAL DE LA OFERTA | I98: =I84+I85+I87+I95+I96 -> 0
B100: NOTA 1: EL VALOR MINIMO A OFERTAR, FIJADO EN UN 10% MENOR AL PRECIO OBTENIDO POR LA ENTIDAD EN SU ESTUDIO DE MERCADO, SE HA ESTABLECIDO TENIENDO EN CUENTA QUE ESTA PROPORCIÓN GARANTIZA QUE NO SE GENERARA UNA INCONSISTENCIA RESPECTO A LA NORMATIVIDAD LABORAL VIGENTE, ESTO EN CUANTO A LAS TARIFAS DE PERSONAL MINIMAS Y DEMAS COSTOS DE PARAFISCALES QUE DEBE CONSIDERAR EL POSIBLE OFERENTE EN SU ESTRUCTURA ECONOMICA.
B102: NOTA 2: EL EL PORCENTAJE CORRESPONDIENTE A ADMINISTRACIÓN, IMPREVISTOS Y UTILIDAD-A.I.U. ES FIJO.
B104: NOTA 3: EL OFERENTE PODRÁ DILIGENCIAR EL VALOR A OFERTAR PARA AJUSTES ESTIMADOS POR CAMBIO DE VIGENCIA, EN EL ESPACIO DESTINADO PARA ELLO Y TENIENDO EN CUENTA LO SEÑALADO EN EL NUMERAL 3.1.1. FACTOR ECONÓMICO PUNTAJE (MÁXIMO 70 PUNTOS) del Pliego de Condiciones Definitivo

Sheet LISTA DE ACTIVIDADES
B2: ITEM | C2: DESCRIPCIÓN | D2: U.M. | E2: VR. UNITARIO
B3: 1 | C3: PLATAFORMAS
B4: 1.1 | C4: SUMINISTRO E INSTALACIÓN DE LUMINARIA (L01) (3,9M) APLIQUE UP-DOWN, 20W, 948 LM, IP 65, 30X10,7X17 CM, IRC >80, 4000K, FP=0,98, CRI= 80, 50,000 HORAS L70, 5 AÑOS DE GARANTÍA.. INCLUYE TORRE ANDAMIO CERTIFICADO. | D4: UN | E4: 356095
B5: 1.2 | C5: SUMINISTRO E INSTALACIÓN DE LUMINARIA (L02) (4M) DE 25.3W 3800 lm – 4000k, 150 LM/W, 100,000 HORAS L90, MACADAM STEP 3, IP67, IK09, CRI 70, LOR=100.. INCLUYE TORRE ANDAMIO CERTIFICADO. | D5: UN | E5: 1736454
B6: 1.3 | C6: SUMINISTRO E INSTALACIÓN DE LUMINARIA (L02) (4M) DE 25.3W 3800 lm – 4000k, 150 LM/W, 100,000 HORAS L90, MACADAM STEP 3, IP67, IK09, CRI 70, LOR=100.. INCLUYE MANLIFT. | D6: UN | E6: 1792603
B7: 1.4 | C7: SUMINISTRO E INSTALACIÓN DE LUMINARIA (L03) (2,6M) TIPO HERMÉTICA, 40W, 4968 LM, 120 LM/W, 4000K, FP= 0,96, IP 65, CRI=80, 100,000 HORAS L70.. INCLUYE TORRE ANDAMIO CERTIFICADO. | D7: UN | E7: 234349
B8: 1.5 | C8: SUMINISTRO E INSTALACIÓN DE LUMINARIA (L04) HIGH BAY 37,5 W - 47W, IP66, 3937 LM - 5022 LM, IK 08, 100,000 HORAS, 4000K.. INCLUYE TORRE ANDAMIO CERTIFICADO. | D8: UN | E8: 702013
B9: 1.6 | C9: SUMINISTRO E INSTALACIÓN DE LUMINARIA (L04) HIGH BAY 37,5 W - 47W, IP66, 3937 LM - 5022 LM, IK 08, 100,000 HORAS, 4000K.. INCLUYE MANLIFT. | D9: UN | E9: 747873
B10: 1.7 | C10: SUMINISTRO E INSTALACIÓN DE LUMINARIA (L05) DE DESCOLGAR O SOBREPONER DE 42W 60CM, 100.000 HORAS L70, GARANTÍA DE 7 AÑOS, 120V-277V, 4013 LM, 4000K, IP40, 95 LM/W, CRI >80.INCLUYE 16m DE GUAYA-CABLE ACERO 1/4" + 4m DE CABLE ENCAUCHETADO 3x14 HFFRLS. INCLUYE TORRE ANDAMIO CERTIFICADO. | D10: UN | E10: 1266178
B11: 1.8 | C11: SUMINISTRO E INSTALACIÓN DE LUMINARIA (L06) DE DESCOLGAR O SOBREPONER ANTIVANDALICA DE BICICLETEROS EN PINTURA ELECTROSTÁTICA BLANCA, CONDIFUSOR DE POLICARBNATO DE ALTA TRANSMITANCIA, 4000K, CRI >80, 50,000 HORAS, 120-277V, FP =0,9, 1220MMX85MMX260MM. INCLUYE 4M DE GUAYA-CABLE ACERO 1/4". INCLUYE TORRE ANDAMIO CERTIFICADO. | D11: UN | E11: 1061059
B12: 1.9 | C12: SUMINISTRO E INSTALACIÓN DE LUMINARIA (L07) TIPO WALL GRAZING, LED RGB, 48VCC CON CONTROL DMX512-RDM. L=1495MM, IK05, IP66, 1087 LM, 42,6W, 25,5 LM/W, 50,000 HORAS L80. INCLUYE BRAZO ORIENTABLE +/- 90° EN ACERO INOXIDABLE PARA APLICACIÓN EN PARED O EN TECHO - L=115 PARA LED MONOCROMÁTICO REGULABLE Y RGB. INCLUYE 1,5m DE TUBERIA CONDUIT GALVANIZADA IMC D=1" ACCESORIOS DE FIJACIÓN, 2m DE CABLE 3X12 HFFRLS, ACCESORIOS DE CONEXIÓN, CAJA 2400 TIPO RAWLET. TAPA, PRENSAESTOPA Y ACCESORIOS DE FIJACIÓN. INCLUYE ALQUILER DE MANLIFT. | D12: UN | E12: 5643758
B13: 1.10 | C13: SUMINISTRO E INSTALACIÓN DE LUMINARIA (L08) LINEAL DE 60C (44 20W Y 98 DE 10W) IP40, 1148 LUMEN, 57 LM/W, ANGULO DE APERTURA 105°, IRC= 80, 4000K, FP=0,98, 100.000 HORAS L70, 7 AÑOS DE GARANTÍA.. INCLUYE TORRE ANDAMIO CERTIFICADO. | D13: UN | E13: 396903
B14: 1.11 | C14: SUMINISTRO E INSTALACIÓN DE LUMINARIA (L09) RECESADA DE 8W, IP40, 85-277V, 705 LM, 84 LM/W, 4000K, FP= 0,97, IRC 80, 90,9CM, 100,000 HORAS L70, 7 AÑOS DE GARANTÍA.. INCLUYE TORRE ANDAMIO CERTIFICADO. | D14: UN | E14: 168465
B15: 1.12 | C15: SUMINISTRO E INSTALACIÓN DE LUMINARIA (L11) PANEL CUADRADO 60X60 DE 40W RECESADO, 4263 LM, IP40, 120-277V, 102LM/W, FP 0,99, 100.000 HORAS L70, 7 AÑOS DE GARANTÍA.. INCLUYE TORRE ANDAMIO CERTIFICADO. | D15: UN | E15: 308864
... B32: 1.29 | C32: SUMINISTRO E INSTALACIÓN DE PANEL PARA CIELO RASO EN PANEL DE PVC. INCLUYE ELEMENTOS DE CONEXIÓN Y SOPORTE.. INCLUYE TORRE ANDAMIO CERTIFICADO. | D32: M2 | E32: 86045
B33: 2 | C33: CONTROL ILUMINACIÓN RGB
B34: 2.1 | C34: SUMINISTRO E INSTALACIÓN DE FUENTE DE TENSIÓN CONSTANTE (PARA ALIMENTAR L07 EN FACHADA PRINCIPAL) BARRA DIN 480W - VIN= 90-264VAC/DC 47/63Hz Vout = 48V-55V IMAX = 10A DIMENSIONES (mm): 114x86x125. INCLUYE TORRE ANDAMIO CERTIFICADO. | D34: UN | E34: 1566457
B35: 2.2 | C35: SUMINISTRO E INSTALACIÓN DE CONECTOR IP68 (PARA ALIMENTAR L07 EN FACHADA PRINCIPAL) DE 5 POLOS EN Y - PARA LA CONEXIÓN ENTRE EL CABLE DE SEÑAL DMX Y EL CABLE DE ALIMENTACIÓN + BASE DE CIERRE PARA CONECTORES + RESISTENCIA DE TERMINACIÓN DE 120ohm. INCLUYE TORRE ANDAMIO CERTIFICADO. | D35: UN | E35: 237370
B36: 2.3 | C36: SUMINISTRO E INSTALACIÓN DE CONECTOR DE 5 POLOS IP68 (PARA ALIMENTAR L07 EN FACHADA PRINCIPAL). INCLUYE TORRE ANDAMIO CERTIFICADO. | D36: UN | E36: 135656
B37: 2.4 | C37: SUMINISTRO E INSTALACIÓN DE CABLE DE SEÑAL BALANCEADO - DMX - 3 HILOS. PARA ALIMENTAR FACHADA PRINCIPAL, TUNELES, FACHADA SECUNDARIA. INCLUYE ACCESORIOS DE FIJACIÓN. INCLUYE TORRE ANDAMIO CERTIFICADO. | D37: ML | E37: 11210
B38: 2.5 | C38: SUMINISTRO E INSTALACION DE (PARA EL CONTROL PRINCIPAL) INTERFAZ/ENGINE DMX/RDM. SE PUEDE UTILIZAR EN MODALIDAD INDEPENDIENTE PARA REPRODUCIR Y REPETIR ESCENARIOS LUMINOSOS YA CARGADOS Y PROGRAMADOS MEDIANTE UN ORDENADOR CON LA SUITE DE SOFTWARE DE E:CUE, EL BUTLER XT2 TAMBIÉN SE UTILIZA COMO DISPOSITIVO DMX/RDM CONTROLADO POR OTRA E:CUE ENGINE, EN MODALIDAD INDEPENDIENTE E INSTALADO SOBRE GUÍA DIN EL BUTLER XT2 CONTROLA HASTA 1024 CANALES DMX/RDM, ES POSIBLE CONTROLAR HASTA 65,536 CANALES DMX/RDM INCORPORANDO VARIOS BUTLER XT2 + TECLADO DE CRISTAL "GLASS TOUCH T6R" - ENTRADA: 24 Vcc 18 mA (POR E:BUS) + FUENTE DE TENSIÓN CONSTANTE NON DIMM, BARRA DIN 72W - VIN= 220-240VAC 50/60Hz Vout = 24V IMAX = 3A DIMENSIONES: 70x68x94 + INTERFAZ/ENGINE “BUTLER S2” (1024 CANALES DMX/RDM) 6 W + ALIMENTADOR DE 12 W PARA BUTLER S2 - ENTRADA: 100 - 240 Vca 50/60 Hz 05 A - SALIDA: 12 Vcc 1000 Ma. INCLUYE ACCESORIOS DE FIJACION. | D38: UN | E38: 20604676
B39: 2.6 | C39: SUMINISTRO E INSTALACION DE (PARA EL CONTROL DE L13) FUENTE DE ALIMENTACIÓN CONSTANTE NO DIMM, BARRA DIN 120W - VIN= 88-264VAC/DC 47/63Hz Vout = 48V-55V IMAX = 25A DIMENSIONES: 40x114x125 DIMENSIONES (mm): 114x40x125 PESO (kg): 036 + CAJA PARA FUENTES DE ALIMENTACIÓN IP67 - DIMENSIONES, 140x230x95h (6PG). INCLUYE PRENSAESTOPA Y ACCESORIOS DE FIJACION. INCLUYE TORRE ANDAMIO CERTIFICADO. | D39: UN | E39: 1415067
B40: 2.7 | C40: SUMINISTRO E INSTALACION DE (PARA EL CONTROL PRINCIPAL) CABLE FIBRA OPTICA 6 HILOS MULTIMODOS. OM3. LSZH. INCLUYE PRENSAESTOPA Y ACCESORIOS DE FIJACION. INCLUYE TORRE ANDAMIO CERTIFICADO. | D40: ML | E40: 37806
B41: 2.8 | C41: SUMINISTRO E INSTALACION DE (PARA EL CONTROL PRINCIPAL) DE PATCH CORD LC/SC DE FIBRA ÓPTICA. MULTIMODO OM3 - L=3MTS. INCLUYE PRENSAESTOPA Y ACCESORIOS DE FIJACION. | D41: UND | E41: 54357
B42: 2.9 | C42: SUMINISTRO E INSTALACION DE (PARA EL CONTROL PRINCIPAL) DE PATCH CORD COBRE CATEGORÍA 6 L=1m.. INCLUYE PRENSAESTOPA Y ACCESORIOS DE FIJACION. | D42: UND | E42: 15882
B43: 2.10 | C43: SUMINISTRO E INSTALACION DE (PARA EL CONTROL PRINCIPAL) DE BANDEJA PORTA EMPALMES ODF - 12 PUERTOS - 6 HILOS. INCLUYE PRENSAESTOPA Y ACCESORIOS DE FIJACION. | D43: UND | E43: 75133
B44: 2.11 | C44: SUMINISTRO E INSTALACION DE (PARA EL CONTROL PRINCIPAL) DE ACOPLE DE FIBRA OPTICA DUPLEX LC. INCLUYE PRENSAESTOPA Y ACCESORIOS DE FIJACION. | D44: UND | E44: 27397
B45: 2.12 | C45: SUMINISTRO E INSTALACION DE (PARA EL CONTROL PRINCIPAL) DE GABINETE COLD ROLLED 80cmx60cmx30cm.. INCLUYE RIELES VERTICALES, HORIZONTALES, VENTILADOR CON FILTRO (115V). INCLUYE PRENSAESTOPA Y ACCESORIOS DE FIJACION. | D45: UND | E45: 3652733
... B53: 2.20 | C53: SUMINISTRO E INSTALACIÓN DE SWITCH 8 PUERTOS. INCLUYE ACCESORIOS DE FIJACIÓN. | D53: UND | E53: 89298
B54: 3 | C54: CONTROL DE ILUMINACIÓN GENERAL MONOCROMÁTICO
B55: 3.1 | C55: SUMINISTRO E INSTALACIÓN DE RELÉ LATCHING, 1 POLO DIMERIZACIÓN 0-10 VDC 20 AMP @24/277 VAC. | D55: UN | E55: 847589
B56: 3.2 | C56: SUMINISTRO E INSTALACIÓN DE GABINETE DE CONTROL, 16 RELÉS NEMA 1, 120/240V CON PUERTA Y CERRADURA DE LLAVE. INCLUYE MARCACIÓN PARA LA IDENTIFICACIÓN CLARA DE LOS CIRCUITOS, TARJETA PORTA RELEVOS, TODOS SUS ACCESORIOS. | D56: UN | E56: 1930834
B57: 3.3 | C57: SUMINISTRO E INSTALACIÓN DE MODULO DE COMANDO , CON FUENTE DE 70W EN PROCESADOR PRINCIPAL, CONTROL DE LA TOTALIDAD DEL SISTEMA DEL TABLERO, POSEE COMUNICACIÓN MEDIANTE LUMACAN, TIEMPO DE EJECUCIÓN DE 7 HORAS CON CARGA, RELOJ ASTRONÓMICO, CON INDEPENDENCIA DEL HDU, INCLUYE MEMORIA NO VOLÁTIL Y TARJETA MICRO SD PARA PROTECCIÓN DE PROGRAMACION DURANTE APAGONES, CONECTIVIDAD ETHERNET NATIVA PARA CADA COMANDO DEL MODULO REQUIERE UN INTERRUPTOR PARA ETHERNET, INCLUYE TODOS SUS ACCESORIOS. | D57: UN | E57: 3224985
B58: 3.4 | C58: SUMINISTRO E INSTALACIÓN DE RELÉ LATCHING, P GM 2 POLOS RETORNO A CERRADO BÁSICO SIN MONITOREO, 208/240VAC 20A INC/HALO, 208/480VAC 30A BALASTOS, 600VAC 20A BALASTOS, 50/60Hz 208/240VAC 1Hp MOTOR. | D58: UN | E58: 304487
B59: 3.5 | C59: SUMINISTRO E INSTALACIÓN DE BOTONERA DIGITAL GM LC 3 8 BOTONES INCLUYE TAPA, BLANCA. | D59: UN | E59: 1415784
B60: 3.6 | C60: SUMINISTRO E INSTALACIÓN DE MODULO CIEGO PARA LLENADO DE ESPACIOS EN EL PANEL DE INSERCIÓN. | D60: UN | E60: 35528
B61: 3.7 | C61: SUMINISTRO E INSTALACIÓN DE PANEL DE INSERCIÓN GM, 16 RELÉS, MODULOS, VACIO, P GABINETES DE 16, 32 Y 48 RELÉS NO INCLUYE RELÉS. | D61: UN | E61: 1855923
B62: 3.8 | C62: SUMINISTRO E INSTALACIÓN DE PANTALLA TÁCTIL 7".. INCLUYE CAJA DE INCRUSTAR PARA PANTALLA TÁCTIL 7". Y FUENTE PARA PANTALLA TÁCTIL 7" 24VDC 1AMP 30W MONTAJE EN RIEL DIN. | D62: UN | E62: 9978356
B63: 3.9 | C63: SUMINISTRO E INSTALACIÓN DE PLACA DECORATIVA PARA PANTALLA TACTIL. | D63: UN | E63: 316852
B64: 3.10 | C64: SUMINISTRO E INSTALACIÓN DE CABLE UTP CATEGORIA 6. INCLUYE ACCESORIOS DE FIJACION. TORRE ANDAMIO CERTIFICADO. | D64: ML | E64: 7684
...
