Workbook

Sheet Experiencia
B1: Contrato 1 | G1: Contrato 2 | L1: Contrato 3
B2: Objeto | C2: Contvo. en el RUP | D2: Valor RUP | E2: Codigos (Cumple/No Cumple) | F2: Cumple/No Cumple | G2: Objeto | H2: Contvo. en el RUP | I2: Valor RUP | J2: Codigos (Cumple/No Cumple) | K2: Cumple/No Cumple | L2: Objeto | M2: Consecutivo en el RUP | N2: Valor RUP | O2: Codigos (Cumple/No Cumple) | P2: Cumple/No Cumple | Q2: OBSERVACIONES CONTRATOS | R2: Formato 8 ‒ Aceptación y cumplimiento de la formación y experiencia del Personal Clave Evaluable | S2: Observaciones formato 8
A3: PROPONENTE
A4: Grupo Artinco SAS | B4: Elaboración de estudios y diseños técnicos para mejoras viales priorizadas de la ciudad – lista III | C4: 45 | D4: 615.02 | E4: Cumple | F4: Cumple | G4: El contratista realizo los estudios, diseños, y construcción de sistemas de estabilidad y placas huella para acceso a predios en san pedro de los milagros | H4: 33 | I4: 597.74 | J4: Cumple | K4: Cumple | L4: ESTUDIOS Y DISEÑOS FASE III PARA EL MEJORAMIENTO DE VIAS TERCIARIAS MEDIANTE EL USO DE PLACA HUELLA EN LOS MUNICIPIOS DEL DEPARTAMENTO DEL QUINDIO | M4: 47 | N4: 396.82 | O4: Cumple | P4: Cumple | R4: CUMPLE
A5: Union Temporal J&M 001
A6: P&C SAS | B6: Realizar estudios y diseños para la pavimentación de vías urbanas del Municipio de Santa Rosa de Osos. | C6: 9 | D6: 100.85 | E6: Cumple | F6: Cumple | R6: CUMPLE
A7: Estructuras y Aguas IC SAS | B7: Elaboraciòn de estudios y Diseños para la construcciòn de vìas terciarias en el municipio de San Pedro de los Milagros. | C7: 67 | D7: 105.94 | E7: Cumple | F7: Cumple | R7: CUMPLE

Sheet CORRECCION ARIT
A1: PRESUPUESTO OFICIAL | G1: GRUPO ARTINCO | J1: P&C SAS | M1: Estructuras y Aguas IC SAS
A2: ITEM | B2: DESCRIPCIÒN | C2: UNIDAD | D2: CANTIDAD | E2: VL. UNITARIO | F2: VALOR TOTAL | G2: CANTIDAD | H2: VL. UNITARIO | I2: VALOR TOTAL | J2: CANTIDAD | K2: VL. UNITARIO | L2: VALOR TOTAL | M2: CANTIDAD | N2: VL. UNITARIO | O2: VALOR TOTAL
A3: 1 | B3: Levantamiento topográfico: comprende el levantamiento vertical y horizontal de cada una de los tramos | C3: Unidad | D3: 12 | E3: 1065000 | F3: =+E3*D3 -> 12780000 | G3: 12 | H3: 1060000 | I3: =+H3*G3 -> 12720000 | J3: 12 | K3: 1065000 | L3: =+K3*J3 -> 12780000 | M3: 12 | N3: 1065000 | O3: =+N3*M3 -> 12780000
A4: 2 | B4: Estudio de tránsito. (incluye todos los tramos) | C4: Unidad | D4: 1 | E4: 4470000 | F4: =+E4*D4 -> 4470000 | G4: 1 | H4: 4470000 | I4: =+H4*G4 -> 4470000 | J4: 1 | K4: 4470000 | L4: =+K4*J4 -> 4470000 | M4: 1 | N4: 4470000 | O4: =+N4*M4 -> 4470000
A5: 3 | B5: Plan de manejo de tránsito (Ficha para cada tramo objeto de estudio) | C5: Unidad | D5: 12 | E5: 410000 | F5: =+E5*D5 -> 4920000 | G5: 12 | H5: 410000 | I5: =+H5*G5 -> 4920000 | J5: 12 | K5: 410000 | L5: =+K5*J5 -> 4920000 | M5: 12 | N5: 410000 | O5: =+N5*M5 -> 4920000
A6: 4 | B6: Diseño de pavimentos con alternativa en estructura flexible, incluye apiques para recuperación de muestras y ensayos de laboratorio (humedad natural, granulometría, límites de consistencia, CBR sobre muestra inalterada), incluye diseño geométrico. | C6: Km | D6: 1.94 | E6: 4995000 | F6: =+E6*D6 -> 9690300 | G6: 1.94 | H6: 4990000 | I6: =+H6*G6 -> 9680600 | J6: 1.94 | K6: 4995000 | L6: =+K6*J6 -> 9690300 | M6: 1.94 | N6: 4995000 | O6: =+N6*M6 -> 9690300
A7: 5 | B7: Diseño de pavimentos con alternativa en pavimento tipo placa huella, según manual de diseño INVIAS. incluye apiques para recuperación de muestras y ensayos de laboratorio (humedad natural, granulometría, límites de consistencia, CBR sobre muestra inalterada) incluye diseño geométrico de la vía. | C7: Km | D7: 3.87 | E7: 3115000 | F7: =+E7*D7 -> 12055050 | G7: 3.87 | H7: 3110000 | I7: =+H7*G7 -> 12035700 | J7: 3.87 | K7: 3115000 | L7: =+K7*J7 -> 12055050 | M7: 3.87 | N7: 3115000 | O7: =+N7*M7 -> 12055050
A8: 6 | B8: Elaboración de presupuesto, análisis de precios unitarios, memorias de cantidades y programación de obra (por cada tramo a intervenir) | C8: Unidad | D8: 12 | E8: 695000 | F8: =+E8*D8 -> 8340000 | G8: 12 | H8: 690000 | I8: =+H8*G8 -> 8280000 | J8: 12 | K8: 695000 | L8: =+K8*J8 -> 8340000 | M8: 12 | N8: 695000 | O8: =+N8*M8 -> 8340000
A9: 7 | B9: Ficha Metodología General Ajustada MGA, caracterización vial según Resoluciones 1860 de 2013 y 1067 de 2015 del Ministerio de Transporte y análisis de riesgo de desastres lo establecido en el artículo 38 de la ley 1523 de 2012, de acuerdo con la escala de diseño del proyecto. (Para cada Tramo) | C9: Glb | D9: 1 | E9: 5225000 | F9: =+E9*D9 -> 5225000 | G9: 1 | H9: 5220000 | I9: =+H9*G9 -> 5220000 | J9: 1 | K9: 5225000 | L9: =+K9*J9 -> 5225000 | M9: 1 | N9: 5225000 | O9: =+N9*M9 -> 5225000
A10: 8 | B10: Estudio hidrológico e hidráulico | C10: Glb | D10: 1 | E10: 10225000 | F10: =+E10*D10 -> 10225000 | G10: 1 | H10: 10220000 | I10: =+H10*G10 -> 10220000 | J10: 1 | K10: 10225000 | L10: =+K10*J10 -> 10225000 | M10: 1 | N10: 10225000 | O10: =+N10*M10 -> 10225000
A11: 9 | B11: Plan de manejo ambiental | C11: Glb | D11: 1 | E11: 4225000 | F11: =+E11*D11 -> 4225000 | G11: 1 | H11: 4220000 | I11: =+H11*G11 -> 4220000 | J11: 1 | K11: 4225000 | L11: =+K11*J11 -> 4225000 | M11: 1 | N11: 4225000 | O11: =+N11*M11 -> 4225000
E12: SUBTOTTAL | F12: =SUM(F3:F11) -> 71930350 | H12: SUBTOTTAL | I12: =SUM(I3:I11) -> 71766300 | K12: SUBTOTTAL | L12: =SUM(L3:L11) -> 71930350 | N12: SUBTOTTAL | O12: =SUM(O3:O11) -> 71930350
E13: IVA | F13: =+ROUND(F12*0.19,0) -> 13666767 | H13: IVA | I13: =+ROUND(I12*0.19,0) -> 13635597 | K13: IVA | L13: =+ROUND(L12*0.19,0) -> 13666767 | N13: IVA | O13: =+ROUND(O12*0.19,0) -> 13666767
E14: TOTAL | F14: =+F13+F12 -> 85597117 | H14: TOTAL | I14: =+I13+I12 -> 85401897 | K14: TOTAL | L14: =+L13+L12 -> 85597117 | N14: TOTAL | O14: =+O13+O12 -> 85597117

Sheet RESUMEN
A1: EVALUACIÒN PRELIMINAR
A2: PROPONENTE | B2: EXPERIENCIA | E2: Formato 8 ‒ Aceptación y cumplimiento de la formación y experiencia del Personal Clave Evaluable | F2: CUMPLE/NO CUMPLE
B3: Contrato 1 | C3: Contrato 2 | D3: Contrato 3
A4: Grupo Artinco SAS | B4: CUMPLE | C4: CUMPLE | D4: CUMPLE | E4: CUMPLE | F4: CUMPLE
A5: Union Temporal J&M 001 | F5: NO CUMPLE JURIDICAMENTE, NO ES MYPME DOMICILIADA EN ANTIOQUIA
A6: P&C SAS | B6: CUMPLE | E6: CUMPLE | F6: CUMPLE
A7: Estructuras y Aguas IC SAS | B7: CUMPLE | E7: CUMPLE | F7: CUMPLE

Sheet PUNTAJE
A1: Presupuesto Oficial | B1: 85597117
A2: La TRM que la entidad utilizará para determinar el método de ponderación será la que rija el segundo día hábil después del cierre del proceso, aun cuando la fecha de la adjudicación se modifique posteriormente durante el Proceso de Contratación. Esto es, la que la Superintendencia publique en horas de la tarde del día hábil siguiente a la fecha efectiva del cierre del Proceso de Contratación (https://www.datos.gov.co/Econom-a-y-Finanzas/Tasa-de-Cambio-Representativa-del-Mercado-Historic/mcec-87by) | D2: 4400.25
E3: Contrato 1 | F3: Contrato 2 | G3: Contrato 3
A4: PROPONENTE | B4: VALOR OFERTA | C4: VALOR CORRECCIÒN ARITMETICA | D4: Cant Contratos aportados | E4: Valor RUP | F4: Valor RUP | G4: Valor RUP | H4: Promedio
A5: Grupo Artinco SAS | B5: 85401897 | C5: =+'CORRECCION ARIT'!I14 -> 85401897 | D5: 3 | E5: =+Experiencia!D4 -> 615.02 | F5: =+Experiencia!I4 -> 597.74 | G5: =+Experiencia!N4 -> 396.82 | H5: =ROUND(AVERAGE(E5:G5),2) -> 536.53
A6: P&C SAS | B6: 85597117 | C6: =+'CORRECCION ARIT'!L14 -> 85597117 | D6: 1 | E6: =+Experiencia!D6 -> 100.85 | H6: =ROUND(AVERAGE(E6:G6),2) -> 100.85
A7: Estructuras y Aguas IC SAS | B7: 85597117 | C7: =+'CORRECCION ARIT'!O14 -> 85597117 | D7: 1 | E7: =+Experiencia!D7 -> 105.94 | H7: =ROUND(AVERAGE(E7:G7),2) -> 105.94
A9: METODO SEGÚN TRM
A10: Rango (inclusive) | B10: Número | C10: Método
A11: De 0.00 a 0.33 | B11: 1 | C11: Mediana con valor absoluto
A12: De 0.34 a 0.66 | B12: 2 | C12: Media geométrica
A13: De 0.67 a 0.99 | B13: 3 | C13: Media aritmética alta
A15: PROPONENTE | B15: Valor Promedio expresado en SMMLV | C15: La Entidad calculará el valor de la mediana con el promedio de los contratos válidos aportados de las propuestas hábiles. En esta alternativa se entenderá por mediana de un grupo de valores el resultado del cálculo que se obtiene mediante la aplicación del siguiente proceso: - La Entidad ordena los valores de las propuestas hábiles de manera descendente. - Si el número de valores es impar, la mediana corresponde al valor central. - Si el número de valores es par, la mediana corresponde al promedio de los dos valores centrales
A16: Grupo Artinco SAS | B16: 536.53
A17: Estructuras y Aguas IC SAS | B17: 105.94 | C17: Valor Mediana
A18: P&C SAS | B18: 100.85
B20: Puntaje maximo | C20: 68
A21: PROPONENTE | B21: Valor Promedio expresado en SMMLV | C21: Puntaje asignado por Experiencia Formula | D21: Punteje asignado con correciones por valores negativos
A22: Grupo Artinco SAS | B22: 536.53 | C22: =((1-ABS(($B$17-B22)/($B$17)))*$C$20) -> -208.38399 | D22: 0
A23: Estructuras y Aguas IC SAS | B23: 105.94 | C23: =((1-ABS(($B$17-B23)/($B$17)))*$C$20) -> 68 | D23: 68
A24: P&C SAS | B24: 100.85 | C24: =((1-ABS(($B$17-B24)/($B$17)))*$C$20) -> 64.732868 | D24: 64.733
A27: Puntajes que otorga | B27: 68 | C27: 10 | E27: 1 | F27: 20 | G27: 1 | H27: =+SUM(B27:G27) -> 100
A28: PROPONENTE | B28: Experiencia | C28: Experiencia adicional del Personal Clave Evaluable | D28: Formación académica adicional del Personal Clave Evaluable | E28: Factor de Sostenibilidad | F28: Apoyo a la industria Nacional | G28: Vinculaciòn Personas con discapacidad | H28: Puntaje Total
A29: Grupo Artinco SAS | B29: =+D22 -> 0 | C29: 5 | D29: 5 | E29: 1 | F29: 20 | G29: 0 | H29: =+B29+C29+D29+E29+F29+G29 -> 31
A30: Estructuras y Aguas IC SAS | B30: =+D23 -> 68 | C30: 5 | D30: 5 | E30: 1 | F30: 20 | G30: 0 | H30: =+B30+C30+D30+E30+F30+G30 -> 99
A31: P&C SAS | B31: =+D24 -> 64.733 | C31: 5 | D31: 5 | E31: 1 | F31: 20 | G31: 0 | H31: =+B31+C31+D31+E31+F31+G31 -> 95.733
