Workbook
Name CONTROLES: '[1]LISTAS (2)'!$H$9:$H$12
Name Riesgo: '[1]LISTAS (2)'!$N$2:$N$37
Name tratamiento: '[1]LISTAS (2)'!$I$16:$I$19

Sheet INVENTARIO
A1: INVENTARIO DE RIESGO
A3: PROYECTO | D3: “OBRAS DE INTERVENCIÓN DE LAS PLANTAS DE BENEFICIO ANIMAL DE LOS MUNICIPIOS DE AGUADAS, ANSERMA, CHINCHINÁ, LA MERCED, MANZANARES, MARQUETALIA, NORCASIA, PENSILVANIA, SALAMINA Y SAMANÁ, INCLUIDO SUMINISTRO DE EQUIPOS Y GESTIÓN DOCUMENTAL AMBIENTAL, DE CONFORMIDAD CON LA REGLAMENTACIÓN INVIMA Y LA RESOLUCIÓN 0631 DE 2015 DEL MINISTERIO DEL MEDIO AMBIENTE
A4: LOCALIZACIÓN | D4: DEPARTAMENTO DE CALDAS
A5: OBJETIVO DE LA MATRIZ DE RIESGOS | D5: Apoyar el cumplimiento de los objetivos del proyecto y controlar su ejecución
D6: 2. ÁREAS DE IMPACTO
D7: 2.1 RECURSOS DE LA ENTIDAD | E7: 2.2 PROCESOS Y PROCEDIMIENTOS | F7: 2.3 PERSONAL DE LA ENTIDAD | G7: DESEMPEÑO DE LA ORGANIZACIÓN | H7: AMBIENTE | I7: 2.4 USUARIOS / PARTES INTERESADAS
A8: 1. FUENTES DE RIESGO | B8: 1.1 EXTERNAS | C8: Requisitos: Nueva o modificación de la normatividad / Cambios de las necesidades del medio | D8: No ejecución de los proyectos por desconocimiento de la normatividad vigente | E8: Reprocesos en el ingreso de la información a las plataformas de monitoreo y control del SGR, alertas en las plataformas del SGR por información incompleta | F8: Desconocimiento de los procesos y procedimientos por parte de las partes involucradas en la obra generando reprocesos y atrasos en la ejecución de la obra | H8: Cambios enla normatividad ambiental que generan reproceso enlos planes ambientales de la obra | I8: Conflicto con al comunidad y suspensión de las obras
C9: Circunstancias Económicas, Políticas y Sociales / Eventos naturales | D9: Suspension de giros y retrasos en contrapartidas | E9: Incremento en el presuesto de obra | F9: Desinterés por parte de los Alcaldes frente a los beneficios que traerán las obras viales previstas | G9: Inestabilidad política que genera incredulidad frente al proyecto | H9: La construcción se ve afectada por eventos extraordinarios y condiciones climáticas adversas | I9: Inconformidades de la comunidad adyacente a la ubicación del proyecto
C10: Actuaciones de terceros | D10: Actuaciones jurídicas en contra del proyecto | E10: Desconocimiento por parte de los funcionarios de las funciones de la interventoría y la supervisión para el proyecto y frente al SGR | F10: Retrasos en la obra por debilidades en los procesos de supervisión e interventoría | G10: Imagen desfavorble de la institución frente a los demás entes gubernamentales | H10: Imposibilidad de ejecución del proyecto por situaciones orden publico | I10: Conflicto con al comunidad y con las partes interesadas y suspensión de las obras
B11: 1.2 INTERNAS | C11: Claridad y suficiencia de los planes institucionales / Normatividad interna | D11: Incumplimiento de los objetivos y metas del proyecto | E11: Demora en la autorización y expedición de permisos | G11: Retraso en los desembolsos para el pago del proyecto | H11: Generación de un clima de desconfianza frente a la actuación del funcionarios | I11: Incumplimiento de los entregables del proyecto
C12: Actuaciones individuales | D12: Demandas contra la entidad y suspensión de giros por debilidad en los procesos de interventoría y supervisión | E12: Retraso en los pagos al contratista de obra | F12: Demandas y acciones de tutela en contra del ordenador del gasto | G12: Deficiencias y materiales de baja calidad | H12: Incumplimiento del plan de gestion ambiental del proyecto | I12: Corrupción en el proceso de selección de los contratistas de obra y de la interventoría
C13: Complejidad de los controles institucionales / Complejidad de los procedimientos | D13: Demandas contra la entidad y suspensión de giros por debilidad en los procesos de interventoría y supervisión | E13: Desorganización del flujo vehicular | F13: Accidentes de Trabajo | G13: Reproceso en el cronograma de ejecución del proyecto | H13: Contaminación e impacto ambiental generado por debilidad en la ejecución del plan ambiental. Demandas e incumplimiento de normatividad ambiental por uso de fuentes de materiales que no cuentan con licencia ambiental y plan de manejo ambiental | I13: Desconfianza en la institución

Sheet ANALISIS Y VALORACIÓN
C1: ANÁLISIS Y EVALUACIÓN DEL RIESGO
A3: PROYECTO | C3: =+INVENTARIO!D3 -> “OBRAS DE INTERVENCIÓN DE LAS PLANTAS DE BENEFICIO ANIMAL DE LOS MUNICIPIOS DE AGUADAS, ANSERMA, CHINCHINÁ, LA MERCED, MANZANARES, MARQUETALIA, NORCASIA, PENSILVANIA, SALAMINA Y SAMANÁ, INCLUIDO SUMINISTRO DE EQUIPOS Y GESTIÓN DOCUMENTAL AMBIENTAL, DE CONFORMIDAD CON LA REGLAMENTACIÓN INVIMA Y LA RESOLUCIÓN 0631 DE 2015 DEL MINISTERIO DEL MEDIO AMBIENTE
A4: LOCALIZACIÖN | C4: DEPARTAMENTO DE CALDAS
A5: =[1]Inventario!A5 -> OBJETIVO DE LA MATRIZ DE RIESGOS | C5: ='[1]Descripción (2)'!B4 -> Apoyar el cumplimiento de los objetivos del proyecto y controlar su ejecución
A6: ID | B6: RIESGO (EVENTO) | C6: 1. CALIFICACIÓN DEL RIESGO | H6: ER | I6: 2. EVALUACIÓN DEL RIESGO (NP * NI) | J6: 3. ANÁLISIS DEL RIESGO | K6: 4. CONTROLES EXISTENTES | N6: 5. VALORACIÓN DEL RIESGO | S6: ER | T6: 5.3. EVACUACIÓN FINAL DEL RIESGO (NP * NI) | U6: 6. TRATAMIENTO DE LOS RIESGOS
C7: NP | D7: 1.1 NIVEL DE PROBABILIDAD (1-3) | E7: NI | F7: 1.2 NIVEL DE IMPACTO (5-10-20) | K7: 4.1 CRITERIOS DEL CONTROL | L7: 4. 2 DESCRIPCIÓN DEL CONTROL | M7: 4.3 VALORACIÓN DEL CONTROL | N7: NP | O7: 5.1 NIVEL DE PROBABILIDAD (1-3) | P7: NI | Q7: 5.2 NIVEL DE IMPACTO (5-10-20) | U7: 6.1 OPCIONES DE MANEJO | V7: 6.2 ACCIONES | W7: 6.3 RESPONSABLES
B8: =+INVENTARIO!H9 -> La construcción se ve afectada por eventos extraordinarios y condiciones climáticas adversas | C8: 3 | D8: =IF(C8=0," ",IF(C8=1,'[1]LISTAS (2)'!$F$6,IF(C8=2,'[1]LISTAS (2)'!$F$5,'[1]LISTAS (2)'!$F$4))) -> Alta | E8: 10 | F8: =IF(E8=0," ",IF(E8=20,'[1]LISTAS (2)'!$F$10,IF(E8=10,'[1]LISTAS (2)'!$F$11,'[1]LISTAS (2)'!$F$12))) -> Moderado | G8: =IF(H8=" "," ",IF(H8>59,5,IF(H8>20,4,IF(H8>11,3,IF(H8>5,2,1))))) -> 4 | H8: =IF(C8=0," ",C8*E8) -> 30 | I8: =IF(G8=" "," ",IF(G8=5,'[1]LISTAS (2)'!$I$7,IF(G8=4,'[1]LISTAS (2)'!$I$6,IF(G8=3,'[1]LISTAS (2)'!$I$4,IF(G8=2,'[1]LISTAS (2)'!$I$3,'[1]LISTAS (2)'!$I$2))))) -> Importante | J8: =IF(I8=" "," ",IF(I8="Aceptable",'[1]LISTAS (2)'!$J$2,IF(I8="Inaceptable",'[1]LISTAS (2)'!$J$7,'[1]LISTAS (2)'!$J$3))) -> Se debe realizar un análisis del costo beneficio con el que se pueda decidir entre, asumirlo o compartirlo. | K8: Los Controles existentes son efectivos y están documentados | L8: Realizar una programación de obra previa al inicio de ejecución que contemple las sucesión de eventos de carácter climatico que puedan retrasar la ejecución de las obras mediante la cual se pueda hacer el seguimiento y control. | M8: =IF(K8=0," ",IF(K8='[1]LISTAS (2)'!$H$11,'[1]LISTAS (2)'!$I$11,IF(K8='[1]LISTAS (2)'!$H$12,'[1]LISTAS (2)'!$I$12,'[1]LISTAS (2)'!$I$10))) -> Pasa a escala inferior (el desplazamiento depende de si el control afecta el impacto o la probabilidad) | N8: 2 | O8: =IF(N8=0," ",IF(N8=1,'[1]LISTAS (2)'!$F$6,IF(N8=2,'[1]LISTAS (2)'!$F$5,'[1]LISTAS (2)'!$F$4))) -> Media | P8: 5 | Q8: =IF(P8=0," ",IF(P8=20,'[1]LISTAS (2)'!$F$10,IF(P8=10,'[1]LISTAS (2)'!$F$11,'[1]LISTAS (2)'!$F$12))) -> leve | R8: =IF(S8=" "," ",IF(S8>59,5,IF(S8>20,4,IF(S8>11,3,IF(S8>5,2,1))))) -> 2 | S8: =IF(N8=0," ",N8*P8) -> 10 | T8: =IF(R8=" "," ",IF(R8=5,'[1]LISTAS (2)'!$I$7,IF(R8=4,'[1]LISTAS (2)'!$I$6,IF(R8=3,'[1]LISTAS (2)'!$I$4,IF(R8=2,'[1]LISTAS (2)'!$I$3,'[1]LISTAS (2)'!$I$2))))) -> Tolerable | U8: Reducir | V8: Definir una programación de obra con holguras que prevean los factores climáticos que puedan afectar la ejecución de las obras | W8: Entidad contratista de obra e interventoría
B9: =+INVENTARIO!I9 -> Inconformidades de la comunidad adyacente a la ubicación del proyecto | C9: 1 | D9: =IF(C9=0," ",IF(C9=1,'[1]LISTAS (2)'!$F$6,IF(C9=2,'[1]LISTAS (2)'!$F$5,'[1]LISTAS (2)'!$F$4))) -> Baja | E9: 5 | F9: =IF(E9=0," ",IF(E9=20,'[1]LISTAS (2)'!$F$10,IF(E9=10,'[1]LISTAS (2)'!$F$11,'[1]LISTAS (2)'!$F$12))) -> leve | G9: =IF(H9=" "," ",IF(H9>59,5,IF(H9>20,4,IF(H9>11,3,IF(H9>5,2,1))))) -> 1 | H9: =IF(C9=0," ",C9*E9) -> 5 | I9: =IF(G9=" "," ",IF(G9=5,'[1]LISTAS (2)'!$I$7,IF(G9=4,'[1]LISTAS (2)'!$I$6,IF(G9=3,'[1]LISTAS (2)'!$I$4,IF(G9=2,'[1]LISTAS (2)'!$I$3,'[1]LISTAS (2)'!$I$2))))) -> Aceptable | J9: =IF(I9=" "," ",IF(I9="Aceptable",'[1]LISTAS (2)'!$J$2,IF(I9="Inaceptable",'[1]LISTAS (2)'!$J$7,'[1]LISTAS (2)'!$J$3))) -> El riesgo se encuentra en un nivel que puede aceptarlo sin necesidad de tomar otras medidas de control diferentes a las que se poseen. | K9: Los Controles existentes son efectivos y están documentados | L9: Contacto directo con los representantes de la comunidad mediante el personal social contratado para la obra el cual atenderá la solicitudes e inquietudes de la comunidad en general | M9: =IF(K9=0," ",IF(K9='[1]LISTAS (2)'!$H$11,'[1]LISTAS (2)'!$I$11,IF(K9='[1]LISTAS (2)'!$H$12,'[1]LISTAS (2)'!$I$12,'[1]LISTAS (2)'!$I$10))) -> Pasa a escala inferior (el desplazamiento depende de si el control afecta el impacto o la probabilidad) | N9: 1 | O9: =IF(N9=0," ",IF(N9=1,'[1]LISTAS (2)'!$F$6,IF(N9=2,'[1]LISTAS (2)'!$F$5,'[1]LISTAS (2)'!$F$4))) -> Baja | P9: 5 | Q9: =IF(P9=0," ",IF(P9=20,'[1]LISTAS (2)'!$F$10,IF(P9=10,'[1]LISTAS (2)'!$F$11,'[1]LISTAS (2)'!$F$12))) -> leve | R9: =IF(S9=" "," ",IF(S9>59,5,IF(S9>20,4,IF(S9>11,3,IF(S9>5,2,1))))) -> 1 | S9: =IF(N9=0," ",N9*P9) -> 5 | T9: =IF(R9=" "," ",IF(R9=5,'[1]LISTAS (2)'!$I$7,IF(R9=4,'[1]LISTAS (2)'!$I$6,IF(R9=3,'[1]LISTAS (2)'!$I$4,IF(R9=2,'[1]LISTAS (2)'!$I$3,'[1]LISTAS (2)'!$I$2))))) -> Aceptable | U9: Evitar | V9: Conformación de veedurías, reuniones con la comunidad y conformación de un centro de atención al usuario. | W9: Entidad, contratista de obra e interventoría
B10: =+INVENTARIO!H10 -> Imposibilidad de ejecución del proyecto por situaciones orden publico | C10: 1 | D10: =IF(C10=0," ",IF(C10=1,'[1]LISTAS (2)'!$F$6,IF(C10=2,'[1]LISTAS (2)'!$F$5,'[1]LISTAS (2)'!$F$4))) -> Baja | E10: 10 | F10: =IF(E10=0," ",IF(E10=20,'[1]LISTAS (2)'!$F$10,IF(E10=10,'[1]LISTAS (2)'!$F$11,'[1]LISTAS (2)'!$F$12))) -> Moderado | G10: =IF(H10=" "," ",IF(H10>59,5,IF(H10>20,4,IF(H10>11,3,IF(H10>5,2,1))))) -> 2 | H10: =IF(C10=0," ",C10*E10) -> 10 | I10: =IF(G10=" "," ",IF(G10=5,'[1]LISTAS (2)'!$I$7,IF(G10=4,'[1]LISTAS (2)'!$I$6,IF(G10=3,'[1]LISTAS (2)'!$I$4,IF(G10=2,'[1]LISTAS (2)'!$I$3,'[1]LISTAS (2)'!$I$2))))) -> Tolerable | J10: =IF(I10=" "," ",IF(I10="Aceptable",'[1]LISTAS (2)'!$J$2,IF(I10="Inaceptable",'[1]LISTAS (2)'!$J$7,'[1]LISTAS (2)'!$J$3))) -> Se debe realizar un análisis del costo beneficio con el que se pueda decidir entre, asumirlo o compartirlo. | K10: Los Controles existentes son efectivos y están documentados | L10: Contacto directo con los representantes de la comunidad y la fuerza publica | M10: =IF(K10=0," ",IF(K10='[1]LISTAS (2)'!$H$11,'[1]LISTAS (2)'!$I$11,IF(K10='[1]LISTAS (2)'!$H$12,'[1]LISTAS (2)'!$I$12,'[1]LISTAS (2)'!$I$10))) -> Pasa a escala inferior (el desplazamiento depende de si el control afecta el impacto o la probabilidad) | N10: 1 | O10: =IF(N10=0," ",IF(N10=1,'[1]LISTAS (2)'!$F$6,IF(N10=2,'[1]LISTAS (2)'!$F$5,'[1]LISTAS (2)'!$F$4))) -> Baja | P10: 10 | Q10: =IF(P10=0," ",IF(P10=20,'[1]LISTAS (2)'!$F$10,IF(P10=10,'[1]LISTAS (2)'!$F$11,'[1]LISTAS (2)'!$F$12))) -> Moderado | R10: =IF(S10=" "," ",IF(S10>59,5,IF(S10>20,4,IF(S10>11,3,IF(S10>5,2,1))))) -> 2 | S10: =IF(N10=0," ",N10*P10) -> 10 | T10: =IF(R10=" "," ",IF(R10=5,'[1]LISTAS (2)'!$I$7,IF(R10=4,'[1]LISTAS (2)'!$I$6,IF(R10=3,'[1]LISTAS (2)'!$I$4,IF(R10=2,'[1]LISTAS (2)'!$I$3,'[1]LISTAS (2)'!$I$2))))) -> Tolerable | U10: Reducir | V10: Conformación de veedurías, reuniones con la comunidad y conformación de un centro de atención al usuario. | W10: Entidad, contratista de obra e interventoría
B11: =+INVENTARIO!E11 -> Demora en la autorización y expedición de permisos | C11: 2 | D11: =IF(C11=0," ",IF(C11=1,'[1]LISTAS (2)'!$F$6,IF(C11=2,'[1]LISTAS (2)'!$F$5,'[1]LISTAS (2)'!$F$4))) -> Media | E11: 10 | F11: =IF(E11=0," ",IF(E11=20,'[1]LISTAS (2)'!$F$10,IF(E11=10,'[1]LISTAS (2)'!$F$11,'[1]LISTAS (2)'!$F$12))) -> Moderado | G11: =IF(H11=" "," ",IF(H11>59,5,IF(H11>20,4,IF(H11>11,3,IF(H11>5,2,1))))) -> 3 | H11: =IF(C11=0," ",C11*E11) -> 20 | I11: =IF(G11=" "," ",IF(G11=5,'[1]LISTAS (2)'!$I$7,IF(G11=4,'[1]LISTAS (2)'!$I$6,IF(G11=3,'[1]LISTAS (2)'!$I$4,IF(G11=2,'[1]LISTAS (2)'!$I$3,'[1]LISTAS (2)'!$I$2))))) -> Moderado | J11: =IF(I11=" "," ",IF(I11="Aceptable",'[1]LISTAS (2)'!$J$2,IF(I11="Inaceptable",'[1]LISTAS (2)'!$J$7,'[1]LISTAS (2)'!$J$3))) -> Se debe realizar un análisis del costo beneficio con el que se pueda decidir entre, asumirlo o compartirlo. | K11: Los Controles existentes son efectivos y están documentados | L11: Definir como requisito previo para el inicio de la ejecución de las obras la obtención de todos los permisos y concesiones requeridas. | M11: =IF(K11=0," ",IF(K11='[1]LISTAS (2)'!$H$11,'[1]LISTAS (2)'!$I$11,IF(K11='[1]LISTAS (2)'!$H$12,'[1]LISTAS (2)'!$I$12,'[1]LISTAS (2)'!$I$10))) -> Pasa a escala inferior (el desplazamiento depende de si el control afecta el impacto o la probabilidad) | N11: 1 | O11: =IF(N11=0," ",IF(N11=1,'[1]LISTAS (2)'!$F$6,IF(N11=2,'[1]LISTAS (2)'!$F$5,'[1]LISTAS (2)'!$F$4))) -> Baja | P11: 5 | Q11: =IF(P11=0," ",IF(P11=20,'[1]LISTAS (2)'!$F$10,IF(P11=10,'[1]LISTAS (2)'!$F$11,'[1]LISTAS (2)'!$F$12))) -> leve | R11: =IF(S11=" "," ",IF(S11>59,5,IF(S11>20,4,IF(S11>11,3,IF(S11>5,2,1))))) -> 1 | S11: =IF(N11=0," ",N11*P11) -> 5 | T11: =IF(R11=" "," ",IF(R11=5,'[1]LISTAS (2)'!$I$7,IF(R11=4,'[1]LISTAS (2)'!$I$6,IF(R11=3,'[1]LISTAS (2)'!$I$4,IF(R11=2,'[1]LISTAS (2)'!$I$3,'[1]LISTAS (2)'!$I$2))))) -> Aceptable | U11: Evitar | V11: Impartir la orden de inicio tras la adquisición de los permisos ambientales y concesiones mineras | W11: Entidad contratista de obra e interventoría
B12: =+INVENTARIO!I11 -> Incumplimiento de los entregables del proyecto | C12: 2 | D12: =IF(C12=0," ",IF(C12=1,'[1]LISTAS (2)'!$F$6,IF(C12=2,'[1]LISTAS (2)'!$F$5,'[1]LISTAS (2)'!$F$4))) -> Media | E12: 5 | F12: =IF(E12=0," ",IF(E12=20,'[1]LISTAS (2)'!$F$10,IF(E12=10,'[1]LISTAS (2)'!$F$11,'[1]LISTAS (2)'!$F$12))) -> leve | G12: =IF(H12=" "," ",IF(H12>59,5,IF(H12>20,4,IF(H12>11,3,IF(H12>5,2,1))))) -> 2 | H12: =IF(C12=0," ",C12*E12) -> 10 | I12: =IF(G12=" "," ",IF(G12=5,'[1]LISTAS (2)'!$I$7,IF(G12=4,'[1]LISTAS (2)'!$I$6,IF(G12=3,'[1]LISTAS (2)'!$I$4,IF(G12=2,'[1]LISTAS (2)'!$I$3,'[1]LISTAS (2)'!$I$2))))) -> Tolerable | J12: =IF(I12=" "," ",IF(I12="Aceptable",'[1]LISTAS (2)'!$J$2,IF(I12="Inaceptable",'[1]LISTAS (2)'!$J$7,'[1]LISTAS (2)'!$J$3))) -> Se debe realizar un análisis del costo beneficio con el que se pueda decidir entre, asumirlo o compartirlo. | K12: Los Controles existentes son efectivos y están documentados | L12: Contratar la interventoría que vigile la correcta ejecución de la obras con la documentación de soporte exigida contractualmente | M12: =IF(K12=0," ",IF(K12='[1]LISTAS (2)'!$H$11,'[1]LISTAS (2)'!$I$11,IF(K12='[1]LISTAS (2)'!$H$12,'[1]LISTAS (2)'!$I$12,'[1]LISTAS (2)'!$I$10))) -> Pasa a escala inferior (el desplazamiento depende de si el control afecta el impacto o la probabilidad) | N12: 1 | O12: =IF(N12=0," ",IF(N12=1,'[1]LISTAS (2)'!$F$6,IF(N12=2,'[1]LISTAS (2)'!$F$5,'[1]LISTAS (2)'!$F$4))) -> Baja | P12: 5 | Q12: =IF(P12=0," ",IF(P12=20,'[1]LISTAS (2)'!$F$10,IF(P12=10,'[1]LISTAS (2)'!$F$11,'[1]LISTAS (2)'!$F$12))) -> leve | R12: =IF(S12=" "," ",IF(S12>59,5,IF(S12>20,4,IF(S12>11,3,IF(S12>5,2,1))))) -> 1 | S12: =IF(N12=0," ",N12*P12) -> 5 | T12: =IF(R12=" "," ",IF(R12=5,'[1]LISTAS (2)'!$I$7,IF(R12=4,'[1]LISTAS (2)'!$I$6,IF(R12=3,'[1]LISTAS (2)'!$I$4,IF(R12=2,'[1]LISTAS (2)'!$I$3,'[1]LISTAS (2)'!$I$2))))) -> Aceptable | U12: Evitar | V12: Ejercer control sobre la ejecución del proyecto según las características planteadas por la entidad. | W12: Supervisión e interventoría
B13: =+INVENTARIO!G12 -> Deficiencias y materiales de baja calidad | C13: 1 | D13: =IF(C13=0," ",IF(C13=1,'[1]LISTAS (2)'!$F$6,IF(C13=2,'[1]LISTAS (2)'!$F$5,'[1]LISTAS (2)'!$F$4))) -> Baja | E13: 20 | F13: =IF(E13=0," ",IF(E13=20,'[1]LISTAS (2)'!$F$10,IF(E13=10,'[1]LISTAS (2)'!$F$11,'[1]LISTAS (2)'!$F$12))) -> Catastrófico | G13: =IF(H13=" "," ",IF(H13>59,5,IF(H13>20,4,IF(H13>11,3,IF(H13>5,2,1))))) -> 3 | H13: =IF(C13=0," ",C13*E13) -> 20 | I13: =IF(G13=" "," ",IF(G13=5,'[1]LISTAS (2)'!$I$7,IF(G13=4,'[1]LISTAS (2)'!$I$6,IF(G13=3,'[1]LISTAS (2)'!$I$4,IF(G13=2,'[1]LISTAS (2)'!$I$3,'[1]LISTAS (2)'!$I$2))))) -> Moderado | J13: =IF(I13=" "," ",IF(I13="Aceptable",'[1]LISTAS (2)'!$J$2,IF(I13="Inaceptable",'[1]LISTAS (2)'!$J$7,'[1]LISTAS (2)'!$J$3))) -> Se debe realizar un análisis del costo beneficio con el que se pueda decidir entre, asumirlo o compartirlo. | K13: Los Controles existentes son efectivos y están documentados | L13: Contratar la interventoría que vigile la correcta ejecución de la obras con la documentación de soporte exigida contractualmente | M13: =IF(K13=0," ",IF(K13='[1]LISTAS (2)'!$H$11,'[1]LISTAS (2)'!$I$11,IF(K13='[1]LISTAS (2)'!$H$12,'[1]LISTAS (2)'!$I$12,'[1]LISTAS (2)'!$I$10))) -> Pasa a escala inferior (el desplazamiento depende de si el control afecta el impacto o la probabilidad) | N13: 1 | O13: =IF(N13=0," ",IF(N13=1,'[1]LISTAS (2)'!$F$6,IF(N13=2,'[1]LISTAS (2)'!$F$5,'[1]LISTAS (2)'!$F$4))) -> Baja | P13: 10 | Q13: =IF(P13=0," ",IF(P13=20,'[1]LISTAS (2)'!$F$10,IF(P13=10,'[1]LISTAS (2)'!$F$11,'[1]LISTAS (2)'!$F$12))) -> Moderado | R13: =IF(S13=" "," ",IF(S13>59,5,IF(S13>20,4,IF(S13>11,3,IF(S13>5,2,1))))) -> 2 | S13: =IF(N13=0," ",N13*P13) -> 10 | T13: =IF(R13=" "," ",IF(R13=5,'[1]LISTAS (2)'!$I$7,IF(R13=4,'[1]LISTAS (2)'!$I$6,IF(R13=3,'[1]LISTAS (2)'!$I$4,IF(R13=2,'[1]LISTAS (2)'!$I$3,'[1]LISTAS (2)'!$I$2))))) -> Tolerable | U13: Evitar | V13: Ejercer control sobre la ejecución del proyecto según las características planteadas por la entidad. | W13: Supervisión e interventoría
B14: =+INVENTARIO!F13 -> Accidentes de Trabajo | C14: 3 | D14: =IF(C14=0," ",IF(C14=1,'[1]LISTAS (2)'!$F$6,IF(C14=2,'[1]LISTAS (2)'!$F$5,'[1]LISTAS (2)'!$F$4))) -> Alta | E14: 10 | F14: =IF(E14=0," ",IF(E14=20,'[1]LISTAS (2)'!$F$10,IF(E14=10,'[1]LISTAS (2)'!$F$11,'[1]LISTAS (2)'!$F$12))) -> Moderado | G14: =IF(H14=" "," ",IF(H14>59,5,IF(H14>20,4,IF(H14>11,3,IF(H14>5,2,1))))) -> 4 | H14: =IF(C14=0," ",C14*E14) -> 30 | I14: =IF(G14=" "," ",IF(G14=5,'[1]LISTAS (2)'!$I$7,IF(G14=4,'[1]LISTAS (2)'!$I$6,IF(G14=3,'[1]LISTAS (2)'!$I$4,IF(G14=2,'[1]LISTAS (2)'!$I$3,'[1]LISTAS (2)'!$I$2))))) -> Importante | J14: =IF(I14=" "," ",IF(I14="Aceptable",'[1]LISTAS (2)'!$J$2,IF(I14="Inaceptable",'[1]LISTAS (2)'!$J$7,'[1]LISTAS (2)'!$J$3))) -> Se debe realizar un análisis del costo beneficio con el que se pueda decidir entre, asumirlo o compartirlo. | K14: Los Controles existentes son efectivos y están documentados | L14: Exigir previo al inicio de la ejecución e la obras el sistema de gestión en salud y seguridad en el trabajo según la reglamentación vigente a la fecha | M14: =IF(K14=0," ",IF(K14='[1]LISTAS (2)'!$H$11,'[1]LISTAS (2)'!$I$11,IF(K14='[1]LISTAS (2)'!$H$12,'[1]LISTAS (2)'!$I$12,'[1]LISTAS (2)'!$I$10))) -> Pasa a escala inferior (el desplazamiento depende de si el control afecta el impacto o la probabilidad) | N14: 2 | O14: =IF(N14=0," ",IF(N14=1,'[1]LISTAS (2)'!$F$6,IF(N14=2,'[1]LISTAS (2)'!$F$5,'[1]LISTAS (2)'!$F$4))) -> Media | P14: 5 | Q14: =IF(P14=0," ",IF(P14=20,'[1]LISTAS (2)'!$F$10,IF(P14=10,'[1]LISTAS (2)'!$F$11,'[1]LISTAS (2)'!$F$12))) -> leve | R14: =IF(S14=" "," ",IF(S14>59,5,IF(S14>20,4,IF(S14>11,3,IF(S14>5,2,1))))) -> 2 | S14: =IF(N14=0," ",N14*P14) -> 10 | T14: =IF(R14=" "," ",IF(R14=5,'[1]LISTAS (2)'!$I$7,IF(R14=4,'[1]LISTAS (2)'!$I$6,IF(R14=3,'[1]LISTAS (2)'!$I$4,IF(R14=2,'[1]LISTAS (2)'!$I$3,'[1]LISTAS (2)'!$I$2))))) -> Tolerable | U14: Reducir | V14: Impartir la orden de inicio tras la formulación del SGSST | W14: Entidad, contratista de obra e interventoría
B15: =+INVENTARIO!G11 -> Retraso en los desembolsos para el pago del proyecto | C15: 1 | D15: =IF(C15=0," ",IF(C15=1,'[1]LISTAS (2)'!$F$6,IF(C15=2,'[1]LISTAS (2)'!$F$5,'[1]LISTAS (2)'!$F$4))) -> Baja | E15: 10 | F15: =IF(E15=0," ",IF(E15=20,'[1]LISTAS (2)'!$F$10,IF(E15=10,'[1]LISTAS (2)'!$F$11,'[1]LISTAS (2)'!$F$12))) -> Moderado | G15: =IF(H15=" "," ",IF(H15>59,5,IF(H15>20,4,IF(H15>11,3,IF(H15>5,2,1))))) -> 2 | H15: =IF(C15=0," ",C15*E15) -> 10 | I15: =IF(G15=" "," ",IF(G15=5,'[1]LISTAS (2)'!$I$7,IF(G15=4,'[1]LISTAS (2)'!$I$6,IF(G15=3,'[1]LISTAS (2)'!$I$4,IF(G15=2,'[1]LISTAS (2)'!$I$3,'[1]LISTAS (2)'!$I$2))))) -> Tolerable | J15: =IF(I15=" "," ",IF(I15="Aceptable",'[1]LISTAS (2)'!$J$2,IF(I15="Inaceptable",'[1]LISTAS (2)'!$J$7,'[1]LISTAS (2)'!$J$3))) -> Se debe realizar un análisis del costo beneficio con el que se pueda decidir entre, asumirlo o compartirlo. | K15: Los Controles existentes son efectivos y están documentados | L15: Estructuración de un plan de inversiones que defina los valores y fechas de los desembolsos de los recursos para la financiación del proyecto. | M15: =IF(K15=0," ",IF(K15='[1]LISTAS (2)'!$H$11,'[1]LISTAS (2)'!$I$11,IF(K15='[1]LISTAS (2)'!$H$12,'[1]LISTAS (2)'!$I$12,'[1]LISTAS (2)'!$I$10))) -> Pasa a escala inferior (el desplazamiento depende de si el control afecta el impacto o la probabilidad) | N15: 1 | O15: =IF(N15=0," ",IF(N15=1,'[1]LISTAS (2)'!$F$6,IF(N15=2,'[1]LISTAS (2)'!$F$5,'[1]LISTAS (2)'!$F$4))) -> Baja | P15: 5 | Q15: =IF(P15=0," ",IF(P15=20,'[1]LISTAS (2)'!$F$10,IF(P15=10,'[1]LISTAS (2)'!$F$11,'[1]LISTAS (2)'!$F$12))) -> leve | R15: =IF(S15=" "," ",IF(S15>59,5,IF(S15>20,4,IF(S15>11,3,IF(S15>5,2,1))))) -> 1 | S15: =IF(N15=0," ",N15*P15) -> 5 | T15: =IF(R15=" "," ",IF(R15=5,'[1]LISTAS (2)'!$I$7,IF(R15=4,'[1]LISTAS (2)'!$I$6,IF(R15=3,'[1]LISTAS (2)'!$I$4,IF(R15=2,'[1]LISTAS (2)'!$I$3,'[1]LISTAS (2)'!$I$2))))) -> Aceptable | U15: Evitar | V15: Formulación del plan de inversiones | W15: Entidad
B16: =+INVENTARIO!F12 -> Demandas y acciones de tutela en contra del ordenador del gasto | C16: 2 | D16: =IF(C16=0," ",IF(C16=1,'[1]LISTAS (2)'!$F$6,IF(C16=2,'[1]LISTAS (2)'!$F$5,'[1]LISTAS (2)'!$F$4))) -> Media | E16: 10 | F16: =IF(E16=0," ",IF(E16=20,'[1]LISTAS (2)'!$F$10,IF(E16=10,'[1]LISTAS (2)'!$F$11,'[1]LISTAS (2)'!$F$12))) -> Moderado | G16: =IF(H16=" "," ",IF(H16>59,5,IF(H16>20,4,IF(H16>11,3,IF(H16>5,2,1))))) -> 3 | H16: =IF(C16=0," ",C16*E16) -> 20 | I16: =IF(G16=" "," ",IF(G16=5,'[1]LISTAS (2)'!$I$7,IF(G16=4,'[1]LISTAS (2)'!$I$6,IF(G16=3,'[1]LISTAS (2)'!$I$4,IF(G16=2,'[1]LISTAS (2)'!$I$3,'[1]LISTAS (2)'!$I$2))))) -> Moderado | J16: =IF(I16=" "," ",IF(I16="Aceptable",'[1]LISTAS (2)'!$J$2,IF(I16="Inaceptable",'[1]LISTAS (2)'!$J$7,'[1]LISTAS (2)'!$J$3))) -> Se debe realizar un análisis del costo beneficio con el que se pueda decidir entre, asumirlo o compartirlo. | K16: Los Controles existentes son efectivos y están documentados | L16: Cumplimiento de todas las obligaciones legales pre contractuales y contractuales según la legislación establecida para la contratación publica. | M16: =IF(K16=0," ",IF(K16='[1]LISTAS (2)'!$H$11,'[1]LISTAS (2)'!$I$11,IF(K16='[1]LISTAS (2)'!$H$12,'[1]LISTAS (2)'!$I$12,'[1]LISTAS (2)'!$I$10))) -> Pasa a escala inferior (el desplazamiento depende de si el control afecta el impacto o la probabilidad) | N16: 1 | O16: =IF(N16=0," ",IF(N16=1,'[1]LISTAS (2)'!$F$6,IF(N16=2,'[1]LISTAS (2)'!$F$5,'[1]LISTAS (2)'!$F$4))) -> Baja | P16: 5 | Q16: =IF(P16=0," ",IF(P16=20,'[1]LISTAS (2)'!$F$10,IF(P16=10,'[1]LISTAS (2)'!$F$11,'[1]LISTAS (2)'!$F$12))) -> leve | R16: =IF(S16=" "," ",IF(S16>59,5,IF(S16>20,4,IF(S16>11,3,IF(S16>5,2,1))))) -> 1 | S16: =IF(N16=0," ",N16*P16) -> 5 | T16: =IF(R16=" "," ",IF(R16=5,'[1]LISTAS (2)'!$I$7,IF(R16=4,'[1]LISTAS (2)'!$I$6,IF(R16=3,'[1]LISTAS (2)'!$I$4,IF(R16=2,'[1]LISTAS (2)'!$I$3,'[1]LISTAS (2)'!$I$2))))) -> Aceptable | U16: Evitar | V16: Cumplimiento de la normatividad vigente para la contratación publica. | W16: Entidad
B17: =+INVENTARIO!I12 -> Corrupción en el proceso de selección de los contratistas de obra y de la interventoría | C17: 2 | D17: =IF(C17=0," ",IF(C17=1,'[1]LISTAS (2)'!$F$6,IF(C17=2,'[1]LISTAS (2)'!$F$5,'[1]LISTAS (2)'!$F$4))) -> Media | E17: 10 | F17: =IF(E17=0," ",IF(E17=20,'[1]LISTAS (2)'!$F$10,IF(E17=10,'[1]LISTAS (2)'!$F$11,'[1]LISTAS (2)'!$F$12))) -> Moderado | G17: =IF(H17=" "," ",IF(H17>59,5,IF(H17>20,4,IF(H17>11,3,IF(H17>5,2,1))))) -> 3 | H17: =IF(C17=0," ",C17*E17) -> 20 | I17: =IF(G17=" "," ",IF(G17=5,'[1]LISTAS (2)'!$I$7,IF(G17=4,'[1]LISTAS (2)'!$I$6,IF(G17=3,'[1]LISTAS (2)'!$I$4,IF(G17=2,'[1]LISTAS (2)'!$I$3,'[1]LISTAS (2)'!$I$2))))) -> Moderado | J17: =IF(I17=" "," ",IF(I17="Aceptable",'[1]LISTAS (2)'!$J$2,IF(I17="Inaceptable",'[1]LISTAS (2)'!$J$7,'[1]LISTAS (2)'!$J$3))) -> Se debe realizar un análisis del costo beneficio con el que se pueda decidir entre, asumirlo o compartirlo. | K17: Los Controles existentes son efectivos y están documentados | L17: Cumplimiento de todas las obligaciones legales pre contractuales y contractuales según la legislación establecida para la contratación publica. | M17: =IF(K17=0," ",IF(K17='[1]LISTAS (2)'!$H$11,'[1]LISTAS (2)'!$I$11,IF(K17='[1]LISTAS (2)'!$H$12,'[1]LISTAS (2)'!$I$12,'[1]LISTAS (2)'!$I$10))) -> Pasa a escala inferior (el desplazamiento depende de si el control afecta el impacto o la probabilidad) | N17: 1 | O17: =IF(N17=0," ",IF(N17=1,'[1]LISTAS (2)'!$F$6,IF(N17=2,'[1]LISTAS (2)'!$F$5,'[1]LISTAS (2)'!$F$4))) -> Baja | P17: 5 | Q17: =IF(P17=0," ",IF(P17=20,'[1]LISTAS (2)'!$F$10,IF(P17=10,'[1]LISTAS (2)'!$F$11,'[1]LISTAS (2)'!$F$12))) -> leve | R17: =IF(S17=" "," ",IF(S17>59,5,IF(S17>20,4,IF(S17>11,3,IF(S17>5,2,1))))) -> 1 | S17: =IF(N17=0," ",N17*P17) -> 5 | T17: =IF(R17=" "," ",IF(R17=5,'[1]LISTAS (2)'!$I$7,IF(R17=4,'[1]LISTAS (2)'!$I$6,IF(R17=3,'[1]LISTAS (2)'!$I$4,IF(R17=2,'[1]LISTAS (2)'!$I$3,'[1]LISTAS (2)'!$I$2))))) -> Aceptable | U17: Evitar | V17: Cumplimiento de la normatividad vigente para la contratación publica. | W17: Entidad
B18: =+INVENTARIO!H13 -> Contaminación e impacto ambiental generado por debilidad en la ejecución del plan ambiental. Demandas e incumplimiento de normatividad ambiental por uso de fuentes de materiales que no cuentan con licencia ambiental y plan de manejo ambiental | C18: 2 | D18: =IF(C18=0," ",IF(C18=1,'[1]LISTAS (2)'!$F$6,IF(C18=2,'[1]LISTAS (2)'!$F$5,'[1]LISTAS (2)'!$F$4))) -> Media | E18: 10 | F18: =IF(E18=0," ",IF(E18=20,'[1]LISTAS (2)'!$F$10,IF(E18=10,'[1]LISTAS (2)'!$F$11,'[1]LISTAS (2)'!$F$12))) -> Moderado | G18: =IF(H18=" "," ",IF(H18>59,5,IF(H18>20,4,IF(H18>11,3,IF(H18>5,2,1))))) -> 3 | H18: =IF(C18=0," ",C18*E18) -> 20 | I18: =IF(G18=" "," ",IF(G18=5,'[1]LISTAS (2)'!$I$7,IF(G18=4,'[1]LISTAS (2)'!$I$6,IF(G18=3,'[1]LISTAS (2)'!$I$4,IF(G18=2,'[1]LISTAS (2)'!$I$3,'[1]LISTAS (2)'!$I$2))))) -> Moderado | J18: =IF(I18=" "," ",IF(I18="Aceptable",'[1]LISTAS (2)'!$J$2,IF(I18="Inaceptable",'[1]LISTAS (2)'!$J$7,'[1]LISTAS (2)'!$J$3))) -> Se debe realizar un análisis del costo beneficio con el que se pueda decidir entre, asumirlo o compartirlo. | K18: Los Controles existentes son efectivos y están documentados | L18: Contratar la interventoría que vigile la correcta ejecución de la obras con la documentación de soporte exigida contractualmente | M18: =IF(K18=0," ",IF(K18='[1]LISTAS (2)'!$H$11,'[1]LISTAS (2)'!$I$11,IF(K18='[1]LISTAS (2)'!$H$12,'[1]LISTAS (2)'!$I$12,'[1]LISTAS (2)'!$I$10))) -> Pasa a escala inferior (el desplazamiento depende de si el control afecta el impacto o la probabilidad) | N18: 1 | O18: =IF(N18=0," ",IF(N18=1,'[1]LISTAS (2)'!$F$6,IF(N18=2,'[1]LISTAS (2)'!$F$5,'[1]LISTAS (2)'!$F$4))) -> Baja | P18: 5 | Q18: =IF(P18=0," ",IF(P18=20,'[1]LISTAS (2)'!$F$10,IF(P18=10,'[1]LISTAS (2)'!$F$11,'[1]LISTAS (2)'!$F$12))) -> leve | R18: =IF(S18=" "," ",IF(S18>59,5,IF(S18>20,4,IF(S18>11,3,IF(S18>5,2,1))))) -> 1 | S18: =IF(N18=0," ",N18*P18) -> 5 | T18: =IF(R18=" "," ",IF(R18=5,'[1]LISTAS (2)'!$I$7,IF(R18=4,'[1]LISTAS (2)'!$I$6,IF(R18=3,'[1]LISTAS (2)'!$I$4,IF(R18=2,'[1]LISTAS (2)'!$I$3,'[1]LISTAS (2)'!$I$2))))) -> Aceptable | U18: Evitar | V18: Ejercer control sobre la ejecución del proyecto según las características planteadas por la entidad. | W18: Supervisión e interventoría
B19: =+INVENTARIO!D8 -> No ejecución de los proyectos por desconocimiento de la normatividad vigente | C19: 1 | D19: =IF(C19=0," ",IF(C19=1,'[1]LISTAS (2)'!$F$6,IF(C19=2,'[1]LISTAS (2)'!$F$5,'[1]LISTAS (2)'!$F$4))) -> Baja | E19: 10 | F19: =IF(E19=0," ",IF(E19=20,'[1]LISTAS (2)'!$F$10,IF(E19=10,'[1]LISTAS (2)'!$F$11,'[1]LISTAS (2)'!$F$12))) -> Moderado | G19: =IF(H19=" "," ",IF(H19>59,5,IF(H19>20,4,IF(H19>11,3,IF(H19>5,2,1))))) -> 2 | H19: =IF(C19=0," ",C19*E19) -> 10 | I19: =IF(G19=" "," ",IF(G19=5,'[1]LISTAS (2)'!$I$7,IF(G19=4,'[1]LISTAS (2)'!$I$6,IF(G19=3,'[1]LISTAS (2)'!$I$4,IF(G19=2,'[1]LISTAS (2)'!$I$3,'[1]LISTAS (2)'!$I$2))))) -> Tolerable | J19: =IF(I19=" "," ",IF(I19="Aceptable",'[1]LISTAS (2)'!$J$2,IF(I19="Inaceptable",'[1]LISTAS (2)'!$J$7,'[1]LISTAS (2)'!$J$3))) -> Se debe realizar un análisis del costo beneficio con el que se pueda decidir entre, asumirlo o compartirlo. | K19: Los Controles existentes son efectivos y están documentados | L19: Audiciencias públicas y rendición de cuentas, Informes de Interventoría y Supervisión | M19: =IF(K19=0," ",IF(K19='[1]LISTAS (2)'!$H$11,'[1]LISTAS (2)'!$I$11,IF(K19='[1]LISTAS (2)'!$H$12,'[1]LISTAS (2)'!$I$12,'[1]LISTAS (2)'!$I$10))) -> Pasa a escala inferior (el desplazamiento depende de si el control afecta el impacto o la probabilidad) | N19: 1 | O19: =IF(N19=0," ",IF(N19=1,'[1]LISTAS (2)'!$F$6,IF(N19=2,'[1]LISTAS (2)'!$F$5,'[1]LISTAS (2)'!$F$4))) -> Baja | P19: 10 | Q19: =IF(P19=0," ",IF(P19=20,'[1]LISTAS (2)'!$F$10,IF(P19=10,'[1]LISTAS (2)'!$F$11,'[1]LISTAS (2)'!$F$12))) -> Moderado | R19: =IF(S19=" "," ",IF(S19>59,5,IF(S19>20,4,IF(S19>11,3,IF(S19>5,2,1))))) -> 2 | S19: =IF(N19=0," ",N19*P19) -> 10 | T19: =IF(R19=" "," ",IF(R19=5,'[1]LISTAS (2)'!$I$7,IF(R19=4,'[1]LISTAS (2)'!$I$6,IF(R19=3,'[1]LISTAS (2)'!$I$4,IF(R19=2,'[1]LISTAS (2)'!$I$3,'[1]LISTAS (2)'!$I$2))))) -> Tolerable | U19: Evitar | V19: Capacitación y contacto permanente entre los involucrados del proyecto | W19: Ejecutor, supervisor e interventor del proyecto, Entidad Territorial
B20: =+INVENTARIO!E9 -> Incremento en el presuesto de obra | C20: 1 | D20: =IF(C20=0," ",IF(C20=1,'[1]LISTAS (2)'!$F$6,IF(C20=2,'[1]LISTAS (2)'!$F$5,'[1]LISTAS (2)'!$F$4))) -> Baja | E20: 20 | F20: =IF(E20=0," ",IF(E20=20,'[1]LISTAS (2)'!$F$10,IF(E20=10,'[1]LISTAS (2)'!$F$11,'[1]LISTAS (2)'!$F$12))) -> Catastrófico | G20: =IF(H20=" "," ",IF(H20>59,5,IF(H20>20,4,IF(H20>11,3,IF(H20>5,2,1))))) -> 3 | H20: =IF(C20=0," ",C20*E20) -> 20 | I20: =IF(G20=" "," ",IF(G20=5,'[1]LISTAS (2)'!$I$7,IF(G20=4,'[1]LISTAS (2)'!$I$6,IF(G20=3,'[1]LISTAS (2)'!$I$4,IF(G20=2,'[1]LISTAS (2)'!$I$3,'[1]LISTAS (2)'!$I$2))))) -> Moderado | J20: =IF(I20=" "," ",IF(I20="Aceptable",'[1]LISTAS (2)'!$J$2,IF(I20="Inaceptable",'[1]LISTAS (2)'!$J$7,'[1]LISTAS (2)'!$J$3))) -> Se debe realizar un análisis del costo beneficio con el que se pueda decidir entre, asumirlo o compartirlo. | K20: Los Controles existentes son efectivos y están documentados | L20: Planeación de la Ejecución financiera y física del proyecto así como la realización del costeo minucioso de los APUs y AIUs | M20: =IF(K20=0," ",IF(K20='[1]LISTAS (2)'!$H$11,'[1]LISTAS (2)'!$I$11,IF(K20='[1]LISTAS (2)'!$H$12,'[1]LISTAS (2)'!$I$12,'[1]LISTAS (2)'!$I$10))) -> Pasa a escala inferior (el desplazamiento depende de si el control afecta el impacto o la probabilidad) | N20: 1 | O20: =IF(N20=0," ",IF(N20=1,'[1]LISTAS (2)'!$F$6,IF(N20=2,'[1]LISTAS (2)'!$F$5,'[1]LISTAS (2)'!$F$4))) -> Baja | P20: 10 | Q20: =IF(P20=0," ",IF(P20=20,'[1]LISTAS (2)'!$F$10,IF(P20=10,'[1]LISTAS (2)'!$F$11,'[1]LISTAS (2)'!$F$12))) -> Moderado | R20: =IF(S20=" "," ",IF(S20>59,5,IF(S20>20,4,IF(S20>11,3,IF(S20>5,2,1))))) -> 2 | S20: =IF(N20=0," ",N20*P20) -> 10 | T20: =IF(R20=" "," ",IF(R20=5,'[1]LISTAS (2)'!$I$7,IF(R20=4,'[1]LISTAS (2)'!$I$6,IF(R20=3,'[1]LISTAS (2)'!$I$4,IF(R20=2,'[1]LISTAS (2)'!$I$3,'[1]LISTAS (2)'!$I$2))))) -> Tolerable | U20: Reducir | V20: Formulación Adecuada y objetiva del proyecto y sus alcances. Solicitudes oportunas de los ajustes a los que haya lugar bajo la normativad vigente. Seguimiento a actividades por RPC . Evidencias de ejecución subidas al Gesproy | W20: Interventor y Contratista de obra
B21: =+INVENTARIO!D10 -> Actuaciones jurídicas en contra del proyecto | C21: 1 | D21: =IF(C21=0," ",IF(C21=1,'[1]LISTAS (2)'!$F$6,IF(C21=2,'[1]LISTAS (2)'!$F$5,'[1]LISTAS (2)'!$F$4))) -> Baja | E21: 10 | F21: =IF(E21=0," ",IF(E21=20,'[1]LISTAS (2)'!$F$10,IF(E21=10,'[1]LISTAS (2)'!$F$11,'[1]LISTAS (2)'!$F$12))) -> Moderado | G21: =IF(H21=" "," ",IF(H21>59,5,IF(H21>20,4,IF(H21>11,3,IF(H21>5,2,1))))) -> 2 | H21: =IF(C21=0," ",C21*E21) -> 10 | I21: =IF(G21=" "," ",IF(G21=5,'[1]LISTAS (2)'!$I$7,IF(G21=4,'[1]LISTAS (2)'!$I$6,IF(G21=3,'[1]LISTAS (2)'!$I$4,IF(G21=2,'[1]LISTAS (2)'!$I$3,'[1]LISTAS (2)'!$I$2))))) -> Tolerable | J21: =IF(I21=" "," ",IF(I21="Aceptable",'[1]LISTAS (2)'!$J$2,IF(I21="Inaceptable",'[1]LISTAS (2)'!$J$7,'[1]LISTAS (2)'!$J$3))) -> Se debe realizar un análisis del costo beneficio con el que se pueda decidir entre, asumirlo o compartirlo. | K21: Los Controles existentes son efectivos y están documentados | L21: Actualización de la información del proyecto en las plataformas correspondientes, informes de interventoría y de supervisión | M21: =IF(K21=0," ",IF(K21='[1]LISTAS (2)'!$H$11,'[1]LISTAS (2)'!$I$11,IF(K21='[1]LISTAS (2)'!$H$12,'[1]LISTAS (2)'!$I$12,'[1]LISTAS (2)'!$I$10))) -> Pasa a escala inferior (el desplazamiento depende de si el control afecta el impacto o la probabilidad) | N21: 1 | O21: =IF(N21=0," ",IF(N21=1,'[1]LISTAS (2)'!$F$6,IF(N21=2,'[1]LISTAS (2)'!$F$5,'[1]LISTAS (2)'!$F$4))) -> Baja | P21: 10 | Q21: =IF(P21=0," ",IF(P21=20,'[1]LISTAS (2)'!$F$10,IF(P21=10,'[1]LISTAS (2)'!$F$11,'[1]LISTAS (2)'!$F$12))) -> Moderado | R21: =IF(S21=" "," ",IF(S21>59,5,IF(S21>20,4,IF(S21>11,3,IF(S21>5,2,1))))) -> 2 | S21: =IF(N21=0," ",N21*P21) -> 10 | T21: =IF(R21=" "," ",IF(R21=5,'[1]LISTAS (2)'!$I$7,IF(R21=4,'[1]LISTAS (2)'!$I$6,IF(R21=3,'[1]LISTAS (2)'!$I$4,IF(R21=2,'[1]LISTAS (2)'!$I$3,'[1]LISTAS (2)'!$I$2))))) -> Tolerable | U21: Evitar | V21: Permanente comunicación entre la dirección del proyecto y los demás miembros involucrados . Control de los informes de avances. Planificación de acuerdo con tiempos de ejecución. Constitución de veedurías ciudadanas | W21: Ejecutor, supervisor e interventor del proyecto
B22: =+INVENTARIO!G13 -> Reproceso en el cronograma de ejecución del proyecto | C22: 2 | D22: =IF(C22=0," ",IF(C22=1,'[1]LISTAS (2)'!$F$6,IF(C22=2,'[1]LISTAS (2)'!$F$5,'[1]LISTAS (2)'!$F$4))) -> Media | E22: 20 | F22: =IF(E22=0," ",IF(E22=20,'[1]LISTAS (2)'!$F$10,IF(E22=10,'[1]LISTAS (2)'!$F$11,'[1]LISTAS (2)'!$F$12))) -> Catastrófico | G22: =IF(H22=" "," ",IF(H22>59,5,IF(H22>20,4,IF(H22>11,3,IF(H22>5,2,1))))) -> 4 | H22: =IF(C22=0," ",C22*E22) -> 40 | I22: =IF(G22=" "," ",IF(G22=5,'[1]LISTAS (2)'!$I$7,IF(G22=4,'[1]LISTAS (2)'!$I$6,IF(G22=3,'[1]LISTAS (2)'!$I$4,IF(G22=2,'[1]LISTAS (2)'!$I$3,'[1]LISTAS (2)'!$I$2))))) -> Importante | J22: =IF(I22=" "," ",IF(I22="Aceptable",'[1]LISTAS (2)'!$J$2,IF(I22="Inaceptable",'[1]LISTAS (2)'!$J$7,'[1]LISTAS (2)'!$J$3))) -> Se debe realizar un análisis del costo beneficio con el que se pueda decidir entre, asumirlo o compartirlo. | K22: Los Controles existentes son efectivos y están documentados | L22: Audiciencias públicas y rendición de cuentas, Informes de Interventoría y Supervisión | M22: =IF(K22=0," ",IF(K22='[1]LISTAS (2)'!$H$11,'[1]LISTAS (2)'!$I$11,IF(K22='[1]LISTAS (2)'!$H$12,'[1]LISTAS (2)'!$I$12,'[1]LISTAS (2)'!$I$10))) -> Pasa a escala inferior (el desplazamiento depende de si el control afecta el impacto o la probabilidad) | N22: 1 | O22: =IF(N22=0," ",IF(N22=1,'[1]LISTAS (2)'!$F$6,IF(N22=2,'[1]LISTAS (2)'!$F$5,'[1]LISTAS (2)'!$F$4))) -> Baja | P22: 10 | Q22: =IF(P22=0," ",IF(P22=20,'[1]LISTAS (2)'!$F$10,IF(P22=10,'[1]LISTAS (2)'!$F$11,'[1]LISTAS (2)'!$F$12))) -> Moderado | R22: =IF(S22=" "," ",IF(S22>59,5,IF(S22>20,4,IF(S22>11,3,IF(S22>5,2,1))))) -> 2 | S22: =IF(N22=0," ",N22*P22) -> 10 | T22: =IF(R22=" "," ",IF(R22=5,'[1]LISTAS (2)'!$I$7,IF(R22=4,'[1]LISTAS (2)'!$I$6,IF(R22=3,'[1]LISTAS (2)'!$I$4,IF(R22=2,'[1]LISTAS (2)'!$I$3,'[1]LISTAS (2)'!$I$2))))) -> Tolerable | U22: Reducir | V22: Permanente comunicación entre la dirección del proyecto y los demás miembros involucrados . Control de los informes de avances. Planificación de acuerdo con tiempos de ejecución. Constitución de veedurías ciudadanas y Planes de contingencia | W22: Ejecutor, supervisor e interventor del proyecto
B23: =+INVENTARIO!F10 -> Retrasos en la obra por debilidades en los procesos de supervisión e interventoría | C23: 2 | D23: =IF(C23=0," ",IF(C23=1,'[1]LISTAS (2)'!$F$6,IF(C23=2,'[1]LISTAS (2)'!$F$5,'[1]LISTAS (2)'!$F$4))) -> Media | E23: 10 | F23: =IF(E23=0," ",IF(E23=20,'[1]LISTAS (2)'!$F$10,IF(E23=10,'[1]LISTAS (2)'!$F$11,'[1]LISTAS (2)'!$F$12))) -> Moderado | G23: =IF(H23=" "," ",IF(H23>59,5,IF(H23>20,4,IF(H23>11,3,IF(H23>5,2,1))))) -> 3 | H23: =IF(C23=0," ",C23*E23) -> 20 | I23: =IF(G23=" "," ",IF(G23=5,'[1]LISTAS (2)'!$I$7,IF(G23=4,'[1]LISTAS (2)'!$I$6,IF(G23=3,'[1]LISTAS (2)'!$I$4,IF(G23=2,'[1]LISTAS (2)'!$I$3,'[1]LISTAS (2)'!$I$2))))) -> Moderado | J23: =IF(I23=" "," ",IF(I23="Aceptable",'[1]LISTAS (2)'!$J$2,IF(I23="Inaceptable",'[1]LISTAS (2)'!$J$7,'[1]LISTAS (2)'!$J$3))) -> Se debe realizar un análisis del costo beneficio con el que se pueda decidir entre, asumirlo o compartirlo. | K23: Los Controles existentes son efectivos y están documentados | L23: Audiciencias públicas y rendición de cuentas, Informes de Interventoría y Supervisión, informe a las plataformas correspondientes. | M23: =IF(K23=0," ",IF(K23='[1]LISTAS (2)'!$H$11,'[1]LISTAS (2)'!$I$11,IF(K23='[1]LISTAS (2)'!$H$12,'[1]LISTAS (2)'!$I$12,'[1]LISTAS (2)'!$I$10))) -> Pasa a escala inferior (el desplazamiento depende de si el control afecta el impacto o la probabilidad) | N23: 1 | O23: =IF(N23=0," ",IF(N23=1,'[1]LISTAS (2)'!$F$6,IF(N23=2,'[1]LISTAS (2)'!$F$5,'[1]LISTAS (2)'!$F$4))) -> Baja | P23: 10 | Q23: =IF(P23=0," ",IF(P23=20,'[1]LISTAS (2)'!$F$10,IF(P23=10,'[1]LISTAS (2)'!$F$11,'[1]LISTAS (2)'!$F$12))) -> Moderado | R23: =IF(S23=" "," ",IF(S23>59,5,IF(S23>20,4,IF(S23>11,3,IF(S23>5,2,1))))) -> 2 | S23: =IF(N23=0," ",N23*P23) -> 10 | T23: =IF(R23=" "," ",IF(R23=5,'[1]LISTAS (2)'!$I$7,IF(R23=4,'[1]LISTAS (2)'!$I$6,IF(R23=3,'[1]LISTAS (2)'!$I$4,IF(R23=2,'[1]LISTAS (2)'!$I$3,'[1]LISTAS (2)'!$I$2))))) -> Tolerable | U23: Evitar | V23: Permanente comunicación entre la dirección del proyecto y los demás miembros involucrados . Capacitar en la estrategia para el seguimiento , monitoreo y control de los proyectos de inversión | W23: Entidad Territorial
B24: =+INVENTARIO!D11 -> Incumplimiento de los objetivos y metas del proyecto | C24: 1 | D24: =IF(C24=0," ",IF(C24=1,'[1]LISTAS (2)'!$F$6,IF(C24=2,'[1]LISTAS (2)'!$F$5,'[1]LISTAS (2)'!$F$4))) -> Baja | E24: 10 | F24: =IF(E24=0," ",IF(E24=20,'[1]LISTAS (2)'!$F$10,IF(E24=10,'[1]LISTAS (2)'!$F$11,'[1]LISTAS (2)'!$F$12))) -> Moderado | G24: =IF(H24=" "," ",IF(H24>59,5,IF(H24>20,4,IF(H24>11,3,IF(H24>5,2,1))))) -> 2 | H24: =IF(C24=0," ",C24*E24) -> 10 | I24: =IF(G24=" "," ",IF(G24=5,'[1]LISTAS (2)'!$I$7,IF(G24=4,'[1]LISTAS (2)'!$I$6,IF(G24=3,'[1]LISTAS (2)'!$I$4,IF(G24=2,'[1]LISTAS (2)'!$I$3,'[1]LISTAS (2)'!$I$2))))) -> Tolerable | J24: =IF(I24=" "," ",IF(I24="Aceptable",'[1]LISTAS (2)'!$J$2,IF(I24="Inaceptable",'[1]LISTAS (2)'!$J$7,'[1]LISTAS (2)'!$J$3))) -> Se debe realizar un análisis del costo beneficio con el que se pueda decidir entre, asumirlo o compartirlo. | K24: Los Controles existentes son efectivos y están documentados | L24: Audiciencias públicas y rendición de cuentas, Informes de Interventoría y Supervisión | M24: =IF(K24=0," ",IF(K24='[1]LISTAS (2)'!$H$11,'[1]LISTAS (2)'!$I$11,IF(K24='[1]LISTAS (2)'!$H$12,'[1]LISTAS (2)'!$I$12,'[1]LISTAS (2)'!$I$10))) -> Pasa a escala inferior (el desplazamiento depende de si el control afecta el impacto o la probabilidad) | N24: 1 | O24: =IF(N24=0," ",IF(N24=1,'[1]LISTAS (2)'!$F$6,IF(N24=2,'[1]LISTAS (2)'!$F$5,'[1]LISTAS (2)'!$F$4))) -> Baja | P24: 10 | Q24: =IF(P24=0," ",IF(P24=20,'[1]LISTAS (2)'!$F$10,IF(P24=10,'[1]LISTAS (2)'!$F$11,'[1]LISTAS (2)'!$F$12))) -> Moderado | R24: =IF(S24=" "," ",IF(S24>59,5,IF(S24>20,4,IF(S24>11,3,IF(S24>5,2,1))))) -> 2 | S24: =IF(N24=0," ",N24*P24) -> 10 | T24: =IF(R24=" "," ",IF(R24=5,'[1]LISTAS (2)'!$I$7,IF(R24=4,'[1]LISTAS (2)'!$I$6,IF(R24=3,'[1]LISTAS (2)'!$I$4,IF(R24=2,'[1]LISTAS (2)'!$I$3,'[1]LISTAS (2)'!$I$2))))) -> Tolerable | U24: Evitar | V24: Permanente comunicación entre la dirección del proyecto y los demás miembros involucrados . Control de los informes de avances. Planificación de acuerdo con tiempos de ejecución. Clausulas contractuales y Pólizas | W24: Ejecutor, supervisor e interventor del proyecto, oficina jurídica de la entidad territorial
B25: =+INVENTARIO!H11 -> Generación de un clima de desconfianza frente a la actuación del funcionarios | C25: 3 | D25: =IF(C25=0," ",IF(C25=1,'[1]LISTAS (2)'!$F$6,IF(C25=2,'[1]LISTAS (2)'!$F$5,'[1]LISTAS (2)'!$F$4))) -> Alta | E25: 10 | F25: =IF(E25=0," ",IF(E25=20,'[1]LISTAS (2)'!$F$10,IF(E25=10,'[1]LISTAS (2)'!$F$11,'[1]LISTAS (2)'!$F$12))) -> Moderado | G25: =IF(H25=" "," ",IF(H25>59,5,IF(H25>20,4,IF(H25>11,3,IF(H25>5,2,1))))) -> 4 | H25: =IF(C25=0," ",C25*E25) -> 30 | I25: =IF(G25=" "," ",IF(G25=5,'[1]LISTAS (2)'!$I$7,IF(G25=4,'[1]LISTAS (2)'!$I$6,IF(G25=3,'[1]LISTAS (2)'!$I$4,IF(G25=2,'[1]LISTAS (2)'!$I$3,'[1]LISTAS (2)'!$I$2))))) -> Importante | J25: =IF(I25=" "," ",IF(I25="Aceptable",'[1]LISTAS (2)'!$J$2,IF(I25="Inaceptable",'[1]LISTAS (2)'!$J$7,'[1]LISTAS (2)'!$J$3))) -> Se debe realizar un análisis del costo beneficio con el que se pueda decidir entre, asumirlo o compartirlo. | K25: Los Controles existentes son efectivos y están documentados | L25: Audiciencias públicas y rendición de cuentas | M25: =IF(K25=0," ",IF(K25='[1]LISTAS (2)'!$H$11,'[1]LISTAS (2)'!$I$11,IF(K25='[1]LISTAS (2)'!$H$12,'[1]LISTAS (2)'!$I$12,'[1]LISTAS (2)'!$I$10))) -> Pasa a escala inferior (el desplazamiento depende de si el control afecta el impacto o la probabilidad) | N25: 1 | O25: =IF(N25=0," ",IF(N25=1,'[1]LISTAS (2)'!$F$6,IF(N25=2,'[1]LISTAS (2)'!$F$5,'[1]LISTAS (2)'!$F$4))) -> Baja | P25: 10 | Q25: =IF(P25=0," ",IF(P25=20,'[1]LISTAS (2)'!$F$10,IF(P25=10,'[1]LISTAS (2)'!$F$11,'[1]LISTAS (2)'!$F$12))) -> Moderado | R25: =IF(S25=" "," ",IF(S25>59,5,IF(S25>20,4,IF(S25>11,3,IF(S25>5,2,1))))) -> 2 | S25: =IF(N25=0," ",N25*P25) -> 10 | T25: =IF(R25=" "," ",IF(R25=5,'[1]LISTAS (2)'!$I$7,IF(R25=4,'[1]LISTAS (2)'!$I$6,IF(R25=3,'[1]LISTAS (2)'!$I$4,IF(R25=2,'[1]LISTAS (2)'!$I$3,'[1]LISTAS (2)'!$I$2))))) -> Tolerable | U25: Reducir | V25: Permanente comunicación entre la dirección del proyecto y los demás miembros involucrados . Control de los informes de avances. Planificación de acuerdo con tiempos de ejecución. Constitución de veedurías ciudadanas y Planes de contingencia | W25: Ejecutor, supervisor e interventor del proyecto

Sheet Hoja1
A1: PROYECTO | C1: =+'ANALISIS Y VALORACIÓN'!C3:W3 -> “OBRAS DE INTERVENCIÓN DE LAS PLANTAS DE BENEFICIO ANIMAL DE LOS MUNICIPIOS DE AGUADAS, ANSERMA, CHINCHINÁ, LA MERCED, MANZANARES, MARQUETALIA, NORCASIA, PENSILVANIA, SALAMINA Y SAMANÁ, INCLUIDO SUMINISTRO DE EQUIPOS Y GESTIÓN DOCUMENTAL AMBIENTAL, DE CONFORMIDAD CON LA REGLAMENTACIÓN INVIMA Y LA RESOLUCIÓN 0631 DE 2015 DEL MINISTERIO DEL MEDIO AMBIENTE
A2: LOCALIZACIÖN | C2: =+'ANALISIS Y VALORACIÓN'!C4:W4 -> DEPARTAMENTO DE CALDAS
A3: =+'ANALISIS Y VALORACIÓN'!A5:B5 -> OBJETIVO DE LA MATRIZ DE RIESGOS | C3: =+'ANALISIS Y VALORACIÓN'!C5:W5 -> Apoyar el cumplimiento de los objetivos del proyecto y controlar su ejecución
A4: ID | B4: RIESGO (EVENTO) | C4: 1. CALIFICACIÓN DEL RIESGO | H4: ER | I4: 2. EVALUACIÓN DEL RIESGO (NP * NI) | J4: 3. ANÁLISIS DEL RIESGO | K4: 4. CONTROLES EXISTENTES | N4: 5. VALORACIÓN DEL RIESGO | S4: ER | T4: 5.3. EVACUACIÓN FINAL DEL RIESGO (NP * NI) | U4: 6. TRATAMIENTO DE LOS RIESGOS
C5: NP | D5: 1.1 NIVEL DE PROBABILIDAD (1-3) | E5: NI | F5: 1.2 NIVEL DE IMPACTO (5-10-20) | K5: 4.1 CRITERIOS DEL CONTROL | L5: 4. 2 DESCRIPCIÓN DEL CONTROL | M5: 4.3 VALORACIÓN DEL CONTROL | N5: NP | O5: 5.1 NIVEL DE PROBABILIDAD (1-3) | P5: NI | Q5: 5.2 NIVEL DE IMPACTO (5-10-20) | U5: 6.1 OPCIONES DE MANEJO | V5: 6.2 ACCIONES | W5: 6.3 RESPONSABLES
B6: =+INVENTARIO!H7 -> AMBIENTE | C6: 3 | D6: =IF(C6=0," ",IF(C6=1,'[1]LISTAS (2)'!$F$6,IF(C6=2,'[1]LISTAS (2)'!$F$5,'[1]LISTAS (2)'!$F$4))) -> Alta | E6: 10 | F6: =IF(E6=0," ",IF(E6=20,'[1]LISTAS (2)'!$F$10,IF(E6=10,'[1]LISTAS (2)'!$F$11,'[1]LISTAS (2)'!$F$12))) -> Moderado | G6: =IF(H6=" "," ",IF(H6>59,5,IF(H6>20,4,IF(H6>11,3,IF(H6>5,2,1))))) -> 4 | H6: =IF(C6=0," ",C6*E6) -> 30 | I6: =IF(G6=" "," ",IF(G6=5,'[1]LISTAS (2)'!$I$7,IF(G6=4,'[1]LISTAS (2)'!$I$6,IF(G6=3,'[1]LISTAS (2)'!$I$4,IF(G6=2,'[1]LISTAS (2)'!$I$3,'[1]LISTAS (2)'!$I$2))))) -> Importante | J6: =IF(I6=" "," ",IF(I6="Aceptable",'[1]LISTAS (2)'!$J$2,IF(I6="Inaceptable",'[1]LISTAS (2)'!$J$7,'[1]LISTAS (2)'!$J$3))) -> Se debe realizar un análisis del costo beneficio con el que se pueda decidir entre, asumirlo o compartirlo. | K6: Los Controles existentes son efectivos y están documentados | L6: Realizar una programación de obra previa al inicio de ejecución que contemple las sucesión de eventos de carácter climatico que puedan retrasar la ejecución de las obras mediante la cual se pueda hacer el seguimiento y control. | M6: =IF(K6=0," ",IF(K6='[1]LISTAS (2)'!$H$11,'[1]LISTAS (2)'!$I$11,IF(K6='[1]LISTAS (2)'!$H$12,'[1]LISTAS (2)'!$I$12,'[1]LISTAS (2)'!$I$10))) -> Pasa a escala inferior (el desplazamiento depende de si el control afecta el impacto o la probabilidad) | N6: 2 | O6: =IF(N6=0," ",IF(N6=1,'[1]LISTAS (2)'!$F$6,IF(N6=2,'[1]LISTAS (2)'!$F$5,'[1]LISTAS (2)'!$F$4))) -> Media | P6: 5 | Q6: =IF(P6=0," ",IF(P6=20,'[1]LISTAS (2)'!$F$10,IF(P6=10,'[1]LISTAS (2)'!$F$11,'[1]LISTAS (2)'!$F$12))) -> leve | R6: =IF(S6=" "," ",IF(S6>59,5,IF(S6>20,4,IF(S6>11,3,IF(S6>5,2,1))))) -> 2 | S6: =IF(N6=0," ",N6*P6) -> 10 | T6: =IF(R6=" "," ",IF(R6=5,'[1]LISTAS (2)'!$I$7,IF(R6=4,'[1]LISTAS (2)'!$I$6,IF(R6=3,'[1]LISTAS (2)'!$I$4,IF(R6=2,'[1]LISTAS (2)'!$I$3,'[1]LISTAS (2)'!$I$2))))) -> Tolerable | U6: Reducir | V6: Definir una programación de obra con holguras que prevean los factores climáticos que puedan afectar la ejecución de las obras | W6: Entidad contratista de obra e interventoría
B7: =+INVENTARIO!I7 -> 2.4 USUARIOS / PARTES INTERESADAS | C7: 1 | D7: =IF(C7=0," ",IF(C7=1,'[1]LISTAS (2)'!$F$6,IF(C7=2,'[1]LISTAS (2)'!$F$5,'[1]LISTAS (2)'!$F$4))) -> Baja | E7: 5 | F7: =IF(E7=0," ",IF(E7=20,'[1]LISTAS (2)'!$F$10,IF(E7=10,'[1]LISTAS (2)'!$F$11,'[1]LISTAS (2)'!$F$12))) -> leve | G7: =IF(H7=" "," ",IF(H7>59,5,IF(H7>20,4,IF(H7>11,3,IF(H7>5,2,1))))) -> 1 | H7: =IF(C7=0," ",C7*E7) -> 5 | I7: =IF(G7=" "," ",IF(G7=5,'[1]LISTAS (2)'!$I$7,IF(G7=4,'[1]LISTAS (2)'!$I$6,IF(G7=3,'[1]LISTAS (2)'!$I$4,IF(G7=2,'[1]LISTAS (2)'!$I$3,'[1]LISTAS (2)'!$I$2))))) -> Aceptable | J7: =IF(I7=" "," ",IF(I7="Aceptable",'[1]LISTAS (2)'!$J$2,IF(I7="Inaceptable",'[1]LISTAS (2)'!$J$7,'[1]LISTAS (2)'!$J$3))) -> El riesgo se encuentra en un nivel que puede aceptarlo sin necesidad de tomar otras medidas de control diferentes a las que se poseen. | K7: Los Controles existentes son efectivos y están documentados | L7: Contacto directo con los representantes de la comunidad mediante el personal social contratado para la obra el cual atenderá la solicitudes e inquietudes de la comunidad en general | M7: =IF(K7=0," ",IF(K7='[1]LISTAS (2)'!$H$11,'[1]LISTAS (2)'!$I$11,IF(K7='[1]LISTAS (2)'!$H$12,'[1]LISTAS (2)'!$I$12,'[1]LISTAS (2)'!$I$10))) -> Pasa a escala inferior (el desplazamiento depende de si el control afecta el impacto o la probabilidad) | N7: 1 | O7: =IF(N7=0," ",IF(N7=1,'[1]LISTAS (2)'!$F$6,IF(N7=2,'[1]LISTAS (2)'!$F$5,'[1]LISTAS (2)'!$F$4))) -> Baja | P7: 5 | Q7: =IF(P7=0," ",IF(P7=20,'[1]LISTAS (2)'!$F$10,IF(P7=10,'[1]LISTAS (2)'!$F$11,'[1]LISTAS (2)'!$F$12))) -> leve | R7: =IF(S7=" "," ",IF(S7>59,5,IF(S7>20,4,IF(S7>11,3,IF(S7>5,2,1))))) -> 1 | S7: =IF(N7=0," ",N7*P7) -> 5 | T7: =IF(R7=" "," ",IF(R7=5,'[1]LISTAS (2)'!$I$7,IF(R7=4,'[1]LISTAS (2)'!$I$6,IF(R7=3,'[1]LISTAS (2)'!$I$4,IF(R7=2,'[1]LISTAS (2)'!$I$3,'[1]LISTAS (2)'!$I$2))))) -> Aceptable | U7: Evitar | V7: Conformación de veedurías, reuniones con la comunidad y conformación de un centro de atención al usuario. | W7: Entidad, contratista de obra e interventoría
B8: =+INVENTARIO!H8 -> Cambios enla normatividad ambiental que generan reproceso enlos planes ambientales de la obra | C8: 1 | D8: =IF(C8=0," ",IF(C8=1,'[1]LISTAS (2)'!$F$6,IF(C8=2,'[1]LISTAS (2)'!$F$5,'[1]LISTAS (2)'!$F$4))) -> Baja | E8: 10 | F8: =IF(E8=0," ",IF(E8=20,'[1]LISTAS (2)'!$F$10,IF(E8=10,'[1]LISTAS (2)'!$F$11,'[1]LISTAS (2)'!$F$12))) -> Moderado | G8: =IF(H8=" "," ",IF(H8>59,5,IF(H8>20,4,IF(H8>11,3,IF(H8>5,2,1))))) -> 2 | H8: =IF(C8=0," ",C8*E8) -> 10 | I8: =IF(G8=" "," ",IF(G8=5,'[1]LISTAS (2)'!$I$7,IF(G8=4,'[1]LISTAS (2)'!$I$6,IF(G8=3,'[1]LISTAS (2)'!$I$4,IF(G8=2,'[1]LISTAS (2)'!$I$3,'[1]LISTAS (2)'!$I$2))))) -> Tolerable | J8: =IF(I8=" "," ",IF(I8="Aceptable",'[1]LISTAS (2)'!$J$2,IF(I8="Inaceptable",'[1]LISTAS (2)'!$J$7,'[1]LISTAS (2)'!$J$3))) -> Se debe realizar un análisis del costo beneficio con el que se pueda decidir entre, asumirlo o compartirlo. | K8: Los Controles existentes son efectivos y están documentados | L8: Contacto directo con los representantes de la comunidad y la fuerza publica | M8: =IF(K8=0," ",IF(K8='[1]LISTAS (2)'!$H$11,'[1]LISTAS (2)'!$I$11,IF(K8='[1]LISTAS (2)'!$H$12,'[1]LISTAS (2)'!$I$12,'[1]LISTAS (2)'!$I$10))) -> Pasa a escala inferior (el desplazamiento depende de si el control afecta el impacto o la probabilidad) | N8: 1 | O8: =IF(N8=0," ",IF(N8=1,'[1]LISTAS (2)'!$F$6,IF(N8=2,'[1]LISTAS (2)'!$F$5,'[1]LISTAS (2)'!$F$4))) -> Baja | P8: 10 | Q8: =IF(P8=0," ",IF(P8=20,'[1]LISTAS (2)'!$F$10,IF(P8=10,'[1]LISTAS (2)'!$F$11,'[1]LISTAS (2)'!$F$12))) -> Moderado | R8: =IF(S8=" "," ",IF(S8>59,5,IF(S8>20,4,IF(S8>11,3,IF(S8>5,2,1))))) -> 2 | S8: =IF(N8=0," ",N8*P8) -> 10 | T8: =IF(R8=" "," ",IF(R8=5,'[1]LISTAS (2)'!$I$7,IF(R8=4,'[1]LISTAS (2)'!$I$6,IF(R8=3,'[1]LISTAS (2)'!$I$4,IF(R8=2,'[1]LISTAS (2)'!$I$3,'[1]LISTAS (2)'!$I$2))))) -> Tolerable | U8: Reducir | V8: Conformación de veedurías, reuniones con la comunidad y conformación de un centro de atención al usuario. | W8: Entidad, contratista de obra e interventoría
B9: =+INVENTARIO!E9 -> Incremento en el presuesto de obra | C9: 2 | D9: =IF(C9=0," ",IF(C9=1,'[1]LISTAS (2)'!$F$6,IF(C9=2,'[1]LISTAS (2)'!$F$5,'[1]LISTAS (2)'!$F$4))) -> Media | E9: 10 | F9: =IF(E9=0," ",IF(E9=20,'[1]LISTAS (2)'!$F$10,IF(E9=10,'[1]LISTAS (2)'!$F$11,'[1]LISTAS (2)'!$F$12))) -> Moderado | G9: =IF(H9=" "," ",IF(H9>59,5,IF(H9>20,4,IF(H9>11,3,IF(H9>5,2,1))))) -> 3 | H9: =IF(C9=0," ",C9*E9) -> 20 | I9: =IF(G9=" "," ",IF(G9=5,'[1]LISTAS (2)'!$I$7,IF(G9=4,'[1]LISTAS (2)'!$I$6,IF(G9=3,'[1]LISTAS (2)'!$I$4,IF(G9=2,'[1]LISTAS (2)'!$I$3,'[1]LISTAS (2)'!$I$2))))) -> Moderado | J9: =IF(I9=" "," ",IF(I9="Aceptable",'[1]LISTAS (2)'!$J$2,IF(I9="Inaceptable",'[1]LISTAS (2)'!$J$7,'[1]LISTAS (2)'!$J$3))) -> Se debe realizar un análisis del costo beneficio con el que se pueda decidir entre, asumirlo o compartirlo. | K9: Los Controles existentes son efectivos y están documentados | L9: Definir como requisito previo para el inicio de la ejecución de las obras la obtención de todos los permisos y concesiones requeridas. | M9: =IF(K9=0," ",IF(K9='[1]LISTAS (2)'!$H$11,'[1]LISTAS (2)'!$I$11,IF(K9='[1]LISTAS (2)'!$H$12,'[1]LISTAS (2)'!$I$12,'[1]LISTAS (2)'!$I$10))) -> Pasa a escala inferior (el desplazamiento depende de si el control afecta el impacto o la probabilidad) | N9: 1 | O9: =IF(N9=0," ",IF(N9=1,'[1]LISTAS (2)'!$F$6,IF(N9=2,'[1]LISTAS (2)'!$F$5,'[1]LISTAS (2)'!$F$4))) -> Baja | P9: 5 | Q9: =IF(P9=0," ",IF(P9=20,'[1]LISTAS (2)'!$F$10,IF(P9=10,'[1]LISTAS (2)'!$F$11,'[1]LISTAS (2)'!$F$12))) -> leve | R9: =IF(S9=" "," ",IF(S9>59,5,IF(S9>20,4,IF(S9>11,3,IF(S9>5,2,1))))) -> 1 | S9: =IF(N9=0," ",N9*P9) -> 5 | T9: =IF(R9=" "," ",IF(R9=5,'[1]LISTAS (2)'!$I$7,IF(R9=4,'[1]LISTAS (2)'!$I$6,IF(R9=3,'[1]LISTAS (2)'!$I$4,IF(R9=2,'[1]LISTAS (2)'!$I$3,'[1]LISTAS (2)'!$I$2))))) -> Aceptable | U9: Evitar | V9: Impartir la orden de inicio tras la adquisición de los permisos ambientales y concesiones mineras | W9: Entidad contratista de obra e interventoría
B10: =+INVENTARIO!I9 -> Inconformidades de la comunidad adyacente a la ubicación del proyecto | C10: 2 | D10: =IF(C10=0," ",IF(C10=1,'[1]LISTAS (2)'!$F$6,IF(C10=2,'[1]LISTAS (2)'!$F$5,'[1]LISTAS (2)'!$F$4))) -> Media | E10: 5 | F10: =IF(E10=0," ",IF(E10=20,'[1]LISTAS (2)'!$F$10,IF(E10=10,'[1]LISTAS (2)'!$F$11,'[1]LISTAS (2)'!$F$12))) -> leve | G10: =IF(H10=" "," ",IF(H10>59,5,IF(H10>20,4,IF(H10>11,3,IF(H10>5,2,1))))) -> 2 | H10: =IF(C10=0," ",C10*E10) -> 10 | I10: =IF(G10=" "," ",IF(G10=5,'[1]LISTAS (2)'!$I$7,IF(G10=4,'[1]LISTAS (2)'!$I$6,IF(G10=3,'[1]LISTAS (2)'!$I$4,IF(G10=2,'[1]LISTAS (2)'!$I$3,'[1]LISTAS (2)'!$I$2))))) -> Tolerable | J10: =IF(I10=" "," ",IF(I10="Aceptable",'[1]LISTAS (2)'!$J$2,IF(I10="Inaceptable",'[1]LISTAS (2)'!$J$7,'[1]LISTAS (2)'!$J$3))) -> Se debe realizar un análisis del costo beneficio con el que se pueda decidir entre, asumirlo o compartirlo. | K10: Los Controles existentes son efectivos y están documentados | L10: Contratar la interventoría que vigile la correcta ejecución de la obras con la documentación de soporte exigida contractualmente | M10: =IF(K10=0," ",IF(K10='[1]LISTAS (2)'!$H$11,'[1]LISTAS (2)'!$I$11,IF(K10='[1]LISTAS (2)'!$H$12,'[1]LISTAS (2)'!$I$12,'[1]LISTAS (2)'!$I$10))) -> Pasa a escala inferior (el desplazamiento depende de si el control afecta el impacto o la probabilidad) | N10: 1 | O10: =IF(N10=0," ",IF(N10=1,'[1]LISTAS (2)'!$F$6,IF(N10=2,'[1]LISTAS (2)'!$F$5,'[1]LISTAS (2)'!$F$4))) -> Baja | P10: 5 | Q10: =IF(P10=0," ",IF(P10=20,'[1]LISTAS (2)'!$F$10,IF(P10=10,'[1]LISTAS (2)'!$F$11,'[1]LISTAS (2)'!$F$12))) -> leve | R10: =IF(S10=" "," ",IF(S10>59,5,IF(S10>20,4,IF(S10>11,3,IF(S10>5,2,1))))) -> 1 | S10: =IF(N10=0," ",N10*P10) -> 5 | T10: =IF(R10=" "," ",IF(R10=5,'[1]LISTAS (2)'!$I$7,IF(R10=4,'[1]LISTAS (2)'!$I$6,IF(R10=3,'[1]LISTAS (2)'!$I$4,IF(R10=2,'[1]LISTAS (2)'!$I$3,'[1]LISTAS (2)'!$I$2))))) -> Aceptable | U10: Evitar | V10: Ejercer control sobre la ejecución del proyecto según las características planteadas por la entidad. | W10: Supervisión e interventoría
B11: =+INVENTARIO!G10 -> Imagen desfavorble de la institución frente a los demás entes gubernamentales | C11: 1 | D11: =IF(C11=0," ",IF(C11=1,'[1]LISTAS (2)'!$F$6,IF(C11=2,'[1]LISTAS (2)'!$F$5,'[1]LISTAS (2)'!$F$4))) -> Baja | E11: 20 | F11: =IF(E11=0," ",IF(E11=20,'[1]LISTAS (2)'!$F$10,IF(E11=10,'[1]LISTAS (2)'!$F$11,'[1]LISTAS (2)'!$F$12))) -> Catastrófico | G11: =IF(H11=" "," ",IF(H11>59,5,IF(H11>20,4,IF(H11>11,3,IF(H11>5,2,1))))) -> 3 | H11: =IF(C11=0," ",C11*E11) -> 20 | I11: =IF(G11=" "," ",IF(G11=5,'[1]LISTAS (2)'!$I$7,IF(G11=4,'[1]LISTAS (2)'!$I$6,IF(G11=3,'[1]LISTAS (2)'!$I$4,IF(G11=2,'[1]LISTAS (2)'!$I$3,'[1]LISTAS (2)'!$I$2))))) -> Moderado | J11: =IF(I11=" "," ",IF(I11="Aceptable",'[1]LISTAS (2)'!$J$2,IF(I11="Inaceptable",'[1]LISTAS (2)'!$J$7,'[1]LISTAS (2)'!$J$3))) -> Se debe realizar un análisis del costo beneficio con el que se pueda decidir entre, asumirlo o compartirlo. | K11: Los Controles existentes son efectivos y están documentados | L11: Contratar la interventoría que vigile la correcta ejecución de la obras con la documentación de soporte exigida contractualmente | M11: =IF(K11=0," ",IF(K11='[1]LISTAS (2)'!$H$11,'[1]LISTAS (2)'!$I$11,IF(K11='[1]LISTAS (2)'!$H$12,'[1]LISTAS (2)'!$I$12,'[1]LISTAS (2)'!$I$10))) -> Pasa a escala inferior (el desplazamiento depende de si el control afecta el impacto o la probabilidad) | N11: 1 | O11: =IF(N11=0," ",IF(N11=1,'[1]LISTAS (2)'!$F$6,IF(N11=2,'[1]LISTAS (2)'!$F$5,'[1]LISTAS (2)'!$F$4))) -> Baja | P11: 10 | Q11: =IF(P11=0," ",IF(P11=20,'[1]LISTAS (2)'!$F$10,IF(P11=10,'[1]LISTAS (2)'!$F$11,'[1]LISTAS (2)'!$F$12))) -> Moderado | R11: =IF(S11=" "," ",IF(S11>59,5,IF(S11>20,4,IF(S11>11,3,IF(S11>5,2,1))))) -> 2 | S11: =IF(N11=0," ",N11*P11) -> 10 | T11: =IF(R11=" "," ",IF(R11=5,'[1]LISTAS (2)'!$I$7,IF(R11=4,'[1]LISTAS (2)'!$I$6,IF(R11=3,'[1]LISTAS (2)'!$I$4,IF(R11=2,'[1]LISTAS (2)'!$I$3,'[1]LISTAS (2)'!$I$2))))) -> Tolerable | U11: Evitar | V11: Ejercer control sobre la ejecución del proyecto según las características planteadas por la entidad. | W11: Supervisión e interventoría
B12: =+INVENTARIO!F11 -> 0 | C12: 3 | D12: =IF(C12=0," ",IF(C12=1,'[1]LISTAS (2)'!$F$6,IF(C12=2,'[1]LISTAS (2)'!$F$5,'[1]LISTAS (2)'!$F$4))) -> Alta | E12: 10 | F12: =IF(E12=0," ",IF(E12=20,'[1]LISTAS (2)'!$F$10,IF(E12=10,'[1]LISTAS (2)'!$F$11,'[1]LISTAS (2)'!$F$12))) -> Moderado | G12: =IF(H12=" "," ",IF(H12>59,5,IF(H12>20,4,IF(H12>11,3,IF(H12>5,2,1))))) -> 4 | H12: =IF(C12=0," ",C12*E12) -> 30 | I12: =IF(G12=" "," ",IF(G12=5,'[1]LISTAS (2)'!$I$7,IF(G12=4,'[1]LISTAS (2)'!$I$6,IF(G12=3,'[1]LISTAS (2)'!$I$4,IF(G12=2,'[1]LISTAS (2)'!$I$3,'[1]LISTAS (2)'!$I$2))))) -> Importante | J12: =IF(I12=" "," ",IF(I12="Aceptable",'[1]LISTAS (2)'!$J$2,IF(I12="Inaceptable",'[1]LISTAS (2)'!$J$7,'[1]LISTAS (2)'!$J$3))) -> Se debe realizar un análisis del costo beneficio con el que se pueda decidir entre, asumirlo o compartirlo. | K12: Los Controles existentes son efectivos y están documentados | L12: Exigir previo al inicio de la ejecución e la obras el sistema de gestión en salud y seguridad en el trabajo según la reglamentación vigente a la fecha | M12: =IF(K12=0," ",IF(K12='[1]LISTAS (2)'!$H$11,'[1]LISTAS (2)'!$I$11,IF(K12='[1]LISTAS (2)'!$H$12,'[1]LISTAS (2)'!$I$12,'[1]LISTAS (2)'!$I$10))) -> Pasa a escala inferior (el desplazamiento depende de si el control afecta el impacto o la probabilidad) | N12: 2 | O12: =IF(N12=0," ",IF(N12=1,'[1]LISTAS (2)'!$F$6,IF(N12=2,'[1]LISTAS (2)'!$F$5,'[1]LISTAS (2)'!$F$4))) -> Media | P12: 5 | Q12: =IF(P12=0," ",IF(P12=20,'[1]LISTAS (2)'!$F$10,IF(P12=10,'[1]LISTAS (2)'!$F$11,'[1]LISTAS (2)'!$F$12))) -> leve | R12: =IF(S12=" "," ",IF(S12>59,5,IF(S12>20,4,IF(S12>11,3,IF(S12>5,2,1))))) -> 2 | S12: =IF(N12=0," ",N12*P12) -> 10 | T12: =IF(R12=" "," ",IF(R12=5,'[1]LISTAS (2)'!$I$7,IF(R12=4,'[1]LISTAS (2)'!$I$6,IF(R12=3,'[1]LISTAS (2)'!$I$4,IF(R12=2,'[1]LISTAS (2)'!$I$3,'[1]LISTAS (2)'!$I$2))))) -> Tolerable | U12: Reducir | V12: Impartir la orden de inicio tras la formulación del SGSST | W12: Entidad, contratista de obra e interventoría
