Workbook
Name _________key2: #REF!
Name _________key2: #REF!
Name _________PJ50: #REF!
Name _________PJ50: #REF!
Name ________key2: #REF!
Name ________key2: #REF!
Name ________key3: #REF!
Name ________key3: #REF!
Name ________MA2: #REF!
Name ________MA2: #REF!
Name ________PJ50: #REF!
Name ________PJ50: #REF!
Name _______MA2: #REF!
Name _______MA2: #REF!
Name _______PJ50: #REF!
Name _______PJ50: #REF!
Name ______MA2: #REF!
Name ______MA2: #REF!
Name ______PJ50: #REF!
Name ______PJ50: #REF!
Name ______pr01: #REF!
Name ______pr01: #REF!
Name ______pr02: #REF!
Name ______pr02: #REF!
Name ______pr03: #REF!
Name ______pr03: #REF!
Name ______pr04: #REF!
Name ______pr04: #REF!
Name ______pr05: #REF!
Name ______pr05: #REF!
Name ______pr06: #REF!
Name ______pr06: #REF!
Name ______pr07: #REF!
Name ______pr07: #REF!
Name ______pr08: #REF!
Name ______pr08: #REF!
Name ______pr09: #REF!
Name ______pr09: #REF!
Name ______pr10: #REF!
Name ______pr10: #REF!
Name ______pr11: #REF!
Name ______pr11: #REF!
Name ______pr12: #REF!
Name ______pr12: #REF!
Name ______pr13: #REF!
Name ______pr13: #REF!
Name ______pr14: #REF!
Name ______pr14: #REF!
Name ______pr15: #REF!
Name ______pr15: #REF!
Name ______pr16: #REF!
Name ______pr16: #REF!
Name ______pr17: #REF!
Name ______pr17: #REF!
Name ______pr18: #REF!
Name ______pr18: #REF!
Name ______pr19: #REF!
Name ______pr19: #REF!
Name ______pr20: #REF!
Name ______pr20: #REF!

Sheet Formulario1-Ofrecimiento
C3: FORMULARIO 1 - OFRECIMIENTO ECONÓMICO | J3: CODIGO: | K3: FT-TEC-01
J4: VESION: | K4: 1
J5: FECHA DE APROBACION:
C7: OBJETO: | G7: PRESUPUESTO MANTENIMIENTO PUEST0 DE SALUD TIERRA BAJA
C9: Nº | D9: ÍTEM DE PAGO | E9: ESPECIFICACIONES | G9: DESCRIPCIÓN | H9: UND. | I9: CANTIDAD | J9: VALOR UNITARIO | K9: VALOR TOTAL
E10: GENERAL | F10: PARTICULAR
C11: 1 | G11: OBRAS CIVILES DESMONTE
C12: 1.1 | G12: Picada Rampa de acceso | H12: M2 | I12: =1.65*1.8 -> 2.97
C13: 1.2 | G13: Desmonte Carpa Posterior (incluye estructura existente) | H13: M2 | I13: =(8.2*1.15) -> 9.43
C14: 1.3 | G14: Desmonte Carpa lateral (incluye estructura existente) | H14: M2 | I14: =(3.8*1.05) -> 3.99
C15: 1.4 | G15: Desmonte Cielo Raso (incluye estructura existente) | H15: M2 | I15: 26
G17: Sub Total
C18: 2 | G18: RESANES Y PINTURA MUROS INTERIOR
C19: 2.1 | G19: Resanes Muros Estuco Plastico para Interiores y una Mano de Pintura | H19: M2 | I19: =I20*20% -> 130
C20: 2.2 | G20: Pintura Muros Dos Manos Tipo 1 | H20: M2 | I20: 650
G22: Sub Total
C23: 3 | G23: CIELO RASO EN DRY WALL
C24: 3.1 | G24: Suministro e instalacion de Cielo Raso en Dry Wall incluye perfielria metalica calibre 27 | H24: M2 | I24: 48
C25: 3.2 | G25: Resane Cielo Raso Masilla Tipo Mastic | H25: M2 | I25: =I26*20% -> 24
C26: 3.3 | G26: Pintura cielo raso TIPO 1 Dos Manos | H26: M2 | I26: 120
G28: Sub Total
C29: 4 | G29: PINTURA PILIAMIDA PARA CARETA HIERRO
C30: 4.1 | G30: Raspado y Grateado de Caretas de Hierro | H30: M2 | I30: 22.89
C31: 4.2 | G31: Pintura en Poliamida Color Blanco Caretas de Hierro | H31: M2 | I31: 22.9
C32: 4.3 | G32: Pintura en Poliamida Color Blanco Para estructura cubierta metalica | H32: M2 | I32: 13.4
C33: 4.4 | G33: Pintura en Poliamida Color Azul para estructura Tanque Elevado | H33: M2 | I33: 4.5
G35: Sub Total
C36: 5 | G36: RESANES Y PINTURA MUROS EXTERIOR
C37: 5.2 | G37: Resane de Fachada (con Construmastic de pintuco) Junta Exterior | H37: M2 | I37: 36
C38: 5.3 | G38: Suministro y aplicación de Esgrafiado (Graniplass) | H38: M2 | I38: 10
C39: 5.4 | G39: Suministro y aplicación de Coraza doble Vida 10 años (Incluye lavada con hipoclorito 10%) | H39: M2 | I39: 181
G41: Sub Total
C42: 6 | G42: PISOS Y RAMPA
C43: 6.1 | G43: Rampa de Acceso en concreto reforzado en Granito Pulido | H43: M2 | I43: 3
G45: Sub Total
C46: 7 | G46: CERRAMIENTO EN BLOQUE #4 Y MALLA ESLABONADA
C47: 7.1 | G47: Descapote del terreno. Incluye limpieza y retiro | H47: M2 | I47: 35
C48: 7.2 | G48: Trazado y remplanteo | H48: M2 | I48: 35
C49: 7.3 | G49: Excavacion manual | H49: M3 | I49: =15+14 -> 29
C50: 7.4 | G50: solado en concreto pobre | H50: M2 | I50: 35
...

Sheet PRESUPUESTO
C3: PRESUPUESTO DE OBRA CIVIL | J3: CODIGO: | K3: FT-TEC-01
J4: VESION: | K4: 1
J5: FECHA DE APROBACION:
C7: OBJETO: | G7: PRESUPUESTO MANTENIMIENTO PUEST0 DE SALUD TIERRA BAJA
C9: Nº | D9: ÍTEM DE PAGO | E9: ESPECIFICACIONES | G9: DESCRIPCIÓN | H9: UND. | I9: CANTIDAD | J9: VALOR UNITARIO | K9: VALOR TOTAL
E10: GENERAL | F10: PARTICULAR
C11: 1 | G11: OBRAS CIVILES DESMONTE
C12: 1.1 | G12: Picada Rampa de acceso | H12: M2 | I12: =1.65*1.8 -> 2.97 | J12: ='APU DESMONTES'!H42 -> 10568.353 | K12: =J12*I12 -> 31388.008
C13: 1.2 | G13: Desmonte Carpa Posterior (incluye estructura existente) | H13: M2 | I13: =(8.2*1.15) -> 9.43 | J13: ='APU DESMONTES'!H122 -> 22958.236 | K13: =J13*I13 -> 216496.17
C14: 1.3 | G14: Desmonte Carpa lateral (incluye estructura existente) | H14: M2 | I14: =(3.8*1.05) -> 3.99 | J14: ='APU DESMONTES'!H122 -> 22958.236 | K14: =J14*I14 -> 91603.362
C15: 1.4 | G15: Desmonte Cielo Raso (incluye estructura existente) | H15: M2 | I15: 26 | J15: ='APU DESMONTES'!H279 -> 16922.575 | K15: =J15*I15 -> 439986.94
G17: Sub Total | K17: =SUM(K12:K15) -> 779474.48
C18: 2 | G18: RESANES Y PINTURA MUROS INTERIOR
C19: 2.1 | G19: Resanes Muros Estuco Plastico para Interiores y una Mano de Pintura | H19: M2 | I19: =I20*20% -> 130 | J19: ='A.P.U PINTURA Y CIELO RASO'!I239 -> 8773.4188 | K19: =J19*I19 -> 1140544.4
C20: 2.2 | G20: Pintura Muros Dos Manos Tipo 1 | H20: M2 | I20: 650 | J20: ='A.P.U PINTURA Y CIELO RASO'!I434 -> 10503.321 | K20: =J20*I20 -> 6827158.7
G22: Sub Total | K22: =SUM(K19:K20) -> 7967703.1
C23: 3 | G23: CIELO RASO EN DRY WALL
C24: 3.1 | G24: Suministro e instalacion de Cielo Raso en Dry Wall incluye perfielria metalica calibre 27 | H24: M2 | I24: 48 | J24: ='A.P.U PINTURA Y CIELO RASO'!I40 -> 41281.791 | K24: =J24*I24 -> 1981526
C25: 3.2 | G25: Resane Cielo Raso Masilla Tipo Mastic | H25: M2 | I25: =I26*20% -> 24 | J25: ='A.P.U PINTURA Y CIELO RASO'!I239 -> 8773.4188 | K25: =J25*I25 -> 210562.05
C26: 3.3 | G26: Pintura cielo raso TIPO 1 Dos Manos | H26: M2 | I26: 120 | J26: ='A.P.U PINTURA Y CIELO RASO'!I434 -> 10503.321 | K26: =J26*I26 -> 1260398.5
G28: Sub Total | K28: =SUM(K24:K26) -> 3452486.6
C29: 4 | G29: PINTURA PILIAMIDA PARA CARETA HIERRO
C30: 4.1 | G30: Raspado y Grateado de Caretas de Hierro | H30: M2 | I30: 22.89 | J30: ='A.P.U PINTURA Y CIELO RASO'!I768 -> 13322.095 | K30: =J30*I30 -> 304942.75
C31: 4.2 | G31: Pintura en Poliamida Color Blanco Caretas de Hierro | H31: M2 | I31: 22.9 | J31: ='A.P.U PINTURA Y CIELO RASO'!I848 -> 20744.605 | K31: =J31*I31 -> 475051.45
C32: 4.3 | G32: Pintura en Poliamida Color Blanco Para estructura cubierta metalica | H32: M2 | I32: 13.4 | J32: =+'A.P.U PINTURA Y CIELO RASO'!I927 -> 20744.605 | K32: =J32*I32 -> 277977.71
C33: 4.4 | G33: Pintura en Poliamida Color Azul para estructura Tanque Elevado | H33: M2 | I33: 4.5 | J33: =+'A.P.U PINTURA Y CIELO RASO'!I1005 -> 20744.605 | K33: =J33*I33 -> 93350.723
G35: Sub Total | K35: =SUM(K30:K33) -> 1151322.6
C36: 5 | G36: RESANES Y PINTURA MUROS EXTERIOR
C37: 5.2 | G37: Resane de Fachada (con Construmastic de pintuco) Junta Exterior | H37: M2 | I37: 36 | J37: ='A.P.U PINTURA Y CIELO RASO'!I1074 -> 12696.649 | K37: =J37*I37 -> 457079.37
C38: 5.3 | G38: Suministro y aplicación de Esgrafiado (Graniplass) | H38: M2 | I38: 10 | J38: ='A.P.U PINTURA Y CIELO RASO'!I381 -> 14165.22 | K38: =J38*I38 -> 141652.2
C39: 5.4 | G39: Suministro y aplicación de Coraza doble Vida 10 años (Incluye lavada con hipoclorito 10%) | H39: M2 | I39: 181 | J39: ='A.P.U PINTURA Y CIELO RASO'!I172 -> 16251.992 | K39: =J39*I39 -> 2941610.6
G41: Sub Total | K41: =SUM(K37:K39) -> 3540342.2
C42: 6 | G42: PISOS Y RAMPA
C43: 6.1 | G43: Rampa de Acceso en concreto reforzado en Granito Pulido | H43: M2 | I43: 3 | J43: ='A.P.U PISOS'!I174 -> 230639.98 | K43: =J43*I43 -> 691919.93
G45: Sub Total | K45: =K43 -> 691919.93
C46: 7 | G46: CERRAMIENTO EN BLOQUE #4 Y MALLA ESLABONADA
C47: 7.1 | G47: Descapote del terreno. Incluye limpieza y retiro | H47: M2 | I47: 35 | J47: ='APU OBRAS CIVILES'!H1031 -> 8597.714 | K47: =J47*I47 -> 300919.99
C48: 7.2 | G48: Trazado y remplanteo | H48: M2 | I48: 35 | J48: =+'APU OBRAS CIVILES'!H42 -> 6419.1057 | K48: =J48*I48 -> 224668.7
C49: 7.3 | G49: Excavacion manual | H49: M3 | I49: =15+14 -> 29 | J49: ='APU OBRAS CIVILES'!H204 -> 29606.513 | K49: =J49*I49 -> 858588.86
C50: 7.4 | G50: solado en concreto pobre | H50: M2 | I50: 35 | J50: =+'APU OBRAS CIVILES'!H285 -> 29827.663 | K50: =J50*I50 -> 1043968.2
...

Sheet APU DESMONTES
D2: ANALISIS DE PRECIOS UNITARIOS | G2: CODIGO | H2: FT-TEC-02
G3: VERSION
G4: FECHA DE APROBACION | H4: 44236
B7: OBJETO: | C7: =+PRESUPUESTO!G12 -> Picada Rampa de acceso | H7: 'UNIDAD: M2
B9: I. EQUIPO
B10: Descripción | D10: Unidad | E10: Cantidad | F10: Costo | G10: Vr. Unitario
B11: Herramientas menores | D11: gl | E11: 0.05 | F11: 50000 | G11: =F11*E11 -> 2500
G15: SUB-TOTAL | H15: =G11+G12+G13+G14 -> 2500
B17: II. MATERIALES EN OBRA
B18: Descripción | D18: Unidad | E18: Cantidad | F18: Vr. Unitario | G18: Vr. Parcial
G19: =F19*E19 -> 0
G20: =F20*E20 -> 0
G21: =F21*E21 -> 0
G22: =F22*E22 -> 0
G23: =F23*E23 -> 0
G24: =F24*E24 -> 0
G25: =F25*E25 -> 0
G26: SUB-TOTAL | H26: =G19+G20+G21+G22+G23+G24+G25 -> 0
B29: III. TRANSPORTE
B30: Descripción | D30: VOL. o PESO | E30: DISTANCIA | F30: M3 o Ton/Km | G30: TARIFA | H30: Vr. Unitario
B31: Retiro de material | D31: 0.02 | E31: 3.4 | F31: =+E31*D31 -> 0.068 | G31: 25000 | H31: =+G31*F31 -> 1700
G32: =F32*E32 -> 0
G33: =F33*E33 -> 0
G34: SUB-TOTAL | H34: =+SUM(H31:H33) -> 1700
B36: IV. MANO DE OBRA
B37: Trabajador | C37: Jornal | D37: Prest.Soc. | E37: Jornal Total | F37: Rendimiento | G37: Vr.Unitario
B38: Ayudante (2) | C38: =33333*2 -> 66666 | D38: 0.85 | E38: =C38+(C38*D38) -> 123332.1 | F38: 19.366405 | G38: =+E38/F38 -> 6368.3529
G40: SUB-TOTAL | H40: =G38 -> 6368.3529
F42: TOTAL COSTO DIRECTO | H42: =H40+H26+H15+H34 -> 10568.353 | K42: OK
B44: V. COSTO INDIRECTO
B45: DESCRIPCION | F45: %
B46: ADMINISTRACION | F46: 0.22 | H46: =H42*F46 -> 2325.0376
B47: IMPREVISTO | F47: 0.03 | H47: =H42*F47 -> 317.05059
B48: UTILIDAD | F48: 0.05 | H48: =H42*F48 -> 528.41765
G49: SUB-TOTAL | H49: =H46+H48 -> 2853.4553
C51: OBSERVACIONES INTERVENTORÍA | F51: COSTO TOTAL | H51: =H42+H49 -> 13421.808
F53: Firma
F54: Nombre:
F55: Representante Legal del Contratista o su Apoderado
F56: Matricula No. :
...

Sheet APU OBRAS CIVILES
D2: ANALISIS DE PRECIOS UNITARIOS | G2: CODIGO | H2: FT-TEC-02
G3: VERSION
G4: FECHA DE APROBACION | H4: 44236
B7: OBJETO: | C7: TRAZADO Y REPLANTEO | H7: 'UNIDAD: M2
B9: I. EQUIPO
B10: Descripción | D10: Unidad | E10: Cantidad | F10: Costo | G10: Vr. Unitario
B11: Estación electronica | C11: Estación electronica | D11: Und | E11: 0.2679 | F11: 5800 | G11: =F11*E11 -> 1553.82
B12: Nivel de precision | C12: Nivel de precision | D12: Und | E12: 0.5 | F12: 1450 | G12: =F12*E12 -> 725
G14: SUB-TOTAL | H14: =G11+G12 -> 2278.82
B16: II. MATERIALES EN OBRA
B17: Descripción | D17: Unidad | E17: Cantidad | F17: Vr. Unitario | G17: Vr. Parcial
B18: Alambre Negro #18 | D18: Kg | E18: 0.01 | F18: 5000 | G18: =E18*F18 -> 50
B19: Durmiente Ordinario 4mx0.04x0.04 | C19: Durmiente Ordinario 4mx0.04x0.04 | D19: Ml | E19: 1 | F19: 100 | G19: =E19*F19 -> 100
B20: Puntilla Con Cabeza 2" | C20: Puntilla Con Cabeza 2" | D20: Lbr | E20: 0.02 | F20: 1300 | G20: =E20*F20 -> 26
G25: SUB-TOTAL | H25: =G18+G19+G20+G21+G22+G23+G24 -> 176
B28: III. TRANSPORTE
B29: Descripción | D29: VOL. o PESO | E29: DISTANCIA | F29: M3 o Ton/Km | G29: TARIFA | H29: Vr. Unitario
H30: =+G30*F30 -> 0
G33: SUB-TOTAL | H33: =+SUM(H30:H32) -> 0
B35: IV. MANO DE OBRA
B36: Trabajador | C36: Jornal | D36: Prest.Soc. | E36: Jornal Total | F36: Rendimiento | G36: Vr.Unitario
B37: Comision Topografica | C37: 150000 | D37: 0.85 | E37: =C37+(C37*D37) -> 277500 | F37: 70 | G37: =+E37/F37 -> 3964.2857
G40: SUB-TOTAL | H40: =G37+G38 -> 3964.2857
F42: TOTAL COSTO DIRECTO | H42: =H40+H25+H14+H33 -> 6419.1057 | L42: ok
B44: V. COSTO INDIRECTO
B45: DESCRIPCION | F45: %
B46: ADMINISTRACION | F46: 0.22 | H46: =H42*F46 -> 1412.2033
B47: IMPREVISTO | F47: 0.03 | H47: =H42*F47 -> 192.57317
B48: UTILIDAD | F48: 0.05 | H48: =H42*F48 -> 320.95529
G49: SUB-TOTAL | H49: =H46+H48 -> 1733.1585
C51: OBSERVACIONES INTERVENTORÍA | F51: COSTO TOTAL | H51: =H42+H49 -> 8152.2643
F53: Firma
F54: Nombre:
F55: Representante Legal del Contratista o su Apoderado
F56: Matricula No. :
C58: APROBACIÓN POR INTERVENTORÍA
C59: NOTA:
C60: 1
C61: 2
C62: 3
...

Sheet A.P.U PINTURA Y CIELO RASO
E2: ANALISIS DE PRECIOS UNITARIOS | H2: CODIGO | I2: FT-TEC-02
H3: VERSION
H4: FECHA DE APROBACION | I4: 44236
C7: OBJETO: | D7: =+PRESUPUESTO!G24 -> Suministro e instalacion de Cielo Raso en Dry Wall incluye perfielria metalica calibre 27 | I7: 'UNIDAD: M2
C9: I. EQUIPO
C10: Descripción | E10: Unidad | F10: Cantidad | G10: Costo | H10: Vr. Unitario
C11: Herramientas menores | E11: gl | F11: 0.05 | G11: 1000 | H11: =G11*F11 -> 50
C12: Andamios | E12: dia | F12: 0.1 | G12: 5000 | H12: =G12*F12 -> 500
C13: Pistola de anclajes | E13: dia | F13: 0.015 | G13: 40000 | H13: =G13*F13 -> 600
C14: Taladro / atornillador elec | E14: dia | F14: 0.03 | G14: 25000 | H14: =G14*F14 -> 750
H15: SUB-TOTAL | I15: =H11+H12+H13+H14 -> 1900
C17: II. MATERIALES EN OBRA
C18: Descripción | E18: Unidad | F18: Cantidad | G18: Vr. Unitario | H18: Vr. Parcial
C19: Lamina yeso carton de 1/2" | E19: M2 | F19: 1.1 | G19: 7225 | H19: =G19*F19 -> 7947.5
C20: transporte y descargue lamina | E20: M2 | F20: 0.7 | G20: 500 | H20: =G20*F20 -> 350
C21: Cinta papel | E21: ML | F21: 1.8 | G21: 120 | H21: =G21*F21 -> 216
C22: Tornillo para lamina 6x1 | E22: Unidad | F22: 20 | G22: 15 | H22: =G22*F22 -> 300
C23: Tornillo estructura 7/16 | E23: Unidad | F23: 20 | G23: 15 | H23: =G23*F23 -> 300
C24: Clavos y fulminantes para anclajes | E24: Unidad | F24: 4 | G24: 400 | H24: =G24*F24 -> 1600
C25: Lijas | E25: Unidad | F25: 0.2 | G25: 950 | H25: =G25*F25 -> 190
C26: Masilla Gyplac | E26: kl | F26: 1.7 | G26: 1150 | H26: =G26*F26 -> 1955
C27: Vinilo tipo 3 | E27: GALON | F27: 0.12 | G27: 18000 | H27: =G27*F27 -> 2160
C28: Angulo cal 26 de 2 x 2cm | E28: ML | F28: 2 | G28: 1500 | H28: =G28*F28 -> 3000
C29: Perfil omega cal 26 | E29: ML | F29: 1.9 | G29: 3200 | H29: =G29*F29 -> 6080
C30: Perfil vigueta cal 26 | E30: ML | F30: 1.5 | G30: 3200 | H30: =G30*F30 -> 4800
H31: SUB-TOTAL | I31: =H19+H20+H21+H22+H23+H24+H25+H26+H27+H28+H29+H30 -> 28898.5
C33: III. MANO DE OBRA
C34: Trabajador | D34: Jornal | E34: Prest.Soc. | F34: Jornal Total | G34: Rendimiento | H34: Vr.Unitario
C35: Oficial | D35: 50000 | E35: 0.85 | F35: =D35+(E35*D35) -> 92500 | G35: 0.068 | H35: =+F35*G35 -> 6290
C36: Ayudante | D36: 33333 | E36: 0.85 | F36: =D36+(E36*D36) -> 61666.05 | G36: 0.068 | H36: =+F36*G36 -> 4193.2914
H38: SUB-TOTAL | I38: =H35+H36 -> 10483.291
G40: TOTAL COSTO DIRECTO | I40: =I38+I31+I15 -> 41281.791
C42: IV. COSTO INDIRECTO
C43: DESCRIPCION | G43: %
C44: ADMINISTRACION | G44: 0.1 | I44: =I40*G44 -> 4128.1791
C45: UTILIDAD | G45: 0.05 | I45: =I40*G45 -> 2064.0896
H46: SUB-TOTAL | I46: =I44+I45 -> 6192.2687
D48: OBSERVACIONES INTERVENTORÍA | G48: COSTO TOTAL | I48: =I40+I46 -> 47474.06
G50: Firma
G51: Nombre:
...

Sheet A.P.U PISOS
E2: ANALISIS DE PRECIOS UNITARIOS | H2: CODIGO | I2: FT-TEC-02
H3: VERSION
H4: FECHA DE APROBACION | I4: 44236
C7: OBJETO: | D7: Plantilla para Pisos E=0.04 | I7: 'UNIDAD: M2
C9: I. EQUIPO
C10: Descripción | E10: Unidad | F10: Cantidad | G10: Costo | H10: Vr. Unitario
C11: Herramientas menores | E11: gl | F11: 0.02 | G11: =I31 -> 14645.833 | H11: =F11*G11 -> 292.91667
C12: Regla vibrante de 3m | E12: hr | F12: 0.095 | G12: 11000 | H12: =G12*F12 -> 1045
H15: SUB-TOTAL | I15: =SUM(H11:H14) -> 1337.9167
C17: II. MATERIALES EN OBRA
C18: Descripción | E18: Unidad | F18: Cantidad | G18: Vr. Unitario | H18: Vr. Parcial
C19: Mortero autonivelante para pisos | E19: M2 | F19: 0.04 | G19: 237270 | H19: =G19*F19 -> 9490.8
H24: SUB-TOTAL | I24: =SUM(H19:H22) -> 9490.8
C26: III. MANO DE OBRA
C27: Trabajador | D27: Jornal | E27: Prest.Soc. | F27: Jornal Total | G27: Rendimiento | H27: Vr.Unitario
C28: Oficial | D28: 50000 | E28: 0.85 | F28: =D28+(E28*D28) -> 92500 | G28: 0.095 | H28: =+F28*G28 -> 8787.5
C29: Ayudante | D29: 33333.333 | E29: 0.85 | F29: =D29+(E29*D29) -> 61666.667 | G29: 0.095 | H29: =+F29*G29 -> 5858.3333
H31: SUB-TOTAL | I31: =H28+H29 -> 14645.833
G33: TOTAL COSTO DIRECTO | I33: =I31+I24+I15 -> 25474.55
C35: IV. COSTO INDIRECTO
C36: DESCRIPCION | G36: %
C37: ADMINISTRACION | I37: =I33*G37 -> 0
C38: UTILIDAD | I38: =I33*G38 -> 0
H39: SUB-TOTAL | I39: =I37+I38 -> 0
D41: OBSERVACIONES INTERVENTORÍA | G41: COSTO TOTAL | I41: =I33+I39 -> 25474.55
G43: Firma
G44: Nombre:
G45: Representante Legal del Contratista o su Apoderado
G46: Matricula No. :
D48: APROBACIÓN POR INTERVENTORÍA
D49: NOTA:
D50: 1
D51: 2
D52: 3
G53: Firma
G54: Nombre:
G55: Representante Legal del Interventor o su Apoderado
G56: Matricula No. :
E71: ANALISIS DE PRECIOS UNITARIOS | H71: CODIGO | I71: FT-TEC-02
H72: VERSION
...

Sheet APU VIGA CANAL METALICA 
A13: canal en lamina galvanizada C 22 Long. 30 de desarrollo 0,7 m | F13: UNIDAD: ML
F14: ITEM:
A15: DESCRIPCION | B15: UND | F15: VALOR TOTAL
A17: MATERIALES
A18: ACCESORIOS PARA FIJACION DE CANAL TIPO METALICO | B18: UND | C18: 1 | D18: 9700 | E18: 0 | F18: =D18*C18 -> 9700
A19: SOLDADURA 6013 | B19: KG | C19: 0.1 | D19: 8200 | E19: 1.03 | F19: =D19*C19*E19 -> 844.6
A20: LAMINA GALVANIZADA | B20: M2 | C20: 0.7 | D20: 21560 | E20: 1.5 | F20: =D20*C20*E20 -> 22638
A22: SUBTOTAL MATERIALES | F22: =SUM(F18:F21) -> 33182.6
A23: MANO DE OBRA
A24: M.O CUADRILLA DE MANO DE OBRA E 1 OF + 1 Ay (jornal + prestaciones) | B24: HC | C24: 1 | D24: 119963 | E24: 0.17 | F24: =C24*D24*E24 -> 20393.71
A25: SUBTOTAL MANO DE OBRA | F25: =SUM(F24) -> 20393.71
A26: EQUIPO
A27: HERRAMIENTA MENOR | B27: MO | C27: 0.1 | D27: 19994 | E27: 0 | F27: =D27*C27 -> 1999.4
A28: equipo de soldadura electrica | B28: DIA | C28: 1 | D28: 57800 | E28: 0.02 | F28: =E28*D28*C28 -> 1156
A29: andamio Mano obra | B29: MO | C29: 0.1 | D29: 19994 | E29: 0 | F29: =D29*C29 -> 1999.4
A30: SUBTOTAL EQUIPO | F30: =SUM(F27:F29) -> 5154.8
C32: COSTO DIRECT | E32: 14.353 | F32: =F30+F25+F22 -> 58731.11

Sheet A.P.U MAMPOSTERIA
E2: ANALISIS DE PRECIOS UNITARIOS | H2: CODIGO | I2: FT-TEC-02
H3: VERSION
H4: FECHA DE APROBACION | I4: 44236
C7: OBJETO: | D7: Suministro y Construccion de Jardineras en Bloque de Ladrillo Tolete 6X10X20 cm incluye impermeabilizacion | I7: 'UNIDAD: M2
C9: I. EQUIPO
C10: Descripción | E10: Unidad | F10: Cantidad | G10: Costo | H10: Vr. Unitario
C11: Herramientas menores | E11: gl | F11: 0.05 | G11: =I31 -> 18500 | H11: =F11*G11 -> 925
H15: SUB-TOTAL | I15: =SUM(H11:H14) -> 925
C17: II. MATERIALES EN OBRA
C18: Descripción | E18: Unidad | F18: Cantidad | G18: Vr. Unitario | H18: Vr. Parcial
C19: Ladrillo Tolete 6X10X20 | E19: M2 | F19: 13 | G19: 1900 | H19: =G19*F19 -> 24700
C20: Mortero 1:4 | E20: M3 | F20: 0.03 | G20: 195953 | H20: =G20*F20 -> 5878.59
H24: SUB-TOTAL | I24: =SUM(H19:H22) -> 30578.59
C26: III. MANO DE OBRA
C27: Trabajador | D27: Jornal | E27: Prest.Soc. | F27: Jornal Total | G27: Rendimiento | H27: Vr.Unitario
C28: Oficial | D28: 50000 | E28: 0.85 | F28: =D28+(E28*D28) -> 92500 | G28: 0.12 | H28: =+F28*G28 -> 11100
C29: Ayudante | D29: 33333.333 | E29: 0.85 | F29: =D29+(E29*D29) -> 61666.667 | G29: 0.12 | H29: =+F29*G29 -> 7400
H31: SUB-TOTAL | I31: =H28+H29 -> 18500
G33: TOTAL COSTO DIRECTO | I33: =I31+I24+I15 -> 50003.59
C35: IV. COSTO INDIRECTO
C36: DESCRIPCION | G36: %
C37: ADMINISTRACION | I37: =I33*G37 -> 0
C38: UTILIDAD | I38: =I33*G38 -> 0
H39: SUB-TOTAL | I39: =I37+I38 -> 0
D41: OBSERVACIONES INTERVENTORÍA | G41: COSTO TOTAL | I41: =I33+I39 -> 50003.59
G43: Firma
G44: Nombre:
G45: Representante Legal del Contratista o su Apoderado
G46: Matricula No. :
D48: APROBACIÓN POR INTERVENTORÍA
D49: NOTA:
D50: 1
D51: 2
D52: 3
G53: Firma
G54: Nombre:
G55: Representante Legal del Interventor o su Apoderado
G56: Matricula No. :

Sheet A.P.U CUBIERTA
E2: ANALISIS DE PRECIOS UNITARIOS | H2: CODIGO | I2: FT-TEC-02
H3: VERSION
H4: FECHA DE APROBACION | I4: 44236
C7: OBJETO: | D7: Cubierta carpa azul | I7: 'UNIDAD: M2
C9: I. EQUIPO
C10: Descripción | E10: Unidad | F10: Cantidad | G10: Costo | H10: Vr. Unitario
C11: Herramientas menores | E11: gl | F11: 0.05 | G11: =I31 -> 18500 | H11: =F11*G11 -> 925
C12: SECCIÓN ANDAMIO CERTIFICADO | E12: HR | F12: 0.5 | G12: 980 | H12: =F12*G12 -> 490
H15: SUB-TOTAL | I15: =SUM(H11:H14) -> 1415
C17: II. MATERIALES EN OBRA
C18: Descripción | E18: Unidad | F18: Cantidad | G18: Vr. Unitario | H18: Vr. Parcial
C19: Tela Carpa Toldo Lona Impermeable Exterior (2 X 10 Mts) | E19: M2 | F19: 1.03 | G19: 52000 | H19: =G19*F19 -> 53560
C20: Tornillos Autoperforantes con sello en neopreno | E20: UND | F20: 2.12 | G20: 350 | H20: =G20*F20 -> 742
H24: SUB-TOTAL | I24: =SUM(H19:H22) -> 54302
C26: III. MANO DE OBRA
C27: Trabajador | D27: Jornal | E27: Prest.Soc. | F27: Jornal Total | G27: Rendimiento | H27: Vr.Unitario
C28: Oficial | D28: 50000 | E28: 0.85 | F28: =D28+(E28*D28) -> 92500 | G28: 0.12 | H28: =+F28*G28 -> 11100
C29: Ayudante | D29: 33333.333 | E29: 0.85 | F29: =D29+(E29*D29) -> 61666.667 | G29: 0.12 | H29: =+F29*G29 -> 7400
H31: SUB-TOTAL | I31: =H28+H29 -> 18500
G33: TOTAL COSTO DIRECTO | I33: =I31+I24+I15 -> 74217
C35: IV. COSTO INDIRECTO
C36: DESCRIPCION | G36: %
C37: ADMINISTRACION | I37: =I33*G37 -> 0
C38: UTILIDAD | I38: =I33*G38 -> 0
H39: SUB-TOTAL | I39: =I37+I38 -> 0
D41: OBSERVACIONES INTERVENTORÍA | G41: COSTO TOTAL | I41: =I33+I39 -> 74217
G43: Firma
G44: Nombre:
G45: Representante Legal del Contratista o su Apoderado
G46: Matricula No. :
D48: APROBACIÓN POR INTERVENTORÍA
D49: NOTA:
D50: 1
D51: 2
D52: 3
G53: Firma
G54: Nombre:
G55: Representante Legal del Interventor o su Apoderado
G56: Matricula No. :
