Workbook

Sheet con mto
A1: FORMATO CONSOLIDADO COSTOS DE MANO DE OBRA
A2: ITEM | B2: Nombre del activo | C2: V/R unitario | D2: Iva 16% | E2: Total con Iva
A3: 1 | B3: Automovil Chevrolet Chevy Taxi
A4: 2 | B4: Automovil Hyundai Accent GLS
A5: 3 | B5: Automovil Hyundai Atos Prime GL
A6: 4 | B6: Automovil Kia Rio
A7: 5 | B7: Automovil Mazda 323 NTI
A8: 6 | B8: Automovil Mazda 626 GLX
A9: 7 | B9: Automovil Nissan sentra
A10: 8 | B10: Automovil renault Logan
A11: 9 | B11: Automovil Renault Symbol
A12: 10 | B12: Automovil Renault Scala
A13: 11 | B13: Automovil Volkswagen Gol
A14: 12 | B14: Automovil Volkswagen Jetta
A15: 13 | B15: Automovil BMW
A16: 14 | B16: Camioneta Chevrolet Rodeo | C16: =SUM(#REF!) -> #REF! | D16: =SUM(#REF!) -> #REF! | E16: =SUM(#REF!) -> #REF!
A17: 15 | B17: Camioneta Chevrolet Luv | C17: =SUM(#REF!) -> #REF! | D17: =SUM(#REF!) -> #REF! | E17: =SUM(#REF!) -> #REF!
A18: 16 | B18: Camioneta Ford Escape | C18: =SUM(#REF!) -> #REF! | D18: =SUM(#REF!) -> #REF! | E18: =SUM(#REF!) -> #REF!
A19: 17 | B19: Camioneta Ford ECONOLINE E250 | C19: =SUM(#REF!) -> #REF! | D19: =SUM(#REF!) -> #REF! | E19: =SUM(#REF!) -> #REF!
A20: 18 | B20: Camioneta Hyundai TERRACAM SW | C20: =SUM(#REF!) -> #REF! | D20: =SUM(#REF!) -> #REF! | E20: =SUM(#REF!) -> #REF!
A21: 19 | B21: Camioneta Jeep GRAN CHEROKEE | C21: =SUM(#REF!) -> #REF! | D21: =SUM(#REF!) -> #REF! | E21: =SUM(#REF!) -> #REF!
A22: 20 | B22: Camioneta KIA SPORTAGE LX | C22: =SUM(#REF!) -> #REF! | D22: =SUM(#REF!) -> #REF! | E22: =SUM(#REF!) -> #REF!
A23: 21 | B23: Camioneta KIA MOHAVE | C23: =SUM(#REF!) -> #REF! | D23: =SUM(#REF!) -> #REF! | E23: =SUM(#REF!) -> #REF!
A24: 22 | B24: Camioneta Mazda BT 50 | C24: =SUM(#REF!) -> #REF! | D24: =SUM(#REF!) -> #REF! | E24: =SUM(#REF!) -> #REF!
A25: 23 | B25: Camioneta Mitsubishi L 300 | C25: =SUM(#REF!) -> #REF! | D25: =SUM(#REF!) -> #REF! | E25: =SUM(#REF!) -> #REF!
A26: 24 | B26: Camioneta Nissan Frontier | C26: =SUM(#REF!) -> #REF! | D26: =SUM(#REF!) -> #REF! | E26: =SUM(#REF!) -> #REF!
A27: 25 | B27: Camioneta Nissan Pathfinder | C27: =SUM(#REF!) -> #REF! | D27: =SUM(#REF!) -> #REF! | E27: =SUM(#REF!) -> #REF!
... A30: 28 | B30: Camioneta Volkswagen Amarok | C30: =SUM(#REF!) -> #REF! | D30: =SUM(#REF!) -> #REF! | E30: =SUM(#REF!) -> #REF!
B32: TOTAL | C32: =SUM(C3:C31) -> #REF! | D32: =SUM(D3:D31) -> #REF! | E32: =SUM(E3:E31) -> #REF!
B38: Firma Representante Legal
B39: Nombre Representante legal:
B40: Nit No.
B41: Dirección:
B42: Teléfono:

Sheet con rtos
A1: FORMATO CONSOLIDADO COSTOS DE REPUESTOS
A2: ITEM | B2: Nombre del activo | C2: V/R unitario | D2: Iva 16% | E2: Total con Iva
A3: 1 | B3: Automovil Chevrolet Chevy Taxi | C3: =SUM(#REF!) -> #REF! | D3: =SUM(#REF!) -> #REF! | E3: =SUM(#REF!) -> #REF!
A4: 2 | B4: Automovil Hyundai Accent GLS | C4: =SUM(#REF!) -> #REF! | D4: =SUM(#REF!) -> #REF! | E4: =SUM(#REF!) -> #REF!
A5: 3 | B5: Automovil Hyundai Atos Prime GL | C5: =SUM(#REF!) -> #REF! | D5: =SUM(#REF!) -> #REF! | E5: =SUM(#REF!) -> #REF!
A6: 4 | B6: Automovil Kia Rio | C6: =SUM(#REF!) -> #REF! | D6: =SUM(#REF!) -> #REF! | E6: =SUM(#REF!) -> #REF!
A7: 5 | B7: Automovil Mazda 323 NTI | C7: =SUM(#REF!) -> #REF! | D7: =SUM(#REF!) -> #REF! | E7: =SUM(#REF!) -> #REF!
A8: 6 | B8: Automovil Mazda 626 GLX | C8: =SUM(#REF!) -> #REF! | D8: =SUM(#REF!) -> #REF! | E8: =SUM(#REF!) -> #REF!
A9: 7 | B9: Automovil Nissan sentra | C9: =SUM(#REF!) -> #REF! | D9: =SUM(#REF!) -> #REF! | E9: =SUM(#REF!) -> #REF!
A10: 8 | B10: Automovil renault Logan | C10: =SUM(#REF!) -> #REF! | D10: =SUM(#REF!) -> #REF! | E10: =SUM(#REF!) -> #REF!
A11: 9 | B11: Automovil Renault Symbol | C11: =SUM(#REF!) -> #REF! | D11: =SUM(#REF!) -> #REF! | E11: =SUM(#REF!) -> #REF!
A12: 10 | B12: Automovil Renault Scala | C12: =SUM(#REF!) -> #REF! | D12: =SUM(#REF!) -> #REF! | E12: =SUM(#REF!) -> #REF!
A13: 11 | B13: Automovil Volkswagen Gol | C13: =SUM(#REF!) -> #REF! | D13: =SUM(#REF!) -> #REF! | E13: =SUM(#REF!) -> #REF!
A14: 12 | B14: Automovil Volkswagen Jetta | C14: =SUM(#REF!) -> #REF! | D14: =SUM(#REF!) -> #REF! | E14: =SUM(#REF!) -> #REF!
... A30: 28 | B30: Camioneta Volkswagen Amarok | C30: =SUM(#REF!) -> #REF! | D30: =SUM(#REF!) -> #REF! | E30: =SUM(#REF!) -> #REF!
B32: TOTAL | C32: =SUM(C3:C31) -> #REF! | D32: =SUM(D3:D31) -> #REF! | E32: =SUM(E3:E31) -> #REF!
B38: Firma Representante Legal
B39: Nombre Representante legal:
B40: Nit No.
B41: Dirección:
B42: Teléfono:

Sheet con gral
B1: FORMATO PROPUESTA GENERAL MANO DE OBRA Y REPUESTOS
B2: Item | C2: V/R unitario | D2: Iva 16% | E2: Total con Iva
B3: MANO DE OBRA | C3: =SUM('con mto'!C32) -> #REF! | D3: =SUM('con mto'!D32) -> #REF! | E3: =SUM('con mto'!E32) -> #REF!
B4: REPUESTOS | C4: =SUM('con rtos'!C32) -> #REF! | D4: =SUM('con rtos'!D32) -> #REF! | E4: =SUM('con rtos'!E32) -> #REF!
B5: TOTAL | C5: =SUM(C3:C4) -> #REF! | D5: =SUM(D3:D4) -> #REF! | E5: =SUM(E3:E4) -> #REF!
B13: Firma Representante Legal
B14: Nombre Representante legal:
B15: Nit No.
B16: Dirección:
B17: Teléfono:

Sheet MANO DE OBRA
A1: OFERTA ECONOMICA GRUPO 2 NORTE DE SANTANDER MANTENIMIENTO DE MOTOCICLETAS (MANO DE OBRA)
B2: Incluye costos directos e indirectos
A4: ITEM | B4: DESCRIPCION | C4: VALOR
A5: 1 | B5: REVISIONES PERIODICAS | C5: SUBTOTAL | D5: IVA | E5: PRECIO TOTAL | F5: SUBTOTAL | G5: IVA | H5: PRECIO TOTAL
A6: 1.1 | B6: SINCRONIZACION (INCLUYE REVISION Y LUBRICACION DE GUAYAS, CALIBRACION DE VALVULAS, LIMPIEZA CUERPO DE ACELERACION YA SEA UN MOTOR INYECTADO O CARBURADO, LAVADO DE INYECTORES POR ULTRASONIDO, CAMBIO DE FILTROS, CAMBIO O MANTENIMIENTO DE BUJIAS, CALIBRACION DE SENSORES Y REVISION ELECTRICA GENERAL).
A7: 1.2 | B7: MANTENIMIENTO GENERAL DE FRENOS (INCLUYE LIMPIEZA PROFUNDA DE MORDASAS Y/O CAMPANA, MANTENIMIENTO BOMBAS DE FRENO, MANTENIMIENTO DE CILINDROS CON CAMBIO DE O-RINGS, CAMBIO DE LIQUIDO DE FRENOS SEGUN CORRESPONDA, PURGA DE FRENOS,REVISION Y LUBRICACION DE GUAYAS, CAMBIO DE PASTILLAS SEGUN CORRESPONDA, CAMBIO O MANTENIMIENTO DE BANDAS SEGÚN CORRESPONDA.
A8: 1.3 | B8: MANTENIMIENTO RAPIDO (INCLUYE LAVADO, LUBRICACION Y AJUSTE DE CADENA,REVISION Y LUBRICACION DE GUAYAS, AJUSTE DE FRENOS , CAMBIO DE ACEITE Y FILTRO DE ACEITE SI LO REQUIERE. INSPECCION DE REFRIGERANTE)
A9: 1.4 | B9: MANTENIMIENTO COMPLETO (INCLUYE COMBOS SINCRONIZACION + MANTENIMIENTO GENERAL DE FRENOS + MANTENIMIENTO TREN DELANTERO + REVISION ELECTRICA + CORRECCION DE FUGAS Y AJUSTE DE MOTOR + CAMBIO DE ACEITE Y FILTROS).
A10: 1.5 | B10: MANTENIMIENTO TREN DELANTERO (INCLUYE REVISION Y LUBRICACION DE GUAYAS, MANTENIMIENTO O CAMBIO DE CUNAS DE DIRECCION, LIMPIEZA Y ENGRASE DE EJE, REVISION Y CAMBIO DE RODAMIENTOS SI ES NECESARIO, MANTENIMIENTO DE BARRAS DE SUSPENSION CON CAMBIO DE ACEITE DE BARRAS Y SI ES NECESARIO CAMBIO DE RETENEDORES TELESCOPICOS.)
A11: 1.6 | B11: MANTEINIMENTO PREVENTIVO (INCLUYE SINCRONIZACION + MANTENIMIENTO GENERAL DE FRENOS)
A12: 1.7 | B12: MANTENIMIENTO BASICO (INCLUYE CAMBIO DE ACEITE Y FILTRO + PASTILLAS Y/O BANDAS SEGÚN CORRESPONDA
B13: SUBTOTAL
A14: 2 | B14: SINCRONIZACION | C14: SUBTOTAL | D14: IVA | E14: PRECIO TOTAL | F14: SUBTOTAL | G14: IVA | H14: PRECIO TOTAL
A15: 2.1 | B15: CAMBIO GUAYA ACELERADOR
A16: 2.2 | B16: CAMBIO GUAYA CHOKE
A17: 2.3 | B17: LUBRICAR GUAYAS
A18: 2.4 | B18: COMPROBACION NIVELES
A19: 2.5 | B19: CAMBIO CAPUCHON BUJIA
A20: 2.6 | B20: CAMBIO BOMBA COMBUSTIBLE
A21: 2.7 | B21: MANTENIMIENTO BOMBA DE COMBUSTIBLE (INCUYE CAMBIO DE FILTRO)
A22: 2.8 | B22: CAMBIO DE BUJIAS
A23: 2.9 | B23: FILTRO DE AIRE
A24: 2.10 | B24: SENSOR O SENSORES SISTEMA FI
A25: 2.11 | B25: INYECTORES
A26: 2.12 | B26: CAMBIO BOBINA DE ALTA
B27: SUBTOTAL
A28: 3 | B28: MOTOR | C28: SUBTOTAL | D28: IVA | E28: PRECIO TOTAL | F28: SUBTOTAL | G28: IVA | H28: PRECIO TOTAL
A29: 3.1 | B29: DIAGNOSTICO MOTOR
A30: 3.2 | B30: REPARACION MOTOR A
A31: 3.3 | B31: CAMBIO RETENEDOR BOMBA AGUA
A32: 3.4 | B32: CAMBIO BOMBA ACEITE MOTOR
A33: 3.5 | B33: CAMBIO CAUCHOS O SELLOS DE VALVULAS
A34: 3.6 | B34: CAMBIO ACEITE Y FILTRO DE ACEITE
A35: 3.7 | B35: MANTENIMIENTO BOMBA DE AGUA (INCLUYE CAMBIO DE ACEITE Y EMPAQUE TAPA EMBRAGUE)
B36: SUBTOTAL
A37: 4 | B37: SISTEMA DE TRANSFERENCIA | C37: SUBTOTAL | D37: IVA | E37: PRECIO TOTAL | F37: SUBTOTAL | G37: IVA | H37: PRECIO TOTAL
A38: 4.1 | B38: REPARACION CAJA VELOCIDADES( Motor B)
A39: 4.2 | B39: CAMBIO EMBRAGUE
A40: 4.3 | B40: CAMBIO EMPAQUE TAPA EMBRAGUE
A41: 4.4 | B41: CAMBIO DISCOS EMBRAGUE
...

Sheet REPUESTOS
A1: OFERTA ECONOMICA MANTENIMIENTO DE MOTOCICLETAS (REPUESTOS)
A2: DESCRIPCION | B2: YAMAHA DT 125 / DT 175 | E2: YAMAHA FZ-S 150 | H2: YAMAHA T115 | K2: YAMAHA XTZ 250 D | N2: YAMAHA XT 225 D | Q2: YAMAHA XTZ 125 | T2: YAMAHA DR 200 | W2: YAMAHA YW 125 | Z2: BAJAJ PULSAR 220 | AC2: HONDA XR 200 / XR 200 / XL 200 | AF2: HONDA XR 125 | AI2: SUZUKI BEST 125 | AL2: SUZUKI DR 200 | AO2: SUZUKI 650 | AR2: SUZUKI GS 125 | AU2: SUZUKI VIVAR R 115 | AX2: SUZUKI GIXXER
A4: SINCRONIZACIÓN | B4: SUBTOTAL | C4: IVA | D4: TOTAL | E4: SUBTOTAL | F4: IVA | G4: TOTAL | H4: SUBTOTAL | I4: IVA | J4: TOTAL | K4: SUBTOTAL | L4: IVA | M4: TOTAL | N4: SUBTOTAL | O4: IVA | P4: TOTAL | Q4: SUBTOTAL | R4: IVA | S4: TOTAL | T4: SUBTOTAL | U4: IVA | V4: TOTAL | W4: SUBTOTAL | X4: IVA | Y4: TOTAL | Z4: SUBTOTAL | AA4: IVA | AB4: TOTAL | AC4: SUBTOTAL | AD4: IVA | AE4: TOTAL | AF4: SUBTOTAL | AG4: IVA | AH4: TOTAL | AI4: SUBTOTAL | AJ4: IVA | AK4: TOTAL | AL4: SUBTOTAL | AM4: IVA | AN4: TOTAL | AO4: SUBTOTAL | AP4: IVA | AQ4: TOTAL | AR4: SUBTOTAL | AS4: IVA | AT4: TOTAL | AU4: SUBTOTAL | AV4: IVA | AW4: TOTAL | AX4: SUBTOTAL | AY4: IVA | AZ4: TOTAL
A5: AGUJAS DEL CARBURADOR
A6: BASE Y PUNZON
A7: BUJIA
A8: CHICLER DE ALTA
A9: CHICLER DE MINIMA
A10: COMANDO ACELERADOR
A11: CORTINA DEL CARBURADOR
A12: FILTRO DE AIRE
A13: FILTRO COMBUSTIBLE
A14: GUAYA ACELERADOR
A15: GUAYA CHOQUE
A16: PULVERIZADOR
... A36: SUBTOTAL
A37: MOTOR | B37: SUBTOTAL | C37: IVA | D37: TOTAL | E37: SUBTOTAL | F37: IVA | G37: TOTAL | H37: SUBTOTAL | I37: IVA | J37: TOTAL | K37: SUBTOTAL | L37: IVA | M37: TOTAL | N37: SUBTOTAL | O37: IVA | P37: TOTAL | Q37: SUBTOTAL | R37: IVA | S37: TOTAL | T37: SUBTOTAL | U37: IVA | V37: TOTAL | W37: SUBTOTAL | X37: IVA | Y37: TOTAL | Z37: SUBTOTAL | AA37: IVA | AB37: TOTAL | AC37: SUBTOTAL | AD37: IVA | AE37: TOTAL | AF37: SUBTOTAL | AG37: IVA | AH37: TOTAL | AI37: SUBTOTAL | AJ37: IVA | AK37: TOTAL | AL37: SUBTOTAL | AM37: IVA | AN37: TOTAL | AO37: SUBTOTAL | AP37: IVA | AQ37: TOTAL | AR37: SUBTOTAL | AS37: IVA | AT37: TOTAL | AU37: SUBTOTAL | AV37: IVA | AW37: TOTAL | AX37: SUBTOTAL | AY37: IVA | AZ37: TOTAL
A38: MOTOR COMPLETO
A39: BLOQUE
A40: CIGUEÑAL
A41: CULATA
A42: KIT PISTON
A43: JUEGO BALANCINES A/E
A44: JUEGO PASADOR BALANCINES A/E
A45: KIT BIELA
A46: BOMBA ACEITE MOTOR
A47: BUJES EJE LEVAS
A48: BUJES BALANCIN
A49: CANASTILLA BALANCIN
... A111: SUBTOTAL
A112: SISTEMA DE TRANSFERENCIA | B112: SUBTOTAL | C112: IVA | D112: TOTAL | E112: SUBTOTAL | F112: IVA | G112: TOTAL | H112: SUBTOTAL | I112: IVA | J112: TOTAL | K112: SUBTOTAL | L112: IVA | M112: TOTAL | N112: SUBTOTAL | O112: IVA | P112: TOTAL | Q112: SUBTOTAL | R112: IVA | S112: TOTAL | T112: SUBTOTAL | U112: IVA | V112: TOTAL | W112: SUBTOTAL | X112: IVA | Y112: TOTAL | Z112: SUBTOTAL | AA112: IVA | AB112: TOTAL | AC112: SUBTOTAL | AD112: IVA | AE112: TOTAL | AF112: SUBTOTAL | AG112: IVA | AH112: TOTAL | AI112: SUBTOTAL | AJ112: IVA | AK112: TOTAL | AL112: SUBTOTAL | AM112: IVA | AN112: TOTAL | AO112: SUBTOTAL | AP112: IVA | AQ112: TOTAL | AR112: SUBTOTAL | AS112: IVA | AT112: TOTAL | AU112: SUBTOTAL | AV112: IVA | AW112: TOTAL | AX112: SUBTOTAL | AY112: IVA | AZ112: TOTAL
A113: SELECTOR DE CAMBIOS
A114: BUJE TENSOR CADENA
A115: BUJES CONTROL CAMBIO
A116: BUJES EMBRAGUE
A117: BUJES PORTA PLATO
A118: CABLE GUAYA EMBRAGUE
A119: CANASTILLAS VARILLA DE EMBRAGUE
A120: DISCOS EMBRAGUE
A121: EJE DE CAMBIOS
...

Sheet CONSOLIDADO
A1: SUBDIRECCION REGIONAL DE APOYO NORORIENTAL
A3: OBJETO: “PRESTAR EL SERVICIO DE MANTENIMIENTO PREVENTIVO Y CORRECTIVO DE LAS MOTOCICLETAS QUE CONFORMAN EL PARQUE AUTOMOTOR DE LA SUBDIRECCIÓN REGIONAL DE APOYO NORORIENTAL DE LA FISCALÍA GENERAL DE LA NACIÓN, SECCIONAL SANTANDER, EN SUS DIFERENTES TIPOS, MARCAS Y MODELOS CON SUMINISTRO DE REPUESTOS NUEVOS U HOMOLOGADOS.”
A5: RESUMEN CONSOLIDADO ANEXO 4. OFERTA ECONOMICA
A8: TOTAL MANO DE OBRA INCLUIDO IVA
A9: TOTAL REPUESTOS INCLUIDO IVA
A10: VALOR TOTAL OFERTA ECONOMICA
