Workbook
Name AÑO: [1]Hoja1!$G$4:$G$23
Name Cumplimiento: [2]Hoja2!$B$2:$B$3
Name DIA: [1]Hoja1!$E$4:$E$35
Name ESTADO: [3]Hoja2!$B$3:$B$6
Name FECHA: [4]Hoja1!$E$4:$G$16,[4]Hoja1!$E$17:$E$35,[4]Hoja1!$G$17:$G$23
Name LOCAL: [1]SUBDIRECIONES!$A$3:$A$18
Name MES: [1]Hoja1!$F$4:$F$16
Name OBSERVACION: [3]Hoja2!$D$3:$D$5

Sheet FCTI COMPONENTE TECN-CENTRO DIA
E2: PROCESO GESTION DE BIENES Y SERVICIOS FORMATO DE CALIFICACIÓN TÉCNICA DE INMUEBLES (COMPONENTE URBANÍSTICO Y DE INFRAESTRUCTURA) - CENTROS DÍA -
B7: 1. OBJETIVO: Verificar la infraestructura ofertada por el proponente , mediante una visita de inspección ocular a la edificación y determinar si es APTA o NO para prestar los servicios que ofrece la Secretaría Distrital de Integración Social.
B9: PARTE I INFORMACIÓN GENERAL DEL PREDIO
B10: PROPONENTE: | E10: No. DE PROCESO: | H10: CAPACIDAD MÍNIMA DEL PLIEGO: | K10: PROYECTO:
B11: FECHA DE DILIGENCIAMIENTO: | E11: LOCALIDAD: | H11: BARRIO: | K11: MODALIDAD:
B12: DIRECCIÓN: | H12: CHIP: | K12: SECTOR CATASTRAL:
B13: TELÉFONO: | E13: TIPO DE CLIMA: | H13: USO ACTUAL: | K13: MATRICULA INMOBILIARIA:
B15: 2. PARAMETROS URBANISTICOS
B17: ITEM | C17: ESPACIO | E17: DESCRIPCION | H17: REQUISITO MÌNIMO | I17: REQUISITO NECESARIO | J17: CUMPLIMIENTO | L17: N/A | M17: OBSERVACIONES
J18: SI | K18: NO
B19: 2.1. | C19: Esquema básico de los espacios ofertados | E19: "Deben presentarse en el momento de la visita los planos arquitectónicos básicos (pueden ser solo las plantas), en formato DWG preferiblemente en version 2016 o anterior a esta. Especificando de manera clara y legible el nombre y las medidas de los espacios propuestos, con el fin de verificar la capacidad de usuarios en cumplimiento del estándar establecido. Al momento de la visita deben ser presentados en fisico, teniendo en cuenta que al finalizar, el proponente firmara a modo de aceptacion los espacios y areas expuestos." | H19: X
B20: 2.2. | C20: Certificado de Riesgos | E20: Para este proceso es válido el concepto emitido por la página oficial de la secretaria Distrital de Planeación - SINUPOT, mediante el cual conste que el predio no se encuentra en zona de amenaza alta. | H20: X
B21: 2.3 | C21: Concepto de uso del suelo | E21: El oferente deberá presentar el concepto de uso del suelo expedido por la Secretaría Distrital de Planeación, SINUPOT o Curaduría Urbana, donde conste que de acuerdo con la norma urbanística vigente se permite uno de los siguientes usos: a. Dotacional equipamiento colectivo de bienestar social. b. dotacional equipamiento colectivo. c. Institucional clase I o II | H21: x
B22: 2.4 | C22: Distancia del inmueble respecto de Líneas de transmisión eléctrica de alta tensión | E22: Si se evidencian redes eléctricas con líneas de alta y extra alta tensión, se evaluarán de acuerdo con el anexo general del Reglamento Técnico de Instalaciones Eléctricas (RETIE) vigente, “...cumplir con el ancho de la zona de Servidumbre de líneas de transmisión para líneas de alta y extra alta tensión de las Tablas 13,1 y 22.1”. En dado caso de ser líneas de media tensión se deberán garantizar las distancias mínimas de seguridad respecto a las construcciones según lo expuesto en el RETIE. | H22: x
B23: 2.5 | C23: Recibos de servicios públicos domiciliarios y certificaciones | E23: El oferente deberá presentar los recibos de servicios públicos de energía eléctrica, acueducto y alcantarillado. | H23: x
E24: Se deberá aportar el recibo de gas natural en caso que el predio cuente con este servicio junto con los certificados de lavado de tanques y fumigación y control el de plagas vigente. | I24: x
B26: PARTE II INFORMACIÓN TECNICA DEL PREDIO
B28: 3. AFECTACIONES
B29: 3.1. AMENAZAS NATURALES
B30: No. | C30: AMENAZA
B32: 3.1.1. | C32: Remoción en masa
B33: 3.1.2. | C33: Inundación
B34: 3.1.3. | C34: Redes de Energia (Requisito mínimo)
B36: 4. DIAGNOSTICO TÉCNICO
B37: 4.1 UPZ | H37: 4.2 SECTOR NORMATIVO
B38: 4.3 TRATAMIENTO SEGÚN UPZ | H38: 4.4 ÁREA DE ACTIVIDAD
B39: 4.5 ZONA | H39: 4.6 USOS DOTACIONALES DE BIENESTAR SOCIAL PERMITIDOS (D. 120 DE 2018)
B40: 4.7 CLASIFICACIÓN DE ESCALA DEL EQUIPAMIENTO OBJETO DEL ESTUDIO
B42: 4.8 LOCALIZACIÓN
B46: Fuente:
B48: PARTE III CARACTERISTICAS ESPACIOS FISICOS
B50: 5. CUADRO DE AREAS (M2)
B51: No. | C51: ASPECTO | K51: M2 | M51: UNIDAD
B53: 5.1. | C53: Areas de construcción | E53: AREA CONTRUIDA TOTAL PARA LA PRESTACIÒN DEL SERVICIO (CATASTRAL) | M53: M2
B55: 6. ASPECTOS GENERALES - OBSERVACIONES DEL ESTADO ACTUAL DE LA EDIFICACION
B57: ITEM | C57: DESCRIPCION | H57: REQUISITO MÌNIMO | I57: REQUISITO NECESARIO | J57: CUMPLIMIENTO | L57: N/A | M57: CANTIDAD
J58: SI | K58: NO
B59: 6.1 | C59: El inmueble cuenta con servicio de acueducto y alcantarillado y deberá garantizar la prestación de dicho servicio en la Unidad Operativa de manera ininterrumpida. | H59: x
B60: 6.2 | C60: El inmueble cuenta con tanque(s) de almacenamiento de agua aéreo o subterráneo conectado directamente al sistema de cocina y baños para garantizar su permanente circulación. Durante la prestación del servicio se debe garantizar el suministro de agua potable permanentemente a la población atendida mediante tanques de almacenamiento y reserva. | H60: x
B61: 6.3 | C61: El inmueble cuenta con servicio de energía eléctrica y deberá garantizar la prestación de dicho servicio en la Unidad Operativa de manera ininterrumpida | H61: x
...

Sheet FCTI COMPONENTE JURI-CENTRO DIA
F2: PROCESO GESTION DE BIENES Y SERVICIOS FORMATO CALIFICACION TECNICA DE INMUEBLES (COMPONENTE JURIDICO)
B7: PARTE I INFORMACIÓN GENERAL DEL PREDIO
B8: NOMBRE DEL PROPONENTE: | O8: N° PROCESO
B9: FECHA DE DILIGENCIAMIENTO: | F9: LOCALIDAD: | L9: MATRICULA INMOBILIARIA
B10: DIRECCIÓN: | M10: CHIP
B12: PARTE II
B14: 8.1. INFORMACIÓN JURIDICA DEL PREDIO
S16: CUENTA CON EL DOCUMENTO | U16: NATURALEZA DEL PREDIO
B17: No. | C17: ASPECTO | F17: CONDICIÓN | S17: SI | T17: NO | U17: PUBLICO | V17: PRIVADO
C19: Certificado de Tradición y libertad o Folio de Matricula Inmobiliaria | F19: Los oferentes deberán presentar con su propuesta el CERTIFICADO DE TRADICIÓN Y LIBERTAD documento expedido por la Oficina de Registro de Instrumentos Públicos, con fecha no mayor a un (1) mes de expedición. De la revisión del mismo se debe concluir si el inmueble es de propiedad de un privado o por el contrario es de propiedad del Distrito Capital. En el evento de pertenecer al Distrito Capital no se reconocerá el pago del rubro asignado para espacio físico funcional, de la estructura de costos, si la infraestructura o construcción propuesta se localiza en más de un predio debe presentarse el certificado de tradición y libertad por cada uno de los predios | W19: QUE EL OFERENTE NO APORTO EL CERTIFICADO DE TRADICION Y NLIBERTAD VIGENTE
C21: Certtificado catastral o impuesto predial | F21: Los oferentes deberán presentar con su propuesta el certificado catastral o boletín de nomenclatura expedido por la Unidad Administrativa Especial de Catastro Distrital (UAECD) o la que haga sus veces en los municipios para cada inmueble presentado, documento por medio del cual la autoridad catastral hace constar la inscripción del predio o mejora, sus características y condiciones , según la base de datos catastral ; en caso de no contar con el respectivo documento se podrá anexar copia del pago del impuesto predial donde conste claramente los siguientes datos del predio: código catastral, CHIP y dirección actual, area de terreno, area construcida.
B22: 5.2. VERIFICACIÓN DE LA INSTALACIÓN ELÉCTRICA
B24: No. | C24: ASPECTO | F24: CONDICIÓN | S24: SI | V24: NO
B26: 5.2.1 | C26: Instalaciones eléctricas | F26: La instalación eléctrica se encuentra en buen estado y funcionando (Requisito mínimo)
B27: 5.2.2 | C27: Información sobre la cuenta | F27: DATOS
F28: Número de cuenta de cliente según factura:
F29: Carga aprobada/aforada según factura (kW):
B32: PARTE VI CARACTERISTICAS PARTICULARES DEL SERVICIO A IMPLEMENTAR
B34: 6.1. REQUERIMIENTOS GENERALES PARA EL FUNCIONAMIENTO DE UN SERVICIO SOCIAL DE LA SECRETARIA DISTRITAL DE INTEGRACION SOCIAL
B36: ITEM | C36: ELEMENTO | F36: DESCRIPCIÓN ACTIVIDAD | S36: SI | V36: NO
B38: 6.1.1 | C38: Accesibilidad, señalizacion y señaletica | F38: Rampas de acceso o medios alternativos mecanicos para el ingreso a los espacios de la unidad operativa
F39: Todos los espacion de la unidad operativa se encuentran con señalizacion y señaletica
B40: 6.1.2 | C40: Iluminación y ventilación | F40: El inmueble cuenta con adecuada ventilacion (Requisito mínimo)
F41: El inmueble cuenta con adecuada Iluminacion (Requisito mínimo)
F42: El inmueble cuenta con adecuada circulación de aire de la cocina protegidas con mallas de materal no corrosivo (angeo)
F43: Los baños del inmueble no podrán compartir una ventana para ventilación con la cocina. En ningún caso deberán existir ventilación cruzada entre baños y cocina
F44: Las lámparas protegidas para evitar el riesgo de contaminación física en caso de ruptura accidental de las bombillas
B45: 6.1.3 | C45: Escaleras (en caso de que existan) | F45: Las escaleras estables (Requisito mínimo)
F46: Cinta antideslizante en los escalones de la escalera.
F47: Pasamanos de escaleras a una altura de +-90 cm.
F48: Proteccion con barandas en zonas de circulacion y zonas comunes que puedan evitar riesgo de caida durante su transito
B49: 6.1.4 | C49: Ventanería | F49: Marcos de ventana en buen estado sin oxido o elementos sueltos.
F50: Vidrios de ventanas con películas de seguridad
B51: 6.1.5 | C51: Puertas | F51: Puerta de cocina y despensa metalica
F52: Suplementos para reducir las aberturas entre las puertas y los pisos las cuales deben ser menores a un centímetro
F53: Puertas de baños en buen estado
B54: 6.1.6 | C54: Cocina y despensa | F54: La cocina cuenta con sifòn y rejilla para la evacuaciòn de residuos lìquidos en el piso (Requisito mínimo)
F55: Los acabados de piso en cocina y despensa son en baldosa y se encuentran en buen estado, sin fracturas ni vencimientos y debidamente emboquillados
F56: Los muros de cocina y despensa son en baldosa o pintura epoxica permitiendo la facil limpieza y desinfeccion
F57: El acabado de cielo raso de cocina y despensa cuenta con un acabado que permita la facil limpieza y desinfeccion.
...

Sheet REGISTRO FOTOGRAFICO
F2: SECRETARIA DISTRITAL DE INTEGRACION SOCIAL DIRECCION DE GESTION CORPORATIVA SUBDIRECCION DE PLANTAS FISICAS FORMATO CALIFICACION TECNICA DE INMUEBLES | O2: IDENTIFICACION
O3: PROYECTO : | Q3: =+'FCTI COMPONENTE TECN-CENTRO DIA'!L10:M10 -> #VALUE!
O4: PROCESO COMPETITIVO: | Q4: =+'FCTI COMPONENTE TECN-CENTRO DIA'!F10:G10 -> #VALUE!
O5: NOMBRE PROPONENTE | Q5: =+'FCTI COMPONENTE TECN-CENTRO DIA'!D10 -> 0
O6: DIRECCION DEL PREDIO | Q6: =+'FCTI COMPONENTE TECN-CENTRO DIA'!D12:G12 -> #VALUE!
B8: PARTE V
B9: 11. REGISTRO FOTOGRAFICO ANEXO
B11: 13.1. FECHA ELABORACIÓN: | F11: =+'FCTI COMPONENTE TECN-CENTRO DIA'!D11 -> 0 | J11: 13.2. NOMBRE PREDIO O PROYECTO: | O11: =+'FCTI COMPONENTE TECN-CENTRO DIA'!L10:M10 -> #VALUE!
B12: 13.3 LOCALIDAD | F12: =+'FCTI COMPONENTE TECN-CENTRO DIA'!F11:G11 -> 0 | J12: 13.4. CHIP | O12: =+'FCTI COMPONENTE TECN-CENTRO DIA'!I12:J12 -> #VALUE!
B19: DESCRIPCIÓN: | K19: DESCRIPCIÓN:
B26: DESCRIPCIÓN: | K26: DESCRIPCIÓN:
B33: DESCRIPCIÓN: | K33: DESCRIPCIÓN:
B40: DESCRIPCIÓN: | K40: DESCRIPCIÓN:

Sheet PLANOS
F2: SECRETARIA DISTRITAL DE INTEGRACION SOCIAL DIRECCION DE GESTION CORPORATIVA SUBDIRECCION DE PLANTAS FISICAS FORMATO CALIFICACION TECNICA DE INMUEBLES | O2: IDENTIFICACION
O3: PROYECTO : | Q3: =+'FCTI COMPONENTE TECN-CENTRO DIA'!L10:M10 -> #VALUE!
O4: PROCESO COMPETITIVO: | Q4: =+'FCTI COMPONENTE TECN-CENTRO DIA'!F10:G10 -> #VALUE!
O5: NOMBRE PROPONENTE | Q5: =+'FCTI COMPONENTE TECN-CENTRO DIA'!D10 -> 0
O6: DIRECCION DEL PREDIO | Q6: =+'FCTI COMPONENTE TECN-CENTRO DIA'!D12:G12 -> #VALUE!
B8: PARTE VI
B9: 12. PLANOS
B11: 13.1. FECHA ELABORACIÓN: | F11: =+'FCTI COMPONENTE TECN-CENTRO DIA'!D11 -> 0 | J11: 13.2. NOMBRE PREDIO O PROYECTO: | O11: =+'FCTI COMPONENTE TECN-CENTRO DIA'!L10:M10 -> #VALUE!
B12: 13.3 LOCALIDAD | F12: =+'FCTI COMPONENTE TECN-CENTRO DIA'!F11:G11 -> 0 | J12: 13.4. CHIP | O12: =+'FCTI COMPONENTE TECN-CENTRO DIA'!I12:J12 -> #VALUE!

Sheet Hoja4
D2: PROCESO GESTION DE BIENES Y SERVICIOS FORMATO CALIFICACION TECNICA DE INMUEBLES (COMPONENTE URBANISTICO E INFRAESTRUCTURA) PARA SERVICIO DE VEJEZ EN LA MODALIDAD DE CENTROS DE PROTECCIÓN SOCIAL ADULTO MAYOR (MODALIDAD SEVEROS - MODERADOS) - CENTROS DÍA - CENTROS DÍA Y NOCHE
A7: 1. OBJETIVO: Verificar la infraestructura ofertada por el proponente , mediante una visita de inspección ocular a la edificación y determinar si es APTA o NO para prestar los servicios que ofrece la Secretaría Distrital de Integración Social.
A9: PARTE I INFORMACIÓN GENERAL DEL PREDIO
A10: PROPONENTE: | D10: No. DE PROCESO:
A11: FECHA DE DILIGENCIAMIENTO: | D11: LOCALIDAD:
A12: DIRECCIÓN:
A13: TELÉFONO: | D13: TIPO DE CLIMA:
A15: 2. PARAMETROS URBANISTICOS
A17: No. | B17: ASPECTO | J17: SI | K17: NO | L17: OBSERVACIONES
A19: 2.1. | B19: Esquema básico de los espacios ofertados (Requisito mínimo)
A20: 2.2. | B20: Licencia de Construccion
A21: 2.3. | B21: Concepto de uso del suelo (Requisito mínimo)
A23: PARTE II INFORMACIÓN TECNICA DEL PREDIO
A25: 3. AFECTACIONES
A26: 3.1. AMENAZAS NATURALES
A27: No. | B27: AMENAZA
A29: 3.1.1. | B29: Remoción en masa
A30: 3.1.2. | B30: Inundación
A31: 3.1.3. | B31: Redes de Energia (Requisito mínimo)
A33: 4. DIAGNOSTICO TÉCNICO
A35: 4.1 UPZ | G35: 4.2 SECTOR NORMATIVO | J35: N/A
A36: 4.3 TRATAMIENTO SEGÚN UPZ | G36: 4.4 ÁREA DE ACTIVIDAD | J36: N/A
A37: 4.5 ZONA | G37: 4.6 USOS DOTACIONALES DE BIENESTAR SOCIAL PERMITIDOS (D. 120 DE 2018) | J37: N/A
A38: 4.7 CLASIFICACIÓN DE ESCALA DEL EQUIPAMIENTO OBJETO DEL ESTUDIO | G38: N/A
A40: 4.8 LOCALIZACIÓN
A45: Fuente: | B45: https://www.google.com/maps/place/4%C2%B029'09.1%22N+74%C2%B022'39.3%22W/@4.4858498,-74.3797752,1152m/data=!3m2!1e3!4b1!4m5!3m4!1s0x0:0x0!8m2!3d4.4858498!4d-74.3775865?hl=es
A47: PARTE III CARACTERISTICAS ESPACIOS FISICOS
A49: 5. CUADRO DE AREAS (M2)
A50: No. | B50: ASPECTO | J50: M2 | L50: UNIDAD
A52: 5.1. | B52: Areas de construcción | J52: 1360 | L52: M2
A53: NOTA: CUANDO EL SERVICIO SE PRESTE EN ÀREAS PARCIALES SE DEBERÀ DISCRIMINAR EL ÀREA POR PISO
