Workbook

Sheet MANO DE OBRA VEHICULOS
B1: ANEXO II - ESTUDIO DEL SECTOR
B4: MANO DE OBRA DE MANTENIMIENTO VEHICULOS
C6: COTIZACIÓN No.1 | D6: COTIZACIÓN No.2 | E6: HISTORICOS DE CONTRATACIÓN | F6: MINIMO | G6: PROMEDIO | H6: VALOR SELECCIONADO
B7: CLASE | C7: VALOR UNITARIO INCLUIDO IVA HORA HOMBRE | D7: VALOR UNITARIO INCLUIDO IVA HORA HOMBRE | E7: VALOR UNITARIO INCLUIDO IVA HORA HOMBRE | F7: VALOR UNITARIO INCLUIDO IVA HORA HOMBRE | G7: VALOR UNITARIO INCLUIDO IVA HORA HOMBRE | H7: VALOR UNITARIO INCLUIDO IVA HORA HOMBRE
B8: AUTOMÓVIL | C8: 71400 | D8: 85784 | E8: 52227.747 | F8: =+IF(C8="N/A","N/A",MIN(C8:E8)) -> 52227.747 | G8: =+IF(C8="N/A","N/A",ROUND(AVERAGE(C8:E8),0)) -> 69804 | H8: =+IF(F8="N/A","N/A",AVERAGE(F8:G8)) -> 61015.874
B9: CAMIONETA | C9: 95200 | D9: 92548 | E9: 54039.114 | F9: =+IF(C9="N/A","N/A",MIN(C9:E9)) -> 54039.114 | G9: =+IF(C9="N/A","N/A",ROUND(AVERAGE(C9:E9),0)) -> 80596 | H9: =+IF(F9="N/A","N/A",AVERAGE(F9:G9)) -> 67317.557
B10: DOBLE CABINA | D10: 90833 | E10: 57722.227 | F10: =+IF(D10="N/A","N/A",MIN(C10:E10)) -> 57722.227 | G10: =+IF(D10="N/A","N/A",ROUND(AVERAGE(C10:E10),0)) -> 74278 | H10: =+IF(F10="N/A","N/A",AVERAGE(F10:G10)) -> 66000.113
B11: VAN | D11: 87911 | E11: 54039.114 | F11: =+IF(D11="N/A","N/A",MIN(C11:E11)) -> 54039.114 | G11: =+IF(D11="N/A","N/A",ROUND(AVERAGE(C11:E11),0)) -> 70975 | H11: =+IF(F11="N/A","N/A",AVERAGE(F11:G11)) -> 62507.057
B12: WAGON | D12: 87911 | E12: 54039.114 | F12: =+IF(D12="N/A","N/A",MIN(C12:E12)) -> 54039.114 | G12: =+IF(D12="N/A","N/A",ROUND(AVERAGE(C12:E12),0)) -> 70975 | H12: =+IF(F12="N/A","N/A",AVERAGE(F12:G12)) -> 62507.057
B13: CAMIÓN | C13: 130900 | D13: 99843 | F13: =+IF(C13="N/A","N/A",MIN(C13:E13)) -> 99843 | G13: =+IF(C13="N/A","N/A",ROUND(AVERAGE(C13:E13),0)) -> 115372 | H13: =+IF(F13="N/A","N/A",AVERAGE(F13:G13)) -> 107607.5
B14: TOTAL | C14: =SUM(C8:C13) -> 297500 | D14: =SUM(D8:D13) -> 544830 | E14: =SUM(E8:E13) -> 272067.32 | F14: =SUM(F8:F13) -> 371910.32 | G14: =SUM(G8:G13) -> 482000 | H14: =SUM(H8:H13) -> 426955.16

Sheet REPUESTOS VEHICULOS
E2: COTIZACIÓN No.1 | F2: COTIZACIÓN No.2 | G2: HISTORICOS DE CONTRATACIÓN | H2: MINIMO | I2: VALOR SELECCIONADO | J2: MEDIA ARITMETICA BAJA | L2: COTIZACIÓN No.1 | M2: COTIZACIÓN No.2 | N2: HISTORICOS DE CONTRATACIÓN | O2: MINIMO | P2: VALOR SELECCIONADO | Q2: MEDIA ARITMETICA BAJA | S2: COTIZACIÓN No.1 | T2: COTIZACIÓN No.2 | U2: HISTORICOS DE CONTRATACIÓN | V2: MINIMO | W2: VALOR SELECCIONADO | X2: MEDIA ARITMETICA BAJA | Z2: COTIZACIÓN No.1 | AA2: COTIZACIÓN No.2 | AB2: HISTORICOS DE CONTRATACIÓN | AC2: MINIMO | AD2: VALOR SELECCIONADO | AE2: MEDIA ARITMETICA BAJA | AG2: COTIZACIÓN No.1 | AH2: COTIZACIÓN No.2 | AI2: HISTORICOS DE CONTRATACIÓN | AJ2: MINIMO | AK2: VALOR SELECCIONADO | AL2: MEDIA ARITMETICA BAJA | AN2: COTIZACIÓN No.1 | AO2: COTIZACIÓN No.2 | AP2: HISTORICOS DE CONTRATACIÓN | AQ2: MINIMO | AR2: VALOR SELECCIONADO | AS2: MEDIA ARITMETICA BAJA | AU2: COTIZACIÓN No.1 | AV2: COTIZACIÓN No.2 | AW2: HISTORICOS DE CONTRATACIÓN | AX2: MINIMO | AY2: VALOR SELECCIONADO | AZ2: MEDIA ARITMETICA BAJA | BB2: COTIZACIÓN No.1 | BC2: COTIZACIÓN No.2 | BD2: HISTORICOS DE CONTRATACIÓN | BE2: MINIMO | BF2: VALOR SELECCIONADO | BG2: MEDIA ARITMETICA BAJA | BI2: COTIZACIÓN No.1 | BJ2: COTIZACIÓN No.2 | BK2: HISTORICOS DE CONTRATACIÓN | BL2: MINIMO | BM2: VALOR SELECCIONADO | BN2: MEDIA ARITMETICA BAJA | BP2: COTIZACIÓN No.1 | BQ2: COTIZACIÓN No.2 | BR2: HISTORICOS DE CONTRATACIÓN | BS2: MINIMO | BT2: VALOR SELECCIONADO | BU2: MEDIA ARITMETICA BAJA | BW2: COTIZACIÓN No.1 | BX2: COTIZACIÓN No.2 | BY2: HISTORICOS DE CONTRATACIÓN | BZ2: MINIMO | CA2: VALOR SELECCIONADO | CB2: MEDIA ARITMETICA BAJA | CD2: COTIZACIÓN No.1 | CE2: COTIZACIÓN No.2 | CF2: HISTORICOS DE CONTRATACIÓN | CG2: MINIMO | CH2: VALOR SELECCIONADO | CI2: MEDIA ARITMETICA BAJA | CK2: COTIZACIÓN No.1 | CL2: COTIZACIÓN No.2 | CM2: HISTORICOS DE CONTRATACIÓN | CN2: MINIMO | CO2: VALOR SELECCIONADO | CP2: MEDIA ARITMETICA BAJA | CR2: COTIZACIÓN No.1 | CS2: COTIZACIÓN No.2 | CT2: HISTORICOS DE CONTRATACIÓN | CU2: MINIMO | CV2: VALOR SELECCIONADO | CW2: MEDIA ARITMETICA BAJA | CY2: COTIZACIÓN No.1 | CZ2: COTIZACIÓN No.2 | DA2: HISTORICOS DE CONTRATACIÓN | DB2: MINIMO | DC2: VALOR SELECCIONADO | DD2: MEDIA ARITMETICA BAJA | DF2: COTIZACIÓN No.1 | DG2: COTIZACIÓN No.2 | DH2: HISTORICOS DE CONTRATACIÓN | DI2: MINIMO | DJ2: VALOR SELECCIONADO | DK2: MEDIA ARITMETICA BAJA | DM2: COTIZACIÓN No.1 | DN2: COTIZACIÓN No.2 | DO2: HISTORICOS DE CONTRATACIÓN | DP2: MINIMO | DQ2: VALOR SELECCIONADO | DR2: MEDIA ARITMETICA BAJA | DT2: COTIZACIÓN No.1 | DU2: COTIZACIÓN No.2 | DV2: HISTORICOS DE CONTRATACIÓN | DW2: MINIMO | DX2: VALOR SELECCIONADO | DY2: MEDIA ARITMETICA BAJA | EA2: COTIZACIÓN No.1 | EB2: COTIZACIÓN No.2 | EC2: HISTORICOS DE CONTRATACIÓN | ED2: MINIMO | EE2: VALOR SELECCIONADO | EF2: MEDIA ARITMETICA BAJA | EH2: COTIZACIÓN No.1 | EI2: COTIZACIÓN No.2 | EJ2: HISTORICOS DE CONTRATACIÓN | EK2: MINIMO | EL2: VALOR SELECCIONADO | EM2: MEDIA ARITMETICA BAJA | EO2: COTIZACIÓN No.1 | EP2: COTIZACIÓN No.2 | EQ2: HISTORICOS DE CONTRATACIÓN | ER2: MINIMO | ES2: VALOR SELECCIONADO | ET2: MEDIA ARITMETICA BAJA | EV2: COTIZACIÓN No.1 | EW2: COTIZACIÓN No.2 | EX2: HISTORICOS DE CONTRATACIÓN | EY2: MINIMO | EZ2: VALOR SELECCIONADO | FA2: MEDIA ARITMETICA BAJA
A3: NECESIDAD CONTRATACIÓN MULTIMARCA REPUESTOS | E3: 1. REPUESTOS | F3: 1. REPUESTOS | G3: 1. REPUESTOS | H3: 1. REPUESTOS | I3: 1. REPUESTOS | J3: 1. REPUESTOS | L3: 2. REPUESTOS | M3: 2. REPUESTOS | N3: 2. REPUESTOS | O3: 2. REPUESTOS | P3: 2. REPUESTOS | Q3: 2. REPUESTOS | S3: 3. REPUESTOS | T3: 3. REPUESTOS | U3: 3. REPUESTOS | V3: 3. REPUESTOS | W3: 3. REPUESTOS | X3: 3. REPUESTOS | Z3: 4. REPUESTOS | AA3: 4. REPUESTOS | AB3: 4. REPUESTOS | AC3: 4. REPUESTOS | AD3: 4. REPUESTOS | AE3: 4. REPUESTOS | AG3: 5. REPUESTOS | AH3: 5. REPUESTOS | AI3: 5. REPUESTOS | AJ3: 5. REPUESTOS | AK3: 5. REPUESTOS | AL3: 5. REPUESTOS | AN3: 6. REPUESTOS | AO3: 6. REPUESTOS | AP3: 6. REPUESTOS | AQ3: 6. REPUESTOS | AR3: 6. REPUESTOS | AS3: 6. REPUESTOS | AU3: 7. REPUESTOS | AV3: 7. REPUESTOS | AW3: 7. REPUESTOS | AX3: 7. REPUESTOS | AY3: 7. REPUESTOS | AZ3: 7. REPUESTOS | BB3: 8. REPUESTOS | BC3: 8. REPUESTOS | BD3: 8. REPUESTOS | BE3: 8. REPUESTOS | BF3: 8. REPUESTOS | BG3: 8. REPUESTOS | BI3: 9. REPUESTOS | BJ3: 9. REPUESTOS | BK3: 9. REPUESTOS | BL3: 9. REPUESTOS | BM3: 9. REPUESTOS | BN3: 9. REPUESTOS | BP3: 10. REPUESTOS | BQ3: 10. REPUESTOS | BR3: 10. REPUESTOS | BS3: 10. REPUESTOS | BT3: 10. REPUESTOS | BU3: 10. REPUESTOS | BW3: 11. REPUESTOS | BX3: 11. REPUESTOS | BY3: 11. REPUESTOS | BZ3: 11. REPUESTOS | CA3: 11. REPUESTOS | CB3: 11. REPUESTOS | CD3: 12. REPUESTOS | CE3: 12. REPUESTOS | CF3: 12. REPUESTOS | CG3: 12. REPUESTOS | CH3: 12. REPUESTOS | CI3: 12. REPUESTOS | CK3: 13. REPUESTOS | CL3: 13. REPUESTOS | CM3: 13. REPUESTOS | CN3: 13. REPUESTOS | CO3: 13. REPUESTOS | CP3: 13. REPUESTOS | CR3: 14. REPUESTOS | CS3: 14. REPUESTOS | CT3: 14. REPUESTOS | CU3: 14. REPUESTOS | CV3: 14. REPUESTOS | CW3: 14. REPUESTOS | CY3: 15. REPUESTOS | CZ3: 15. REPUESTOS | DA3: 15. REPUESTOS | DB3: 15. REPUESTOS | DC3: 15. REPUESTOS | DD3: 15. REPUESTOS | DF3: 16. REPUESTOS | DG3: 16. REPUESTOS | DH3: 16. REPUESTOS | DI3: 16. REPUESTOS | DJ3: 16. REPUESTOS | DK3: 16. REPUESTOS | DM3: 17. REPUESTOS | DN3: 17. REPUESTOS | DO3: 17. REPUESTOS | DP3: 17. REPUESTOS | DQ3: 17. REPUESTOS | DR3: 17. REPUESTOS | DT3: 18. REPUESTOS | DU3: 18. REPUESTOS | DV3: 18. REPUESTOS | DW3: 18. REPUESTOS | DX3: 18. REPUESTOS | DY3: 18. REPUESTOS | EA3: 19. REPUESTOS | EB3: 19. REPUESTOS | EC3: 19. REPUESTOS | ED3: 19. REPUESTOS | EE3: 19. REPUESTOS | EF3: 19. REPUESTOS | EH3: 20. REPUESTOS | EI3: 20. REPUESTOS | EJ3: 20. REPUESTOS | EK3: 20. REPUESTOS | EL3: 20. REPUESTOS | EM3: 20. REPUESTOS | EO3: 21. REPUESTOS | EP3: 21. REPUESTOS | EQ3: 21. REPUESTOS | ER3: 21. REPUESTOS | ES3: 21. REPUESTOS | ET3: 21. REPUESTOS | EV3: 22. REPUESTOS | EW3: 22. REPUESTOS | EX3: 22. REPUESTOS | EY3: 22. REPUESTOS | EZ3: 22. REPUESTOS | FA3: 22. REPUESTOS
A5: NOMBRE DEL ACTIVO | E5: CAMIONETA | F5: CAMIONETA | G5: CAMIONETA | H5: CAMIONETA | I5: CAMIONETA | J5: CAMIONETA | L5: CAMIONETA | M5: CAMIONETA | N5: CAMIONETA | O5: CAMIONETA | P5: CAMIONETA | Q5: CAMIONETA | S5: VAN | T5: VAN | U5: VAN | V5: VAN | W5: VAN | X5: VAN | Z5: CAMIONETA | AA5: CAMIONETA | AB5: CAMIONETA | AC5: CAMIONETA | AD5: CAMIONETA | AE5: CAMIONETA | AG5: CAMIONETA | AH5: CAMIONETA | AI5: CAMIONETA | AJ5: CAMIONETA | AK5: CAMIONETA | AL5: CAMIONETA | AN5: AUTOMÓVIL | AO5: AUTOMÓVIL | AP5: AUTOMÓVIL | AQ5: AUTOMÓVIL | AR5: AUTOMÓVIL | AS5: AUTOMÓVIL | AU5: AUTOMÓVIL | AV5: AUTOMÓVIL | AW5: AUTOMÓVIL | AX5: AUTOMÓVIL | AY5: AUTOMÓVIL | AZ5: AUTOMÓVIL | BB5: CAMIONETA | BC5: CAMIONETA | BD5: CAMIONETA | BE5: CAMIONETA | BF5: CAMIONETA | BG5: CAMIONETA | BI5: AUTOMÓVIL | BJ5: AUTOMÓVIL | BK5: AUTOMÓVIL | BL5: AUTOMÓVIL | BM5: AUTOMÓVIL | BN5: AUTOMÓVIL | BP5: CAMIONETA | BQ5: CAMIONETA | BR5: CAMIONETA | BS5: CAMIONETA | BT5: CAMIONETA | BU5: CAMIONETA | BW5: CAMIONETA | BX5: CAMIONETA | BY5: CAMIONETA | BZ5: CAMIONETA | CA5: CAMIONETA | CB5: CAMIONETA | CD5: AUTOMÓVIL | CE5: AUTOMÓVIL | CF5: AUTOMÓVIL | CG5: AUTOMÓVIL | CH5: AUTOMÓVIL | CI5: AUTOMÓVIL | CK5: CAMIONETA | CL5: CAMIONETA | CM5: CAMIONETA | CN5: CAMIONETA | CO5: CAMIONETA | CP5: CAMIONETA | CR5: CAMIONETA | CS5: CAMIONETA | CT5: CAMIONETA | CU5: CAMIONETA | CV5: CAMIONETA | CW5: CAMIONETA | CY5: CAMPERO | CZ5: CAMPERO | DA5: CAMPERO | DB5: CAMPERO | DC5: CAMPERO | DD5: CAMPERO | DF5: CAMPERO | DG5: CAMPERO | DH5: CAMPERO | DI5: CAMPERO | DJ5: CAMPERO | DK5: CAMPERO | DM5: CAMIONETA | DN5: CAMIONETA | DO5: CAMIONETA | DP5: CAMIONETA | DQ5: CAMIONETA | DR5: CAMIONETA | DT5: CAMIONETA | DU5: CAMIONETA | DV5: CAMIONETA | DW5: CAMIONETA | DX5: CAMIONETA | DY5: CAMIONETA | EA5: AUTOMÓVIL | EB5: AUTOMÓVIL | EC5: AUTOMÓVIL | ED5: AUTOMÓVIL | EE5: AUTOMÓVIL | EF5: AUTOMÓVIL | EH5: CAMIONETA | EI5: CAMIONETA | EJ5: CAMIONETA | EK5: CAMIONETA | EL5: CAMIONETA | EM5: CAMIONETA | EO5: CAMIONETA | EP5: CAMIONETA | EQ5: CAMIONETA | ER5: CAMIONETA | ES5: CAMIONETA | ET5: CAMIONETA | EV5: CAMIONETA | EW5: CAMIONETA | EX5: CAMIONETA | EY5: CAMIONETA | EZ5: CAMIONETA | FA5: CAMIONETA
A6: MARCA | E6: CHEVROLET | F6: CHEVROLET | G6: CHEVROLET | H6: CHEVROLET | I6: CHEVROLET | J6: CHEVROLET | L6: CHEVROLET | M6: CHEVROLET | N6: CHEVROLET | O6: CHEVROLET | P6: CHEVROLET | Q6: CHEVROLET | S6: CHEVROLET | T6: CHEVROLET | U6: CHEVROLET | V6: CHEVROLET | W6: CHEVROLET | X6: CHEVROLET | Z6: CHEVROLET | AA6: CHEVROLET | AB6: CHEVROLET | AC6: CHEVROLET | AD6: CHEVROLET | AE6: CHEVROLET | AG6: CHEVROLET | AH6: CHEVROLET | AI6: CHEVROLET | AJ6: CHEVROLET | AK6: CHEVROLET | AL6: CHEVROLET | AN6: CHEVROLET | AO6: CHEVROLET | AP6: CHEVROLET | AQ6: CHEVROLET | AR6: CHEVROLET | AS6: CHEVROLET | AU6: CHEVROLET | AV6: CHEVROLET | AW6: CHEVROLET | AX6: CHEVROLET | AY6: CHEVROLET | AZ6: CHEVROLET | BB6: DODGE | BC6: DODGE | BD6: DODGE | BE6: DODGE | BF6: DODGE | BG6: DODGE | BI6: HYUNDAI | BJ6: HYUNDAI | BK6: HYUNDAI | BL6: HYUNDAI | BM6: HYUNDAI | BN6: HYUNDAI | BP6: MAZDA | BQ6: MAZDA | BR6: MAZDA | BS6: MAZDA | BT6: MAZDA | BU6: MAZDA | BW6: MITSUBISHI | BX6: MITSUBISHI | BY6: MITSUBISHI | BZ6: MITSUBISHI | CA6: MITSUBISHI | CB6: MITSUBISHI | CD6: NISSAN | CE6: NISSAN | CF6: NISSAN | CG6: NISSAN | CH6: NISSAN | CI6: NISSAN | CK6: NISSAN | CL6: NISSAN | CM6: NISSAN | CN6: NISSAN | CO6: NISSAN | CP6: NISSAN | CR6: NISSAN | CS6: NISSAN | CT6: NISSAN | CU6: NISSAN | CV6: NISSAN | CW6: NISSAN | CY6: NISSAN | CZ6: NISSAN | DA6: NISSAN | DB6: NISSAN | DC6: NISSAN | DD6: NISSAN | DF6: RENAULT | DG6: RENAULT | DH6: RENAULT | DI6: RENAULT | DJ6: RENAULT | DK6: RENAULT | DM6: RENAULT | DN6: RENAULT | DO6: RENAULT | DP6: RENAULT | DQ6: RENAULT | DR6: RENAULT | DT6: RENAULT | DU6: RENAULT | DV6: RENAULT | DW6: RENAULT | DX6: RENAULT | DY6: RENAULT | EA6: RENAULT | EB6: RENAULT | EC6: RENAULT | ED6: RENAULT | EE6: RENAULT | EF6: RENAULT | EH6: SUZUKI | EI6: SUZUKI | EJ6: SUZUKI | EK6: SUZUKI | EL6: SUZUKI | EM6: SUZUKI | EO6: TOYOTA | EP6: TOYOTA | EQ6: TOYOTA | ER6: TOYOTA | ES6: TOYOTA | ET6: TOYOTA | EV6: TOYOTA | EW6: TOYOTA | EX6: TOYOTA | EY6: TOYOTA | EZ6: TOYOTA | FA6: TOYOTA
A7: LÍNEA | C7: CANTIDAD | E7: LUV D-MAX DIESEL (7) | F7: LUV D-MAX DIESEL (7) | G7: LUV D-MAX DIESEL (7) | H7: LUV D-MAX DIESEL (7) | I7: LUV D-MAX DIESEL (7) | J7: LUV D-MAX DIESEL (7) | L7: LUV D-MAX GASOLINA (1) | M7: LUV D-MAX GASOLINA (1) | N7: LUV D-MAX GASOLINA (1) | O7: LUV D-MAX GASOLINA (1) | P7: LUV D-MAX GASOLINA (1) | Q7: LUV D-MAX GASOLINA (1) | S7: N300 (1) | T7: N300 (1) | U7: N300 (1) | V7: N300 (1) | W7: N300 (1) | X7: N300 (1) | Z7: TRAVERSE (1) | AA7: TRAVERSE (1) | AB7: TRAVERSE (1) | AC7: TRAVERSE (1) | AD7: TRAVERSE (1) | AE7: TRAVERSE (1) | AG7: TRACKER (2) | AH7: TRACKER (2) | AI7: TRACKER (2) | AJ7: TRACKER (2) | AK7: TRACKER (2) | AL7: TRACKER (2) | AN7: AVEO EMOTION (2) | AO7: AVEO EMOTION (2) | AP7: AVEO EMOTION (2) | AQ7: AVEO EMOTION (2) | AR7: AVEO EMOTION (2) | AS7: AVEO EMOTION (2) | AU7: SONIC (3) | AV7: SONIC (3) | AW7: SONIC (3) | AX7: SONIC (3) | AY7: SONIC (3) | AZ7: SONIC (3) | BB7: RAM (1) | BC7: RAM (1) | BD7: RAM (1) | BE7: RAM (1) | BF7: RAM (1) | BG7: RAM (1) | BI7: ACCENT GLS (1) | BJ7: ACCENT GLS (1) | BK7: ACCENT GLS (1) | BL7: ACCENT GLS (1) | BM7: ACCENT GLS (1) | BN7: ACCENT GLS (1) | BP7: BT50B22DC7MT 2200CC 4X2 (3) | BQ7: BT50B22DC7MT 2200CC 4X2 (3) | BR7: BT50B22DC7MT 2200CC 4X2 (3) | BS7: BT50B22DC7MT 2200CC 4X2 (3) | BT7: BT50B22DC7MT 2200CC 4X2 (3) | BU7: BT50B22DC7MT 2200CC 4X2 (3) | BW7: L200 2.5 (2) | BX7: L200 2.5 (2) | BY7: L200 2.5 (2) | BZ7: L200 2.5 (2) | CA7: L200 2.5 (2) | CB7: L200 2.5 (2) | CD7: VERSA (1) | CE7: VERSA (1) | CF7: VERSA (1) | CG7: VERSA (1) | CH7: VERSA (1) | CI7: VERSA (1) | CK7: FRONTIER D22 (5) | CL7: FRONTIER D22 (5) | CM7: FRONTIER D22 (5) | CN7: FRONTIER D22 (5) | CO7: FRONTIER D22 (5) | CP7: FRONTIER D22 (5) | CR7: NAVARA (2) | CS7: NAVARA (2) | CT7: NAVARA (2) | CU7: NAVARA (2) | CV7: NAVARA (2) | CW7: NAVARA (2) | CY7: XTRAIL (1) | CZ7: XTRAIL (1) | DA7: XTRAIL (1) | DB7: XTRAIL (1) | DC7: XTRAIL (1) | DD7: XTRAIL (1) | DF7: DUSTER DYNAMIQUE 4X4 - 2000 CC(1) | DG7: DUSTER DYNAMIQUE 4X4 - 2000 CC(1) | DH7: DUSTER DYNAMIQUE 4X4 - 2000 CC(1) | DI7: DUSTER DYNAMIQUE 4X4 - 2000 CC(1) | DJ7: DUSTER DYNAMIQUE 4X4 - 2000 CC(1) | DK7: DUSTER DYNAMIQUE 4X4 - 2000 CC(1) | DM7: DUSTER OROCH (2) | DN7: DUSTER OROCH (2) | DO7: DUSTER OROCH (2) | DP7: DUSTER OROCH (2) | DQ7: DUSTER OROCH (2) | DR7: DUSTER OROCH (2) | DT7: KOLEOS SPORTWAY (2) | DU7: KOLEOS SPORTWAY (2) | DV7: KOLEOS SPORTWAY (2) | DW7: KOLEOS SPORTWAY (2) | DX7: KOLEOS SPORTWAY (2) | DY7: KOLEOS SPORTWAY (2) | EA7: LOGAN (6) | EB7: LOGAN (6) | EC7: LOGAN (6) | ED7: LOGAN (6) | EE7: LOGAN (6) | EF7: LOGAN (6) | EH7: GRAND VITARA (1) | EI7: GRAND VITARA (1) | EJ7: GRAND VITARA (1) | EK7: GRAND VITARA (1) | EL7: GRAND VITARA (1) | EM7: GRAND VITARA (1) | EO7: FORTUNER (2) | EP7: FORTUNER (2) | EQ7: FORTUNER (2) | ER7: FORTUNER (2) | ES7: FORTUNER (2) | ET7: FORTUNER (2) | EV7: HILUX (1) | EW7: HILUX (1) | EX7: HILUX (1) | EY7: HILUX (1) | EZ7: HILUX (1) | FA7: HILUX (1)
A8: MODELO | E8: 2008 A 2020 | F8: 2008 A 2020 | G8: 2008 A 2020 | H8: 2008 A 2020 | I8: 2008 A 2020 | J8: 2008 A 2020 | L8: 2005 | M8: 2005 | N8: 2005 | O8: 2005 | P8: 2005 | Q8: 2005 | S8: 2017 | T8: 2017 | U8: 2017 | V8: 2017 | W8: 2017 | X8: 2017 | Z8: 2018 | AA8: 2018 | AB8: 2018 | AC8: 2018 | AD8: 2018 | AE8: 2018 | AG8: 2018-2020 | AH8: 2018-2020 | AI8: 2018-2020 | AJ8: 2018-2020 | AK8: 2018-2020 | AL8: 2018-2020 | AN8: 2011 A 2012 | AO8: 2011 A 2012 | AP8: 2011 A 2012 | AQ8: 2011 A 2012 | AR8: 2011 A 2012 | AS8: 2011 A 2012 | AU8: 2016 | AV8: 2016 | AW8: 2016 | AX8: 2016 | AY8: 2016 | AZ8: 2016 | BB8: 2014 | BC8: 2014 | BD8: 2014 | BE8: 2014 | BF8: 2014 | BG8: 2014 | BI8: 2011 | BJ8: 2011 | BK8: 2011 | BL8: 2011 | BM8: 2011 | BN8: 2011 | BP8: 2008 A 2011 | BQ8: 2008 A 2011 | BR8: 2008 A 2011 | BS8: 2008 A 2011 | BT8: 2008 A 2011 | BU8: 2008 A 2011 | BW8: 2017 - 2019 | BX8: 2017 - 2019 | BY8: 2017 - 2019 | BZ8: 2017 - 2019 | CA8: 2017 - 2019 | CB8: 2017 - 2019 | CD8: 2015 | CE8: 2015 | CF8: 2015 | CG8: 2015 | CH8: 2015 | CI8: 2015 | CK8: 2012-2013 | CL8: 2012-2013 | CM8: 2012-2013 | CN8: 2012-2013 | CO8: 2012-2013 | CP8: 2012-2013 | CR8: 2014-2015 | CS8: 2014-2015 | CT8: 2014-2015 | CU8: 2014-2015 | CV8: 2014-2015 | CW8: 2014-2015 | CY8: 2014 | CZ8: 2014 | DA8: 2014 | DB8: 2014 | DC8: 2014 | DD8: 2014 | DF8: 2016 | DG8: 2016 | DH8: 2016 | DI8: 2016 | DJ8: 2016 | DK8: 2016 | DM8: 2017-2020 | DN8: 2017-2020 | DO8: 2017-2020 | DP8: 2017-2020 | DQ8: 2017-2020 | DR8: 2017-2020 | DT8: 2016 | DU8: 2016 | DV8: 2016 | DW8: 2016 | DX8: 2016 | DY8: 2016 | EA8: 2012-2017-2019 | EB8: 2012-2017-2019 | EC8: 2012-2017-2019 | ED8: 2012-2017-2019 | EE8: 2012-2017-2019 | EF8: 2012-2017-2019 | EH8: 2009 | EI8: 2009 | EJ8: 2009 | EK8: 2009 | EL8: 2009 | EM8: 2009 | EO8: 2014 | EP8: 2014 | EQ8: 2014 | ER8: 2014 | ES8: 2014 | ET8: 2014 | EV8: 2013 | EW8: 2013 | EX8: 2013 | EY8: 2013 | EZ8: 2013 | FA8: 2013
A9: MUTIMARCA CAMIONETAS Y AUTOMÓVILES | E9: COSTO REPUESTO (S) | F9: COSTO REPUESTO (S) | G9: COSTO REPUESTO (S) | H9: COSTO REPUESTO (S) | I9: COSTO REPUESTO (S) | J9: COSTO REPUESTO (S) | L9: COSTO REPUESTO (S) | M9: COSTO REPUESTO (S) | N9: COSTO REPUESTO (S) | O9: COSTO REPUESTO (S) | P9: COSTO REPUESTO (S) | Q9: COSTO REPUESTO (S) | S9: COSTO REPUESTO (S) | T9: COSTO REPUESTO (S) | U9: COSTO REPUESTO (S) | V9: COSTO REPUESTO (S) | W9: COSTO REPUESTO (S) | X9: COSTO REPUESTO (S) | Z9: COSTO REPUESTO (S) | AA9: COSTO REPUESTO (S) | AB9: COSTO REPUESTO (S) | AC9: COSTO REPUESTO (S) | AD9: COSTO REPUESTO (S) | AE9: COSTO REPUESTO (S) | AG9: COSTO REPUESTO (S) | AH9: COSTO REPUESTO (S) | AI9: COSTO REPUESTO (S) | AJ9: COSTO REPUESTO (S) | AK9: COSTO REPUESTO (S) | AL9: COSTO REPUESTO (S) | AN9: COSTO REPUESTO (S) | AO9: COSTO REPUESTO (S) | AP9: COSTO REPUESTO (S) | AQ9: COSTO REPUESTO (S) | AR9: COSTO REPUESTO (S) | AS9: COSTO REPUESTO (S) | AU9: COSTO REPUESTO (S) | AV9: COSTO REPUESTO (S) | AW9: COSTO REPUESTO (S) | AX9: COSTO REPUESTO (S) | AY9: COSTO REPUESTO (S) | AZ9: COSTO REPUESTO (S) | BB9: COSTO REPUESTO (S) | BC9: COSTO REPUESTO (S) | BD9: COSTO REPUESTO (S) | BE9: COSTO REPUESTO (S) | BF9: COSTO REPUESTO (S) | BG9: COSTO REPUESTO (S) | BI9: COSTO REPUESTO (S) | BJ9: COSTO REPUESTO (S) | BK9: COSTO REPUESTO (S) | BL9: COSTO REPUESTO (S) | BM9: COSTO REPUESTO (S) | BN9: COSTO REPUESTO (S) | BP9: COSTO REPUESTO (S) | BQ9: COSTO REPUESTO (S) | BR9: COSTO REPUESTO (S) | BS9: COSTO REPUESTO (S) | BT9: COSTO REPUESTO (S) | BU9: COSTO REPUESTO (S) | BW9: COSTO REPUESTO (S) | BX9: COSTO REPUESTO (S) | BY9: COSTO REPUESTO (S) | BZ9: COSTO REPUESTO (S) | CA9: COSTO REPUESTO (S) | CB9: COSTO REPUESTO (S) | CD9: COSTO REPUESTO (S) | CE9: COSTO REPUESTO (S) | CF9: COSTO REPUESTO (S) | CG9: COSTO REPUESTO (S) | CH9: COSTO REPUESTO (S) | CI9: COSTO REPUESTO (S) | CK9: COSTO REPUESTO (S) | CL9: COSTO REPUESTO (S) | CM9: COSTO REPUESTO (S) | CN9: COSTO REPUESTO (S) | CO9: COSTO REPUESTO (S) | CP9: COSTO REPUESTO (S) | CR9: COSTO REPUESTO (S) | CS9: COSTO REPUESTO (S) | CT9: COSTO REPUESTO (S) | CU9: COSTO REPUESTO (S) | CV9: COSTO REPUESTO (S) | CW9: COSTO REPUESTO (S) | CY9: COSTO REPUESTO (S) | CZ9: COSTO REPUESTO (S) | DA9: COSTO REPUESTO (S) | DB9: COSTO REPUESTO (S) | DC9: COSTO REPUESTO (S) | DD9: COSTO REPUESTO (S) | DF9: COSTO REPUESTO (S) | DG9: COSTO REPUESTO (S) | DH9: COSTO REPUESTO (S) | DI9: COSTO REPUESTO (S) | DJ9: COSTO REPUESTO (S) | DK9: COSTO REPUESTO (S) | DM9: COSTO REPUESTO (S) | DN9: COSTO REPUESTO (S) | DO9: COSTO REPUESTO (S) | DP9: COSTO REPUESTO (S) | DQ9: COSTO REPUESTO (S) | DR9: COSTO REPUESTO (S) | DT9: COSTO REPUESTO (S) | DU9: COSTO REPUESTO (S) | DV9: COSTO REPUESTO (S) | DW9: COSTO REPUESTO (S) | DX9: COSTO REPUESTO (S) | DY9: COSTO REPUESTO (S) | EA9: COSTO REPUESTO (S) | EB9: COSTO REPUESTO (S) | EC9: COSTO REPUESTO (S) | ED9: COSTO REPUESTO (S) | EE9: COSTO REPUESTO (S) | EF9: COSTO REPUESTO (S) | EH9: COSTO REPUESTO (S) | EI9: COSTO REPUESTO (S) | EJ9: COSTO REPUESTO (S) | EK9: COSTO REPUESTO (S) | EL9: COSTO REPUESTO (S) | EM9: COSTO REPUESTO (S) | EO9: COSTO REPUESTO (S) | EP9: COSTO REPUESTO (S) | EQ9: COSTO REPUESTO (S) | ER9: COSTO REPUESTO (S) | ES9: COSTO REPUESTO (S) | ET9: COSTO REPUESTO (S) | EV9: COSTO REPUESTO (S) | EW9: COSTO REPUESTO (S) | EX9: COSTO REPUESTO (S) | EY9: COSTO REPUESTO (S) | EZ9: COSTO REPUESTO (S) | FA9: COSTO REPUESTO (S)
E10: VALOR UNITARIO INCLUIDO IVA | F10: VALOR UNITARIO INCLUIDO IVA | G10: VALOR UNITARIO INCLUIDO IVA | H10: VALOR UNITARIO INCLUIDO IVA | I10: VALOR UNITARIO INCLUIDO IVA | J10: VALOR UNITARIO INCLUIDO IVA | L10: VALOR UNITARIO INCLUIDO IVA | M10: VALOR UNITARIO INCLUIDO IVA | N10: VALOR UNITARIO INCLUIDO IVA | O10: VALOR UNITARIO INCLUIDO IVA | P10: VALOR UNITARIO INCLUIDO IVA | Q10: VALOR UNITARIO INCLUIDO IVA | S10: VALOR UNITARIO INCLUIDO IVA | T10: VALOR UNITARIO INCLUIDO IVA | U10: VALOR UNITARIO INCLUIDO IVA | V10: VALOR UNITARIO INCLUIDO IVA | W10: VALOR UNITARIO INCLUIDO IVA | X10: VALOR UNITARIO INCLUIDO IVA | Z10: VALOR UNITARIO INCLUIDO IVA | AA10: VALOR UNITARIO INCLUIDO IVA | AB10: VALOR UNITARIO INCLUIDO IVA | AC10: VALOR UNITARIO INCLUIDO IVA | AD10: VALOR UNITARIO INCLUIDO IVA | AE10: VALOR UNITARIO INCLUIDO IVA | AG10: VALOR UNITARIO INCLUIDO IVA | AH10: VALOR UNITARIO INCLUIDO IVA | AI10: VALOR UNITARIO INCLUIDO IVA | AJ10: VALOR UNITARIO INCLUIDO IVA | AK10: VALOR UNITARIO INCLUIDO IVA | AL10: VALOR UNITARIO INCLUIDO IVA | AN10: VALOR UNITARIO INCLUIDO IVA | AO10: VALOR UNITARIO INCLUIDO IVA | AP10: VALOR UNITARIO INCLUIDO IVA | AQ10: VALOR UNITARIO INCLUIDO IVA | AR10: VALOR UNITARIO INCLUIDO IVA | AS10: VALOR UNITARIO INCLUIDO IVA | AU10: VALOR UNITARIO INCLUIDO IVA | AV10: VALOR UNITARIO INCLUIDO IVA | AW10: VALOR UNITARIO INCLUIDO IVA | AX10: VALOR UNITARIO INCLUIDO IVA | AY10: VALOR UNITARIO INCLUIDO IVA | AZ10: VALOR UNITARIO INCLUIDO IVA | BB10: VALOR UNITARIO INCLUIDO IVA | BC10: VALOR UNITARIO INCLUIDO IVA | BD10: VALOR UNITARIO INCLUIDO IVA | BE10: VALOR UNITARIO INCLUIDO IVA | BF10: VALOR UNITARIO INCLUIDO IVA | BG10: VALOR UNITARIO INCLUIDO IVA | BI10: VALOR UNITARIO INCLUIDO IVA | BJ10: VALOR UNITARIO INCLUIDO IVA | BK10: VALOR UNITARIO INCLUIDO IVA | BL10: VALOR UNITARIO INCLUIDO IVA | BM10: VALOR UNITARIO INCLUIDO IVA | BN10: VALOR UNITARIO INCLUIDO IVA | BP10: VALOR UNITARIO INCLUIDO IVA | BQ10: VALOR UNITARIO INCLUIDO IVA | BR10: VALOR UNITARIO INCLUIDO IVA | BS10: VALOR UNITARIO INCLUIDO IVA | BT10: VALOR UNITARIO INCLUIDO IVA | BU10: VALOR UNITARIO INCLUIDO IVA | BW10: VALOR UNITARIO INCLUIDO IVA | BX10: VALOR UNITARIO INCLUIDO IVA | BY10: VALOR UNITARIO INCLUIDO IVA | BZ10: VALOR UNITARIO INCLUIDO IVA | CA10: VALOR UNITARIO INCLUIDO IVA | CB10: VALOR UNITARIO INCLUIDO IVA | CD10: VALOR UNITARIO INCLUIDO IVA | CE10: VALOR UNITARIO INCLUIDO IVA | CF10: VALOR UNITARIO INCLUIDO IVA | CG10: VALOR UNITARIO INCLUIDO IVA | CH10: VALOR UNITARIO INCLUIDO IVA | CI10: VALOR UNITARIO INCLUIDO IVA | CK10: VALOR UNITARIO INCLUIDO IVA | CL10: VALOR UNITARIO INCLUIDO IVA | CM10: VALOR UNITARIO INCLUIDO IVA | CN10: VALOR UNITARIO INCLUIDO IVA | CO10: VALOR UNITARIO INCLUIDO IVA | CP10: VALOR UNITARIO INCLUIDO IVA | CR10: VALOR UNITARIO INCLUIDO IVA | CS10: VALOR UNITARIO INCLUIDO IVA | CT10: VALOR UNITARIO INCLUIDO IVA | CU10: VALOR UNITARIO INCLUIDO IVA | CV10: VALOR UNITARIO INCLUIDO IVA | CW10: VALOR UNITARIO INCLUIDO IVA | CY10: VALOR UNITARIO INCLUIDO IVA | CZ10: VALOR UNITARIO INCLUIDO IVA | DA10: VALOR UNITARIO INCLUIDO IVA | DB10: VALOR UNITARIO INCLUIDO IVA | DC10: VALOR UNITARIO INCLUIDO IVA | DD10: VALOR UNITARIO INCLUIDO IVA | DF10: VALOR UNITARIO INCLUIDO IVA | DG10: VALOR UNITARIO INCLUIDO IVA | DH10: VALOR UNITARIO INCLUIDO IVA | DI10: VALOR UNITARIO INCLUIDO IVA | DJ10: VALOR UNITARIO INCLUIDO IVA | DK10: VALOR UNITARIO INCLUIDO IVA | DM10: VALOR UNITARIO INCLUIDO IVA | DN10: VALOR UNITARIO INCLUIDO IVA | DO10: VALOR UNITARIO INCLUIDO IVA | DP10: VALOR UNITARIO INCLUIDO IVA | DQ10: VALOR UNITARIO INCLUIDO IVA | DR10: VALOR UNITARIO INCLUIDO IVA | DT10: VALOR UNITARIO INCLUIDO IVA | DU10: VALOR UNITARIO INCLUIDO IVA | DV10: VALOR UNITARIO INCLUIDO IVA | DW10: VALOR UNITARIO INCLUIDO IVA | DX10: VALOR UNITARIO INCLUIDO IVA | DY10: VALOR UNITARIO INCLUIDO IVA | EA10: VALOR UNITARIO INCLUIDO IVA | EB10: VALOR UNITARIO INCLUIDO IVA | EC10: VALOR UNITARIO INCLUIDO IVA | ED10: VALOR UNITARIO INCLUIDO IVA | EE10: VALOR UNITARIO INCLUIDO IVA | EF10: VALOR UNITARIO INCLUIDO IVA | EH10: VALOR UNITARIO INCLUIDO IVA | EI10: VALOR UNITARIO INCLUIDO IVA | EJ10: VALOR UNITARIO INCLUIDO IVA | EK10: VALOR UNITARIO INCLUIDO IVA | EL10: VALOR UNITARIO INCLUIDO IVA | EM10: VALOR UNITARIO INCLUIDO IVA | EO10: VALOR UNITARIO INCLUIDO IVA | EP10: VALOR UNITARIO INCLUIDO IVA | EQ10: VALOR UNITARIO INCLUIDO IVA | ER10: VALOR UNITARIO INCLUIDO IVA | ES10: VALOR UNITARIO INCLUIDO IVA | ET10: VALOR UNITARIO INCLUIDO IVA | EV10: VALOR UNITARIO INCLUIDO IVA | EW10: VALOR UNITARIO INCLUIDO IVA | EX10: VALOR UNITARIO INCLUIDO IVA | EY10: VALOR UNITARIO INCLUIDO IVA | EZ10: VALOR UNITARIO INCLUIDO IVA | FA10: VALOR UNITARIO INCLUIDO IVA
A11: ÌTEM | B11: SISTEMA DE FRENOS
A12: 1 | B12: Juego de Bandas Remachadas (Dos pares) | C12: 1 | E12: 93193.759 | F12: 137833 | G12: 41032.435 | H12: =+IF(E12="N/A","N/A",MIN(E12:G12)) -> 41032.435 | I12: =+IF(E12="N/A","N/A",ROUND(AVERAGE(E12:G12),0)) -> 90686 | J12: =+IF(H12="N/A","N/A",AVERAGE(H12:I12)) -> 65859.218 | L12: 96455.54 | M12: 137833 | N12: N/A | O12: =+IF(L12="N/A","N/A",MIN(L12:N12)) -> 96455.54 | P12: =+IF(L12="N/A","N/A",ROUND(AVERAGE(L12:N12),0)) -> 117144 | Q12: =+IF(O12="N/A","N/A",AVERAGE(O12:P12)) -> 106799.77 | S12: 81541.411 | T12: 118536.38 | U12: 35902.004 | V12: =+IF(S12="N/A","N/A",MIN(S12:U12)) -> 35902.004 | W12: =+IF(S12="N/A","N/A",ROUND(AVERAGE(S12:U12),0)) -> 78660 | X12: =+IF(V12="N/A","N/A",AVERAGE(V12:W12)) -> 57281.002 | Z12: 178151.45 | AA12: 261882.7 | AB12: 78438.597 | AC12: =+IF(Z12="N/A","N/A",MIN(Z12:AB12)) -> 78438.597 | AD12: =+IF(Z12="N/A","N/A",ROUND(AVERAGE(Z12:AB12),0)) -> 172824 | AE12: =+IF(AC12="N/A","N/A",AVERAGE(AC12:AD12)) -> 125631.3 | AG12: 238008.28 | AH12: 130941.35 | AI12: 104793.06 | AJ12: =+IF(AG12="N/A","N/A",MIN(AG12:AI12)) -> 104793.06 | AK12: =+IF(AG12="N/A","N/A",ROUND(AVERAGE(AG12:AI12),0)) -> 157914 | AL12: =+IF(AJ12="N/A","N/A",AVERAGE(AJ12:AK12)) -> 131353.53 | AN12: 209006.37 | AO12: 128322.52 | AP12: 92023.765 | AQ12: =+IF(AN12="N/A","N/A",MIN(AN12:AP12)) -> 92023.765 | AR12: =+IF(AN12="N/A","N/A",ROUND(AVERAGE(AN12:AP12),0)) -> 143118 | AS12: =+IF(AQ12="N/A","N/A",AVERAGE(AQ12:AR12)) -> 117570.88 | AU12: 148296.96 | AV12: 146287.68 | AW12: 65293.915 | AX12: =+IF(AU12="N/A","N/A",MIN(AU12:AW12)) -> 65293.915 | AY12: =+IF(AU12="N/A","N/A",ROUND(AVERAGE(AU12:AW12),0)) -> 119960 | AZ12: =+IF(AX12="N/A","N/A",AVERAGE(AX12:AY12)) -> 92626.957 | BB12: 291298.54 | BC12: 277595.66 | BD12: 128256.32 | BE12: =+IF(BB12="N/A","N/A",MIN(BB12:BD12)) -> 128256.32 | BF12: =+IF(BB12="N/A","N/A",ROUND(AVERAGE(BB12:BD12),0)) -> 232384 | BG12: =+IF(BE12="N/A","N/A",AVERAGE(BE12:BF12)) -> 180320.16 | BI12: 145593.89 | BJ12: 136047.54 | BK12: 64103.777 | BL12: =+IF(BI12="N/A","N/A",MIN(BI12:BK12)) -> 64103.777 | BM12: =+IF(BI12="N/A","N/A",ROUND(AVERAGE(BI12:BK12),0)) -> 115248 | BN12: =+IF(BL12="N/A","N/A",AVERAGE(BL12:BM12)) -> 89675.888 | BP12: 225364.3 | BQ12: 135076.34 | BR12: 99226.022 | BS12: =+IF(BP12="N/A","N/A",MIN(BP12:BR12)) -> 99226.022 | BT12: =+IF(BP12="N/A","N/A",ROUND(AVERAGE(BP12:BR12),0)) -> 153222 | BU12: =+IF(BS12="N/A","N/A",AVERAGE(BS12:BT12)) -> 126224.01 | BW12: 249057.79 | BX12: 155337.79 | BY12: 109658.07 | BZ12: =+IF(BW12="N/A","N/A",MIN(BW12:BY12)) -> 109658.07 | CA12: =+IF(BW12="N/A","N/A",ROUND(AVERAGE(BW12:BY12),0)) -> 171351 | CB12: =+IF(BZ12="N/A","N/A",AVERAGE(BZ12:CA12)) -> 140504.54 | CD12: 153501.53 | CE12: 179582.75 | CF12: 67585.444 | CG12: =+IF(CD12="N/A","N/A",MIN(CD12:CF12)) -> 67585.444 | CH12: =+IF(CD12="N/A","N/A",ROUND(AVERAGE(CD12:CF12),0)) -> 133557 | CI12: =+IF(CG12="N/A","N/A",AVERAGE(CG12:CH12)) -> 100571.22 | CK12: 264663.47 | CL12: 151616.3 | CM12: 116529.12 | CN12: =+IF(CK12="N/A","N/A",MIN(CK12:CM12)) -> 116529.12 | CO12: =+IF(CK12="N/A","N/A",ROUND(AVERAGE(CK12:CM12),0)) -> 177603 | CP12: =+IF(CN12="N/A","N/A",AVERAGE(CN12:CO12)) -> 147066.06 | CR12: 283437.99 | CS12: 165261.77 | CT12: 124795.38 | CU12: =+IF(CR12="N/A","N/A",MIN(CR12:CT12)) -> 124795.38 | CV12: =+IF(CR12="N/A","N/A",ROUND(AVERAGE(CR12:CT12),0)) -> 191165 | CW12: =+IF(CU12="N/A","N/A",AVERAGE(CU12:CV12)) -> 157980.19 | CY12: 239630.77 | CZ12: 161956.53 | DA12: 105507.43 | DB12: =+IF(CY12="N/A","N/A",MIN(CY12:DA12)) -> 105507.43 | DC12: =+IF(CY12="N/A","N/A",ROUND(AVERAGE(CY12:DA12),0)) -> 169032 | DD12: =+IF(DB12="N/A","N/A",AVERAGE(DB12:DC12)) -> 137269.72 | DF12: 192462.24 | DG12: 158717.4 | DH12: 84739.521 | DI12: =+IF(DF12="N/A","N/A",MIN(DF12:DH12)) -> 84739.521 | DJ12: =+IF(DF12="N/A","N/A",ROUND(AVERAGE(DF12:DH12),0)) -> 145306 | DK12: =+IF(DI12="N/A","N/A",AVERAGE(DI12:DJ12)) -> 115022.76 | DM12: 219604.62 | DN12: 184112.19 | DO12: 96690.084 | DP12: =+IF(DM12="N/A","N/A",MIN(DM12:DO12)) -> 96690.084 | DQ12: =+IF(DM12="N/A","N/A",ROUND(AVERAGE(DM12:DO12),0)) -> 166802 | DR12: =+IF(DP12="N/A","N/A",AVERAGE(DP12:DQ12)) -> 131746.04 | DT12: 219628.52 | DU12: 237504.72 | DV12: 96700.607 | DW12: =+IF(DT12="N/A","N/A",MIN(DT12:DV12)) -> 96700.607 | DX12: =+IF(DT12="N/A","N/A",ROUND(AVERAGE(DT12:DV12),0)) -> 184611 | DY12: =+IF(DW12="N/A","N/A",AVERAGE(DW12:DX12)) -> 140655.8 | EA12: 113221.42 | EB12: 158717.4 | EC12: 49850.448 | ED12: =+IF(EA12="N/A","N/A",MIN(EA12:EC12)) -> 49850.448 | EE12: =+IF(EA12="N/A","N/A",ROUND(AVERAGE(EA12:EC12),0)) -> 107263 | EF12: =+IF(ED12="N/A","N/A",AVERAGE(ED12:EE12)) -> 78556.724 | EH12: 243636.01 | EI12: 199983.93 | EJ12: 107270.9 | EK12: =+IF(EH12="N/A","N/A",MIN(EH12:EJ12)) -> 107270.9 | EL12: =+IF(EH12="N/A","N/A",ROUND(AVERAGE(EH12:EJ12),0)) -> 183630 | EM12: =+IF(EK12="N/A","N/A",AVERAGE(EK12:EL12)) -> 145450.45 | EO12: 285490.67 | EP12: 337972.83 | EQ12: 125699.16 | ER12: =+IF(EO12="N/A","N/A",MIN(EO12:EQ12)) -> 125699.16 | ES12: =+IF(EO12="N/A","N/A",ROUND(AVERAGE(EO12:EQ12),0)) -> 249721 | ET12: =+IF(ER12="N/A","N/A",AVERAGE(ER12:ES12)) -> 187710.08 | EV12: 273811.42 | EW12: 327833.65 | EX12: 120556.88 | EY12: =+IF(EV12="N/A","N/A",MIN(EV12:EX12)) -> 120556.88 | EZ12: =+IF(EV12="N/A","N/A",ROUND(AVERAGE(EV12:EX12),0)) -> 240734 | FA12: =+IF(EY12="N/A","N/A",AVERAGE(EY12:EZ12)) -> 180645.44
A13: 2 | B13: Juego De Bandas Frenos (Dos pares) | C13: 1 | E13: 181778.97 | F13: 396774 | G13: 80035.765 | H13: =+IF(E13="N/A","N/A",MIN(E13:G13)) -> 80035.765 | I13: =+IF(E13="N/A","N/A",ROUND(AVERAGE(E13:G13),0)) -> 219530 | J13: =+IF(H13="N/A","N/A",AVERAGE(H13:I13)) -> 149782.88 | L13: 188141.23 | M13: 396774 | N13: N/A | O13: =+IF(L13="N/A","N/A",MIN(L13:N13)) -> 188141.23 | P13: =+IF(L13="N/A","N/A",ROUND(AVERAGE(L13:N13),0)) -> 292458 | Q13: =+IF(O13="N/A","N/A",AVERAGE(O13:P13)) -> 240299.62 | S13: 149322.84 | T13: 341225.64 | U13: 65745.6 | V13: =+IF(S13="N/A","N/A",MIN(S13:U13)) -> 65745.6 | W13: =+IF(S13="N/A","N/A",ROUND(AVERAGE(S13:U13),0)) -> 185431 | X13: =+IF(V13="N/A","N/A",AVERAGE(V13:W13)) -> 125588.3 | Z13: 323201.91 | AA13: 753870.6 | AB13: 142303.11 | AC13: =+IF(Z13="N/A","N/A",MIN(Z13:AB13)) -> 142303.11 | AD13: =+IF(Z13="N/A","N/A",ROUND(AVERAGE(Z13:AB13),0)) -> 406459 | AE13: =+IF(AC13="N/A","N/A",AVERAGE(AC13:AD13)) -> 274381.05 | AG13: 405608.61 | AH13: 376935.3 | AI13: 178586.09 | AJ13: =+IF(AG13="N/A","N/A",MIN(AG13:AI13)) -> 178586.09 | AK13: =+IF(AG13="N/A","N/A",ROUND(AVERAGE(AG13:AI13),0)) -> 320377 | AL13: =+IF(AJ13="N/A","N/A",AVERAGE(AJ13:AK13)) -> 249481.55 | AN13: 332903.32 | AO13: 369396.59 | AP13: 146574.56 | AQ13: =+IF(AN13="N/A","N/A",MIN(AN13:AP13)) -> 146574.56 | AR13: =+IF(AN13="N/A","N/A",ROUND(AVERAGE(AN13:AP13),0)) -> 282958 | AS13: =+IF(AQ13="N/A","N/A",AVERAGE(AQ13:AR13)) -> 214766.28 | AU13: 205050.65 | AV13: 421112.12 | AW13: 90282.094 | AX13: =+IF(AU13="N/A","N/A",MIN(AU13:AW13)) -> 90282.094 | AY13: =+IF(AU13="N/A","N/A",ROUND(AVERAGE(AU13:AW13),0)) -> 238815 | AZ13: =+IF(AX13="N/A","N/A",AVERAGE(AX13:AY13)) -> 164548.55 | BB13: 377860.66 | BC13: 799102.84 | BD13: 166368.9 | BE13: =+IF(BB13="N/A","N/A",MIN(BB13:BD13)) -> 166368.9 | BF13: =+IF(BB13="N/A","N/A",ROUND(AVERAGE(BB13:BD13),0)) -> 447777 | BG13: =+IF(BE13="N/A","N/A",AVERAGE(BE13:BF13)) -> 307072.95 | BI13: 204017.48 | BJ13: 391634.27 | BK13: 89827.195 | BL13: =+IF(BI13="N/A","N/A",MIN(BI13:BK13)) -> 89827.195 | BM13: =+IF(BI13="N/A","N/A",ROUND(AVERAGE(BI13:BK13),0)) -> 228493 | BN13: =+IF(BL13="N/A","N/A",AVERAGE(BL13:BM13)) -> 159160.1 | BP13: 331167.66 | BQ13: 388838.52 | BR13: 145810.36 | BS13: =+IF(BP13="N/A","N/A",MIN(BP13:BR13)) -> 145810.36 | BT13: =+IF(BP13="N/A","N/A",ROUND(AVERAGE(BP13:BR13),0)) -> 288606 | BU13: =+IF(BS13="N/A","N/A",AVERAGE(BS13:BT13)) -> 217208.18 | BW13: 340223.87 | BX13: 447164.3 | BY13: 149797.73 | BZ13: =+IF(BW13="N/A","N/A",MIN(BW13:BY13)) -> 149797.73 | CA13: =+IF(BW13="N/A","N/A",ROUND(AVERAGE(BW13:BY13),0)) -> 312395 | CB13: =+IF(BZ13="N/A","N/A",AVERAGE(BZ13:CA13)) -> 231096.37 | CD13: 254473.89 | CE13: 516957.24 | CF13: 112042.73 | CG13: =+IF(CD13="N/A","N/A",MIN(CD13:CF13)) -> 112042.73 | CH13: =+IF(CD13="N/A","N/A",ROUND(AVERAGE(CD13:CF13),0)) -> 294491 | CI13: =+IF(CG13="N/A","N/A",AVERAGE(CG13:CH13)) -> 203266.87 | CK13: 446361.53 | CL13: 436451.4 | CM13: 196529.26 | CN13: =+IF(CK13="N/A","N/A",MIN(CK13:CM13)) -> 196529.26 | CO13: =+IF(CK13="N/A","N/A",ROUND(AVERAGE(CK13:CM13),0)) -> 359781 | CP13: =+IF(CN13="N/A","N/A",AVERAGE(CN13:CO13)) -> 278155.13 | CR13: 475065.76 | CS13: 475732.03 | CT13: 209167.49 | CU13: =+IF(CR13="N/A","N/A",MIN(CR13:CT13)) -> 209167.49 | CV13: =+IF(CR13="N/A","N/A",ROUND(AVERAGE(CR13:CT13),0)) -> 386655 | CW13: =+IF(CU13="N/A","N/A",AVERAGE(CU13:CV13)) -> 297911.25 | CY13: 408089.22 | CZ13: 466217.39 | DA13: 179678.28 | DB13: =+IF(CY13="N/A","N/A",MIN(CY13:DA13)) -> 179678.28 | DC13: =+IF(CY13="N/A","N/A",ROUND(AVERAGE(CY13:DA13),0)) -> 351328 | DD13: =+IF(DB13="N/A","N/A",AVERAGE(DB13:DC13)) -> 265503.14 | DF13: 304081.03 | DG13: 456893.04 | DH13: 133884.35 | DI13: =+IF(DF13="N/A","N/A",MIN(DF13:DH13)) -> 133884.35 | DJ13: =+IF(DF13="N/A","N/A",ROUND(AVERAGE(DF13:DH13),0)) -> 298286 | DK13: =+IF(DI13="N/A","N/A",AVERAGE(DI13:DJ13)) -> 216085.17 | DM13: 377471.38 | DN13: 529995.92 | DO13: 166197.5 | DP13: =+IF(DM13="N/A","N/A",MIN(DM13:DO13)) -> 166197.5 | DQ13: =+IF(DM13="N/A","N/A",ROUND(AVERAGE(DM13:DO13),0)) -> 357888 | DR13: =+IF(DP13="N/A","N/A",AVERAGE(DP13:DQ13)) -> 262042.75 | DT13: 321969.21 | DU13: 683694.74 | DV13: 141760.36 | DW13: =+IF(DT13="N/A","N/A",MIN(DT13:DV13)) -> 141760.36 | DX13: =+IF(DT13="N/A","N/A",ROUND(AVERAGE(DT13:DV13),0)) -> 382475 | DY13: =+IF(DW13="N/A","N/A",AVERAGE(DW13:DX13)) -> 262117.68 | EA13: 169807.05 | EB13: 456893.04 | EC13: 74764.629 | ED13: =+IF(EA13="N/A","N/A",MIN(EA13:EC13)) -> 74764.629 | EE13: =+IF(EA13="N/A","N/A",ROUND(AVERAGE(EA13:EC13),0)) -> 233822 | EF13: =+IF(ED13="N/A","N/A",AVERAGE(ED13:EE13)) -> 154293.31 | EH13: 414212.79 | EI13: 575685.23 | EJ13: 182374.44 | EK13: =+IF(EH13="N/A","N/A",MIN(EH13:EJ13)) -> 182374.44 | EL13: =+IF(EH13="N/A","N/A",ROUND(AVERAGE(EH13:EJ13),0)) -> 390757 | EM13: =+IF(EK13="N/A","N/A",AVERAGE(EK13:EL13)) -> 286565.72 | EO13: 478204.09 | EP13: 972908.03 | EQ13: 210549.27 | ER13: =+IF(EO13="N/A","N/A",MIN(EO13:EQ13)) -> 210549.27 | ES13: =+IF(EO13="N/A","N/A",ROUND(AVERAGE(EO13:EQ13),0)) -> 553887 | ET13: =+IF(ER13="N/A","N/A",AVERAGE(ER13:ES13)) -> 382218.14 | EV13: 460347.76 | EW13: 943720.79 | EX13: 202687.28 | EY13: =+IF(EV13="N/A","N/A",MIN(EV13:EX13)) -> 202687.28 | EZ13: =+IF(EV13="N/A","N/A",ROUND(AVERAGE(EV13:EX13),0)) -> 535585 | FA13: =+IF(EY13="N/A","N/A",AVERAGE(EY13:EZ13)) -> 369136.14
A14: 3 | B14: Cilindro De Freno | C14: 1 | E14: 153498.1 | F14: 215894 | G14: 67583.934 | H14: =+IF(E14="N/A","N/A",MIN(E14:G14)) -> 67583.934 | I14: =+IF(E14="N/A","N/A",ROUND(AVERAGE(E14:G14),0)) -> 145659 | J14: =+IF(H14="N/A","N/A",AVERAGE(H14:I14)) -> 106621.47 | L14: 158870.53 | M14: 215894 | N14: N/A | O14: =+IF(L14="N/A","N/A",MIN(L14:N14)) -> 158870.53 | P14: =+IF(L14="N/A","N/A",ROUND(AVERAGE(L14:N14),0)) -> 187382 | Q14: =+IF(O14="N/A","N/A",AVERAGE(O14:P14)) -> 173126.27 | S14: 135799.59 | T14: 185668.84 | U14: 59791.427 | V14: =+IF(S14="N/A","N/A",MIN(S14:U14)) -> 59791.427 | W14: =+IF(S14="N/A","N/A",ROUND(AVERAGE(S14:U14),0)) -> 127087 | X14: =+IF(V14="N/A","N/A",AVERAGE(V14:W14)) -> 93439.214 | Z14: 296472.57 | AA14: 410198.6 | AB14: 130534.4 | AC14: =+IF(Z14="N/A","N/A",MIN(Z14:AB14)) -> 130534.4 | AD14: =+IF(Z14="N/A","N/A",ROUND(AVERAGE(Z14:AB14),0)) -> 279069 | AE14: =+IF(AC14="N/A","N/A",AVERAGE(AC14:AD14)) -> 204801.7 | AG14: 183223.47 | AH14: 205099.3 | AI14: 80671.767 | AJ14: =+IF(AG14="N/A","N/A",MIN(AG14:AI14)) -> 80671.767 | AK14: =+IF(AG14="N/A","N/A",ROUND(AVERAGE(AG14:AI14),0)) -> 156332 | AL14: =+IF(AJ14="N/A","N/A",AVERAGE(AJ14:AK14)) -> 118501.88 | AN14: 149907.89 | AO14: 200997.31 | AP14: 66003.196 | AQ14: =+IF(AN14="N/A","N/A",MIN(AN14:AP14)) -> 66003.196 | AR14: =+IF(AN14="N/A","N/A",ROUND(AVERAGE(AN14:AP14),0)) -> 138969 | AS14: =+IF(AQ14="N/A","N/A",AVERAGE(AQ14:AR14)) -> 102486.1 | AU14: 154043.39 | AV14: 229136.94 | AW14: 67824.022 | AX14: =+IF(AU14="N/A","N/A",MIN(AU14:AW14)) -> 67824.022 | AY14: =+IF(AU14="N/A","N/A",ROUND(AVERAGE(AU14:AW14),0)) -> 150335 | AZ14: =+IF(AX14="N/A","N/A",AVERAGE(AX14:AY14)) -> 109079.51 | BB14: 182866.45 | BC14: 434810.52 | BD14: 80514.576 | BE14: =+IF(BB14="N/A","N/A",MIN(BB14:BD14)) -> 80514.576 | BF14: =+IF(BB14="N/A","N/A",ROUND(AVERAGE(BB14:BD14),0)) -> 232731 | BG14: =+IF(BE14="N/A","N/A",AVERAGE(BE14:BF14)) -> 156622.79 | BI14: 153177.5 | BJ14: 213097.35 | BK14: 67442.776 | BL14: =+IF(BI14="N/A","N/A",MIN(BI14:BK14)) -> 67442.776 | BM14: =+IF(BI14="N/A","N/A",ROUND(AVERAGE(BI14:BK14),0)) -> 144573 | BN14: =+IF(BL14="N/A","N/A",AVERAGE(BL14:BM14)) -> 106007.89 | BP14: 133239.63 | BQ14: 211576.12 | BR14: 58664.298 | BS14: =+IF(BP14="N/A","N/A",MIN(BP14:BR14)) -> 58664.298 | BT14: =+IF(BP14="N/A","N/A",ROUND(AVERAGE(BP14:BR14),0)) -> 134493 | BU14: =+IF(BS14="N/A","N/A",AVERAGE(BS14:BT14)) -> 96578.649 | BW14: 140829.54 | BX14: 243312.54 | BY14: 62006.071 | BZ14: =+IF(BW14="N/A","N/A",MIN(BW14:BY14)) -> 62006.071 | CA14: =+IF(BW14="N/A","N/A",ROUND(AVERAGE(BW14:BY14),0)) -> 148716 | CB14: =+IF(BZ14="N/A","N/A",AVERAGE(BZ14:CA14)) -> 105361.04 | CD14: 238872.35 | CE14: 281288.51 | CF14: 105173.5 | CG14: =+IF(CD14="N/A","N/A",MIN(CD14:CF14)) -> 105173.5 | CH14: =+IF(CD14="N/A","N/A",ROUND(AVERAGE(CD14:CF14),0)) -> 208445 | CI14: =+IF(CG14="N/A","N/A",AVERAGE(CG14:CH14)) -> 156809.25 | CK14: 217378.06 | CL14: 237483.4 | CM14: 95709.747 | CN14: =+IF(CK14="N/A","N/A",MIN(CK14:CM14)) -> 95709.747 | CO14: =+IF(CK14="N/A","N/A",ROUND(AVERAGE(CK14:CM14),0)) -> 183524 | CP14: =+IF(CN14="N/A","N/A",AVERAGE(CN14:CO14)) -> 139616.87 | CR14: 232478.25 | CS14: 258856.91 | CT14: 102358.24 | CU14: =+IF(CR14="N/A","N/A",MIN(CR14:CT14)) -> 102358.24 | CV14: =+IF(CR14="N/A","N/A",ROUND(AVERAGE(CR14:CT14),0)) -> 197898 | CW14: =+IF(CU14="N/A","N/A",AVERAGE(CU14:CV14)) -> 150128.12 | CY14: 185302.44 | CZ14: 253679.77 | DA14: 81587.122 | DB14: =+IF(CY14="N/A","N/A",MIN(CY14:DA14)) -> 81587.122 | DC14: =+IF(CY14="N/A","N/A",ROUND(AVERAGE(CY14:DA14),0)) -> 173523 | DD14: =+IF(DB14="N/A","N/A",AVERAGE(DB14:DC14)) -> 127555.06 | DF14: 125862.77 | DG14: 248606.17 | DH14: 55416.329 | DI14: =+IF(DF14="N/A","N/A",MIN(DF14:DH14)) -> 55416.329 | DJ14: =+IF(DF14="N/A","N/A",ROUND(AVERAGE(DF14:DH14),0)) -> 143295 | DK14: =+IF(DI14="N/A","N/A",AVERAGE(DI14:DJ14)) -> 99355.665 | DM14: 159641.96 | DN14: 288383.16 | DO14: 70289.023 | DP14: =+IF(DM14="N/A","N/A",MIN(DM14:DO14)) -> 70289.023 | DQ14: =+IF(DM14="N/A","N/A",ROUND(AVERAGE(DM14:DO14),0)) -> 172771 | DR14: =+IF(DP14="N/A","N/A",AVERAGE(DP14:DQ14)) -> 121530.01 | DT14: 138414.8 | DU14: 372014.28 | DV14: 60942.884 | DW14: =+IF(DT14="N/A","N/A",MIN(DT14:DV14)) -> 60942.884 | DX14: =+IF(DT14="N/A","N/A",ROUND(AVERAGE(DT14:DV14),0)) -> 190457 | DY14: =+IF(DW14="N/A","N/A",AVERAGE(DW14:DX14)) -> 125699.94 | EA14: 147300.91 | EB14: 248606.17 | EC14: 64855.362 | ED14: =+IF(EA14="N/A","N/A",MIN(EA14:EC14)) -> 64855.362 | EE14: =+IF(EA14="N/A","N/A",ROUND(AVERAGE(EA14:EC14),0)) -> 153587 | EF14: =+IF(ED14="N/A","N/A",AVERAGE(ED14:EE14)) -> 109221.18 | EH14: 190434.54 | EI14: 313243.78 | EJ14: 83846.742 | EK14: =+IF(EH14="N/A","N/A",MIN(EH14:EJ14)) -> 83846.742 | EL14: =+IF(EH14="N/A","N/A",ROUND(AVERAGE(EH14:EJ14),0)) -> 195842 | EM14: =+IF(EK14="N/A","N/A",AVERAGE(EK14:EL14)) -> 139844.37 | EO14: 233354.99 | EP14: 529381.98 | EQ14: 102744.26 | ER14: =+IF(EO14="N/A","N/A",MIN(EO14:EQ14)) -> 102744.26 | ES14: =+IF(EO14="N/A","N/A",ROUND(AVERAGE(EO14:EQ14),0)) -> 288494 | ET14: =+IF(ER14="N/A","N/A",AVERAGE(ER14:ES14)) -> 195619.13 | EV14: 228366.59 | EW14: 513500.52 | EX14: 100547.91 | EY14: =+IF(EV14="N/A","N/A",MIN(EV14:EX14)) -> 100547.91 | EZ14: =+IF(EV14="N/A","N/A",ROUND(AVERAGE(EV14:EX14),0)) -> 280805 | FA14: =+IF(EY14="N/A","N/A",AVERAGE(EY14:EZ14)) -> 190676.45
A15: 4 | B15: Discos De Frenos Delanteros (Par) | C15: 1 | E15: 462454.37 | F15: 486773 | G15: 203614.81 | H15: =+IF(E15="N/A","N/A",MIN(E15:G15)) -> 203614.81 | I15: =+IF(E15="N/A","N/A",ROUND(AVERAGE(E15:G15),0)) -> 384281 | J15: =+IF(H15="N/A","N/A",AVERAGE(H15:I15)) -> 293947.9 | L15: 478640.28 | M15: 486773 | N15: N/A | O15: =+IF(L15="N/A","N/A",MIN(L15:N15)) -> 478640.28 | P15: =+IF(L15="N/A","N/A",ROUND(AVERAGE(L15:N15),0)) -> 482707 | Q15: =+IF(O15="N/A","N/A",AVERAGE(O15:P15)) -> 480673.64 | S15: 364804.39 | T15: 418624.78 | U15: 160620.33 | V15: =+IF(S15="N/A","N/A",MIN(S15:U15)) -> 160620.33 | W15: =+IF(S15="N/A","N/A",ROUND(AVERAGE(S15:U15),0)) -> 314683 | X15: =+IF(V15="N/A","N/A",AVERAGE(V15:W15)) -> 237651.67 | Z15: 888660.14 | AA15: 924868.7 | AB15: 391269.65 | AC15: =+IF(Z15="N/A","N/A",MIN(Z15:AB15)) -> 391269.65 | AD15: =+IF(Z15="N/A","N/A",ROUND(AVERAGE(Z15:AB15),0)) -> 734933 | AE15: =+IF(AC15="N/A","N/A",AVERAGE(AC15:AD15)) -> 563101.33 | AG15: 668580.25 | AH15: 462434.35 | AI15: 294370.31 | AJ15: =+IF(AG15="N/A","N/A",MIN(AG15:AI15)) -> 294370.31 | AK15: =+IF(AG15="N/A","N/A",ROUND(AVERAGE(AG15:AI15),0)) -> 475128 | AL15: =+IF(AJ15="N/A","N/A",AVERAGE(AJ15:AK15)) -> 384749.16 | AN15: 328682.28 | AO15: 453185.66 | AP15: 144716.07 | AQ15: =+IF(AN15="N/A","N/A",MIN(AN15:AP15)) -> 144716.07 | AR15: =+IF(AN15="N/A","N/A",ROUND(AVERAGE(AN15:AP15),0)) -> 308861 | AS15: =+IF(AQ15="N/A","N/A",AVERAGE(AQ15:AR15)) -> 226788.54 | AU15: 415972.87 | AV15: 516631.66 | AW15: 183149.39 | AX15: =+IF(AU15="N/A","N/A",MIN(AU15:AW15)) -> 183149.39 | AY15: =+IF(AU15="N/A","N/A",ROUND(AVERAGE(AU15:AW15),0)) -> 371918 | AZ15: =+IF(AX15="N/A","N/A",AVERAGE(AX15:AY15)) -> 277533.7 | BB15: 690971.6 | BC15: 980360.82 | BD15: 304229.04 | BE15: =+IF(BB15="N/A","N/A",MIN(BB15:BD15)) -> 304229.04 | BF15: =+IF(BB15="N/A","N/A",ROUND(AVERAGE(BB15:BD15),0)) -> 658520 | BG15: =+IF(BE15="N/A","N/A",AVERAGE(BE15:BF15)) -> 481374.52 | BI15: 412621.21 | BJ15: 480467.44 | BK15: 181673.68 | BL15: =+IF(BI15="N/A","N/A",MIN(BI15:BK15)) -> 181673.68 | BM15: =+IF(BI15="N/A","N/A",ROUND(AVERAGE(BI15:BK15),0)) -> 358254 | BN15: =+IF(BL15="N/A","N/A",AVERAGE(BL15:BM15)) -> 269963.84 | BP15: 412957.87 | BQ15: 477037.54 | BR15: 181821.91 | BS15: =+IF(BP15="N/A","N/A",MIN(BP15:BR15)) -> 181821.91 | BT15: =+IF(BP15="N/A","N/A",ROUND(AVERAGE(BP15:BR15),0)) -> 357272 | BU15: =+IF(BS15="N/A","N/A",AVERAGE(BS15:BT15)) -> 269546.95 | BW15: 442336.55 | BX15: 548593.17 | BY15: 194757.1 | BZ15: =+IF(BW15="N/A","N/A",MIN(BW15:BY15)) -> 194757.1 | CA15: =+IF(BW15="N/A","N/A",ROUND(AVERAGE(BW15:BY15),0)) -> 395229 | CB15: =+IF(BZ15="N/A","N/A",AVERAGE(BZ15:CA15)) -> 294993.05 | CD15: 763023.99 | CE15: 634217.02 | CF15: 335953.1 | CG15: =+IF(CD15="N/A","N/A",MIN(CD15:CF15)) -> 335953.1 | CH15: =+IF(CD15="N/A","N/A",ROUND(AVERAGE(CD15:CF15),0)) -> 577731 | CI15: =+IF(CG15="N/A","N/A",AVERAGE(CG15:CH15)) -> 456842.05 | CK15: 746928.11 | CL15: 535450.3 | CM15: 328866.22 | CN15: =+IF(CK15="N/A","N/A",MIN(CK15:CM15)) -> 328866.22 | CO15: =+IF(CK15="N/A","N/A",ROUND(AVERAGE(CK15:CM15),0)) -> 537082 | CP15: =+IF(CN15="N/A","N/A",AVERAGE(CN15:CO15)) -> 432974.11 | CR15: 777967.32 | CS15: 583640.83 | CT15: 342532.53 | CU15: =+IF(CR15="N/A","N/A",MIN(CR15:CT15)) -> 342532.53 | CV15: =+IF(CR15="N/A","N/A",ROUND(AVERAGE(CR15:CT15),0)) -> 568047 | CW15: =+IF(CU15="N/A","N/A",AVERAGE(CU15:CV15)) -> 455289.76 | CY15: 676627.46 | CZ15: 571968.01 | DA15: 297913.43 | DB15: =+IF(CY15="N/A","N/A",MIN(CY15:DA15)) -> 297913.43 | DC15: =+IF(CY15="N/A","N/A",ROUND(AVERAGE(CY15:DA15),0)) -> 515503 | DD15: =+IF(DB15="N/A","N/A",AVERAGE(DB15:DC15)) -> 406708.22 | DF15: 391905.96 | DG15: 560528.65 | DH15: 172552.93 | DI15: =+IF(DF15="N/A","N/A",MIN(DF15:DH15)) -> 172552.93 | DJ15: =+IF(DF15="N/A","N/A",ROUND(AVERAGE(DF15:DH15),0)) -> 374996 | DK15: =+IF(DI15="N/A","N/A",AVERAGE(DI15:DJ15)) -> 273774.46 | DM15: 577301.97 | DN15: 650213.23 | DO15: 254181.25 | DP15: =+IF(DM15="N/A","N/A",MIN(DM15:DO15)) -> 254181.25 | DQ15: =+IF(DM15="N/A","N/A",ROUND(AVERAGE(DM15:DO15),0)) -> 493899 | DR15: =+IF(DP15="N/A","N/A",AVERAGE(DP15:DQ15)) -> 374040.12 | DT15: 427612.84 | DU15: 838775.07 | DV15: 188274.37 | DW15: =+IF(DT15="N/A","N/A",MIN(DT15:DV15)) -> 188274.37 | DX15: =+IF(DT15="N/A","N/A",ROUND(AVERAGE(DT15:DV15),0)) -> 484887 | DY15: =+IF(DW15="N/A","N/A",AVERAGE(DW15:DX15)) -> 336580.69 | EA15: 394248.1 | EB15: 560528.65 | EC15: 173584.15 | ED15: =+IF(EA15="N/A","N/A",MIN(EA15:EC15)) -> 173584.15 | EE15: =+IF(EA15="N/A","N/A",ROUND(AVERAGE(EA15:EC15),0)) -> 376120 | EF15: =+IF(ED15="N/A","N/A",AVERAGE(ED15:EE15)) -> 274852.08 | EH15: 696492.56 | EI15: 706266.1 | EJ15: 306659.87 | EK15: =+IF(EH15="N/A","N/A",MIN(EH15:EJ15)) -> 306659.87 | EL15: =+IF(EH15="N/A","N/A",ROUND(AVERAGE(EH15:EJ15),0)) -> 569806 | EM15: =+IF(EK15="N/A","N/A",AVERAGE(EK15:EL15)) -> 438232.93 | EO15: 781360.95 | EP15: 1193589.7 | EQ15: 344026.71 | ER15: =+IF(EO15="N/A","N/A",MIN(EO15:EQ15)) -> 344026.71 | ES15: =+IF(EO15="N/A","N/A",ROUND(AVERAGE(EO15:EQ15),0)) -> 772992 | ET15: =+IF(ER15="N/A","N/A",AVERAGE(ER15:ES15)) -> 558509.36 | EV15: 762052.07 | EW15: 1157782 | EX15: 335525.18 | EY15: =+IF(EV15="N/A","N/A",MIN(EV15:EX15)) -> 335525.18 | EZ15: =+IF(EV15="N/A","N/A",ROUND(AVERAGE(EV15:EX15),0)) -> 751786 | FA15: =+IF(EY15="N/A","N/A",AVERAGE(EY15:EZ15)) -> 543655.59
A16: 5 | B16: Juego De Pastillas De Frenos Delantera (Dos pares) | C16: 1 | E16: 231611.1 | F16: 296781 | G16: 101976.44 | H16: =+IF(E16="N/A","N/A",MIN(E16:G16)) -> 101976.44 | I16: =+IF(E16="N/A","N/A",ROUND(AVERAGE(E16:G16),0)) -> 210123 | J16: =+IF(H16="N/A","N/A",AVERAGE(H16:I16)) -> 156049.72 | L16: 239717.49 | M16: 296781 | N16: N/A | O16: =+IF(L16="N/A","N/A",MIN(L16:N16)) -> 239717.49 | P16: =+IF(L16="N/A","N/A",ROUND(AVERAGE(L16:N16),0)) -> 268249 | Q16: =+IF(O16="N/A","N/A",AVERAGE(O16:P16)) -> 253983.24 | S16: 200280.14 | T16: 255231.66 | U16: 88181.677 | V16: =+IF(S16="N/A","N/A",MIN(S16:U16)) -> 88181.677 | W16: =+IF(S16="N/A","N/A",ROUND(AVERAGE(S16:U16),0)) -> 181231 | X16: =+IF(V16="N/A","N/A",AVERAGE(V16:W16)) -> 134706.34 | Z16: 287253.36 | AA16: 563883.9 | AB16: 126475.26 | AC16: =+IF(Z16="N/A","N/A",MIN(Z16:AB16)) -> 126475.26 | AD16: =+IF(Z16="N/A","N/A",ROUND(AVERAGE(Z16:AB16),0)) -> 325871 | AE16: =+IF(AC16="N/A","N/A",AVERAGE(AC16:AD16)) -> 226173.13 | AG16: 261196.56 | AH16: 281941.95 | AI16: 115002.67 | AJ16: =+IF(AG16="N/A","N/A",MIN(AG16:AI16)) -> 115002.67 | AK16: =+IF(AG16="N/A","N/A",ROUND(AVERAGE(AG16:AI16),0)) -> 219380 | AL16: =+IF(AJ16="N/A","N/A",AVERAGE(AJ16:AK16)) -> 167191.33 | AN16: 235914.71 | AO16: 276303.11 | AP16: 103871.28 | AQ16: =+IF(AN16="N/A","N/A",MIN(AN16:AP16)) -> 103871.28 | AR16: =+IF(AN16="N/A","N/A",ROUND(AVERAGE(AN16:AP16),0)) -> 205363 | AS16: =+IF(AQ16="N/A","N/A",AVERAGE(AQ16:AR16)) -> 154617.14 | AU16: 194129.57 | AV16: 314985.55 | AW16: 85473.631 | AX16: =+IF(AU16="N/A","N/A",MIN(AU16:AW16)) -> 85473.631 | AY16: =+IF(AU16="N/A","N/A",ROUND(AVERAGE(AU16:AW16),0)) -> 198196 | AZ16: =+IF(AX16="N/A","N/A",AVERAGE(AX16:AY16)) -> 141834.82 | BB16: 303087.18 | BC16: 597716.93 | BD16: 133446.76 | BE16: =+IF(BB16="N/A","N/A",MIN(BB16:BD16)) -> 133446.76 | BF16: =+IF(BB16="N/A","N/A",ROUND(AVERAGE(BB16:BD16),0)) -> 344750 | BG16: =+IF(BE16="N/A","N/A",AVERAGE(BE16:BF16)) -> 239098.38 | BI16: 192273.32 | BJ16: 292936.56 | BK16: 84656.342 | BL16: =+IF(BI16="N/A","N/A",MIN(BI16:BK16)) -> 84656.342 | BM16: =+IF(BI16="N/A","N/A",ROUND(AVERAGE(BI16:BK16),0)) -> 189955 | BN16: =+IF(BL16="N/A","N/A",AVERAGE(BL16:BM16)) -> 137305.67 | BP16: 211477.91 | BQ16: 290845.38 | BR16: 93111.962 | BS16: =+IF(BP16="N/A","N/A",MIN(BP16:BR16)) -> 93111.962 | BT16: =+IF(BP16="N/A","N/A",ROUND(AVERAGE(BP16:BR16),0)) -> 198478 | BU16: =+IF(BS16="N/A","N/A",AVERAGE(BS16:BT16)) -> 145794.98 | BW16: 227748.66 | BX16: 334472.19 | BY16: 100275.84 | BZ16: =+IF(BW16="N/A","N/A",MIN(BW16:BY16)) -> 100275.84 | CA16: =+IF(BW16="N/A","N/A",ROUND(AVERAGE(BW16:BY16),0)) -> 220832 | CB16: =+IF(BZ16="N/A","N/A",AVERAGE(BZ16:CA16)) -> 160553.92 | CD16: 246093.49 | CE16: 386676.26 | CF16: 108352.91 | CG16: =+IF(CD16="N/A","N/A",MIN(CD16:CF16)) -> 108352.91 | CH16: =+IF(CD16="N/A","N/A",ROUND(AVERAGE(CD16:CF16),0)) -> 247041 | CI16: =+IF(CG16="N/A","N/A",AVERAGE(CG16:CH16)) -> 177696.96 | CK16: 285602.69 | CL16: 326459.1 | CM16: 125748.48 | CN16: =+IF(CK16="N/A","N/A",MIN(CK16:CM16)) -> 125748.48 | CO16: =+IF(CK16="N/A","N/A",ROUND(AVERAGE(CK16:CM16),0)) -> 245937 | CP16: =+IF(CN16="N/A","N/A",AVERAGE(CN16:CO16)) -> 185842.74 | CR16: 302793.09 | CS16: 355840.42 | CT16: 133317.27 | CU16: =+IF(CR16="N/A","N/A",MIN(CR16:CT16)) -> 133317.27 | CV16: =+IF(CR16="N/A","N/A",ROUND(AVERAGE(CR16:CT16),0)) -> 263984 | CW16: =+IF(CU16="N/A","N/A",AVERAGE(CU16:CV16)) -> 198650.64 | CY16: 262682.15 | CZ16: 348723.61 | DA16: 115656.76 | DB16: =+IF(CY16="N/A","N/A",MIN(CY16:DA16)) -> 115656.76 | DC16: =+IF(CY16="N/A","N/A",ROUND(AVERAGE(CY16:DA16),0)) -> 242354 | DD16: =+IF(DB16="N/A","N/A",AVERAGE(DB16:DC16)) -> 179005.38 | DF16: 225883.43 | DG16: 341749.14 | DH16: 99454.593 | DI16: =+IF(DF16="N/A","N/A",MIN(DF16:DH16)) -> 99454.593 | DJ16: =+IF(DF16="N/A","N/A",ROUND(AVERAGE(DF16:DH16),0)) -> 222362 | DK16: =+IF(DI16="N/A","N/A",AVERAGE(DI16:DJ16)) -> 160908.3 | DM16: 244345.72 | DN16: 396429 | DO16: 107583.38 | DP16: =+IF(DM16="N/A","N/A",MIN(DM16:DO16)) -> 107583.38 | DQ16: =+IF(DM16="N/A","N/A",ROUND(AVERAGE(DM16:DO16),0)) -> 249453 | DR16: =+IF(DP16="N/A","N/A",AVERAGE(DP16:DQ16)) -> 178518.19 | DT16: 247600.49 | DU16: 511393.41 | DV16: 109016.43 | DW16: =+IF(DT16="N/A","N/A",MIN(DT16:DV16)) -> 109016.43 | DX16: =+IF(DT16="N/A","N/A",ROUND(AVERAGE(DT16:DV16),0)) -> 289337 | DY16: =+IF(DW16="N/A","N/A",AVERAGE(DW16:DX16)) -> 199176.72 | EA16: 201864.29 | EB16: 341749.14 | EC16: 88879.164 | ED16: =+IF(EA16="N/A","N/A",MIN(EA16:EC16)) -> 88879.164 | EE16: =+IF(EA16="N/A","N/A",ROUND(AVERAGE(EA16:EC16),0)) -> 210831 | EF16: =+IF(ED16="N/A","N/A",AVERAGE(ED16:EE16)) -> 149855.08 | EH16: 266349.44 | EI16: 430603.91 | EJ16: 117271.44 | EK16: =+IF(EH16="N/A","N/A",MIN(EH16:EJ16)) -> 117271.44 | EL16: =+IF(EH16="N/A","N/A",ROUND(AVERAGE(EH16:EJ16),0)) -> 271408 | EM16: =+IF(EK16="N/A","N/A",AVERAGE(EK16:EL16)) -> 194339.72 | EO16: 304672.58 | EP16: 727720.62 | EQ16: 134144.8 | ER16: =+IF(EO16="N/A","N/A",MIN(EO16:EQ16)) -> 134144.8 | ES16: =+IF(EO16="N/A","N/A",ROUND(AVERAGE(EO16:EQ16),0)) -> 388846 | ET16: =+IF(ER16="N/A","N/A",AVERAGE(ER16:ES16)) -> 261495.4 | EV16: 293978.77 | EW16: 705889 | EX16: 129436.4 | EY16: =+IF(EV16="N/A","N/A",MIN(EV16:EX16)) -> 129436.4 | EZ16: =+IF(EV16="N/A","N/A",ROUND(AVERAGE(EV16:EX16),0)) -> 376435 | FA16: =+IF(EY16="N/A","N/A",AVERAGE(EY16:EZ16)) -> 252935.7
A17: 6 | B17: Juego De Pastillas De Frenos Traseras (Dos pares) | C17: 1 | E17: N/A | F17: N/A | G17: N/A | H17: N/A | I17: N/A | J17: N/A | L17: N/A | M17: N/A | N17: N/A | O17: N/A | P17: N/A | Q17: N/A | S17: N/A | T17: N/A | U17: N/A | V17: N/A | W17: N/A | X17: N/A | Z17: N/A | AA17: N/A | AB17: N/A | AC17: N/A | AD17: N/A | AE17: N/A | AG17: N/A | AH17: N/A | AI17: N/A | AJ17: N/A | AK17: N/A | AL17: N/A | AN17: N/A | AO17: N/A | AP17: N/A | AQ17: N/A | AR17: N/A | AS17: N/A | AU17: N/A | AV17: N/A | AW17: N/A | AX17: N/A | AY17: N/A | AZ17: N/A | BB17: 301289.25 | BC17: 784546 | BE17: =+IF(BB17="N/A","N/A",MIN(BB17:BD17)) -> 301289.25 | BF17: =+IF(BB17="N/A","N/A",ROUND(AVERAGE(BB17:BD17),0)) -> 542918 | BG17: =+IF(BE17="N/A","N/A",AVERAGE(BE17:BF17)) -> 422103.63 | BI17: N/A | BJ17: N/A | BK17: N/A | BL17: N/A | BM17: N/A | BN17: N/A | BP17: N/A | BQ17: N/A | BR17: N/A | BS17: N/A | BT17: N/A | BU17: N/A | BW17: 238707.2 | BX17: 274909 | BY17: 105100.79 | BZ17: =+IF(BW17="N/A","N/A",MIN(BW17:BY17)) -> 105100.79 | CA17: =+IF(BW17="N/A","N/A",ROUND(AVERAGE(BW17:BY17),0)) -> 206239 | CB17: =+IF(BZ17="N/A","N/A",AVERAGE(BZ17:CA17)) -> 155669.9 | CD17: N/A | CE17: N/A | CF17: N/A | CG17: N/A | CH17: N/A | CI17: N/A | CK17: N/A | CL17: N/A | CM17: N/A | CN17: N/A | CO17: N/A | CP17: N/A | CR17: N/A | CS17: N/A | CT17: N/A | CU17: N/A | CV17: N/A | CW17: N/A | CY17: N/A | CZ17: N/A | DA17: N/A | DB17: N/A | DC17: N/A | DD17: N/A | DF17: N/A | DG17: N/A | DH17: N/A | DI17: N/A | DJ17: N/A | DK17: N/A | DM17: N/A | DN17: N/A | DO17: N/A | DP17: N/A | DQ17: N/A | DR17: N/A | DT17: N/A | DU17: N/A | DV17: N/A | DW17: N/A | DX17: N/A | DY17: N/A | EA17: N/A | EB17: N/A | EC17: N/A | ED17: N/A | EE17: N/A | EF17: N/A | EH17: N/A | EI17: N/A | EJ17: N/A | EK17: N/A | EL17: N/A | EM17: N/A | EO17: 298741.2 | EP17: 385673 | EQ17: 131533.26 | ER17: =+IF(EO17="N/A","N/A",MIN(EO17:EQ17)) -> 131533.26 | ES17: =+IF(EO17="N/A","N/A",ROUND(AVERAGE(EO17:EQ17),0)) -> 271982 | ET17: =+IF(ER17="N/A","N/A",AVERAGE(ER17:ES17)) -> 201757.63 | EV17: 288521.9 | EW17: 374102.81 | EX17: 127033.79 | EY17: =+IF(EV17="N/A","N/A",MIN(EV17:EX17)) -> 127033.79 | EZ17: =+IF(EV17="N/A","N/A",ROUND(AVERAGE(EV17:EX17),0)) -> 263220 | FA17: =+IF(EY17="N/A","N/A",AVERAGE(EY17:EZ17)) -> 195126.89
A18: 7 | B18: Pistón Caliper | C18: 1 | E18: 149444.99 | F18: 237898 | G18: 65799.385 | H18: =+IF(E18="N/A","N/A",MIN(E18:G18)) -> 65799.385 | I18: =+IF(E18="N/A","N/A",ROUND(AVERAGE(E18:G18),0)) -> 151047 | J18: =+IF(H18="N/A","N/A",AVERAGE(H18:I18)) -> 108423.19 | L18: 154675.57 | M18: 237898 | N18: N/A | O18: =+IF(L18="N/A","N/A",MIN(L18:N18)) -> 154675.57 | P18: =+IF(L18="N/A","N/A",ROUND(AVERAGE(L18:N18),0)) -> 196287 | Q18: =+IF(O18="N/A","N/A",AVERAGE(O18:P18)) -> 175481.28 | S18: 144676.95 | T18: 204592.28 | U18: 63700.057 | V18: =+IF(S18="N/A","N/A",MIN(S18:U18)) -> 63700.057 | W18: =+IF(S18="N/A","N/A",ROUND(AVERAGE(S18:U18),0)) -> 137656 | X18: =+IF(V18="N/A","N/A",AVERAGE(V18:W18)) -> 100678.03 | Z18: 284340.14 | AA18: 452006.2 | AB18: 125192.59 | AC18: =+IF(Z18="N/A","N/A",MIN(Z18:AB18)) -> 125192.59 | AD18: =+IF(Z18="N/A","N/A",ROUND(AVERAGE(Z18:AB18),0)) -> 287180 | AE18: =+IF(AC18="N/A","N/A",AVERAGE(AC18:AD18)) -> 206186.3 | AG18: 210140.08 | AH18: 226003.1 | AI18: 92522.928 | AJ18: =+IF(AG18="N/A","N/A",MIN(AG18:AI18)) -> 92522.928 | AK18: =+IF(AG18="N/A","N/A",ROUND(AVERAGE(AG18:AI18),0)) -> 176222 | AL18: =+IF(AJ18="N/A","N/A",AVERAGE(AJ18:AK18)) -> 134372.46 | AN18: 165973.53 | AO18: 221483.04 | AP18: 73076.762 | AQ18: =+IF(AN18="N/A","N/A",MIN(AN18:AP18)) -> 73076.762 | AR18: =+IF(AN18="N/A","N/A",ROUND(AVERAGE(AN18:AP18),0)) -> 153511 | AS18: =+IF(AQ18="N/A","N/A",AVERAGE(AQ18:AR18)) -> 113293.88 | AU18: 200716.49 | AV18: 252490.66 | AW18: 88373.797 | AX18: =+IF(AU18="N/A","N/A",MIN(AU18:AW18)) -> 88373.797 | AY18: =+IF(AU18="N/A","N/A",ROUND(AVERAGE(AU18:AW18),0)) -> 180527 | AZ18: =+IF(AX18="N/A","N/A",AVERAGE(AX18:AY18)) -> 134450.4 | BB18: 249634.37 | BC18: 479126.57 | BD18: 109911.93 | BE18: =+IF(BB18="N/A","N/A",MIN(BB18:BD18)) -> 109911.93 | BF18: =+IF(BB18="N/A","N/A",ROUND(AVERAGE(BB18:BD18),0)) -> 279558 | BG18: =+IF(BE18="N/A","N/A",AVERAGE(BE18:BF18)) -> 194734.97 | BI18: 197255.2 | BJ18: 234816.32 | BK18: 86849.822 | BL18: =+IF(BI18="N/A","N/A",MIN(BI18:BK18)) -> 86849.822 | BM18: =+IF(BI18="N/A","N/A",ROUND(AVERAGE(BI18:BK18),0)) -> 172974 | BN18: =+IF(BL18="N/A","N/A",AVERAGE(BL18:BM18)) -> 129911.91 | BP18: 210114.35 | BQ18: 233140.04 | BR18: 92511.598 | BS18: =+IF(BP18="N/A","N/A",MIN(BP18:BR18)) -> 92511.598 | BT18: =+IF(BP18="N/A","N/A",ROUND(AVERAGE(BP18:BR18),0)) -> 178589 | BU18: =+IF(BS18="N/A","N/A",AVERAGE(BS18:BT18)) -> 135550.3 | BW18: 217699.25 | BX18: 268111.05 | BY18: 95851.164 | BZ18: =+IF(BW18="N/A","N/A",MIN(BW18:BY18)) -> 95851.164 | CA18: =+IF(BW18="N/A","N/A",ROUND(AVERAGE(BW18:BY18),0)) -> 193887 | CB18: =+IF(BZ18="N/A","N/A",AVERAGE(BZ18:CA18)) -> 144869.08 | CD18: 226777.96 | CE18: 309957.54 | CF18: 99848.447 | CG18: =+IF(CD18="N/A","N/A",MIN(CD18:CF18)) -> 99848.447 | CH18: =+IF(CD18="N/A","N/A",ROUND(AVERAGE(CD18:CF18),0)) -> 212195 | CI18: =+IF(CG18="N/A","N/A",AVERAGE(CG18:CH18)) -> 156021.72 | CK18: 244272.11 | CL18: 261687.8 | CM18: 107550.97 | CN18: =+IF(CK18="N/A","N/A",MIN(CK18:CM18)) -> 107550.97 | CO18: =+IF(CK18="N/A","N/A",ROUND(AVERAGE(CK18:CM18),0)) -> 204504 | CP18: =+IF(CN18="N/A","N/A",AVERAGE(CN18:CO18)) -> 156027.49 | CR18: 268312.92 | CS18: 285239.7 | CT18: 118135.94 | CU18: =+IF(CR18="N/A","N/A",MIN(CR18:CT18)) -> 118135.94 | CV18: =+IF(CR18="N/A","N/A",ROUND(AVERAGE(CR18:CT18),0)) -> 223896 | CW18: =+IF(CU18="N/A","N/A",AVERAGE(CU18:CV18)) -> 171015.97 | CY18: 212217.69 | CZ18: 279534.91 | DA18: 93437.679 | DB18: =+IF(CY18="N/A","N/A",MIN(CY18:DA18)) -> 93437.679 | DC18: =+IF(CY18="N/A","N/A",ROUND(AVERAGE(CY18:DA18),0)) -> 195063 | DD18: =+IF(DB18="N/A","N/A",AVERAGE(DB18:DC18)) -> 144250.34 | DF18: 161297.28 | DG18: 273944.21 | DH18: 71017.847 | DI18: =+IF(DF18="N/A","N/A",MIN(DF18:DH18)) -> 71017.847 | DJ18: =+IF(DF18="N/A","N/A",ROUND(AVERAGE(DF18:DH18),0)) -> 168753 | DK18: =+IF(DI18="N/A","N/A",AVERAGE(DI18:DJ18)) -> 119885.42 | DM18: 186574.15 | DN18: 317775.28 | DO18: 82147.043 | DP18: =+IF(DM18="N/A","N/A",MIN(DM18:DO18)) -> 82147.043 | DQ18: =+IF(DM18="N/A","N/A",ROUND(AVERAGE(DM18:DO18),0)) -> 195499 | DR18: =+IF(DP18="N/A","N/A",AVERAGE(DP18:DQ18)) -> 138823.02 | DT18: 174039.73 | DU18: 409930.12 | DV18: 76628.242 | DW18: =+IF(DT18="N/A","N/A",MIN(DT18:DV18)) -> 76628.242 | DX18: =+IF(DT18="N/A","N/A",ROUND(AVERAGE(DT18:DV18),0)) -> 220199 | DY18: =+IF(DW18="N/A","N/A",AVERAGE(DW18:DX18)) -> 148413.62 | EA18: 149567.37 | EB18: 273944.21 | EC18: 65853.268 | ED18: =+IF(EA18="N/A","N/A",MIN(EA18:EC18)) -> 65853.268 | EE18: =+IF(EA18="N/A","N/A",ROUND(AVERAGE(EA18:EC18),0)) -> 163122 | EF18: =+IF(ED18="N/A","N/A",AVERAGE(ED18:EE18)) -> 114487.63 | EH18: 217346.39 | EI18: 345169.7 | EJ18: 95695.806 | EK18: =+IF(EH18="N/A","N/A",MIN(EH18:EJ18)) -> 95695.806 | EL18: =+IF(EH18="N/A","N/A",ROUND(AVERAGE(EH18:EJ18),0)) -> 219404 | EM18: =+IF(EK18="N/A","N/A",AVERAGE(EK18:EL18)) -> 157549.9 | EO18: 270941.39 | EP18: 583336.8 | EQ18: 119293.23 | ER18: =+IF(EO18="N/A","N/A",MIN(EO18:EQ18)) -> 119293.23 | ES18: =+IF(EO18="N/A","N/A",ROUND(AVERAGE(EO18:EQ18),0)) -> 324524 | ET18: =+IF(ER18="N/A","N/A",AVERAGE(ER18:ES18)) -> 221908.62 | EV18: 255986.08 | EW18: 565836.7 | EX18: 112708.54 | EY18: =+IF(EV18="N/A","N/A",MIN(EV18:EX18)) -> 112708.54 | EZ18: =+IF(EV18="N/A","N/A",ROUND(AVERAGE(EV18:EX18),0)) -> 311510 | FA18: =+IF(EY18="N/A","N/A",AVERAGE(EY18:EZ18)) -> 212109.27
