Workbook

Sheet REPUESTOS VEHICULOS
B1: Descuento | C1: 0.041
B2: IPC 2020 | C2: 0.038
B3: IPC2021 | C3: 0.03
A4: LISTA DE PRECIOS SECCIONAL MAGDALENA
E6: COTIZACIÓN No.1 | F6: COTIZACIÓN No.2 | G6: COTIZACIÓN No.3 | H6: HISTORICOS DE CONTRATACIÓN | I6: MINIMO | J6: PROMEDIO | K6: VALOR SELECCIONADO | M6: COTIZACIÓN No.1 | N6: COTIZACIÓN No.2 | O6: COTIZACIÓN No.3 | P6: HISTORICOS DE CONTRATACIÓN | Q6: MINIMO | R6: PROMEDIO | S6: VALOR SELECCIONADO | U6: COTIZACIÓN No.1 | V6: COTIZACIÓN No.2 | W6: COTIZACIÓN No.3 | X6: HISTORICOS DE CONTRATACIÓN | Y6: MINIMO | Z6: PROMEDIO | AA6: VALOR SELECCIONADO | AC6: COTIZACIÓN No.1 | AD6: COTIZACIÓN No.2 | AE6: COTIZACIÓN No.3 | AF6: HISTORICOS DE CONTRATACIÓN | AG6: MINIMO | AH6: PROMEDIO | AI6: VALOR SELECCIONADO | AK6: COTIZACIÓN No.1 | AL6: COTIZACIÓN No.2 | AM6: COTIZACIÓN No.3 | AN6: HISTORICOS DE CONTRATACIÓN | AO6: MINIMO | AP6: PROMEDIO | AQ6: VALOR SELECCIONADO | AS6: COTIZACIÓN No.1 | AT6: COTIZACIÓN No.2 | AU6: COTIZACIÓN No.3 | AV6: HISTORICOS DE CONTRATACIÓN | AW6: MINIMO | AX6: PROMEDIO | AY6: VALOR SELECCIONADO | BA6: COTIZACIÓN No.1 | BB6: COTIZACIÓN No.2 | BC6: COTIZACIÓN No.3 | BD6: HISTORICOS DE CONTRATACIÓN | BE6: MINIMO | BF6: PROMEDIO | BG6: VALOR SELECCIONADO | BI6: COTIZACIÓN No.1 | BJ6: COTIZACIÓN No.2 | BK6: COTIZACIÓN No.3 | BL6: HISTORICOS DE CONTRATACIÓN | BM6: MINIMO | BN6: PROMEDIO | BO6: VALOR SELECCIONADO | BQ6: COTIZACIÓN No.1 | BR6: COTIZACIÓN No.2 | BS6: COTIZACIÓN No.3 | BT6: HISTORICOS DE CONTRATACIÓN | BU6: MINIMO | BV6: PROMEDIO | BW6: VALOR SELECCIONADO | BY6: COTIZACIÓN No.1 | BZ6: COTIZACIÓN No.2 | CA6: COTIZACIÓN No.3 | CB6: HISTORICOS DE CONTRATACIÓN | CC6: MINIMO | CD6: PROMEDIO | CE6: VALOR SELECCIONADO | CG6: COTIZACIÓN No.1 | CH6: COTIZACIÓN No.2 | CI6: COTIZACIÓN No.3 | CJ6: HISTORICOS DE CONTRATACIÓN | CK6: MINIMO | CL6: PROMEDIO | CM6: VALOR SELECCIONADO | CO6: COTIZACIÓN No.1 | CP6: COTIZACIÓN No.2 | CQ6: COTIZACIÓN No.3 | CR6: HISTORICOS DE CONTRATACIÓN | CS6: MINIMO | CT6: PROMEDIO | CU6: VALOR SELECCIONADO | CW6: COTIZACIÓN No.1 | CX6: COTIZACIÓN No.2 | CY6: COTIZACIÓN No.3 | CZ6: HISTORICOS DE CONTRATACIÓN | DA6: MINIMO | DB6: PROMEDIO | DC6: VALOR SELECCIONADO | DE6: COTIZACIÓN No.1 | DF6: COTIZACIÓN No.2 | DG6: COTIZACIÓN No.3 | DH6: HISTORICOS DE CONTRATACIÓN | DI6: MINIMO | DJ6: PROMEDIO | DK6: VALOR SELECCIONADO | DM6: COTIZACIÓN No.1 | DN6: COTIZACIÓN No.2 | DO6: COTIZACIÓN No.3 | DP6: HISTORICOS DE CONTRATACIÓN | DQ6: MINIMO | DR6: PROMEDIO | DS6: VALOR SELECCIONADO | DU6: COTIZACIÓN No.1 | DV6: COTIZACIÓN No.2 | DW6: COTIZACIÓN No.3 | DX6: HISTORICOS DE CONTRATACIÓN | DY6: MINIMO | DZ6: PROMEDIO | EA6: VALOR SELECCIONADO | EC6: COTIZACIÓN No.1 | ED6: COTIZACIÓN No.2 | EE6: COTIZACIÓN No.3 | EF6: HISTORICOS DE CONTRATACIÓN | EG6: MINIMO | EH6: PROMEDIO | EI6: VALOR SELECCIONADO | EK6: COTIZACIÓN No.1 | EL6: COTIZACIÓN No.2 | EM6: COTIZACIÓN No.3 | EN6: HISTORICOS DE CONTRATACIÓN | EO6: MINIMO | EP6: PROMEDIO | EQ6: VALOR SELECCIONADO
A7: NECESIDAD CONTRATACÓN MULTIMARCA MANO DE OBRA | E7: 1. REPUESTOS | F7: 1. REPUESTOS | G7: 1. REPUESTOS | H7: 1. REPUESTOS | I7: 1. REPUESTOS | J7: 1. REPUESTOS | K7: 1. REPUESTOS | M7: 2. REPUESTOS | N7: 2. REPUESTOS | O7: 2. REPUESTOS | P7: 2. REPUESTOS | Q7: 2. REPUESTOS | R7: 2. REPUESTOS | S7: 2. REPUESTOS | U7: 3. REPUESTOS | V7: 3. REPUESTOS | W7: 3. REPUESTOS | X7: 3. REPUESTOS | Y7: 3. REPUESTOS | Z7: 3. REPUESTOS | AA7: 3. REPUESTOS | AC7: 4. REPUESTOS | AD7: 4. REPUESTOS | AE7: 4. REPUESTOS | AF7: 4. REPUESTOS | AG7: 4. REPUESTOS | AH7: 4. REPUESTOS | AI7: 4. REPUESTOS | AK7: 5. REPUESTOS | AL7: 5. REPUESTOS | AM7: 5. REPUESTOS | AN7: 5. REPUESTOS | AO7: 5. REPUESTOS | AP7: 5. REPUESTOS | AQ7: 5. REPUESTOS | AS7: 6. REPUESTOS | AT7: 6. REPUESTOS | AU7: 6. REPUESTOS | AV7: 6. REPUESTOS | AW7: 6. REPUESTOS | AX7: 6. REPUESTOS | AY7: 6. REPUESTOS | BA7: 7. REPUESTOS | BB7: 7. REPUESTOS | BC7: 7. REPUESTOS | BD7: 7. REPUESTOS | BE7: 7. REPUESTOS | BF7: 7. REPUESTOS | BG7: 7. REPUESTOS | BI7: 8. REPUESTOS | BJ7: 8. REPUESTOS | BK7: 8. REPUESTOS | BL7: 8. REPUESTOS | BM7: 8. REPUESTOS | BN7: 8. REPUESTOS | BO7: 8. REPUESTOS | BQ7: 9. REPUESTOS | BR7: 9. REPUESTOS | BS7: 9. REPUESTOS | BT7: 9. REPUESTOS | BU7: 9. REPUESTOS | BV7: 9. REPUESTOS | BW7: 9. REPUESTOS | BY7: 10. REPUESTOS | BZ7: 10. REPUESTOS | CA7: 10. REPUESTOS | CB7: 10. REPUESTOS | CC7: 10. REPUESTOS | CD7: 10. REPUESTOS | CE7: 10. REPUESTOS | CG7: 11. REPUESTOS | CH7: 11. REPUESTOS | CI7: 11. REPUESTOS | CJ7: 11. REPUESTOS | CK7: 11. REPUESTOS | CL7: 11. REPUESTOS | CM7: 11. REPUESTOS | CO7: 12. REPUESTOS | CP7: 12. REPUESTOS | CQ7: 12. REPUESTOS | CR7: 12. REPUESTOS | CS7: 12. REPUESTOS | CT7: 12. REPUESTOS | CU7: 12. REPUESTOS | CW7: 13. REPUESTOS | CX7: 13. REPUESTOS | CY7: 13. REPUESTOS | CZ7: 13. REPUESTOS | DA7: 13. REPUESTOS | DB7: 13. REPUESTOS | DC7: 13. REPUESTOS | DE7: 14. REPUESTOS | DF7: 14. REPUESTOS | DG7: 14. REPUESTOS | DH7: 14. REPUESTOS | DI7: 14. REPUESTOS | DJ7: 14. REPUESTOS | DK7: 14. REPUESTOS | DM7: 15. REPUESTOS | DN7: 15. REPUESTOS | DO7: 15. REPUESTOS | DP7: 15. REPUESTOS | DQ7: 15. REPUESTOS | DR7: 15. REPUESTOS | DS7: 15. REPUESTOS | DU7: 16. REPUESTOS | DV7: 16. REPUESTOS | DW7: 16. REPUESTOS | DX7: 16. REPUESTOS | DY7: 16. REPUESTOS | DZ7: 16. REPUESTOS | EA7: 16. REPUESTOS | EC7: 17. REPUESTOS | ED7: 17. REPUESTOS | EE7: 17. REPUESTOS | EF7: 17. REPUESTOS | EG7: 17. REPUESTOS | EH7: 17. REPUESTOS | EI7: 17. REPUESTOS | EK7: 18. REPUESTOS | EL7: 18. REPUESTOS | EM7: 18. REPUESTOS | EN7: 18. REPUESTOS | EO7: 18. REPUESTOS | EP7: 18. REPUESTOS | EQ7: 18. REPUESTOS
A9: NOMBRE DEL ACTIVO | E9: CAMIONETA | F9: CAMIONETA | G9: CAMIONETA | H9: CAMIONETA | I9: CAMIONETA | J9: CAMIONETA | K9: CAMIONETA | M9: CAMIONETA | N9: CAMIONETA | O9: CAMIONETA | P9: CAMIONETA | Q9: CAMIONETA | R9: CAMIONETA | S9: CAMIONETA | U9: AUTOMÓVIL | V9: AUTOMÓVIL | W9: AUTOMÓVIL | X9: AUTOMÓVIL | Y9: AUTOMÓVIL | Z9: AUTOMÓVIL | AA9: AUTOMÓVIL | AC9: AUTOMÓVIL | AD9: AUTOMÓVIL | AE9: AUTOMÓVIL | AF9: AUTOMÓVIL | AG9: AUTOMÓVIL | AH9: AUTOMÓVIL | AI9: AUTOMÓVIL | AK9: CAMIONETA | AL9: CAMIONETA | AM9: CAMIONETA | AN9: CAMIONETA | AO9: CAMIONETA | AP9: CAMIONETA | AQ9: CAMIONETA | AS9: AUTOMÓVIL | AT9: AUTOMÓVIL | AU9: AUTOMÓVIL | AV9: AUTOMÓVIL | AW9: AUTOMÓVIL | AX9: AUTOMÓVIL | AY9: AUTOMÓVIL | BA9: CAMIONETA | BB9: CAMIONETA | BC9: CAMIONETA | BD9: CAMIONETA | BE9: CAMIONETA | BF9: CAMIONETA | BG9: CAMIONETA | BI9: CAMIONETA | BJ9: CAMIONETA | BK9: CAMIONETA | BL9: CAMIONETA | BM9: CAMIONETA | BN9: CAMIONETA | BO9: CAMIONETA | BQ9: CAMPERO | BR9: CAMPERO | BS9: CAMPERO | BT9: CAMPERO | BU9: CAMPERO | BV9: CAMPERO | BW9: CAMPERO | BY9: AUTOMÓVIL | BZ9: AUTOMÓVIL | CA9: AUTOMÓVIL | CB9: AUTOMÓVIL | CC9: AUTOMÓVIL | CD9: AUTOMÓVIL | CE9: AUTOMÓVIL | CG9: CAMIONETA | CH9: CAMIONETA | CI9: CAMIONETA | CJ9: CAMIONETA | CK9: CAMIONETA | CL9: CAMIONETA | CM9: CAMIONETA | CO9: CAMIONETA / CAMERO | CP9: CAMIONETA / CAMERO | CQ9: CAMIONETA / CAMERO | CR9: CAMIONETA / CAMERO | CS9: CAMIONETA / CAMERO | CT9: CAMIONETA / CAMERO | CU9: CAMIONETA / CAMERO | CW9: CAMIONETA / CAMERO | CX9: CAMIONETA / CAMERO | CY9: CAMIONETA / CAMERO | CZ9: CAMIONETA / CAMERO | DA9: CAMIONETA / CAMERO | DB9: CAMIONETA / CAMERO | DC9: CAMIONETA / CAMERO | DE9: AUTOMÓVIL | DF9: AUTOMÓVIL | DG9: AUTOMÓVIL | DH9: AUTOMÓVIL | DI9: AUTOMÓVIL | DJ9: AUTOMÓVIL | DK9: AUTOMÓVIL | DM9: AUTOMÓVIL | DN9: AUTOMÓVIL | DO9: AUTOMÓVIL | DP9: AUTOMÓVIL | DQ9: AUTOMÓVIL | DR9: AUTOMÓVIL | DS9: AUTOMÓVIL | DU9: AUTOMÓVIL | DV9: AUTOMÓVIL | DW9: AUTOMÓVIL | DX9: AUTOMÓVIL | DY9: AUTOMÓVIL | DZ9: AUTOMÓVIL | EA9: AUTOMÓVIL | EC9: AUTOMÓVIL | ED9: AUTOMÓVIL | EE9: AUTOMÓVIL | EF9: AUTOMÓVIL | EG9: AUTOMÓVIL | EH9: AUTOMÓVIL | EI9: AUTOMÓVIL | EK9: AUTOMÓVIL | EL9: AUTOMÓVIL | EM9: AUTOMÓVIL | EN9: AUTOMÓVIL | EO9: AUTOMÓVIL | EP9: AUTOMÓVIL | EQ9: AUTOMÓVIL
A10: MARCA | E10: CHEVROLET | F10: CHEVROLET | G10: CHEVROLET | H10: CHEVROLET | I10: CHEVROLET | J10: CHEVROLET | K10: CHEVROLET | M10: CHEVROLET | N10: CHEVROLET | O10: CHEVROLET | P10: CHEVROLET | Q10: CHEVROLET | R10: CHEVROLET | S10: CHEVROLET | U10: CHEVROLET | V10: CHEVROLET | W10: CHEVROLET | X10: CHEVROLET | Y10: CHEVROLET | Z10: CHEVROLET | AA10: CHEVROLET | AC10: HYUNDAI | AD10: HYUNDAI | AE10: HYUNDAI | AF10: HYUNDAI | AG10: HYUNDAI | AH10: HYUNDAI | AI10: HYUNDAI | AK10: MAZDA | AL10: MAZDA | AM10: MAZDA | AN10: MAZDA | AO10: MAZDA | AP10: MAZDA | AQ10: MAZDA | AS10: MAZDA | AT10: MAZDA | AU10: MAZDA | AV10: MAZDA | AW10: MAZDA | AX10: MAZDA | AY10: MAZDA | BA10: NISSAN | BB10: NISSAN | BC10: NISSAN | BD10: NISSAN | BE10: NISSAN | BF10: NISSAN | BG10: NISSAN | BI10: NISSAN | BJ10: NISSAN | BK10: NISSAN | BL10: NISSAN | BM10: NISSAN | BN10: NISSAN | BO10: NISSAN | BQ10: NISSAN | BR10: NISSAN | BS10: NISSAN | BT10: NISSAN | BU10: NISSAN | BV10: NISSAN | BW10: NISSAN | BY10: NISSAN | BZ10: NISSAN | CA10: NISSAN | CB10: NISSAN | CC10: NISSAN | CD10: NISSAN | CE10: NISSAN | CG10: RENAULT | CH10: RENAULT | CI10: RENAULT | CJ10: RENAULT | CK10: RENAULT | CL10: RENAULT | CM10: RENAULT | CO10: RENAULT | CP10: RENAULT | CQ10: RENAULT | CR10: RENAULT | CS10: RENAULT | CT10: RENAULT | CU10: RENAULT | CW10: RENAULT | CX10: RENAULT | CY10: RENAULT | CZ10: RENAULT | DA10: RENAULT | DB10: RENAULT | DC10: RENAULT | DE10: RENAULT | DF10: RENAULT | DG10: RENAULT | DH10: RENAULT | DI10: RENAULT | DJ10: RENAULT | DK10: RENAULT | DM10: RENAULT | DN10: RENAULT | DO10: RENAULT | DP10: RENAULT | DQ10: RENAULT | DR10: RENAULT | DS10: RENAULT | DU10: FORD | DV10: FORD | DW10: FORD | DX10: FORD | DY10: FORD | DZ10: FORD | EA10: FORD | EC10: CHEVROLET | ED10: CHEVROLET | EE10: CHEVROLET | EF10: CHEVROLET | EG10: CHEVROLET | EH10: CHEVROLET | EI10: CHEVROLET | EK10: RENAULT | EL10: RENAULT | EM10: RENAULT | EN10: RENAULT | EO10: RENAULT | EP10: RENAULT | EQ10: RENAULT
A11: LÍNEA | C11: CANTIDAD | E11: LUV D-MAX (9) | F11: LUV D-MAX (9) | G11: LUV D-MAX (9) | H11: LUV D-MAX (9) | I11: LUV D-MAX (9) | J11: LUV D-MAX (9) | K11: LUV D-MAX (9) | M11: D-MAX (1) | N11: D-MAX (1) | O11: D-MAX (1) | P11: D-MAX (1) | Q11: D-MAX (1) | R11: D-MAX (1) | S11: D-MAX (1) | U11: SONIC (1) | V11: SONIC (1) | W11: SONIC (1) | X11: SONIC (1) | Y11: SONIC (1) | Z11: SONIC (1) | AA11: SONIC (1) | AC11: ACCENT (1) | AD11: ACCENT (1) | AE11: ACCENT (1) | AF11: ACCENT (1) | AG11: ACCENT (1) | AH11: ACCENT (1) | AI11: ACCENT (1) | AK11: BT-50 (1) | AL11: BT-50 (1) | AM11: BT-50 (1) | AN11: BT-50 (1) | AO11: BT-50 (1) | AP11: BT-50 (1) | AQ11: BT-50 (1) | AS11: TRES (1) | AT11: TRES (1) | AU11: TRES (1) | AV11: TRES (1) | AW11: TRES (1) | AX11: TRES (1) | AY11: TRES (1) | BA11: FRONTIER D22 (16) | BB11: FRONTIER D22 (16) | BC11: FRONTIER D22 (16) | BD11: FRONTIER D22 (16) | BE11: FRONTIER D22 (16) | BF11: FRONTIER D22 (16) | BG11: FRONTIER D22 (16) | BI11: NAVARA (1) | BJ11: NAVARA (1) | BK11: NAVARA (1) | BL11: NAVARA (1) | BM11: NAVARA (1) | BN11: NAVARA (1) | BO11: NAVARA (1) | BQ11: XTRAIL (1) | BR11: XTRAIL (1) | BS11: XTRAIL (1) | BT11: XTRAIL (1) | BU11: XTRAIL (1) | BV11: XTRAIL (1) | BW11: XTRAIL (1) | BY11: VERSA (1) | BZ11: VERSA (1) | CA11: VERSA (1) | CB11: VERSA (1) | CC11: VERSA (1) | CD11: VERSA (1) | CE11: VERSA (1) | CG11: ALASKAN (4) | CH11: ALASKAN (4) | CI11: ALASKAN (4) | CJ11: ALASKAN (4) | CK11: ALASKAN (4) | CL11: ALASKAN (4) | CM11: ALASKAN (4) | CO11: DUSTER (6) | CP11: DUSTER (6) | CQ11: DUSTER (6) | CR11: DUSTER (6) | CS11: DUSTER (6) | CT11: DUSTER (6) | CU11: DUSTER (6) | CW11: DUSTER OROCH (1) | CX11: DUSTER OROCH (1) | CY11: DUSTER OROCH (1) | CZ11: DUSTER OROCH (1) | DA11: DUSTER OROCH (1) | DB11: DUSTER OROCH (1) | DC11: DUSTER OROCH (1) | DE11: LOGAN (2) | DF11: LOGAN (2) | DG11: LOGAN (2) | DH11: LOGAN (2) | DI11: LOGAN (2) | DJ11: LOGAN (2) | DK11: LOGAN (2) | DM11: SCALA(1) | DN11: SCALA(1) | DO11: SCALA(1) | DP11: SCALA(1) | DQ11: SCALA(1) | DR11: SCALA(1) | DS11: SCALA(1) | DU11: FIESTA (1) | DV11: FIESTA (1) | DW11: FIESTA (1) | DX11: FIESTA (1) | DY11: FIESTA (1) | DZ11: FIESTA (1) | EA11: FIESTA (1) | EC11: SAIL (1) | ED11: SAIL (1) | EE11: SAIL (1) | EF11: SAIL (1) | EG11: SAIL (1) | EH11: SAIL (1) | EI11: SAIL (1) | EK11: CLIO | EL11: CLIO | EM11: CLIO | EN11: CLIO | EO11: CLIO | EP11: CLIO | EQ11: CLIO
A12: MODELO | E12: 2007 A 2013 | F12: 2007 A 2013 | G12: 2007 A 2013 | H12: 2007 A 2013 | I12: 2007 A 2013 | J12: 2007 A 2013 | K12: 2007 A 2013 | M12: 2020 | N12: 2020 | O12: 2020 | P12: 2020 | Q12: 2020 | R12: 2020 | S12: 2020 | U12: 2016 | V12: 2016 | W12: 2016 | X12: 2016 | Y12: 2016 | Z12: 2016 | AA12: 2016 | AC12: 2005 | AD12: 2005 | AE12: 2005 | AF12: 2005 | AG12: 2005 | AH12: 2005 | AI12: 2005 | AK12: 2009 | AL12: 2009 | AM12: 2009 | AN12: 2009 | AO12: 2009 | AP12: 2009 | AQ12: 2009 | AS12: 2007 | AT12: 2007 | AU12: 2007 | AV12: 2007 | AW12: 2007 | AX12: 2007 | AY12: 2007 | BA12: 2010-12-13-18 | BB12: 2010-12-13-18 | BC12: 2010-12-13-18 | BD12: 2010-12-13-18 | BE12: 2010-12-13-18 | BF12: 2010-12-13-18 | BG12: 2010-12-13-18 | BI12: 2014 | BJ12: 2014 | BK12: 2014 | BL12: 2014 | BM12: 2014 | BN12: 2014 | BO12: 2014 | BQ12: 2014 | BR12: 2014 | BS12: 2014 | BT12: 2014 | BU12: 2014 | BV12: 2014 | BW12: 2014 | BY12: 2015 | BZ12: 2015 | CA12: 2015 | CB12: 2015 | CC12: 2015 | CD12: 2015 | CE12: 2015 | CG12: 2018 | CH12: 2018 | CI12: 2018 | CJ12: 2018 | CK12: 2018 | CL12: 2018 | CM12: 2018 | CO12: 2016 A 2017 | CP12: 2016 A 2017 | CQ12: 2016 A 2017 | CR12: 2016 A 2017 | CS12: 2016 A 2017 | CT12: 2016 A 2017 | CU12: 2016 A 2017 | CW12: 2020 | CX12: 2020 | CY12: 2020 | CZ12: 2020 | DA12: 2020 | DB12: 2020 | DC12: 2020 | DE12: 2019 | DF12: 2019 | DG12: 2019 | DH12: 2019 | DI12: 2019 | DJ12: 2019 | DK12: 2019 | DM12: 2012 | DN12: 2012 | DO12: 2012 | DP12: 2012 | DQ12: 2012 | DR12: 2012 | DS12: 2012 | DU12: 2014 | DV12: 2014 | DW12: 2014 | DX12: 2014 | DY12: 2014 | DZ12: 2014 | EA12: 2014 | EC12: 2014 | ED12: 2014 | EE12: 2014 | EF12: 2014 | EG12: 2014 | EH12: 2014 | EI12: 2014 | EK12: 2016 | EL12: 2016 | EM12: 2016 | EN12: 2016 | EO12: 2016 | EP12: 2016 | EQ12: 2016
A13: MUTIMARCA CAMIONETAS Y AUTOMÓVILES | E13: COSTO REPUESTO (S) | F13: COSTO REPUESTO (S) | G13: COSTO REPUESTO (S) | H13: COSTO REPUESTO (S) | I13: COSTO REPUESTO (S) | J13: COSTO REPUESTO (S) | K13: COSTO REPUESTO (S) | M13: COSTO REPUESTO (S) | N13: COSTO REPUESTO (S) | O13: COSTO REPUESTO (S) | P13: COSTO REPUESTO (S) | Q13: COSTO REPUESTO (S) | R13: COSTO REPUESTO (S) | S13: COSTO REPUESTO (S) | U13: COSTO REPUESTO (S) | V13: COSTO REPUESTO (S) | W13: COSTO REPUESTO (S) | X13: COSTO REPUESTO (S) | Y13: COSTO REPUESTO (S) | Z13: COSTO REPUESTO (S) | AA13: COSTO REPUESTO (S) | AC13: COSTO REPUESTO (S) | AD13: COSTO REPUESTO (S) | AE13: COSTO REPUESTO (S) | AF13: COSTO REPUESTO (S) | AG13: COSTO REPUESTO (S) | AH13: COSTO REPUESTO (S) | AI13: COSTO REPUESTO (S) | AK13: COSTO REPUESTO (S) | AL13: COSTO REPUESTO (S) | AM13: COSTO REPUESTO (S) | AN13: COSTO REPUESTO (S) | AO13: COSTO REPUESTO (S) | AP13: COSTO REPUESTO (S) | AQ13: COSTO REPUESTO (S) | AS13: COSTO REPUESTO (S) | AT13: COSTO REPUESTO (S) | AU13: COSTO REPUESTO (S) | AV13: COSTO REPUESTO (S) | AW13: COSTO REPUESTO (S) | AX13: COSTO REPUESTO (S) | AY13: COSTO REPUESTO (S) | BA13: COSTO REPUESTO (S) | BB13: COSTO REPUESTO (S) | BC13: COSTO REPUESTO (S) | BD13: COSTO REPUESTO (S) | BE13: COSTO REPUESTO (S) | BF13: COSTO REPUESTO (S) | BG13: COSTO REPUESTO (S) | BI13: COSTO REPUESTO (S) | BJ13: COSTO REPUESTO (S) | BK13: COSTO REPUESTO (S) | BL13: COSTO REPUESTO (S) | BM13: COSTO REPUESTO (S) | BN13: COSTO REPUESTO (S) | BO13: COSTO REPUESTO (S) | BQ13: COSTO REPUESTO (S) | BR13: COSTO REPUESTO (S) | BS13: COSTO REPUESTO (S) | BT13: COSTO REPUESTO (S) | BU13: COSTO REPUESTO (S) | BV13: COSTO REPUESTO (S) | BW13: COSTO REPUESTO (S) | BY13: COSTO REPUESTO (S) | BZ13: COSTO REPUESTO (S) | CA13: COSTO REPUESTO (S) | CB13: COSTO REPUESTO (S) | CC13: COSTO REPUESTO (S) | CD13: COSTO REPUESTO (S) | CE13: COSTO REPUESTO (S) | CG13: COSTO REPUESTO (S) | CH13: COSTO REPUESTO (S) | CI13: COSTO REPUESTO (S) | CJ13: COSTO REPUESTO (S) | CK13: COSTO REPUESTO (S) | CL13: COSTO REPUESTO (S) | CM13: COSTO REPUESTO (S) | CO13: COSTO REPUESTO (S) | CP13: COSTO REPUESTO (S) | CQ13: COSTO REPUESTO (S) | CR13: COSTO REPUESTO (S) | CS13: COSTO REPUESTO (S) | CT13: COSTO REPUESTO (S) | CU13: COSTO REPUESTO (S) | CW13: COSTO REPUESTO (S) | CX13: COSTO REPUESTO (S) | CY13: COSTO REPUESTO (S) | CZ13: COSTO REPUESTO (S) | DA13: COSTO REPUESTO (S) | DB13: COSTO REPUESTO (S) | DC13: COSTO REPUESTO (S) | DE13: COSTO REPUESTO (S) | DF13: COSTO REPUESTO (S) | DG13: COSTO REPUESTO (S) | DH13: COSTO REPUESTO (S) | DI13: COSTO REPUESTO (S) | DJ13: COSTO REPUESTO (S) | DK13: COSTO REPUESTO (S) | DM13: COSTO REPUESTO (S) | DN13: COSTO REPUESTO (S) | DO13: COSTO REPUESTO (S) | DP13: COSTO REPUESTO (S) | DQ13: COSTO REPUESTO (S) | DR13: COSTO REPUESTO (S) | DS13: COSTO REPUESTO (S) | DU13: COSTO REPUESTO (S) | DV13: COSTO REPUESTO (S) | DW13: COSTO REPUESTO (S) | DX13: COSTO REPUESTO (S) | DY13: COSTO REPUESTO (S) | DZ13: COSTO REPUESTO (S) | EA13: COSTO REPUESTO (S) | EC13: COSTO REPUESTO (S) | ED13: COSTO REPUESTO (S) | EE13: COSTO REPUESTO (S) | EF13: COSTO REPUESTO (S) | EG13: COSTO REPUESTO (S) | EH13: COSTO REPUESTO (S) | EI13: COSTO REPUESTO (S) | EK13: COSTO REPUESTO (S) | EL13: COSTO REPUESTO (S) | EM13: COSTO REPUESTO (S) | EN13: COSTO REPUESTO (S) | EO13: COSTO REPUESTO (S) | EP13: COSTO REPUESTO (S) | EQ13: COSTO REPUESTO (S)
E14: VALOR UNITARIO INCLUIDO IVA | F14: VALOR UNITARIO INCLUIDO IVA | G14: VALOR UNITARIO INCLUIDO IVA | H14: VALOR UNITARIO INCLUIDO IVA | I14: VALOR UNITARIO INCLUIDO IVA | J14: VALOR UNITARIO INCLUIDO IVA | K14: VALOR UNITARIO INCLUIDO IVA | M14: VALOR UNITARIO INCLUIDO IVA | N14: VALOR UNITARIO INCLUIDO IVA | O14: VALOR UNITARIO INCLUIDO IVA | P14: VALOR UNITARIO INCLUIDO IVA | Q14: VALOR UNITARIO INCLUIDO IVA | R14: VALOR UNITARIO INCLUIDO IVA | S14: VALOR UNITARIO INCLUIDO IVA | U14: VALOR UNITARIO INCLUIDO IVA | V14: VALOR UNITARIO INCLUIDO IVA | W14: VALOR UNITARIO INCLUIDO IVA | X14: VALOR UNITARIO INCLUIDO IVA | Y14: VALOR UNITARIO INCLUIDO IVA | Z14: VALOR UNITARIO INCLUIDO IVA | AA14: VALOR UNITARIO INCLUIDO IVA | AC14: VALOR UNITARIO INCLUIDO IVA | AD14: VALOR UNITARIO INCLUIDO IVA | AE14: VALOR UNITARIO INCLUIDO IVA | AF14: VALOR UNITARIO INCLUIDO IVA | AG14: VALOR UNITARIO INCLUIDO IVA | AH14: VALOR UNITARIO INCLUIDO IVA | AI14: VALOR UNITARIO INCLUIDO IVA | AK14: VALOR UNITARIO INCLUIDO IVA | AL14: VALOR UNITARIO INCLUIDO IVA | AM14: VALOR UNITARIO INCLUIDO IVA | AN14: VALOR UNITARIO INCLUIDO IVA | AO14: VALOR UNITARIO INCLUIDO IVA | AP14: VALOR UNITARIO INCLUIDO IVA | AQ14: VALOR UNITARIO INCLUIDO IVA | AS14: VALOR UNITARIO INCLUIDO IVA | AT14: VALOR UNITARIO INCLUIDO IVA | AU14: VALOR UNITARIO INCLUIDO IVA | AV14: VALOR UNITARIO INCLUIDO IVA | AW14: VALOR UNITARIO INCLUIDO IVA | AX14: VALOR UNITARIO INCLUIDO IVA | AY14: VALOR UNITARIO INCLUIDO IVA | BA14: VALOR UNITARIO INCLUIDO IVA | BB14: VALOR UNITARIO INCLUIDO IVA | BC14: VALOR UNITARIO INCLUIDO IVA | BD14: VALOR UNITARIO INCLUIDO IVA | BE14: VALOR UNITARIO INCLUIDO IVA | BF14: VALOR UNITARIO INCLUIDO IVA | BG14: VALOR UNITARIO INCLUIDO IVA | BI14: VALOR UNITARIO INCLUIDO IVA | BJ14: VALOR UNITARIO INCLUIDO IVA | BK14: VALOR UNITARIO INCLUIDO IVA | BL14: VALOR UNITARIO INCLUIDO IVA | BM14: VALOR UNITARIO INCLUIDO IVA | BN14: VALOR UNITARIO INCLUIDO IVA | BO14: VALOR UNITARIO INCLUIDO IVA | BQ14: VALOR UNITARIO INCLUIDO IVA | BR14: VALOR UNITARIO INCLUIDO IVA | BS14: VALOR UNITARIO INCLUIDO IVA | BT14: VALOR UNITARIO INCLUIDO IVA | BU14: VALOR UNITARIO INCLUIDO IVA | BV14: VALOR UNITARIO INCLUIDO IVA | BW14: VALOR UNITARIO INCLUIDO IVA | BY14: VALOR UNITARIO INCLUIDO IVA | BZ14: VALOR UNITARIO INCLUIDO IVA | CA14: VALOR UNITARIO INCLUIDO IVA | CB14: VALOR UNITARIO INCLUIDO IVA | CC14: VALOR UNITARIO INCLUIDO IVA | CD14: VALOR UNITARIO INCLUIDO IVA | CE14: VALOR UNITARIO INCLUIDO IVA | CG14: VALOR UNITARIO INCLUIDO IVA | CH14: VALOR UNITARIO INCLUIDO IVA | CI14: VALOR UNITARIO INCLUIDO IVA | CJ14: VALOR UNITARIO INCLUIDO IVA | CK14: VALOR UNITARIO INCLUIDO IVA | CL14: VALOR UNITARIO INCLUIDO IVA | CM14: VALOR UNITARIO INCLUIDO IVA | CO14: VALOR UNITARIO INCLUIDO IVA | CP14: VALOR UNITARIO INCLUIDO IVA | CQ14: VALOR UNITARIO INCLUIDO IVA | CR14: VALOR UNITARIO INCLUIDO IVA | CS14: VALOR UNITARIO INCLUIDO IVA | CT14: VALOR UNITARIO INCLUIDO IVA | CU14: VALOR UNITARIO INCLUIDO IVA | CW14: VALOR UNITARIO INCLUIDO IVA | CX14: VALOR UNITARIO INCLUIDO IVA | CY14: VALOR UNITARIO INCLUIDO IVA | CZ14: VALOR UNITARIO INCLUIDO IVA | DA14: VALOR UNITARIO INCLUIDO IVA | DB14: VALOR UNITARIO INCLUIDO IVA | DC14: VALOR UNITARIO INCLUIDO IVA | DE14: VALOR UNITARIO INCLUIDO IVA | DF14: VALOR UNITARIO INCLUIDO IVA | DG14: VALOR UNITARIO INCLUIDO IVA | DH14: VALOR UNITARIO INCLUIDO IVA | DI14: VALOR UNITARIO INCLUIDO IVA | DJ14: VALOR UNITARIO INCLUIDO IVA | DK14: VALOR UNITARIO INCLUIDO IVA | DM14: VALOR UNITARIO INCLUIDO IVA | DN14: VALOR UNITARIO INCLUIDO IVA | DO14: VALOR UNITARIO INCLUIDO IVA | DP14: VALOR UNITARIO INCLUIDO IVA | DQ14: VALOR UNITARIO INCLUIDO IVA | DR14: VALOR UNITARIO INCLUIDO IVA | DS14: VALOR UNITARIO INCLUIDO IVA | DU14: VALOR UNITARIO INCLUIDO IVA | DV14: VALOR UNITARIO INCLUIDO IVA | DW14: VALOR UNITARIO INCLUIDO IVA | DX14: VALOR UNITARIO INCLUIDO IVA | DY14: VALOR UNITARIO INCLUIDO IVA | DZ14: VALOR UNITARIO INCLUIDO IVA | EA14: VALOR UNITARIO INCLUIDO IVA | EC14: VALOR UNITARIO INCLUIDO IVA | ED14: VALOR UNITARIO INCLUIDO IVA | EE14: VALOR UNITARIO INCLUIDO IVA | EF14: VALOR UNITARIO INCLUIDO IVA | EG14: VALOR UNITARIO INCLUIDO IVA | EH14: VALOR UNITARIO INCLUIDO IVA | EI14: VALOR UNITARIO INCLUIDO IVA | EK14: VALOR UNITARIO INCLUIDO IVA | EL14: VALOR UNITARIO INCLUIDO IVA | EM14: VALOR UNITARIO INCLUIDO IVA | EN14: VALOR UNITARIO INCLUIDO IVA | EO14: VALOR UNITARIO INCLUIDO IVA | EP14: VALOR UNITARIO INCLUIDO IVA | EQ14: VALOR UNITARIO INCLUIDO IVA
A15: ÌTEM | B15: SISTEMA DE FRENOS
A16: 1 | B16: Juego de Bandas Remachadas (Dos pares) | C16: 1 | E16: 180278.41 | F16: 190538.15 | H16: 136228.33 | I16: =+IF(E16="N/A","N/A",MIN(E16:H16)) -> 136228.33 | J16: =+IF(E16="N/A","N/A",ROUND(AVERAGE(E16:H16),0)) -> 169015 | K16: =+IF(I16="N/A","N/A",AVERAGE(I16:J16)) -> 152621.66 | M16: 218325 | N16: 230750 | P16: 164978.44 | Q16: =+IF(M16="N/A","N/A",MIN(M16:P16)) -> 164978.44 | R16: =+IF(M16="N/A","N/A",ROUND(AVERAGE(M16:P16),0)) -> 204684 | S16: =+IF(Q16="N/A","N/A",AVERAGE(Q16:R16)) -> 184831.22 | U16: 185525 | X16: 140192.95 | Y16: =+IF(U16="N/A","N/A",MIN(U16:X16)) -> 140192.95 | Z16: =+IF(U16="N/A","N/A",ROUND(AVERAGE(U16:X16),0)) -> 162859 | AA16: =+IF(Y16="N/A","N/A",AVERAGE(Y16:Z16)) -> 151525.97 | AC16: N/A | AD16: N/A | AE16: N/A | AF16: N/A | AG16: N/A | AH16: N/A | AI16: N/A | AK16: 180278.41 | AL16: 190538.15 | AN16: 136228.33 | AO16: =+IF(AK16="N/A","N/A",MIN(AK16:AN16)) -> 136228.33 | AP16: =+IF(AK16="N/A","N/A",ROUND(AVERAGE(AK16:AN16),0)) -> 169015 | AQ16: =+IF(AO16="N/A","N/A",AVERAGE(AO16:AP16)) -> 152621.66 | AS16: N/A | AT16: N/A | AU16: N/A | AV16: N/A | AW16: N/A | AX16: N/A | AY16: N/A | BA16: 208075 | BB16: 219916.67 | BD16: 157232.97 | BE16: =+IF(BA16="N/A","N/A",MIN(BA16:BD16)) -> 157232.97 | BF16: =+IF(BA16="N/A","N/A",ROUND(AVERAGE(BA16:BD16),0)) -> 195075 | BG16: =+IF(BE16="N/A","N/A",AVERAGE(BE16:BF16)) -> 176153.99 | BI16: 208075 | BJ16: 219916.67 | BL16: 157232.97 | BM16: =+IF(BI16="N/A","N/A",MIN(BI16:BL16)) -> 157232.97 | BN16: =+IF(BI16="N/A","N/A",ROUND(AVERAGE(BI16:BL16),0)) -> 195075 | BO16: =+IF(BM16="N/A","N/A",AVERAGE(BM16:BN16)) -> 176153.99 | BQ16: 208075 | BR16: 219916.67 | BT16: 157232.97 | BU16: =+IF(BQ16="N/A","N/A",MIN(BQ16:BT16)) -> 157232.97 | BV16: =+IF(BQ16="N/A","N/A",ROUND(AVERAGE(BQ16:BT16),0)) -> 195075 | BW16: =+IF(BU16="N/A","N/A",AVERAGE(BU16:BV16)) -> 176153.99 | BY16: N/A | BZ16: N/A | CA16: N/A | CB16: N/A | CC16: N/A | CD16: N/A | CE16: N/A | CG16: 177151.86 | CH16: 187233.68 | CJ16: 133865.74 | CK16: =+IF(CG16="N/A","N/A",MIN(CG16:CJ16)) -> 133865.74 | CL16: =+IF(CG16="N/A","N/A",ROUND(AVERAGE(CG16:CJ16),0)) -> 166084 | CM16: =+IF(CK16="N/A","N/A",AVERAGE(CK16:CL16)) -> 149974.87 | CO16: 175665.91 | CP16: 185663.15 | CR16: 132742.87 | CS16: =+IF(CO16="N/A","N/A",MIN(CO16:CR16)) -> 132742.87 | CT16: =+IF(CO16="N/A","N/A",ROUND(AVERAGE(CO16:CR16),0)) -> 164691 | CU16: =+IF(CS16="N/A","N/A",AVERAGE(CS16:CT16)) -> 148716.93 | CW16: 201925 | CX16: 213416.67 | CZ16: 152585.69 | DA16: =+IF(CW16="N/A","N/A",MIN(CW16:CZ16)) -> 152585.69 | DB16: =+IF(CW16="N/A","N/A",ROUND(AVERAGE(CW16:CZ16),0)) -> 189309 | DC16: =+IF(DA16="N/A","N/A",AVERAGE(DA16:DB16)) -> 170947.35 | DE16: N/A | DF16: N/A | DG16: N/A | DH16: N/A | DI16: N/A | DJ16: N/A | DK16: N/A | DM16: N/A | DN16: N/A | DO16: N/A | DP16: N/A | DQ16: N/A | DR16: N/A | DS16: N/A | DU16: N/A | DV16: N/A | DX16: N/A | DY16: N/A | DZ16: N/A | EA16: N/A | ED16: 219916.67 | EG16: =+IF(EC16="N/A","N/A",MIN(EC16:EF16)) -> 219916.67 | EH16: =+IF(EC16="N/A","N/A",ROUND(AVERAGE(EC16:EF16),0)) -> 219917 | EI16: =+IF(EG16="N/A","N/A",AVERAGE(EG16:EH16)) -> 219916.83 | EK16: N/A | EL16: N/A | EM16: N/A | EN16: N/A | EO16: N/A | EP16: N/A | EQ16: N/A
A17: 2 | B17: Juego De Bandas Frenos (Dos pares) | C17: 1 | E17: 303241.5 | F17: 320499.15 | H17: 229146.04 | I17: =+IF(E17="N/A","N/A",MIN(E17:H17)) -> 229146.04 | J17: =+IF(E17="N/A","N/A",ROUND(AVERAGE(E17:H17),0)) -> 284296 | K17: =+IF(I17="N/A","N/A",AVERAGE(I17:J17)) -> 256721.02 | M17: 481750 | N17: 509166.67 | P17: 364036.93 | Q17: =+IF(M17="N/A","N/A",MIN(M17:P17)) -> 364036.93 | R17: =+IF(M17="N/A","N/A",ROUND(AVERAGE(M17:P17),0)) -> 451651 | S17: =+IF(Q17="N/A","N/A",AVERAGE(Q17:R17)) -> 407843.97 | U17: 357327.19 | V17: 483166.67 | X17: 270016.18 | Y17: =+IF(U17="N/A","N/A",MIN(U17:X17)) -> 270016.18 | Z17: =+IF(U17="N/A","N/A",ROUND(AVERAGE(U17:X17),0)) -> 370170 | AA17: =+IF(Y17="N/A","N/A",AVERAGE(Y17:Z17)) -> 320093.09 | AC17: 345735.78 | AD17: 365411.8 | AF17: 261257.07 | AG17: =+IF(AC17="N/A","N/A",MIN(AC17:AF17)) -> 261257.07 | AH17: =+IF(AC17="N/A","N/A",ROUND(AVERAGE(AC17:AF17),0)) -> 324135 | AI17: =+IF(AG17="N/A","N/A",AVERAGE(AG17:AH17)) -> 292696.03 | AK17: 384667.18 | AL17: 406558.81 | AN17: 290675.79 | AO17: =+IF(AK17="N/A","N/A",MIN(AK17:AN17)) -> 290675.79 | AP17: =+IF(AK17="N/A","N/A",ROUND(AVERAGE(AK17:AN17),0)) -> 360634 | AQ17: =+IF(AO17="N/A","N/A",AVERAGE(AO17:AP17)) -> 325654.89 | AS17: 360324.88 | AT17: 380831.17 | AV17: 272281.4 | AW17: =+IF(AS17="N/A","N/A",MIN(AS17:AV17)) -> 272281.4 | AX17: =+IF(AS17="N/A","N/A",ROUND(AVERAGE(AS17:AV17),0)) -> 337812 | AY17: =+IF(AW17="N/A","N/A",AVERAGE(AW17:AX17)) -> 305046.7 | BA17: 578100 | BB17: 611000 | BD17: 436844.32 | BE17: =+IF(BA17="N/A","N/A",MIN(BA17:BD17)) -> 436844.32 | BF17: =+IF(BA17="N/A","N/A",ROUND(AVERAGE(BA17:BD17),0)) -> 541981 | BG17: =+IF(BE17="N/A","N/A",AVERAGE(BE17:BF17)) -> 489412.66 | BI17: 578100 | BJ17: 611000 | BL17: 436844.32 | BM17: =+IF(BI17="N/A","N/A",MIN(BI17:BL17)) -> 436844.32 | BN17: =+IF(BI17="N/A","N/A",ROUND(AVERAGE(BI17:BL17),0)) -> 541981 | BO17: =+IF(BM17="N/A","N/A",AVERAGE(BM17:BN17)) -> 489412.66 | BQ17: 557600 | BR17: 589333.33 | BT17: 421353.39 | BU17: =+IF(BQ17="N/A","N/A",MIN(BQ17:BT17)) -> 421353.39 | BV17: =+IF(BQ17="N/A","N/A",ROUND(AVERAGE(BQ17:BT17),0)) -> 522762 | BW17: =+IF(BU17="N/A","N/A",AVERAGE(BU17:BV17)) -> 472057.69 | BY17: 319800 | BZ17: 338000 | CB17: 241658.56 | CC17: =+IF(BY17="N/A","N/A",MIN(BY17:CB17)) -> 241658.56 | CD17: =+IF(BY17="N/A","N/A",ROUND(AVERAGE(BY17:CB17),0)) -> 299820 | CE17: =+IF(CC17="N/A","N/A",AVERAGE(CC17:CD17)) -> 270739.28 | CG17: 431362.53 | CH17: 455911.62 | CJ17: 325961.38 | CK17: =+IF(CG17="N/A","N/A",MIN(CG17:CJ17)) -> 325961.38 | CL17: =+IF(CG17="N/A","N/A",ROUND(AVERAGE(CG17:CJ17),0)) -> 404412 | CM17: =+IF(CK17="N/A","N/A",AVERAGE(CK17:CL17)) -> 365186.69 | CO17: 378542.95 | CP17: 400086.04 | CR17: 286047.98 | CS17: =+IF(CO17="N/A","N/A",MIN(CO17:CR17)) -> 286047.98 | CT17: =+IF(CO17="N/A","N/A",ROUND(AVERAGE(CO17:CR17),0)) -> 354892 | CU17: =+IF(CS17="N/A","N/A",AVERAGE(CS17:CT17)) -> 320469.99 | CW17: 526850 | CX17: 556833.33 | CZ17: 398116.99 | DA17: =+IF(CW17="N/A","N/A",MIN(CW17:CZ17)) -> 398116.99 | DB17: =+IF(CW17="N/A","N/A",ROUND(AVERAGE(CW17:CZ17),0)) -> 493933 | DC17: =+IF(DA17="N/A","N/A",AVERAGE(DA17:DB17)) -> 446024.99 | DE17: 254056.99 | DF17: 268515.52 | DH17: 191979.51 | DI17: =+IF(DE17="N/A","N/A",MIN(DE17:DH17)) -> 191979.51 | DJ17: =+IF(DE17="N/A","N/A",ROUND(AVERAGE(DE17:DH17),0)) -> 238184 | DK17: =+IF(DI17="N/A","N/A",AVERAGE(DI17:DJ17)) -> 215081.75 | DM17: 254056.99 | DN17: 268515.52 | DP17: 191979.51 | DQ17: =+IF(DM17="N/A","N/A",MIN(DM17:DP17)) -> 191979.51 | DR17: =+IF(DM17="N/A","N/A",ROUND(AVERAGE(DM17:DP17),0)) -> 238184 | DS17: =+IF(DQ17="N/A","N/A",AVERAGE(DQ17:DR17)) -> 215081.75 | DV17: 268787.88 | DY17: =+IF(DU17="N/A","N/A",MIN(DU17:DX17)) -> 268787.88 | DZ17: =+IF(DU17="N/A","N/A",ROUND(AVERAGE(DU17:DX17),0)) -> 268788 | EA17: =+IF(DY17="N/A","N/A",AVERAGE(DY17:DZ17)) -> 268787.94 | EC17: N/A | ED17: N/A | EE17: N/A | EF17: N/A | EG17: N/A | EH17: N/A | EI17: N/A | EL17: 338000 | EO17: =+IF(EK17="N/A","N/A",MIN(EK17:EN17)) -> 338000 | EP17: =+IF(EK17="N/A","N/A",ROUND(AVERAGE(EK17:EN17),0)) -> 338000 | EQ17: =+IF(EO17="N/A","N/A",AVERAGE(EO17:EP17)) -> 338000
A18: 3 | B18: Cilindro De Freno | C18: 1 | E18: 257941.53 | F18: 272621.13 | H18: 194914.88 | I18: =+IF(E18="N/A","N/A",MIN(E18:H18)) -> 194914.88 | J18: =+IF(E18="N/A","N/A",ROUND(AVERAGE(E18:H18),0)) -> 241826 | K18: =+IF(I18="N/A","N/A",AVERAGE(I18:J18)) -> 218370.44 | M18: 387450 | N18: 409500 | P18: 292778.64 | Q18: =+IF(M18="N/A","N/A",MIN(M18:P18)) -> 292778.64 | R18: =+IF(M18="N/A","N/A",ROUND(AVERAGE(M18:P18),0)) -> 363243 | S18: =+IF(Q18="N/A","N/A",AVERAGE(Q18:R18)) -> 328010.82 | U18: 224763.01 | V18: 255666.67 | X18: 169843.36 | Y18: =+IF(U18="N/A","N/A",MIN(U18:X18)) -> 169843.36 | Z18: =+IF(U18="N/A","N/A",ROUND(AVERAGE(U18:X18),0)) -> 216758 | AA18: =+IF(Y18="N/A","N/A",AVERAGE(Y18:Z18)) -> 193300.68 | AC18: 231792.67 | AD18: 244984.12 | AF18: 175155.36 | AG18: =+IF(AC18="N/A","N/A",MIN(AC18:AF18)) -> 175155.36 | AH18: =+IF(AC18="N/A","N/A",ROUND(AVERAGE(AC18:AF18),0)) -> 217311 | AI18: =+IF(AG18="N/A","N/A",AVERAGE(AG18:AH18)) -> 196233.18 | AK18: 263771.55 | AL18: 278782.94 | AN18: 199320.36 | AO18: =+IF(AK18="N/A","N/A",MIN(AK18:AN18)) -> 199320.36 | AP18: =+IF(AK18="N/A","N/A",ROUND(AVERAGE(AK18:AN18),0)) -> 247292 | AQ18: =+IF(AO18="N/A","N/A",AVERAGE(AO18:AP18)) -> 223306.18 | AS18: 231089.2 | AT18: 244240.62 | AV18: 174623.77 | AW18: =+IF(AS18="N/A","N/A",MIN(AS18:AV18)) -> 174623.77 | AX18: =+IF(AS18="N/A","N/A",ROUND(AVERAGE(AS18:AV18),0)) -> 216651 | AY18: =+IF(AW18="N/A","N/A",AVERAGE(AW18:AX18)) -> 195637.39 | BA18: 299300 | BB18: 316333.33 | BD18: 226167.63 | BE18: =+IF(BA18="N/A","N/A",MIN(BA18:BD18)) -> 226167.63 | BF18: =+IF(BA18="N/A","N/A",ROUND(AVERAGE(BA18:BD18),0)) -> 280600 | BG18: =+IF(BE18="N/A","N/A",AVERAGE(BE18:BF18)) -> 253383.81 | BI18: 309550 | BJ18: 327166.67 | BL18: 233913.09 | BM18: =+IF(BI18="N/A","N/A",MIN(BI18:BL18)) -> 233913.09 | BN18: =+IF(BI18="N/A","N/A",ROUND(AVERAGE(BI18:BL18),0)) -> 290210 | BO18: =+IF(BM18="N/A","N/A",AVERAGE(BM18:BN18)) -> 262061.55 | BQ18: 319800 | BR18: 338000 | BT18: 241658.56 | BU18: =+IF(BQ18="N/A","N/A",MIN(BQ18:BT18)) -> 241658.56 | BV18: =+IF(BQ18="N/A","N/A",ROUND(AVERAGE(BQ18:BT18),0)) -> 299820 | BW18: =+IF(BU18="N/A","N/A",AVERAGE(BU18:BV18)) -> 270739.28 | BY18: 258300 | BZ18: 273000 | CB18: 195185.76 | CC18: =+IF(BY18="N/A","N/A",MIN(BY18:CB18)) -> 195185.76 | CD18: =+IF(BY18="N/A","N/A",ROUND(AVERAGE(BY18:CB18),0)) -> 242162 | CE18: =+IF(CC18="N/A","N/A",AVERAGE(CC18:CD18)) -> 218673.88 | CG18: 298146.58 | CH18: 315114.28 | CJ18: 225296.04 | CK18: =+IF(CG18="N/A","N/A",MIN(CG18:CJ18)) -> 225296.04 | CL18: =+IF(CG18="N/A","N/A",ROUND(AVERAGE(CG18:CJ18),0)) -> 279519 | CM18: =+IF(CK18="N/A","N/A",AVERAGE(CK18:CL18)) -> 252407.52 | CO18: 266120.2 | CP18: 281265.25 | CR18: 201095.13 | CS18: =+IF(CO18="N/A","N/A",MIN(CO18:CR18)) -> 201095.13 | CT18: =+IF(CO18="N/A","N/A",ROUND(AVERAGE(CO18:CR18),0)) -> 249494 | CU18: =+IF(CS18="N/A","N/A",AVERAGE(CS18:CT18)) -> 225294.57 | CW18: 272650 | CX18: 288166.67 | CZ18: 206029.41 | DA18: =+IF(CW18="N/A","N/A",MIN(CW18:CZ18)) -> 206029.41 | DB18: =+IF(CW18="N/A","N/A",ROUND(AVERAGE(CW18:CZ18),0)) -> 255615 | DC18: =+IF(DA18="N/A","N/A",AVERAGE(DA18:DB18)) -> 230822.21 | DE18: 246332.63 | DF18: 260351.56 | DH18: 186142.55 | DI18: =+IF(DE18="N/A","N/A",MIN(DE18:DH18)) -> 186142.55 | DJ18: =+IF(DE18="N/A","N/A",ROUND(AVERAGE(DE18:DH18),0)) -> 230942 | DK18: =+IF(DI18="N/A","N/A",AVERAGE(DI18:DJ18)) -> 208542.28 | DM18: 250198.91 | DN18: 264437.87 | DP18: 189064.13 | DQ18: =+IF(DM18="N/A","N/A",MIN(DM18:DP18)) -> 189064.13 | DR18: =+IF(DM18="N/A","N/A",ROUND(AVERAGE(DM18:DP18),0)) -> 234567 | DS18: =+IF(DQ18="N/A","N/A",AVERAGE(DQ18:DR18)) -> 211815.56 | DV18: 250554.4 | DY18: =+IF(DU18="N/A","N/A",MIN(DU18:DX18)) -> 250554.4 | DZ18: =+IF(DU18="N/A","N/A",ROUND(AVERAGE(DU18:DX18),0)) -> 250554 | EA18: =+IF(DY18="N/A","N/A",AVERAGE(DY18:DZ18)) -> 250554.2 | EC18: N/A | ED18: N/A | EE18: N/A | EF18: N/A | EG18: N/A | EH18: N/A | EI18: N/A | EL18: 273000 | EO18: =+IF(EK18="N/A","N/A",MIN(EK18:EN18)) -> 273000 | EP18: =+IF(EK18="N/A","N/A",ROUND(AVERAGE(EK18:EN18),0)) -> 273000 | EQ18: =+IF(EO18="N/A","N/A",AVERAGE(EO18:EP18)) -> 273000
A19: 4 | B19: Discos De Frenos Delanteros (Par) | C19: 1 | E19: 669531.64 | F19: 707635.06 | H19: 505935.12 | I19: =+IF(E19="N/A","N/A",MIN(E19:H19)) -> 505935.12 | J19: =+IF(E19="N/A","N/A",ROUND(AVERAGE(E19:H19),0)) -> 627701 | K19: =+IF(I19="N/A","N/A",AVERAGE(I19:J19)) -> 566818.06 | M19: 891750 | N19: 942500 | P19: 673855.6 | Q19: =+IF(M19="N/A","N/A",MIN(M19:P19)) -> 673855.6 | R19: =+IF(M19="N/A","N/A",ROUND(AVERAGE(M19:P19),0)) -> 836035 | S19: =+IF(Q19="N/A","N/A",AVERAGE(Q19:R19)) -> 754945.3 | U19: 657464.15 | V19: 790833.33 | X19: 496816.26 | Y19: =+IF(U19="N/A","N/A",MIN(U19:X19)) -> 496816.26 | Z19: =+IF(U19="N/A","N/A",ROUND(AVERAGE(U19:X19),0)) -> 648371 | AA19: =+IF(Y19="N/A","N/A",AVERAGE(Y19:Z19)) -> 572593.63 | AC19: 607256.21 | AD19: 641815.51 | AF19: 458876.37 | AG19: =+IF(AC19="N/A","N/A",MIN(AC19:AF19)) -> 458876.37 | AH19: =+IF(AC19="N/A","N/A",ROUND(AVERAGE(AC19:AF19),0)) -> 569316 | AI19: =+IF(AG19="N/A","N/A",AVERAGE(AG19:AH19)) -> 514096.18 | AK19: 667829.5 | AL19: 705836.05 | AN19: 504648.89 | AO19: =+IF(AK19="N/A","N/A",MIN(AK19:AN19)) -> 504648.89 | AP19: =+IF(AK19="N/A","N/A",ROUND(AVERAGE(AK19:AN19),0)) -> 626105 | AQ19: =+IF(AO19="N/A","N/A",AVERAGE(AO19:AP19)) -> 565376.94 | AS19: 616768.95 | AT19: 651869.62 | AV19: 466064.72 | AW19: =+IF(AS19="N/A","N/A",MIN(AS19:AV19)) -> 466064.72 | AX19: =+IF(AS19="N/A","N/A",ROUND(AVERAGE(AS19:AV19),0)) -> 578234 | AY19: =+IF(AW19="N/A","N/A",AVERAGE(AW19:AX19)) -> 522149.36 | BA19: 707250 | BB19: 747500 | BD19: 534437.2 | BE19: =+IF(BA19="N/A","N/A",MIN(BA19:BD19)) -> 534437.2 | BF19: =+IF(BA19="N/A","N/A",ROUND(AVERAGE(BA19:BD19),0)) -> 663062 | BG19: =+IF(BE19="N/A","N/A",AVERAGE(BE19:BF19)) -> 598749.6 | BI19: 697000 | BJ19: 736666.67 | BL19: 526691.73 | BM19: =+IF(BI19="N/A","N/A",MIN(BI19:BL19)) -> 526691.73 | BN19: =+IF(BI19="N/A","N/A",ROUND(AVERAGE(BI19:BL19),0)) -> 653453 | BO19: =+IF(BM19="N/A","N/A",AVERAGE(BM19:BN19)) -> 590072.37 | BQ19: 799500 | BR19: 845000 | BT19: 604146.4 | BU19: =+IF(BQ19="N/A","N/A",MIN(BQ19:BT19)) -> 604146.4 | BV19: =+IF(BQ19="N/A","N/A",ROUND(AVERAGE(BQ19:BT19),0)) -> 749549 | BW19: =+IF(BU19="N/A","N/A",AVERAGE(BU19:BV19)) -> 676847.7 | BY19: 717500 | BZ19: 758333.33 | CB19: 542182.67 | CC19: =+IF(BY19="N/A","N/A",MIN(BY19:CB19)) -> 542182.67 | CD19: =+IF(BY19="N/A","N/A",ROUND(AVERAGE(BY19:CB19),0)) -> 672672 | CE19: =+IF(CC19="N/A","N/A",AVERAGE(CC19:CD19)) -> 607427.33 | CG19: 725545.9 | CH19: 766837.14 | CJ19: 548262.6 | CK19: =+IF(CG19="N/A","N/A",MIN(CG19:CJ19)) -> 548262.6 | CL19: =+IF(CG19="N/A","N/A",ROUND(AVERAGE(CG19:CJ19),0)) -> 680215 | CM19: =+IF(CK19="N/A","N/A",AVERAGE(CK19:CL19)) -> 614238.8 | CO19: 627832.99 | CP19: 663563.32 | CR19: 474425.32 | CS19: =+IF(CO19="N/A","N/A",MIN(CO19:CR19)) -> 474425.32 | CT19: =+IF(CO19="N/A","N/A",ROUND(AVERAGE(CO19:CR19),0)) -> 588607 | CU19: =+IF(CS19="N/A","N/A",AVERAGE(CS19:CT19)) -> 531516.16 | CW19: 666250 | CX19: 704166.67 | CZ19: 503455.33 | DA19: =+IF(CW19="N/A","N/A",MIN(CW19:CZ19)) -> 503455.33 | DB19: =+IF(CW19="N/A","N/A",ROUND(AVERAGE(CW19:CZ19),0)) -> 624624 | DC19: =+IF(DA19="N/A","N/A",AVERAGE(DA19:DB19)) -> 564039.67 | DE19: 589352.48 | DF19: 622892.87 | DH19: 445347.32 | DI19: =+IF(DE19="N/A","N/A",MIN(DE19:DH19)) -> 445347.32 | DJ19: =+IF(DE19="N/A","N/A",ROUND(AVERAGE(DE19:DH19),0)) -> 552531 | DK19: =+IF(DI19="N/A","N/A",AVERAGE(DI19:DJ19)) -> 498939.16 | DM19: 603421.91 | DN19: 637763 | DP19: 455978.96 | DQ19: =+IF(DM19="N/A","N/A",MIN(DM19:DP19)) -> 455978.96 | DR19: =+IF(DM19="N/A","N/A",ROUND(AVERAGE(DM19:DP19),0)) -> 565721 | DS19: =+IF(DQ19="N/A","N/A",AVERAGE(DQ19:DR19)) -> 510849.98 | DV19: 658976.16 | DY19: =+IF(DU19="N/A","N/A",MIN(DU19:DX19)) -> 658976.16 | DZ19: =+IF(DU19="N/A","N/A",ROUND(AVERAGE(DU19:DX19),0)) -> 658976 | EA19: =+IF(DY19="N/A","N/A",AVERAGE(DY19:DZ19)) -> 658976.08 | ED19: 834166.67 | EG19: =+IF(EC19="N/A","N/A",MIN(EC19:EF19)) -> 834166.67 | EH19: =+IF(EC19="N/A","N/A",ROUND(AVERAGE(EC19:EF19),0)) -> 834167 | EI19: =+IF(EG19="N/A","N/A",AVERAGE(EG19:EH19)) -> 834166.83 | EL19: 758333.33 | EO19: =+IF(EK19="N/A","N/A",MIN(EK19:EN19)) -> 758333.33 | EP19: =+IF(EK19="N/A","N/A",ROUND(AVERAGE(EK19:EN19),0)) -> 758333 | EQ19: =+IF(EO19="N/A","N/A",AVERAGE(EO19:EP19)) -> 758333.17
A20: 5 | B20: Juego De Pastillas De Frenos Delantera (Dos pares) | C20: 1 | E20: 287358.79 | F20: 303712.55 | H20: 217144.19 | I20: =+IF(E20="N/A","N/A",MIN(E20:H20)) -> 217144.19 | J20: =+IF(E20="N/A","N/A",ROUND(AVERAGE(E20:H20),0)) -> 269405 | K20: =+IF(I20="N/A","N/A",AVERAGE(I20:J20)) -> 243274.6 | M20: 303400 | N20: 320666.67 | P20: 229265.81 | Q20: =+IF(M20="N/A","N/A",MIN(M20:P20)) -> 229265.81 | R20: =+IF(M20="N/A","N/A",ROUND(AVERAGE(M20:P20),0)) -> 284444 | S20: =+IF(Q20="N/A","N/A",AVERAGE(Q20:R20)) -> 256854.91 | U20: 271739.47 | V20: 299000 | X20: 205341.37 | Y20: =+IF(U20="N/A","N/A",MIN(U20:X20)) -> 205341.37 | Z20: =+IF(U20="N/A","N/A",ROUND(AVERAGE(U20:X20),0)) -> 258694 | AA20: =+IF(Y20="N/A","N/A",AVERAGE(Y20:Z20)) -> 232017.68 | AC20: 276578.85 | AD20: 292319.11 | AF20: 208998.27 | AG20: =+IF(AC20="N/A","N/A",MIN(AC20:AF20)) -> 208998.27 | AH20: =+IF(AC20="N/A","N/A",ROUND(AVERAGE(AC20:AF20),0)) -> 259299 | AI20: =+IF(AG20="N/A","N/A",AVERAGE(AG20:AH20)) -> 234148.64 | AK20: 304175.95 | AL20: 321486.78 | AN20: 229852.17 | AO20: =+IF(AK20="N/A","N/A",MIN(AK20:AN20)) -> 229852.17 | AP20: =+IF(AK20="N/A","N/A",ROUND(AVERAGE(AK20:AN20),0)) -> 285172 | AQ20: =+IF(AO20="N/A","N/A",AVERAGE(AO20:AP20)) -> 257512.08 | AS20: 275171.91 | AT20: 290832.1 | AV20: 207935.11 | AW20: =+IF(AS20="N/A","N/A",MIN(AS20:AV20)) -> 207935.11 | AX20: =+IF(AS20="N/A","N/A",ROUND(AVERAGE(AS20:AV20),0)) -> 257980 | AY20: =+IF(AW20="N/A","N/A",AVERAGE(AW20:AX20)) -> 232957.55 | BA20: 328000 | BB20: 346666.67 | BD20: 247854.93 | BE20: =+IF(BA20="N/A","N/A",MIN(BA20:BD20)) -> 247854.93 | BF20: =+IF(BA20="N/A","N/A",ROUND(AVERAGE(BA20:BD20),0)) -> 307507 | BG20: =+IF(BE20="N/A","N/A",AVERAGE(BE20:BF20)) -> 277680.97 | BI20: 317750 | BJ20: 335833.33 | BL20: 240109.47 | BM20: =+IF(BI20="N/A","N/A",MIN(BI20:BL20)) -> 240109.47 | BN20: =+IF(BI20="N/A","N/A",ROUND(AVERAGE(BI20:BL20),0)) -> 297898 | BO20: =+IF(BM20="N/A","N/A",AVERAGE(BM20:BN20)) -> 269003.73 | BQ20: 313650 | BR20: 331500 | BT20: 237011.28 | BU20: =+IF(BQ20="N/A","N/A",MIN(BQ20:BT20)) -> 237011.28 | BV20: =+IF(BQ20="N/A","N/A",ROUND(AVERAGE(BQ20:BT20),0)) -> 294054 | BW20: =+IF(BU20="N/A","N/A",AVERAGE(BU20:BV20)) -> 265532.64 | BY20: 248050 | BZ20: 262166.67 | CB20: 187440.29 | CC20: =+IF(BY20="N/A","N/A",MIN(BY20:CB20)) -> 187440.29 | CD20: =+IF(BY20="N/A","N/A",ROUND(AVERAGE(BY20:CB20),0)) -> 232552 | CE20: =+IF(CC20="N/A","N/A",AVERAGE(CC20:CD20)) -> 209996.15 | CG20: 333766.56 | CH20: 352761.41 | CJ20: 252212.47 | CK20: =+IF(CG20="N/A","N/A",MIN(CG20:CJ20)) -> 252212.47 | CL20: =+IF(CG20="N/A","N/A",ROUND(AVERAGE(CG20:CJ20),0)) -> 312913 | CM20: =+IF(CK20="N/A","N/A",AVERAGE(CK20:CL20)) -> 282562.73 | CO20: 303149.68 | CP20: 320402.1 | CR20: 229076.66 | CS20: =+IF(CO20="N/A","N/A",MIN(CO20:CR20)) -> 229076.66 | CT20: =+IF(CO20="N/A","N/A",ROUND(AVERAGE(CO20:CR20),0)) -> 284209 | CU20: =+IF(CS20="N/A","N/A",AVERAGE(CS20:CT20)) -> 256642.83 | CW20: 307500 | CX20: 325000 | CZ20: 232364 | DA20: =+IF(CW20="N/A","N/A",MIN(CW20:CZ20)) -> 232364 | DB20: =+IF(CW20="N/A","N/A",ROUND(AVERAGE(CW20:CZ20),0)) -> 288288 | DC20: =+IF(DA20="N/A","N/A",AVERAGE(DA20:DB20)) -> 260326 | DE20: 244919.5 | DF20: 258858.01 | DH20: 185074.71 | DI20: =+IF(DE20="N/A","N/A",MIN(DE20:DH20)) -> 185074.71 | DJ20: =+IF(DE20="N/A","N/A",ROUND(AVERAGE(DE20:DH20),0)) -> 229617 | DK20: =+IF(DI20="N/A","N/A",AVERAGE(DI20:DJ20)) -> 207345.86 | DM20: 248790.89 | DN20: 262949.72 | DP20: 188000.15 | DQ20: =+IF(DM20="N/A","N/A",MIN(DM20:DP20)) -> 188000.15 | DR20: =+IF(DM20="N/A","N/A",ROUND(AVERAGE(DM20:DP20),0)) -> 233247 | DS20: =+IF(DQ20="N/A","N/A",AVERAGE(DQ20:DR20)) -> 210623.58 | DV20: 262829.32 | DY20: =+IF(DU20="N/A","N/A",MIN(DU20:DX20)) -> 262829.32 | DZ20: =+IF(DU20="N/A","N/A",ROUND(AVERAGE(DU20:DX20),0)) -> 262829 | EA20: =+IF(DY20="N/A","N/A",AVERAGE(DY20:DZ20)) -> 262829.16 | ED20: 348833.33 | EG20: =+IF(EC20="N/A","N/A",MIN(EC20:EF20)) -> 348833.33 | EH20: =+IF(EC20="N/A","N/A",ROUND(AVERAGE(EC20:EF20),0)) -> 348833 | EI20: =+IF(EG20="N/A","N/A",AVERAGE(EG20:EH20)) -> 348833.17 | EL20: 262166.67 | EO20: =+IF(EK20="N/A","N/A",MIN(EK20:EN20)) -> 262166.67 | EP20: =+IF(EK20="N/A","N/A",ROUND(AVERAGE(EK20:EN20),0)) -> 262167 | EQ20: =+IF(EO20="N/A","N/A",AVERAGE(EO20:EP20)) -> 262166.83
A21: 6 | B21: Juego De Pastillas De Frenos Traseras (Dos pares) | C21: 1 | E21: N/A | F21: N/A | G21: N/A | H21: N/A | I21: N/A | J21: N/A | K21: N/A | M21: N/A | N21: N/A | O21: N/A | P21: N/A | Q21: N/A | R21: N/A | S21: N/A | U21: N/A | V21: N/A | W21: N/A | X21: N/A | Y21: N/A | Z21: N/A | AA21: N/A | AC21: N/A | AD21: N/A | AE21: N/A | AF21: N/A | AG21: N/A | AH21: N/A | AI21: N/A | AK21: N/A | AL21: N/A | AM21: N/A | AN21: N/A | AO21: N/A | AP21: N/A | AQ21: N/A | AS21: N/A | AT21: N/A | AU21: N/A | AV21: N/A | AW21: N/A | AX21: N/A | AY21: N/A | BA21: N/A | BB21: N/A | BC21: N/A | BD21: N/A | BE21: N/A | BF21: N/A | BG21: N/A | BI21: N/A | BJ21: N/A | BK21: N/A | BL21: N/A | BM21: N/A | BN21: N/A | BO21: N/A | BQ21: N/A | BR21: N/A | BS21: N/A | BT21: N/A | BU21: N/A | BV21: N/A | BW21: N/A | BY21: N/A | BZ21: N/A | CA21: N/A | CB21: N/A | CC21: N/A | CD21: N/A | CE21: N/A | CG21: N/A | CH21: N/A | CI21: N/A | CJ21: N/A | CK21: N/A | CL21: N/A | CM21: N/A | CO21: N/A | CP21: N/A | CQ21: N/A | CR21: N/A | CS21: N/A | CT21: N/A | CU21: N/A | CW21: N/A | CX21: N/A | CY21: N/A | CZ21: N/A | DA21: N/A | DB21: N/A | DC21: N/A | DE21: N/A | DF21: N/A | DG21: N/A | DH21: N/A | DI21: N/A | DJ21: N/A | DK21: N/A | DM21: N/A | DN21: N/A | DO21: N/A | DP21: N/A | DQ21: N/A | DR21: N/A | DS21: N/A | DU21: N/A | DV21: N/A | DX21: N/A | DY21: N/A | DZ21: N/A | EA21: N/A | ED21: 422500 | EG21: =+IF(EC21="N/A","N/A",MIN(EC21:EF21)) -> 422500 | EH21: =+IF(EC21="N/A","N/A",ROUND(AVERAGE(EC21:EF21),0)) -> 422500 | EI21: =+IF(EG21="N/A","N/A",AVERAGE(EG21:EH21)) -> 422500 | EK21: N/A | EL21: N/A | EM21: N/A | EN21: N/A | EO21: N/A | EP21: N/A | EQ21: N/A
A22: 7 | B22: Pistón Caliper | C22: 1 | E22: 231241.86 | F22: 244401.97 | H22: 174739.13 | I22: =+IF(E22="N/A","N/A",MIN(E22:H22)) -> 174739.13 | J22: =+IF(E22="N/A","N/A",ROUND(AVERAGE(E22:H22),0)) -> 216794 | K22: =+IF(I22="N/A","N/A",AVERAGE(I22:J22)) -> 195766.57 | M22: 338250 | N22: 357500 | P22: 255600.4 | Q22: =+IF(M22="N/A","N/A",MIN(M22:P22)) -> 255600.4 | R22: =+IF(M22="N/A","N/A",ROUND(AVERAGE(M22:P22),0)) -> 317117 | S22: =+IF(Q22="N/A","N/A",AVERAGE(Q22:R22)) -> 286358.7 | U22: 218574.09 | V22: 251333.33 | X22: 165166.66 | Y22: =+IF(U22="N/A","N/A",MIN(U22:X22)) -> 165166.66 | Z22: =+IF(U22="N/A","N/A",ROUND(AVERAGE(U22:X22),0)) -> 211691 | AA22: =+IF(Y22="N/A","N/A",AVERAGE(Y22:Z22)) -> 188428.83 | AC22: 209984.64 | AD22: 221934.99 | AF22: 158676 | AG22: =+IF(AC22="N/A","N/A",MIN(AC22:AF22)) -> 158676 | AH22: =+IF(AC22="N/A","N/A",ROUND(AVERAGE(AC22:AF22),0)) -> 196865 | AI22: =+IF(AG22="N/A","N/A",AVERAGE(AG22:AH22)) -> 177770.5 | AK22: 241499.69 | AL22: 255243.58 | AN22: 182490.52 | AO22: =+IF(AK22="N/A","N/A",MIN(AK22:AN22)) -> 182490.52 | AP22: =+IF(AK22="N/A","N/A",ROUND(AVERAGE(AK22:AN22),0)) -> 226411 | AQ22: =+IF(AO22="N/A","N/A",AVERAGE(AO22:AP22)) -> 204450.76 | AS22: 224421.68 | AT22: 237193.65 | AV22: 169585.43 | AW22: =+IF(AS22="N/A","N/A",MIN(AS22:AV22)) -> 169585.43 | AX22: =+IF(AS22="N/A","N/A",ROUND(AVERAGE(AS22:AV22),0)) -> 210400 | AY22: =+IF(AW22="N/A","N/A",AVERAGE(AW22:AX22)) -> 189992.71 | BA22: 278800 | BB22: 294666.67 | BD22: 210676.69 | BE22: =+IF(BA22="N/A","N/A",MIN(BA22:BD22)) -> 210676.69 | BF22: =+IF(BA22="N/A","N/A",ROUND(AVERAGE(BA22:BD22),0)) -> 261381 | BG22: =+IF(BE22="N/A","N/A",AVERAGE(BE22:BF22)) -> 236028.85 | BI22: 268550 | BJ22: 283833.33 | BL22: 202931.23 | BM22: =+IF(BI22="N/A","N/A",MIN(BI22:BL22)) -> 202931.23 | BN22: =+IF(BI22="N/A","N/A",ROUND(AVERAGE(BI22:BL22),0)) -> 251772 | BO22: =+IF(BM22="N/A","N/A",AVERAGE(BM22:BN22)) -> 227351.61 | BQ22: 258300 | BR22: 273000 | BT22: 195185.76 | BU22: =+IF(BQ22="N/A","N/A",MIN(BQ22:BT22)) -> 195185.76 | BV22: =+IF(BQ22="N/A","N/A",ROUND(AVERAGE(BQ22:BT22),0)) -> 242162 | BW22: =+IF(BU22="N/A","N/A",AVERAGE(BU22:BV22)) -> 218673.88 | BY22: 237800 | BZ22: 251333.33 | CB22: 179694.83 | CC22: =+IF(BY22="N/A","N/A",MIN(BY22:CB22)) -> 179694.83 | CD22: =+IF(BY22="N/A","N/A",ROUND(AVERAGE(BY22:CB22),0)) -> 222943 | CE22: =+IF(CC22="N/A","N/A",AVERAGE(CC22:CD22)) -> 201318.91 | CG22: 250222.02 | CH22: 264462.3 | CJ22: 189081.59 | CK22: =+IF(CG22="N/A","N/A",MIN(CG22:CJ22)) -> 189081.59 | CL22: =+IF(CG22="N/A","N/A",ROUND(AVERAGE(CG22:CJ22),0)) -> 234589 | CM22: =+IF(CK22="N/A","N/A",AVERAGE(CK22:CL22)) -> 211835.3 | CO22: 185966.15 | CP22: 196549.58 | CR22: 140526.3 | CS22: =+IF(CO22="N/A","N/A",MIN(CO22:CR22)) -> 140526.3 | CT22: =+IF(CO22="N/A","N/A",ROUND(AVERAGE(CO22:CR22),0)) -> 174347 | CU22: =+IF(CS22="N/A","N/A",AVERAGE(CS22:CT22)) -> 157436.65 | CW22: 205000 | CX22: 216666.67 | CZ22: 154909.33 | DA22: =+IF(CW22="N/A","N/A",MIN(CW22:CZ22)) -> 154909.33 | DB22: =+IF(CW22="N/A","N/A",ROUND(AVERAGE(CW22:CZ22),0)) -> 192192 | DC22: =+IF(DA22="N/A","N/A",AVERAGE(DA22:DB22)) -> 173550.67 | DE22: 186052.44 | DF22: 196640.79 | DH22: 140591.51 | DI22: =+IF(DE22="N/A","N/A",MIN(DE22:DH22)) -> 140591.51 | DJ22: =+IF(DE22="N/A","N/A",ROUND(AVERAGE(DE22:DH22),0)) -> 174428 | DK22: =+IF(DI22="N/A","N/A",AVERAGE(DI22:DJ22)) -> 157509.75 | DM22: 195106.51 | DN22: 206210.13 | DP22: 147433.27 | DQ22: =+IF(DM22="N/A","N/A",MIN(DM22:DP22)) -> 147433.27 | DR22: =+IF(DM22="N/A","N/A",ROUND(AVERAGE(DM22:DP22),0)) -> 182917 | DS22: =+IF(DQ22="N/A","N/A",AVERAGE(DQ22:DR22)) -> 165175.13 | DV22: 195263.26 | DY22: =+IF(DU22="N/A","N/A",MIN(DU22:DX22)) -> 195263.26 | DZ22: =+IF(DU22="N/A","N/A",ROUND(AVERAGE(DU22:DX22),0)) -> 195263 | EA22: =+IF(DY22="N/A","N/A",AVERAGE(DY22:DZ22)) -> 195263.13 | ED22: 346666.67 | EG22: =+IF(EC22="N/A","N/A",MIN(EC22:EF22)) -> 346666.67 | EH22: =+IF(EC22="N/A","N/A",ROUND(AVERAGE(EC22:EF22),0)) -> 346667 | EI22: =+IF(EG22="N/A","N/A",AVERAGE(EG22:EH22)) -> 346666.83 | EL22: 251333.33 | EO22: =+IF(EK22="N/A","N/A",MIN(EK22:EN22)) -> 251333.33 | EP22: =+IF(EK22="N/A","N/A",ROUND(AVERAGE(EK22:EN22),0)) -> 251333 | EQ22: =+IF(EO22="N/A","N/A",AVERAGE(EO22:EP22)) -> 251333.17
A23: 8 | B23: Juego Interiores Caliper | C23: 1 | E23: 155963.92 | F23: 164839.91 | H23: 117854.96 | I23: =+IF(E23="N/A","N/A",MIN(E23:H23)) -> 117854.96 | J23: =+IF(E23="N/A","N/A",ROUND(AVERAGE(E23:H23),0)) -> 146220 | K23: =+IF(I23="N/A","N/A",AVERAGE(I23:J23)) -> 132037.48 | M23: 200900 | N23: 212333.33 | P23: 151811.15 | Q23: =+IF(M23="N/A","N/A",MIN(M23:P23)) -> 151811.15 | R23: =+IF(M23="N/A","N/A",ROUND(AVERAGE(M23:P23),0)) -> 188348 | S23: =+IF(Q23="N/A","N/A",AVERAGE(Q23:R23)) -> 170079.57 | U23: 134379.29 | V23: 158166.67 | X23: 101544.42 | Y23: =+IF(U23="N/A","N/A",MIN(U23:X23)) -> 101544.42 | Z23: =+IF(U23="N/A","N/A",ROUND(AVERAGE(U23:X23),0)) -> 131363 | AA23: =+IF(Y23="N/A","N/A",AVERAGE(Y23:Z23)) -> 116453.71 | AC23: 134114.2 | AD23: 141746.72 | AF23: 101344.1 | AG23: =+IF(AC23="N/A","N/A",MIN(AC23:AF23)) -> 101344.1 | AH23: =+IF(AC23="N/A","N/A",ROUND(AVERAGE(AC23:AF23),0)) -> 125735 | AI23: =+IF(AG23="N/A","N/A",AVERAGE(AG23:AH23)) -> 113539.55 | AK23: 160530.22 | AL23: 169666.08 | AN23: 121305.51 | AO23: =+IF(AK23="N/A","N/A",MIN(AK23:AN23)) -> 121305.51 | AP23: =+IF(AK23="N/A","N/A",ROUND(AVERAGE(AK23:AN23),0)) -> 150501 | AQ23: =+IF(AO23="N/A","N/A",AVERAGE(AO23:AP23)) -> 135903.25 | AS23: 153867.21 | AT23: 162623.88 | AV23: 116270.57 | AW23: =+IF(AS23="N/A","N/A",MIN(AS23:AV23)) -> 116270.57 | AX23: =+IF(AS23="N/A","N/A",ROUND(AVERAGE(AS23:AV23),0)) -> 144254 | AY23: =+IF(AW23="N/A","N/A",AVERAGE(AW23:AX23)) -> 130262.29 | BA23: 173225 | BB23: 183083.33 | BD23: 130898.39 | BE23: =+IF(BA23="N/A","N/A",MIN(BA23:BD23)) -> 130898.39 | BF23: =+IF(BA23="N/A","N/A",ROUND(AVERAGE(BA23:BD23),0)) -> 162402 | BG23: =+IF(BE23="N/A","N/A",AVERAGE(BE23:BF23)) -> 146650.19 | BI23: 172200 | BJ23: 182000 | BL23: 130123.84 | BM23: =+IF(BI23="N/A","N/A",MIN(BI23:BL23)) -> 130123.84 | BN23: =+IF(BI23="N/A","N/A",ROUND(AVERAGE(BI23:BL23),0)) -> 161441 | BO23: =+IF(BM23="N/A","N/A",AVERAGE(BM23:BN23)) -> 145782.42 | BQ23: 172200 | BR23: 182000 | BT23: 130123.84 | BU23: =+IF(BQ23="N/A","N/A",MIN(BQ23:BT23)) -> 130123.84 | BV23: =+IF(BQ23="N/A","N/A",ROUND(AVERAGE(BQ23:BT23),0)) -> 161441 | BW23: =+IF(BU23="N/A","N/A",AVERAGE(BU23:BV23)) -> 145782.42 | BY23: 149650 | BZ23: 158166.67 | CB23: 113083.81 | CC23: =+IF(BY23="N/A","N/A",MIN(BY23:CB23)) -> 113083.81 | CD23: =+IF(BY23="N/A","N/A",ROUND(AVERAGE(BY23:CB23),0)) -> 140300 | CE23: =+IF(CC23="N/A","N/A",AVERAGE(CC23:CD23)) -> 126691.91 | CG23: 161923.6 | CH23: 171138.76 | CJ23: 122358.42 | CK23: =+IF(CG23="N/A","N/A",MIN(CG23:CJ23)) -> 122358.42 | CL23: =+IF(CG23="N/A","N/A",ROUND(AVERAGE(CG23:CJ23),0)) -> 151807 | CM23: =+IF(CK23="N/A","N/A",AVERAGE(CK23:CL23)) -> 137082.71 | CO23: 147747.67 | CP23: 156156.08 | CR23: 111646.31 | CS23: =+IF(CO23="N/A","N/A",MIN(CO23:CR23)) -> 111646.31 | CT23: =+IF(CO23="N/A","N/A",ROUND(AVERAGE(CO23:CR23),0)) -> 138517 | CU23: =+IF(CS23="N/A","N/A",AVERAGE(CS23:CT23)) -> 125081.66 | CW23: 156825 | CX23: 165750 | CZ23: 118505.64 | DA23: =+IF(CW23="N/A","N/A",MIN(CW23:CZ23)) -> 118505.64 | DB23: =+IF(CW23="N/A","N/A",ROUND(AVERAGE(CW23:CZ23),0)) -> 147027 | DC23: =+IF(DA23="N/A","N/A",AVERAGE(DA23:DB23)) -> 132766.32 | DE23: 126172.84 | DF23: 133353.41 | DH23: 95343.172 | DI23: =+IF(DE23="N/A","N/A",MIN(DE23:DH23)) -> 95343.172 | DJ23: =+IF(DE23="N/A","N/A",ROUND(AVERAGE(DE23:DH23),0)) -> 118290 | DK23: =+IF(DI23="N/A","N/A",AVERAGE(DI23:DJ23)) -> 106816.59 | DM23: 134952.07 | DN23: 142632.27 | DP23: 101977.24 | DQ23: =+IF(DM23="N/A","N/A",MIN(DM23:DP23)) -> 101977.24 | DR23: =+IF(DM23="N/A","N/A",ROUND(AVERAGE(DM23:DP23),0)) -> 126521 | DS23: =+IF(DQ23="N/A","N/A",AVERAGE(DQ23:DR23)) -> 114249.12 | DV23: 130651.89 | DY23: =+IF(DU23="N/A","N/A",MIN(DU23:DX23)) -> 130651.89 | DZ23: =+IF(DU23="N/A","N/A",ROUND(AVERAGE(DU23:DX23),0)) -> 130652 | EA23: =+IF(DY23="N/A","N/A",AVERAGE(DY23:DZ23)) -> 130651.95 | ED23: 183083.33 | EG23: =+IF(EC23="N/A","N/A",MIN(EC23:EF23)) -> 183083.33 | EH23: =+IF(EC23="N/A","N/A",ROUND(AVERAGE(EC23:EF23),0)) -> 183083 | EI23: =+IF(EG23="N/A","N/A",AVERAGE(EG23:EH23)) -> 183083.17 | EL23: 158166.67 | EO23: =+IF(EK23="N/A","N/A",MIN(EK23:EN23)) -> 158166.67 | EP23: =+IF(EK23="N/A","N/A",ROUND(AVERAGE(EK23:EN23),0)) -> 158167 | EQ23: =+IF(EO23="N/A","N/A",AVERAGE(EO23:EP23)) -> 158166.83
A24: 9 | B24: Liquido De Freno (Pinta 290 ml) | C24: 1 | E24: 25121.553 | F24: 26551.235 | H24: 18983.234 | I24: =+IF(E24="N/A","N/A",MIN(E24:H24)) -> 18983.234 | J24: =+IF(E24="N/A","N/A",ROUND(AVERAGE(E24:H24),0)) -> 23552 | K24: =+IF(I24="N/A","N/A",AVERAGE(I24:J24)) -> 21267.617 | M24: 28700 | N24: 30333.333 | P24: 21687.307 | Q24: =+IF(M24="N/A","N/A",MIN(M24:P24)) -> 21687.307 | R24: =+IF(M24="N/A","N/A",ROUND(AVERAGE(M24:P24),0)) -> 26907 | S24: =+IF(Q24="N/A","N/A",AVERAGE(Q24:R24)) -> 24297.153 | U24: 25392.309 | V24: 30333.333 | X24: 19187.833 | Y24: =+IF(U24="N/A","N/A",MIN(U24:X24)) -> 19187.833 | Z24: =+IF(U24="N/A","N/A",ROUND(AVERAGE(U24:X24),0)) -> 24971 | AA24: =+IF(Y24="N/A","N/A",AVERAGE(Y24:Z24)) -> 22079.416 | AC24: 25392.309 | AD24: 26837.4 | AF24: 19187.833 | AG24: =+IF(AC24="N/A","N/A",MIN(AC24:AF24)) -> 19187.833 | AH24: =+IF(AC24="N/A","N/A",ROUND(AVERAGE(AC24:AF24),0)) -> 23806 | AI24: =+IF(AG24="N/A","N/A",AVERAGE(AG24:AH24)) -> 21496.916 | AK24: 26017.695 | AL24: 27498.377 | AN24: 19660.409 | AO24: =+IF(AK24="N/A","N/A",MIN(AK24:AN24)) -> 19660.409 | AP24: =+IF(AK24="N/A","N/A",ROUND(AVERAGE(AK24:AN24),0)) -> 24392 | AQ24: =+IF(AO24="N/A","N/A",AVERAGE(AO24:AP24)) -> 22026.204 | AS24: 25392.309 | AT24: 26837.4 | AV24: 19187.833 | AW24: =+IF(AS24="N/A","N/A",MIN(AS24:AV24)) -> 19187.833 | AX24: =+IF(AS24="N/A","N/A",ROUND(AVERAGE(AS24:AV24),0)) -> 23806 | AY24: =+IF(AW24="N/A","N/A",AVERAGE(AW24:AX24)) -> 21496.916 | BA24: 28700 | BB24: 30333.333 | BD24: 21687.307 | BE24: =+IF(BA24="N/A","N/A",MIN(BA24:BD24)) -> 21687.307 | BF24: =+IF(BA24="N/A","N/A",ROUND(AVERAGE(BA24:BD24),0)) -> 26907 | BG24: =+IF(BE24="N/A","N/A",AVERAGE(BE24:BF24)) -> 24297.153 | BI24: 28700 | BJ24: 30333.333 | BL24: 21687.307 | BM24: =+IF(BI24="N/A","N/A",MIN(BI24:BL24)) -> 21687.307 | BN24: =+IF(BI24="N/A","N/A",ROUND(AVERAGE(BI24:BL24),0)) -> 26907 | BO24: =+IF(BM24="N/A","N/A",AVERAGE(BM24:BN24)) -> 24297.153 | BQ24: 28700 | BR24: 30333.333 | BT24: 21687.307 | BU24: =+IF(BQ24="N/A","N/A",MIN(BQ24:BT24)) -> 21687.307 | BV24: =+IF(BQ24="N/A","N/A",ROUND(AVERAGE(BQ24:BT24),0)) -> 26907 | BW24: =+IF(BU24="N/A","N/A",AVERAGE(BU24:BV24)) -> 24297.153 | BY24: 28700 | BZ24: 30333.333 | CB24: 21687.307 | CC24: =+IF(BY24="N/A","N/A",MIN(BY24:CB24)) -> 21687.307 | CD24: =+IF(BY24="N/A","N/A",ROUND(AVERAGE(BY24:CB24),0)) -> 26907 | CE24: =+IF(CC24="N/A","N/A",AVERAGE(CC24:CD24)) -> 24297.153 | CG24: 26826.688 | CH24: 28353.41 | CJ24: 20271.728 | CK24: =+IF(CG24="N/A","N/A",MIN(CG24:CJ24)) -> 20271.728 | CL24: =+IF(CG24="N/A","N/A",ROUND(AVERAGE(CG24:CJ24),0)) -> 25151 | CM24: =+IF(CK24="N/A","N/A",AVERAGE(CK24:CL24)) -> 22711.364 | CO24: 25654.235 | CP24: 27114.232 | CR24: 19385.758 | CS24: =+IF(CO24="N/A","N/A",MIN(CO24:CR24)) -> 19385.758 | CT24: =+IF(CO24="N/A","N/A",ROUND(AVERAGE(CO24:CR24),0)) -> 24051 | CU24: =+IF(CS24="N/A","N/A",AVERAGE(CS24:CT24)) -> 21718.379 | CW24: 28700 | CX24: 30333.333 | CZ24: 21687.307 | DA24: =+IF(CW24="N/A","N/A",MIN(CW24:CZ24)) -> 21687.307 | DB24: =+IF(CW24="N/A","N/A",ROUND(AVERAGE(CW24:CZ24),0)) -> 26907 | DC24: =+IF(DA24="N/A","N/A",AVERAGE(DA24:DB24)) -> 24297.153 | DE24: 27178.423 | DF24: 28725.163 | DH24: 20537.519 | DI24: =+IF(DE24="N/A","N/A",MIN(DE24:DH24)) -> 20537.519 | DJ24: =+IF(DE24="N/A","N/A",ROUND(AVERAGE(DE24:DH24),0)) -> 25480 | DK24: =+IF(DI24="N/A","N/A",AVERAGE(DI24:DJ24)) -> 23008.76 | DM24: 27178.423 | DN24: 28725.163 | DP24: 20537.519 | DQ24: =+IF(DM24="N/A","N/A",MIN(DM24:DP24)) -> 20537.519 | DR24: =+IF(DM24="N/A","N/A",ROUND(AVERAGE(DM24:DP24),0)) -> 25480 | DS24: =+IF(DQ24="N/A","N/A",AVERAGE(DQ24:DR24)) -> 23008.76 | DV24: 26837.4 | DY24: =+IF(DU24="N/A","N/A",MIN(DU24:DX24)) -> 26837.4 | DZ24: =+IF(DU24="N/A","N/A",ROUND(AVERAGE(DU24:DX24),0)) -> 26837 | EA24: =+IF(DY24="N/A","N/A",AVERAGE(DY24:DZ24)) -> 26837.2 | ED24: 30333.333 | EG24: =+IF(EC24="N/A","N/A",MIN(EC24:EF24)) -> 30333.333 | EH24: =+IF(EC24="N/A","N/A",ROUND(AVERAGE(EC24:EF24),0)) -> 30333 | EI24: =+IF(EG24="N/A","N/A",AVERAGE(EG24:EH24)) -> 30333.167 | EL24: 30333.333 | EO24: =+IF(EK24="N/A","N/A",MIN(EK24:EN24)) -> 30333.333 | EP24: =+IF(EK24="N/A","N/A",ROUND(AVERAGE(EK24:EN24),0)) -> 30333 | EQ24: =+IF(EO24="N/A","N/A",AVERAGE(EO24:EP24)) -> 30333.167
