Workbook
Name _Toc156908137: 'CONSOLIDADO POR PROPONENTE'!#REF!
Name Año_2018: X!$A$4:$A$14

Sheet E. Especifica Adic.
A7: ALCALDIA MAYOR DE BOGOTA D.C.
A8: SECRETARÍA DE EDUCACIÓN
A9: EVALUACIÓN TÉCNICA- ECONÓMICA: CONCURSO DE MERITOS No. SED-CM-DBE-110-2013
A10: EXPERIENCIA ADICIONAL DEL PROPONENTE
A12: EXPERIENCIA ESPECIFICA ADICIONAL
A13: Nombre del Proponente | B13: C&M CONSULTORES S.A
A14: Campo | B14: Contrato 1 | D14: Contrato 2 | F14: Contrato 3 | H14: Contrato 4 | J14: Contrato 5
A15: Entidad Contratante | B15: TRANSMILENIO SA | D15: MINISTERIO DE EDUCACIÓN NACIONAL - MEN | F15: MINISTERIO DE EDUCACIÓN NACIONAL - MEN | H15: MINISTERIO DE EDUCACIÓN NACIONAL - MEN | J15: MINISTERIO DE EDUCACIÓN NACIONAL - MEN
A16: Dirección | B16: AV. ELDORADO No. 66-63 | D16: CALLE 43 N° 57 14 | F16: CALLE 43 N° 57 14 | H16: CALLE 43 N° 57 14 | J16: CALLE 43 N° 57 14
A17: Teléfono | B17: 2203000 | D17: 2222800 | F17: 2222800 | H17: 2222800 | J17: 2222800
A18: Nombre del Contratista | B18: Consorcio Interventoría SITP | D18: C&M CONSULTORES S.A | F18: C&M CONSULTORES S.A | H18: C&M CONSULTORES S.A | J18: C&M CONSULTORES S.A
A19: En caso de Unión Temporal o Consorcio | B19: Integrante | C19: % de participac.
B20: C&M Consultores | C20: 0.5
B21: EPYPSA | C21: 0.5
A22: Número del Contrato | B22: 80 del 31/05/2012 | D22: 271 de 2011 | F22: 123 de 2010 | H22: 634 de 2009 | J22: 482 de 2012
A23: Valor total del Contrato | B23: 8945764395 | D23: 520468033 | F23: 430794338 | H23: 523499973 | J23: 602738568
A24: Valor del contrato a tener en cuenta | B24: =B23*C20 -> 4.4728822e+09 | D24: =D23 -> 520468033 | F24: =F23 -> 430794338 | H24: =H23 -> 523499973 | J24: =J23 -> 602738568
A25: Valor del contrato a tener en cuenta (actualizado 2014) | B25: =4862000059-1350000000 -> 3512000059 | D25: 598596543 | F25: 515280218 | H25: 648975616 | J25: 655173739
A26: Objeto del contrato | B26: Realizar la interventoría técnica y operativa de las etapas preoperativa y operativa asociadas a la implementación de trece (13) contratos de concesión, cuyo objeto corresponde a la explotación preferencial y no exclusiva, de la prestación del servicio público de transporte de pasajeros dentro del esquema del Sistema Integrado de Transporte Público SITP 1) Usaquén, 2) Engativá, 3) Fontibón, 4) San Cristóbal, 5) Suba Oriental, 6) Suba Centro, 7) Calle 80, 8) Tintal - Zona Franca, 9) Kennedy, 10) Bosa, 11) Perdomo, 12) Ciudad Bolívar y 13) Usme | D26: Interventoria de la prestación de servicios para la organización, administración y ejecución de acciones logisticas para la realización de eventos | F26: Interventoria de la prestación de servicios para la organización, administración y ejecución de acciones logisticas para la realización de eventos - grupo N° 1 del consorcio CM-MEN-02-10, Contratos derivados de la Licitación LP-MEN-12-09 | H26: Interventoria de la prestación de servicios para la organización, administración y ejecución de acciones logisticas para la realización de eventos - grupo N° 1 del consorcio CM-MEN-06-09, Contratos derivados de la Licitación LP-MEN-01-09 | J26: Realizar la interventoría técnica, administrativa, financiera y jurídica de los contratos resultantes de la licitación pública LP-MEN-01-2012 cuyo objeto es la prestación de servicios para la organización, administración y ejecución de acciones logisticas para la realización de eventos
A27: Fecha de suscripcion del contrato indicando día, mes y año | B27: 41060 | D27: 40714 | F27: 40273 | H27: 40003 | J27: 41145
A28: Fecha de Inicio del contrato indicando día, mes y año | B28: 41074 | D28: 40714 | F28: 40288 | H28: 40003 | J28: 41149
A29: Fecha de Terminación del contrato indicando día, mes y año | B29: 41523 | D29: 41060 | F29: 40755 | H29: 40390 | J29: 41394
A30: Fecha de la expedición de la certificación | B30: 41598 | D30: 41226 | F30: 40928 | H30: 40928 | J30: 41149
A31: Nombre y firma de quien expide la certificación | B31: Ernesto Cadena Rojas | D31: Dunia Semmir Montañez Jimenez | F31: Fabio Alberto Gomez Santos | H31: Fabio Alberto Gomez Santos | J31: Se adjunta el acta de inicio y contrato
A32: Estado del contrato | B32: Terminado | D32: Terminado | F32: Terminado | H32: Terminado | J32: Terminado
A33: Cumplimiento (1 Si; 0 No) | B33: 1 | D33: 1 | F33: 1 | H33: 1 | J33: 1
A34: Valor Contratos | B34: =SUMIFS(B25:K25,B33:K33,1) -> 5930026175
A35: Puntaje | B35: =IF(B34>2.5*2250000000,45,IF(B34>2*2250000000,30,IF(B34>1.5*2250000000,15,0))) -> 45
A37: EXPERIENCIA ESPECIFICA ADICIONAL
A38: Nombre del Proponente | B38: SERVICIOS Y SOLUCIONES SEGURAS S.A.S
A39: Campo | B39: Contrato 1 | D39: Contrato 2 | F39: Contrato 3 | H39: Contrato 4 | J39: Contrato 5
A40: Entidad Contratante | B40: TECNISEG DE COLOMBIA LTDA | D40: TRANSMILENIO S.A | F40: SEVIAL S.A | H40: SEVIAL S.A | J40: SECRETARIA DE TRANSITO Y TRANSPORTE DE VALLEDUPAR
A41: Dirección | B41: Calle 152 A Nº 17 - 04 | D41: Avenida del Dorado 66 - 63 | F41: Transversal 23 Nº 94 -23 of 602 | H41: Transversal 23 Nº 94 -23 of 602 | J41: Calle 13 Nº 11 - 90
A42: Teléfono | B42: 6260693 | D42: 2203000 | F42: 6210644 | H42: 6210644 | J42: 5714983
A43: Nombre del Contratista | B43: Servicios y Soluciones Seguras S.A.S | D43: Servicios y Soluciones Seguras S.A.S | F43: Servicios y Soluciones Seguras S.A.S | H43: Servicios y Soluciones Seguras S.A.S | J43: Unión Temoral Control Transito
A44: En caso de Unión Temporal o Consorcio | J44: Integrante | K44: % de participac.
J45: Servicios y Soluciones Seguras S.A.S | K45: 0.5
J46: P.I.V Ingenieria | K46: 0.5
A47: Número del Contrato | B47: 001 de 2005 | D47: 175 de 2011 | F47: 004 de 2009 | H47: 006 de 2010 | J47: 207 de 2009
A48: Valor total del Contrato | B48: 2315578505 | D48: 428129200 | F48: 300000000 | H48: 384097975 | J48: 278028800
...

Sheet X
B1: SMLV | C1: con auxilio | E1: SI | H1: # | I1: nombre de proponentes | K1: TERMINADO | M1: CONTRATO 100% | N1: CODIGOS UNSPSC | O1: ESPECIALIZACIÓN
A2: Año 2019 | B2: 828116 | C2: 925148 | E2: NO | H2: 1 | I2: BTC | K2: EN EJECUCIÓN | M2: 1173569472 | N2: 80101504 | O2: MAESTRIA | Q2: SI
A3: Año 2018 | B3: 781242 | C3: 869453 | H3: 2 | I3: CONSORCIO AUDISED | K3: LIQUIDADO | M3: CONTRATO 50% | N3: 84111603 | O3: DOCTORADO | Q3: NO
A4: Año 2017 | B4: 737717 | C4: 820857 | H4: 3 | I4: CONSORCIO AUDITORIA TRAESCOL | M4: =+M2*0.5 -> 586784736 | N4: 93151607
A5: Año 2016 | B5: 689455 | C5: 767155 | H5: 4 | I5: CONSORCIO AUDISED 2019 | M5: CONTRATO 30%
A6: Año 2015 | B6: 644350 | C6: 718350 | H6: 5 | I6: KMP CONSULTING SAS | M6: =+M2*0.3 -> 3.5207084e+08
A7: Año 2014 | B7: 616000 | C7: 688000 | H7: 6 | I7: C &M CONSULTORES S.A.
A8: Año 2013 | B8: 589500 | C8: 660000 | H8: 7 | I8: CONSORCIO AUDITOR ESCOLAR 004-2009
A9: Año 2012 | B9: 566700 | C9: 634500
A10: Año 2011 | B10: 535600 | C10: 599200
A11: Año 2010 | B11: 515000 | C11: 576500
A12: Año 2009 | B12: 496900 | C12: 556200
A13: Año 2008 | B13: 461500 | C13: 516500
A14: Año 2007 | B14: 433700 | C14: 484500
A15: Año 2006 | B15: 408000 | C15: 455700
A16: Año 2005 | B16: 381500 | C16: =+B16+44500 -> 426000
A17: Año 2004 | B17: 358000 | C17: 399600
A18: Año 2003 | B18: 332000 | C18: 369500
A19: Año 2002 | B19: 309000 | C19: 343000

Sheet EXPERIENCIA PROPONENTE
A1: ALCALDÍA MAYOR DE BOGOTÁ D.C.
A2: SECRETARÍA DE EDUCACIÓN DEL DISTRITO CAPITAL
A3: DIRECCIÓN DE BIENESTAR ESTUDIANTIL
A4: EVALUACIÓN CONCURSO DE MÉRITOS No. SED-CM-A-DBE-004-2019
A5: EXPERIENCIA DEL PROPONENTE
A7: NOMBRE DEL PROPONENTE | B7: NÚMERO DE PROPUESTA | C7: INTEGRANTE 1 | F7: INTEGRANTE 2
C8: NOMBRE | D8: NIT | E8: % DE PARTICIPACIÓN | F8: NOMBRE | G8: NIT | H8: % DE PARTICIPACIÓN
A9: =+VLOOKUP(B9,X!$H$2:$I$9,2,0) -> CONSORCIO AUDITORIA TRAESCOL | B9: 3 | C9: CONSULTORIA INTERVENTORIA INSTALACIONES Y AUDITORIA DE TELECOMUNICACIONES S.A. CIATEL S.A. | D9: 830.084.789-3 | E9: 0.5 | F9: KRESTON RM S.A. | G9: 800.059.311-2 | H9: 0.5
A10: EXPERIENCIA RELACIONADA | C10: EXPERIENCIA MÍNIMA HABILITANTE | R10: EXPERIENCIA ADICIONAL CALIFICABLE
C11: Contrato 1 | F11: Contrato 2 | I11: Contrato 3 | L11: Contrato 4 | O11: Contrato 5 | R11: Contrato 1 | U11: Contrato 2 | X11: Contrato 3 | AA11: Contrato 4 | AD11: Contrato 5
A12: Entidad Contratante | C12: MINISTERIO DE EDUCACION NACIONAL | R12: SUPERINTENDENCIA DE SERVICIOS PUBLICOS DOMICILIARIOS | U12: SUPERINTENDENCIA DE SERVICIOS PUBLICOS DOMICILIARIOS | X12: ASOCIACIÓN COMPUTADORES PARA EDUCAR | AA12: MINISTERIO DE EDUCACIÓN | AD12: FEDERACIÓN NACIONAL DE DEPARTAMENTOS
A13: Dirección | C13: CALLE 43 No. 57-14 CAN | R13: Carrera 18 No. 84-35 | U13: Carrera 18 No. 84-35 | X13: CARRERA 11 No. 71-73 | AA13: CALLE 43 No. 57-14 | AD13: AVENIDA CALLE 26 No. 69B-53
A14: Teléfono | C14: 2222800 | R14: 69113005 | U14: 69113005 | X14: 3137777 | AA14: 2222800 | AD14: 4870024
A15: Nombre del Contratista | C15: KRESTON RM S.A. | R15: CIATEL S.A. | U15: CIATEL S.A. | X15: CONSORCIO ACCESSTIC | AA15: KRESTON | AD15: KRESTON
A16: En caso de Unión Temporal o Consorcio | C16: Integrante | E16: % de Participación | I16: Integrante | K16: % de Participación | L16: Integrante | N16: % de Participación | O16: Integrante | Q16: % de Participación | R16: Integrante | T16: % de Participación | U16: Integrante | W16: % de Participación | X16: Integrante | Z16: % de Participación | AA16: Integrante | AC16: % de Participación | AD16: Integrante | AF16: % de Participación
C17: KRESTON RM S.A. | E17: 1 | R17: CIATEL S.A. | T17: 1 | U17: CIATEL S.A. | W17: 1 | X17: CIATEL S.A. | Z17: 0.34 | AA17: KRESTON | AC17: 1 | AD17: KRESTON | AF17: 1
A22: Número | C22: 342 | R22: 370-04 | U22: 321-03 | X22: 67-16 | AA22: 631 | AD22: Auditoria Externa
A23: Fecha del Contrato | C23: 40722 | R23: 38341 | U23: 37972 | X23: 42583 | AA23: 40542 | AD23: 42856
A24: Valor del Contrato | C24: 668311709 | R24: 53231342 | U24: 80062901 | X24: 1236808575 | AA24: 202857600 | AD24: 159999999
A25: Valor del Contrato a tener en cuenta por participación | C25: =C24*E17 -> 668311709 | L25: =L24*N17 -> 0 | R25: =R24*T17 -> 53231342 | U25: =U24*W17*E9 -> 40031450 | X25: =X24*Z17 -> 4.2051492e+08 | AA25: =AA24*AC17 -> 202857600 | AD25: =AD24*AF17 -> 159999999
A26: Salario mínimo legal vigente en el año de finalización del contrato (Fuente: BANREP) | C26: Año 2013 | D26: =IF(C26=[1]X!$A$2,[1]X!$B$2,0)+IF(C26=[1]X!$A$3,[1]X!$B$3,0)+IF(C26=[1]X!$A$4,[1]X!$B$4,0)+IF(C26=[1]X!$A$5,[1]X!$B$5,0)+IF(C26=[1]X!$A$6,[1]X!$B$6,0)+IF(C26=[1]X!$A$7,[1]X!$B$7,0)+IF(C26=[1]X!$A$8,[1]X!$B$8,0)+IF(C26=[1]X!$A$9,[1]X!$B$9,0)+IF(C26=[1]X!$A$10,[1]X!$B$10,0)++IF(C26=[1]X!$A$11,[1]X!$B$11,0)+IF(C26=[1]X!$A$12,[1]X!$B$12,0)+IF(C26=[1]X!$A$13,[1]X!$B$13,0)+IF(C26=[1]X!$A$14,[1]X!$B$14,0)+IF(C26=[1]X!$A$15,[1]X!$B$15,0)+IF(C26=[1]X!$A$16,[1]X!$B$16,0)+IF(C26=[1]X!$A$17,[1]X!$B$17,0)+IF(C26=[1]X!$A$18,[1]X!$B$18,0)+IF(C26=[1]X!$A$19,[1]X!$B$19,0) -> 589500 | J26: =IF(I26=[1]X!$A$2,[1]X!$B$2,0)+IF(I26=[1]X!$A$3,[1]X!$B$3,0)+IF(I26=[1]X!$A$4,[1]X!$B$4,0)+IF(I26=[1]X!$A$5,[1]X!$B$5,0)+IF(I26=[1]X!$A$6,[1]X!$B$6,0)+IF(I26=[1]X!$A$7,[1]X!$B$7,0)+IF(I26=[1]X!$A$8,[1]X!$B$8,0)+IF(I26=[1]X!$A$9,[1]X!$B$9,0)+IF(I26=[1]X!$A$10,[1]X!$B$10,0)++IF(I26=[1]X!$A$11,[1]X!$B$11,0)+IF(I26=[1]X!$A$12,[1]X!$B$12,0)+IF(I26=[1]X!$A$13,[1]X!$B$13,0)+IF(I26=[1]X!$A$14,[1]X!$B$14,0)+IF(I26=[1]X!$A$15,[1]X!$B$15,0)+IF(I26=[1]X!$A$16,[1]X!$B$16,0)+IF(I26=[1]X!$A$17,[1]X!$B$17,0)+IF(I26=[1]X!$A$18,[1]X!$B$18,0)+IF(I26=[1]X!$A$19,[1]X!$B$19,0) -> 0 | M26: =IF(L26=[1]X!$A$2,[1]X!$B$2,0)+IF(L26=[1]X!$A$3,[1]X!$B$3,0)+IF(L26=[1]X!$A$4,[1]X!$B$4,0)+IF(L26=[1]X!$A$5,[1]X!$B$5,0)+IF(L26=[1]X!$A$6,[1]X!$B$6,0)+IF(L26=[1]X!$A$7,[1]X!$B$7,0)+IF(L26=[1]X!$A$8,[1]X!$B$8,0)+IF(L26=[1]X!$A$9,[1]X!$B$9,0)+IF(L26=[1]X!$A$10,[1]X!$B$10,0)++IF(L26=[1]X!$A$11,[1]X!$B$11,0)+IF(L26=[1]X!$A$12,[1]X!$B$12,0)+IF(L26=[1]X!$A$13,[1]X!$B$13,0)+IF(L26=[1]X!$A$14,[1]X!$B$14,0)+IF(L26=[1]X!$A$15,[1]X!$B$15,0)+IF(L26=[1]X!$A$16,[1]X!$B$16,0)+IF(L26=[1]X!$A$17,[1]X!$B$17,0)+IF(L26=[1]X!$A$18,[1]X!$B$18,0)+IF(L26=[1]X!$A$19,[1]X!$B$19,0) -> 0 | P26: =IF(O26=[1]X!$A$2,[1]X!$B$2,0)+IF(O26=[1]X!$A$3,[1]X!$B$3,0)+IF(O26=[1]X!$A$4,[1]X!$B$4,0)+IF(O26=[1]X!$A$5,[1]X!$B$5,0)+IF(O26=[1]X!$A$6,[1]X!$B$6,0)+IF(O26=[1]X!$A$7,[1]X!$B$7,0)+IF(O26=[1]X!$A$8,[1]X!$B$8,0)+IF(O26=[1]X!$A$9,[1]X!$B$9,0)+IF(O26=[1]X!$A$10,[1]X!$B$10,0)++IF(O26=[1]X!$A$11,[1]X!$B$11,0)+IF(O26=[1]X!$A$12,[1]X!$B$12,0)+IF(O26=[1]X!$A$13,[1]X!$B$13,0)+IF(O26=[1]X!$A$14,[1]X!$B$14,0)+IF(O26=[1]X!$A$15,[1]X!$B$15,0)+IF(O26=[1]X!$A$16,[1]X!$B$16,0)+IF(O26=[1]X!$A$17,[1]X!$B$17,0)+IF(O26=[1]X!$A$18,[1]X!$B$18,0)+IF(O26=[1]X!$A$19,[1]X!$B$19,0) -> 0 | R26: Año 2005 | S26: =IF(R26=[1]X!$A$2,[1]X!$B$2,0)+IF(R26=[1]X!$A$3,[1]X!$B$3,0)+IF(R26=[1]X!$A$4,[1]X!$B$4,0)+IF(R26=[1]X!$A$5,[1]X!$B$5,0)+IF(R26=[1]X!$A$6,[1]X!$B$6,0)+IF(R26=[1]X!$A$7,[1]X!$B$7,0)+IF(R26=[1]X!$A$8,[1]X!$B$8,0)+IF(R26=[1]X!$A$9,[1]X!$B$9,0)+IF(R26=[1]X!$A$10,[1]X!$B$10,0)++IF(R26=[1]X!$A$11,[1]X!$B$11,0)+IF(R26=[1]X!$A$12,[1]X!$B$12,0)+IF(R26=[1]X!$A$13,[1]X!$B$13,0)+IF(R26=[1]X!$A$14,[1]X!$B$14,0)+IF(R26=[1]X!$A$15,[1]X!$B$15,0)+IF(R26=[1]X!$A$16,[1]X!$B$16,0)+IF(R26=[1]X!$A$17,[1]X!$B$17,0)+IF(R26=[1]X!$A$18,[1]X!$B$18,0)+IF(R26=[1]X!$A$19,[1]X!$B$19,0) -> 381500 | U26: Año 2004 | V26: =IF(U26=[1]X!$A$2,[1]X!$B$2,0)+IF(U26=[1]X!$A$3,[1]X!$B$3,0)+IF(U26=[1]X!$A$4,[1]X!$B$4,0)+IF(U26=[1]X!$A$5,[1]X!$B$5,0)+IF(U26=[1]X!$A$6,[1]X!$B$6,0)+IF(U26=[1]X!$A$7,[1]X!$B$7,0)+IF(U26=[1]X!$A$8,[1]X!$B$8,0)+IF(U26=[1]X!$A$9,[1]X!$B$9,0)+IF(U26=[1]X!$A$10,[1]X!$B$10,0)++IF(U26=[1]X!$A$11,[1]X!$B$11,0)+IF(U26=[1]X!$A$12,[1]X!$B$12,0)+IF(U26=[1]X!$A$13,[1]X!$B$13,0)+IF(U26=[1]X!$A$14,[1]X!$B$14,0)+IF(U26=[1]X!$A$15,[1]X!$B$15,0)+IF(U26=[1]X!$A$16,[1]X!$B$16,0)+IF(U26=[1]X!$A$17,[1]X!$B$17,0)+IF(U26=[1]X!$A$18,[1]X!$B$18,0)+IF(U26=[1]X!$A$19,[1]X!$B$19,0) -> 358000 | X26: Año 2017 | Y26: =IF(X26=[1]X!$A$2,[1]X!$B$2,0)+IF(X26=[1]X!$A$3,[1]X!$B$3,0)+IF(X26=[1]X!$A$4,[1]X!$B$4,0)+IF(X26=[1]X!$A$5,[1]X!$B$5,0)+IF(X26=[1]X!$A$6,[1]X!$B$6,0)+IF(X26=[1]X!$A$7,[1]X!$B$7,0)+IF(X26=[1]X!$A$8,[1]X!$B$8,0)+IF(X26=[1]X!$A$9,[1]X!$B$9,0)+IF(X26=[1]X!$A$10,[1]X!$B$10,0)++IF(X26=[1]X!$A$11,[1]X!$B$11,0)+IF(X26=[1]X!$A$12,[1]X!$B$12,0)+IF(X26=[1]X!$A$13,[1]X!$B$13,0)+IF(X26=[1]X!$A$14,[1]X!$B$14,0)+IF(X26=[1]X!$A$15,[1]X!$B$15,0)+IF(X26=[1]X!$A$16,[1]X!$B$16,0)+IF(X26=[1]X!$A$17,[1]X!$B$17,0)+IF(X26=[1]X!$A$18,[1]X!$B$18,0)+IF(X26=[1]X!$A$19,[1]X!$B$19,0) -> 737717 | AA26: Año 2011 | AB26: =IF(AA26=[1]X!$A$2,[1]X!$B$2,0)+IF(AA26=[1]X!$A$3,[1]X!$B$3,0)+IF(AA26=[1]X!$A$4,[1]X!$B$4,0)+IF(AA26=[1]X!$A$5,[1]X!$B$5,0)+IF(AA26=[1]X!$A$6,[1]X!$B$6,0)+IF(AA26=[1]X!$A$7,[1]X!$B$7,0)+IF(AA26=[1]X!$A$8,[1]X!$B$8,0)+IF(AA26=[1]X!$A$9,[1]X!$B$9,0)+IF(AA26=[1]X!$A$10,[1]X!$B$10,0)++IF(AA26=[1]X!$A$11,[1]X!$B$11,0)+IF(AA26=[1]X!$A$12,[1]X!$B$12,0)+IF(AA26=[1]X!$A$13,[1]X!$B$13,0)+IF(AA26=[1]X!$A$14,[1]X!$B$14,0)+IF(AA26=[1]X!$A$15,[1]X!$B$15,0)+IF(AA26=[1]X!$A$16,[1]X!$B$16,0)+IF(AA26=[1]X!$A$17,[1]X!$B$17,0)+IF(AA26=[1]X!$A$18,[1]X!$B$18,0)+IF(AA26=[1]X!$A$19,[1]X!$B$19,0) -> 535600 | AD26: Año 2017 | AE26: =IF(AD26=[1]X!$A$2,[1]X!$B$2,0)+IF(AD26=[1]X!$A$3,[1]X!$B$3,0)+IF(AD26=[1]X!$A$4,[1]X!$B$4,0)+IF(AD26=[1]X!$A$5,[1]X!$B$5,0)+IF(AD26=[1]X!$A$6,[1]X!$B$6,0)+IF(AD26=[1]X!$A$7,[1]X!$B$7,0)+IF(AD26=[1]X!$A$8,[1]X!$B$8,0)+IF(AD26=[1]X!$A$9,[1]X!$B$9,0)+IF(AD26=[1]X!$A$10,[1]X!$B$10,0)++IF(AD26=[1]X!$A$11,[1]X!$B$11,0)+IF(AD26=[1]X!$A$12,[1]X!$B$12,0)+IF(AD26=[1]X!$A$13,[1]X!$B$13,0)+IF(AD26=[1]X!$A$14,[1]X!$B$14,0)+IF(AD26=[1]X!$A$15,[1]X!$B$15,0)+IF(AD26=[1]X!$A$16,[1]X!$B$16,0)+IF(AD26=[1]X!$A$17,[1]X!$B$17,0)+IF(AD26=[1]X!$A$18,[1]X!$B$18,0)+IF(AD26=[1]X!$A$19,[1]X!$B$19,0) -> 737717
A27: Valor del contrato a tener en cuenta por participación en SMMLV | C27: =+C25/D26 -> 1133.6925 | I27: 0 | L27: 0 | O27: 0 | R27: =+R25/S26 -> 139.5317 | U27: =+U25/V26 -> 111.81969 | X27: =+X25/Y26 -> 570.02199 | AA27: =+AA25/AB26 -> 378.74832 | AD27: =+AD25/AE26 -> 216.88534
A28: Objeto del Contrato | C28: Realizar la interventoría administrativa, técnica y financiera al contrato de Encargo Fiduciario Nº 955 de 2008 (código 3-1-0405) celebrado entre el Ministerio de Educación Nacional - MEN Y la Sociedad Fiduciaria La Previsora S.A., cuyo objeto es: "Administrar los recursos provenientes del Sistema General de Participaciones -SGP, sector educación. | R28: Evaluar el desarrollo y operación de los procesos de facturación de las siguientes enpresas: ETB, como operador local y de larga distancia, Colombia Telecomunicaciones en los centros de facvturación Cartagena y Bogota y EPM Medellín | U28: Prestar sus servicios profesionales consistentes en realizar visitas de inspección y pruebas tendientes a determinar el grado de cumplimiento de la ley y la regulación en loo referente al proceso de tasdación utilizado por algunos de los operadores de telefonía pública basica conmutada local | X28: Realizar interventoria administrativa, tecnica, financiera, contable y juridica a los contratos de la prestacion del servicio de los operadores de la estrategia de acceso y a los operadores de los servicios en zona ofrecidos por computadores para educar para la vigencia 2016, para la region 2 conformada por los departamentos de amazonas, antioquia, caldas, chaqueta, huila, putumayo, quindio, risaralda, tolima, cauca, Choco, nariño, valle del cauca, los cuales corresponden a las regiones 3 pacifico y centro sur, y 4 eje cafetero - antioquia, de la estrategia de acceso y a la region 2 eje cafetero centro - sur pacifico de servicios en zona de acuerdo con lo dispuesto en los estufios previos, pliego de condiciones y sus anexos y la oferta presentada por el ontratista dentro del concurso de meritos no. 002 de 2016, los cuales hacen parte integral del contrato | AA28: Realizar la interventoria legal, financiera, adminsitrativa y técnica al contrato de cobranza de aportes parafiscales ley 21 | AD28: Auditar la ejecución de los recursos entregados por la Philip Morris a la Federación Nacional de Departamentos en el marco del Acuerdo de Inversiones y Cooperaicón AI&C
A29: Clasificación UNSPSC | C29: 80101504 | R29: 80101504 | U29: 80101504 | X29: 84111603 | AA29: 80101504 | AD29: 80101504
C30: 84111603 | R30: 84111603 | U30: 84111603 | AA30: 84111603 | AD30: 84111603
C31: 93151607 | U31: 93151607 | AD31: 93151607
A32: Salario mínimo legal vigente 2019 (Fuente: BANREP) | C32: 828116 | R32: 828116 | U32: 828116 | X32: 828116 | AA32: 828116 | AD32: 828116
A33: Valor del contrato a tener en cuenta (Actualizado a 2019) | C33: =+C32*C27 -> 9.3882887e+08 | I33: =+I32*I27 -> 0 | L33: =+L32*L27 -> 0 | O33: =+O32*O27 -> 0 | R33: =+R32*R27 -> 1.1554843e+08 | U33: =+U32*U27 -> 92599678 | X33: =+X32*X27 -> 4.7204433e+08 | AA33: =+AA32*AA27 -> 3.1364754e+08 | AD33: =+AD32*AD27 -> 1.7960622e+08
A34: Fecha de Inicio del Contrato (día, mes y año) | C34: 40787 | R34: 38341 | U34: 37972 | X34: 42586 | AA34: 40542 | AD34: 42856
A35: Fecha de Terminación del Contrato (día, mes y año) | C35: 41431 | R35: 38498 | U35: 38094 | X35: 42886 | AA35: 40816 | AD35: 42877
A36: Fecha de la expedición de la certificación | C36: 41990 | R36: 38581 | U36: 38154 | X36: 43252 | AA36: 41421 | AD36: 42937
A37: Folio de la certificación | C37: 6-11 | R37: 5-6 | U37: 17 | X37: 30 | AA37: 54-57 | AD37: 73
A38: Nombre y cargo de quien expide la certificación | C38: LUZ KARIME JAIMES BONILLA - SUBDIRECTORA DE CONTRATACION | R38: ADRIANA ROJAS RODRIGUEZ - COORDINADORA GRUPO DE CONTRATOS | U38: JULIETA RIVEROS GONZALEZ - COORDINADORA DEL GRUPO DE CONTRATOS | X38: ILIANA MARIA PINEDA ECHEVERRI - COORDINADORA CONTRATACIÓN | AA38: DUNIA SEMMIR MONTANEZ JIMENEZ - SUBDIRECTORA DE CONTRATACION | AD38: MARIA ANAYME BARON DURAN - SUBDIRECTORA ADMINISTRATIVA Y FINANCIERA
A39: Estado del contrato | C39: TERMINADO | R39: LIQUIDADO | U39: TERMINADO | X39: LIQUIDADO | AA39: TERMINADO | AD39: TERMINADO
A40: Observaciones o aclaraciones para subsanación del proponente | U40: El valor del contrato indicado en el Anxo No. 9 no corresponde al que se hace constar en la certificación anexa | X40: La certificación del contrato no establece la fecha de inicio del contrato y el Acta de Liquidación contiene una fecha que induce a error porque indica fecha posterior a la fecha de terminación del contrato. En estos documentos tampoco se señala el valor total del contrato, por tanto se calcula restando el saldo a liberar a favor de la entidad contratante y se verifica el valor con el RUP
A41: RELACIONADA EN EL ANEXO RESPECTIVO | C41: SI | I41: SI | L41: SI | O41: SI | R41: SI | U41: SI | X41: SI | AA41: SI | AD41: SI
A44: CUMPLE CON LA EXPERIENCIA MÍNIMA HABILITANTE | C44: =+IF(SUM($C$33:$H$33)>X!$M$2,"HABILITADO","NO HABILITADO") -> NO HABILITADO | D44: PRESUPUESTO PUNTUABLE
A45: CUMPLE CON LA EXPERIENCIA ADICIONAL | C45: =+IF(SUM($R$33:$AF$33)>(X!$M$2*0.3),"HABILITADO","NO HABILITADO") -> HABILITADO | D45: =SUM(R33:AF33) -> 1.1734462e+09
A47: PUNTAJE EXPERIENCIA ADICIONAL PROPONENTE
A48: Se requiere que el proponente acredite experiencia específica adicional en máximo cinco (5) certificaciones de contratos. iniciados, ejecutados y terminados antes de la fecha de fecha de cierre del presente proceso, cuyo objeto sea la auditoría de gestión y resultados, la cual deberá relacionarse en el correspondiente Anexo No. 11 EXPERIENCIA ADICIONAL DEL PROPONENTE del pliego de condiciones; así: 30% del presupuesto oficial - 50% del presupuesto oficial y 50% del presupuesto oficial
...

Sheet E. Profesionales Adic. P1
A6: ALCALDIA MAYOR DE BOGOTA D.C.
A7: SECRETARÍA DE EDUCACIÓN
A8: EVALUACIÓN TÉCNICA- ECONÓMICA: CONCURSO DE MERITOS No. SED-CM-DBE-110-2013
A9: EXPERIENCIA ADICIONAL
A11: Nombre del Proponente | B11: C&M CONSULTORES S.A
A12: Puntaje Experiencia Específica Adicional | B12: =SUM(B26,B44,B58,B72,B86,B100,B114) -> 22.525205
A14: Director de Proyecto | B14: Exp 1
A15: Nombre de la Entidad contratante | B15: UNE
A16: Persona Natural o Jurídica que ejecutó la Interventoría con Nº de NIT respectivo
A17: Nº de contrato y objeto del contrato de Interventoría
A18: Nombre completo y documento de identidad del profesional al cual certifica | B18: Edwin Acosta Giraldo
A19: Cargo ejercido en el desarrollo del contrato | B19: Jefe Area Administración Regional Centro
A20: Fecha de Inicio del contrato de Interventoría
A21: Fecha de Terminación del contrato de Interventoría
A22: Fecha de Inicio de labores ejercidas | B22: 40679
A23: Fecha de Terminación de labores | B23: 41654
A24: Tiempo de experiencia | B24: 1.8
A25: Cumplimiento contrato (1 Si; 0 No) | B25: 1
A26: Puntaje | B26: =B24 -> 1.8
A28: OBSERVACIONES
A29: Se tuvo en cuenta la experiencia
A32: Asesor en Transporte | B32: Exp 1 | C32: Exp 2 | D32: Exp 3 | F32: Exp 4
A33: Nombre de la Entidad contratante | B33: EPYPSA | C33: EPYPSA | D33: Transmilenio | F33: EPYPSA
A34: Persona Natural o Jurídica que ejecutó la Interventoría con Nº de NIT respectivo
A35: Nº de contrato y objeto del contrato de Interventoría
A36: Nombre completo y documento de identidad del profesional al cual certifica | B36: Sandra Lucía Navas Tequia | C36: Sandra Lucía Navas Tequia | F36: Sandra Lucía Navas Tequia
A37: Cargo ejercido en el desarrollo del contrato | B37: Asesor | C37: Director | D37: Asesor | F37: Plan maestro de movilidad en Barranquilla
A38: Fecha de Inicio del contrato de Interventoría
A39: Fecha de Terminación del contrato de Interventoría
A40: Fecha de Inicio de labores ejercidas | B40: 39479 | C40: 40452 | D40: 37581 | F40: 40805
A41: Fecha de Terminación de labores ejercidas | B41: 40451 | C41: 40512 | D41: 38069 | F41: 41425
A42: Tiempo de experiencia | B42: =((B41-B40)/365)-1.42 -> 1.2430137 | C42: =(C41-C40)/365 -> 0.16438356 | D42: =(D41-D40)/365 -> 1.3369863 | F42: =(F41-F40)/365 -> 1.6986301
A43: Cumplimiento contrato (1 Si; 0 No) | B43: 1 | C43: 1 | D43: 1 | F43: 1
A44: Puntaje | B44: =B42+C42+D42+F42+G42+H42+I42+J42 -> 4.4430137
A46: Abogado | B46: Exp 1
A47: Nombre de la Entidad contratante | B47: Secretaría de Transito y Transporte
A48: Persona Natural o Jurídica que ejecutó la Interventoría con Nº de NIT respectivo
A49: Nº de contrato y objeto del contrato de Interventoría
A50: Nombre completo y documento de identidad del profesional al cual certifica | B50: Gerardo Ariza Ariza
A51: Cargo ejercido en el desarrollo del contrato | B51: Asesor jurídico
...

Sheet E. Profesionales Adic. P 2
A6: ALCALDIA MAYOR DE BOGOTA D.C.
A7: SECRETARÍA DE EDUCACIÓN
A8: EVALUACIÓN TÉCNICA- ECONÓMICA: CONCURSO DE MERITOS No. SED-CM-DBE-110-2013
A9: EXPERIENCIA ADICIONAL
A11: Nombre del Proponente | B11: SERVICIOS Y SOLUCIONES SEGURAS S.A.S
A12: Puntaje Experiencia Específica Adicional | B12: =SUM(B26,B40,B54,B68,B82,B96,B110) -> 27.019178
A14: Director de Proyecto | B14: Exp 1 | C14: Exp 2 | D14: Exp 3 | E14: Exp 4
A15: Nombre de la Entidad contratante | B15: SERVICIOS & SOLUCIONES SEGURAS S.A.S
A16: Persona Natural o Jurídica que ejecutó la Interventoría con Nº de NIT respectivo | B16: 830055541-0 | C16: 830055541-0 | D16: 830055541-0 | E16: 830055541-0
A17: Nº de contrato y objeto del contrato de Interventoría | B17: 207 de 2009 | C17: 124 de 2011 | D17: 288 de 2012 | E17: 001 de 2005
A18: Nombre completo y documento de identidad del profesional al cual certifica | B18: Lisandro Junco Espinosa | C18: Lisandro Junco Espinosa | D18: Lisandro Junco Espinosa | E18: Lisandro Junco Espinosa
A19: Cargo ejercido en el desarrollo del contrato
A20: Fecha de Inicio del contrato de Interventoría
A21: Fecha de Terminación del contrato de Interventoría
A22: Fecha de Inicio de labores ejercidas | B22: 39990 | C22: 40909 | D22: 41239 | E22: 38353
A23: Fecha de Terminación de labores ejercidas | B23: 40908 | C23: 41229 | D23: 41656 | E23: 39989
A24: Tiempo de experiencia | B24: =(B23-B22)/365 -> 2.5150685 | C24: =(C23-C22)/365 -> 0.87671233 | D24: =(D23-D22)/365 -> 1.1424658 | E24: =(E23-E22)/365 -> 4.4821918
A25: Cumplimiento contrato (1 Si; 0 No) | B25: 1 | C25: 1 | D25: 1 | E25: 1
A26: Puntaje | B26: =MIN(SUMIFS(B24:J24,B25:J25,1),5) -> 5
A28: Asesor en Transporte | B28: Exp 1 | D28: Exp 2
A29: Nombre de la Entidad contratante | B29: SERVICIOS & SOLUCIONES SEGURAS
A30: Persona Natural o Jurídica que ejecutó la Interventoría con Nº de NIT respectivo | B30: 830055541-0 | D30: 830055541-0
A31: Nº de contrato y objeto del contrato de Interventoría | B31: 124 de 2011 | D31: 288 de 2012
A32: Nombre completo y documento de identidad del profesional al cual certifica | B32: Saieth Baudilio Chaves Pabon | D32: Saieth Baudilio Chaves Pabon
A33: Cargo ejercido en el desarrollo del contrato
A34: Fecha de Inicio del contrato de Interventoría
A35: Fecha de Terminación del contrato de Interventoría
A36: Fecha de Inicio de labores ejercidas | B36: 40909 | D36: 41239
A37: Fecha de Terminación de labores ejercidas | B37: 41229 | D37: 41656
A38: Tiempo de experiencia | B38: =(B37-B36)/365 -> 0.87671233 | D38: =(D37-D36)/365 -> 1.1424658
A39: Cumplimiento contrato (1 Si; 0 No) | B39: 1 | D39: 1
A40: Puntaje | B40: =B38+D38 -> 2.0191781
A42: Abogado | B42: Exp 1 | D42: Exp 2
A43: Nombre de la Entidad contratante | B43: SERVICIOS & SOLUCIONES SEGURAS
A44: Persona Natural o Jurídica que ejecutó la Interventoría con Nº de NIT respectivo | B44: 830055541-0 | D44: 830055541-0
A45: Nº de contrato y objeto del contrato de Interventoría | B45: 207 de 2009 | D45: 124 de 2011
A46: Nombre completo y documento de identidad del profesional al cual certifica
A47: Cargo ejercido en el desarrollo del contrato | B47: Contratista | D47: Contratista
A48: Fecha de Inicio del contrato de Interventoría
A49: Fecha de Terminación del contrato de Interventoría
...

Sheet E. Profesionales Adic. P3
A6: ALCALDIA MAYOR DE BOGOTA D.C.
A7: SECRETARÍA DE EDUCACIÓN
A8: EVALUACIÓN TÉCNICA- ECONÓMICA: CONCURSO DE MERITOS No. SED-CM-DBE-110-2013
A9: EXPERIENCIA ADICIONAL
A11: Nombre del Proponente | B11: UT INTERVENTORES EXPRESS
A12: Puntaje Experiencia Específica Adicional | B12: =SUM(B26,B40,B54,B68,B82,B96,B110) -> 22.358904
A14: Director de Proyecto | B14: Exp 1
A15: Nombre de la Entidad contratante | B15: ALCALDE MUNICIPAL DE MEDINA
A16: Persona Natural o Jurídica que ejecutó la Interventoría con Nº de NIT respectivo | B16: ALCALDE MUNICIPAL DE MEDINA NIT 899999470-8
A17: Nº de contrato y objeto del contrato de Interventoría | B17: ASESOR DESPEÑANDO FUNCIONES DE INTERVENTOR EN LOS DIFERENTES CONTRATOS FIRMADOS POR EL MUNICIPIO, ENTRE ELLOS SERVICIO DE ASEO Y DE TRANSPORTE ESCOLAR
A18: Nombre completo y documento de identidad del profesional al cual certifica | B18: GUILLERMO ANTONIO RINCON PINTO CC19266942 DE BOGOTA
A19: Cargo ejercido en el desarrollo del contrato | B19: Interventor de contratos (transporte)
A20: Fecha de Inicio del contrato de Interventoría | B20: 37316
A21: Fecha de Terminación del contrato de Interventoría | B21: 39445
A22: Fecha de Inicio de labores ejercidas | B22: 37316
A23: Fecha de Terminación de labores ejercidas | B23: 39445
A24: Tiempo de experiencia | B24: =((B23-B22)/365)-4 -> 1.8328767
A25: Cumplimiento contrato (1 Si; 0 No) | B25: 1
A26: Puntaje | B26: =B24 -> 1.8328767
A28: Asesor en Transporte | B28: Exp 1
A29: Nombre de la Entidad contratante | B29: COOTRACAIME
A30: Persona Natural o Jurídica que ejecutó la Interventoría con Nº de NIT respectivo | B30: COOTRACAIME NIT 8907006779
A31: Nº de contrato y objeto del contrato de Interventoría | B31: SERVICIOS PROFESIONALES COMO CONSULTOR EN LA ORGANIZACIÓN DEL SERVICIO DE TRANSPORTE PUBLICO
A32: Nombre completo y documento de identidad del profesional al cual certifica | B32: LUIS FELIPE ANZOLA PACHON CC 79347007 DE BOGOTA
A33: Cargo ejercido en el desarrollo del contrato de Interventoría certificado por parte del profesional certificado | B33: CONSULTOR
A34: Fecha de Inicio del contrato de Interventoría | B34: 34196
A35: Fecha de Terminación del contrato de Interventoría | B35: 38503
A36: Fecha de Inicio de labores ejercidas | B36: 34196
A37: Fecha de Terminación de labores ejercidas | B37: 38503
A38: Tiempo de experiencia | B38: =((B37-B36)/365)-10 -> 1.8
A39: Cumplimiento contrato (1 Si; 0 No) | B39: 1
A40: Puntaje | B40: =B38 -> 1.8
A42: Abogado | B42: Exp 1
A43: Nombre de la Entidad contratante | B43: Transporte Esivans
A44: Persona Natural o Jurídica que ejecutó la Interventoría con Nº de NIT respectivo | B44: TRANSPORTE ESIVANS SAS 830102646-7
A45: Nº de contrato y objeto del contrato de Interventoría | B45: ABOGADO ASESOR EN TEMAS RELACIONADOS CON LA CONTRATACION
A46: Nombre completo y documento de identidad del profesional al cual certifica | B46: ALVARO SOTO SAAVEDRA
A47: Cargo ejercido en el desarrollo del contrato | B47: Abogado asesor
A48: Fecha de Inicio del contrato de Interventoría | B48: 38429
A49: Fecha de Terminación del contrato de Interventoría | B49: 41243
...

Sheet E. Profesionales Adic. P4
A6: ALCALDIA MAYOR DE BOGOTA D.C.
A7: SECRETARÍA DE EDUCACIÓN
A8: EVALUACIÓN TÉCNICA- ECONÓMICA: CONCURSO DE MERITOS No. SED-CM-DBE-110-2013
A9: EXPERIENCIA ADICIONAL
A11: Nombre del Proponente | B11: TPD INGENIERIA S.A.
A12: Puntaje Experiencia Específica Adicional | B12: =SUM(B26,B40,B54,B68,B82,B96,B110) -> 31.345205
A14: Director de Proyecto | B14: Exp 1 | C14: Exp 2 | D14: Exp 3 | E14: Exp 4 | F14: Exp 5 | G14: Exp 6 | H14: Exp 7 | I14: Exp 8 | J14: Exp 9 | K14: Exp 10 | L14: Exp 11 | M14: Exp 12 | N14: Exp 13 | O14: Exp 14 | P14: Exp 15 | Q14: Exp 16 | R14: Exp 17 | S14: Exp 18 | T14: Exp 19
A15: Nombre de la Entidad contratante | B15: Programa de Naciones Unidas para el desarrollo | C15: STT | D15: STT | E15: DAPD | F15: Min. Trans. | G15: STT | H15: CC Bta | I15: CC Bta | J15: TPD Ing. | K15: TPD Ing. | L15: TPD Ing. | M15: TPD Ing. | N15: TPD Ing. | O15: TPD Ing. | P15: TPD Ing. | Q15: TPD Ing. | R15: TPD Ing. | S15: TPD Ing. | T15: TPD Ing.
A16: Persona Natural o Jurídica que ejecutó la Interventoría con Nº de NIT respectivo | B16: PROGRAMA DE NACIONES UNIDAS PARA EL DESARROLLO | C16: SECRETARIA DE TRANSITO Y TRANSPORTE DE BOGOTA | D16: SECRETARIA DE TRANSITO Y TRANSPORTE DE BOGOTA | E16: DEPARTAMENTO ADMINISTRATIVO DE PLANEACION DISTRITAL | F16: MINISTERIO DE TRANSPORTE | G16: SECRETARIA DE TRANSITO Y TRANSPORTE DE BOGOTA | H16: CAMARA DE COMERCIO DE BOGOTA | I16: CAMARA DE COMERCIO DE BOGOTA | J16: TRANSPORTE PLANEACION DISEÑO E INGENIERIA | K16: TRANSPORTE PLANEACION DISEÑO E INGENIERIA | L16: TRANSPORTE PLANEACION DISEÑO E INGENIERIA | M16: TRANSPORTE PLANEACION DISEÑO E INGENIERIA | N16: TRANSPORTE PLANEACION DISEÑO E INGENIERIA | O16: TRANSPORTE PLANEACION DISEÑO E INGENIERIA | P16: TRANSPORTE PLANEACION DISEÑO E INGENIERIA | Q16: TRANSPORTE PLANEACION DISEÑO E INGENIERIA | R16: TRANSPORTE PLANEACION DISEÑO E INGENIERIA | S16: TRANSPORTE PLANEACION DISEÑO E INGENIERIA | T16: TRANSPORTE PLANEACION DISEÑO E INGENIERIA
A17: Nº de contrato y objeto del contrato de Interventoría | B17: COORDINADOR GENERAL DEL PROYECTO DE DESARROLLO INTEGRAL DE ASENTAMIENTOS POPULARES | C17: JEFE DE UNIDAD DE OPERACIONES TRONCALES | D17: JEFE DE UNIDAD DE TRANSPORTE PUBLICO | E17: CONTRATO DE CONSULTORIA PARA RECOLECTAR Y PROCESAR INFORMACION REQUERIDA PARA EL ESTUDIO DE FACTIBILIDAD E IMPLEMENTACION DE RUTAS CIRCULARES DE TRANSPORTE PUBLICO EN BOGOTA | F17: CONTRATO DE CONSULTORIA Nº 00213 DE 1996 | G17: CONTRATO 035 DE 1998 | H17: CONTRATO DE PRESTACION DE SERVICIOS 665 DE 1998 | I17: CONTRATO DE PRESTACION DE SERVICIOS 055 DE 1999 | J17: ESTUDIO DE TRANSITO Y TRANSPORTE DEL AREA METROPOLITANA EN PEREIRA | K17: CONTRATO DE CONSULTORIA 116 DE 2005 | L17: CARACTERIZACION DE LA MOVILIDAD DEL MUNICIPIO DE NEIVA | M17: CONTRATO 2008 -0109 ANALIZAR CRUCES VIALES | N17: CONTRATO DE CONSULTORIA 104 DE 2009 | O17: CONTRATO DE CONSULTORIA 151 DE 2009 | P17: CONTRATO 2010-0097 ESTUDIO DE MOVILIDAD AL INTERIOR DEL METRO CABLE | Q17: CONTRATO 224 ELABORACION DE UN PLAN MAESTRO DE MOVILIDAD | R17: OFERTA MERCANTIL 001 DE 2011 | S17: CONTRATO DE CONSULTORIA Nº 0159 DE 2011 000176 | T17: CONTRATO DE CONSULTORIA 2012-1720
A18: Nombre completo y documento de identidad del profesional al cual certifica | B18: ALFREDO ARDILA ARIZA | C18: ALFREDO ARDILA ARIZA | D18: ALFREDO ARDILA ARIZA | E18: ALFREDO ARDILA ARIZA | F18: ALFREDO ARDILA ARIZA | G18: ALFREDO ARDILA ARIZA | H18: ALFREDO ARDILA ARIZA | I18: ALFREDO ARDILA ARIZA | J18: ALFREDO ARDILA ARIZA | K18: ALFREDO ARDILA ARIZA | L18: ALFREDO ARDILA ARIZA | M18: ALFREDO ARDILA ARIZA | N18: ALFREDO ARDILA ARIZA | O18: ALFREDO ARDILA ARIZA | P18: ALFREDO ARDILA ARIZA | Q18: ALFREDO ARDILA ARIZA | R18: ALFREDO ARDILA ARIZA | S18: ALFREDO ARDILA ARIZA | T18: ALFREDO ARDILA ARIZA
A19: Cargo ejercido en el desarrollo del contrato de Interventoría certificado por parte del profesional certificado | B19: Coordinador general del proyecto de desarrollo integral de asentamientos populares | C19: Jefe de unidad de operaciones troncales | D19: Jefe de unidad de transporte público | E19: Director | F19: Director | G19: Director | H19: Director | I19: Director | J19: Director de proyecto | Q19: Subdirector técnico | R19: Director de proyecto
A20: Fecha de Inicio del contrato de Interventoría | B20: 32804 | C20: 33820 | D20: 34173 | E20: 35363 | F20: 35376 | G20: 35989 | H20: 36054 | I20: 36251 | J20: 36992 | K20: 38671 | L20: 39114 | M20: 39777 | N20: 40102 | O20: 40177 | P20: 40317 | Q20: 40498 | R20: 40607 | S20: 40800 | T20: 41320
A21: Fecha de Terminación del contrato de Interventoría | B21: 33819 | C21: 34172 | D21: 34407 | E21: 35394 | F21: 35406 | G21: 36019 | H21: 36145 | I21: 36403 | J21: 37057 | K21: 38971 | L21: 39295 | M21: 39869 | N21: 40178 | O21: 40428 | P21: 40521 | Q21: 40862 | R21: 40667 | S21: 41182 | T21: 41607
A22: Fecha de Inicio de labores ejercidas | B22: 32804 | C22: 33820 | D22: 34173 | E22: 35363 | F22: 35376 | G22: 35989 | H22: 36054 | I22: 36251 | J22: 36992 | K22: 38671 | L22: 39114 | M22: 39777 | N22: 40102 | O22: 40177 | P22: 40317 | Q22: 40498 | R22: 40607 | S22: 40800 | T22: 41320
A23: Fecha de Terminación de labores ejercidas | B23: 33819 | C23: 34172 | D23: 34407 | E23: 35394 | F23: 35406 | G23: 36019 | H23: 36145 | I23: 36403 | J23: 37057 | K23: 38971 | L23: 39295 | M23: 39869 | N23: 40178 | O23: 40428 | P23: 40521 | Q23: 40862 | R23: 40667 | S23: 41182 | T23: 41607
A24: Tiempo de experiencia | B24: =(B23-B22)/365 -> 2.7808219 | C24: =(C23-C22)/365 -> 0.96438356 | D24: =(D23-D22)/365 -> 0.64109589 | E24: =(E23-E22)/365 -> 0.084931507 | F24: =(F23-F22)/365 -> 0.082191781 | G24: =(G23-G22)/365 -> 0.082191781 | H24: =(H23-H22)/365 -> 0.24931507 | I24: =(I23-I22)/365 -> 0.41643836 | ... T24: =(T23-T22)/365 -> 0.78630137
A25: Cumplimiento contrato (1 Si; 0 No) | B25: 1 | C25: 1 | D25: 1 | E25: 1 | F25: 1 | G25: 1 | H25: 1 | I25: 1 | J25: 1 | K25: 1 | L25: 1 | M25: 1 | N25: 1 | O25: 1 | P25: 1 | Q25: 1 | R25: 1 | S25: 1 | T25: 1
A26: Puntaje | B26: =MIN(SUMIFS(B24:J24,B25:J25,1),5) -> 5
A28: Asesor en Transporte | B28: Exp 1 | C28: Exp 2 | D28: Exp 3 | E28: Exp 4 | F28: Exp 5 | G28: Exp 6 | H28: Exp 7 | I28: Exp 8 | J28: Exp 9 | K28: Exp 10 | L28: Exp 11 | M28: Exp 12 | N28: Exp 13 | O28: Exp 14 | P28: Exp 15 | Q28: Exp 16 | R28: Exp 17 | S28: Exp 18 | T28: Exp 19 | U28: Exp 20 | V28: Exp 21 | W28: Exp 23
A29: Nombre de la Entidad contratante | B29: STT | C29: STT | D29: STT | E29: STT | F29: Logitrans | G29: Logitrans | H29: Logitrans | I29: Logitrans | J29: Logitrans | K29: Logitrans | L29: Logitrans | M29: Logitrans | N29: Logitrans | O29: Logitrans | P29: Logitrans | Q29: Logitrans | R29: Mov. Sostenible | S29: Sec. Plan. | T29: Logitrans | U29: Sec. Plan. | V29: Transmetro | W29: Masivo capital
A30: Persona Natural o Jurídica que ejecutó la Interventoría con Nº de NIT respectivo | B30: SECRETARIA DE TRANSITO Y TRANSPORTE DE BOGOTA | C30: SECRETARIA DE TRANSITO Y TRANSPORTE DE BOGOTA | D30: SECRETARIA DE TRANSITO Y TRANSPORTE DE BOGOTA | E30: SECRETARIA DE TRANSITO Y TRANSPORTE DE BOGOTA | F30: LOGITRANS LOGISTICA E INGENIERIA DE TRANSPORTE LDTA | G30: LOGITRANS LOGISTICA E INGENIERIA DE TRANSPORTE LDTA | H30: LOGITRANS LOGISTICA E INGENIERIA DE TRANSPORTE LDTA | I30: LOGITRANS LOGISTICA E INGENIERIA DE TRANSPORTE LDTA | J30: LOGITRANS LOGISTICA E INGENIERIA DE TRANSPORTE LDTA | K30: LOGITRANS LOGISTICA E INGENIERIA DE TRANSPORTE LDTA | L30: LOGITRANS LOGISTICA E INGENIERIA DE TRANSPORTE LDTA | M30: LOGITRANS LOGISTICA E INGENIERIA DE TRANSPORTE LDTA | N30: LOGITRANS LOGISTICA E INGENIERIA DE TRANSPORTE LDTA | O30: LOGITRANS LOGISTICA E INGENIERIA DE TRANSPORTE LDTA | P30: LOGITRANS LOGISTICA E INGENIERIA DE TRANSPORTE LDTA | Q30: LOGITRANS LOGISTICA E INGENIERIA DE TRANSPORTE LDTA | R30: MOVILIDAD SOSTENIBLE | S30: SECRETARIA DE PLANEACION | T30: LOGITRANS LOGISTICA E INGENIERIA DE TRANSPORTE LDTA | U30: SECRETARIA DE PLANEACION | V30: TRANSMETRO S.A | W30: MASIVO CAPITAL
A31: Nº de contrato y objeto del contrato de Interventoría | B31: PROFESIONAL ESPECIALIZADO DEL GRUPO DE PLANEACION DE TRANSITO Y TRANSPORTE EN EL ANALISIS DE PROPUESTAS COMPLEMENTARIAS | C31: PROFESIONAL ESPECIALIZADO DEL GRUPO DE PLANEACION DE TRANSITO Y TRANSPORTE EN EL DESARROLLO DE LOS ESTUDIOS TECNICOS PARA LA PLANEACION DEL SISTEMA DE RUTAS ESCOLARES | D31: PROFESIONAL ESPECIALIZADO DEL GRUPO DE PLANEACION DE TRANSITO Y TRANSPORTE COMO ARTE DE LAS INICIATIVA DE REORGANIZACION DE RUTAS DE TRANSPORTE | E31: PROFESIONAL ESPECIALIZADO DEL GRUPO DE PLANEACION DE TRANSITO Y TRANSPORTE | F31: EXPERTO EN PLANEACION Y MODELACION DE SISTEMAS DE TRANSITO Y TRANSPORTE | G31: EXPERTO EN PLANEACION Y MODELACION DE SISTEMAS DE TRANSITO Y TRANSPORTE | H31: EXPERTO EN PLANEACION Y MODELACION DE SISTEMAS DE TRANSITO Y TRANSPORTE | I31: EXPERTO EN PLANEACION Y MODELACION DE SISTEMAS DE TRANSITO Y TRANSPORTE | J31: EXPERTO EN PLANEACION Y MODELACION DE SISTEMAS DE TRANSITO Y TRANSPORTE | K31: EXPERTO EN PLANEACION Y MODELACION DE SISTEMAS DE TRANSITO Y TRANSPORTE | L31: EXPERTO EN PLANEACION Y MODELACION DE SISTEMAS DE TRANSITO Y TRANSPORTE | M31: EXPERTO EN PLANEACION Y MODELACION DE SISTEMAS DE TRANSITO Y TRANSPORTE | N31: EXPERTO EN PLANEACION Y MODELACION DE SISTEMAS DE TRANSITO Y TRANSPORTE | O31: EXPERTO EN PLANEACION Y MODELACION DE SISTEMAS DE TRANSITO Y TRANSPORTE | P31: EXPERTO EN PLANEACION Y MODELACION DE SISTEMAS DE TRANSITO Y TRANSPORTE | Q31: EXPERTO EN PLANEACION Y MODELACION DE SISTEMAS DE TRANSITO Y TRANSPORTE | R31: EXPERTO EN PLANEACION Y MODELACION DE SISTEMAS DE TRANSITO Y TRANSPORTE | S31: EXPERTO EN PLANEACION Y MODELACION DE SISTEMAS DE TRANSITO Y TRANSPORTE | T31: EXPERTO EN PLANEACION Y MODELACION DE SISTEMAS DE TRANSITO Y TRANSPORTE | U31: EXPERTO EN PLANEACION Y MODELACION DE SISTEMAS DE TRANSITO Y TRANSPORTE | V31: ASESOR EN TRANSPORTE | W31: DIRECTOR PLANEACION DE LA OPERACIÓN
A32: Nombre completo y documento de identidad del profesional al cual certifica | B32: JORGE ZORRO BENAVIDES | C32: JORGE ZORRO BENAVIDES | D32: JORGE ZORRO BENAVIDES | E32: JORGE ZORRO BENAVIDES | F32: JORGE ZORRO BENAVIDES | G32: JORGE ZORRO BENAVIDES | H32: JORGE ZORRO BENAVIDES | I32: JORGE ZORRO BENAVIDES | J32: JORGE ZORRO BENAVIDES | K32: JORGE ZORRO BENAVIDES | L32: JORGE ZORRO BENAVIDES | M32: JORGE ZORRO BENAVIDES | N32: JORGE ZORRO BENAVIDES | O32: JORGE ZORRO BENAVIDES | P32: JORGE ZORRO BENAVIDES | Q32: JORGE ZORRO BENAVIDES | R32: JORGE ZORRO BENAVIDES | S32: JORGE ZORRO BENAVIDES | T32: JORGE ZORRO BENAVIDES | U32: JORGE ZORRO BENAVIDES | V32: JORGE ZORRO BENAVIDES | W32: JORGE ZORRO BENAVIDES
A33: Cargo ejercido en el desarrollo del contrato de Interventoría certificado por parte del profesional certificado | B33: Profesional especializado | F33: Experto en planeacion y modelaciòn de transporte | V33: Asesor | W33: Director planeaciòn
A34: Fecha de Inicio del contrato de Interventoría | B34: 37104 | C34: 37438 | D34: 37895 | E34: 37926 | F34: 38412 | G34: 38442 | H34: 38534 | I34: 38718 | J34: 38749 | K34: 38837 | L34: 38960 | M34: 39021 | N34: 39052 | O34: 39233 | P34: 39263 | Q34: 39263 | R34: 39264 | S34: 39716 | T34: 39264 | U34: 39927 | V34: 40238 | W34: 40756
A35: Fecha de Terminación del contrato de Interventoría | B35: 37438 | C35: 37926 | D35: 37926 | E35: 38012 | F35: 38687 | G35: 38898 | H35: 38899 | I35: 39629 | J35: 38930 | K35: 39021 | L35: 39114 | M35: 39325 | N35: 39141 | O35: 39325 | P35: 39447 | Q35: 39447 | R35: 39294 | S35: 39868 | T35: 39447 | U35: 40232 | V35: 40421 | W35: 41660
A36: Fecha de Inicio de labores ejercidas | B36: 37104 | C36: 37438 | D36: 37895 | E36: 37926 | F36: 38412 | G36: 38442 | H36: 38534 | I36: 38718 | J36: 38749 | K36: 38837 | L36: 38960 | M36: 39021 | N36: 39052 | O36: 39233 | P36: 39232 | Q36: 39263 | R36: 39264 | S36: 39716 | T36: 39264 | U36: 39927 | V36: 40238 | W36: 40756
A37: Fecha de Terminación de labores ejercidas | B37: 37438 | C37: 37926 | D37: 37926 | E37: 38012 | F37: 38687 | G37: 38898 | H37: 38899 | I37: 39629 | J37: 38930 | K37: 39021 | L37: 39114 | M37: 39325 | N37: 39141 | O37: 39325 | P37: 39447 | Q37: 39447 | R37: 39294 | S37: 39868 | T37: 39447 | U37: 40232 | V37: 40421 | W37: 41660
A38: Tiempo de experiencia | B38: =(B37-B36)/365 -> 0.91506849 | C38: =(C37-C36)/365 -> 1.3369863 | D38: =(D37-D36)/365 -> 0.084931507 | E38: =(E37-E36)/365 -> 0.23561644 | F38: =(F37-F36)/365 -> 0.75342466 | G38: =(G37-G36)/365 -> 1.2493151 | H38: =(H37-H36)/365 -> 1 | I38: =(I37-I36)/365 -> 2.4958904 | ... W38: =(W37-W36)/365 -> 2.4767123
A39: Cumplimiento contrato (1 Si; 0 No) | B39: 1 | C39: 1 | D39: 1 | E39: 1 | F39: 0 | G39: 0 | H39: 0 | I39: 0 | J39: 0 | K39: 0 | L39: 0 | M39: 0 | N39: 0 | O39: 0 | P39: 0 | Q39: 0 | R39: 0 | S39: 0 | T39: 0 | U39: 0 | V39: 1 | W39: 1
A40: Puntaje | B40: 5
A42: Abogado | B42: Exp 1 | C42: Exp 2 | D42: Exp 3 | E42: Exp 4 | F42: Exp 5 | G42: Exp 6 | H42: Exp 7 | I42: Exp 8 | J42: Exp 9 | K42: Exp 10
A43: Nombre de la Entidad contratante | B43: Sec. Transito y Transporte | G43: Sec. Obras | H43: IDU | I43: Procuraduria | J43: Ministerio de tecnologias de informacion | K43: Auditoria
A44: Persona Natural o Jurídica que ejecutó la Interventoría con Nº de NIT respectivo | B44: ALCALDIA MAYOR DE BOGOTA - SECRETARIA DE TRANSITO Y TRANSPORTE | C44: ALCALDIA MAYOR DE BOGOTA - SECRETARIA DE TRANSITO Y TRANSPORTE | D44: ALCALDIA MAYOR DE BOGOTA - SECRETARIA DE TRANSITO Y TRANSPORTE | E44: ALCALDIA MAYOR DE BOGOTA - SECRETARIA DE TRANSITO Y TRANSPORTE | F44: ALCALDIA MAYOR DE BOGOTA - SECRETARIA DE TRANSITO Y TRANSPORTE | G44: ALCALDIA MAYOR DE BOGOTA - SECRETARIA DE OBRAS PUBLICAS | H44: IDU | I44: PROCURADURIA GENERAL DE LA NACION | J44: MINISTERIO DE TECNOLOGIAS DE INFORMACION Y LAS COMUNICACIONES | K44: AUDITORIA GENERALDE LA REPUBLICA
A45: Nº de contrato y objeto del contrato de Interventoría | B45: ASESOR JURIDICO | C45: JEFE OFICINA ASESORA | D45: ASESOR JURIDICO | E45: JEFE OFICINA ASESORA | F45: ASESOR JURIDICO | G45: CONTRATO Nº 030 | H45: CONTRATO 146 DE 2002 | I45: ASESOR GRADO 24 | J45: CONTRATO DE PRESTACION DE SERVICIOS 00560 DE 2012 Y 000036 DE 2013 | K45: SERVICIOS PROFESIONALES COMO ASESOR JURIDICO
A46: Nombre completo y documento de identidad del profesional al cual certifica | B46: MARIO ENRIQUE GALVIS AYALA | C46: MARIO ENRIQUE GALVIS AYALA | D46: MARIO ENRIQUE GALVIS AYALA | E46: MARIO ENRIQUE GALVIS AYALA | F46: MARIO ENRIQUE GALVIS AYALA | G46: MARIO ENRIQUE GALVIS AYALA | H46: MARIO ENRIQUE GALVIS AYALA | I46: MARIO ENRIQUE GALVIS AYALA | J46: MARIO ENRIQUE GALVIS AYALA | K46: MARIO ENRIQUE GALVIS AYALA
A47: Cargo ejercido en el desarrollo del contrato de Interventoría certificado por parte del profesional certificado | B47: Asesor juridico
A48: Fecha de Inicio del contrato de Interventoría | B48: 35989 | C48: 36487 | D48: 36492 | E48: 36542 | F48: 36706 | G48: 36794 | H48: 37330 | I48: 37895 | J48: 41187 | K48: 40974
A49: Fecha de Terminación del contrato de Interventoría | B49: 36486 | C49: 36491 | D49: 36541 | E49: 36705 | F49: 36768 | G49: 36977 | H49: 37694 | I49: 40948 | J49: 41395 | K49: 41271
...

Sheet E. Profesionales Adic. P 5
A6: ALCALDIA MAYOR DE BOGOTA D.C.
A7: SECRETARÍA DE EDUCACIÓN
A8: EVALUACIÓN TÉCNICA- ECONÓMICA: CONCURSO DE MERITOS No. SED-CM-DBE-110-2013
A9: EXPERIENCIA ADICIONAL
A11: Nombre del Proponente | B11: CONSORCIO INTERVENTORIA TRANSPORTE
A12: Puntaje Experiencia Específica Adicional | B12: =SUM(B26,B40,B54,B68,B96,B82,B110) -> 30.265753
A14: Director de Proyecto ( Der, admon, econ, ing. Civ, Ind, trans, vias, mec, elec o sist, Pos: Eco, admn, pol pub o ing) | B14: Exp 1
A15: Nombre de la Entidad contratante | B15: ATI INTERNACIONAL LTDA.
A16: Persona Natural o Jurídica que ejecutó la Interventoría con Nº de NIT respectivo | B16: 830.008.196-2
A17: Nº de contrato y objeto del contrato de Interventoría
A18: Nombre completo y documento de identidad del profesional al cual certifica
A19: Cargo ejercido en el desarrollo del contrato de Interventoría certificado por parte del profesional certificado | B19: Gerente de interventoria a programas y proyectos sociales
A20: Fecha de Inicio del contrato de Interventoría
A21: Fecha de Terminación del contrato de Interventoría
A22: Fecha de Inicio de labores ejercidas por el profesional certificado | B22: 37654 | C22: 39353 | D22: 37888 | E22: 39815 | F22: 41134
A23: Fecha de Terminación de labores ejercidas por el profesional certificado | B23: 38352 | C23: 39937 | D23: 38383 | E23: 40556 | F23: 41305
A24: Tiempo de experiencia | B24: =(B23-B22)/365 -> 1.9123288 | C24: =(C23-C22)/365 -> 1.6 | D24: =(D23-D22)/365 -> 1.3561644 | E24: =(E23-E22)/365 -> 2.030137 | F24: =(F23-F22)/365 -> 0.46849315
A25: Cumplimiento contrato (1 Si; 0 No) | B25: 1 | C25: 1 | D25: 1 | E25: 0 | F25: 0
A26: Puntaje | B26: =B24+C24+D24 -> 4.8684932
A28: Asesor en Transporte (Ing. Civil o Trans., Pos: Trans e Infravial, vias, o afines) | B28: Exp 1 | C28: Exp 2 | D28: Exp 3 | E28: Exp 4 | F28: Exp 5 | G28: Exp 6 | H28: Exp 7 | I28: Exp 8 | J28: Exp 9 | K28: Exp 10 | L28: Exp. 11 | M28: Exp 12 | N28: Exp 13 | O28: Exp. 14
A29: Nombre de la Entidad contratante | B29: Tranvias | C29: Unal | D29: Unal | E29: Unal | F29: Unal | G29: Unal | H29: Unal | I29: Unal | J29: Unal | K29: Unal | L29: Unal | M29: FONDATT | N29: SESAC LTDA. | O29: Consorcio Tranvias
A30: Persona Natural o Jurídica que ejecutó la Interventoría con Nº de NIT respectivo | B30: 800244072-1
A31: Nº de contrato y objeto del contrato de Interventoría | F31: Cto.593 de 2002, Asesor de costos en transporte y elaboración de metodología de análisis de costos. | G31: Cto.753 de 2004, Encargado de preparar pliegos de condiciones, realizar labores de coordinación con la SED, aistencia a las audiencias con los proponentes. | H31: Cto.978 de 2004, Encargado de preparar pliegos de condiciones, realizar labores de coordinación con la SED, aistencia a las audiencias con los proponentes. | I31: Cto.No.1168 de 2004, Realizar labores de coordinación con la SED, asistencia a las audicencias con los proponentes. | J31: Cto. No.310 de 2005, Preparar pliegos de condiciones para seleccionar los proveedores del servicio de transporte escolar, la interventoria de los contratos del suministro de transporte escolar y asistencia a las audiencias con los proponentes. | K31: Cto.954 de 2005, Prestación de servicios para realizar la coordinacion del estudio de costos de operación de l Transporte Escoilar, realizar labores de coordinación con la SED, preparar los pliegos de condiciones para seleccionar los proveedores del servicio de transporte escokar, la interventoria de los contratos de sumunistro del servicio de transporte escolar y asistencia a las audiencias con los proponentes. | L31: Cto.12004 de 2005, Prestación de servicios para realizar el estudio final de costos de orperación de transporte escolar, realizar labores de coordinación con la SED, para atender observaciones del informe final. | M31: 140 DE 2003, Apoyar en la gerencia de reorganización de transporte público en el estudio y elaboración de los documentos técnicos necesarios para la expedición de los actos administrativos relacionados con la declaratoria de vacacia por abandono de rutas al igual que la participación en la elaboración de las respuestas a los recursos y peticiones que se pretenden en desarrollo del trámite mencionado y la atención a los transportadores que se inviten a la entidad o que soliciten claridad sobre los estudios técnicos soportes para la reestructuración del servicio. | O31: Cto.006/2001,Interventoria de prestación del servicio de transporte escolar para niños y jovenes de grado 0° a 9°, en las tres jornadas, matriculados en las diferentes localidades y grupos en número de 500 rutas
A32: Nombre completo y documento de identidad del profesional al cual certifica | B32: Oswaldo Javier Arias García C.C.19270011
A33: Cargo ejercido en el desarrollo del contrato de Interventoría certificado por parte del profesional certificado | B33: Evaluación económica de las vias | C33: Coordinar las actividades desarrolladas por los supervisores | E33: Verificar el cumplimiento de las obligaciones contractuales del transporte escolar | F33: Realizar estudio de costos de operación de transporte | G33: Preparar pliegos de condiciones para el proceso de selección de transporte | H33: Realizar labores de coordinacion en la SED | I33: Realizar labores de coordinaciòn en la SED | J33: Preparar pliegos de condiciones y realizar labores de coordinacion | M33: Apoyar la gerencia y reorganizaciòn de transporte | N33: Operaciòn y funcionamiento de empresa | O33: Interventoria a la prestacion de servicio
A34: Fecha de Inicio del contrato de Interventoría
A35: Fecha de Terminación del contrato de Interventoría
A36: Fecha de Inicio de labores ejercidas por el profesional certificado | B36: 40437 | C36: 39067 | D36: 39024 | E36: 38743 | F36: 37386 | G36: 38195 | H36: 38275 | I36: 38313 | J36: 38429 | K36: 38551 | L36: 38588 | M36: 37883 | N36: 37653 | O36: 36957
A37: Fecha de Terminación de labores ejercidas por el profesional certificado | B37: 40709 | C37: 39129 | D37: 39066 | E37: 38924 | F37: 37406 | G37: 38260 | H37: 38296 | I37: 38331 | J37: 38536 | K37: 38569 | L37: 38619 | M37: 38065 | N37: 37741 | O37: 37343
A38: Tiempo de experiencia | B38: =(B37-B36)/365 -> 0.74520548 | C38: =(C37-C36)/365 -> 0.16986301 | D38: =(D37-D36)/365 -> 0.11506849 | E38: =(E37-E36)/365 -> 0.49589041 | F38: =(F37-F36)/365 -> 0.054794521 | G38: =(G37-G36)/365 -> 0.17808219 | H38: =(H37-H36)/365 -> 0.057534247 | I38: =(I37-I36)/365 -> 0.049315068 | ... O38: =(O37-O36)/365 -> 1.0575342
A39: Cumplimiento contrato (1 Si; 0 No) | B39: 1 | C39: 1 | D39: 1 | E39: 1 | F39: 1 | G39: 1 | H39: 1 | I39: 1 | J39: 1 | K39: 1 | L39: 1 | M39: 1 | N39: 1 | O39: 1
A40: Puntaje | B40: =B38+C38+D38+E38+F38+G38+H38+I38+J38+K38+L38+M38+N38+O38 -> 4.090411
A42: Abogado (Pos: Contratación Pub o Adminst) | B42: Exp 1
A43: Nombre de la Entidad contratante | B43: Unión Temporal Cintra Valle
A44: Persona Natural o Jurídica que ejecutó la Interventoría con Nº de NIT respectivo | B44: 805.014.950-3
A45: Nº de contrato y objeto del contrato de Interventoría
A46: Nombre completo y documento de identidad del profesional al cual certifica | B46: Mauricio Alejandro Camacho Fonseca CC.79432777
A47: Cargo ejercido en el desarrollo del contrato de Interventoría certificado por parte del profesional certificado | B47: Asesor Jurídico externo
A48: Fecha de Inicio del contrato de Interventoría
A49: Fecha de Terminación del contrato de Interventoría
...

Sheet EXPERIENCIA EQUIPO DE TRABA
B1: ALCALDÍA MAYOR DE BOGOTÁ D.C.
B2: SECRETARÍA DE EDUCACIÓN DEL DISTRITO CAPITAL
B3: DIRECCIÓN DE BIENESTAR ESTUDIANTIL
B4: EVALUACIÓN CONCURSO DE MÉRITOS No. SED-CM-A-DBE-004-2019
B5: EXPERIENCIA Y FORMACIÓN ACADÉMICA MÍNIMA DEL EQUIPO DE CALIFICABLE
A7: NOMBRE DEL PROPONENTE | C7: NÚMERO DE PROPUESTA | D7: EQUIPO MÍNIMO CALIFICABLE | E7: DIRECTOR | F7: PROFESIONAL TÉCNICO | G7: PROFESIONAL ANÁLISIS DE DATOS | H7: PUNTAJE EXPERIENCIA ADICIONAL EQUIPO DE CALIFICABLE máximo 89 puntos | U7: INTEGRANTE 4
A8: =+'[3]EXPERIENCIA PROPONENTE'!$A$9 -> CONSORCIO AUDITORIA TRAESCOL | M8: 0.49 | N8: 1 | O8: 2 | U8: NOMBRE | V8: NIT | W8: % DE PARTICIPACIÓN
C9: =+'[3]EXPERIENCIA PROPONENTE'!B9 -> 3 | D9: =IF(COUNTIF(E9:G9,"HABILITADO")=3,"HABILITADO","NO HABILITADO") -> HABILITADO | E9: =IF(COUNTIF(I13:J13,"CUMPLE")=2,"HABILITADO","NO HABILITADO") -> HABILITADO | F9: =IF(I38="CUMPLE","HABILITADO","NO HABILITADO") -> HABILITADO | G9: =IF(I63="CUMPLE","HABILITADO","NO HABILITADO") -> HABILITADO | H9: =K13+K38+J63 -> 35 | L9: La formula de la experiencia adicional calificable, esta calculada en años 05 son 6 meses, 1 es 12 meses y 2 es 24 meses.
A11: DIRECTOR | B11: TITULO DE FORMACIÓN PROFESIONAL | C11: FECHA DE GRADO PROFESIONAL | D11: NÚMERO MATRÍCULA PROFESIONAL | E11: FECHA DE EXPEDICIÓN DE LA MATRÍCULA PROFESIONAL | F11: TIPO POSTGRADO | G11: TITULO DE POSTGRADO | H11: FECHA DE GRADO DE POSTGRADO | I11: EXPERIENCIA TOTAL (GENERAL + ESPECIFICA) mínimo 8 años | J11: EXPERIENCIA ESPECÍFICA (mínimo 6 años) | K11: EXPERIENCIA ESPECÍFICA ADICIONAL CALIFICABLE | L11: OBSERVACIONES
A12: ARIEL AHUMEDO BRAVO | B12: CONTADOR PUBLICO | C12: 38960 | D12: 125209-T | E12: 39149 | F12: ESPECIALIZACIÓN | G12: REVISORIA FISCAL Y AUDITORIA FORENSE | H12: 43074 | I12: =+SUM(B33:K33) -> 8.0383562 | J12: =+SUM(G33:K33) -> 8.0383562 | K12: =SUM(L33:T33) -> 3.9232877
I13: =IF(I12>=8,"CUMPLE","NO CUMPLE") -> CUMPLE | J13: =IF(J12>=6,"CUMPLE","NO CUMPLE") -> CUMPLE | K13: =IF(AND(K12>=M8,K12<=N8),5,IF(AND(K12>=N8,K12<=O8),10,IF(K12>O8,20,0))) -> 20
A15: EXPERIENCIA RELACIONADA | B15: Experiencia 1 | C15: Experiencia 2 | D15: Experiencia 3 | E15: Experiencia 4 | F15: Experiencia 5 | G15: Experiencia Especifica 1 | H15: Experiencia Especifica 2 | I15: Experiencia Especifica 3 | J15: Experiencia Especifica 4 | K15: Experiencia Especifica 5 | L15: Experiencia Adicional 1 | M15: Experiencia Adicional 2 | N15: Experiencia Adicional 3 | O15: Experiencia Adicional 4 | P15: Experiencia Adicional 5 | Q15: Experiencia Adicional 6 | R15: Experiencia Adicional 7 | S15: Experiencia Adicional 8 | T15: Experiencia Adicional 9
A16: Nombre de la Entidad contratante | G16: KRESTON | L16: KRESTON
A17: Cargo ejercido en el desarrollo del contrato | G17: GERENTE DE AUDITORIA FINANCIERA, ASEGURAMIENTO E IMPUESTOS | L17: GERENTE DE AUDITORIA FINANCIERA, ASEGURAMIENTO E IMPUESTOS
A18: Folio | G18: 18 | L18: 18
A19: Fecha de Inicio de labores ejercidas Periodo 1 | G19: 39149 | L19: 42084
A20: Fecha de Terminación de labores ejercidas Periodo 1 | G20: 42083 | L20: 43516
A21: Fecha de Inicio de labores ejercidas Periodo 2
A22: Fecha de Terminación de labores ejercidas Periodo 2
A23: Fecha de Inicio de labores ejercidas Periodo 3
A24: Fecha de Terminación de labores ejercidas Periodo 3
A25: Fecha de Inicio de labores ejercidas Periodo 4
A26: Fecha de Terminación de labores ejercidas Periodo 4
A27: Fecha de Inicio de labores ejercidas Periodo 5
A28: Fecha de Terminación de labores ejercidas Periodo 5
A29: Fecha de Inicio de labores ejercidas Periodo 6
A30: Fecha de Terminación de labores ejercidas Periodo 6
A31: Fecha de Inicio de labores ejercidas Periodo 7
A32: Fecha de Terminación de labores ejercidas Periodo 7
A33: Tiempo de experiencia en años | B33: =+((B20-B19)/365+((B22-B21)/365)+((B24-B23)/365)+((B26-B25)/365)+((B28-B27)/365)+((B30-B29)/365)+((B32-B31)/365)) -> 0 | C33: =+((C20-C19)/365+((C22-C21)/365)+((C24-C23)/365)+((C26-C25)/365)+((C28-C27)/365)+((C30-C29)/365)+((C32-C31)/365)) -> 0 | D33: =+((D20-D19)/365+((D22-D21)/365)+((D24-D23)/365)+((D26-D25)/365)+((D28-D27)/365)+((D30-D29)/365)+((D32-D31)/365)) -> 0 | E33: =+((E20-E19)/365+((E22-E21)/365)+((E24-E23)/365)+((E26-E25)/365)+((E28-E27)/365)+((E30-E29)/365)+((E32-E31)/365)) -> 0 | F33: =+((F20-F19)/365+((F22-F21)/365)+((F24-F23)/365)+((F26-F25)/365)+((F28-F27)/365)+((F30-F29)/365)+((F32-F31)/365)) -> 0 | G33: =+((G20-G19)/365+((G22-G21)/365)+((G24-G23)/365)+((G26-G25)/365)+((G28-G27)/365)+((G30-G29)/365)+((G32-G31)/365)) -> 8.0383562 | H33: =+((H20-H19)/365+((H22-H21)/365)+((H24-H23)/365)+((H26-H25)/365)+((H28-H27)/365)+((H30-H29)/365)+((H32-H31)/365)) -> 0 | I33: =+((I20-I19)/365+((I22-I21)/365)+((I24-I23)/365)+((I26-I25)/365)+((I28-I27)/365)+((I30-I29)/365)+((I32-I31)/365)) -> 0 | ... T33: =+((T20-T19)/365+((T22-T21)/365)+((T24-T23)/365)+((T26-T25)/365)+((T28-T27)/365)+((T30-T29)/365)+((T32-T31)/365)) -> 0
A34: OBSERVACIÓN | G34: SE TIENE EN CUENTA EL INCIO DE EXPERIENCIA PROFESIONAL DESDE LA EXPEDICION DE LA TARJETA PROFESIONAL (08/03/2007)
A36: PROFESIONAL TÉCNICO | B36: TITULO DE FORMACIÓN PROFESIONAL | C36: FECHA DE GRADO PROFESIONAL | D36: NÚMERO MATRÍCULA PROFESIONAL | E36: FECHA DE EXPEDICIÓN DE LA MATRÍCULA PROFESIONAL | F36: TIPO POSTGRADO | G36: TITULO DE POSTGRADO | H36: FECHA DE GRADO DE POSTGRADO | I36: EXPERIENCIA TOTAL mínimo 6 años | J36: EXPERIENCIA ESPECÍFICA (mínimo 4 años) | K36: EXPERIENCIA ESPECÍFICA ADICIONAL CALIFICABLE | L36: OBSERVACIONES
A37: CESAR EDURDO MEDRANO MARTINEZ | B37: CONTADOR PÚBLICO | C37: 39259 | D37: 128420-T | E37: 39324 | I37: =SUM(B58:J58) -> 7.4082192 | J37: =+SUM(H58:J58) -> 7.4082192 | K37: =SUM(L58:R58) -> 0
I38: =IF(I37>=6,"CUMPLE","NO CUMPLE") -> CUMPLE | J38: =IF(J37>=3,"CUMPLE","NO CUMPLE") -> CUMPLE | K38: =IF(AND(K37>M8,K37<=N8),4,IF(AND(K37>N8,K37<=O8),9,IF(K37>O8,13,0))) -> 0
A40: EXPERIENCIA RELACIONADA | B40: Experiencia 1 | C40: Experiencia 2 | D40: Experiencia 3 | E40: Experiencia 4 | F40: Experiencia 5 | G40: Experiencia 6 | H40: Experiencia Especifica 1 | I40: Experiencia Especifica 2 | J40: Experiencia Especifica 3 | L40: Experiencia Adicional 1 | M40: Experiencia Adicional 2 | N40: Experiencia Adicional 3 | O40: Experiencia Adicional 4 | P40: Experiencia Adicional 5 | Q40: Experiencia Adicional 6 | R40: Experiencia Adicional 7
A41: Nombre de la Entidad contratante | H41: AUDITING FIRMS GROUP-AFG
A42: Cargo ejercido en el desarrollo del contrato | H42: DIRECTOR DE AUDITORIA
A43: Folio | H43: 31
A44: Fecha de Inicio de labores ejercidas Periodo 1 | H44: 40735
A45: Fecha de Terminación de labores ejercidas Periodo 1 | H45: 43439
...

Sheet CAPACIDAD OPERATIVA
