Workbook
Name _Toc156908137: 'CONSOLIDADO POR PROPONENTE'!#REF!
Name Año_2018: X!$A$4:$A$14

Sheet E. Especifica Adic.
A7: ALCALDIA MAYOR DE BOGOTA D.C.
A8: SECRETARÍA DE EDUCACIÓN
A9: EVALUACIÓN TÉCNICA- ECONÓMICA: CONCURSO DE MERITOS No. SED-CM-DBE-110-2013
A10: EXPERIENCIA ADICIONAL DEL PROPONENTE
A12: EXPERIENCIA ESPECIFICA ADICIONAL
A13: Nombre del Proponente | B13: C&M CONSULTORES S.A
A14: Campo | B14: Contrato 1 | D14: Contrato 2 | F14: Contrato 3 | H14: Contrato 4 | J14: Contrato 5
A15: Entidad Contratante | B15: TRANSMILENIO SA | D15: MINISTERIO DE EDUCACIÓN NACIONAL - MEN | F15: MINISTERIO DE EDUCACIÓN NACIONAL - MEN | H15: MINISTERIO DE EDUCACIÓN NACIONAL - MEN | J15: MINISTERIO DE EDUCACIÓN NACIONAL - MEN
A16: Dirección | B16: AV. ELDORADO No. 66-63 | D16: CALLE 43 N° 57 14 | F16: CALLE 43 N° 57 14 | H16: CALLE 43 N° 57 14 | J16: CALLE 43 N° 57 14
A17: Teléfono | B17: 2203000 | D17: 2222800 | F17: 2222800 | H17: 2222800 | J17: 2222800
A18: Nombre del Contratista | B18: Consorcio Interventoría SITP | D18: C&M CONSULTORES S.A | F18: C&M CONSULTORES S.A | H18: C&M CONSULTORES S.A | J18: C&M CONSULTORES S.A
A19: En caso de Unión Temporal o Consorcio | B19: Integrante | C19: % de participac.
B20: C&M Consultores | C20: 0.5
B21: EPYPSA | C21: 0.5
A22: Número del Contrato | B22: 80 del 31/05/2012 | D22: 271 de 2011 | F22: 123 de 2010 | H22: 634 de 2009 | J22: 482 de 2012
A23: Valor total del Contrato | B23: 8945764395 | D23: 520468033 | F23: 430794338 | H23: 523499973 | J23: 602738568
A24: Valor del contrato a tener en cuenta | B24: =B23*C20 -> 4.4728822e+09 | D24: =D23 -> 520468033 | F24: =F23 -> 430794338 | H24: =H23 -> 523499973 | J24: =J23 -> 602738568
A25: Valor del contrato a tener en cuenta (actualizado 2014) | B25: =4862000059-1350000000 -> 3512000059 | D25: 598596543 | F25: 515280218 | H25: 648975616 | J25: 655173739
A26: Objeto del contrato | B26: Realizar la interventoría técnica y operativa de las etapas preoperativa y operativa asociadas a la implementación de trece (13) contratos de concesión, cuyo objeto corresponde a la explotación preferencial y no exclusiva, de la prestación del servicio público de transporte de pasajeros dentro del esquema del Sistema Integrado de Transporte Público SITP 1) Usaquén, 2) Engativá, 3) Fontibón, 4) San Cristóbal, 5) Suba Oriental, 6) Suba Centro, 7) Calle 80, 8) Tintal - Zona Franca, 9) Kennedy, 10) Bosa, 11) Perdomo, 12) Ciudad Bolívar y 13) Usme | D26: Interventoria de la prestación de servicios para la organización, administración y ejecución de acciones logisticas para la realización de eventos | F26: Interventoria de la prestación de servicios para la organización, administración y ejecución de acciones logisticas para la realización de eventos - grupo N° 1 del consorcio CM-MEN-02-10, Contratos derivados de la Licitación LP-MEN-12-09 | H26: Interventoria de la prestación de servicios para la organización, administración y ejecución de acciones logisticas para la realización de eventos - grupo N° 1 del consorcio CM-MEN-06-09, Contratos derivados de la Licitación LP-MEN-01-09 | J26: Realizar la interventoría técnica, administrativa, financiera y jurídica de los contratos resultantes de la licitación pública LP-MEN-01-2012 cuyo objeto es la prestación de servicios para la organización, administración y ejecución de acciones logisticas para la realización de eventos
A27: Fecha de suscripcion del contrato indicando día, mes y año | B27: 41060 | D27: 40714 | F27: 40273 | H27: 40003 | J27: 41145
A28: Fecha de Inicio del contrato indicando día, mes y año | B28: 41074 | D28: 40714 | F28: 40288 | H28: 40003 | J28: 41149
A29: Fecha de Terminación del contrato indicando día, mes y año | B29: 41523 | D29: 41060 | F29: 40755 | H29: 40390 | J29: 41394
A30: Fecha de la expedición de la certificación | B30: 41598 | D30: 41226 | F30: 40928 | H30: 40928 | J30: 41149
A31: Nombre y firma de quien expide la certificación | B31: Ernesto Cadena Rojas | D31: Dunia Semmir Montañez Jimenez | F31: Fabio Alberto Gomez Santos | H31: Fabio Alberto Gomez Santos | J31: Se adjunta el acta de inicio y contrato
A32: Estado del contrato | B32: Terminado | D32: Terminado | F32: Terminado | H32: Terminado | J32: Terminado
A33: Cumplimiento (1 Si; 0 No) | B33: 1 | D33: 1 | F33: 1 | H33: 1 | J33: 1
A34: Valor Contratos | B34: =SUMIFS(B25:K25,B33:K33,1) -> 5930026175
A35: Puntaje | B35: =IF(B34>2.5*2250000000,45,IF(B34>2*2250000000,30,IF(B34>1.5*2250000000,15,0))) -> 45
A37: EXPERIENCIA ESPECIFICA ADICIONAL
A38: Nombre del Proponente | B38: SERVICIOS Y SOLUCIONES SEGURAS S.A.S
A39: Campo | B39: Contrato 1 | D39: Contrato 2 | F39: Contrato 3 | H39: Contrato 4 | J39: Contrato 5
A40: Entidad Contratante | B40: TECNISEG DE COLOMBIA LTDA | D40: TRANSMILENIO S.A | F40: SEVIAL S.A | H40: SEVIAL S.A | J40: SECRETARIA DE TRANSITO Y TRANSPORTE DE VALLEDUPAR
A41: Dirección | B41: Calle 152 A Nº 17 - 04 | D41: Avenida del Dorado 66 - 63 | F41: Transversal 23 Nº 94 -23 of 602 | H41: Transversal 23 Nº 94 -23 of 602 | J41: Calle 13 Nº 11 - 90
A42: Teléfono | B42: 6260693 | D42: 2203000 | F42: 6210644 | H42: 6210644 | J42: 5714983
A43: Nombre del Contratista | B43: Servicios y Soluciones Seguras S.A.S | D43: Servicios y Soluciones Seguras S.A.S | F43: Servicios y Soluciones Seguras S.A.S | H43: Servicios y Soluciones Seguras S.A.S | J43: Unión Temoral Control Transito
A44: En caso de Unión Temporal o Consorcio | J44: Integrante | K44: % de participac.
J45: Servicios y Soluciones Seguras S.A.S | K45: 0.5
J46: P.I.V Ingenieria | K46: 0.5
A47: Número del Contrato | B47: 001 de 2005 | D47: 175 de 2011 | F47: 004 de 2009 | H47: 006 de 2010 | J47: 207 de 2009
A48: Valor total del Contrato | B48: 2315578505 | D48: 428129200 | F48: 300000000 | H48: 384097975 | J48: 278028800
...

Sheet X
B1: SMLV | C1: con auxilio | E1: SI | H1: # | I1: nombre de proponentes | K1: TERMINADO | M1: CONTRATO 100% | N1: CODIGOS UNSPSC | O1: ESPECIALIZACIÓN
A2: Año 2019 | B2: 828116 | C2: 925148 | E2: NO | H2: 1 | I2: BTC | K2: EN EJECUCIÓN | M2: 1173569472 | N2: 80101504 | O2: MAESTRIA | Q2: SI
A3: Año 2018 | B3: 781242 | C3: 869453 | H3: 2 | I3: CONSORCIO AUDISED | K3: LIQUIDADO | M3: CONTRATO 50% | N3: 84111603 | O3: DOCTORADO | Q3: NO
A4: Año 2017 | B4: 737717 | C4: 820857 | H4: 3 | I4: CONSORCIO AUDITORIO TRAINSCOL | M4: =+M2*0.5 -> 586784736 | N4: 93151607
A5: Año 2016 | B5: 689455 | C5: 767155 | H5: 4 | I5: CONSORCIO AUDISED 2019 | M5: CONTRATO 30%
A6: Año 2015 | B6: 644350 | C6: 718350 | H6: 5 | I6: KMP CONSULTING SAS | M6: =+M2*0.3 -> 3.5207084e+08
A7: Año 2014 | B7: 616000 | C7: 688000 | H7: 6 | I7: C &M CONSULTORES S.A.
A8: Año 2013 | B8: 589500 | C8: 660000 | H8: 7 | I8: CONSORCIO AUDITOR ESCOLAR 004-2009
A9: Año 2012 | B9: 566700 | C9: 634500
A10: Año 2011 | B10: 535600 | C10: 599200
A11: Año 2010 | B11: 515000 | C11: 576500
A12: Año 2009 | B12: 496900 | C12: 556200
A13: Año 2008 | B13: 461500 | C13: 516500
A14: Año 2007 | B14: 433700 | C14: 484500
A15: Año 2006 | B15: 408000 | C15: 455700
A16: Año 2005 | B16: 381500 | C16: =+B16+44500 -> 426000
A17: Año 2004 | B17: 358000 | C17: 399600
A18: Año 2003 | B18: 332000 | C18: 369500
A19: Año 2002 | B19: 309000 | C19: 343000

Sheet EXPERIENCIA PROPONENTE
A1: ALCALDÍA MAYOR DE BOGOTÁ D.C.
A2: SECRETARÍA DE EDUCACIÓN DEL DISTRITO CAPITAL
A3: DIRECCIÓN DE BIENESTAR ESTUDIANTIL
A4: EVALUACIÓN CONCURSO DE MÉRITOS No. SED-CM-A-DBE-004-2019
A5: EXPERIENCIA DEL PROPONENTE
A7: NOMBRE DEL PROPONENTE | B7: NÚMERO DE PROPUESTA | C7: INTEGRANTE 1 | F7: INTEGRANTE 2 | I7: INTEGRANTE 3 | L7: INTEGRANTE 4 | O7: INTEGRANTE 5
C8: NOMBRE | D8: NIT | E8: % DE PARTICIPACIÓN | F8: NOMBRE | G8: NIT | H8: % DE PARTICIPACIÓN | I8: NOMBRE | J8: NIT | K8: % DE PARTICIPACIÓN | L8: NOMBRE | M8: NIT | N8: % DE PARTICIPACIÓN | O8: NOMBRE | P8: NIT | Q8: % DE PARTICIPACIÓN
A9: =+VLOOKUP(B9,X!$H$2:$I$9,2,0) -> KMP CONSULTING SAS | B9: 5 | C9: KMP CONSULTING SAS | D9: 900458773-6 | E9: 100
A10: EXPERIENCIA RELACIONADA | C10: EXPERIENCIA MÍNIMA HABILITANTE | R10: EXPERIENCIA ADICIONAL CALIFICABLE
C11: Contrato 1 | F11: Contrato 2 | I11: Contrato 3 | L11: Contrato 4 | O11: Contrato 5 | R11: Contrato 1 | U11: Contrato 2 | X11: Contrato 3 | AA11: Contrato 4 | AD11: Contrato 5
A12: Entidad Contratante | C12: UNIVERSIDAD DE CUNDINAMARCA | R12: ECOPETROL S.A. | U12: UNIVERSIDAD DE CUNDINAMARCA | X12: UNIVERSIDAD DE CUNDINAMARCA | AA12: UNIVERSIDAD DE CUNDINAMARCA
A13: Dirección | C13: CRA 16 No. 39 - 52 | R13: CALLE 35 No. 7-21 | U13: CRA 16 No. 39 - 52 | X13: CRA 16 No. 39 - 52 | AA13: CRA 16 No. 39 - 52
A14: Teléfono | C14: 2881678 - 2454477 | R14: 2344225-2343120 | U14: 2881678 - 2454477 | X14: 2881678 - 2454477 | AA14: 2881678 - 2454477
A15: Nombre del Contratista | C15: INTERAUDIT SAS | R15: INTERAUDIT SAS | U15: INTERAUDIT SAS | X15: INTERAUDIT SAS | AA15: INTERAUDIT SAS
A16: En caso de Unión Temporal o Consorcio | C16: Integrante | E16: % de Participación | F16: Integrante | H16: % de Participación | I16: Integrante | K16: % de Participación | L16: Integrante | N16: % de Participación | O16: Integrante | Q16: % de Participación | R16: Integrante | T16: % de Participación | U16: Integrante | W16: % de Participación | X16: Integrante | Z16: % de Participación | AA16: Integrante | AC16: % de Participación | AD16: Integrante | AF16: % de Participación
C17: INTERAUDIT SAS | E17: 1 | R17: INTERAUDIT SAS | T17: 1 | U17: INTERAUDIT SAS | W17: 1 | X17: INTERAUDIT SAS | Z17: 1 | AA17: INTERAUDIT SAS | AC17: 1
A22: Número | C22: 013/2009 | R22: 4010951 | U22: 027/2008 | X22: 028/2008 | AA22: 005/2010
A23: Fecha del Contrato | C23: 40009 | R23: 39024 | U23: 39762 | X23: 39800 | AA23: 40282
A24: Valor del Contrato | C24: 2948800000 | F24: 0 | I24: 0 | L24: 0 | O24: 0 | R24: 95640000 | U24: 794200000 | X24: 360000000 | AA24: 781799000 | AD24: 0
A25: Valor del Contrato a tener en cuenta por participación | C25: =C24*E17 -> 2948800000 | F25: =F24*H17 -> 0 | I25: =I24*K17 -> 0 | L25: =L24*N17 -> 0 | O25: =O24*Q17 -> 0 | R25: =R24*T17 -> 95640000 | U25: =U24*W17 -> 794200000 | X25: =X24*Z17 -> 360000000 | AA25: =AA24*AC17 -> 781799000 | AD25: =AD24*AF17 -> 0
A26: Salario mínimo legal vigente en el año de finalización del contrato (Fuente: BANREP) | C26: Año 2010 | D26: =IF(C26=[1]X!$A$2,[1]X!$B$2,0)+IF(C26=[1]X!$A$3,[1]X!$B$3,0)+IF(C26=[1]X!$A$4,[1]X!$B$4,0)+IF(C26=[1]X!$A$5,[1]X!$B$5,0)+IF(C26=[1]X!$A$6,[1]X!$B$6,0)+IF(C26=[1]X!$A$7,[1]X!$B$7,0)+IF(C26=[1]X!$A$8,[1]X!$B$8,0)+IF(C26=[1]X!$A$9,[1]X!$B$9,0)+IF(C26=[1]X!$A$10,[1]X!$B$10,0)++IF(C26=[1]X!$A$11,[1]X!$B$11,0)+IF(C26=[1]X!$A$12,[1]X!$B$12,0)+IF(C26=[1]X!$A$13,[1]X!$B$13,0)+IF(C26=[1]X!$A$14,[1]X!$B$14,0)+IF(C26=[1]X!$A$15,[1]X!$B$15,0)+IF(C26=[1]X!$A$16,[1]X!$B$16,0)+IF(C26=[1]X!$A$17,[1]X!$B$17,0)+IF(C26=[1]X!$A$18,[1]X!$B$18,0)+IF(C26=[1]X!$A$19,[1]X!$B$19,0) -> 515000 | F26: Año 2010 | G26: =IF(F26=[1]X!$A$2,[1]X!$B$2,0)+IF(F26=[1]X!$A$3,[1]X!$B$3,0)+IF(F26=[1]X!$A$4,[1]X!$B$4,0)+IF(F26=[1]X!$A$5,[1]X!$B$5,0)+IF(F26=[1]X!$A$6,[1]X!$B$6,0)+IF(F26=[1]X!$A$7,[1]X!$B$7,0)+IF(F26=[1]X!$A$8,[1]X!$B$8,0)+IF(F26=[1]X!$A$9,[1]X!$B$9,0)+IF(F26=[1]X!$A$10,[1]X!$B$10,0)++IF(F26=[1]X!$A$11,[1]X!$B$11,0)+IF(F26=[1]X!$A$12,[1]X!$B$12,0)+IF(F26=[1]X!$A$13,[1]X!$B$13,0)+IF(F26=[1]X!$A$14,[1]X!$B$14,0)+IF(F26=[1]X!$A$15,[1]X!$B$15,0)+IF(F26=[1]X!$A$16,[1]X!$B$16,0)+IF(F26=[1]X!$A$17,[1]X!$B$17,0)+IF(F26=[1]X!$A$18,[1]X!$B$18,0)+IF(F26=[1]X!$A$19,[1]X!$B$19,0) -> 515000 | I26: Año 2010 | J26: =IF(I26=[1]X!$A$2,[1]X!$B$2,0)+IF(I26=[1]X!$A$3,[1]X!$B$3,0)+IF(I26=[1]X!$A$4,[1]X!$B$4,0)+IF(I26=[1]X!$A$5,[1]X!$B$5,0)+IF(I26=[1]X!$A$6,[1]X!$B$6,0)+IF(I26=[1]X!$A$7,[1]X!$B$7,0)+IF(I26=[1]X!$A$8,[1]X!$B$8,0)+IF(I26=[1]X!$A$9,[1]X!$B$9,0)+IF(I26=[1]X!$A$10,[1]X!$B$10,0)++IF(I26=[1]X!$A$11,[1]X!$B$11,0)+IF(I26=[1]X!$A$12,[1]X!$B$12,0)+IF(I26=[1]X!$A$13,[1]X!$B$13,0)+IF(I26=[1]X!$A$14,[1]X!$B$14,0)+IF(I26=[1]X!$A$15,[1]X!$B$15,0)+IF(I26=[1]X!$A$16,[1]X!$B$16,0)+IF(I26=[1]X!$A$17,[1]X!$B$17,0)+IF(I26=[1]X!$A$18,[1]X!$B$18,0)+IF(I26=[1]X!$A$19,[1]X!$B$19,0) -> 515000 | L26: Año 2010 | M26: =IF(L26=[1]X!$A$2,[1]X!$B$2,0)+IF(L26=[1]X!$A$3,[1]X!$B$3,0)+IF(L26=[1]X!$A$4,[1]X!$B$4,0)+IF(L26=[1]X!$A$5,[1]X!$B$5,0)+IF(L26=[1]X!$A$6,[1]X!$B$6,0)+IF(L26=[1]X!$A$7,[1]X!$B$7,0)+IF(L26=[1]X!$A$8,[1]X!$B$8,0)+IF(L26=[1]X!$A$9,[1]X!$B$9,0)+IF(L26=[1]X!$A$10,[1]X!$B$10,0)++IF(L26=[1]X!$A$11,[1]X!$B$11,0)+IF(L26=[1]X!$A$12,[1]X!$B$12,0)+IF(L26=[1]X!$A$13,[1]X!$B$13,0)+IF(L26=[1]X!$A$14,[1]X!$B$14,0)+IF(L26=[1]X!$A$15,[1]X!$B$15,0)+IF(L26=[1]X!$A$16,[1]X!$B$16,0)+IF(L26=[1]X!$A$17,[1]X!$B$17,0)+IF(L26=[1]X!$A$18,[1]X!$B$18,0)+IF(L26=[1]X!$A$19,[1]X!$B$19,0) -> 515000 | O26: Año 2010 | P26: =IF(O26=[1]X!$A$2,[1]X!$B$2,0)+IF(O26=[1]X!$A$3,[1]X!$B$3,0)+IF(O26=[1]X!$A$4,[1]X!$B$4,0)+IF(O26=[1]X!$A$5,[1]X!$B$5,0)+IF(O26=[1]X!$A$6,[1]X!$B$6,0)+IF(O26=[1]X!$A$7,[1]X!$B$7,0)+IF(O26=[1]X!$A$8,[1]X!$B$8,0)+IF(O26=[1]X!$A$9,[1]X!$B$9,0)+IF(O26=[1]X!$A$10,[1]X!$B$10,0)++IF(O26=[1]X!$A$11,[1]X!$B$11,0)+IF(O26=[1]X!$A$12,[1]X!$B$12,0)+IF(O26=[1]X!$A$13,[1]X!$B$13,0)+IF(O26=[1]X!$A$14,[1]X!$B$14,0)+IF(O26=[1]X!$A$15,[1]X!$B$15,0)+IF(O26=[1]X!$A$16,[1]X!$B$16,0)+IF(O26=[1]X!$A$17,[1]X!$B$17,0)+IF(O26=[1]X!$A$18,[1]X!$B$18,0)+IF(O26=[1]X!$A$19,[1]X!$B$19,0) -> 515000 | R26: Año 2006 | S26: =IF(R26=[1]X!$A$2,[1]X!$B$2,0)+IF(R26=[1]X!$A$3,[1]X!$B$3,0)+IF(R26=[1]X!$A$4,[1]X!$B$4,0)+IF(R26=[1]X!$A$5,[1]X!$B$5,0)+IF(R26=[1]X!$A$6,[1]X!$B$6,0)+IF(R26=[1]X!$A$7,[1]X!$B$7,0)+IF(R26=[1]X!$A$8,[1]X!$B$8,0)+IF(R26=[1]X!$A$9,[1]X!$B$9,0)+IF(R26=[1]X!$A$10,[1]X!$B$10,0)++IF(R26=[1]X!$A$11,[1]X!$B$11,0)+IF(R26=[1]X!$A$12,[1]X!$B$12,0)+IF(R26=[1]X!$A$13,[1]X!$B$13,0)+IF(R26=[1]X!$A$14,[1]X!$B$14,0)+IF(R26=[1]X!$A$15,[1]X!$B$15,0)+IF(R26=[1]X!$A$16,[1]X!$B$16,0)+IF(R26=[1]X!$A$17,[1]X!$B$17,0)+IF(R26=[1]X!$A$18,[1]X!$B$18,0)+IF(R26=[1]X!$A$19,[1]X!$B$19,0) -> 408000 | U26: Año 2009 | V26: =IF(U26=[1]X!$A$2,[1]X!$B$2,0)+IF(U26=[1]X!$A$3,[1]X!$B$3,0)+IF(U26=[1]X!$A$4,[1]X!$B$4,0)+IF(U26=[1]X!$A$5,[1]X!$B$5,0)+IF(U26=[1]X!$A$6,[1]X!$B$6,0)+IF(U26=[1]X!$A$7,[1]X!$B$7,0)+IF(U26=[1]X!$A$8,[1]X!$B$8,0)+IF(U26=[1]X!$A$9,[1]X!$B$9,0)+IF(U26=[1]X!$A$10,[1]X!$B$10,0)++IF(U26=[1]X!$A$11,[1]X!$B$11,0)+IF(U26=[1]X!$A$12,[1]X!$B$12,0)+IF(U26=[1]X!$A$13,[1]X!$B$13,0)+IF(U26=[1]X!$A$14,[1]X!$B$14,0)+IF(U26=[1]X!$A$15,[1]X!$B$15,0)+IF(U26=[1]X!$A$16,[1]X!$B$16,0)+IF(U26=[1]X!$A$17,[1]X!$B$17,0)+IF(U26=[1]X!$A$18,[1]X!$B$18,0)+IF(U26=[1]X!$A$19,[1]X!$B$19,0) -> 496900 | X26: Año 2009 | Y26: =IF(X26=[1]X!$A$2,[1]X!$B$2,0)+IF(X26=[1]X!$A$3,[1]X!$B$3,0)+IF(X26=[1]X!$A$4,[1]X!$B$4,0)+IF(X26=[1]X!$A$5,[1]X!$B$5,0)+IF(X26=[1]X!$A$6,[1]X!$B$6,0)+IF(X26=[1]X!$A$7,[1]X!$B$7,0)+IF(X26=[1]X!$A$8,[1]X!$B$8,0)+IF(X26=[1]X!$A$9,[1]X!$B$9,0)+IF(X26=[1]X!$A$10,[1]X!$B$10,0)++IF(X26=[1]X!$A$11,[1]X!$B$11,0)+IF(X26=[1]X!$A$12,[1]X!$B$12,0)+IF(X26=[1]X!$A$13,[1]X!$B$13,0)+IF(X26=[1]X!$A$14,[1]X!$B$14,0)+IF(X26=[1]X!$A$15,[1]X!$B$15,0)+IF(X26=[1]X!$A$16,[1]X!$B$16,0)+IF(X26=[1]X!$A$17,[1]X!$B$17,0)+IF(X26=[1]X!$A$18,[1]X!$B$18,0)+IF(X26=[1]X!$A$19,[1]X!$B$19,0) -> 496900 | AA26: Año 2010 | AB26: =IF(AA26=[1]X!$A$2,[1]X!$B$2,0)+IF(AA26=[1]X!$A$3,[1]X!$B$3,0)+IF(AA26=[1]X!$A$4,[1]X!$B$4,0)+IF(AA26=[1]X!$A$5,[1]X!$B$5,0)+IF(AA26=[1]X!$A$6,[1]X!$B$6,0)+IF(AA26=[1]X!$A$7,[1]X!$B$7,0)+IF(AA26=[1]X!$A$8,[1]X!$B$8,0)+IF(AA26=[1]X!$A$9,[1]X!$B$9,0)+IF(AA26=[1]X!$A$10,[1]X!$B$10,0)++IF(AA26=[1]X!$A$11,[1]X!$B$11,0)+IF(AA26=[1]X!$A$12,[1]X!$B$12,0)+IF(AA26=[1]X!$A$13,[1]X!$B$13,0)+IF(AA26=[1]X!$A$14,[1]X!$B$14,0)+IF(AA26=[1]X!$A$15,[1]X!$B$15,0)+IF(AA26=[1]X!$A$16,[1]X!$B$16,0)+IF(AA26=[1]X!$A$17,[1]X!$B$17,0)+IF(AA26=[1]X!$A$18,[1]X!$B$18,0)+IF(AA26=[1]X!$A$19,[1]X!$B$19,0) -> 515000 | AD26: Año 2018 | AE26: =IF(AD26=[1]X!$A$2,[1]X!$B$2,0)+IF(AD26=[1]X!$A$3,[1]X!$B$3,0)+IF(AD26=[1]X!$A$4,[1]X!$B$4,0)+IF(AD26=[1]X!$A$5,[1]X!$B$5,0)+IF(AD26=[1]X!$A$6,[1]X!$B$6,0)+IF(AD26=[1]X!$A$7,[1]X!$B$7,0)+IF(AD26=[1]X!$A$8,[1]X!$B$8,0)+IF(AD26=[1]X!$A$9,[1]X!$B$9,0)+IF(AD26=[1]X!$A$10,[1]X!$B$10,0)++IF(AD26=[1]X!$A$11,[1]X!$B$11,0)+IF(AD26=[1]X!$A$12,[1]X!$B$12,0)+IF(AD26=[1]X!$A$13,[1]X!$B$13,0)+IF(AD26=[1]X!$A$14,[1]X!$B$14,0)+IF(AD26=[1]X!$A$15,[1]X!$B$15,0)+IF(AD26=[1]X!$A$16,[1]X!$B$16,0)+IF(AD26=[1]X!$A$17,[1]X!$B$17,0)+IF(AD26=[1]X!$A$18,[1]X!$B$18,0)+IF(AD26=[1]X!$A$19,[1]X!$B$19,0) -> 781242
A27: Valor del contrato a tener en cuenta por participación en SMMLV | C27: =+C25/D26 -> 5725.8252 | F27: =+F25/G26 -> 0 | I27: =+I25/J26 -> 0 | L27: =+L25/M26 -> 0 | O27: =+O25/P26 -> 0 | R27: =+R25/S26 -> 234.41176 | U27: =+U25/V26 -> 1598.3095 | X27: =+X25/Y26 -> 724.49185 | AA27: =+AA25/AB26 -> 1518.0563 | AD27: =+AD25/AE26 -> 0
A28: Objeto del Contrato | C28: auditar el cumplimiento de las normas vigentes el proceso de identificación, selección y focalización del Regimen subsidiado de Salud en 494 entidades territoriales del orden municipal, distrital y departamental. | R28: Auditar el destino y el buen uso de los recursos invertidos por ECOPETROL en 50 de los 228 convenios inter administrativos de la Direcciòn de Resposabilidad Integral (DRI) firmados durante el año 2005. | U28: Auditoria especial a 136 IPS Privadas e instituciones pertenecientes a regímenes especiales de excepción en el ámbito nacional que permitan evaluar la situaciòn financiera, contable, administrativa, legal , conforme la normatividad vigente, además de los procedimiento para el manejo de los recursos destinados a la salud, tramites de posesión de revisor fiscal, estado, y contenido de los informes presentados ante la Superintendencia Nacional de Salud, y un análisis integral que permita evaluar la viabilidad de las entidades. | X28: Auditoriaa especial a 47 entidades promotoras de salid del regimen subsidiado y cajas de compensaciòn que administran recursos del regimen subsudiado, en representación de la Superintendencia Nacional de Salud. | AA28: Realizar la verificaciòn de los planes de mejoramiento suscritos por 402 entidades territoriales ( 15 Departamentos, 01 Distrito Capital, y 386 Municipios), resultado de las conformidades encontradas en la visita de auditoria al proceso de focalizaciòn, llevada a cabo en la vigencia 2008, conforme a las especificaciones técnicas descritas en los términos de invitaciòn y en la propuesta por asociado.
A29: Clasificación UNSPSC | C29: 84111603 | R29: 84111603 | U29: 84111603 | X29: 84111603
A32: Salario mínimo legal vigente 2019 (Fuente: BANREP) | C32: 828116 | F32: 828116 | I32: 828116 | L32: 818116 | O32: 818116 | R32: 828116 | U32: 828116 | X32: 828116 | AA32: 828116 | AD32: 828116
A33: Valor del contrato a tener en cuenta (Actualizado a 2019) | C33: =+C32*C27 -> 4.7416475e+09 | F33: =+F32*F27 -> 0 | I33: =+I32*I27 -> 0 | L33: =+L32*L27 -> 0 | O33: =+O32*O27 -> 0 | R33: =+R32*R27 -> 1.9412013e+08 | U33: =+U32*U27 -> 1.3235857e+09 | X33: =+X32*X27 -> 5.9996329e+08 | AA33: =+AA32*AA27 -> 1.2571267e+09 | AD33: =+AD32*AD27 -> 0
A34: Fecha de Inicio del Contrato (día, mes y año) | C34: 40022 | R34: 39024 | U34: 39762 | X34: 39800 | AA34: 40282
A35: Fecha de Terminación del Contrato (día, mes y año) | C35: 40235 | R35: 39066 | U35: 40056 | X35: 39892 | AA35: 40404
A36: Fecha de la expedición de la certificación | C36: 40798 | R36: 39141 | U36: 40866 | X36: 40788 | AA36: 40562
A37: Folio de la certificación | C37: Soporte sin foliar "1.1 Expereincia habilitante total" - SUBSANACION | R37: Soporte sin foliar "1. EXPERIENCIA ADICIONAL DEL PROPONETNE" | U37: Soporte sin foliar "1. EXPERIENCIA ADICIONAL DEL PROPONETNE" | X37: Soporte sin foliar "1. EXPERIENCIA ADICIONAL DEL PROPONETNE" | AA37: Soporte sin foliar "1. EXPERIENCIA ADICIONAL DEL PROPONETNE"
A38: Nombre y cargo de quien expide la certificación | C38: Adolfo Miguel Polo Solano | R38: Jose Rafael Unda Bernal | U38: Adolfo Miguel Polo Solano | X38: Adolfo Miguel Polo Solano | AA38: Adolfo Miguel Polo Solano
A39: Estado del contrato | C39: TERMINADO | R39: LIQUIDADO | U39: TERMINADO | X39: TERMINADO | AA39: TERMINADO
A40: Observaciones o aclaraciones para subsanación del proponente | C40: * La empresa INTERAUDIT SAS, fue escindida sin disolverse con la compañía KMP CONSULTING SAS (según cámara e comercio desde el 5 de febrero de 2013) segun escritura pública 4022 del 28 de diciembre del 2012. * El Anexo No. 1 se encuentra incumpleto, le hace falta la columna "Estado del contrato (ejecutado, terminado). - OK SUBSANADO * Dentro del anexo No. 1 los SMLMV no concuerdan con la certificaciòn aportada y el valor en SMLMV del 2010 (año en que termina el contrato). verificado el RUP, tampoco coincide. - OK SUBSANADO * La certificaciòn no indica el estado del contrato, y no se anexa el acta de terminación, o liquidación del contrato. (incumplimiento 4.3.1.1, Nota 1, numeral 9). - OK SUBSANADO * Es necesario adjuntar el contrato respectivo "Convenio de asociaciòn Especial No. 013 de 2009 (subsanar bajo el 4.3.1.1 parrafo No. 15). - OK SUBSANADO | R40: * Al Anexo No. 11 se encuentra incompleto, le hace falta la columna "Estado del contrato (ejecutado, terminado). OK SUBSANADO * Dentro del anexo No. 11 los SMLMV no concuerdan con la certificaciòn y verificaciòn bajo SMLMV del 2006 (fecha de ejecuciòn). Según liquidaciòn automatica concuerda con la certificaciòn y con el RUP. Error en anexo. OK SUBSANADO. * La fecha de finalización del contrato, corresponde a la fecha de vencimiento, según certificaciòn establece un plazo de ejecuciòn: 45 dìas y fecha de vencimiento final: 15 de diciembre de 2006. y el proponente está colocando la fecha de liquidación. OK SUBSANADO * La certificaciòn no indica la direcciòn y el telefono. (incumplimiento 4.3.1.1, Nota 1, numeral 2 y 3).OK SUBSANADO DENTRO DEL CONTRATO. * Es necesario adjuntar el contrato "4010951" (subsanar bajo el 4.3.1.1 parrafo No. 15). OK SUBSANADO. | U40: * La certificaciòn presenta la fecha de inicio asì: 10 de noviembre 24 de 2008, por lo cual se solicita se subsane y aclare la fecha de inicio. OK SUBSANADO. * La certificaciòn no indica el estado del contrato, y no se anexa el acta de terminación. (incumplimiento 4.3.1.1, Nota 1, numeral 9). OK SUBSANADO. * no adjunta el contrato "Convenio de asociaciòn Especial No. 027 de 2008 (solicitar aclaraciòn del 4.3.1.1 parrafo No. 15). OK SUBSANADO * ACLARACIÓN:En la Subsanación en el anexo No. 11, cambiaron la fecha de terminación por la fecha de liquidación. El valor tomado por nosotros es la fecha de terminaciòn del contrato. | X40: * Dentro del anexo No. 11 los SMLMV no concuerdan con la certificaciòn aportada y el valor en SMLMV del 2010 (año en que termina el contrato). verificado el RUP, coincide con el calculo. - OK SUBSANADO * La certificaciòn no indica el estado del contrato, y no se anexa el acta de terminación, o liquidación del contrato. (incumplimiento 4.3.1.1, Nota 1, numeral 9). OK SUBSANADO * es necesario adjuntar el contrato "Convenio de asociaciòn Especial No. 027 de 2008 (subsanar del 4.3.1.1 parrafo No. 15). OK SUBSANADO | AA40: ,
A41: RELACIONADA EN EL ANEXO RESPECTIVO | C41: SI | R41: SI | U41: SI | X41: SI | AA41: SI
A44: CUMPLE CON LA EXPERIENCIA MÍNIMA HABILITANTE | C44: =+IF(SUM($C$33:$N$33)>X!$M$2,"HABILITADO","NO HABILITADO") -> HABILITADO | D44: NÚMERO DE CONTRATOS
A45: CUMPLE CON LA EXPERIENCIA ADICIONAL | C45: =+IF(SUM($R$33:$AF$33)>(X!$M$2*0.3),"HABILITADO","NO HABILITADO") -> HABILITADO | D45: =SUM(R33:AF33) -> 3.3747958e+09
A47: PUNTAJE EXPERIENCIA ADICIONAL PROPONENTE
A48: Se requiere que el proponente acredite experiencia específica adicional en máximo cinco (5) certificaciones de contratos. iniciados, ejecutados y terminados antes de la fecha de fecha de cierre del presente proceso, cuyo objeto sea la auditoría de gestión y resultados, la cual deberá relacionarse en el correspondiente Anexo No. 11 EXPERIENCIA ADICIONAL DEL PROPONENTE del pliego de condiciones; así: 30% del presupuesto oficial - 50% del presupuesto oficial y 50% del presupuesto oficial
A50: PUNTAJE EXPERIENCIA ADICIONAL PROPONENTE
A51: PRESUPUESTO ADICIONAL AL REQUERIDO | B51: 0.3 | C51: 10
...

Sheet E. Profesionales Adic. P1
A6: ALCALDIA MAYOR DE BOGOTA D.C.
A7: SECRETARÍA DE EDUCACIÓN
A8: EVALUACIÓN TÉCNICA- ECONÓMICA: CONCURSO DE MERITOS No. SED-CM-DBE-110-2013
A9: EXPERIENCIA ADICIONAL
A11: Nombre del Proponente | B11: C&M CONSULTORES S.A
A12: Puntaje Experiencia Específica Adicional | B12: =SUM(B26,B44,B58,B72,B86,B100,B114) -> 22.525205
A14: Director de Proyecto | B14: Exp 1
A15: Nombre de la Entidad contratante | B15: UNE
A16: Persona Natural o Jurídica que ejecutó la Interventoría con Nº de NIT respectivo
A17: Nº de contrato y objeto del contrato de Interventoría
A18: Nombre completo y documento de identidad del profesional al cual certifica | B18: Edwin Acosta Giraldo
A19: Cargo ejercido en el desarrollo del contrato | B19: Jefe Area Administración Regional Centro
A20: Fecha de Inicio del contrato de Interventoría
A21: Fecha de Terminación del contrato de Interventoría
A22: Fecha de Inicio de labores ejercidas | B22: 40679
A23: Fecha de Terminación de labores | B23: 41654
A24: Tiempo de experiencia | B24: 1.8
A25: Cumplimiento contrato (1 Si; 0 No) | B25: 1
A26: Puntaje | B26: =B24 -> 1.8
A28: OBSERVACIONES
A29: Se tuvo en cuenta la experiencia
A32: Asesor en Transporte | B32: Exp 1 | C32: Exp 2 | D32: Exp 3 | F32: Exp 4
A33: Nombre de la Entidad contratante | B33: EPYPSA | C33: EPYPSA | D33: Transmilenio | F33: EPYPSA
A34: Persona Natural o Jurídica que ejecutó la Interventoría con Nº de NIT respectivo
A35: Nº de contrato y objeto del contrato de Interventoría
A36: Nombre completo y documento de identidad del profesional al cual certifica | B36: Sandra Lucía Navas Tequia | C36: Sandra Lucía Navas Tequia | F36: Sandra Lucía Navas Tequia
A37: Cargo ejercido en el desarrollo del contrato | B37: Asesor | C37: Director | D37: Asesor | F37: Plan maestro de movilidad en Barranquilla
A38: Fecha de Inicio del contrato de Interventoría
A39: Fecha de Terminación del contrato de Interventoría
A40: Fecha de Inicio de labores ejercidas | B40: 39479 | C40: 40452 | D40: 37581 | F40: 40805
A41: Fecha de Terminación de labores ejercidas | B41: 40451 | C41: 40512 | D41: 38069 | F41: 41425
A42: Tiempo de experiencia | B42: =((B41-B40)/365)-1.42 -> 1.2430137 | C42: =(C41-C40)/365 -> 0.16438356 | D42: =(D41-D40)/365 -> 1.3369863 | F42: =(F41-F40)/365 -> 1.6986301
A43: Cumplimiento contrato (1 Si; 0 No) | B43: 1 | C43: 1 | D43: 1 | F43: 1
A44: Puntaje | B44: =B42+C42+D42+F42+G42+H42+I42+J42 -> 4.4430137
A46: Abogado | B46: Exp 1
A47: Nombre de la Entidad contratante | B47: Secretaría de Transito y Transporte
A48: Persona Natural o Jurídica que ejecutó la Interventoría con Nº de NIT respectivo
A49: Nº de contrato y objeto del contrato de Interventoría
A50: Nombre completo y documento de identidad del profesional al cual certifica | B50: Gerardo Ariza Ariza
A51: Cargo ejercido en el desarrollo del contrato | B51: Asesor jurídico
...

Sheet E. Profesionales Adic. P 2
A6: ALCALDIA MAYOR DE BOGOTA D.C.
A7: SECRETARÍA DE EDUCACIÓN
A8: EVALUACIÓN TÉCNICA- ECONÓMICA: CONCURSO DE MERITOS No. SED-CM-DBE-110-2013
A9: EXPERIENCIA ADICIONAL
A11: Nombre del Proponente | B11: SERVICIOS Y SOLUCIONES SEGURAS S.A.S
A12: Puntaje Experiencia Específica Adicional | B12: =SUM(B26,B40,B54,B68,B82,B96,B110) -> 27.019178
A14: Director de Proyecto | B14: Exp 1 | C14: Exp 2 | D14: Exp 3 | E14: Exp 4
A15: Nombre de la Entidad contratante | B15: SERVICIOS & SOLUCIONES SEGURAS S.A.S
A16: Persona Natural o Jurídica que ejecutó la Interventoría con Nº de NIT respectivo | B16: 830055541-0 | C16: 830055541-0 | D16: 830055541-0 | E16: 830055541-0
A17: Nº de contrato y objeto del contrato de Interventoría | B17: 207 de 2009 | C17: 124 de 2011 | D17: 288 de 2012 | E17: 001 de 2005
A18: Nombre completo y documento de identidad del profesional al cual certifica | B18: Lisandro Junco Espinosa | C18: Lisandro Junco Espinosa | D18: Lisandro Junco Espinosa | E18: Lisandro Junco Espinosa
A19: Cargo ejercido en el desarrollo del contrato
A20: Fecha de Inicio del contrato de Interventoría
A21: Fecha de Terminación del contrato de Interventoría
A22: Fecha de Inicio de labores ejercidas | B22: 39990 | C22: 40909 | D22: 41239 | E22: 38353
A23: Fecha de Terminación de labores ejercidas | B23: 40908 | C23: 41229 | D23: 41656 | E23: 39989
A24: Tiempo de experiencia | B24: =(B23-B22)/365 -> 2.5150685 | C24: =(C23-C22)/365 -> 0.87671233 | D24: =(D23-D22)/365 -> 1.1424658 | E24: =(E23-E22)/365 -> 4.4821918
A25: Cumplimiento contrato (1 Si; 0 No) | B25: 1 | C25: 1 | D25: 1 | E25: 1
A26: Puntaje | B26: =MIN(SUMIFS(B24:J24,B25:J25,1),5) -> 5
A28: Asesor en Transporte | B28: Exp 1 | D28: Exp 2
A29: Nombre de la Entidad contratante | B29: SERVICIOS & SOLUCIONES SEGURAS
A30: Persona Natural o Jurídica que ejecutó la Interventoría con Nº de NIT respectivo | B30: 830055541-0 | D30: 830055541-0
A31: Nº de contrato y objeto del contrato de Interventoría | B31: 124 de 2011 | D31: 288 de 2012
A32: Nombre completo y documento de identidad del profesional al cual certifica | B32: Saieth Baudilio Chaves Pabon | D32: Saieth Baudilio Chaves Pabon
A33: Cargo ejercido en el desarrollo del contrato
A34: Fecha de Inicio del contrato de Interventoría
A35: Fecha de Terminación del contrato de Interventoría
A36: Fecha de Inicio de labores ejercidas | B36: 40909 | D36: 41239
A37: Fecha de Terminación de labores ejercidas | B37: 41229 | D37: 41656
A38: Tiempo de experiencia | B38: =(B37-B36)/365 -> 0.87671233 | D38: =(D37-D36)/365 -> 1.1424658
A39: Cumplimiento contrato (1 Si; 0 No) | B39: 1 | D39: 1
A40: Puntaje | B40: =B38+D38 -> 2.0191781
A42: Abogado | B42: Exp 1 | D42: Exp 2
A43: Nombre de la Entidad contratante | B43: SERVICIOS & SOLUCIONES SEGURAS
A44: Persona Natural o Jurídica que ejecutó la Interventoría con Nº de NIT respectivo | B44: 830055541-0 | D44: 830055541-0
A45: Nº de contrato y objeto del contrato de Interventoría | B45: 207 de 2009 | D45: 124 de 2011
A46: Nombre completo y documento de identidad del profesional al cual certifica
A47: Cargo ejercido en el desarrollo del contrato | B47: Contratista | D47: Contratista
A48: Fecha de Inicio del contrato de Interventoría
A49: Fecha de Terminación del contrato de Interventoría
...

Sheet E. Profesionales Adic. P3
A6: ALCALDIA MAYOR DE BOGOTA D.C.
A7: SECRETARÍA DE EDUCACIÓN
A8: EVALUACIÓN TÉCNICA- ECONÓMICA: CONCURSO DE MERITOS No. SED-CM-DBE-110-2013
A9: EXPERIENCIA ADICIONAL
A11: Nombre del Proponente | B11: UT INTERVENTORES EXPRESS
A12: Puntaje Experiencia Específica Adicional | B12: =SUM(B26,B40,B54,B68,B82,B96,B110) -> 22.358904
A14: Director de Proyecto | B14: Exp 1
A15: Nombre de la Entidad contratante | B15: ALCALDE MUNICIPAL DE MEDINA
A16: Persona Natural o Jurídica que ejecutó la Interventoría con Nº de NIT respectivo | B16: ALCALDE MUNICIPAL DE MEDINA NIT 899999470-8
A17: Nº de contrato y objeto del contrato de Interventoría | B17: ASESOR DESPEÑANDO FUNCIONES DE INTERVENTOR EN LOS DIFERENTES CONTRATOS FIRMADOS POR EL MUNICIPIO, ENTRE ELLOS SERVICIO DE ASEO Y DE TRANSPORTE ESCOLAR
A18: Nombre completo y documento de identidad del profesional al cual certifica | B18: GUILLERMO ANTONIO RINCON PINTO CC19266942 DE BOGOTA
A19: Cargo ejercido en el desarrollo del contrato | B19: Interventor de contratos (transporte)
A20: Fecha de Inicio del contrato de Interventoría | B20: 37316
A21: Fecha de Terminación del contrato de Interventoría | B21: 39445
A22: Fecha de Inicio de labores ejercidas | B22: 37316
A23: Fecha de Terminación de labores ejercidas | B23: 39445
A24: Tiempo de experiencia | B24: =((B23-B22)/365)-4 -> 1.8328767
A25: Cumplimiento contrato (1 Si; 0 No) | B25: 1
A26: Puntaje | B26: =B24 -> 1.8328767
A28: Asesor en Transporte | B28: Exp 1
A29: Nombre de la Entidad contratante | B29: COOTRACAIME
A30: Persona Natural o Jurídica que ejecutó la Interventoría con Nº de NIT respectivo | B30: COOTRACAIME NIT 8907006779
A31: Nº de contrato y objeto del contrato de Interventoría | B31: SERVICIOS PROFESIONALES COMO CONSULTOR EN LA ORGANIZACIÓN DEL SERVICIO DE TRANSPORTE PUBLICO
A32: Nombre completo y documento de identidad del profesional al cual certifica | B32: LUIS FELIPE ANZOLA PACHON CC 79347007 DE BOGOTA
A33: Cargo ejercido en el desarrollo del contrato de Interventoría certificado por parte del profesional certificado | B33: CONSULTOR
A34: Fecha de Inicio del contrato de Interventoría | B34: 34196
A35: Fecha de Terminación del contrato de Interventoría | B35: 38503
A36: Fecha de Inicio de labores ejercidas | B36: 34196
A37: Fecha de Terminación de labores ejercidas | B37: 38503
A38: Tiempo de experiencia | B38: =((B37-B36)/365)-10 -> 1.8
A39: Cumplimiento contrato (1 Si; 0 No) | B39: 1
A40: Puntaje | B40: =B38 -> 1.8
A42: Abogado | B42: Exp 1
A43: Nombre de la Entidad contratante | B43: Transporte Esivans
A44: Persona Natural o Jurídica que ejecutó la Interventoría con Nº de NIT respectivo | B44: TRANSPORTE ESIVANS SAS 830102646-7
A45: Nº de contrato y objeto del contrato de Interventoría | B45: ABOGADO ASESOR EN TEMAS RELACIONADOS CON LA CONTRATACION
A46: Nombre completo y documento de identidad del profesional al cual certifica | B46: ALVARO SOTO SAAVEDRA
A47: Cargo ejercido en el desarrollo del contrato | B47: Abogado asesor
A48: Fecha de Inicio del contrato de Interventoría | B48: 38429
A49: Fecha de Terminación del contrato de Interventoría | B49: 41243
...

Sheet E. Profesionales Adic. P4
A6: ALCALDIA MAYOR DE BOGOTA D.C.
A7: SECRETARÍA DE EDUCACIÓN
A8: EVALUACIÓN TÉCNICA- ECONÓMICA: CONCURSO DE MERITOS No. SED-CM-DBE-110-2013
A9: EXPERIENCIA ADICIONAL
A11: Nombre del Proponente | B11: TPD INGENIERIA S.A.
A12: Puntaje Experiencia Específica Adicional | B12: =SUM(B26,B40,B54,B68,B82,B96,B110) -> 31.345205
A14: Director de Proyecto | B14: Exp 1 | C14: Exp 2 | D14: Exp 3 | E14: Exp 4 | F14: Exp 5 | G14: Exp 6 | H14: Exp 7 | I14: Exp 8 | J14: Exp 9 | K14: Exp 10 | L14: Exp 11 | M14: Exp 12 | N14: Exp 13 | O14: Exp 14 | P14: Exp 15 | Q14: Exp 16 | R14: Exp 17 | S14: Exp 18 | T14: Exp 19
A15: Nombre de la Entidad contratante | B15: Programa de Naciones Unidas para el desarrollo | C15: STT | D15: STT | E15: DAPD | F15: Min. Trans. | G15: STT | H15: CC Bta | I15: CC Bta | J15: TPD Ing. | K15: TPD Ing. | L15: TPD Ing. | M15: TPD Ing. | N15: TPD Ing. | O15: TPD Ing. | P15: TPD Ing. | Q15: TPD Ing. | R15: TPD Ing. | S15: TPD Ing. | T15: TPD Ing.
A16: Persona Natural o Jurídica que ejecutó la Interventoría con Nº de NIT respectivo | B16: PROGRAMA DE NACIONES UNIDAS PARA EL DESARROLLO | C16: SECRETARIA DE TRANSITO Y TRANSPORTE DE BOGOTA | D16: SECRETARIA DE TRANSITO Y TRANSPORTE DE BOGOTA | E16: DEPARTAMENTO ADMINISTRATIVO DE PLANEACION DISTRITAL | F16: MINISTERIO DE TRANSPORTE | G16: SECRETARIA DE TRANSITO Y TRANSPORTE DE BOGOTA | H16: CAMARA DE COMERCIO DE BOGOTA | I16: CAMARA DE COMERCIO DE BOGOTA | J16: TRANSPORTE PLANEACION DISEÑO E INGENIERIA | K16: TRANSPORTE PLANEACION DISEÑO E INGENIERIA | L16: TRANSPORTE PLANEACION DISEÑO E INGENIERIA | M16: TRANSPORTE PLANEACION DISEÑO E INGENIERIA | N16: TRANSPORTE PLANEACION DISEÑO E INGENIERIA | O16: TRANSPORTE PLANEACION DISEÑO E INGENIERIA | P16: TRANSPORTE PLANEACION DISEÑO E INGENIERIA | Q16: TRANSPORTE PLANEACION DISEÑO E INGENIERIA | R16: TRANSPORTE PLANEACION DISEÑO E INGENIERIA | S16: TRANSPORTE PLANEACION DISEÑO E INGENIERIA | T16: TRANSPORTE PLANEACION DISEÑO E INGENIERIA
A17: Nº de contrato y objeto del contrato de Interventoría | B17: COORDINADOR GENERAL DEL PROYECTO DE DESARROLLO INTEGRAL DE ASENTAMIENTOS POPULARES | C17: JEFE DE UNIDAD DE OPERACIONES TRONCALES | D17: JEFE DE UNIDAD DE TRANSPORTE PUBLICO | E17: CONTRATO DE CONSULTORIA PARA RECOLECTAR Y PROCESAR INFORMACION REQUERIDA PARA EL ESTUDIO DE FACTIBILIDAD E IMPLEMENTACION DE RUTAS CIRCULARES DE TRANSPORTE PUBLICO EN BOGOTA | F17: CONTRATO DE CONSULTORIA Nº 00213 DE 1996 | G17: CONTRATO 035 DE 1998 | H17: CONTRATO DE PRESTACION DE SERVICIOS 665 DE 1998 | I17: CONTRATO DE PRESTACION DE SERVICIOS 055 DE 1999 | J17: ESTUDIO DE TRANSITO Y TRANSPORTE DEL AREA METROPOLITANA EN PEREIRA | K17: CONTRATO DE CONSULTORIA 116 DE 2005 | L17: CARACTERIZACION DE LA MOVILIDAD DEL MUNICIPIO DE NEIVA | M17: CONTRATO 2008 -0109 ANALIZAR CRUCES VIALES | N17: CONTRATO DE CONSULTORIA 104 DE 2009 | O17: CONTRATO DE CONSULTORIA 151 DE 2009 | P17: CONTRATO 2010-0097 ESTUDIO DE MOVILIDAD AL INTERIOR DEL METRO CABLE | Q17: CONTRATO 224 ELABORACION DE UN PLAN MAESTRO DE MOVILIDAD | R17: OFERTA MERCANTIL 001 DE 2011 | S17: CONTRATO DE CONSULTORIA Nº 0159 DE 2011 000176 | T17: CONTRATO DE CONSULTORIA 2012-1720
A18: Nombre completo y documento de identidad del profesional al cual certifica | B18: ALFREDO ARDILA ARIZA | C18: ALFREDO ARDILA ARIZA | D18: ALFREDO ARDILA ARIZA | E18: ALFREDO ARDILA ARIZA | F18: ALFREDO ARDILA ARIZA | G18: ALFREDO ARDILA ARIZA | H18: ALFREDO ARDILA ARIZA | I18: ALFREDO ARDILA ARIZA | J18: ALFREDO ARDILA ARIZA | K18: ALFREDO ARDILA ARIZA | L18: ALFREDO ARDILA ARIZA | M18: ALFREDO ARDILA ARIZA | N18: ALFREDO ARDILA ARIZA | O18: ALFREDO ARDILA ARIZA | P18: ALFREDO ARDILA ARIZA | Q18: ALFREDO ARDILA ARIZA | R18: ALFREDO ARDILA ARIZA | S18: ALFREDO ARDILA ARIZA | T18: ALFREDO ARDILA ARIZA
A19: Cargo ejercido en el desarrollo del contrato de Interventoría certificado por parte del profesional certificado | B19: Coordinador general del proyecto de desarrollo integral de asentamientos populares | C19: Jefe de unidad de operaciones troncales | D19: Jefe de unidad de transporte público | E19: Director | F19: Director | G19: Director | H19: Director | I19: Director | J19: Director de proyecto | Q19: Subdirector técnico | R19: Director de proyecto
A20: Fecha de Inicio del contrato de Interventoría | B20: 32804 | C20: 33820 | D20: 34173 | E20: 35363 | F20: 35376 | G20: 35989 | H20: 36054 | I20: 36251 | J20: 36992 | K20: 38671 | L20: 39114 | M20: 39777 | N20: 40102 | O20: 40177 | P20: 40317 | Q20: 40498 | R20: 40607 | S20: 40800 | T20: 41320
A21: Fecha de Terminación del contrato de Interventoría | B21: 33819 | C21: 34172 | D21: 34407 | E21: 35394 | F21: 35406 | G21: 36019 | H21: 36145 | I21: 36403 | J21: 37057 | K21: 38971 | L21: 39295 | M21: 39869 | N21: 40178 | O21: 40428 | P21: 40521 | Q21: 40862 | R21: 40667 | S21: 41182 | T21: 41607
A22: Fecha de Inicio de labores ejercidas | B22: 32804 | C22: 33820 | D22: 34173 | E22: 35363 | F22: 35376 | G22: 35989 | H22: 36054 | I22: 36251 | J22: 36992 | K22: 38671 | L22: 39114 | M22: 39777 | N22: 40102 | O22: 40177 | P22: 40317 | Q22: 40498 | R22: 40607 | S22: 40800 | T22: 41320
A23: Fecha de Terminación de labores ejercidas | B23: 33819 | C23: 34172 | D23: 34407 | E23: 35394 | F23: 35406 | G23: 36019 | H23: 36145 | I23: 36403 | J23: 37057 | K23: 38971 | L23: 39295 | M23: 39869 | N23: 40178 | O23: 40428 | P23: 40521 | Q23: 40862 | R23: 40667 | S23: 41182 | T23: 41607
A24: Tiempo de experiencia | B24: =(B23-B22)/365 -> 2.7808219 | C24: =(C23-C22)/365 -> 0.96438356 | D24: =(D23-D22)/365 -> 0.64109589 | E24: =(E23-E22)/365 -> 0.084931507 | F24: =(F23-F22)/365 -> 0.082191781 | G24: =(G23-G22)/365 -> 0.082191781 | H24: =(H23-H22)/365 -> 0.24931507 | I24: =(I23-I22)/365 -> 0.41643836 | ... T24: =(T23-T22)/365 -> 0.78630137
A25: Cumplimiento contrato (1 Si; 0 No) | B25: 1 | C25: 1 | D25: 1 | E25: 1 | F25: 1 | G25: 1 | H25: 1 | I25: 1 | J25: 1 | K25: 1 | L25: 1 | M25: 1 | N25: 1 | O25: 1 | P25: 1 | Q25: 1 | R25: 1 | S25: 1 | T25: 1
A26: Puntaje | B26: =MIN(SUMIFS(B24:J24,B25:J25,1),5) -> 5
A28: Asesor en Transporte | B28: Exp 1 | C28: Exp 2 | D28: Exp 3 | E28: Exp 4 | F28: Exp 5 | G28: Exp 6 | H28: Exp 7 | I28: Exp 8 | J28: Exp 9 | K28: Exp 10 | L28: Exp 11 | M28: Exp 12 | N28: Exp 13 | O28: Exp 14 | P28: Exp 15 | Q28: Exp 16 | R28: Exp 17 | S28: Exp 18 | T28: Exp 19 | U28: Exp 20 | V28: Exp 21 | W28: Exp 23
A29: Nombre de la Entidad contratante | B29: STT | C29: STT | D29: STT | E29: STT | F29: Logitrans | G29: Logitrans | H29: Logitrans | I29: Logitrans | J29: Logitrans | K29: Logitrans | L29: Logitrans | M29: Logitrans | N29: Logitrans | O29: Logitrans | P29: Logitrans | Q29: Logitrans | R29: Mov. Sostenible | S29: Sec. Plan. | T29: Logitrans | U29: Sec. Plan. | V29: Transmetro | W29: Masivo capital
A30: Persona Natural o Jurídica que ejecutó la Interventoría con Nº de NIT respectivo | B30: SECRETARIA DE TRANSITO Y TRANSPORTE DE BOGOTA | C30: SECRETARIA DE TRANSITO Y TRANSPORTE DE BOGOTA | D30: SECRETARIA DE TRANSITO Y TRANSPORTE DE BOGOTA | E30: SECRETARIA DE TRANSITO Y TRANSPORTE DE BOGOTA | F30: LOGITRANS LOGISTICA E INGENIERIA DE TRANSPORTE LDTA | G30: LOGITRANS LOGISTICA E INGENIERIA DE TRANSPORTE LDTA | H30: LOGITRANS LOGISTICA E INGENIERIA DE TRANSPORTE LDTA | I30: LOGITRANS LOGISTICA E INGENIERIA DE TRANSPORTE LDTA | J30: LOGITRANS LOGISTICA E INGENIERIA DE TRANSPORTE LDTA | K30: LOGITRANS LOGISTICA E INGENIERIA DE TRANSPORTE LDTA | L30: LOGITRANS LOGISTICA E INGENIERIA DE TRANSPORTE LDTA | M30: LOGITRANS LOGISTICA E INGENIERIA DE TRANSPORTE LDTA | N30: LOGITRANS LOGISTICA E INGENIERIA DE TRANSPORTE LDTA | O30: LOGITRANS LOGISTICA E INGENIERIA DE TRANSPORTE LDTA | P30: LOGITRANS LOGISTICA E INGENIERIA DE TRANSPORTE LDTA | Q30: LOGITRANS LOGISTICA E INGENIERIA DE TRANSPORTE LDTA | R30: MOVILIDAD SOSTENIBLE | S30: SECRETARIA DE PLANEACION | T30: LOGITRANS LOGISTICA E INGENIERIA DE TRANSPORTE LDTA | U30: SECRETARIA DE PLANEACION | V30: TRANSMETRO S.A | W30: MASIVO CAPITAL
A31: Nº de contrato y objeto del contrato de Interventoría | B31: PROFESIONAL ESPECIALIZADO DEL GRUPO DE PLANEACION DE TRANSITO Y TRANSPORTE EN EL ANALISIS DE PROPUESTAS COMPLEMENTARIAS | C31: PROFESIONAL ESPECIALIZADO DEL GRUPO DE PLANEACION DE TRANSITO Y TRANSPORTE EN EL DESARROLLO DE LOS ESTUDIOS TECNICOS PARA LA PLANEACION DEL SISTEMA DE RUTAS ESCOLARES | D31: PROFESIONAL ESPECIALIZADO DEL GRUPO DE PLANEACION DE TRANSITO Y TRANSPORTE COMO ARTE DE LAS INICIATIVA DE REORGANIZACION DE RUTAS DE TRANSPORTE | E31: PROFESIONAL ESPECIALIZADO DEL GRUPO DE PLANEACION DE TRANSITO Y TRANSPORTE | F31: EXPERTO EN PLANEACION Y MODELACION DE SISTEMAS DE TRANSITO Y TRANSPORTE | G31: EXPERTO EN PLANEACION Y MODELACION DE SISTEMAS DE TRANSITO Y TRANSPORTE | H31: EXPERTO EN PLANEACION Y MODELACION DE SISTEMAS DE TRANSITO Y TRANSPORTE | I31: EXPERTO EN PLANEACION Y MODELACION DE SISTEMAS DE TRANSITO Y TRANSPORTE | J31: EXPERTO EN PLANEACION Y MODELACION DE SISTEMAS DE TRANSITO Y TRANSPORTE | K31: EXPERTO EN PLANEACION Y MODELACION DE SISTEMAS DE TRANSITO Y TRANSPORTE | L31: EXPERTO EN PLANEACION Y MODELACION DE SISTEMAS DE TRANSITO Y TRANSPORTE | M31: EXPERTO EN PLANEACION Y MODELACION DE SISTEMAS DE TRANSITO Y TRANSPORTE | N31: EXPERTO EN PLANEACION Y MODELACION DE SISTEMAS DE TRANSITO Y TRANSPORTE | O31: EXPERTO EN PLANEACION Y MODELACION DE SISTEMAS DE TRANSITO Y TRANSPORTE | P31: EXPERTO EN PLANEACION Y MODELACION DE SISTEMAS DE TRANSITO Y TRANSPORTE | Q31: EXPERTO EN PLANEACION Y MODELACION DE SISTEMAS DE TRANSITO Y TRANSPORTE | R31: EXPERTO EN PLANEACION Y MODELACION DE SISTEMAS DE TRANSITO Y TRANSPORTE | S31: EXPERTO EN PLANEACION Y MODELACION DE SISTEMAS DE TRANSITO Y TRANSPORTE | T31: EXPERTO EN PLANEACION Y MODELACION DE SISTEMAS DE TRANSITO Y TRANSPORTE | U31: EXPERTO EN PLANEACION Y MODELACION DE SISTEMAS DE TRANSITO Y TRANSPORTE | V31: ASESOR EN TRANSPORTE | W31: DIRECTOR PLANEACION DE LA OPERACIÓN
A32: Nombre completo y documento de identidad del profesional al cual certifica | B32: JORGE ZORRO BENAVIDES | C32: JORGE ZORRO BENAVIDES | D32: JORGE ZORRO BENAVIDES | E32: JORGE ZORRO BENAVIDES | F32: JORGE ZORRO BENAVIDES | G32: JORGE ZORRO BENAVIDES | H32: JORGE ZORRO BENAVIDES | I32: JORGE ZORRO BENAVIDES | J32: JORGE ZORRO BENAVIDES | K32: JORGE ZORRO BENAVIDES | L32: JORGE ZORRO BENAVIDES | M32: JORGE ZORRO BENAVIDES | N32: JORGE ZORRO BENAVIDES | O32: JORGE ZORRO BENAVIDES | P32: JORGE ZORRO BENAVIDES | Q32: JORGE ZORRO BENAVIDES | R32: JORGE ZORRO BENAVIDES | S32: JORGE ZORRO BENAVIDES | T32: JORGE ZORRO BENAVIDES | U32: JORGE ZORRO BENAVIDES | V32: JORGE ZORRO BENAVIDES | W32: JORGE ZORRO BENAVIDES
A33: Cargo ejercido en el desarrollo del contrato de Interventoría certificado por parte del profesional certificado | B33: Profesional especializado | F33: Experto en planeacion y modelaciòn de transporte | V33: Asesor | W33: Director planeaciòn
A34: Fecha de Inicio del contrato de Interventoría | B34: 37104 | C34: 37438 | D34: 37895 | E34: 37926 | F34: 38412 | G34: 38442 | H34: 38534 | I34: 38718 | J34: 38749 | K34: 38837 | L34: 38960 | M34: 39021 | N34: 39052 | O34: 39233 | P34: 39263 | Q34: 39263 | R34: 39264 | S34: 39716 | T34: 39264 | U34: 39927 | V34: 40238 | W34: 40756
A35: Fecha de Terminación del contrato de Interventoría | B35: 37438 | C35: 37926 | D35: 37926 | E35: 38012 | F35: 38687 | G35: 38898 | H35: 38899 | I35: 39629 | J35: 38930 | K35: 39021 | L35: 39114 | M35: 39325 | N35: 39141 | O35: 39325 | P35: 39447 | Q35: 39447 | R35: 39294 | S35: 39868 | T35: 39447 | U35: 40232 | V35: 40421 | W35: 41660
A36: Fecha de Inicio de labores ejercidas | B36: 37104 | C36: 37438 | D36: 37895 | E36: 37926 | F36: 38412 | G36: 38442 | H36: 38534 | I36: 38718 | J36: 38749 | K36: 38837 | L36: 38960 | M36: 39021 | N36: 39052 | O36: 39233 | P36: 39232 | Q36: 39263 | R36: 39264 | S36: 39716 | T36: 39264 | U36: 39927 | V36: 40238 | W36: 40756
A37: Fecha de Terminación de labores ejercidas | B37: 37438 | C37: 37926 | D37: 37926 | E37: 38012 | F37: 38687 | G37: 38898 | H37: 38899 | I37: 39629 | J37: 38930 | K37: 39021 | L37: 39114 | M37: 39325 | N37: 39141 | O37: 39325 | P37: 39447 | Q37: 39447 | R37: 39294 | S37: 39868 | T37: 39447 | U37: 40232 | V37: 40421 | W37: 41660
A38: Tiempo de experiencia | B38: =(B37-B36)/365 -> 0.91506849 | C38: =(C37-C36)/365 -> 1.3369863 | D38: =(D37-D36)/365 -> 0.084931507 | E38: =(E37-E36)/365 -> 0.23561644 | F38: =(F37-F36)/365 -> 0.75342466 | G38: =(G37-G36)/365 -> 1.2493151 | H38: =(H37-H36)/365 -> 1 | I38: =(I37-I36)/365 -> 2.4958904 | ... W38: =(W37-W36)/365 -> 2.4767123
A39: Cumplimiento contrato (1 Si; 0 No) | B39: 1 | C39: 1 | D39: 1 | E39: 1 | F39: 0 | G39: 0 | H39: 0 | I39: 0 | J39: 0 | K39: 0 | L39: 0 | M39: 0 | N39: 0 | O39: 0 | P39: 0 | Q39: 0 | R39: 0 | S39: 0 | T39: 0 | U39: 0 | V39: 1 | W39: 1
A40: Puntaje | B40: 5
A42: Abogado | B42: Exp 1 | C42: Exp 2 | D42: Exp 3 | E42: Exp 4 | F42: Exp 5 | G42: Exp 6 | H42: Exp 7 | I42: Exp 8 | J42: Exp 9 | K42: Exp 10
A43: Nombre de la Entidad contratante | B43: Sec. Transito y Transporte | G43: Sec. Obras | H43: IDU | I43: Procuraduria | J43: Ministerio de tecnologias de informacion | K43: Auditoria
A44: Persona Natural o Jurídica que ejecutó la Interventoría con Nº de NIT respectivo | B44: ALCALDIA MAYOR DE BOGOTA - SECRETARIA DE TRANSITO Y TRANSPORTE | C44: ALCALDIA MAYOR DE BOGOTA - SECRETARIA DE TRANSITO Y TRANSPORTE | D44: ALCALDIA MAYOR DE BOGOTA - SECRETARIA DE TRANSITO Y TRANSPORTE | E44: ALCALDIA MAYOR DE BOGOTA - SECRETARIA DE TRANSITO Y TRANSPORTE | F44: ALCALDIA MAYOR DE BOGOTA - SECRETARIA DE TRANSITO Y TRANSPORTE | G44: ALCALDIA MAYOR DE BOGOTA - SECRETARIA DE OBRAS PUBLICAS | H44: IDU | I44: PROCURADURIA GENERAL DE LA NACION | J44: MINISTERIO DE TECNOLOGIAS DE INFORMACION Y LAS COMUNICACIONES | K44: AUDITORIA GENERALDE LA REPUBLICA
A45: Nº de contrato y objeto del contrato de Interventoría | B45: ASESOR JURIDICO | C45: JEFE OFICINA ASESORA | D45: ASESOR JURIDICO | E45: JEFE OFICINA ASESORA | F45: ASESOR JURIDICO | G45: CONTRATO Nº 030 | H45: CONTRATO 146 DE 2002 | I45: ASESOR GRADO 24 | J45: CONTRATO DE PRESTACION DE SERVICIOS 00560 DE 2012 Y 000036 DE 2013 | K45: SERVICIOS PROFESIONALES COMO ASESOR JURIDICO
A46: Nombre completo y documento de identidad del profesional al cual certifica | B46: MARIO ENRIQUE GALVIS AYALA | C46: MARIO ENRIQUE GALVIS AYALA | D46: MARIO ENRIQUE GALVIS AYALA | E46: MARIO ENRIQUE GALVIS AYALA | F46: MARIO ENRIQUE GALVIS AYALA | G46: MARIO ENRIQUE GALVIS AYALA | H46: MARIO ENRIQUE GALVIS AYALA | I46: MARIO ENRIQUE GALVIS AYALA | J46: MARIO ENRIQUE GALVIS AYALA | K46: MARIO ENRIQUE GALVIS AYALA
A47: Cargo ejercido en el desarrollo del contrato de Interventoría certificado por parte del profesional certificado | B47: Asesor juridico
A48: Fecha de Inicio del contrato de Interventoría | B48: 35989 | C48: 36487 | D48: 36492 | E48: 36542 | F48: 36706 | G48: 36794 | H48: 37330 | I48: 37895 | J48: 41187 | K48: 40974
A49: Fecha de Terminación del contrato de Interventoría | B49: 36486 | C49: 36491 | D49: 36541 | E49: 36705 | F49: 36768 | G49: 36977 | H49: 37694 | I49: 40948 | J49: 41395 | K49: 41271
...

Sheet E. Profesionales Adic. P 5
A6: ALCALDIA MAYOR DE BOGOTA D.C.
A7: SECRETARÍA DE EDUCACIÓN
A8: EVALUACIÓN TÉCNICA- ECONÓMICA: CONCURSO DE MERITOS No. SED-CM-DBE-110-2013
A9: EXPERIENCIA ADICIONAL
A11: Nombre del Proponente | B11: CONSORCIO INTERVENTORIA TRANSPORTE
A12: Puntaje Experiencia Específica Adicional | B12: =SUM(B26,B40,B54,B68,B96,B82,B110) -> 30.265753
A14: Director de Proyecto ( Der, admon, econ, ing. Civ, Ind, trans, vias, mec, elec o sist, Pos: Eco, admn, pol pub o ing) | B14: Exp 1
A15: Nombre de la Entidad contratante | B15: ATI INTERNACIONAL LTDA.
A16: Persona Natural o Jurídica que ejecutó la Interventoría con Nº de NIT respectivo | B16: 830.008.196-2
A17: Nº de contrato y objeto del contrato de Interventoría
A18: Nombre completo y documento de identidad del profesional al cual certifica
A19: Cargo ejercido en el desarrollo del contrato de Interventoría certificado por parte del profesional certificado | B19: Gerente de interventoria a programas y proyectos sociales
A20: Fecha de Inicio del contrato de Interventoría
A21: Fecha de Terminación del contrato de Interventoría
A22: Fecha de Inicio de labores ejercidas por el profesional certificado | B22: 37654 | C22: 39353 | D22: 37888 | E22: 39815 | F22: 41134
A23: Fecha de Terminación de labores ejercidas por el profesional certificado | B23: 38352 | C23: 39937 | D23: 38383 | E23: 40556 | F23: 41305
A24: Tiempo de experiencia | B24: =(B23-B22)/365 -> 1.9123288 | C24: =(C23-C22)/365 -> 1.6 | D24: =(D23-D22)/365 -> 1.3561644 | E24: =(E23-E22)/365 -> 2.030137 | F24: =(F23-F22)/365 -> 0.46849315
A25: Cumplimiento contrato (1 Si; 0 No) | B25: 1 | C25: 1 | D25: 1 | E25: 0 | F25: 0
A26: Puntaje | B26: =B24+C24+D24 -> 4.8684932
A28: Asesor en Transporte (Ing. Civil o Trans., Pos: Trans e Infravial, vias, o afines) | B28: Exp 1 | C28: Exp 2 | D28: Exp 3 | E28: Exp 4 | F28: Exp 5 | G28: Exp 6 | H28: Exp 7 | I28: Exp 8 | J28: Exp 9 | K28: Exp 10 | L28: Exp. 11 | M28: Exp 12 | N28: Exp 13 | O28: Exp. 14
A29: Nombre de la Entidad contratante | B29: Tranvias | C29: Unal | D29: Unal | E29: Unal | F29: Unal | G29: Unal | H29: Unal | I29: Unal | J29: Unal | K29: Unal | L29: Unal | M29: FONDATT | N29: SESAC LTDA. | O29: Consorcio Tranvias
A30: Persona Natural o Jurídica que ejecutó la Interventoría con Nº de NIT respectivo | B30: 800244072-1
A31: Nº de contrato y objeto del contrato de Interventoría | F31: Cto.593 de 2002, Asesor de costos en transporte y elaboración de metodología de análisis de costos. | G31: Cto.753 de 2004, Encargado de preparar pliegos de condiciones, realizar labores de coordinación con la SED, aistencia a las audiencias con los proponentes. | H31: Cto.978 de 2004, Encargado de preparar pliegos de condiciones, realizar labores de coordinación con la SED, aistencia a las audiencias con los proponentes. | I31: Cto.No.1168 de 2004, Realizar labores de coordinación con la SED, asistencia a las audicencias con los proponentes. | J31: Cto. No.310 de 2005, Preparar pliegos de condiciones para seleccionar los proveedores del servicio de transporte escolar, la interventoria de los contratos del suministro de transporte escolar y asistencia a las audiencias con los proponentes. | K31: Cto.954 de 2005, Prestación de servicios para realizar la coordinacion del estudio de costos de operación de l Transporte Escoilar, realizar labores de coordinación con la SED, preparar los pliegos de condiciones para seleccionar los proveedores del servicio de transporte escokar, la interventoria de los contratos de sumunistro del servicio de transporte escolar y asistencia a las audiencias con los proponentes. | L31: Cto.12004 de 2005, Prestación de servicios para realizar el estudio final de costos de orperación de transporte escolar, realizar labores de coordinación con la SED, para atender observaciones del informe final. | M31: 140 DE 2003, Apoyar en la gerencia de reorganización de transporte público en el estudio y elaboración de los documentos técnicos necesarios para la expedición de los actos administrativos relacionados con la declaratoria de vacacia por abandono de rutas al igual que la participación en la elaboración de las respuestas a los recursos y peticiones que se pretenden en desarrollo del trámite mencionado y la atención a los transportadores que se inviten a la entidad o que soliciten claridad sobre los estudios técnicos soportes para la reestructuración del servicio. | O31: Cto.006/2001,Interventoria de prestación del servicio de transporte escolar para niños y jovenes de grado 0° a 9°, en las tres jornadas, matriculados en las diferentes localidades y grupos en número de 500 rutas
A32: Nombre completo y documento de identidad del profesional al cual certifica | B32: Oswaldo Javier Arias García C.C.19270011
A33: Cargo ejercido en el desarrollo del contrato de Interventoría certificado por parte del profesional certificado | B33: Evaluación económica de las vias | C33: Coordinar las actividades desarrolladas por los supervisores | E33: Verificar el cumplimiento de las obligaciones contractuales del transporte escolar | F33: Realizar estudio de costos de operación de transporte | G33: Preparar pliegos de condiciones para el proceso de selección de transporte | H33: Realizar labores de coordinacion en la SED | I33: Realizar labores de coordinaciòn en la SED | J33: Preparar pliegos de condiciones y realizar labores de coordinacion | M33: Apoyar la gerencia y reorganizaciòn de transporte | N33: Operaciòn y funcionamiento de empresa | O33: Interventoria a la prestacion de servicio
A34: Fecha de Inicio del contrato de Interventoría
A35: Fecha de Terminación del contrato de Interventoría
A36: Fecha de Inicio de labores ejercidas por el profesional certificado | B36: 40437 | C36: 39067 | D36: 39024 | E36: 38743 | F36: 37386 | G36: 38195 | H36: 38275 | I36: 38313 | J36: 38429 | K36: 38551 | L36: 38588 | M36: 37883 | N36: 37653 | O36: 36957
A37: Fecha de Terminación de labores ejercidas por el profesional certificado | B37: 40709 | C37: 39129 | D37: 39066 | E37: 38924 | F37: 37406 | G37: 38260 | H37: 38296 | I37: 38331 | J37: 38536 | K37: 38569 | L37: 38619 | M37: 38065 | N37: 37741 | O37: 37343
A38: Tiempo de experiencia | B38: =(B37-B36)/365 -> 0.74520548 | C38: =(C37-C36)/365 -> 0.16986301 | D38: =(D37-D36)/365 -> 0.11506849 | E38: =(E37-E36)/365 -> 0.49589041 | F38: =(F37-F36)/365 -> 0.054794521 | G38: =(G37-G36)/365 -> 0.17808219 | H38: =(H37-H36)/365 -> 0.057534247 | I38: =(I37-I36)/365 -> 0.049315068 | ... O38: =(O37-O36)/365 -> 1.0575342
A39: Cumplimiento contrato (1 Si; 0 No) | B39: 1 | C39: 1 | D39: 1 | E39: 1 | F39: 1 | G39: 1 | H39: 1 | I39: 1 | J39: 1 | K39: 1 | L39: 1 | M39: 1 | N39: 1 | O39: 1
A40: Puntaje | B40: =B38+C38+D38+E38+F38+G38+H38+I38+J38+K38+L38+M38+N38+O38 -> 4.090411
A42: Abogado (Pos: Contratación Pub o Adminst) | B42: Exp 1
A43: Nombre de la Entidad contratante | B43: Unión Temporal Cintra Valle
A44: Persona Natural o Jurídica que ejecutó la Interventoría con Nº de NIT respectivo | B44: 805.014.950-3
A45: Nº de contrato y objeto del contrato de Interventoría
A46: Nombre completo y documento de identidad del profesional al cual certifica | B46: Mauricio Alejandro Camacho Fonseca CC.79432777
A47: Cargo ejercido en el desarrollo del contrato de Interventoría certificado por parte del profesional certificado | B47: Asesor Jurídico externo
A48: Fecha de Inicio del contrato de Interventoría
A49: Fecha de Terminación del contrato de Interventoría
...

Sheet EXPERIENCIA EQUIPO DE TRABA
B1: ALCALDÍA MAYOR DE BOGOTÁ D.C.
B2: SECRETARÍA DE EDUCACIÓN DEL DISTRITO CAPITAL
B3: DIRECCIÓN DE BIENESTAR ESTUDIANTIL
B4: EVALUACIÓN CONCURSO DE MÉRITOS No. SED-CM-A-DBE-004-2019
B5: EXPERIENCIA Y FORMACIÓN ACADÉMICA MÍNIMA DEL EQUIPO DE CALIFICABLE
A7: NOMBRE DEL PROPONENTE | C7: NÚMERO DE PROPUESTA | D7: EQUIPO MÍNIMO CALIFICABLE | E7: DIRECTOR | F7: PROFESIONAL TÉCNICO | G7: PROFESIONAL ANÁLISIS DE DATOS | H7: PUNTAJE EXPERIENCIA ADICIONAL EQUIPO DE CALIFICABLE máximo 89 puntos | U7: INTEGRANTE 4
A8: =+'EXPERIENCIA PROPONENTE'!$A$9 -> KMP CONSULTING SAS | M8: 0.49 | N8: 1 | O8: 2 | U8: NOMBRE | V8: NIT | W8: % DE PARTICIPACIÓN
C9: =+'EXPERIENCIA PROPONENTE'!B9 -> 5 | D9: =IF(COUNTIF(E9:G9,"HABILITADO")=3,"HABILITADO","NO HABILITADO") -> HABILITADO | E9: =IF(COUNTIF(I13:J13,"CUMPLE")=2,"HABILITADO","NO HABILITADO") -> HABILITADO | F9: =IF(COUNTIF(I38:J38,"CUMPLE")=2,"HABILITADO","NO HABILITADO") -> HABILITADO | G9: =IF(I63="CUMPLE","HABILITADO","NO HABILITADO") -> HABILITADO | H9: =K13+K38+J63 -> 60 | L9: La formula de la experiencia adicional calificable, esta calculada en años 05 son 6 meses, 1 es 12 meses y 2 es 24 meses.
A11: DIRECTOR | B11: TITULO DE FORMACIÓN PROFESIONAL | C11: FECHA DE GRADO PROFESIONAL | D11: NÚMERO MATRÍCULA PROFESIONAL | E11: FECHA DE EXPEDICIÓN DE LA MATRÍCULA PROFESIONAL | F11: TIPO POSTGRADO | G11: TITULO DE POSTGRADO | H11: FECHA DE GRADO DE POSTGRADO | I11: EXPERIENCIA TOTAL (GENERAL + ESPECIFICA) mínimo 8 años | J11: EXPERIENCIA ESPECÍFICA (mínimo 6 años) | K11: EXPERIENCIA ESPECÍFICA ADICIONAL CALIFICABLE | L11: OBSERVACIONES
A12: JUAN DE LA CRUZ MARTINEZ PETRO | B12: CONTADOR Y ABOGADO | C12: 01/08/1989 *( fecha título del contador) | D12: 25570-T | E12: no se ve dentro del documento | F12: ESPECIALIZACIÓN | G12: *Especialista en control de gestiòn y revisoria Fiscal. Título | H12: (28 abril de 2005) | I12: =+SUM(B33:K33) -> 12.69863 | J12: =+SUM(G33:K33) -> 12.69863 | K12: =SUM(L33:T33) -> 4.1260274 | L12: * Tiene una segunda carrera - Abogado titulo(17 dic 1996) *Especialista en Gobierno, y Asuntos Públicos titulo (8 mayo de1997) * Especialista en alta gerencia del sistema de seguridad social en salud. Titulo (no tiene fecha) *32 horas en seminario - Gerencia de Proyectos. titulo (sep 6 a oct 4 de 2004) * Diplomado alta gerencia en salud. titulo (31 de agosto de 2000) * Magister en gobierno y politicas públicas. Titulo (19 de septiembre de 2002) * Es miembro "The institute of internal auditors" (17 marzo de 2006)
I13: =IF(I12>=8,"CUMPLE","NO CUMPLE") -> CUMPLE | J13: =IF(J12>=6,"CUMPLE","NO CUMPLE") -> CUMPLE | K13: =IF(AND(K12>=M8,K12<=N8),5,IF(AND(K12>=N8,K12<=O8),10,IF(K12>O8,20,0))) -> 20
A15: EXPERIENCIA RELACIONADA | B15: Experiencia 1 | C15: Experiencia 2 | D15: Experiencia 3 | E15: Experiencia 4 | F15: Experiencia 5 | G15: Experiencia Especifica 1 | H15: Experiencia Especifica 2 | I15: Experiencia Especifica 3 | J15: Experiencia Especifica 4 | K15: Experiencia Especifica 5 | L15: Experiencia Adicional 1 | M15: Experiencia Adicional 2 | N15: Experiencia Adicional 3 | O15: Experiencia Adicional 4 | P15: Experiencia Adicional 5 | Q15: Experiencia Adicional 6 | R15: Experiencia Adicional 7 | S15: Experiencia Adicional 8 | T15: Experiencia Adicional 9
A16: Nombre de la Entidad contratante | G16: INTERAUDIT SAS | L16: CAJA DE COMPENSACIÒN CAMPESINA - COMCAJA
A17: Cargo ejercido en el desarrollo del contrato | G17: Gerente de auditorìa y revisoria fiscal | L17: REVISOR FISCAL
A18: Folio | G18: no tiene folio " hoja No. 15 del archivo EQUIPO DE TRABAJO HABILITANTE" | L18: no tiene folio " archivo EXPERIENCIA ADICIONAL PUNTUABLE DEL EQUIPO DE TRABAJO"
A19: Fecha de Inicio de labores ejercidas Periodo 1 | G19: 37911 | L19: 36404
A20: Fecha de Terminación de labores ejercidas Periodo 1 | G20: 42546 | L20: 37910
A21: Fecha de Inicio de labores ejercidas Periodo 2
A22: Fecha de Terminación de labores ejercidas Periodo 2
A23: Fecha de Inicio de labores ejercidas Periodo 3
A24: Fecha de Terminación de labores ejercidas Periodo 3
A25: Fecha de Inicio de labores ejercidas Periodo 4
