Workbook
Name BR: PUNTAJE!$9:$9

Sheet OFERTAS ECONOMICAS
B1: EVALUACIÓN ECONÓMICA | GC1: Versión: | GD1: 2
GC2: Fecha de aprobación: | GD2: 43326
GC3: Código: | GD3: 15-00-FO-0009
GE4: 0.2
A6: PROCESO IC 423-2022
A7: 2. OBJETO:SUMINISTRO DE INSUMOS Y DISPOSITIVOS MÉDICO QUIRÚRGICOS PARA LAS DIFERENTES ESPECIALIDADES DE ACUERDO CON LA DESCRIPCIÓN DEL ANEXO TÉCNICO, CON EL APOYO TECNOLÓGICO REQUERIDO, PARA LA NORMAL PRESTACIÓN DE LOS SERVICIOS DE SALUD EN LAS DIFERENTES UNIDADES DE PRESTACIÓN DE SERVICIOS DE LA SUBRED INTEGRADA DE SERVICIOS DE SALUD SUR OCCIDENTE E.S.E.
A8: 3.ITEM | B8: COG DINAMICA | C8: CARACTERÍSTICAS | D8: 5. CANTIDAD | E8: 5. UNIDAD | F8: VALOR DE REFERENCIA | G8: CONSUMO PROMEDIO SUBRED | H8: VALOR TOTAL PROMEDIO | I8: C.T.P. MEDICA S.A. | R8: LIFE SUMINISTROS MEDICOS SAS | AA8: RAFAEL ANTONIO SALAMANCA | AJ8: QUIRUMEDICAS LTDA | AS8: 5 QUIRURGICOS LTDA | BB8: LABORATORIOS GOTHAPLAST | BK8: 8 M&M EQUIPOS MEDICOS SAS | BT8: FRIDEN DE COLOMBIA HOSPITALARIA | CC8: 10 JOHNSON Y JOHNSON DE COLOMBIA S.A. | CL8: UCIPHARMA S.A. | CU8: 12 BIOPLAST S.A.S | DD8: SMITH & NEPHEW | DM8: TECNICA ELECTROMEDICA S.A. | DV8: IMCOLMEDICA | EE8: 16 COMPANY MEDIQBOY OC S.A.S | EN8: DISCOLMEDICA S.A.S | EW8: 18 ALFA TRADING SAS | FF8: ASEPSIS PRODUCTS DE COLOMBIA SAS | FO8: HOSPITECNICA S.A.S. | FX8: MEDICOX LTDA
I9: PRESENTACIÓN | J9: 7.PRECIO UNITARIO | K9: 8.IVA | L9: 9. PRECIO UNITARIO + IVA | M9: 10.VALOR TOTAL | N9: 10.VALOR PROMERIO | O9: VERIFICACION VALOR REFERENCIA | P9: EVALUACIÓN TECNICA | Q9: EVALUA SI/NO | R9: PRESENTACIÓN | S9: 7.PRECIO UNITARIO | T9: 8.IVA | U9: 9. PRECIO UNITARIO + IVA | V9: 10.VALOR TOTAL | W9: 10.VALOR TOTAL PROMEDIO | X9: VERIFICACION VALOR REFERENCIA | Y9: EVALUACIÓN TECNICA | Z9: EVALUA SI/NO | AA9: PRESENTACIÓN | AB9: 7.PRECIO UNITARIO | AC9: 8.IVA | AD9: 9. PRECIO UNITARIO + IVA | AE9: 10.VALOR TOTAL | AF9: 10.VALOR TOTAL PROMEDIO | AG9: VERIFICACION VALOR REFERENCIA | AH9: EVALUACIÓN TECNICA | AI9: EVALUA SI/NO | AJ9: PRESENTACIÓN | AK9: 7.PRECIO UNITARIO | AL9: 8.IVA | AM9: 9. PRECIO UNITARIO + IVA | AN9: 10.VALOR TOTAL | AO9: 10.VALOR TOTAL PROMEDIO | AP9: VERIFICACION VALOR REFERENCIA | AQ9: EVALUACIÓN TECNICA | AR9: EVALUA SI/NO | AS9: PRESENTACIÓN | AT9: 7.PRECIO UNITARIO | AU9: 8.IVA | AV9: 9. PRECIO UNITARIO + IVA | AW9: 10.VALOR TOTAL | AX9: 10.VALOR TOTAL CONSUMO | AY9: VERIFICACION VALOR REFERENCIA | AZ9: EVALUACIÓN TECNICA | BA9: EVALUA SI/NO | BB9: PRESENTACIÓN | BC9: 7.PRECIO UNITARIO | BD9: 8.IVA | BE9: 9. PRECIO UNITARIO + IVA | BF9: 10.VALOR TOTAL | BG9: 10.VALOR TOTAL PROMEDIO | BH9: VERIFICACION VALOR REFERENCIA | BI9: EVALUACIÓN TECNICA | BJ9: EVALUA SI/NO | BK9: PRESENTACIÓN | BL9: 7.PRECIO UNITARIO | BM9: 8.IVA | BN9: 9. PRECIO UNITARIO + IVA | BO9: 10.VALOR TOTAL | BP9: 10.VALOR TOTAL CONSUMO | BQ9: VERIFICACION VALOR REFERENCIA | BR9: EVALUACIÓN TECNICA | BS9: EVALUA SI/NO | BT9: PRESENTACIÓN | BU9: 7.PRECIO UNITARIO | BV9: 8.IVA | BW9: 9. PRECIO UNITARIO + IVA | BX9: 10.VALOR TOTAL | BY9: 10.VALOR TOTAL CONSUMO | BZ9: VERIFICACION VALOR REFERENCIA | CA9: EVALUACIÓN TECNICA | CB9: EVALUA SI/NO | CC9: PRESENTACIÓN | CD9: 7.PRECIO UNITARIO | CE9: 8.IVA | CF9: 9. PRECIO UNITARIO + IVA | CG9: 10.VALOR TOTAL | CH9: 10.VALOR TOTAL CONSUMO | CI9: VERIFICACION VALOR REFERENCIA | CJ9: EVALUACIÓN TECNICA | CK9: EVALUA SI/NO | CL9: PRESENTACIÓN | CM9: 7.PRECIO UNITARIO | CN9: 8.IVA | CO9: 9. PRECIO UNITARIO + IVA | CP9: 10.VALOR TOTAL | CQ9: 10.VALOR TOTAL CONSUMO | CR9: VERIFICACION VALOR REFERENCIA | CS9: EVALUACIÓN TECNICA | CT9: EVALUA SI/NO | CU9: PRESENTACIÓN | CV9: 7.PRECIO UNITARIO | CW9: 8.IVA | CX9: 9. PRECIO UNITARIO + IVA | CY9: 10.VALOR TOTAL | CZ9: 10.VALOR TOTAL CONSUMO | DA9: VERIFICACION VALOR REFERENCIA | DB9: EVALUACIÓN TECNICA | DC9: EVALUA SI/NO | DD9: PRESENTACIÓN | DE9: 7.PRECIO UNITARIO | DF9: 8.IVA | DG9: 9. PRECIO UNITARIO + IVA | DH9: 10.VALOR TOTAL | DI9: 10.VALOR TOTAL CONSUMO | DJ9: VERIFICACION VALOR REFERENCIA | DK9: EVALUACIÓN TECNICA | DL9: EVALUA SI/NO | DM9: PRESENTACIÓN | DN9: 7.PRECIO UNITARIO | DO9: 8.IVA | DP9: 9. PRECIO UNITARIO + IVA | DQ9: 10.VALOR TOTAL | DR9: 10.VALOR TOTAL CONSUMO | DS9: VERIFICACION VALOR REFERENCIA | DT9: EVALUACIÓN TECNICA | DU9: EVALUA SI/NO | DV9: PRESENTACIÓN | DW9: 7.PRECIO UNITARIO | DX9: 8.IVA | DY9: 9. PRECIO UNITARIO + IVA | DZ9: 10.VALOR TOTAL | EA9: 10.VALOR TOTAL CONSUMO | EB9: VERIFICACION VALOR REFERENCIA | EC9: EVALUACIÓN TECNICA | ED9: EVALUA SI/NO | EE9: PRESENTACIÓN | EF9: 7.PRECIO UNITARIO | EG9: 8.IVA | EH9: 9. PRECIO UNITARIO + IVA | EI9: 10.VALOR TOTAL | EJ9: 10.VALOR TOTAL CONSUMO | EK9: VERIFICACION VALOR REFERENCIA | EL9: EVALUACIÓN TECNICA | EM9: EVALUA SI/NO | EN9: PRESENTACIÓN | EO9: 7.PRECIO UNITARIO | EP9: 8.IVA | EQ9: 9. PRECIO UNITARIO + IVA | ER9: 10.VALOR TOTAL | ES9: 10.VALOR TOTAL CONSUMO | ET9: VERIFICACION VALOR REFERENCIA | EU9: EVALUACIÓN TECNICA | EV9: EVALUA SI/NO | EW9: PRESENTACIÓN | EX9: 7.PRECIO UNITARIO | EY9: 8.IVA | EZ9: 9. PRECIO UNITARIO + IVA | FA9: 10.VALOR TOTAL | FB9: 10.VALOR TOTAL | FC9: VERIFICACION VALOR REFERENCIA | FD9: EVALUACIÓN TECNICA | FE9: EVALUA SI/NO | FF9: PRESENTACIÓN | FG9: 7.PRECIO UNITARIO | FH9: 8.IVA | FI9: 9. PRECIO UNITARIO + IVA | FJ9: 10.VALOR TOTAL | FK9: 10.VALOR TOTAL CONSUMO | FL9: VERIFICACION VALOR REFERENCIA | FM9: EVALUACIÓN TECNICA | FN9: EVALUA SI/NO | FO9: PRESENTACIÓN | FP9: 7.PRECIO UNITARIO | FQ9: 8.IVA | FR9: 9. PRECIO UNITARIO + IVA | FS9: 10.VALOR TOTAL | FT9: 10.VALOR TOTAL CONSUMO | FU9: VERIFICACION VALOR REFERENCIA | FV9: EVALUACIÓN TECNICA | FW9: EVALUA SI/NO | FX9: PRESENTACIÓN | FY9: 7.PRECIO UNITARIO | FZ9: 8.IVA | GA9: 9. PRECIO UNITARIO + IVA | GB9: 10.VALOR TOTAL | GC9: 10.VALOR TOTAL CONSUMO | GD9: VERIFICACION VALOR REFERENCIA | GE9: EVALUACIÓN TECNICA | GF9: EVALUA SI/NO
A10: 1 | B10: DM044 | C10: AGUJA DE ESCLEROTERAPIA GASTRICA DESECHABLE | D10: 1 | E10: UN | F10: 135000 | G10: 2 | H10: =+F10*G10 -> 270000 | K10: =+J10*0.19 -> 0 | L10: =+J10+K10 -> 0 | M10: =L10*$D10 -> 0 | N10: =+M10*G10 -> 0 | O10: =+IF(L10=0,"NO OFERTADO",IF(L10<=($F10*(1+$GE$4)),"CUMPLE","NO CUMPLE")) -> NO OFERTADO | Q10: NO | V10: =U10*$D10 -> 0 | W10: =+V10*G10 -> 0 | X10: =+IF(U10=0,"NO OFERTADO",IF(U10<=($F10*(1+$GE$4)),"CUMPLE","NO CUMPLE")) -> NO OFERTADO | Y10: 0 | Z10: NO | AD10: =AA10+AC10 -> 0 | AE10: =AD10*$D10 -> 0 | AF10: =+AE10*G10 -> 0 | AG10: =+IF(AD10=0,"NO OFERTADO",IF(AD10<=($F10*(1+$GE$4)),"CUMPLE","NO CUMPLE")) -> NO OFERTADO | AI10: NO | AM10: =+AK10+AL10 -> 0 | AN10: =AM10*$D10 -> 0 | AO10: =+AN10*G10 -> 0 | AP10: =+IF(AM10=0,"NO OFERTADO",IF(AM10<=($F10*(1+$GE$4)),"CUMPLE","NO CUMPLE")) -> NO OFERTADO | AR10: NO | AV10: =AT10+AU10 -> 0 | AW10: =AV10*$D10 -> 0 | AX10: =+AW10*H10 -> 0 | AY10: =+IF(AV10=0,"NO OFERTADO",IF(AV10<=($F10*(1+$GE$4)),"CUMPLE","NO CUMPLE")) -> NO OFERTADO | BA10: NO | BE10: =BC10+BD10 -> 0 | BF10: =BE10*$D10 -> 0 | BG10: =+BF10*G10 -> 0 | BH10: =+IF(BE10=0,"NO OFERTADO",IF(BE10<=($F10*(1+$GE$4)),"CUMPLE","NO CUMPLE")) -> NO OFERTADO | BI10: 0 | BJ10: NO | BN10: =BL10+BM10 -> 0 | BO10: =BN10*$D10 -> 0 | BP10: =+BO10*G10 -> 0 | BQ10: =+IF(BN10=0,"NO OFERTADO",IF(BN10<=($F10*(1+$GE$4)),"CUMPLE","NO CUMPLE")) -> NO OFERTADO | BR10: =VLOOKUP(B10,'[1]ANEXO TECNICO'!$B$3:$P$334,15,0) -> 0 | BS10: NO | BX10: 0 | BY10: =+BX10*G10 -> 0 | BZ10: =+IF(BW10=0,"NO OFERTADO",IF(BW10<=($F10*(1+$GE$4)),"CUMPLE","NO CUMPLE")) -> NO OFERTADO | CB10: NO | CF10: =CD10+CE10 -> 0 | CG10: =CF10*$D10 -> 0 | CH10: =+CG10*G10 -> 0 | CI10: =+IF(CF10=0,"NO OFERTADO",IF(CF10<=($F10*(1+$GE$4)),"CUMPLE","NO CUMPLE")) -> NO OFERTADO | CK10: NO | CO10: =CM10+CN10 -> 0 | CP10: =CO10*$D10 -> 0 | CQ10: =+CP10*G10 -> 0 | CR10: =+IF(CO10=0,"NO OFERTADO",IF(CO10<=($F10*(1+$GE$4)),"CUMPLE","NO CUMPLE")) -> NO OFERTADO | CT10: NO | CX10: =CV10+CW10 -> 0 | CY10: =CX10*$D10 -> 0 | CZ10: =+CY10*G10 -> 0 | DA10: =+IF(CX10=0,"NO OFERTADO",IF(CX10<=($F10*(1+$GE$4)),"CUMPLE","NO CUMPLE")) -> NO OFERTADO | DC10: NO | DG10: =DE10+DF10 -> 0 | DH10: =DG10*$D10 -> 0 | DI10: =+DH10*G10 -> 0 | DJ10: =+IF(DG10=0,"NO OFERTADO",IF(DG10<=($F10*(1+$GE$4)),"CUMPLE","NO CUMPLE")) -> NO OFERTADO | DL10: NO | DN10: 0 | DO10: 0 | DP10: 0 | DQ10: =+DP10*D10 -> 0 | DR10: =+DQ10*G10 -> 0 | DS10: =+IF(DP10=0,"NO OFERTADO",IF(DP10<=($F10*(1+$GE$4)),"CUMPLE","NO CUMPLE")) -> NO OFERTADO | DU10: NO | DY10: =DW10+DX10 -> 0 | DZ10: =DY10*$D10 -> 0 | EA10: =+DZ10*G10 -> 0 | EB10: =+IF(DY10=0,"NO OFERTADO",IF(DY10<=($F10*(1+$GE$4)),"CUMPLE","NO CUMPLE")) -> NO OFERTADO | ED10: NO | EE10: . | EF10: 0 | EG10: 0 | EH10: =EF10+EG10 -> 0 | EI10: =EH10*$D10 -> 0 | EK10: =+IF(EH10=0,"NO OFERTADO",IF(EH10<=($F10*(1+$GE$4)),"CUMPLE","NO CUMPLE")) -> NO OFERTADO | EM10: NO | EQ10: 0 | ER10: =EQ10*$D10 -> 0 | ES10: =+ER10*G10 -> 0 | ET10: =+IF(EQ10=0,"NO OFERTADO",IF(EQ10<=($F10*(1+$GE$4)),"CUMPLE","NO CUMPLE")) -> NO OFERTADO | EV10: NO | FA10: =EZ10*$D10 -> 0 | FB10: =+FA10*G10 -> 0 | FC10: =+IF(EZ10=0,"NO OFERTADO",IF(EZ10<=($F10*(1+$GE$4)),"CUMPLE","NO CUMPLE")) -> NO OFERTADO | FE10: NO | FF10: 0 | FH10: 0 | FI10: 0 | FJ10: =FI10*$D10 -> 0 | FK10: =+FJ10*G10 -> 0 | FL10: =+IF(FI10=0,"NO OFERTADO",IF(FI10<=($F10*(1+$GE$4)),"CUMPLE","NO CUMPLE")) -> NO OFERTADO | FN10: NO | FR10: =FP10+FQ10 -> 0 | FS10: =FR10*$D10 -> 0 | FT10: =+FS10*G10 -> 0 | FU10: =+IF(FR10=0,"NO OFERTADO",IF(FR10<=($F10*(1+$GE$4)),"CUMPLE","NO CUMPLE")) -> NO OFERTADO | FV10: 0 | FW10: NO | GB10: =GA10*$D10 -> 0 | GC10: =+GB10*G10 -> 0 | GD10: =+IF(GA10=0,"NO OFERTADO",IF(GA10<=($F10*(1+$GE$4)),"CUMPLE","NO CUMPLE")) -> NO OFERTADO | GF10: NO
A11: 2 | B11: DM2335 | C11: AGUJA DE INYECCION PARA ENDOSCOPIA | D11: 1 | E11: UN | F11: 135000 | G11: 1 | H11: =+F11*G11 -> 135000 | K11: =+J11*0.19 -> 0 | L11: =+J11+K11 -> 0 | M11: =L11*$D11 -> 0 | N11: =+M11*G11 -> 0 | O11: =+IF(L11=0,"NO OFERTADO",IF(L11<=($F11*(1+$GE$4)),"CUMPLE","NO CUMPLE")) -> NO OFERTADO | Q11: NO | V11: =U11*$D11 -> 0 | W11: =+V11*G11 -> 0 | X11: =+IF(U11=0,"NO OFERTADO",IF(U11<=($F11*(1+$GE$4)),"CUMPLE","NO CUMPLE")) -> NO OFERTADO | Y11: 0 | Z11: NO | AD11: =AA11+AC11 -> 0 | AE11: =AD11*$D11 -> 0 | AF11: =+AE11*G11 -> 0 | AG11: =+IF(AD11=0,"NO OFERTADO",IF(AD11<=($F11*(1+$GE$4)),"CUMPLE","NO CUMPLE")) -> NO OFERTADO | AI11: NO | AM11: =+AK11+AL11 -> 0 | AN11: =AM11*$D11 -> 0 | AO11: =+AN11*G11 -> 0 | AP11: =+IF(AM11=0,"NO OFERTADO",IF(AM11<=($F11*(1+$GE$4)),"CUMPLE","NO CUMPLE")) -> NO OFERTADO | AR11: NO | AV11: =AT11+AU11 -> 0 | AW11: =AV11*$D11 -> 0 | AX11: =+AW11*H11 -> 0 | AY11: =+IF(AV11=0,"NO OFERTADO",IF(AV11<=($F11*(1+$GE$4)),"CUMPLE","NO CUMPLE")) -> NO OFERTADO | BA11: NO | BE11: =BC11+BD11 -> 0 | BF11: =BE11*$D11 -> 0 | BG11: =+BF11*G11 -> 0 | BH11: =+IF(BE11=0,"NO OFERTADO",IF(BE11<=($F11*(1+$GE$4)),"CUMPLE","NO CUMPLE")) -> NO OFERTADO | BI11: 0 | BJ11: NO | BN11: =BL11+BM11 -> 0 | BO11: =BN11*$D11 -> 0 | BP11: =+BO11*G11 -> 0 | BQ11: =+IF(BN11=0,"NO OFERTADO",IF(BN11<=($F11*(1+$KI$4)),"CUMPLE","NO CUMPLE")) -> NO OFERTADO | BR11: =VLOOKUP(B11,'[1]ANEXO TECNICO'!$B$3:$P$334,15,0) -> 0 | BS11: NO | BX11: 0 | BY11: =+BX11*G11 -> 0 | BZ11: =+IF(BW11=0,"NO OFERTADO",IF(BW11<=($F11*(1+$GE$4)),"CUMPLE","NO CUMPLE")) -> NO OFERTADO | CB11: NO | CF11: =CD11+CE11 -> 0 | CG11: =CF11*$D11 -> 0 | CH11: =+CG11*G11 -> 0 | CI11: =+IF(CF11=0,"NO OFERTADO",IF(CF11<=($F11*(1+$GE$4)),"CUMPLE","NO CUMPLE")) -> NO OFERTADO | CK11: NO | CO11: =CM11+CN11 -> 0 | CP11: =CO11*$D11 -> 0 | CQ11: =+CP11*G11 -> 0 | CR11: =+IF(CO11=0,"NO OFERTADO",IF(CO11<=($F11*(1+$GE$4)),"CUMPLE","NO CUMPLE")) -> NO OFERTADO | CT11: NO | CX11: =CV11+CW11 -> 0 | CY11: =CX11*$D11 -> 0 | CZ11: =+CY11*G11 -> 0 | DA11: =+IF(CX11=0,"NO OFERTADO",IF(CX11<=($F11*(1+$GE$4)),"CUMPLE","NO CUMPLE")) -> NO OFERTADO | DC11: NO | DG11: =DE11+DF11 -> 0 | DH11: =DG11*$D11 -> 0 | DI11: =+DH11*G11 -> 0 | DJ11: =+IF(DG11=0,"NO OFERTADO",IF(DG11<=($F11*(1+$GE$4)),"CUMPLE","NO CUMPLE")) -> NO OFERTADO | DL11: NO | DP11: 0 | DQ11: =+DP11*D11 -> 0 | DR11: =+DQ11*G11 -> 0 | DS11: =+IF(DP11=0,"NO OFERTADO",IF(DP11<=($F11*(1+$GE$4)),"CUMPLE","NO CUMPLE")) -> NO OFERTADO | DU11: NO | DY11: =DW11+DX11 -> 0 | DZ11: =DY11*$D11 -> 0 | EA11: =+DZ11*G11 -> 0 | EB11: =+IF(DY11=0,"NO OFERTADO",IF(DY11<=($F11*(1+$GE$4)),"CUMPLE","NO CUMPLE")) -> NO OFERTADO | ED11: NO | EE11: . | EF11: 0 | EG11: 0 | EH11: =EF11+EG11 -> 0 | EI11: =EH11*$D11 -> 0 | EK11: =+IF(EH11=0,"NO OFERTADO",IF(EH11<=($F11*(1+$GE$4)),"CUMPLE","NO CUMPLE")) -> NO OFERTADO | EM11: NO | EQ11: 0 | ER11: =EQ11*$D11 -> 0 | ES11: =+ER11*G11 -> 0 | ET11: =+IF(EQ11=0,"NO OFERTADO",IF(EQ11<=($F11*(1+$GE$4)),"CUMPLE","NO CUMPLE")) -> NO OFERTADO | EV11: NO | FA11: =EZ11*$D11 -> 0 | FB11: =+FA11*G11 -> 0 | FC11: =+IF(EZ11=0,"NO OFERTADO",IF(EZ11<=($F11*(1+$GE$4)),"CUMPLE","NO CUMPLE")) -> NO OFERTADO | FE11: NO | FF11: 0 | FH11: 0 | FI11: 0 | FJ11: =FI11*$D11 -> 0 | FK11: =+FJ11*G11 -> 0 | FL11: =+IF(FI11=0,"NO OFERTADO",IF(FI11<=($F11*(1+$GE$4)),"CUMPLE","NO CUMPLE")) -> NO OFERTADO | FN11: NO | FR11: =FP11+FQ11 -> 0 | FS11: =FR11*$D11 -> 0 | FT11: =+FS11*G11 -> 0 | FU11: =+IF(FR11=0,"NO OFERTADO",IF(FR11<=($F11*(1+$GE$4)),"CUMPLE","NO CUMPLE")) -> NO OFERTADO | FV11: 0 | FW11: NO | GB11: =GA11*$D11 -> 0 | GC11: =+GB11*G11 -> 0 | GD11: =+IF(GA11=0,"NO OFERTADO",IF(GA11<=($F11*(1+$GE$4)),"CUMPLE","NO CUMPLE")) -> NO OFERTADO | GF11: NO
A12: 3 | B12: DM038 | C12: AGUJA ANESTESIA RAQUIDEA N 27 | D12: 1 | E12: UN | F12: 5914.3 | G12: 413 | H12: =+F12*G12 -> 2442605.9 | K12: =+J12*0.19 -> 0 | L12: =+J12+K12 -> 0 | M12: =L12*$D12 -> 0 | N12: =+M12*G12 -> 0 | O12: =+IF(L12=0,"NO OFERTADO",IF(L12<=($F12*(1+$GE$4)),"CUMPLE","NO CUMPLE")) -> NO OFERTADO | Q12: NO | V12: =U12*$D12 -> 0 | W12: =+V12*G12 -> 0 | X12: =+IF(U12=0,"NO OFERTADO",IF(U12<=($F12*(1+$GE$4)),"CUMPLE","NO CUMPLE")) -> NO OFERTADO | Y12: 0 | Z12: NO | AA12: POR UNIDAD | AB12: 4528 | AC12: 860 | AD12: =+AB12+AC12 -> 5388 | AE12: =AD12*$D12 -> 5388 | AF12: =+AE12*G12 -> 2225244 | AG12: =+IF(AD12=0,"NO OFERTADO",IF(AD12<=($F12*(1+$GE$4)),"CUMPLE","NO CUMPLE")) -> CUMPLE | AH12: CUMPLE | AI12: SI | AM12: =+AK12+AL12 -> 0 | AN12: =AM12*$D12 -> 0 | AO12: =+AN12*G12 -> 0 | AP12: =+IF(AM12=0,"NO OFERTADO",IF(AM12<=($F12*(1+$GE$4)),"CUMPLE","NO CUMPLE")) -> NO OFERTADO | AR12: NO | AS12: Unidad | AT12: 4970 | AU12: 944 | AV12: =AT12+AU12 -> 5914 | AW12: =AV12*$D12 -> 5914 | AX12: =+AW12*G12 -> 2442482 | AY12: =+IF(AV12=0,"NO OFERTADO",IF(AV12<=($F12*(1+$GE$4)),"CUMPLE","NO CUMPLE")) -> CUMPLE | AZ12: CUMPLE | BA12: SI | BE12: =BC12+BD12 -> 0 | BF12: =BE12*$D12 -> 0 | BG12: =+BF12*G12 -> 0 | BH12: =+IF(BE12=0,"NO OFERTADO",IF(BE12<=($F12*(1+$GE$4)),"CUMPLE","NO CUMPLE")) -> NO OFERTADO | BI12: 0 | BJ12: NO | BN12: =BL12+BM12 -> 0 | BO12: =BN12*$D12 -> 0 | BP12: =+BO12*G12 -> 0 | BQ12: =+IF(BN12=0,"NO OFERTADO",IF(BN12<=($F12*(1+$KI$4)),"CUMPLE","NO CUMPLE")) -> NO OFERTADO | BR12: =VLOOKUP(B12,'[1]ANEXO TECNICO'!$B$3:$P$334,15,0) -> 0 | BS12: NO | BX12: 0 | BY12: =+BX12*G12 -> 0 | BZ12: =+IF(BW12=0,"NO OFERTADO",IF(BW12<=($F12*(1+$GE$4)),"CUMPLE","NO CUMPLE")) -> NO OFERTADO | CB12: NO | CF12: =CD12+CE12 -> 0 | CG12: =CF12*$D12 -> 0 | CH12: =+CG12*G12 -> 0 | CI12: =+IF(CF12=0,"NO OFERTADO",IF(CF12<=($F12*(1+$GE$4)),"CUMPLE","NO CUMPLE")) -> NO OFERTADO | CK12: NO | CO12: =CM12+CN12 -> 0 | CP12: =CO12*$D12 -> 0 | CQ12: =+CP12*G12 -> 0 | CR12: =+IF(CO12=0,"NO OFERTADO",IF(CO12<=($F12*(1+$GE$4)),"CUMPLE","NO CUMPLE")) -> NO OFERTADO | CT12: NO | CX12: =CV12+CW12 -> 0 | CY12: =CX12*$D12 -> 0 | CZ12: =+CY12*G12 -> 0 | DA12: =+IF(CX12=0,"NO OFERTADO",IF(CX12<=($F12*(1+$GE$4)),"CUMPLE","NO CUMPLE")) -> NO OFERTADO | DC12: NO | DG12: =DE12+DF12 -> 0 | DH12: =DG12*$D12 -> 0 | DI12: =+DH12*G12 -> 0 | DJ12: =+IF(DG12=0,"NO OFERTADO",IF(DG12<=($F12*(1+$GE$4)),"CUMPLE","NO CUMPLE")) -> NO OFERTADO | DL12: NO | DP12: 0 | DQ12: =+DP12*D12 -> 0 | DR12: =+DQ12*G12 -> 0 | DS12: =+IF(DP12=0,"NO OFERTADO",IF(DP12<=($F12*(1+$GE$4)),"CUMPLE","NO CUMPLE")) -> NO OFERTADO | DU12: NO | DY12: =DW12+DX12 -> 0 | DZ12: =DY12*$D12 -> 0 | EA12: =+DZ12*G12 -> 0 | EB12: =+IF(DY12=0,"NO OFERTADO",IF(DY12<=($F12*(1+$GE$4)),"CUMPLE","NO CUMPLE")) -> NO OFERTADO | ED12: NO | EE12: CJAX25 | EF12: 11250.42 | EG12: 2137.5798 | EH12: =EF12+EG12 -> 13388 | EI12: =EH12*$D12 -> 13388 | EJ12: =+EI12*G12 -> 5529244 | EK12: =+IF(EH12=0,"NO OFERTADO",IF(EH12<=($F12*(1+$GE$4)),"CUMPLE","NO CUMPLE")) -> NO CUMPLE | EL12: CUMPLE | EM12: NO | EQ12: 0 | ER12: =EQ12*$D12 -> 0 | ES12: =+ER12*G12 -> 0 | ET12: =+IF(EQ12=0,"NO OFERTADO",IF(EQ12<=($F12*(1+$GE$4)),"CUMPLE","NO CUMPLE")) -> NO OFERTADO | EV12: NO | FA12: =EZ12*$D12 -> 0 | FB12: =+FA12*G12 -> 0 | FC12: =+IF(EZ12=0,"NO OFERTADO",IF(EZ12<=($F12*(1+$GE$4)),"CUMPLE","NO CUMPLE")) -> NO OFERTADO | FE12: NO | FF12: 0 | FH12: 0 | FI12: 0 | FJ12: =FI12*$D12 -> 0 | FK12: =+FJ12*G12 -> 0 | FL12: =+IF(FI12=0,"NO OFERTADO",IF(FI12<=($F12*(1+$GE$4)),"CUMPLE","NO CUMPLE")) -> NO OFERTADO | FN12: NO | FR12: =FP12+FQ12 -> 0 | FS12: =FR12*$D12 -> 0 | FT12: =+FS12*G12 -> 0 | FU12: =+IF(FR12=0,"NO OFERTADO",IF(FR12<=($F12*(1+$GE$4)),"CUMPLE","NO CUMPLE")) -> NO OFERTADO | FV12: 0 | FW12: NO | GB12: =GA12*$D12 -> 0 | GC12: =+GB12*G12 -> 0 | GD12: =+IF(GA12=0,"NO OFERTADO",IF(GA12<=($F12*(1+$GE$4)),"CUMPLE","NO CUMPLE")) -> NO OFERTADO | GF12: NO
A13: 4 | B13: DM037 | C13: AGUJA ANESTESIA RAQUIDEA N 26 | D13: 1 | E13: UN | F13: 5914.3 | G13: 145 | H13: =+F13*G13 -> 857573.5 | K13: =+J13*0.19 -> 0 | L13: =+J13+K13 -> 0 | M13: =L13*$D13 -> 0 | N13: =+M13*G13 -> 0 | O13: =+IF(L13=0,"NO OFERTADO",IF(L13<=($F13*(1+$GE$4)),"CUMPLE","NO CUMPLE")) -> NO OFERTADO | Q13: NO | V13: =U13*$D13 -> 0 | W13: =+V13*G13 -> 0 | X13: =+IF(U13=0,"NO OFERTADO",IF(U13<=($F13*(1+$GE$4)),"CUMPLE","NO CUMPLE")) -> NO OFERTADO | Y13: 0 | Z13: NO | AA13: POR UNIDAD | AB13: 4528 | AC13: 860 | AD13: =+AB13+AC13 -> 5388 | AE13: =AD13*$D13 -> 5388 | AF13: =+AE13*G13 -> 781260 | AG13: =+IF(AD13=0,"NO OFERTADO",IF(AD13<=($F13*(1+$GE$4)),"CUMPLE","NO CUMPLE")) -> CUMPLE | AH13: CUMPLE | AI13: SI | AM13: =+AK13+AL13 -> 0 | AN13: =AM13*$D13 -> 0 | AO13: =+AN13*G13 -> 0 | AP13: =+IF(AM13=0,"NO OFERTADO",IF(AM13<=($F13*(1+$GE$4)),"CUMPLE","NO CUMPLE")) -> NO OFERTADO | AR13: NO | AS13: Unidad | AT13: 4970 | AU13: 944 | AV13: =AT13+AU13 -> 5914 | AW13: =AV13*$D13 -> 5914 | AX13: =+AW13*G13 -> 857530 | AY13: =+IF(AV13=0,"NO OFERTADO",IF(AV13<=($F13*(1+$GE$4)),"CUMPLE","NO CUMPLE")) -> CUMPLE | AZ13: CUMPLE | BA13: SI | BE13: =BC13+BD13 -> 0 | BF13: =BE13*$D13 -> 0 | BG13: =+BF13*G13 -> 0 | BH13: =+IF(BE13=0,"NO OFERTADO",IF(BE13<=($F13*(1+$GE$4)),"CUMPLE","NO CUMPLE")) -> NO OFERTADO | BI13: 0 | BJ13: NO | BN13: =BL13+BM13 -> 0 | BO13: =BN13*$D13 -> 0 | BP13: =+BO13*G13 -> 0 | BQ13: =+IF(BN13=0,"NO OFERTADO",IF(BN13<=($F13*(1+$KI$4)),"CUMPLE","NO CUMPLE")) -> NO OFERTADO | BR13: =VLOOKUP(B13,'[1]ANEXO TECNICO'!$B$3:$P$334,15,0) -> 0 | BS13: NO | BX13: 0 | BY13: =+BX13*G13 -> 0 | BZ13: =+IF(BW13=0,"NO OFERTADO",IF(BW13<=($F13*(1+$GE$4)),"CUMPLE","NO CUMPLE")) -> NO OFERTADO | CB13: NO | CF13: =CD13+CE13 -> 0 | CG13: =CF13*$D13 -> 0 | CH13: =+CG13*G13 -> 0 | CI13: =+IF(CF13=0,"NO OFERTADO",IF(CF13<=($F13*(1+$GE$4)),"CUMPLE","NO CUMPLE")) -> NO OFERTADO | CK13: NO | CO13: =CM13+CN13 -> 0 | CP13: =CO13*$D13 -> 0 | CQ13: =+CP13*G13 -> 0 | CR13: =+IF(CO13=0,"NO OFERTADO",IF(CO13<=($F13*(1+$GE$4)),"CUMPLE","NO CUMPLE")) -> NO OFERTADO | CT13: NO | CX13: =CV13+CW13 -> 0 | CY13: =CX13*$D13 -> 0 | CZ13: =+CY13*G13 -> 0 | DA13: =+IF(CX13=0,"NO OFERTADO",IF(CX13<=($F13*(1+$GE$4)),"CUMPLE","NO CUMPLE")) -> NO OFERTADO | DC13: NO | DG13: =DE13+DF13 -> 0 | DH13: =DG13*$D13 -> 0 | DI13: =+DH13*G13 -> 0 | DJ13: =+IF(DG13=0,"NO OFERTADO",IF(DG13<=($F13*(1+$GE$4)),"CUMPLE","NO CUMPLE")) -> NO OFERTADO | DL13: NO | DP13: 0 | DQ13: =+DP13*D13 -> 0 | DR13: =+DQ13*G13 -> 0 | DS13: =+IF(DP13=0,"NO OFERTADO",IF(DP13<=($F13*(1+$GE$4)),"CUMPLE","NO CUMPLE")) -> NO OFERTADO | DU13: NO | DY13: =DW13+DX13 -> 0 | DZ13: =DY13*$D13 -> 0 | EA13: =+DZ13*G13 -> 0 | EB13: =+IF(DY13=0,"NO OFERTADO",IF(DY13<=($F13*(1+$GE$4)),"CUMPLE","NO CUMPLE")) -> NO OFERTADO | ED13: NO | EE13: CJAX25 | EF13: 11250.42 | EG13: 2137.5798 | EH13: =EF13+EG13 -> 13388 | EI13: =EH13*$D13 -> 13388 | EJ13: =+EI13*G13 -> 1941260 | EK13: =+IF(EH13=0,"NO OFERTADO",IF(EH13<=($F13*(1+$GE$4)),"CUMPLE","NO CUMPLE")) -> NO CUMPLE | EL13: CUMPLE | EM13: NO | EQ13: 0 | ER13: =EQ13*$D13 -> 0 | ES13: =+ER13*G13 -> 0 | ET13: =+IF(EQ13=0,"NO OFERTADO",IF(EQ13<=($F13*(1+$GE$4)),"CUMPLE","NO CUMPLE")) -> NO OFERTADO | EV13: NO | FA13: =EZ13*$D13 -> 0 | FB13: =+FA13*G13 -> 0 | FC13: =+IF(EZ13=0,"NO OFERTADO",IF(EZ13<=($F13*(1+$GE$4)),"CUMPLE","NO CUMPLE")) -> NO OFERTADO | FE13: NO | FF13: 0 | FH13: 0 | FI13: 0 | FJ13: =FI13*$D13 -> 0 | FK13: =+FJ13*G13 -> 0 | FL13: =+IF(FI13=0,"NO OFERTADO",IF(FI13<=($F13*(1+$GE$4)),"CUMPLE","NO CUMPLE")) -> NO OFERTADO | FN13: NO | FR13: =FP13+FQ13 -> 0 | FS13: =FR13*$D13 -> 0 | FT13: =+FS13*G13 -> 0 | FU13: =+IF(FR13=0,"NO OFERTADO",IF(FR13<=($F13*(1+$GE$4)),"CUMPLE","NO CUMPLE")) -> NO OFERTADO | FV13: 0 | FW13: NO | GB13: =GA13*$D13 -> 0 | GC13: =+GB13*G13 -> 0 | GD13: =+IF(GA13=0,"NO OFERTADO",IF(GA13<=($F13*(1+$GE$4)),"CUMPLE","NO CUMPLE")) -> NO OFERTADO | GF13: NO
A14: 5 | B14: DM1962 | C14: CONECTOR CON TUBO PARA MEDIO DE CONTRASTE | D14: 1 | E14: UN | F14: 20860.7 | G14: 52 | H14: =+F14*G14 -> 1084756.4 | K14: =+J14*0.19 -> 0 | L14: =+J14+K14 -> 0 | M14: =L14*$D14 -> 0 | N14: =+M14*G14 -> 0 | O14: =+IF(L14=0,"NO OFERTADO",IF(L14<=($F14*(1+$GE$4)),"CUMPLE","NO CUMPLE")) -> NO OFERTADO | Q14: NO | V14: =U14*$D14 -> 0 | W14: =+V14*G14 -> 0 | X14: =+IF(U14=0,"NO OFERTADO",IF(U14<=($F14*(1+$GE$4)),"CUMPLE","NO CUMPLE")) -> NO OFERTADO | Y14: 0 | Z14: NO | AD14: =+AB14+AC14 -> 0 | AE14: =AD14*$D14 -> 0 | AF14: =+AE14*G14 -> 0 | AG14: =+IF(AD14=0,"NO OFERTADO",IF(AD14<=($F14*(1+$GE$4)),"CUMPLE","NO CUMPLE")) -> NO OFERTADO | AI14: NO | AM14: =+AK14+AL14 -> 0 | AN14: =AM14*$D14 -> 0 | AO14: =+AN14*G14 -> 0 | AP14: =+IF(AM14=0,"NO OFERTADO",IF(AM14<=($F14*(1+$GE$4)),"CUMPLE","NO CUMPLE")) -> NO OFERTADO | AR14: NO | AV14: =+AT14+AU14 -> 0 | AW14: =AV14*$D14 -> 0 | AX14: =+AW14*G14 -> 0 | AY14: =+IF(AV14=0,"NO OFERTADO",IF(AV14<=($F14*(1+$GE$4)),"CUMPLE","NO CUMPLE")) -> NO OFERTADO | BA14: NO | BE14: =BC14+BD14 -> 0 | BF14: =BE14*$D14 -> 0 | BG14: =+BF14*G14 -> 0 | BH14: =+IF(BE14=0,"NO OFERTADO",IF(BE14<=($F14*(1+$GE$4)),"CUMPLE","NO CUMPLE")) -> NO OFERTADO | BI14: 0 | BJ14: NO | BN14: =+BL14+BM14 -> 0 | BO14: =BN14*$D14 -> 0 | BP14: =+BO14*G14 -> 0 | BQ14: =+IF(BN14=0,"NO OFERTADO",IF(BN14<=($F14*(1+$KI$4)),"CUMPLE","NO CUMPLE")) -> NO OFERTADO | BR14: =VLOOKUP(B14,'[1]ANEXO TECNICO'!$B$3:$P$334,15,0) -> 0 | BS14: NO | BX14: 0 | BY14: =+BX14*G14 -> 0 | BZ14: =+IF(BW14=0,"NO OFERTADO",IF(BW14<=($F14*(1+$GE$4)),"CUMPLE","NO CUMPLE")) -> NO OFERTADO | CB14: NO | CE14: =+CD14*0.19 -> 0 | CF14: =+CD14+CE14 -> 0 | CG14: =CF14*$D14 -> 0 | CH14: =+CG14*G14 -> 0 | CI14: =+IF(CF14=0,"NO OFERTADO",IF(CF14<=($F14*(1+$GE$4)),"CUMPLE","NO CUMPLE")) -> NO OFERTADO | CK14: NO | CO14: =+CM14+CN14 -> 0 | CP14: =CO14*$D14 -> 0 | CQ14: =+CP14*G14 -> 0 | CR14: =+IF(CO14=0,"NO OFERTADO",IF(CO14<=($F14*(1+$GE$4)),"CUMPLE","NO CUMPLE")) -> NO OFERTADO | CT14: NO | CW14: =+CV14*0.19 -> 0 | CX14: =+CV14+CW14 -> 0 | CY14: =CX14*$D14 -> 0 | CZ14: =+CY14*G14 -> 0 | DA14: =+IF(CX14=0,"NO OFERTADO",IF(CX14<=($F14*(1+$GE$4)),"CUMPLE","NO CUMPLE")) -> NO OFERTADO | DC14: NO | DG14: =+DE14+DF14 -> 0 | DH14: =DG14*$D14 -> 0 | DI14: =+DH14*G14 -> 0 | DJ14: =+IF(DG14=0,"NO OFERTADO",IF(DG14<=($F14*(1+$GE$4)),"CUMPLE","NO CUMPLE")) -> NO OFERTADO | DL14: NO | DP14: 0 | DQ14: =+DP14*D14 -> 0 | DR14: =+DQ14*G14 -> 0 | DS14: =+IF(DP14=0,"NO OFERTADO",IF(DP14<=($F14*(1+$GE$4)),"CUMPLE","NO CUMPLE")) -> NO OFERTADO | DU14: NO | DY14: =+DW14+DX14 -> 0 | DZ14: =DY14*$D14 -> 0 | EA14: =+DZ14*G14 -> 0 | EB14: =+IF(DY14=0,"NO OFERTADO",IF(DY14<=($F14*(1+$GE$4)),"CUMPLE","NO CUMPLE")) -> NO OFERTADO | ED14: NO | EE14: . | EF14: 0 | EG14: 0 | EH14: =+EF14+EG14 -> 0 | EI14: =EH14*$D14 -> 0 | EJ14: =+EI14*G14 -> 0 | EK14: =+IF(EH14=0,"NO OFERTADO",IF(EH14<=($F14*(1+$GE$4)),"CUMPLE","NO CUMPLE")) -> NO OFERTADO | EM14: NO | EQ14: 0 | ER14: =EQ14*$D14 -> 0 | ES14: =+ER14*G14 -> 0 | ET14: =+IF(EQ14=0,"NO OFERTADO",IF(EQ14<=($F14*(1+$GE$4)),"CUMPLE","NO CUMPLE")) -> NO OFERTADO | EV14: NO | FA14: =EZ14*$D14 -> 0 | FB14: =+FA14*G14 -> 0 | FC14: =+IF(EZ14=0,"NO OFERTADO",IF(EZ14<=($F14*(1+$GE$4)),"CUMPLE","NO CUMPLE")) -> NO OFERTADO | FE14: NO | FF14: 0 | FH14: 0 | FI14: 0 | FJ14: =FI14*$D14 -> 0 | FK14: =+FJ14*G14 -> 0 | FL14: =+IF(FI14=0,"NO OFERTADO",IF(FI14<=($F14*(1+$GE$4)),"CUMPLE","NO CUMPLE")) -> NO OFERTADO | FN14: NO | FR14: =+FP14+FQ14 -> 0 | FS14: =FR14*$D14 -> 0 | FT14: =+FS14*G14 -> 0 | FU14: =+IF(FR14=0,"NO OFERTADO",IF(FR14<=($F14*(1+$GE$4)),"CUMPLE","NO CUMPLE")) -> NO OFERTADO | FV14: 0 | FW14: NO | GB14: =GA14*$D14 -> 0 | GC14: =+GB14*G14 -> 0 | GD14: =+IF(GA14=0,"NO OFERTADO",IF(GA14<=($F14*(1+$GE$4)),"CUMPLE","NO CUMPLE")) -> NO OFERTADO | GF14: NO
A15: 6 | B15: DM124 | C15: APOSITO NO TEJIDO. CON ADHESIVO HIPOALERGENICO PARA HERIDAS POSOPERATORIAS 30 A 35 X 9 A 10CM | D15: 1 | E15: UN | F15: 3168.6 | G15: 279 | H15: =+F15*G15 -> 884039.4 | I15: Factor de Empaque:CAJA X 12 Unidades DESPACHO MINIMO. Se oferta por Unidad Esteril Ref.3412 | J15: 31000 | K15: 0 | L15: =+J15+K15 -> 31000 | M15: =+L15 -> 31000 | N15: =+M15*G15 -> 8649000 | O15: =+IF(L15=0,"NO OFERTADO",IF(L15<=($F15*(1+$GE$4)),"CUMPLE","NO CUMPLE")) -> NO CUMPLE | P15: NO CUMPLE | Q15: NO | V15: =U15*$D15 -> 0 | W15: =+V15*G15 -> 0 | X15: =+IF(U15=0,"NO OFERTADO",IF(U15<=($F15*(1+$GE$4)),"CUMPLE","NO CUMPLE")) -> NO OFERTADO | Y15: 0 | Z15: NO | AD15: =+AB15+AC15 -> 0 | AE15: =AD15*$D15 -> 0 | AF15: =+AE15*G15 -> 0 | AG15: =+IF(AD15=0,"NO OFERTADO",IF(AD15<=($F15*(1+$GE$4)),"CUMPLE","NO CUMPLE")) -> NO OFERTADO | AI15: NO | AM15: =+AK15+AL15 -> 0 | AN15: =AM15*$D15 -> 0 | AO15: =+AN15*G15 -> 0 | AP15: =+IF(AM15=0,"NO OFERTADO",IF(AM15<=($F15*(1+$GE$4)),"CUMPLE","NO CUMPLE")) -> NO OFERTADO | AR15: NO | AV15: =+AT15+AU15 -> 0 | AW15: =AV15*$D15 -> 0 | AX15: =+AW15*G15 -> 0 | AY15: =+IF(AV15=0,"NO OFERTADO",IF(AV15<=($F15*(1+$GE$4)),"CUMPLE","NO CUMPLE")) -> NO OFERTADO | BA15: NO | BE15: =BC15+BD15 -> 0 | BF15: =BE15*$D15 -> 0 | BG15: =+BF15*G15 -> 0 | BH15: =+IF(BE15=0,"NO OFERTADO",IF(BE15<=($F15*(1+$GE$4)),"CUMPLE","NO CUMPLE")) -> NO OFERTADO | BI15: 0 | BJ15: NO | BN15: =+BL15+BM15 -> 0 | BO15: =BN15*$D15 -> 0 | BP15: =+BO15*G15 -> 0 | BQ15: =+IF(BN15=0,"NO OFERTADO",IF(BN15<=($F15*(1+$KI$4)),"CUMPLE","NO CUMPLE")) -> NO OFERTADO | BR15: =VLOOKUP(B15,'[1]ANEXO TECNICO'!$B$3:$P$334,15,0) -> 0 | BS15: NO | BX15: 0 | BY15: =+BX15*G15 -> 0 | BZ15: =+IF(BW15=0,"NO OFERTADO",IF(BW15<=($F15*(1+$GE$4)),"CUMPLE","NO CUMPLE")) -> NO OFERTADO | CB15: NO | CE15: =+CD15*0.19 -> 0 | CF15: =+CD15+CE15 -> 0 | CG15: =CF15*$D15 -> 0 | CH15: =+CG15*G15 -> 0 | CI15: =+IF(CF15=0,"NO OFERTADO",IF(CF15<=($F15*(1+$GE$4)),"CUMPLE","NO CUMPLE")) -> NO OFERTADO | CK15: NO | CO15: =+CM15+CN15 -> 0 | CP15: =CO15*$D15 -> 0 | CQ15: =+CP15*G15 -> 0 | CR15: =+IF(CO15=0,"NO OFERTADO",IF(CO15<=($F15*(1+$GE$4)),"CUMPLE","NO CUMPLE")) -> NO OFERTADO | CT15: NO | CW15: =+CV15*0.19 -> 0 | CX15: =+CV15+CW15 -> 0 | CY15: =CX15*$D15 -> 0 | CZ15: =+CY15*G15 -> 0 | DA15: =+IF(CX15=0,"NO OFERTADO",IF(CX15<=($F15*(1+$GE$4)),"CUMPLE","NO CUMPLE")) -> NO OFERTADO | DC15: NO | DD15: Caja 20 | DE15: 3631 | DF15: 0 | DG15: =+DE15+DF15 -> 3631 | DH15: =DG15*$D15 -> 3631 | DI15: =+DH15*G15 -> 1013049 | DJ15: =+IF(DG15=0,"NO OFERTADO",IF(DG15<=($F15*(1+$GE$4)),"CUMPLE","NO CUMPLE")) -> CUMPLE | DK15: CUMPLE | DL15: SI | DP15: 0 | DQ15: =+DP15*D15 -> 0 | DR15: =+DQ15*G15 -> 0 | DS15: =+IF(DP15=0,"NO OFERTADO",IF(DP15<=($F15*(1+$GE$4)),"CUMPLE","NO CUMPLE")) -> NO OFERTADO | DU15: NO | DY15: =+DW15+DX15 -> 0 | DZ15: =DY15*$D15 -> 0 | EA15: =+DZ15*G15 -> 0 | EB15: =+IF(DY15=0,"NO OFERTADO",IF(DY15<=($F15*(1+$GE$4)),"CUMPLE","NO CUMPLE")) -> NO OFERTADO | ED15: NO | EE15: . | EF15: 0 | EG15: 0 | EH15: =+EF15+EG15 -> 0 | EI15: =EH15*$D15 -> 0 | EJ15: =+EI15*G15 -> 0 | EK15: =+IF(EH15=0,"NO OFERTADO",IF(EH15<=($F15*(1+$GE$4)),"CUMPLE","NO CUMPLE")) -> NO OFERTADO | EM15: NO | EQ15: 0 | ER15: =EQ15*$D15 -> 0 | ES15: =+ER15*G15 -> 0 | ET15: =+IF(EQ15=0,"NO OFERTADO",IF(EQ15<=($F15*(1+$GE$4)),"CUMPLE","NO CUMPLE")) -> NO OFERTADO | EV15: NO | FA15: =EZ15*$D15 -> 0 | FB15: =+FA15*G15 -> 0 | FC15: =+IF(EZ15=0,"NO OFERTADO",IF(EZ15<=($F15*(1+$GE$4)),"CUMPLE","NO CUMPLE")) -> NO OFERTADO | FE15: NO | FF15: 0 | FH15: 0 | FI15: 0 | FJ15: =FI15*$D15 -> 0 | FK15: =+FJ15*G15 -> 0 | FL15: =+IF(FI15=0,"NO OFERTADO",IF(FI15<=($F15*(1+$GE$4)),"CUMPLE","NO CUMPLE")) -> NO OFERTADO | FN15: NO | FR15: =+FP15+FQ15 -> 0 | FS15: =FR15*$D15 -> 0 | FT15: =+FS15*G15 -> 0 | FU15: =+IF(FR15=0,"NO OFERTADO",IF(FR15<=($F15*(1+$GE$4)),"CUMPLE","NO CUMPLE")) -> NO OFERTADO | FV15: 0 | FW15: NO | GB15: =GA15*$D15 -> 0 | GC15: =+GB15*G15 -> 0 | GD15: =+IF(GA15=0,"NO OFERTADO",IF(GA15<=($F15*(1+$GE$4)),"CUMPLE","NO CUMPLE")) -> NO OFERTADO | GF15: NO
A16: 7 | B16: DM1686 | C16: APOSITO DE CARBON TRILAMINADO 10 10 | D16: 1 | E16: UN | F16: 16000 | G16: 8 | H16: =+F16*G16 -> 128000 | K16: =+J16*0.19 -> 0 | L16: =+J16+K16 -> 0 | M16: =L16*$D16 -> 0 | N16: =+M16*G16 -> 0 | O16: =+IF(L16=0,"NO OFERTADO",IF(L16<=($F16*(1+$GE$4)),"CUMPLE","NO CUMPLE")) -> NO OFERTADO | Q16: NO | V16: =U16*$D16 -> 0 | W16: =+V16*G16 -> 0 | X16: =+IF(U16=0,"NO OFERTADO",IF(U16<=($F16*(1+$GE$4)),"CUMPLE","NO CUMPLE")) -> NO OFERTADO | Y16: 0 | Z16: NO | AD16: =+AB16+AC16 -> 0 | AE16: =AD16*$D16 -> 0 | AF16: =+AE16*G16 -> 0 | AG16: =+IF(AD16=0,"NO OFERTADO",IF(AD16<=($F16*(1+$GE$4)),"CUMPLE","NO CUMPLE")) -> NO OFERTADO | AI16: NO | AM16: =+AK16+AL16 -> 0 | AN16: =AM16*$D16 -> 0 | AO16: =+AN16*G16 -> 0 | AP16: =+IF(AM16=0,"NO OFERTADO",IF(AM16<=($F16*(1+$GE$4)),"CUMPLE","NO CUMPLE")) -> NO OFERTADO | AR16: NO | AV16: =AT16+AU16 -> 0 | AW16: =AV16*$D16 -> 0 | AX16: =+AW16*G16 -> 0 | AY16: =+IF(AV16=0,"NO OFERTADO",IF(AV16<=($F16*(1+$GE$4)),"CUMPLE","NO CUMPLE")) -> NO OFERTADO | BA16: NO | BB16: CAJA X 10 | BC16: 16000 | BD16: 0 | BE16: =BC16+BD16 -> 16000 | BF16: =BE16*$D16 -> 16000 | BG16: =+BF16*G16 -> 128000 | BH16: =+IF(BE16=0,"NO OFERTADO",IF(BE16<=($F16*(1+$GE$4)),"CUMPLE","NO CUMPLE")) -> CUMPLE | BI16: CUMPLE | BJ16: SI | BN16: =BL16+BM16 -> 0 | BO16: =BN16*$D16 -> 0 | BP16: =+BO16*G16 -> 0 | BQ16: =+IF(BN16=0,"NO OFERTADO",IF(BN16<=($F16*(1+$KI$4)),"CUMPLE","NO CUMPLE")) -> NO OFERTADO | BR16: =VLOOKUP(B16,'[1]ANEXO TECNICO'!$B$3:$P$334,15,0) -> 0 | BS16: NO | BX16: 0 | BY16: =+BX16*G16 -> 0 | BZ16: =+IF(BW16=0,"NO OFERTADO",IF(BW16<=($F16*(1+$GE$4)),"CUMPLE","NO CUMPLE")) -> NO OFERTADO | CB16: NO | CF16: =CD16+CE16 -> 0 | CG16: =CF16*$D16 -> 0 | CH16: =+CG16*G16 -> 0 | CI16: =+IF(CF16=0,"NO OFERTADO",IF(CF16<=($F16*(1+$GE$4)),"CUMPLE","NO CUMPLE")) -> NO OFERTADO | CK16: NO | CO16: =CM16+CN16 -> 0 | CP16: =CO16*$D16 -> 0 | CQ16: =+CP16*G16 -> 0 | CR16: =+IF(CO16=0,"NO OFERTADO",IF(CO16<=($F16*(1+$GE$4)),"CUMPLE","NO CUMPLE")) -> NO OFERTADO | CT16: NO | CX16: =CV16+CW16 -> 0 | CY16: =CX16*$D16 -> 0 | CZ16: =+CY16*G16 -> 0 | DA16: =+IF(CX16=0,"NO OFERTADO",IF(CX16<=($F16*(1+$GE$4)),"CUMPLE","NO CUMPLE")) -> NO OFERTADO | DC16: NO | DG16: =DE16+DF16 -> 0 | DH16: =DG16*$D16 -> 0 | DI16: =+DH16*G16 -> 0 | DJ16: =+IF(DG16=0,"NO OFERTADO",IF(DG16<=($F16*(1+$GE$4)),"CUMPLE","NO CUMPLE")) -> NO OFERTADO | DL16: NO | DP16: 0 | DQ16: =+DP16*D16 -> 0 | DR16: =+DQ16*G16 -> 0 | DS16: =+IF(DP16=0,"NO OFERTADO",IF(DP16<=($F16*(1+$GE$4)),"CUMPLE","NO CUMPLE")) -> NO OFERTADO | DU16: NO | DY16: =DW16+DX16 -> 0 | DZ16: =DY16*$D16 -> 0 | EA16: =+DZ16*G16 -> 0 | EB16: =+IF(DY16=0,"NO OFERTADO",IF(DY16<=($F16*(1+$GE$4)),"CUMPLE","NO CUMPLE")) -> NO OFERTADO | ED16: NO | EE16: . | EF16: 0 | EG16: 0 | EH16: =EF16+EG16 -> 0 | EI16: =EH16*$D16 -> 0 | EJ16: =+EI16*G16 -> 0 | EK16: =+IF(EH16=0,"NO OFERTADO",IF(EH16<=($F16*(1+$GE$4)),"CUMPLE","NO CUMPLE")) -> NO OFERTADO | EM16: NO | EQ16: 0 | ER16: =EQ16*$D16 -> 0 | ES16: =+ER16*G16 -> 0 | ET16: =+IF(EQ16=0,"NO OFERTADO",IF(EQ16<=($F16*(1+$GE$4)),"CUMPLE","NO CUMPLE")) -> NO OFERTADO | EV16: NO | FA16: =EZ16*$D16 -> 0 | FB16: =+FA16*G16 -> 0 | FC16: =+IF(EZ16=0,"NO OFERTADO",IF(EZ16<=($F16*(1+$GE$4)),"CUMPLE","NO CUMPLE")) -> NO OFERTADO | FE16: NO | FF16: 0 | FH16: 0 | FI16: 0 | FJ16: =FI16*$D16 -> 0 | FK16: =+FJ16*G16 -> 0 | FL16: =+IF(FI16=0,"NO OFERTADO",IF(FI16<=($F16*(1+$GE$4)),"CUMPLE","NO CUMPLE")) -> NO OFERTADO | FN16: NO | FR16: =FP16+FQ16 -> 0 | FS16: =FR16*$D16 -> 0 | FT16: =+FS16*G16 -> 0 | FU16: =+IF(FR16=0,"NO OFERTADO",IF(FR16<=($F16*(1+$GE$4)),"CUMPLE","NO CUMPLE")) -> NO OFERTADO | FV16: 0 | FW16: NO | GB16: =GA16*$D16 -> 0 | GC16: =+GB16*G16 -> 0 | GD16: =+IF(GA16=0,"NO OFERTADO",IF(GA16<=($F16*(1+$GE$4)),"CUMPLE","NO CUMPLE")) -> NO OFERTADO | GF16: NO
A17: 8 | B17: DM2021 | C17: APOSITO DE GASA 15X20 CON BASE DE PARAFINA BLANDA CLORHEXIDINA 0.5% | D17: 1 | E17: UN | F17: 53438 | G17: 56 | H17: =+F17*G17 -> 2992528 | K17: =+J17*0.19 -> 0 | L17: =+J17+K17 -> 0 | M17: =L17*$D17 -> 0 | N17: =+M17*G17 -> 0 | O17: =+IF(L17=0,"NO OFERTADO",IF(L17<=($F17*(1+$GE$4)),"CUMPLE","NO CUMPLE")) -> NO OFERTADO | Q17: NO | V17: =U17*$D17 -> 0 | W17: =+V17*G17 -> 0 | X17: =+IF(U17=0,"NO OFERTADO",IF(U17<=($F17*(1+$GE$4)),"CUMPLE","NO CUMPLE")) -> NO OFERTADO | Y17: 0 | Z17: NO | AD17: =+AB17+AC17 -> 0 | AE17: =AD17*$D17 -> 0 | AF17: =+AE17*G17 -> 0 | AG17: =+IF(AD17=0,"NO OFERTADO",IF(AD17<=($F17*(1+$GE$4)),"CUMPLE","NO CUMPLE")) -> NO OFERTADO | AI17: NO | AM17: =+AK17+AL17 -> 0 | AN17: =AM17*$D17 -> 0 | AO17: =+AN17*G17 -> 0 | AP17: =+IF(AM17=0,"NO OFERTADO",IF(AM17<=($F17*(1+$GE$4)),"CUMPLE","NO CUMPLE")) -> NO OFERTADO | AR17: NO | AV17: =AT17+AU17 -> 0 | AW17: =AV17*$D17 -> 0 | AX17: =+AW17*G17 -> 0 | AY17: =+IF(AV17=0,"NO OFERTADO",IF(AV17<=($F17*(1+$GE$4)),"CUMPLE","NO CUMPLE")) -> NO OFERTADO | BA17: NO | BB17: CAJA X 10 | BC17: 9500 | BD17: 0 | BE17: =BC17+BD17 -> 9500 | BF17: =BE17*$D17 -> 9500 | BG17: =+BF17*G17 -> 532000 | BH17: =+IF(BE17=0,"NO OFERTADO",IF(BE17<=($F17*(1+$GE$4)),"CUMPLE","NO CUMPLE")) -> CUMPLE | BI17: NO CUMPLE | BJ17: NO | BN17: =BL17+BM17 -> 0 | BO17: =BN17*$D17 -> 0 | BP17: =+BO17*G17 -> 0 | BQ17: =+IF(BN17=0,"NO OFERTADO",IF(BN17<=($F17*(1+$KI$4)),"CUMPLE","NO CUMPLE")) -> NO OFERTADO | BR17: =VLOOKUP(B17,'[1]ANEXO TECNICO'!$B$3:$P$334,15,0) -> 0 | BS17: NO | BX17: 0 | BY17: =+BX17*G17 -> 0 | BZ17: =+IF(BW17=0,"NO OFERTADO",IF(BW17<=($F17*(1+$GE$4)),"CUMPLE","NO CUMPLE")) -> NO OFERTADO | CB17: NO | CF17: =CD17+CE17 -> 0 | CG17: =CF17*$D17 -> 0 | CH17: =+CG17*G17 -> 0 | CI17: =+IF(CF17=0,"NO OFERTADO",IF(CF17<=($F17*(1+$GE$4)),"CUMPLE","NO CUMPLE")) -> NO OFERTADO | CK17: NO | CO17: =CM17+CN17 -> 0 | CP17: =CO17*$D17 -> 0 | CQ17: =+CP17*G17 -> 0 | CR17: =+IF(CO17=0,"NO OFERTADO",IF(CO17<=($F17*(1+$GE$4)),"CUMPLE","NO CUMPLE")) -> NO OFERTADO | CT17: NO | CX17: =CV17+CW17 -> 0 | CY17: =CX17*$D17 -> 0 | CZ17: =+CY17*G17 -> 0 | DA17: =+IF(CX17=0,"NO OFERTADO",IF(CX17<=($F17*(1+$GE$4)),"CUMPLE","NO CUMPLE")) -> NO OFERTADO | DC17: NO | DD17: Caja 10 | DE17: 6677 | DF17: 0 | DG17: =DE17+DF17 -> 6677 | DH17: =DG17*$D17 -> 6677 | DI17: =+DH17*G17 -> 373912 | DJ17: =+IF(DG17=0,"NO OFERTADO",IF(DG17<=($F17*(1+$GE$4)),"CUMPLE","NO CUMPLE")) -> CUMPLE | DK17: CUMPLE | DL17: SI | DP17: 0 | DQ17: =+DP17*D17 -> 0 | DR17: =+DQ17*G17 -> 0 | DS17: =+IF(DP17=0,"NO OFERTADO",IF(DP17<=($F17*(1+$GE$4)),"CUMPLE","NO CUMPLE")) -> NO OFERTADO | DU17: NO | DY17: =DW17+DX17 -> 0 | DZ17: =DY17*$D17 -> 0 | EA17: =+DZ17*G17 -> 0 | EB17: =+IF(DY17=0,"NO OFERTADO",IF(DY17<=($F17*(1+$GE$4)),"CUMPLE","NO CUMPLE")) -> NO OFERTADO | ED17: NO | EE17: . | EF17: 0 | EG17: 0 | EH17: =EF17+EG17 -> 0 | EI17: =EH17*$D17 -> 0 | EJ17: =+EI17*G17 -> 0 | EK17: =+IF(EH17=0,"NO OFERTADO",IF(EH17<=($F17*(1+$GE$4)),"CUMPLE","NO CUMPLE")) -> NO OFERTADO | EM17: NO | EQ17: 0 | ER17: =EQ17*$D17 -> 0 | ES17: =+ER17*G17 -> 0 | ET17: =+IF(EQ17=0,"NO OFERTADO",IF(EQ17<=($F17*(1+$GE$4)),"CUMPLE","NO CUMPLE")) -> NO OFERTADO | EV17: NO | FA17: =EZ17*$D17 -> 0 | FB17: =+FA17*G17 -> 0 | FC17: =+IF(EZ17=0,"NO OFERTADO",IF(EZ17<=($F17*(1+$GE$4)),"CUMPLE","NO CUMPLE")) -> NO OFERTADO | FE17: NO | FF17: CAJA X 10 UND | FG17: 4950 | FI17: 4950 | FJ17: =FI17*$D17 -> 4950 | FK17: =+FJ17*G17 -> 277200 | FL17: =+IF(FI17=0,"NO OFERTADO",IF(FI17<=($F17*(1+$GE$4)),"CUMPLE","NO CUMPLE")) -> CUMPLE | FM17: =VLOOKUP(B17,'[2]ANEXO TECNICO'!$B$3:$P$334,15,0) -> CUMPLE | FN17: SI | FR17: =FP17+FQ17 -> 0 | FS17: =FR17*$D17 -> 0 | FT17: =+FS17*G17 -> 0 | FU17: =+IF(FR17=0,"NO OFERTADO",IF(FR17<=($F17*(1+$GE$4)),"CUMPLE","NO CUMPLE")) -> NO OFERTADO | FV17: 0 | FW17: NO | GB17: =GA17*$D17 -> 0 | GC17: =+GB17*G17 -> 0 | GD17: =+IF(GA17=0,"NO OFERTADO",IF(GA17<=($F17*(1+$GE$4)),"CUMPLE","NO CUMPLE")) -> NO OFERTADO | GF17: NO
A18: 9 | B18: DM1656 | C18: APOSITO ESTERIL TRANSPARENTE 7X9 MAS O MENOS 2 CM CON REFUERZO INCORPORADO. Y CON TIRILLAS DE FIJACION Y MARCACION USO ADULTO | D18: 1 | E18: UN | F18: 1900 | G18: 6569 | H18: =+F18*G18 -> 12481100 | K18: =+J18*0.19 -> 0 | L18: =+J18+K18 -> 0 | M18: =L18*$D18 -> 0 | N18: =+M18*G18 -> 0 | O18: =+IF(L18=0,"NO OFERTADO",IF(L18<=($F18*(1+$GE$4)),"CUMPLE","NO CUMPLE")) -> NO OFERTADO | Q18: NO | R18: CAJA X 50 | S18: 3150 | T18: 0 | U18: 3150 | V18: =U18*$D18 -> 3150 | W18: =+V18*G18 -> 20692350 | X18: =+IF(U18=0,"NO OFERTADO",IF(U18<=($F18*(1+$GE$4)),"CUMPLE","NO CUMPLE")) -> NO CUMPLE | Y18: NO CUMPLE | Z18: NO | AA18: POR UNIDAD | AB18: 2782 | AC18: 0 | AD18: =+AB18+AC18 -> 2782 | AE18: =AD18*$D18 -> 2782 | AF18: =+AE18*G18 -> 18274958 | AG18: =+IF(AD18=0,"NO OFERTADO",IF(AD18<=($F18*(1+$GE$4)),"CUMPLE","NO CUMPLE")) -> NO CUMPLE | AH18: CUMPLE | AI18: NO | AM18: =+AK18+AL18 -> 0 | AN18: =AM18*$D18 -> 0 | AO18: =+AN18*G18 -> 0 | AP18: =+IF(AM18=0,"NO OFERTADO",IF(AM18<=($F18*(1+$GE$4)),"CUMPLE","NO CUMPLE")) -> NO OFERTADO | AR18: NO | AV18: =AT18+AU18 -> 0 | AW18: =AV18*$D18 -> 0 | AX18: =+AW18*G18 -> 0 | AY18: =+IF(AV18=0,"NO OFERTADO",IF(AV18<=($F18*(1+$GE$4)),"CUMPLE","NO CUMPLE")) -> NO OFERTADO | BA18: NO | BB18: CAJA X 100 | BC18: 1500 | BD18: 0 | BE18: =BC18+BD18 -> 1500 | BF18: =BE18*$D18 -> 1500 | BG18: =+BF18*G18 -> 9853500 | BH18: =+IF(BE18=0,"NO OFERTADO",IF(BE18<=($F18*(1+$GE$4)),"CUMPLE","NO CUMPLE")) -> CUMPLE | BI18: NO CUMPLE | BJ18: NO | BN18: =BL18+BM18 -> 0 | BO18: =BN18*$D18 -> 0 | BP18: =+BO18*G18 -> 0 | BQ18: =+IF(BN18=0,"NO OFERTADO",IF(BN18<=($F18*(1+$KI$4)),"CUMPLE","NO CUMPLE")) -> NO OFERTADO | BR18: =VLOOKUP(B18,'[1]ANEXO TECNICO'!$B$3:$P$334,15,0) -> 0 | BS18: NO | BT18: caja x 50 | BU18: 2648 | BV18: 0 | BW18: =+BU18+BV18 -> 2648 | BX18: =+BW18*D18 -> 2648 | BY18: =+BX18*G18 -> 17394712 | BZ18: =+IF(BW18=0,"NO OFERTADO",IF(BW18<=($F18*(1+$GE$4)),"CUMPLE","NO CUMPLE")) -> NO CUMPLE | CA18: NO CUMPLE | CB18: NO | CF18: =CD18+CE18 -> 0 | CG18: =CF18*$D18 -> 0 | CH18: =+CG18*G18 -> 0 | CI18: =+IF(CF18=0,"NO OFERTADO",IF(CF18<=($F18*(1+$GE$4)),"CUMPLE","NO CUMPLE")) -> NO OFERTADO | CK18: NO | CO18: =CM18+CN18 -> 0 | CP18: =CO18*$D18 -> 0 | CQ18: =+CP18*G18 -> 0 | CR18: =+IF(CO18=0,"NO OFERTADO",IF(CO18<=($F18*(1+$GE$4)),"CUMPLE","NO CUMPLE")) -> NO OFERTADO | CT18: NO | CX18: =CV18+CW18 -> 0 | CY18: =CX18*$D18 -> 0 | CZ18: =+CY18*G18 -> 0 | DA18: =+IF(CX18=0,"NO OFERTADO",IF(CX18<=($F18*(1+$GE$4)),"CUMPLE","NO CUMPLE")) -> NO OFERTADO | DC18: NO | DD18: Caja 100 | DE18: 1544 | DF18: 0 | DG18: =DE18+DF18 -> 1544 | DH18: =DG18*$D18 -> 1544 | DI18: =+DH18*G18 -> 10142536 | DJ18: =+IF(DG18=0,"NO OFERTADO",IF(DG18<=($F18*(1+$GE$4)),"CUMPLE","NO CUMPLE")) -> CUMPLE | DK18: CUMPLE | DL18: SI | DP18: 0 | DQ18: =+DP18*D18 -> 0 | DR18: =+DQ18*G18 -> 0 | DS18: =+IF(DP18=0,"NO OFERTADO",IF(DP18<=($F18*(1+$GE$4)),"CUMPLE","NO CUMPLE")) -> NO OFERTADO | DU18: NO | DY18: =DW18+DX18 -> 0 | DZ18: =DY18*$D18 -> 0 | EA18: =+DZ18*G18 -> 0 | EB18: =+IF(DY18=0,"NO OFERTADO",IF(DY18<=($F18*(1+$GE$4)),"CUMPLE","NO CUMPLE")) -> NO OFERTADO | ED18: NO | EE18: . | EF18: 0 | EG18: 0 | EH18: =EF18+EG18 -> 0 | EI18: =EH18*$D18 -> 0 | EJ18: =+EI18*G18 -> 0 | EK18: =+IF(EH18=0,"NO OFERTADO",IF(EH18<=($F18*(1+$GE$4)),"CUMPLE","NO CUMPLE")) -> NO OFERTADO | EM18: NO | EQ18: 0 | ER18: =EQ18*$D18 -> 0 | ES18: =+ER18*G18 -> 0 | ET18: =+IF(EQ18=0,"NO OFERTADO",IF(EQ18<=($F18*(1+$GE$4)),"CUMPLE","NO CUMPLE")) -> NO OFERTADO | EV18: NO | EW18: CAJA X 50 UNIDADES | EX18: 2500 | EY18: 0 | EZ18: 2500 | FA18: =EZ18*$D18 -> 2500 | FB18: =+FA18*G18 -> 16422500 | FC18: =+IF(EZ18=0,"NO OFERTADO",IF(EZ18<=($F18*(1+$GE$4)),"CUMPLE","NO CUMPLE")) -> NO CUMPLE | FD18: CUMPLE | FE18: NO | FF18: CAJA X 50 UND | FG18: 1390 | FI18: 1390 | FJ18: =FI18*$D18 -> 1390 | FK18: =+FJ18*G18 -> 9130910 | FL18: =+IF(FI18=0,"NO OFERTADO",IF(FI18<=($F18*(1+$GE$4)),"CUMPLE","NO CUMPLE")) -> CUMPLE | FM18: =VLOOKUP(B18,'[2]ANEXO TECNICO'!$B$3:$P$334,15,0) -> CUMPLE | FN18: SI | FR18: =FP18+FQ18 -> 0 | FS18: =FR18*$D18 -> 0 | FT18: =+FS18*G18 -> 0 | FU18: =+IF(FR18=0,"NO OFERTADO",IF(FR18<=($F18*(1+$GE$4)),"CUMPLE","NO CUMPLE")) -> NO OFERTADO | FV18: 0 | FW18: NO | FX18: CJX50 | FY18: 2795 | FZ18: 0 | GA18: 2795 | GB18: =GA18*$D18 -> 2795 | GC18: =+GB18*G18 -> 18360355 | GD18: =+IF(GA18=0,"NO OFERTADO",IF(GA18<=($F18*(1+$GE$4)),"CUMPLE","NO CUMPLE")) -> NO CUMPLE | GE18: CUMPLE | GF18: NO
A19: 10 | B19: DM122 | C19: APOSITO ESTERIL TRASPARENTE 5 HASTA 6 CM X 5 HASTA 6 CM CON REFUERZO INCORPORADO. Y CON TIRILLAS DE FIJACION Y MARCACION.USO NEONATAL | D19: 1 | E19: UN | F19: 1404 | G19: 2297 | H19: =+F19*G19 -> 3224988 | K19: =+J19*0.19 -> 0 | L19: =+J19+K19 -> 0 | M19: =L19*$D19 -> 0 | N19: =+M19*G19 -> 0 | O19: =+IF(L19=0,"NO OFERTADO",IF(L19<=($F19*(1+$GE$4)),"CUMPLE","NO CUMPLE")) -> NO OFERTADO | Q19: NO | R19: CAJA X 50 | S19: 2100 | T19: 0 | U19: 2100 | V19: =U19*$D19 -> 2100 | W19: =+V19*G19 -> 4823700 | X19: =+IF(U19=0,"NO OFERTADO",IF(U19<=($F19*(1+$GE$4)),"CUMPLE","NO CUMPLE")) -> NO CUMPLE | Y19: NO CUMPLE | Z19: NO | AA19: POR UNIDAD | AB19: 1436 | AC19: 0 | AD19: =+AB19+AC19 -> 1436 | AE19: =AD19*$D19 -> 1436 | AF19: =+AE19*G19 -> 3298492 | AG19: =+IF(AD19=0,"NO OFERTADO",IF(AD19<=($F19*(1+$GE$4)),"CUMPLE","NO CUMPLE")) -> CUMPLE | AH19: CUMPLE | AI19: SI | AM19: =+AK19+AL19 -> 0 | AN19: =AM19*$D19 -> 0 | AO19: =+AN19*G19 -> 0 | AP19: =+IF(AM19=0,"NO OFERTADO",IF(AM19<=($F19*(1+$GE$4)),"CUMPLE","NO CUMPLE")) -> NO OFERTADO | AR19: NO | AV19: =AT19+AU19 -> 0 | AW19: =AV19*$D19 -> 0 | AX19: =+AW19*G19 -> 0 | AY19: =+IF(AV19=0,"NO OFERTADO",IF(AV19<=($F19*(1+$GE$4)),"CUMPLE","NO CUMPLE")) -> NO OFERTADO | BA19: NO | BB19: CAJA X 100 | BC19: 1700 | BD19: 0 | BE19: =BC19+BD19 -> 1700 | BF19: =BE19*$D19 -> 1700 | BG19: =+BF19*G19 -> 3904900 | BH19: =+IF(BE19=0,"NO OFERTADO",IF(BE19<=($F19*(1+$GE$4)),"CUMPLE","NO CUMPLE")) -> NO CUMPLE | BI19: NO CUMPLE | BJ19: NO | BN19: =BL19+BM19 -> 0 | BO19: =BN19*$D19 -> 0 | BP19: =+BO19*G19 -> 0 | BQ19: =+IF(BN19=0,"NO OFERTADO",IF(BN19<=($F19*(1+$KI$4)),"CUMPLE","NO CUMPLE")) -> NO OFERTADO | BR19: =VLOOKUP(B19,'[1]ANEXO TECNICO'!$B$3:$P$334,15,0) -> 0 | BS19: NO | BT19: caja x 50 | BU19: 1876.8834 | BV19: 0 | BW19: =+BU19+BV19 -> 1876.8834 | BX19: =+BW19*D19 -> 1876.8834 | BY19: =+BX19*G19 -> 4311201.2 | BZ19: =+IF(BW19=0,"NO OFERTADO",IF(BW19<=($F19*(1+$GE$4)),"CUMPLE","NO CUMPLE")) -> NO CUMPLE | CA19: NO CUMPLE | CB19: NO | CF19: =CD19+CE19 -> 0 | CG19: =CF19*$D19 -> 0 | CH19: =+CG19*G19 -> 0 | CI19: =+IF(CF19=0,"NO OFERTADO",IF(CF19<=($F19*(1+$GE$4)),"CUMPLE","NO CUMPLE")) -> NO OFERTADO | CK19: NO | CO19: =CM19+CN19 -> 0 | CP19: =CO19*$D19 -> 0 | CQ19: =+CP19*G19 -> 0 | CR19: =+IF(CO19=0,"NO OFERTADO",IF(CO19<=($F19*(1+$GE$4)),"CUMPLE","NO CUMPLE")) -> NO OFERTADO | CT19: NO | CX19: =CV19+CW19 -> 0 | CY19: =CX19*$D19 -> 0 | CZ19: =+CY19*G19 -> 0 | DA19: =+IF(CX19=0,"NO OFERTADO",IF(CX19<=($F19*(1+$GE$4)),"CUMPLE","NO CUMPLE")) -> NO OFERTADO | DC19: NO | DD19: Caja 100 | DE19: 2045 | DF19: 0 | DG19: =DE19+DF19 -> 2045 | DH19: =DG19*$D19 -> 2045 | DI19: =+DH19*G19 -> 4697365 | DJ19: =+IF(DG19=0,"NO OFERTADO",IF(DG19<=($F19*(1+$GE$4)),"CUMPLE","NO CUMPLE")) -> NO CUMPLE | DK19: CUMPLE | DL19: NO | DP19: 0 | DQ19: =+DP19*D19 -> 0 | DR19: =+DQ19*G19 -> 0 | DS19: =+IF(DP19=0,"NO OFERTADO",IF(DP19<=($F19*(1+$GE$4)),"CUMPLE","NO CUMPLE")) -> NO OFERTADO | DU19: NO | DY19: =DW19+DX19 -> 0 | DZ19: =DY19*$D19 -> 0 | EA19: =+DZ19*G19 -> 0 | EB19: =+IF(DY19=0,"NO OFERTADO",IF(DY19<=($F19*(1+$GE$4)),"CUMPLE","NO CUMPLE")) -> NO OFERTADO | ED19: NO | EE19: CJAX100 | EF19: 3075 | EG19: 0 | EH19: =EF19+EG19 -> 3075 | EI19: =EH19*$D19 -> 3075 | EJ19: =+EI19*G19 -> 7063275 | EK19: =+IF(EH19=0,"NO OFERTADO",IF(EH19<=($F19*(1+$GE$4)),"CUMPLE","NO CUMPLE")) -> NO CUMPLE | EL19: CUMPLE | EM19: NO | EQ19: 0 | ER19: =EQ19*$D19 -> 0 | ES19: =+ER19*G19 -> 0 | ET19: =+IF(EQ19=0,"NO OFERTADO",IF(EQ19<=($F19*(1+$GE$4)),"CUMPLE","NO CUMPLE")) -> NO OFERTADO | EV19: NO | EW19: 0 | EX19: 0 | EY19: 0 | EZ19: 0 | FA19: =EZ19*$D19 -> 0 | FB19: =+FA19*G19 -> 0 | FC19: =+IF(EZ19=0,"NO OFERTADO",IF(EZ19<=($F19*(1+$GE$4)),"CUMPLE","NO CUMPLE")) -> NO OFERTADO | FE19: NO | FF19: 0 | FH19: 0 | FI19: 0 | FJ19: =FI19*$D19 -> 0 | FK19: =+FJ19*G19 -> 0 | FL19: =+IF(FI19=0,"NO OFERTADO",IF(FI19<=($F19*(1+$GE$4)),"CUMPLE","NO CUMPLE")) -> NO OFERTADO | FN19: NO | FR19: =FP19+FQ19 -> 0 | FS19: =FR19*$D19 -> 0 | FT19: =+FS19*G19 -> 0 | FU19: =+IF(FR19=0,"NO OFERTADO",IF(FR19<=($F19*(1+$GE$4)),"CUMPLE","NO CUMPLE")) -> NO OFERTADO | FV19: 0 | FW19: NO | GB19: =GA19*$D19 -> 0 | GC19: =+GB19*G19 -> 0 | GD19: =+IF(GA19=0,"NO OFERTADO",IF(GA19<=($F19*(1+$GE$4)),"CUMPLE","NO CUMPLE")) -> NO OFERTADO | GF19: NO
A20: 11 | B20: DM2340 | C20: APOSITO TRASPARENTE ESTERIL CON ALMOHADILLA ABSORVENTE 7 HASTA 9 X 5 HASTA 7 CM | D20: 1 | E20: UN | F20: 1983 | G20: 1 | H20: =+F20*G20 -> 1983 | K20: =+J20*0.19 -> 0 | L20: =+J20+K20 -> 0 | M20: =L20*$D20 -> 0 | N20: =+M20*G20 -> 0 | O20: =+IF(L20=0,"NO OFERTADO",IF(L20<=($F20*(1+$GE$4)),"CUMPLE","NO CUMPLE")) -> NO OFERTADO | Q20: NO | V20: =U20*$D20 -> 0 | W20: =+V20*G20 -> 0 | X20: =+IF(U20=0,"NO OFERTADO",IF(U20<=($F20*(1+$GE$4)),"CUMPLE","NO CUMPLE")) -> NO OFERTADO | Y20: 0 | Z20: NO | AA20: POR UNIDAD | AB20: 2028 | AC20: 0 | AD20: =+AB20+AC20 -> 2028 | AE20: =AD20*$D20 -> 2028 | AF20: =+AE20*G20 -> 2028 | AG20: =+IF(AD20=0,"NO OFERTADO",IF(AD20<=($F20*(1+$GE$4)),"CUMPLE","NO CUMPLE")) -> CUMPLE | AH20: NO CUMPLE | AI20: NO | AM20: =+AK20+AL20 -> 0 | AN20: =AM20*$D20 -> 0 | AO20: =+AN20*G20 -> 0 | AP20: =+IF(AM20=0,"NO OFERTADO",IF(AM20<=($F20*(1+$GE$4)),"CUMPLE","NO CUMPLE")) -> NO OFERTADO | AR20: NO | AV20: =AT20+AU20 -> 0 | AW20: =AV20*$D20 -> 0 | AX20: =+AW20*G20 -> 0 | AY20: =+IF(AV20=0,"NO OFERTADO",IF(AV20<=($F20*(1+$GE$4)),"CUMPLE","NO CUMPLE")) -> NO OFERTADO | BA20: NO | BE20: =BC20+BD20 -> 0 | BF20: =BE20*$D20 -> 0 | BG20: =+BF20*G20 -> 0 | BH20: =+IF(BE20=0,"NO OFERTADO",IF(BE20<=($F20*(1+$GE$4)),"CUMPLE","NO CUMPLE")) -> NO OFERTADO | BI20: 0 | BJ20: NO | BN20: =BL20+BM20 -> 0 | BO20: =BN20*$D20 -> 0 | BP20: =+BO20*G20 -> 0 | BQ20: =+IF(BN20=0,"NO OFERTADO",IF(BN20<=($F20*(1+$KI$4)),"CUMPLE","NO CUMPLE")) -> NO OFERTADO | BR20: =VLOOKUP(B20,'[1]ANEXO TECNICO'!$B$3:$P$334,15,0) -> 0 | BS20: NO | BT20: caja x 50 | BU20: 2697.7131 | BV20: 0 | BW20: =+BU20+BV20 -> 2697.7131 | BX20: =+BW20*D20 -> 2697.7131 | BY20: =+BX20*G20 -> 2697.7131 | BZ20: =+IF(BW20=0,"NO OFERTADO",IF(BW20<=($F20*(1+$GE$4)),"CUMPLE","NO CUMPLE")) -> NO CUMPLE | CA20: NO CUMPLE | CB20: NO | CF20: =CD20+CE20 -> 0 | CG20: =CF20*$D20 -> 0 | CH20: =+CG20*G20 -> 0 | CI20: =+IF(CF20=0,"NO OFERTADO",IF(CF20<=($F20*(1+$GE$4)),"CUMPLE","NO CUMPLE")) -> NO OFERTADO | CK20: NO | CO20: =CM20+CN20 -> 0 | CP20: =CO20*$D20 -> 0 | CQ20: =+CP20*G20 -> 0 | CR20: =+IF(CO20=0,"NO OFERTADO",IF(CO20<=($F20*(1+$GE$4)),"CUMPLE","NO CUMPLE")) -> NO OFERTADO | CT20: NO | CX20: =CV20+CW20 -> 0 | CY20: =CX20*$D20 -> 0 | CZ20: =+CY20*G20 -> 0 | DA20: =+IF(CX20=0,"NO OFERTADO",IF(CX20<=($F20*(1+$GE$4)),"CUMPLE","NO CUMPLE")) -> NO OFERTADO | DC20: NO | DD20: Caja 100 | DE20: 1002 | DF20: 0 | DG20: =DE20+DF20 -> 1002 | DH20: =DG20*$D20 -> 1002 | DI20: =+DH20*G20 -> 1002 | DJ20: =+IF(DG20=0,"NO OFERTADO",IF(DG20<=($F20*(1+$GE$4)),"CUMPLE","NO CUMPLE")) -> CUMPLE | DK20: CUMPLE | DL20: SI | DP20: 0 | DQ20: =+DP20*D20 -> 0 | DR20: =+DQ20*G20 -> 0 | DS20: =+IF(DP20=0,"NO OFERTADO",IF(DP20<=($F20*(1+$GE$4)),"CUMPLE","NO CUMPLE")) -> NO OFERTADO | DU20: NO | DY20: =DW20+DX20 -> 0 | DZ20: =DY20*$D20 -> 0 | EA20: =+DZ20*G20 -> 0 | EB20: =+IF(DY20=0,"NO OFERTADO",IF(DY20<=($F20*(1+$GE$4)),"CUMPLE","NO CUMPLE")) -> NO OFERTADO | ED20: NO | EE20: CJAX25 | EF20: 17763 | EG20: 0 | EH20: =EF20+EG20 -> 17763 | EI20: =EH20*$D20 -> 17763 | EJ20: =+EI20*G20 -> 17763 | EK20: =+IF(EH20=0,"NO OFERTADO",IF(EH20<=($F20*(1+$GE$4)),"CUMPLE","NO CUMPLE")) -> NO CUMPLE | EL20: CUMPLE | EM20: NO | EQ20: 0 | ER20: =EQ20*$D20 -> 0 | ES20: =+ER20*G20 -> 0 | ET20: =+IF(EQ20=0,"NO OFERTADO",IF(EQ20<=($F20*(1+$GE$4)),"CUMPLE","NO CUMPLE")) -> NO OFERTADO | EV20: NO | EW20: 0 | EX20: 0 | EY20: 0 | EZ20: 0 | FA20: =EZ20*$D20 -> 0 | FB20: =+FA20*G20 -> 0 | FC20: =+IF(EZ20=0,"NO OFERTADO",IF(EZ20<=($F20*(1+$GE$4)),"CUMPLE","NO CUMPLE")) -> NO OFERTADO | FE20: NO | FF20: 0 | FH20: 0 | FI20: 0 | FJ20: =FI20*$D20 -> 0 | FK20: =+FJ20*G20 -> 0 | FL20: =+IF(FI20=0,"NO OFERTADO",IF(FI20<=($F20*(1+$GE$4)),"CUMPLE","NO CUMPLE")) -> NO OFERTADO | FN20: NO | FR20: =FP20+FQ20 -> 0 | FS20: =FR20*$D20 -> 0 | FT20: =+FS20*G20 -> 0 | FU20: =+IF(FR20=0,"NO OFERTADO",IF(FR20<=($F20*(1+$GE$4)),"CUMPLE","NO CUMPLE")) -> NO OFERTADO | FV20: 0 | FW20: NO | FX20: CJX50 | FY20: 966 | FZ20: 0 | GA20: 966 | GB20: =GA20*$D20 -> 966 | GC20: =+GB20*G20 -> 966 | GD20: =+IF(GA20=0,"NO OFERTADO",IF(GA20<=($F20*(1+$GE$4)),"CUMPLE","NO CUMPLE")) -> CUMPLE | GE20: CUMPLE | GF20: SI
A21: 12 | B21: DM2341 | C21: ASA DE POLIPECTOMIA DESCARTABLE DE 10.15.25 CM X 2.4 A 2.8 MM DE DIAMETRO. LONGITUD DE TRABAJO DE 230 CM | D21: 1 | E21: UN | F21: 113050 | G21: 10 | H21: =+F21*G21 -> 1130500 | K21: =+J21*0.19 -> 0 | L21: =+J21+K21 -> 0 | M21: =L21*$D21 -> 0 | N21: =+M21*G21 -> 0 | O21: =+IF(L21=0,"NO OFERTADO",IF(L21<=($F21*(1+$GE$4)),"CUMPLE","NO CUMPLE")) -> NO OFERTADO | Q21: NO | V21: =U21*$D21 -> 0 | W21: =+V21*G21 -> 0 | X21: =+IF(U21=0,"NO OFERTADO",IF(U21<=($F21*(1+$GE$4)),"CUMPLE","NO CUMPLE")) -> NO OFERTADO | Y21: 0 | Z21: NO | AD21: =+AB21+AC21 -> 0 | AE21: =AD21*$D21 -> 0 | AF21: =+AE21*G21 -> 0 | AG21: =+IF(AD21=0,"NO OFERTADO",IF(AD21<=($F21*(1+$GE$4)),"CUMPLE","NO CUMPLE")) -> NO OFERTADO | AI21: NO | AM21: =+AK21+AL21 -> 0 | AN21: =AM21*$D21 -> 0 | AO21: =+AN21*G21 -> 0 | AP21: =+IF(AM21=0,"NO OFERTADO",IF(AM21<=($F21*(1+$GE$4)),"CUMPLE","NO CUMPLE")) -> NO OFERTADO | AR21: NO | AV21: =+AT21+AU21 -> 0 | AW21: =AV21*$D21 -> 0 | AX21: =+AW21*G21 -> 0 | AY21: =+IF(AV21=0,"NO OFERTADO",IF(AV21<=($F21*(1+$GE$4)),"CUMPLE","NO CUMPLE")) -> NO OFERTADO | BA21: NO | BE21: =BC21+BD21 -> 0 | BF21: =BE21*$D21 -> 0 | BG21: =+BF21*G21 -> 0 | BH21: =+IF(BE21=0,"NO OFERTADO",IF(BE21<=($F21*(1+$GE$4)),"CUMPLE","NO CUMPLE")) -> NO OFERTADO | BI21: 0 | BJ21: NO | BN21: =+BL21+BM21 -> 0 | BO21: =BN21*$D21 -> 0 | BP21: =+BO21*G21 -> 0 | BQ21: =+IF(BN21=0,"NO OFERTADO",IF(BN21<=($F21*(1+$KI$4)),"CUMPLE","NO CUMPLE")) -> NO OFERTADO | BR21: =VLOOKUP(B21,'[1]ANEXO TECNICO'!$B$3:$P$334,15,0) -> 0 | BS21: NO | BX21: 0 | BY21: =+BX21*G21 -> 0 | BZ21: =+IF(BW21=0,"NO OFERTADO",IF(BW21<=($F21*(1+$GE$4)),"CUMPLE","NO CUMPLE")) -> NO OFERTADO | CB21: NO | CE21: =+CD21*0.19 -> 0 | CF21: =+CD21+CE21 -> 0 | CG21: =CF21*$D21 -> 0 | CH21: =+CG21*G21 -> 0 | CI21: =+IF(CF21=0,"NO OFERTADO",IF(CF21<=($F21*(1+$GE$4)),"CUMPLE","NO CUMPLE")) -> NO OFERTADO | CK21: NO | CO21: =+CM21+CN21 -> 0 | CP21: =CO21*$D21 -> 0 | CQ21: =+CP21*G21 -> 0 | CR21: =+IF(CO21=0,"NO OFERTADO",IF(CO21<=($F21*(1+$GE$4)),"CUMPLE","NO CUMPLE")) -> NO OFERTADO | CT21: NO | CW21: =+CV21*0.19 -> 0 | CX21: =+CV21+CW21 -> 0 | CY21: =CX21*$D21 -> 0 | CZ21: =+CY21*G21 -> 0 | DA21: =+IF(CX21=0,"NO OFERTADO",IF(CX21<=($F21*(1+$GE$4)),"CUMPLE","NO CUMPLE")) -> NO OFERTADO | DC21: NO | DG21: =+DE21+DF21 -> 0 | DH21: =DG21*$D21 -> 0 | DI21: =+DH21*G21 -> 0 | DJ21: =+IF(DG21=0,"NO OFERTADO",IF(DG21<=($F21*(1+$GE$4)),"CUMPLE","NO CUMPLE")) -> NO OFERTADO | DL21: NO | DP21: 0 | DQ21: =+DP21*D21 -> 0 | DR21: =+DQ21*G21 -> 0 | DS21: =+IF(DP21=0,"NO OFERTADO",IF(DP21<=($F21*(1+$GE$4)),"CUMPLE","NO CUMPLE")) -> NO OFERTADO | DU21: NO | DY21: =+DW21+DX21 -> 0 | DZ21: =DY21*$D21 -> 0 | EA21: =+DZ21*G21 -> 0 | EB21: =+IF(DY21=0,"NO OFERTADO",IF(DY21<=($F21*(1+$GE$4)),"CUMPLE","NO CUMPLE")) -> NO OFERTADO | ED21: NO | EE21: . | EF21: 0 | EG21: 0 | EH21: =+EF21+EG21 -> 0 | EI21: =EH21*$D21 -> 0 | EJ21: =+EI21*G21 -> 0 | EK21: =+IF(EH21=0,"NO OFERTADO",IF(EH21<=($F21*(1+$GE$4)),"CUMPLE","NO CUMPLE")) -> NO OFERTADO | EM21: NO | EQ21: 0 | ER21: =EQ21*$D21 -> 0 | ES21: =+ER21*G21 -> 0 | ET21: =+IF(EQ21=0,"NO OFERTADO",IF(EQ21<=($F21*(1+$GE$4)),"CUMPLE","NO CUMPLE")) -> NO OFERTADO | EV21: NO | EW21: 0 | EX21: 0 | EY21: 0 | EZ21: 0 | FA21: =EZ21*$D21 -> 0 | FB21: =+FA21*G21 -> 0 | FC21: =+IF(EZ21=0,"NO OFERTADO",IF(EZ21<=($F21*(1+$GE$4)),"CUMPLE","NO CUMPLE")) -> NO OFERTADO | FE21: NO | FF21: 0 | FH21: 0 | FI21: 0 | FJ21: =FI21*$D21 -> 0 | FK21: =+FJ21*G21 -> 0 | FL21: =+IF(FI21=0,"NO OFERTADO",IF(FI21<=($F21*(1+$GE$4)),"CUMPLE","NO CUMPLE")) -> NO OFERTADO | FN21: NO | FR21: =+FP21+FQ21 -> 0 | FS21: =FR21*$D21 -> 0 | FT21: =+FS21*G21 -> 0 | FU21: =+IF(FR21=0,"NO OFERTADO",IF(FR21<=($F21*(1+$GE$4)),"CUMPLE","NO CUMPLE")) -> NO OFERTADO | FV21: 0 | FW21: NO | GB21: =GA21*$D21 -> 0 | GC21: =+GB21*G21 -> 0 | GD21: =+IF(GA21=0,"NO OFERTADO",IF(GA21<=($F21*(1+$GE$4)),"CUMPLE","NO CUMPLE")) -> NO OFERTADO | GF21: NO
A22: 13 | B22: DM2342 | C22: ASA POLIPECTOMIA HEXAGONAL | D22: 1 | E22: UN | F22: 113050 | G22: 1 | H22: =+F22*G22 -> 113050 | K22: =+J22*0.19 -> 0 | L22: =+J22+K22 -> 0 | M22: =L22*$D22 -> 0 | N22: =+M22*G22 -> 0 | O22: =+IF(L22=0,"NO OFERTADO",IF(L22<=($F22*(1+$GE$4)),"CUMPLE","NO CUMPLE")) -> NO OFERTADO | Q22: NO | V22: =U22*$D22 -> 0 | W22: =+V22*G22 -> 0 | X22: =+IF(U22=0,"NO OFERTADO",IF(U22<=($F22*(1+$GE$4)),"CUMPLE","NO CUMPLE")) -> NO OFERTADO | Y22: 0 | Z22: NO | AD22: =+AB22+AC22 -> 0 | AE22: =AD22*$D22 -> 0 | AF22: =+AE22*G22 -> 0 | AG22: =+IF(AD22=0,"NO OFERTADO",IF(AD22<=($F22*(1+$GE$4)),"CUMPLE","NO CUMPLE")) -> NO OFERTADO | AI22: NO | AM22: =+AK22+AL22 -> 0 | AN22: =AM22*$D22 -> 0 | AO22: =+AN22*G22 -> 0 | AP22: =+IF(AM22=0,"NO OFERTADO",IF(AM22<=($F22*(1+$GE$4)),"CUMPLE","NO CUMPLE")) -> NO OFERTADO | AR22: NO | AV22: =+AT22+AU22 -> 0 | AW22: =AV22*$D22 -> 0 | AX22: =+AW22*G22 -> 0 | AY22: =+IF(AV22=0,"NO OFERTADO",IF(AV22<=($F22*(1+$GE$4)),"CUMPLE","NO CUMPLE")) -> NO OFERTADO | BA22: NO | BE22: =BC22+BD22 -> 0 | BF22: =BE22*$D22 -> 0 | BG22: =+BF22*G22 -> 0 | BH22: =+IF(BE22=0,"NO OFERTADO",IF(BE22<=($F22*(1+$GE$4)),"CUMPLE","NO CUMPLE")) -> NO OFERTADO | BI22: 0 | BJ22: NO | BN22: =+BL22+BM22 -> 0 | BO22: =BN22*$D22 -> 0 | BP22: =+BO22*G22 -> 0 | BQ22: =+IF(BN22=0,"NO OFERTADO",IF(BN22<=($F22*(1+$KI$4)),"CUMPLE","NO CUMPLE")) -> NO OFERTADO | BR22: =VLOOKUP(B22,'[1]ANEXO TECNICO'!$B$3:$P$334,15,0) -> 0 | BS22: NO | BX22: 0 | BY22: =+BX22*G22 -> 0 | BZ22: =+IF(BW22=0,"NO OFERTADO",IF(BW22<=($F22*(1+$GE$4)),"CUMPLE","NO CUMPLE")) -> NO OFERTADO | CB22: NO | CE22: =+CD22*0.19 -> 0 | CF22: =+CD22+CE22 -> 0 | CG22: =CF22*$D22 -> 0 | CH22: =+CG22*G22 -> 0 | CI22: =+IF(CF22=0,"NO OFERTADO",IF(CF22<=($F22*(1+$GE$4)),"CUMPLE","NO CUMPLE")) -> NO OFERTADO | CK22: NO | CO22: =+CM22+CN22 -> 0 | CP22: =CO22*$D22 -> 0 | CQ22: =+CP22*G22 -> 0 | CR22: =+IF(CO22=0,"NO OFERTADO",IF(CO22<=($F22*(1+$GE$4)),"CUMPLE","NO CUMPLE")) -> NO OFERTADO | CT22: NO | CW22: =+CV22*0.19 -> 0 | CX22: =+CV22+CW22 -> 0 | CY22: =CX22*$D22 -> 0 | CZ22: =+CY22*G22 -> 0 | DA22: =+IF(CX22=0,"NO OFERTADO",IF(CX22<=($F22*(1+$GE$4)),"CUMPLE","NO CUMPLE")) -> NO OFERTADO | DC22: NO | DG22: =+DE22+DF22 -> 0 | DH22: =DG22*$D22 -> 0 | DI22: =+DH22*G22 -> 0 | DJ22: =+IF(DG22=0,"NO OFERTADO",IF(DG22<=($F22*(1+$GE$4)),"CUMPLE","NO CUMPLE")) -> NO OFERTADO | DL22: NO | DP22: 0 | DQ22: =+DP22*D22 -> 0 | DR22: =+DQ22*G22 -> 0 | DS22: =+IF(DP22=0,"NO OFERTADO",IF(DP22<=($F22*(1+$GE$4)),"CUMPLE","NO CUMPLE")) -> NO OFERTADO | DU22: NO | DY22: =+DW22+DX22 -> 0 | DZ22: =DY22*$D22 -> 0 | EA22: =+DZ22*G22 -> 0 | EB22: =+IF(DY22=0,"NO OFERTADO",IF(DY22<=($F22*(1+$GE$4)),"CUMPLE","NO CUMPLE")) -> NO OFERTADO | ED22: NO | EE22: . | EF22: 0 | EG22: 0 | EH22: =+EF22+EG22 -> 0 | EI22: =EH22*$D22 -> 0 | EJ22: =+EI22*G22 -> 0 | EK22: =+IF(EH22=0,"NO OFERTADO",IF(EH22<=($F22*(1+$GE$4)),"CUMPLE","NO CUMPLE")) -> NO OFERTADO | EM22: NO | EQ22: 0 | ER22: =EQ22*$D22 -> 0 | ES22: =+ER22*G22 -> 0 | ET22: =+IF(EQ22=0,"NO OFERTADO",IF(EQ22<=($F22*(1+$GE$4)),"CUMPLE","NO CUMPLE")) -> NO OFERTADO | EV22: NO | EW22: 0 | EX22: 0 | EY22: 0 | EZ22: 0 | FA22: =EZ22*$D22 -> 0 | FB22: =+FA22*G22 -> 0 | FC22: =+IF(EZ22=0,"NO OFERTADO",IF(EZ22<=($F22*(1+$GE$4)),"CUMPLE","NO CUMPLE")) -> NO OFERTADO | FE22: NO | FF22: 0 | FH22: 0 | FI22: 0 | FJ22: =FI22*$D22 -> 0 | FK22: =+FJ22*G22 -> 0 | FL22: =+IF(FI22=0,"NO OFERTADO",IF(FI22<=($F22*(1+$GE$4)),"CUMPLE","NO CUMPLE")) -> NO OFERTADO | FN22: NO | FR22: =+FP22+FQ22 -> 0 | FS22: =FR22*$D22 -> 0 | FT22: =+FS22*G22 -> 0 | FU22: =+IF(FR22=0,"NO OFERTADO",IF(FR22<=($F22*(1+$GE$4)),"CUMPLE","NO CUMPLE")) -> NO OFERTADO | FV22: 0 | FW22: NO | GB22: =GA22*$D22 -> 0 | GC22: =+GB22*G22 -> 0 | GD22: =+IF(GA22=0,"NO OFERTADO",IF(GA22<=($F22*(1+$GE$4)),"CUMPLE","NO CUMPLE")) -> NO OFERTADO | GF22: NO
