Workbook

Sheet REQUISITO 1 
A2: IDIGER-LIC-013-2022 “ADQUIRIR E INSTALAR EQUIPOS Y ELEMENTOS QUE REPOTENCIEN Y AMPLÍEN LA RED DE MONITOREO METEOROLÓGICA DE BOGOTÁ, CON EL FIN DE FORTALECER EL CONOCIMIENTO DEL RIESGO DE DESASTRES Y EFECTOS DEL CAMBIO CLIMÁTICO EN LA CIUDAD."
A3: VERIFICACION DE REQUISITO
A4: REQUISITO DEL PLIEGO NUMERAL 4.3 PROPUESTA ECONÓMICA, d. El valor de la propuesta debe estar ajustada al peso y no puede ser menor al 95% ni superior al 100% de la sumatoria de los valores unitarios del estudio del mercado estimado por el IDIGER, so pena e rechazo de la propuesta.
A5: PRESUPUESTO OFICIAL SUMATORIA DE LOS ITEMS $859.918.741,00 | C5: 95% DEL PRESUPUESTO OFICIAL SUMATORIA DE LOS ITEMS | F5: =859918741*95% -> 8.169228e+08 | G5: CONSOLIDADO | H5: OBSERVACIÓN
A6: PROPONENTE | C6: OFERTA ECONÓMICA SUMATORIA ITEMS | D6: CORRECCIÓN ARITMÉTICA | E6: CUMPLE | F6: NO CUMPLE
A7: 1 | B7: GECI ESPAÑOLA SUCURSAL COLOMBIA | C7: NA | D7: NA | H7: =+H9 -> Oferta rechazada Tecnicamente
A8: 2 | B8: ACERTA SAS | C8: =+'C ARIT'!G19 -> 832190800 | E8: X
A9: 3 | B9: Enviteck SAS | C9: NA | D9: NA | H9: Oferta rechazada Tecnicamente
B12: Pedro Sanchez | F12: Ruby Paola Cepeda Yanet
B13: Contratista – Oficina Asesora Jurídica | F13: Profesional Universitario 219-12 – Oficina Asesora Jurídica

Sheet REQUISITO  2
A2: =+'REQUISITO 1 '!A2:H2 -> IDIGER-LIC-013-2022 “ADQUIRIR E INSTALAR EQUIPOS Y ELEMENTOS QUE REPOTENCIEN Y AMPLÍEN LA RED DE MONITOREO METEOROLÓGICA DE BOGOTÁ, CON EL FIN DE FORTALECER EL CONOCIMIENTO DEL RIESGO DE DESASTRES Y EFECTOS DEL CAMBIO CLIMÁTICO EN LA CIUDAD."
A3: VERIFICACION DE REQUISITO
A4: REQUISITO DEL PLIEGO NUMERAL 4,3 PROPUESTA ECONÓMICA, Los valores unitarios de cada ítem no deberán ser menores al 95% ni mayor al 100% del valor arrojado de cada ítem, en el estudio de mercado. So pena de rechazo de la propuesta.
A5: Artículo | B5: Descripcion | C5: Cantidad | D5: unidad | E5: Precio Unitario Estimado Entidad (100%) | F5: 95% Del Valor Unitario Estimado por la Entidad | G5: Precio Unitario -ACERTA | H5: 1 | I5: 0.95
A6: 1 | B6: PLUVIÓMETRO CON CORRECCIÓN POR INTENSIDAD | C6: 8 | D6: un | E6: 14124364 | F6: =+E6*95% -> 13418146 | G6: 13800000 | H6: =+IF(E6>=G6,"CUMPLE","NO CUMPLE") -> CUMPLE | I6: =+IF(G6>=F6,"CUMPLE","NO CUMPLE") -> CUMPLE
A7: 2 | B7: SENSOR DE TEMPERATURA Y HUMEDAD DEL AIRE CON SU PANTALLA PROTECTORA | C7: 11 | D7: un | E7: 2936538 | F7: =+E7*95% -> 2789711.1 | G7: 2900000 | H7: =+IF(E7>=G7,"CUMPLE","NO CUMPLE") -> CUMPLE | I7: =+IF(G7>=F7,"CUMPLE","NO CUMPLE") -> CUMPLE
A8: 3 | B8: SENSOR DE DIRECCIÓN Y VELOCIDAD DEL VIENTO | C8: 16 | D8: un | E8: 14385182 | F8: =+E8*95% -> 13665923 | G8: 13700000 | H8: =+IF(E8>=G8,"CUMPLE","NO CUMPLE") -> CUMPLE | I8: =+IF(G8>=F8,"CUMPLE","NO CUMPLE") -> CUMPLE
A9: 4 | B9: SENSOR DE HUMEDAD RELATIVA INTERIORES | C9: 31 | D9: un | E9: 1458216 | F9: =+E9*95% -> 1385305.2 | G9: 1400000 | H9: =+IF(E9>=G9,"CUMPLE","NO CUMPLE") -> CUMPLE | I9: =+IF(G9>=F9,"CUMPLE","NO CUMPLE") -> CUMPLE
A10: 5 | B10: PANTALLA PROTECTORA PARA SENSORES DE TEMPERATURA Y HUMEDAD RELATIVA | C10: 11 | D10: un | E10: 1245474 | F10: =+E10*95% -> 1183200.3 | G10: 1200000 | H10: =+IF(E10>=G10,"CUMPLE","NO CUMPLE") -> CUMPLE | I10: =+IF(G10>=F10,"CUMPLE","NO CUMPLE") -> CUMPLE
A11: 6 | B11: PANELES SOLARES FOTOVOLTAICOS | C11: 9 | D11: un | E11: 773998 | F11: =+E11*95% -> 735298.1 | G11: 760000 | H11: =+IF(E11>=G11,"CUMPLE","NO CUMPLE") -> CUMPLE | I11: =+IF(G11>=F11,"CUMPLE","NO CUMPLE") -> CUMPLE
A12: 7 | B12: REGULADOR | C12: 4 | D12: un | E12: 679832 | F12: =+E12*95% -> 645840.4 | G12: 670000 | H12: =+IF(E12>=G12,"CUMPLE","NO CUMPLE") -> CUMPLE | I12: =+IF(G12>=F12,"CUMPLE","NO CUMPLE") -> CUMPLE
A13: 8 | B13: BATERIAS 100AH - 12 VDC | C13: 4 | D13: un | E13: 1469889 | F13: =+E13*95% -> 1396394.6 | G13: 1450000 | H13: =+IF(E13>=G13,"CUMPLE","NO CUMPLE") -> CUMPLE | I13: =+IF(G13>=F13,"CUMPLE","NO CUMPLE") -> CUMPLE
A14: 9 | B14: BATERIAS 9 AH - 12 VDC | C14: 32 | D14: un | E14: 322371 | F14: =+E14*95% -> 306252.45 | G14: 320000 | H14: =+IF(E14>=G14,"CUMPLE","NO CUMPLE") -> CUMPLE | I14: =+IF(G14>=F14,"CUMPLE","NO CUMPLE") -> CUMPLE
A15: 10 | B15: BATERIAS 80 AH - 12 VDC | C15: 8 | D15: un | E15: 1227479 | F15: =+E15*95% -> 1166105.1 | G15: 1220000 | H15: =+IF(E15>=G15,"CUMPLE","NO CUMPLE") -> CUMPLE | I15: =+IF(G15>=F15,"CUMPLE","NO CUMPLE") -> CUMPLE
A16: 11 | B16: MÁSTIL TELESCÓPICO (9 m) TIPO 1 | C16: 13 | D16: un | E16: 14158888 | F16: =+E16*95% -> 13450944 | G16: 13800000 | H16: =+IF(E16>=G16,"CUMPLE","NO CUMPLE") -> CUMPLE | I16: =+IF(G16>=F16,"CUMPLE","NO CUMPLE") -> CUMPLE
A17: 12 | B17: MÁSTIL TELESCÓPICO (3 m) TIPO 2 | C17: 11 | D17: un | E17: 7510399 | F17: =+E17*95% -> 7134879 | G17: 7300000 | H17: =+IF(E17>=G17,"CUMPLE","NO CUMPLE") -> CUMPLE | I17: =+IF(G17>=F17,"CUMPLE","NO CUMPLE") -> CUMPLE
B20: =+'REQUISITO 1 '!B12 -> Pedro Sanchez | F20: Ruby Paola Cepeda Yanet
B21: =+'REQUISITO 1 '!B13 -> Contratista – Oficina Asesora Jurídica | F21: Profesional Universitario 219-12 – Oficina Asesora Jurídica

Sheet C ARIT
A2: =+'REQUISITO 1 '!A2:H2 -> IDIGER-LIC-013-2022 “ADQUIRIR E INSTALAR EQUIPOS Y ELEMENTOS QUE REPOTENCIEN Y AMPLÍEN LA RED DE MONITOREO METEOROLÓGICA DE BOGOTÁ, CON EL FIN DE FORTALECER EL CONOCIMIENTO DEL RIESGO DE DESASTRES Y EFECTOS DEL CAMBIO CLIMÁTICO EN LA CIUDAD."
A3: VERIFICACION ECONOMICA
A5: Artículo | B5: Descripcion | C5: Cantidad | D5: unidad | E5: Precio Unitario Estimado Entidad | F5: Precio Unitario ACERTA | G5: Precio estimado ACERTA
A6: 1 | B6: PLUVIÓMETRO CON CORRECCIÓN POR INTENSIDAD | C6: 7 | D6: un | E6: 14124364 | F6: 13800000 | G6: =+C6*F6 -> 96600000
A7: 2 | B7: SENSOR DE TEMPERATURA Y HUMEDAD DEL AIRE CON SU PANTALLA PROTECTORA | C7: 11 | D7: un | E7: 2936538 | F7: 2900000 | G7: =+C7*F7 -> 31900000
A8: 3 | B8: SENSOR DE DIRECCIÓN Y VELOCIDAD DEL VIENTO | C8: 16 | D8: un | E8: 14385182 | F8: 13700000 | G8: =+C8*F8 -> 219200000
A9: 4 | B9: SENSOR DE HUMEDAD RELATIVA INTERIORES | C9: 31 | D9: un | E9: 1458216 | F9: 1400000 | G9: =+C9*F9 -> 43400000
A10: 5 | B10: PANTALLA PROTECTORA PARA SENSORES DE TEMPERATURA Y HUMEDAD RELATIVA | C10: 11 | D10: un | E10: 1245474 | F10: 1200000 | G10: =+C10*F10 -> 13200000
A11: 6 | B11: PANELES SOLARES FOTOVOLTAICOS | C11: 9 | D11: un | E11: 773998 | F11: 760000 | G11: =+C11*F11 -> 6840000
A12: 7 | B12: REGULADOR | C12: 4 | D12: un | E12: 679832 | F12: 670000 | G12: =+C12*F12 -> 2680000
A13: 8 | B13: BATERIAS 100AH - 12 VDC | C13: 4 | D13: un | E13: 1469889 | F13: 1450000 | G13: =+C13*F13 -> 5800000
A14: 9 | B14: BATERIAS 9 AH - 12 VDC | C14: 32 | D14: un | E14: 322371 | F14: 320000 | G14: =+C14*F14 -> 10240000
A15: 10 | B15: BATERIAS 80 AH - 12 VDC | C15: 8 | D15: un | E15: 1227479 | F15: 1220000 | G15: =+C15*F15 -> 9760000
A16: 11 | B16: MÁSTIL TELESCÓPICO (9 m) TIPO 1 | C16: 13 | D16: un | E16: 14158888 | F16: 13800000 | G16: =+C16*F16 -> 179400000
A17: 12 | B17: MÁSTIL TELESCÓPICO (3 m) TIPO 2 | C17: 11 | D17: un | E17: 7510399 | F17: 7300000 | G17: =+C17*F17 -> 80300000
A18: 13 | B18: IVA 19% | C18: 1 | D18: un | E18: 137297950 | G18: 132870800
A19: TOTAL DE LA PROPUESTA INCLUIDO IVA | G19: =SUM(G6:G18) -> 832190800
B21: =+'REQUISITO 1 '!B12 -> Pedro Sanchez | E21: =+'REQUISITO 2'!F20 -> Ruby Paola Cepeda Yanet
B22: =+'REQUISITO 1 '!B13 -> Contratista – Oficina Asesora Jurídica | E22: =+'REQUISITO 2'!F21 -> Profesional Universitario 219-12 – Oficina Asesora Jurídica

Sheet ECONOMICA TMR
A2: IDIGER-LIC-013-2022 “ADQUIRIR E INSTALAR EQUIPOS Y ELEMENTOS QUE REPOTENCIEN Y AMPLÍEN LA RED DE MONITOREO METEOROLÓGICA DE BOGOTÁ, CON EL FIN DE FORTALECER EL CONOCIMIENTO DEL RIESGO DE DESASTRES Y EFECTOS DEL CAMBIO CLIMÁTICO EN LA CIUDAD."
A3: EVALUACION ECONOMICA OFERTAS HABILITADAS
A5: El Instituto Distrital de Gestión de Riesgos y Cambio Climático - IDIGER, a partir del valor de las ofertas asignará máximo CUARENTA (40) PUNTOS de acuerdo con el valor total de la propuesta y conforme al siguiente procedimiento: - Una (1) sola propuesta habilitada: En el evento en que haya solamente una propuesta que cumpla con los criterios habilitantes previstos para el efecto, se verificará el cumplimiento de las condiciones establecidas en éste documento y si cumple con ellas, se le asignará el máximo puntaje estipulado. | E5: Número de Propuestas Hábiles | F5: 1
A6: PROPONENTE | C6: OFERTA ECONÓMICA SUMATORIA ITEMS | D6: CORRECCIÓN ARITMÉTICA | E6: ASIGNACIÓN DE PUNTAJE (MAX 40 PUNTOS)
B7: =+'REQUISITO 1 '!B8 -> ACERTA SAS | C7: =+'REQUISITO 1 '!C8 -> 832190800 | D7: =+C7 -> 832190800 | E7: 40 PUNTOS
B12: =+'C ARIT'!B21 -> Pedro Sanchez | E12: Ruby Paola Cepeda Yanet
B13: =+'REQUISITO 2'!B21 -> Contratista – Oficina Asesora Jurídica | E13: Profesional Universitario 219-12 – Oficina Asesora Jurídica

Sheet CONSOLIDADO ECONOMICA
A1: IDIGER-LIC-013-2022 “ADQUIRIR E INSTALAR EQUIPOS Y ELEMENTOS QUE REPOTENCIEN Y AMPLÍEN LA RED DE MONITOREO METEOROLÓGICA DE BOGOTÁ, CON EL FIN DE FORTALECER EL CONOCIMIENTO DEL RIESGO DEDESASTRES Y EFECTOS DEL CAMBIO CLIMÁTICO EN LA CIUDAD."
A2: EVALUACION ECONOMICA
A3: PROPONENTE | C3: PUNTOS
A4: 1 | B4: =+'REQUISITO 1 '!B7 -> GECI ESPAÑOLA SUCURSAL COLOMBIA | C4: NA
A5: 2 | B5: =+'REQUISITO 1 '!B8 -> ACERTA SAS | C5: =+'ECONOMICA TMR'!E7 -> 40 PUNTOS
A6: 3 | B6: =+'REQUISITO 1 '!B9 -> Enviteck SAS | C6: NA
B9: =+'ECONOMICA TMR'!$B$12 -> Pedro Sanchez | C9: Ruby Paola Cepeda Yanet
B10: =+'ECONOMICA TMR'!$B$13 -> Contratista – Oficina Asesora Jurídica | C10: Profesional Universitario 219-12 – Oficina Asesora Jurídica
