Workbook

Sheet REPUESTOS VEHICULOS
A5: LISTA DE PRECIOS SECCIONAL LA GUAJIRA
E6: COTIZACIÓN No.1 | F6: COTIZACIÓN No.2 | G6: COTIZACIÓN No.3 | H6: HISTORICOS DE CONTRATACIÓN | I6: MINIMO | J6: PROMEDIO | K6: VALORES SELECCIONADOS | M6: COTIZACIÓN No.1 | N6: COTIZACIÓN No.2 | O6: COTIZACIÓN No.3 | P6: HISTORICOS DE CONTRATACIÓN | Q6: MINIMO | R6: PROMEDIO | S6: VALORES SELECCIONADOS | U6: COTIZACIÓN No.1 | V6: COTIZACIÓN No.2 | W6: COTIZACIÓN No.3 | X6: HISTORICOS DE CONTRATACIÓN | Y6: MINIMO | Z6: PROMEDIO | AA6: VALORES SELECCIONADOS | AC6: COTIZACIÓN No.1 | AD6: COTIZACIÓN No.2 | AE6: COTIZACIÓN No.3 | AF6: HISTORICOS DE CONTRATACIÓN | AG6: MINIMO | AH6: PROMEDIO | AI6: VALORES SELECCIONADOS | AK6: COTIZACIÓN No.1 | AL6: COTIZACIÓN No.2 | AM6: COTIZACIÓN No.3 | AN6: HISTORICOS DE CONTRATACIÓN | AO6: MINIMO | AP6: PROMEDIO | AQ6: VALORES SELECCIONADOS | AS6: COTIZACIÓN No.1 | AT6: COTIZACIÓN No.2 | AU6: COTIZACIÓN No.3 | AV6: HISTORICOS DE CONTRATACIÓN | AW6: MINIMO | AX6: PROMEDIO | AY6: VALORES SELECCIONADOS | BA6: COTIZACIÓN No.1 | BB6: COTIZACIÓN No.2 | BC6: COTIZACIÓN No.3 | BD6: HISTORICOS DE CONTRATACIÓN | BE6: MINIMO | BF6: PROMEDIO | BG6: VALORES SELECCIONADOS | BI6: COTIZACIÓN No.1 | BJ6: COTIZACIÓN No.2 | BK6: COTIZACIÓN No.3 | BL6: HISTORICOS DE CONTRATACIÓN | BM6: MINIMO | BN6: PROMEDIO | BO6: VALORES SELECCIONADOS | BQ6: COTIZACIÓN No.1 | BR6: COTIZACIÓN No.2 | BS6: COTIZACIÓN No.3 | BT6: HISTORICOS DE CONTRATACIÓN | BU6: MINIMO | BV6: PROMEDIO | BW6: VALORES SELECCIONADOS | BY6: COTIZACIÓN No.1 | BZ6: COTIZACIÓN No.2 | CA6: COTIZACIÓN No.3 | CB6: HISTORICOS DE CONTRATACIÓN | CC6: MINIMO | CD6: PROMEDIO | CE6: VALORES SELECCIONADOS | CG6: COTIZACIÓN No.1 | CH6: COTIZACIÓN No.2 | CI6: COTIZACIÓN No.3 | CJ6: HISTORICOS DE CONTRATACIÓN | CK6: MINIMO | CL6: PROMEDIO | CM6: VALORES SELECCIONADOS | CO6: COTIZACIÓN No.1 | CP6: COTIZACIÓN No.2 | CQ6: COTIZACIÓN No.3 | CR6: HISTORICOS DE CONTRATACIÓN | CS6: MINIMO | CT6: PROMEDIO | CU6: VALORES SELECCIONADOS | CW6: COTIZACIÓN No.1 | CX6: COTIZACIÓN No.2 | CY6: COTIZACIÓN No.3 | CZ6: HISTORICOS DE CONTRATACIÓN | DA6: MINIMO | DB6: PROMEDIO | DC6: VALORES SELECCIONADOS | DE6: COTIZACIÓN No.1 | DF6: COTIZACIÓN No.2 | DG6: COTIZACIÓN No.3 | DH6: HISTORICOS DE CONTRATACIÓN | DI6: MINIMO | DJ6: PROMEDIO | DK6: VALORES SELECCIONADOS
A7: NECESIDAD CONTRATACÓN MULTIMARCA REUESTOS | E7: 1. REPUESTOS | F7: 1. REPUESTOS | G7: 1. REPUESTOS | H7: 1. REPUESTOS | I7: 1. REPUESTOS | J7: 1. REPUESTOS | K7: 1. REPUESTOS | M7: 2. REPUESTOS | N7: 2. REPUESTOS | O7: 2. REPUESTOS | P7: 2. REPUESTOS | Q7: 2. REPUESTOS | R7: 2. REPUESTOS | S7: 2. REPUESTOS | U7: 3. REPUESTOS | V7: 3. REPUESTOS | W7: 3. REPUESTOS | X7: 3. REPUESTOS | Y7: 3. REPUESTOS | Z7: 3. REPUESTOS | AA7: 3. REPUESTOS | AC7: 4. REPUESTOS | AD7: 4. REPUESTOS | AE7: 4. REPUESTOS | AF7: 4. REPUESTOS | AG7: 4. REPUESTOS | AH7: 4. REPUESTOS | AI7: 4. REPUESTOS | AK7: 5. REPUESTOS | AL7: 5. REPUESTOS | AM7: 5. REPUESTOS | AN7: 5. REPUESTOS | AO7: 5. REPUESTOS | AP7: 5. REPUESTOS | AQ7: 5. REPUESTOS | AS7: 6. REPUESTOS | AT7: 6. REPUESTOS | AU7: 6. REPUESTOS | AV7: 6. REPUESTOS | AW7: 6. REPUESTOS | AX7: 6. REPUESTOS | AY7: 6. REPUESTOS | BA7: 7. REPUESTOS | BB7: 7. REPUESTOS | BC7: 7. REPUESTOS | BD7: 7. REPUESTOS | BE7: 7. REPUESTOS | BF7: 7. REPUESTOS | BG7: 7. REPUESTOS | BI7: 8. REPUESTOS | BJ7: 8. REPUESTOS | BK7: 8. REPUESTOS | BL7: 8. REPUESTOS | BM7: 8. REPUESTOS | BN7: 8. REPUESTOS | BO7: 8. REPUESTOS | BQ7: 9. REPUESTOS | BR7: 9. REPUESTOS | BS7: 9. REPUESTOS | BT7: 9. REPUESTOS | BU7: 9. REPUESTOS | BV7: 9. REPUESTOS | BW7: 9. REPUESTOS | BY7: 10. REPUESTOS | BZ7: 10. REPUESTOS | CA7: 10. REPUESTOS | CB7: 10. REPUESTOS | CC7: 10. REPUESTOS | CD7: 10. REPUESTOS | CE7: 10. REPUESTOS | CG7: 11. REPUESTOS | CH7: 11. REPUESTOS | CI7: 11. REPUESTOS | CJ7: 11. REPUESTOS | CK7: 11. REPUESTOS | CL7: 11. REPUESTOS | CM7: 11. REPUESTOS | CO7: 12. REPUESTOS | CP7: 12. REPUESTOS | CQ7: 12. REPUESTOS | CR7: 12. REPUESTOS | CS7: 12. REPUESTOS | CT7: 12. REPUESTOS | CU7: 12. REPUESTOS | CW7: 13. REPUESTOS | CX7: 13. REPUESTOS | CY7: 13. REPUESTOS | CZ7: 13. REPUESTOS | DA7: 13. REPUESTOS | DB7: 13. REPUESTOS | DC7: 13. REPUESTOS | DE7: 14. REPUESTOS | DF7: 14. REPUESTOS | DG7: 14. REPUESTOS | DH7: 14. REPUESTOS | DI7: 14. REPUESTOS | DJ7: 14. REPUESTOS | DK7: 14. REPUESTOS
A9: NOMBRE DEL ACTIVO | E9: CAMIONETA | F9: CAMIONETA | G9: CAMIONETA | H9: CAMIONETA | I9: CAMIONETA | J9: CAMIONETA | K9: CAMIONETA | M9: CAMIONETA | N9: CAMIONETA | O9: CAMIONETA | P9: CAMIONETA | Q9: CAMIONETA | R9: CAMIONETA | S9: CAMIONETA | U9: AUTOMÓVIL | V9: AUTOMÓVIL | W9: AUTOMÓVIL | X9: AUTOMÓVIL | Y9: AUTOMÓVIL | Z9: AUTOMÓVIL | AA9: AUTOMÓVIL | AC9: CAMIONETA | AD9: CAMIONETA | AE9: CAMIONETA | AF9: CAMIONETA | AG9: CAMIONETA | AH9: CAMIONETA | AI9: CAMIONETA | AK9: AUTOMÓVIL | AL9: AUTOMÓVIL | AM9: AUTOMÓVIL | AN9: AUTOMÓVIL | AO9: AUTOMÓVIL | AP9: AUTOMÓVIL | AQ9: AUTOMÓVIL | AS9: CAMIONETA | AT9: CAMIONETA | AU9: CAMIONETA | AV9: CAMIONETA | AW9: CAMIONETA | AX9: CAMIONETA | AY9: CAMIONETA | BA9: CAMIONETA | BB9: CAMIONETA | BC9: CAMIONETA | BD9: CAMIONETA | BE9: CAMIONETA | BF9: CAMIONETA | BG9: CAMIONETA | BI9: CAMIONETA | BJ9: CAMIONETA | BK9: CAMIONETA | BL9: CAMIONETA | BM9: CAMIONETA | BN9: CAMIONETA | BO9: CAMIONETA | BQ9: CAMIONETA | BR9: CAMIONETA | BS9: CAMIONETA | BT9: CAMIONETA | BU9: CAMIONETA | BV9: CAMIONETA | BW9: CAMIONETA | BY9: CAMIONETA | BZ9: CAMIONETA | CA9: CAMIONETA | CB9: CAMIONETA | CC9: CAMIONETA | CD9: CAMIONETA | CE9: CAMIONETA | CG9: CAMIONETA | CH9: CAMIONETA | CI9: CAMIONETA | CJ9: CAMIONETA | CK9: CAMIONETA | CL9: CAMIONETA | CM9: CAMIONETA | CO9: CAMIONETA | CP9: CAMIONETA | CQ9: CAMIONETA | CR9: CAMIONETA | CS9: CAMIONETA | CT9: CAMIONETA | CU9: CAMIONETA | CW9: CAMIONETA | CX9: CAMIONETA | CY9: CAMIONETA | CZ9: CAMIONETA | DA9: CAMIONETA | DB9: CAMIONETA | DC9: CAMIONETA | DE9: CAMPERO | DF9: CAMPERO | DG9: CAMPERO | DH9: CAMPERO | DI9: CAMPERO | DJ9: CAMPERO | DK9: CAMPERO
A10: MARCA | E10: CHARY | F10: CHARY | G10: CHARY | H10: CHARY | I10: CHARY | J10: CHARY | K10: CHARY | M10: CHEVROLET | N10: CHEVROLET | O10: CHEVROLET | P10: CHEVROLET | Q10: CHEVROLET | R10: CHEVROLET | S10: CHEVROLET | U10: CHEVROLET | V10: CHEVROLET | W10: CHEVROLET | X10: CHEVROLET | Y10: CHEVROLET | Z10: CHEVROLET | AA10: CHEVROLET | AC10: FORD | AD10: FORD | AE10: FORD | AF10: FORD | AG10: FORD | AH10: FORD | AI10: FORD | AK10: FORD | AL10: FORD | AM10: FORD | AN10: FORD | AO10: FORD | AP10: FORD | AQ10: FORD | AS10: HYUNDAI | AT10: HYUNDAI | AU10: HYUNDAI | AV10: HYUNDAI | AW10: HYUNDAI | AX10: HYUNDAI | AY10: HYUNDAI | BA10: MAZDA | BB10: MAZDA | BC10: MAZDA | BD10: MAZDA | BE10: MAZDA | BF10: MAZDA | BG10: MAZDA | BI10: NISSAN | BJ10: NISSAN | BK10: NISSAN | BL10: NISSAN | BM10: NISSAN | BN10: NISSAN | BO10: NISSAN | BQ10: NISSAN | BR10: NISSAN | BS10: NISSAN | BT10: NISSAN | BU10: NISSAN | BV10: NISSAN | BW10: NISSAN | BY10: NISSAN | BZ10: NISSAN | CA10: NISSAN | CB10: NISSAN | CC10: NISSAN | CD10: NISSAN | CE10: NISSAN | CG10: NISSAN | CH10: NISSAN | CI10: NISSAN | CJ10: NISSAN | CK10: NISSAN | CL10: NISSAN | CM10: NISSAN | CO10: NISSAN | CP10: NISSAN | CQ10: NISSAN | CR10: NISSAN | CS10: NISSAN | CT10: NISSAN | CU10: NISSAN | CW10: NISSAN | CX10: NISSAN | CY10: NISSAN | CZ10: NISSAN | DA10: NISSAN | DB10: NISSAN | DC10: NISSAN | DE10: RENAULT | DF10: RENAULT | DG10: RENAULT | DH10: RENAULT | DI10: RENAULT | DJ10: RENAULT | DK10: RENAULT
A11: LÍNEA | C11: CANTIDAD | E11: TIGGO SQR7200 (1) | F11: TIGGO SQR7200 (1) | G11: TIGGO SQR7200 (1) | H11: TIGGO SQR7200 (1) | I11: TIGGO SQR7200 (1) | J11: TIGGO SQR7200 (1) | K11: TIGGO SQR7200 (1) | M11: LUV D-MAX (5) | N11: LUV D-MAX (5) | O11: LUV D-MAX (5) | P11: LUV D-MAX (5) | Q11: LUV D-MAX (5) | R11: LUV D-MAX (5) | S11: LUV D-MAX (5) | U11: SONIC (1) | V11: SONIC (1) | W11: SONIC (1) | X11: SONIC (1) | Y11: SONIC (1) | Z11: SONIC (1) | AA11: SONIC (1) | AC11: RANGER (4) | AD11: RANGER (4) | AE11: RANGER (4) | AF11: RANGER (4) | AG11: RANGER (4) | AH11: RANGER (4) | AI11: RANGER (4) | AK11: FIESTA (1) | AL11: FIESTA (1) | AM11: FIESTA (1) | AN11: FIESTA (1) | AO11: FIESTA (1) | AP11: FIESTA (1) | AQ11: FIESTA (1) | AS11: TUCSON iX35 GL (1) | AT11: TUCSON iX35 GL (1) | AU11: TUCSON iX35 GL (1) | AV11: TUCSON iX35 GL (1) | AW11: TUCSON iX35 GL (1) | AX11: TUCSON iX35 GL (1) | AY11: TUCSON iX35 GL (1) | BA11: BT 50 (4) | BB11: BT 50 (4) | BC11: BT 50 (4) | BD11: BT 50 (4) | BE11: BT 50 (4) | BF11: BT 50 (4) | BG11: BT 50 (4) | BI11: FRONTIER D22 (5) | BJ11: FRONTIER D22 (5) | BK11: FRONTIER D22 (5) | BL11: FRONTIER D22 (5) | BM11: FRONTIER D22 (5) | BN11: FRONTIER D22 (5) | BO11: FRONTIER D22 (5) | BQ11: FRONTIER D22 (1) | BR11: FRONTIER D22 (1) | BS11: FRONTIER D22 (1) | BT11: FRONTIER D22 (1) | BU11: FRONTIER D22 (1) | BV11: FRONTIER D22 (1) | BW11: FRONTIER D22 (1) | BY11: CASBSTAR (1) | BZ11: CASBSTAR (1) | CA11: CASBSTAR (1) | CB11: CASBSTAR (1) | CC11: CASBSTAR (1) | CD11: CASBSTAR (1) | CE11: CASBSTAR (1) | CG11: NAVARA (1) | CH11: NAVARA (1) | CI11: NAVARA (1) | CJ11: NAVARA (1) | CK11: NAVARA (1) | CL11: NAVARA (1) | CM11: NAVARA (1) | CO11: QASHQAI (1) | CP11: QASHQAI (1) | CQ11: QASHQAI (1) | CR11: QASHQAI (1) | CS11: QASHQAI (1) | CT11: QASHQAI (1) | CU11: QASHQAI (1) | CW11: D22 ESTACA AWSULCF (1) | CX11: D22 ESTACA AWSULCF (1) | CY11: D22 ESTACA AWSULCF (1) | CZ11: D22 ESTACA AWSULCF (1) | DA11: D22 ESTACA AWSULCF (1) | DB11: D22 ESTACA AWSULCF (1) | DC11: D22 ESTACA AWSULCF (1) | DE11: DUSTER (7) | DF11: DUSTER (7) | DG11: DUSTER (7) | DH11: DUSTER (7) | DI11: DUSTER (7) | DJ11: DUSTER (7) | DK11: DUSTER (7)
A12: MODELO | E12: 2015 | F12: 2015 | G12: 2015 | H12: 2015 | I12: 2015 | J12: 2015 | K12: 2015 | M12: 2008 A 2016 | N12: 2008 A 2016 | O12: 2008 A 2016 | P12: 2008 A 2016 | Q12: 2008 A 2016 | R12: 2008 A 2016 | S12: 2008 A 2016 | U12: 2016 | V12: 2016 | W12: 2016 | X12: 2016 | Y12: 2016 | Z12: 2016 | AA12: 2016 | AC12: 2012-2019 | AD12: 2012-2019 | AE12: 2012-2019 | AF12: 2012-2019 | AG12: 2012-2019 | AH12: 2012-2019 | AI12: 2012-2019 | AK12: 2012 | AL12: 2012 | AM12: 2012 | AN12: 2012 | AO12: 2012 | AP12: 2012 | AQ12: 2012 | AS12: 2012 | AT12: 2012 | AU12: 2012 | AV12: 2012 | AW12: 2012 | AX12: 2012 | AY12: 2012 | BA12: 2013 | BB12: 2013 | BC12: 2013 | BD12: 2013 | BE12: 2013 | BF12: 2013 | BG12: 2013 | BI12: 2012-2013-2017 | BJ12: 2012-2013-2017 | BK12: 2012-2013-2017 | BL12: 2012-2013-2017 | BM12: 2012-2013-2017 | BN12: 2012-2013-2017 | BO12: 2012-2013-2017 | BQ12: 2017-2020-2022 | BR12: 2017-2020-2022 | BS12: 2017-2020-2022 | BT12: 2017-2020-2022 | BU12: 2017-2020-2022 | BV12: 2017-2020-2022 | BW12: 2017-2020-2022 | BY12: 2017 | BZ12: 2017 | CA12: 2017 | CB12: 2017 | CC12: 2017 | CD12: 2017 | CE12: 2017 | CG12: 2014 | CH12: 2014 | CI12: 2014 | CJ12: 2014 | CK12: 2014 | CL12: 2014 | CM12: 2014 | CO12: 2013 | CP12: 2013 | CQ12: 2013 | CR12: 2013 | CS12: 2013 | CT12: 2013 | CU12: 2013 | CW12: 2008 | CX12: 2008 | CY12: 2008 | CZ12: 2008 | DA12: 2008 | DB12: 2008 | DC12: 2008 | DE12: 2015-2016-2017-2018 | DF12: 2015-2016-2017-2018 | DG12: 2015-2016-2017-2018 | DH12: 2015-2016-2017-2018 | DI12: 2015-2016-2017-2018 | DJ12: 2015-2016-2017-2018 | DK12: 2015-2016-2017-2018
A13: MUTIMARCA CAMIONETAS Y AUTOMÓVILES | E13: COSTO REPUESTO (S) | F13: COSTO REPUESTO (S) | G13: COSTO REPUESTO (S) | H13: COSTO REPUESTO (S) | I13: COSTO REPUESTO (S) | J13: COSTO REPUESTO (S) | K13: COSTO REPUESTO (S) | M13: COSTO REPUESTO (S) | N13: COSTO REPUESTO (S) | O13: COSTO REPUESTO (S) | P13: COSTO REPUESTO (S) | Q13: COSTO REPUESTO (S) | R13: COSTO REPUESTO (S) | S13: COSTO REPUESTO (S) | U13: COSTO REPUESTO (S) | V13: COSTO REPUESTO (S) | W13: COSTO REPUESTO (S) | X13: COSTO REPUESTO (S) | Y13: COSTO REPUESTO (S) | Z13: COSTO REPUESTO (S) | AA13: COSTO REPUESTO (S) | AC13: COSTO REPUESTO (S) | AD13: COSTO REPUESTO (S) | AE13: COSTO REPUESTO (S) | AF13: COSTO REPUESTO (S) | AG13: COSTO REPUESTO (S) | AH13: COSTO REPUESTO (S) | AI13: COSTO REPUESTO (S) | AK13: COSTO REPUESTO (S) | AL13: COSTO REPUESTO (S) | AM13: COSTO REPUESTO (S) | AN13: COSTO REPUESTO (S) | AO13: COSTO REPUESTO (S) | AP13: COSTO REPUESTO (S) | AQ13: COSTO REPUESTO (S) | AS13: COSTO REPUESTO (S) | AT13: COSTO REPUESTO (S) | AU13: COSTO REPUESTO (S) | AV13: COSTO REPUESTO (S) | AW13: COSTO REPUESTO (S) | AX13: COSTO REPUESTO (S) | AY13: COSTO REPUESTO (S) | BA13: COSTO REPUESTO (S) | BB13: COSTO REPUESTO (S) | BC13: COSTO REPUESTO (S) | BD13: COSTO REPUESTO (S) | BE13: COSTO REPUESTO (S) | BF13: COSTO REPUESTO (S) | BG13: COSTO REPUESTO (S) | BI13: COSTO REPUESTO (S) | BJ13: COSTO REPUESTO (S) | BK13: COSTO REPUESTO (S) | BL13: COSTO REPUESTO (S) | BM13: COSTO REPUESTO (S) | BN13: COSTO REPUESTO (S) | BO13: COSTO REPUESTO (S) | BQ13: COSTO REPUESTO (S) | BR13: COSTO REPUESTO (S) | BS13: COSTO REPUESTO (S) | BT13: COSTO REPUESTO (S) | BU13: COSTO REPUESTO (S) | BV13: COSTO REPUESTO (S) | BW13: COSTO REPUESTO (S) | BY13: COSTO REPUESTO (S) | BZ13: COSTO REPUESTO (S) | CA13: COSTO REPUESTO (S) | CB13: COSTO REPUESTO (S) | CC13: COSTO REPUESTO (S) | CD13: COSTO REPUESTO (S) | CE13: COSTO REPUESTO (S) | CG13: COSTO REPUESTO (S) | CH13: COSTO REPUESTO (S) | CI13: COSTO REPUESTO (S) | CJ13: COSTO REPUESTO (S) | CK13: COSTO REPUESTO (S) | CL13: COSTO REPUESTO (S) | CM13: COSTO REPUESTO (S) | CO13: COSTO REPUESTO (S) | CP13: COSTO REPUESTO (S) | CQ13: COSTO REPUESTO (S) | CR13: COSTO REPUESTO (S) | CS13: COSTO REPUESTO (S) | CT13: COSTO REPUESTO (S) | CU13: COSTO REPUESTO (S) | CW13: COSTO REPUESTO (S) | CX13: COSTO REPUESTO (S) | CY13: COSTO REPUESTO (S) | CZ13: COSTO REPUESTO (S) | DA13: COSTO REPUESTO (S) | DB13: COSTO REPUESTO (S) | DC13: COSTO REPUESTO (S) | DE13: COSTO REPUESTO (S) | DF13: COSTO REPUESTO (S) | DG13: COSTO REPUESTO (S) | DH13: COSTO REPUESTO (S) | DI13: COSTO REPUESTO (S) | DJ13: COSTO REPUESTO (S) | DK13: COSTO REPUESTO (S)
E14: VALOR UNITARIO INCLUIDO IVA | F14: VALOR UNITARIO INCLUIDO IVA | G14: VALOR UNITARIO INCLUIDO IVA | H14: VALOR UNITARIO INCLUIDO IVA | I14: VALOR UNITARIO INCLUIDO IVA | J14: VALOR UNITARIO INCLUIDO IVA | K14: VALOR UNITARIO INCLUIDO IVA | M14: VALOR UNITARIO INCLUIDO IVA | N14: VALOR UNITARIO INCLUIDO IVA | O14: VALOR UNITARIO INCLUIDO IVA | P14: VALOR UNITARIO INCLUIDO IVA | Q14: VALOR UNITARIO INCLUIDO IVA | R14: VALOR UNITARIO INCLUIDO IVA | S14: VALOR UNITARIO INCLUIDO IVA | U14: VALOR UNITARIO INCLUIDO IVA | V14: VALOR UNITARIO INCLUIDO IVA | W14: VALOR UNITARIO INCLUIDO IVA | X14: VALOR UNITARIO INCLUIDO IVA | Y14: VALOR UNITARIO INCLUIDO IVA | Z14: VALOR UNITARIO INCLUIDO IVA | AA14: VALOR UNITARIO INCLUIDO IVA | AC14: VALOR UNITARIO INCLUIDO IVA | AD14: VALOR UNITARIO INCLUIDO IVA | AE14: VALOR UNITARIO INCLUIDO IVA | AF14: VALOR UNITARIO INCLUIDO IVA | AG14: VALOR UNITARIO INCLUIDO IVA | AH14: VALOR UNITARIO INCLUIDO IVA | AI14: VALOR UNITARIO INCLUIDO IVA | AK14: VALOR UNITARIO INCLUIDO IVA | AL14: VALOR UNITARIO INCLUIDO IVA | AM14: VALOR UNITARIO INCLUIDO IVA | AN14: VALOR UNITARIO INCLUIDO IVA | AO14: VALOR UNITARIO INCLUIDO IVA | AP14: VALOR UNITARIO INCLUIDO IVA | AQ14: VALOR UNITARIO INCLUIDO IVA | AS14: VALOR UNITARIO INCLUIDO IVA | AT14: VALOR UNITARIO INCLUIDO IVA | AU14: VALOR UNITARIO INCLUIDO IVA | AV14: VALOR UNITARIO INCLUIDO IVA | AW14: VALOR UNITARIO INCLUIDO IVA | AX14: VALOR UNITARIO INCLUIDO IVA | AY14: VALOR UNITARIO INCLUIDO IVA | BA14: VALOR UNITARIO INCLUIDO IVA | BB14: VALOR UNITARIO INCLUIDO IVA | BC14: VALOR UNITARIO INCLUIDO IVA | BD14: VALOR UNITARIO INCLUIDO IVA | BE14: VALOR UNITARIO INCLUIDO IVA | BF14: VALOR UNITARIO INCLUIDO IVA | BG14: VALOR UNITARIO INCLUIDO IVA | BI14: VALOR UNITARIO INCLUIDO IVA | BJ14: VALOR UNITARIO INCLUIDO IVA | BK14: VALOR UNITARIO INCLUIDO IVA | BL14: VALOR UNITARIO INCLUIDO IVA | BM14: VALOR UNITARIO INCLUIDO IVA | BN14: VALOR UNITARIO INCLUIDO IVA | BO14: VALOR UNITARIO INCLUIDO IVA | BQ14: VALOR UNITARIO INCLUIDO IVA | BR14: VALOR UNITARIO INCLUIDO IVA | BS14: VALOR UNITARIO INCLUIDO IVA | BT14: VALOR UNITARIO INCLUIDO IVA | BU14: VALOR UNITARIO INCLUIDO IVA | BV14: VALOR UNITARIO INCLUIDO IVA | BW14: VALOR UNITARIO INCLUIDO IVA | BY14: VALOR UNITARIO INCLUIDO IVA | BZ14: VALOR UNITARIO INCLUIDO IVA | CA14: VALOR UNITARIO INCLUIDO IVA | CB14: VALOR UNITARIO INCLUIDO IVA | CC14: VALOR UNITARIO INCLUIDO IVA | CD14: VALOR UNITARIO INCLUIDO IVA | CE14: VALOR UNITARIO INCLUIDO IVA | CG14: VALOR UNITARIO INCLUIDO IVA | CH14: VALOR UNITARIO INCLUIDO IVA | CI14: VALOR UNITARIO INCLUIDO IVA | CJ14: VALOR UNITARIO INCLUIDO IVA | CK14: VALOR UNITARIO INCLUIDO IVA | CL14: VALOR UNITARIO INCLUIDO IVA | CM14: VALOR UNITARIO INCLUIDO IVA | CO14: VALOR UNITARIO INCLUIDO IVA | CP14: VALOR UNITARIO INCLUIDO IVA | CQ14: VALOR UNITARIO INCLUIDO IVA | CR14: VALOR UNITARIO INCLUIDO IVA | CS14: VALOR UNITARIO INCLUIDO IVA | CT14: VALOR UNITARIO INCLUIDO IVA | CU14: VALOR UNITARIO INCLUIDO IVA | CW14: VALOR UNITARIO INCLUIDO IVA | CX14: VALOR UNITARIO INCLUIDO IVA | CY14: VALOR UNITARIO INCLUIDO IVA | CZ14: VALOR UNITARIO INCLUIDO IVA | DA14: VALOR UNITARIO INCLUIDO IVA | DB14: VALOR UNITARIO INCLUIDO IVA | DC14: VALOR UNITARIO INCLUIDO IVA | DE14: VALOR UNITARIO INCLUIDO IVA | DF14: VALOR UNITARIO INCLUIDO IVA | DG14: VALOR UNITARIO INCLUIDO IVA | DH14: VALOR UNITARIO INCLUIDO IVA | DI14: VALOR UNITARIO INCLUIDO IVA | DJ14: VALOR UNITARIO INCLUIDO IVA | DK14: VALOR UNITARIO INCLUIDO IVA
A15: ÌTEM | B15: SISTEMA DE FRENOS
A16: 1 | B16: Juego de Bandas Remachadas (Dos pares) | C16: 1 | E16: 202867.67 | H16: 118038.59 | I16: =+IF(E16="N/A","N/A",MIN(E16:H16)) -> 118038.59 | J16: =+IF(E16="N/A","N/A",ROUND(AVERAGE(E16:H16),0)) -> 160453 | K16: =+IF(I16="N/A","N/A",AVERAGE(I16:J16)) -> 139245.79 | M16: 202867.67 | P16: 91504.953 | Q16: =+IF(M16="N/A","N/A",MIN(M16:P16)) -> 91504.953 | R16: =+IF(M16="N/A","N/A",ROUND(AVERAGE(M16:P16),0)) -> 147186 | S16: =+IF(Q16="N/A","N/A",AVERAGE(Q16:R16)) -> 119345.48 | X16: 116412.04 | Y16: =+IF(U16="N/A","N/A",MIN(U16:X16)) -> 116412.04 | Z16: =+IF(U16="N/A","N/A",ROUND(AVERAGE(U16:X16),0)) -> 116412 | AA16: =+IF(Y16="N/A","N/A",AVERAGE(Y16:Z16)) -> 116412.02 | AC16: 221879.51 | AF16: 93724.121 | AG16: =+IF(AC16="N/A","N/A",MIN(AC16:AF16)) -> 93724.121 | AH16: =+IF(AC16="N/A","N/A",ROUND(AVERAGE(AC16:AF16),0)) -> 157802 | AI16: =+IF(AG16="N/A","N/A",AVERAGE(AG16:AH16)) -> 125763.06 | AK16: 184907.79 | AN16: 129806.43 | AO16: =+IF(AK16="N/A","N/A",MIN(AK16:AN16)) -> 129806.43 | AP16: =+IF(AK16="N/A","N/A",ROUND(AVERAGE(AK16:AN16),0)) -> 157357 | AQ16: =+IF(AO16="N/A","N/A",AVERAGE(AO16:AP16)) -> 143581.72 | AV16: 89758.401 | AW16: =+IF(AS16="N/A","N/A",MIN(AS16:AV16)) -> 89758.401 | AX16: =+IF(AS16="N/A","N/A",ROUND(AVERAGE(AS16:AV16),0)) -> 89758 | AY16: =+IF(AW16="N/A","N/A",AVERAGE(AW16:AX16)) -> 89758.201 | BA16: 224717.03 | BD16: 96881.782 | BE16: =+IF(BA16="N/A","N/A",MIN(BA16:BD16)) -> 96881.782 | BF16: =+IF(BA16="N/A","N/A",ROUND(AVERAGE(BA16:BD16),0)) -> 160799 | BG16: =+IF(BE16="N/A","N/A",AVERAGE(BE16:BF16)) -> 128840.39 | BI16: 226896 | BL16: 141406.04 | BM16: =+IF(BI16="N/A","N/A",MIN(BI16:BL16)) -> 141406.04 | BN16: =+IF(BI16="N/A","N/A",ROUND(AVERAGE(BI16:BL16),0)) -> 184151 | BO16: =+IF(BM16="N/A","N/A",AVERAGE(BM16:BN16)) -> 162778.52 | BQ16: 226896 | BT16: 143173.17 | BU16: =+IF(BQ16="N/A","N/A",MIN(BQ16:BT16)) -> 143173.17 | BV16: =+IF(BQ16="N/A","N/A",ROUND(AVERAGE(BQ16:BT16),0)) -> 185035 | BW16: =+IF(BU16="N/A","N/A",AVERAGE(BU16:BV16)) -> 164104.08 | CB16: 141406.04 | CC16: =+IF(BY16="N/A","N/A",MIN(BY16:CB16)) -> 141406.04 | CD16: =+IF(BY16="N/A","N/A",ROUND(AVERAGE(BY16:CB16),0)) -> 141406 | CE16: =+IF(CC16="N/A","N/A",AVERAGE(CC16:CD16)) -> 141406.02 | CG16: 226896 | CJ16: 141406.04 | CK16: =+IF(CG16="N/A","N/A",MIN(CG16:CJ16)) -> 141406.04 | CL16: =+IF(CG16="N/A","N/A",ROUND(AVERAGE(CG16:CJ16),0)) -> 184151 | CM16: =+IF(CK16="N/A","N/A",AVERAGE(CK16:CL16)) -> 162778.52 | CR16: 141406.04 | CS16: =+IF(CO16="N/A","N/A",MIN(CO16:CR16)) -> 141406.04 | CT16: =+IF(CO16="N/A","N/A",ROUND(AVERAGE(CO16:CR16),0)) -> 141406 | CU16: =+IF(CS16="N/A","N/A",AVERAGE(CS16:CT16)) -> 141406.02 | CW16: 226896 | CZ16: 95752.567 | DA16: =+IF(CW16="N/A","N/A",MIN(CW16:CZ16)) -> 95752.567 | DB16: =+IF(CW16="N/A","N/A",ROUND(AVERAGE(CW16:CZ16),0)) -> 161324 | DC16: =+IF(DA16="N/A","N/A",AVERAGE(DA16:DB16)) -> 128538.28 | DH16: 87563.003 | DI16: =+IF(DE16="N/A","N/A",MIN(DE16:DH16)) -> 87563.003 | DJ16: =+IF(DE16="N/A","N/A",ROUND(AVERAGE(DE16:DH16),0)) -> 87563 | DK16: =+IF(DI16="N/A","N/A",AVERAGE(DI16:DJ16)) -> 87563.002
A17: 2 | B17: Juego De Bandas Frenos (Dos pares) | C17: 1 | E17: 440378.19 | H17: 140229.35 | I17: =+IF(E17="N/A","N/A",MIN(E17:H17)) -> 140229.35 | J17: =+IF(E17="N/A","N/A",ROUND(AVERAGE(E17:H17),0)) -> 290304 | K17: =+IF(I17="N/A","N/A",AVERAGE(I17:J17)) -> 215266.68 | M17: 445700.31 | P17: 124231.08 | Q17: =+IF(M17="N/A","N/A",MIN(M17:P17)) -> 124231.08 | R17: =+IF(M17="N/A","N/A",ROUND(AVERAGE(M17:P17),0)) -> 284966 | S17: =+IF(Q17="N/A","N/A",AVERAGE(Q17:R17)) -> 204598.54 | U17: 598736.32 | X17: 138575.51 | Y17: =+IF(U17="N/A","N/A",MIN(U17:X17)) -> 138575.51 | Z17: =+IF(U17="N/A","N/A",ROUND(AVERAGE(U17:X17),0)) -> 368656 | AA17: =+IF(Y17="N/A","N/A",AVERAGE(Y17:Z17)) -> 253615.76 | AC17: 701500.54 | AF17: 187758.36 | AG17: =+IF(AC17="N/A","N/A",MIN(AC17:AF17)) -> 187758.36 | AH17: =+IF(AC17="N/A","N/A",ROUND(AVERAGE(AC17:AF17),0)) -> 444629 | AI17: =+IF(AG17="N/A","N/A",AVERAGE(AG17:AH17)) -> 316193.68 | AK17: 700411.83 | AN17: 152098.11 | AO17: =+IF(AK17="N/A","N/A",MIN(AK17:AN17)) -> 152098.11 | AP17: =+IF(AK17="N/A","N/A",ROUND(AVERAGE(AK17:AN17),0)) -> 426255 | AQ17: =+IF(AO17="N/A","N/A",AVERAGE(AO17:AP17)) -> 289176.56 | AV17: 178617.13 | AW17: =+IF(AS17="N/A","N/A",MIN(AS17:AV17)) -> 178617.13 | AX17: =+IF(AS17="N/A","N/A",ROUND(AVERAGE(AS17:AV17),0)) -> 178617 | AY17: =+IF(AW17="N/A","N/A",AVERAGE(AW17:AX17)) -> 178617.07 | BA17: 688086.41 | BD17: 178289.53 | BE17: =+IF(BA17="N/A","N/A",MIN(BA17:BD17)) -> 178289.53 | BF17: =+IF(BA17="N/A","N/A",ROUND(AVERAGE(BA17:BD17),0)) -> 433188 | BG17: =+IF(BE17="N/A","N/A",AVERAGE(BE17:BF17)) -> 305738.76 | BI17: 589001.6 | BL17: 244380.94 | BM17: =+IF(BI17="N/A","N/A",MIN(BI17:BL17)) -> 244380.94 | BN17: =+IF(BI17="N/A","N/A",ROUND(AVERAGE(BI17:BL17),0)) -> 416691 | BO17: =+IF(BM17="N/A","N/A",AVERAGE(BM17:BN17)) -> 330535.97 | BQ17: 589001.6 | BT17: 254354 | BU17: =+IF(BQ17="N/A","N/A",MIN(BQ17:BT17)) -> 254354 | BV17: =+IF(BQ17="N/A","N/A",ROUND(AVERAGE(BQ17:BT17),0)) -> 421678 | BW17: =+IF(BU17="N/A","N/A",AVERAGE(BU17:BV17)) -> 338016 | CB17: 243800.03 | CC17: =+IF(BY17="N/A","N/A",MIN(BY17:CB17)) -> 243800.03 | CD17: =+IF(BY17="N/A","N/A",ROUND(AVERAGE(BY17:CB17),0)) -> 243800 | CE17: =+IF(CC17="N/A","N/A",AVERAGE(CC17:CD17)) -> 243800.01 | CG17: 623253.5 | CJ17: 246123.67 | CK17: =+IF(CG17="N/A","N/A",MIN(CG17:CJ17)) -> 246123.67 | CL17: =+IF(CG17="N/A","N/A",ROUND(AVERAGE(CG17:CJ17),0)) -> 434689 | CM17: =+IF(CK17="N/A","N/A",AVERAGE(CK17:CL17)) -> 340406.33 | CR17: 244961.85 | CS17: =+IF(CO17="N/A","N/A",MIN(CO17:CR17)) -> 244961.85 | CT17: =+IF(CO17="N/A","N/A",ROUND(AVERAGE(CO17:CR17),0)) -> 244962 | CU17: =+IF(CS17="N/A","N/A",AVERAGE(CS17:CT17)) -> 244961.92 | CW17: 589001.6 | CZ17: 178093.72 | DA17: =+IF(CW17="N/A","N/A",MIN(CW17:CZ17)) -> 178093.72 | DB17: =+IF(CW17="N/A","N/A",ROUND(AVERAGE(CW17:CZ17),0)) -> 383548 | DC17: =+IF(DA17="N/A","N/A",AVERAGE(DA17:DB17)) -> 280820.86 | DE17: 462622.9 | DH17: 136836.74 | DI17: =+IF(DE17="N/A","N/A",MIN(DE17:DH17)) -> 136836.74 | DJ17: =+IF(DE17="N/A","N/A",ROUND(AVERAGE(DE17:DH17),0)) -> 299730 | DK17: =+IF(DI17="N/A","N/A",AVERAGE(DI17:DJ17)) -> 218283.37
A18: 3 | B18: Cilindro De Freno | C18: 1 | E18: 336097.52 | H18: 156551.06 | I18: =+IF(E18="N/A","N/A",MIN(E18:H18)) -> 156551.06 | J18: =+IF(E18="N/A","N/A",ROUND(AVERAGE(E18:H18),0)) -> 246324 | K18: =+IF(I18="N/A","N/A",AVERAGE(I18:J18)) -> 201437.53 | M18: 382497.52 | P18: 116434 | Q18: =+IF(M18="N/A","N/A",MIN(M18:P18)) -> 116434 | R18: =+IF(M18="N/A","N/A",ROUND(AVERAGE(M18:P18),0)) -> 249466 | S18: =+IF(Q18="N/A","N/A",AVERAGE(Q18:R18)) -> 182950 | U18: 293042.55 | X18: 89695.004 | Y18: =+IF(U18="N/A","N/A",MIN(U18:X18)) -> 89695.004 | Z18: =+IF(U18="N/A","N/A",ROUND(AVERAGE(U18:X18),0)) -> 191369 | AA18: =+IF(Y18="N/A","N/A",AVERAGE(Y18:Z18)) -> 140532 | AC18: 438969.67 | AF18: 127817.99 | AG18: =+IF(AC18="N/A","N/A",MIN(AC18:AF18)) -> 127817.99 | AH18: =+IF(AC18="N/A","N/A",ROUND(AVERAGE(AC18:AF18),0)) -> 283394 | AI18: =+IF(AG18="N/A","N/A",AVERAGE(AG18:AH18)) -> 205605.99 | AK18: 291843.12 | AN18: 89164.815 | AO18: =+IF(AK18="N/A","N/A",MIN(AK18:AN18)) -> 89164.815 | AP18: =+IF(AK18="N/A","N/A",ROUND(AVERAGE(AK18:AN18),0)) -> 190504 | AQ18: =+IF(AO18="N/A","N/A",AVERAGE(AO18:AP18)) -> 139834.41 | AV18: 118851.72 | AW18: =+IF(AS18="N/A","N/A",MIN(AS18:AV18)) -> 118851.72 | AX18: =+IF(AS18="N/A","N/A",ROUND(AVERAGE(AS18:AV18),0)) -> 118852 | AY18: =+IF(AW18="N/A","N/A",AVERAGE(AW18:AX18)) -> 118851.86 | BA18: 435185.23 | BD18: 109363.79 | BE18: =+IF(BA18="N/A","N/A",MIN(BA18:BD18)) -> 109363.79 | BF18: =+IF(BA18="N/A","N/A",ROUND(AVERAGE(BA18:BD18),0)) -> 272275 | BG18: =+IF(BE18="N/A","N/A",AVERAGE(BE18:BF18)) -> 190819.39 | BI18: 253584.7 | BL18: 191346.53 | BM18: =+IF(BI18="N/A","N/A",MIN(BI18:BL18)) -> 191346.53 | BN18: =+IF(BI18="N/A","N/A",ROUND(AVERAGE(BI18:BL18),0)) -> 222466 | BO18: =+IF(BM18="N/A","N/A",AVERAGE(BM18:BN18)) -> 206906.26 | BQ18: 253584.7 | BT18: 199664.58 | BU18: =+IF(BQ18="N/A","N/A",MIN(BQ18:BT18)) -> 199664.58 | BV18: =+IF(BQ18="N/A","N/A",ROUND(AVERAGE(BQ18:BT18),0)) -> 226625 | BW18: =+IF(BU18="N/A","N/A",AVERAGE(BU18:BV18)) -> 213144.79 | CB18: 187744.88 | CC18: =+IF(BY18="N/A","N/A",MIN(BY18:CB18)) -> 187744.88 | CD18: =+IF(BY18="N/A","N/A",ROUND(AVERAGE(BY18:CB18),0)) -> 187745 | CE18: =+IF(CC18="N/A","N/A",AVERAGE(CC18:CD18)) -> 187744.94 | CG18: 262415.2 | CJ18: 192392.16 | CK18: =+IF(CG18="N/A","N/A",MIN(CG18:CJ18)) -> 192392.16 | CL18: =+IF(CG18="N/A","N/A",ROUND(AVERAGE(CG18:CJ18),0)) -> 227404 | CM18: =+IF(CK18="N/A","N/A",AVERAGE(CK18:CL18)) -> 209898.08 | CR18: 191346.53 | CS18: =+IF(CO18="N/A","N/A",MIN(CO18:CR18)) -> 191346.53 | CT18: =+IF(CO18="N/A","N/A",ROUND(AVERAGE(CO18:CR18),0)) -> 191347 | CU18: =+IF(CS18="N/A","N/A",AVERAGE(CS18:CT18)) -> 191346.76 | CW18: 253584.7 | CZ18: 140130.89 | DA18: =+IF(CW18="N/A","N/A",MIN(CW18:CZ18)) -> 140130.89 | DB18: =+IF(CW18="N/A","N/A",ROUND(AVERAGE(CW18:CZ18),0)) -> 196858 | DC18: =+IF(DA18="N/A","N/A",AVERAGE(DA18:DB18)) -> 168494.45 | DE18: 230647.58 | DH18: 100620.07 | DI18: =+IF(DE18="N/A","N/A",MIN(DE18:DH18)) -> 100620.07 | DJ18: =+IF(DE18="N/A","N/A",ROUND(AVERAGE(DE18:DH18),0)) -> 165634 | DK18: =+IF(DI18="N/A","N/A",AVERAGE(DI18:DJ18)) -> 133127.04
A19: 4 | B19: Discos De Frenos Delanteros (Par) | C19: 1 | E19: 1148122.6 | H19: 391941.37 | I19: =+IF(E19="N/A","N/A",MIN(E19:H19)) -> 391941.37 | J19: =+IF(E19="N/A","N/A",ROUND(AVERAGE(E19:H19),0)) -> 770032 | K19: =+IF(I19="N/A","N/A",AVERAGE(I19:J19)) -> 580986.69 | M19: 1193983.5 | P19: 323615.31 | Q19: =+IF(M19="N/A","N/A",MIN(M19:P19)) -> 323615.31 | R19: =+IF(M19="N/A","N/A",ROUND(AVERAGE(M19:P19),0)) -> 758799 | S19: =+IF(Q19="N/A","N/A",AVERAGE(Q19:R19)) -> 541207.15 | U19: 869865.39 | X19: 263309.12 | Y19: =+IF(U19="N/A","N/A",MIN(U19:X19)) -> 263309.12 | Z19: =+IF(U19="N/A","N/A",ROUND(AVERAGE(U19:X19),0)) -> 566587 | AA19: =+IF(Y19="N/A","N/A",AVERAGE(Y19:Z19)) -> 414948.06 | AC19: 715458.94 | AF19: 389308.76 | AG19: =+IF(AC19="N/A","N/A",MIN(AC19:AF19)) -> 389308.76 | AH19: =+IF(AC19="N/A","N/A",ROUND(AVERAGE(AC19:AF19),0)) -> 552384 | AI19: =+IF(AG19="N/A","N/A",AVERAGE(AG19:AH19)) -> 470846.38 | AK19: 961579.38 | AN19: 288535.59 | AO19: =+IF(AK19="N/A","N/A",MIN(AK19:AN19)) -> 288535.59 | AP19: =+IF(AK19="N/A","N/A",ROUND(AVERAGE(AK19:AN19),0)) -> 625057 | AQ19: =+IF(AO19="N/A","N/A",AVERAGE(AO19:AP19)) -> 456796.3 | AV19: 348999.81 | AW19: =+IF(AS19="N/A","N/A",MIN(AS19:AV19)) -> 348999.81 | AX19: =+IF(AS19="N/A","N/A",ROUND(AVERAGE(AS19:AV19),0)) -> 349000 | AY19: =+IF(AW19="N/A","N/A",AVERAGE(AW19:AX19)) -> 348999.9 | BA19: 658498.18 | BD19: 321273.95 | BE19: =+IF(BA19="N/A","N/A",MIN(BA19:BD19)) -> 321273.95 | BF19: =+IF(BA19="N/A","N/A",ROUND(AVERAGE(BA19:BD19),0)) -> 489886 | BG19: =+IF(BE19="N/A","N/A",AVERAGE(BE19:BF19)) -> 405579.98 | BI19: 599952 | BL19: 235194.66 | BM19: =+IF(BI19="N/A","N/A",MIN(BI19:BL19)) -> 235194.66 | BN19: =+IF(BI19="N/A","N/A",ROUND(AVERAGE(BI19:BL19),0)) -> 417573 | BO19: =+IF(BM19="N/A","N/A",AVERAGE(BM19:BN19)) -> 326383.83 | BQ19: 599952 | BT19: 241054.41 | BU19: =+IF(BQ19="N/A","N/A",MIN(BQ19:BT19)) -> 241054.41 | BV19: =+IF(BQ19="N/A","N/A",ROUND(AVERAGE(BQ19:BT19),0)) -> 420503 | BW19: =+IF(BU19="N/A","N/A",AVERAGE(BU19:BV19)) -> 330778.71 | CB19: 232871.02 | CC19: =+IF(BY19="N/A","N/A",MIN(BY19:CB19)) -> 232871.02 | CD19: =+IF(BY19="N/A","N/A",ROUND(AVERAGE(BY19:CB19),0)) -> 232871 | CE19: =+IF(CC19="N/A","N/A",AVERAGE(CC19:CD19)) -> 232871.01 | CG19: 642547.2 | CJ19: 237518.3 | CK19: =+IF(CG19="N/A","N/A",MIN(CG19:CJ19)) -> 237518.3 | CL19: =+IF(CG19="N/A","N/A",ROUND(AVERAGE(CG19:CJ19),0)) -> 440033 | CM19: =+IF(CK19="N/A","N/A",AVERAGE(CK19:CL19)) -> 338775.65 | CR19: 235194.66 | CS19: =+IF(CO19="N/A","N/A",MIN(CO19:CR19)) -> 235194.66 | CT19: =+IF(CO19="N/A","N/A",ROUND(AVERAGE(CO19:CR19),0)) -> 235195 | CU19: =+IF(CS19="N/A","N/A",AVERAGE(CS19:CT19)) -> 235194.83 | CW19: 599952 | CZ19: 226542.67 | DA19: =+IF(CW19="N/A","N/A",MIN(CW19:CZ19)) -> 226542.67 | DB19: =+IF(CW19="N/A","N/A",ROUND(AVERAGE(CW19:CZ19),0)) -> 413247 | DC19: =+IF(DA19="N/A","N/A",AVERAGE(DA19:DB19)) -> 319894.83 | DE19: 691974 | DH19: 264784.59 | DI19: =+IF(DE19="N/A","N/A",MIN(DE19:DH19)) -> 264784.59 | DJ19: =+IF(DE19="N/A","N/A",ROUND(AVERAGE(DE19:DH19),0)) -> 478379 | DK19: =+IF(DI19="N/A","N/A",AVERAGE(DI19:DJ19)) -> 371581.8
A20: 5 | B20: Juego De Pastillas De Frenos Delantera (Dos pares) | C20: 1 | E20: 299264.46 | H20: 169274.85 | I20: =+IF(E20="N/A","N/A",MIN(E20:H20)) -> 169274.85 | J20: =+IF(E20="N/A","N/A",ROUND(AVERAGE(E20:H20),0)) -> 234270 | K20: =+IF(I20="N/A","N/A",AVERAGE(I20:J20)) -> 201772.43 | M20: 364288.28 | P20: 187670.47 | Q20: =+IF(M20="N/A","N/A",MIN(M20:P20)) -> 187670.47 | R20: =+IF(M20="N/A","N/A",ROUND(AVERAGE(M20:P20),0)) -> 275979 | S20: =+IF(Q20="N/A","N/A",AVERAGE(Q20:R20)) -> 231824.73 | U20: 251321.67 | X20: 142887.45 | Y20: =+IF(U20="N/A","N/A",MIN(U20:X20)) -> 142887.45 | Z20: =+IF(U20="N/A","N/A",ROUND(AVERAGE(U20:X20),0)) -> 197105 | AA20: =+IF(Y20="N/A","N/A",AVERAGE(Y20:Z20)) -> 169996.22 | AC20: 346358.64 | AF20: 190742.56 | AG20: =+IF(AC20="N/A","N/A",MIN(AC20:AF20)) -> 190742.56 | AH20: =+IF(AC20="N/A","N/A",ROUND(AVERAGE(AC20:AF20),0)) -> 268551 | AI20: =+IF(AG20="N/A","N/A",AVERAGE(AG20:AH20)) -> 229646.78 | AK20: 391488.9 | AN20: 152873.37 | AO20: =+IF(AK20="N/A","N/A",MIN(AK20:AN20)) -> 152873.37 | AP20: =+IF(AK20="N/A","N/A",ROUND(AVERAGE(AK20:AN20),0)) -> 272181 | AQ20: =+IF(AO20="N/A","N/A",AVERAGE(AO20:AP20)) -> 212527.18 | AV20: 191134.28 | AW20: =+IF(AS20="N/A","N/A",MIN(AS20:AV20)) -> 191134.28 | AX20: =+IF(AS20="N/A","N/A",ROUND(AVERAGE(AS20:AV20),0)) -> 191134 | AY20: =+IF(AW20="N/A","N/A",AVERAGE(AW20:AX20)) -> 191134.14 | BA20: 333892.49 | BD20: 192629.09 | BE20: =+IF(BA20="N/A","N/A",MIN(BA20:BD20)) -> 192629.09 | BF20: =+IF(BA20="N/A","N/A",ROUND(AVERAGE(BA20:BD20),0)) -> 263261 | BG20: =+IF(BE20="N/A","N/A",AVERAGE(BE20:BF20)) -> 227945.05 | BI20: 241796.2 | BL20: 252282.01 | BM20: =+IF(BI20="N/A","N/A",MIN(BI20:BL20)) -> 241796.2 | BN20: =+IF(BI20="N/A","N/A",ROUND(AVERAGE(BI20:BL20),0)) -> 247039 | BO20: =+IF(BM20="N/A","N/A",AVERAGE(BM20:BN20)) -> 244417.6 | BQ20: 241796.2 | BT20: 266356.65 | BU20: =+IF(BQ20="N/A","N/A",MIN(BQ20:BT20)) -> 241796.2 | BV20: =+IF(BQ20="N/A","N/A",ROUND(AVERAGE(BQ20:BT20),0)) -> 254076 | BW20: =+IF(BU20="N/A","N/A",AVERAGE(BU20:BV20)) -> 247936.1 | CB20: 249958.37 | CC20: =+IF(BY20="N/A","N/A",MIN(BY20:CB20)) -> 249958.37 | CD20: =+IF(BY20="N/A","N/A",ROUND(AVERAGE(BY20:CB20),0)) -> 249958 | CE20: =+IF(CC20="N/A","N/A",AVERAGE(CC20:CD20)) -> 249958.18 | CG20: 249446.4 | CJ20: 252282.01 | CK20: =+IF(CG20="N/A","N/A",MIN(CG20:CJ20)) -> 249446.4 | CL20: =+IF(CG20="N/A","N/A",ROUND(AVERAGE(CG20:CJ20),0)) -> 250864 | CM20: =+IF(CK20="N/A","N/A",AVERAGE(CK20:CL20)) -> 250155.2 | CR20: 252282.01 | CS20: =+IF(CO20="N/A","N/A",MIN(CO20:CR20)) -> 252282.01 | CT20: =+IF(CO20="N/A","N/A",ROUND(AVERAGE(CO20:CR20),0)) -> 252282 | CU20: =+IF(CS20="N/A","N/A",AVERAGE(CS20:CT20)) -> 252282 | CW20: 241796.2 | CZ20: 224404.82 | DA20: =+IF(CW20="N/A","N/A",MIN(CW20:CZ20)) -> 224404.82 | DB20: =+IF(CW20="N/A","N/A",ROUND(AVERAGE(CW20:CZ20),0)) -> 233101 | DC20: =+IF(DA20="N/A","N/A",AVERAGE(DA20:DB20)) -> 228752.91 | DE20: 180133.1 | DH20: 166446.25 | DI20: =+IF(DE20="N/A","N/A",MIN(DE20:DH20)) -> 166446.25 | DJ20: =+IF(DE20="N/A","N/A",ROUND(AVERAGE(DE20:DH20),0)) -> 173290 | DK20: =+IF(DI20="N/A","N/A",AVERAGE(DI20:DJ20)) -> 169868.12
A21: 6 | B21: Juego De Pastillas De Frenos Traseras (Dos pares) | C21: 1 | E21: N/A | F21: N/A | G21: N/A | H21: N/A | I21: N/A | J21: N/A | K21: N/A | M21: N/A | N21: N/A | O21: N/A | P21: N/A | Q21: N/A | R21: N/A | S21: N/A | U21: N/A | V21: N/A | W21: N/A | X21: N/A | Y21: N/A | Z21: N/A | AA21: N/A | AC21: N/A | AD21: N/A | AE21: N/A | AF21: N/A | AG21: N/A | AH21: N/A | AI21: N/A | AK21: N/A | AL21: N/A | AM21: N/A | AN21: N/A | AO21: N/A | AP21: N/A | AQ21: N/A | AS21: N/A | AT21: N/A | AU21: N/A | AV21: N/A | AW21: N/A | AX21: N/A | AY21: N/A | BA21: N/A | BB21: N/A | BC21: N/A | BD21: N/A | BE21: N/A | BF21: N/A | BG21: N/A | BI21: N/A | BJ21: N/A | BK21: N/A | BL21: N/A | BM21: N/A | BN21: N/A | BO21: N/A | BQ21: N/A | BR21: N/A | BS21: N/A | BT21: N/A | BU21: N/A | BV21: N/A | BW21: N/A | BY21: N/A | BZ21: N/A | CA21: N/A | CB21: N/A | CC21: N/A | CD21: N/A | CE21: N/A | CG21: N/A | CH21: N/A | CI21: N/A | CJ21: N/A | CK21: N/A | CL21: N/A | CM21: N/A | CO21: N/A | CP21: N/A | CQ21: N/A | CR21: N/A | CS21: N/A | CT21: N/A | CU21: N/A | CW21: N/A | CX21: N/A | CY21: N/A | CZ21: N/A | DA21: N/A | DB21: N/A | DC21: N/A | DE21: N/A | DF21: N/A | DG21: N/A | DH21: N/A | DI21: N/A | DJ21: N/A | DK21: N/A
A22: 7 | B22: Pistón Caliper | C22: 1 | E22: 175030.86 | H22: 106029.67 | I22: =+IF(E22="N/A","N/A",MIN(E22:H22)) -> 106029.67 | J22: =+IF(E22="N/A","N/A",ROUND(AVERAGE(E22:H22),0)) -> 140530 | K22: =+IF(I22="N/A","N/A",AVERAGE(I22:J22)) -> 123279.83 | M22: 196777.36 | P22: 91123.583 | Q22: =+IF(M22="N/A","N/A",MIN(M22:P22)) -> 91123.583 | R22: =+IF(M22="N/A","N/A",ROUND(AVERAGE(M22:P22),0)) -> 143950 | S22: =+IF(Q22="N/A","N/A",AVERAGE(Q22:R22)) -> 117536.79 | U22: 439519.31 | X22: 85109.52 | Y22: =+IF(U22="N/A","N/A",MIN(U22:X22)) -> 85109.52 | Z22: =+IF(U22="N/A","N/A",ROUND(AVERAGE(U22:X22),0)) -> 262314 | AA22: =+IF(Y22="N/A","N/A",AVERAGE(Y22:Z22)) -> 173711.76 | AC22: 199351.83 | AF22: 106569.43 | AG22: =+IF(AC22="N/A","N/A",MIN(AC22:AF22)) -> 106569.43 | AH22: =+IF(AC22="N/A","N/A",ROUND(AVERAGE(AC22:AF22),0)) -> 152961 | AI22: =+IF(AG22="N/A","N/A",AVERAGE(AG22:AH22)) -> 129765.21 | AK22: 219675.37 | AN22: 95309.734 | AO22: =+IF(AK22="N/A","N/A",MIN(AK22:AN22)) -> 95309.734 | AP22: =+IF(AK22="N/A","N/A",ROUND(AVERAGE(AK22:AN22),0)) -> 157493 | AQ22: =+IF(AO22="N/A","N/A",AVERAGE(AO22:AP22)) -> 126401.37 | AV22: 114307.53 | AW22: =+IF(AS22="N/A","N/A",MIN(AS22:AV22)) -> 114307.53 | AX22: =+IF(AS22="N/A","N/A",ROUND(AVERAGE(AS22:AV22),0)) -> 114308 | AY22: =+IF(AW22="N/A","N/A",AVERAGE(AW22:AX22)) -> 114307.76 | BA22: 211277.99 | BD22: 102242.66 | BE22: =+IF(BA22="N/A","N/A",MIN(BA22:BD22)) -> 102242.66 | BF22: =+IF(BA22="N/A","N/A",ROUND(AVERAGE(BA22:BD22),0)) -> 156760 | BG22: =+IF(BE22="N/A","N/A",AVERAGE(BE22:BF22)) -> 129501.33 | BI22: 332224 | BL22: 189382.93 | BM22: =+IF(BI22="N/A","N/A",MIN(BI22:BL22)) -> 189382.93 | BN22: =+IF(BI22="N/A","N/A",ROUND(AVERAGE(BI22:BL22),0)) -> 260803 | BO22: =+IF(BM22="N/A","N/A",AVERAGE(BM22:BN22)) -> 225092.97 | BQ22: 332224 | BT22: 214362.64 | BU22: =+IF(BQ22="N/A","N/A",MIN(BQ22:BT22)) -> 214362.64 | BV22: =+IF(BQ22="N/A","N/A",ROUND(AVERAGE(BQ22:BT22),0)) -> 273293 | BW22: =+IF(BU22="N/A","N/A",AVERAGE(BU22:BV22)) -> 243827.82 | CB22: 170793.81 | CC22: =+IF(BY22="N/A","N/A",MIN(BY22:CB22)) -> 170793.81 | CD22: =+IF(BY22="N/A","N/A",ROUND(AVERAGE(BY22:CB22),0)) -> 170794 | CE22: =+IF(CC22="N/A","N/A",AVERAGE(CC22:CD22)) -> 170793.91 | CG22: 341086.4 | CJ22: 203324.77 | CK22: =+IF(CG22="N/A","N/A",MIN(CG22:CJ22)) -> 203324.77 | CL22: =+IF(CG22="N/A","N/A",ROUND(AVERAGE(CG22:CJ22),0)) -> 272206 | CM22: =+IF(CK22="N/A","N/A",AVERAGE(CK22:CL22)) -> 237765.39 | CR22: 189382.93 | CS22: =+IF(CO22="N/A","N/A",MIN(CO22:CR22)) -> 189382.93 | CT22: =+IF(CO22="N/A","N/A",ROUND(AVERAGE(CO22:CR22),0)) -> 189383 | CU22: =+IF(CS22="N/A","N/A",AVERAGE(CS22:CT22)) -> 189382.97 | CW22: 332224 | CZ22: 112158.03 | DA22: =+IF(CW22="N/A","N/A",MIN(CW22:CZ22)) -> 112158.03 | DB22: =+IF(CW22="N/A","N/A",ROUND(AVERAGE(CW22:CZ22),0)) -> 222191 | DC22: =+IF(DA22="N/A","N/A",AVERAGE(DA22:DB22)) -> 167174.51 | DE22: 200400.69 | DH22: 101115.75 | DI22: =+IF(DE22="N/A","N/A",MIN(DE22:DH22)) -> 101115.75 | DJ22: =+IF(DE22="N/A","N/A",ROUND(AVERAGE(DE22:DH22),0)) -> 150758 | DK22: =+IF(DI22="N/A","N/A",AVERAGE(DI22:DJ22)) -> 125936.87
A23: 8 | B23: Juego Interiores Caliper | C23: 1 | E23: 319893.09 | H23: 91432.91 | I23: =+IF(E23="N/A","N/A",MIN(E23:H23)) -> 91432.91 | J23: =+IF(E23="N/A","N/A",ROUND(AVERAGE(E23:H23),0)) -> 205663 | K23: =+IF(I23="N/A","N/A",AVERAGE(I23:J23)) -> 148547.96 | M23: 351228.25 | P23: 86374.546 | Q23: =+IF(M23="N/A","N/A",MIN(M23:P23)) -> 86374.546 | R23: =+IF(M23="N/A","N/A",ROUND(AVERAGE(M23:P23),0)) -> 218801 | S23: =+IF(Q23="N/A","N/A",AVERAGE(Q23:R23)) -> 152587.77 | U23: 148451.99 | X23: 56406.852 | Y23: =+IF(U23="N/A","N/A",MIN(U23:X23)) -> 56406.852 | Z23: =+IF(U23="N/A","N/A",ROUND(AVERAGE(U23:X23),0)) -> 102429 | AA23: =+IF(Y23="N/A","N/A",AVERAGE(Y23:Z23)) -> 79417.926 | AC23: 125896.36 | AF23: 81407.975 | AG23: =+IF(AC23="N/A","N/A",MIN(AC23:AF23)) -> 81407.975 | AH23: =+IF(AC23="N/A","N/A",ROUND(AVERAGE(AC23:AF23),0)) -> 103652 | AI23: =+IF(AG23="N/A","N/A",AVERAGE(AG23:AH23)) -> 92529.987 | AK23: 182366.1 | AN23: 67495.512 | AO23: =+IF(AK23="N/A","N/A",MIN(AK23:AN23)) -> 67495.512 | AP23: =+IF(AK23="N/A","N/A",ROUND(AVERAGE(AK23:AN23),0)) -> 124931 | AQ23: =+IF(AO23="N/A","N/A",AVERAGE(AO23:AP23)) -> 96213.256 | AV23: 82488.467 | AW23: =+IF(AS23="N/A","N/A",MIN(AS23:AV23)) -> 82488.467 | AX23: =+IF(AS23="N/A","N/A",ROUND(AVERAGE(AS23:AV23),0)) -> 82488 | AY23: =+IF(AW23="N/A","N/A",AVERAGE(AW23:AX23)) -> 82488.234 | BA23: 131962.58 | BD23: 83842.017 | BE23: =+IF(BA23="N/A","N/A",MIN(BA23:BD23)) -> 83842.017 | BF23: =+IF(BA23="N/A","N/A",ROUND(AVERAGE(BA23:BD23),0)) -> 107902 | BG23: =+IF(BE23="N/A","N/A",AVERAGE(BE23:BF23)) -> 95872.009 | BI23: 196446 | BL23: 134927.73 | BM23: =+IF(BI23="N/A","N/A",MIN(BI23:BL23)) -> 134927.73 | BN23: =+IF(BI23="N/A","N/A",ROUND(AVERAGE(BI23:BL23),0)) -> 165687 | BO23: =+IF(BM23="N/A","N/A",AVERAGE(BM23:BN23)) -> 150307.37 | BQ23: 196446 | BT23: 146561.27 | BU23: =+IF(BQ23="N/A","N/A",MIN(BQ23:BT23)) -> 146561.27 | BV23: =+IF(BQ23="N/A","N/A",ROUND(AVERAGE(BQ23:BT23),0)) -> 171504 | BW23: =+IF(BU23="N/A","N/A",AVERAGE(BU23:BV23)) -> 159032.63 | CB23: 131442.27 | CC23: =+IF(BY23="N/A","N/A",MIN(BY23:CB23)) -> 131442.27 | CD23: =+IF(BY23="N/A","N/A",ROUND(AVERAGE(BY23:CB23),0)) -> 131442 | CE23: =+IF(CC23="N/A","N/A",AVERAGE(CC23:CD23)) -> 131442.14 | CG23: 208260.6 | CJ23: 126794.99 | CK23: =+IF(CG23="N/A","N/A",MIN(CG23:CJ23)) -> 126794.99 | CL23: =+IF(CG23="N/A","N/A",ROUND(AVERAGE(CG23:CJ23),0)) -> 167528 | CM23: =+IF(CK23="N/A","N/A",AVERAGE(CK23:CL23)) -> 147161.5 | CR23: 134927.73 | CS23: =+IF(CO23="N/A","N/A",MIN(CO23:CR23)) -> 134927.73 | CT23: =+IF(CO23="N/A","N/A",ROUND(AVERAGE(CO23:CR23),0)) -> 134928 | CU23: =+IF(CS23="N/A","N/A",AVERAGE(CS23:CT23)) -> 134927.87 | CW23: 196446 | CZ23: 84416.064 | DA23: =+IF(CW23="N/A","N/A",MIN(CW23:CZ23)) -> 84416.064 | DB23: =+IF(CW23="N/A","N/A",ROUND(AVERAGE(CW23:CZ23),0)) -> 140431 | DC23: =+IF(DA23="N/A","N/A",AVERAGE(DA23:DB23)) -> 112423.53 | DE23: 166897.5 | DH23: 80372.484 | DI23: =+IF(DE23="N/A","N/A",MIN(DE23:DH23)) -> 80372.484 | DJ23: =+IF(DE23="N/A","N/A",ROUND(AVERAGE(DE23:DH23),0)) -> 123635 | DK23: =+IF(DI23="N/A","N/A",AVERAGE(DI23:DJ23)) -> 102003.74
A24: 9 | B24: Liquido De Freno (Pinta 290 ml) | C24: 1 | E24: 16366.179 | H24: 19268.669 | I24: =+IF(E24="N/A","N/A",MIN(E24:H24)) -> 16366.179 | J24: =+IF(E24="N/A","N/A",ROUND(AVERAGE(E24:H24),0)) -> 17817 | K24: =+IF(I24="N/A","N/A",AVERAGE(I24:J24)) -> 17091.59 | M24: 16366.179 | P24: 20449.403 | Q24: =+IF(M24="N/A","N/A",MIN(M24:P24)) -> 16366.179 | R24: =+IF(M24="N/A","N/A",ROUND(AVERAGE(M24:P24),0)) -> 18408 | S24: =+IF(Q24="N/A","N/A",AVERAGE(Q24:R24)) -> 17387.09 | U24: 18669.866 | X24: 11242.448 | Y24: =+IF(U24="N/A","N/A",MIN(U24:X24)) -> 11242.448 | Z24: =+IF(U24="N/A","N/A",ROUND(AVERAGE(U24:X24),0)) -> 14956 | AA24: =+IF(Y24="N/A","N/A",AVERAGE(Y24:Z24)) -> 13099.224 | AC24: 80604.776 | AF24: 13793.028 | AG24: =+IF(AC24="N/A","N/A",MIN(AC24:AF24)) -> 13793.028 | AH24: =+IF(AC24="N/A","N/A",ROUND(AVERAGE(AC24:AF24),0)) -> 47199 | AI24: =+IF(AG24="N/A","N/A",AVERAGE(AG24:AH24)) -> 30496.014 | AK24: 89174.65 | AN24: 12515.472 | AO24: =+IF(AK24="N/A","N/A",MIN(AK24:AN24)) -> 12515.472 | AP24: =+IF(AK24="N/A","N/A",ROUND(AVERAGE(AK24:AN24),0)) -> 50845 | AQ24: =+IF(AO24="N/A","N/A",AVERAGE(AO24:AP24)) -> 31680.236 | AV24: 13193.695 | AW24: =+IF(AS24="N/A","N/A",MIN(AS24:AV24)) -> 13193.695 | AX24: =+IF(AS24="N/A","N/A",ROUND(AVERAGE(AS24:AV24),0)) -> 13194 | AY24: =+IF(AW24="N/A","N/A",AVERAGE(AW24:AX24)) -> 13193.847 | BA24: 19888.842 | BD24: 14487.013 | BE24: =+IF(BA24="N/A","N/A",MIN(BA24:BD24)) -> 14487.013 | BF24: =+IF(BA24="N/A","N/A",ROUND(AVERAGE(BA24:BD24),0)) -> 17188 | BG24: =+IF(BE24="N/A","N/A",AVERAGE(BE24:BF24)) -> 15837.507 | BI24: 18768.8 | BL24: 21273.157 | BM24: =+IF(BI24="N/A","N/A",MIN(BI24:BL24)) -> 18768.8 | BN24: =+IF(BI24="N/A","N/A",ROUND(AVERAGE(BI24:BL24),0)) -> 20021 | BO24: =+IF(BM24="N/A","N/A",AVERAGE(BM24:BN24)) -> 19394.9 | BQ24: 18768.8 | BT24: 21657.719 | BU24: =+IF(BQ24="N/A","N/A",MIN(BQ24:BT24)) -> 18768.8 | BV24: =+IF(BQ24="N/A","N/A",ROUND(AVERAGE(BQ24:BT24),0)) -> 20213 | BW24: =+IF(BU24="N/A","N/A",AVERAGE(BU24:BV24)) -> 19490.9 | CB24: 21273.157 | CC24: =+IF(BY24="N/A","N/A",MIN(BY24:CB24)) -> 21273.157 | CD24: =+IF(BY24="N/A","N/A",ROUND(AVERAGE(BY24:CB24),0)) -> 21273 | CE24: =+IF(CC24="N/A","N/A",AVERAGE(CC24:CD24)) -> 21273.078 | CG24: 19925.9 | CJ24: 21273.157 | CK24: =+IF(CG24="N/A","N/A",MIN(CG24:CJ24)) -> 19925.9 | CL24: =+IF(CG24="N/A","N/A",ROUND(AVERAGE(CG24:CJ24),0)) -> 20600 | CM24: =+IF(CK24="N/A","N/A",AVERAGE(CK24:CL24)) -> 20262.95 | CR24: 22434.977 | CS24: =+IF(CO24="N/A","N/A",MIN(CO24:CR24)) -> 22434.977 | CT24: =+IF(CO24="N/A","N/A",ROUND(AVERAGE(CO24:CR24),0)) -> 22435 | CU24: =+IF(CS24="N/A","N/A",AVERAGE(CS24:CT24)) -> 22434.988 | CW24: 18768.8 | CZ24: 15244.285 | DA24: =+IF(CW24="N/A","N/A",MIN(CW24:CZ24)) -> 15244.285 | DB24: =+IF(CW24="N/A","N/A",ROUND(AVERAGE(CW24:CZ24),0)) -> 17007 | DC24: =+IF(DA24="N/A","N/A",AVERAGE(DA24:DB24)) -> 16125.643 | DE24: 16999.438 | DH24: 11657.479 | DI24: =+IF(DE24="N/A","N/A",MIN(DE24:DH24)) -> 11657.479 | DJ24: =+IF(DE24="N/A","N/A",ROUND(AVERAGE(DE24:DH24),0)) -> 14328 | DK24: =+IF(DI24="N/A","N/A",AVERAGE(DI24:DJ24)) -> 12992.74
A25: 10 | B25: Interiores De Bomba | C25: 1 | E25: 220291.47 | H25: 132121.01 | I25: =+IF(E25="N/A","N/A",MIN(E25:H25)) -> 132121.01 | J25: =+IF(E25="N/A","N/A",ROUND(AVERAGE(E25:H25),0)) -> 176206 | K25: =+IF(I25="N/A","N/A",AVERAGE(I25:J25)) -> 154163.5 | M25: 233798.42 | P25: 86067.44 | Q25: =+IF(M25="N/A","N/A",MIN(M25:P25)) -> 86067.44 | R25: =+IF(M25="N/A","N/A",ROUND(AVERAGE(M25:P25),0)) -> 159933 | S25: =+IF(Q25="N/A","N/A",AVERAGE(Q25:R25)) -> 123000.22 | U25: 668545.35 | X25: 82599.043 | Y25: =+IF(U25="N/A","N/A",MIN(U25:X25)) -> 82599.043 | Z25: =+IF(U25="N/A","N/A",ROUND(AVERAGE(U25:X25),0)) -> 375572 | AA25: =+IF(Y25="N/A","N/A",AVERAGE(Y25:Z25)) -> 229085.52 | AC25: 242553.75 | AF25: 98223.05 | AG25: =+IF(AC25="N/A","N/A",MIN(AC25:AF25)) -> 98223.05 | AH25: =+IF(AC25="N/A","N/A",ROUND(AVERAGE(AC25:AF25),0)) -> 170388 | AI25: =+IF(AG25="N/A","N/A",AVERAGE(AG25:AH25)) -> 134305.52 | AK25: 267309.2 | AN25: 85993.527 | AO25: =+IF(AK25="N/A","N/A",MIN(AK25:AN25)) -> 85993.527 | AP25: =+IF(AK25="N/A","N/A",ROUND(AVERAGE(AK25:AN25),0)) -> 176651 | AQ25: =+IF(AO25="N/A","N/A",AVERAGE(AO25:AP25)) -> 131322.26 | AV25: 113252.19 | AW25: =+IF(AS25="N/A","N/A",MIN(AS25:AV25)) -> 113252.19 | AX25: =+IF(AS25="N/A","N/A",ROUND(AVERAGE(AS25:AV25),0)) -> 113252 | AY25: =+IF(AW25="N/A","N/A",AVERAGE(AW25:AX25)) -> 113252.09 | BA25: 272105.24 | BD25: 96755.176 | BE25: =+IF(BA25="N/A","N/A",MIN(BA25:BD25)) -> 96755.176 | BF25: =+IF(BA25="N/A","N/A",ROUND(AVERAGE(BA25:BD25),0)) -> 184430 | BG25: =+IF(BE25="N/A","N/A",AVERAGE(BE25:BF25)) -> 140592.59 | BI25: 285882 | BL25: 168716.71 | BM25: =+IF(BI25="N/A","N/A",MIN(BI25:BL25)) -> 168716.71 | BN25: =+IF(BI25="N/A","N/A",ROUND(AVERAGE(BI25:BL25),0)) -> 227299 | BO25: =+IF(BM25="N/A","N/A",AVERAGE(BM25:BN25)) -> 198007.86 | BQ25: 285882 | BT25: 173214.93 | BU25: =+IF(BQ25="N/A","N/A",MIN(BQ25:BT25)) -> 173214.93 | BV25: =+IF(BQ25="N/A","N/A",ROUND(AVERAGE(BQ25:BT25),0)) -> 229548 | BW25: =+IF(BU25="N/A","N/A",AVERAGE(BU25:BV25)) -> 201381.47 | CB25: 156517.6 | CC25: =+IF(BY25="N/A","N/A",MIN(BY25:CB25)) -> 156517.6 | CD25: =+IF(BY25="N/A","N/A",ROUND(AVERAGE(BY25:CB25),0)) -> 156518 | CE25: =+IF(CC25="N/A","N/A",AVERAGE(CC25:CD25)) -> 156517.8 | CG25: 295330.2 | CJ25: 162326.7 | CK25: =+IF(CG25="N/A","N/A",MIN(CG25:CJ25)) -> 162326.7 | CL25: =+IF(CG25="N/A","N/A",ROUND(AVERAGE(CG25:CJ25),0)) -> 228828 | CM25: =+IF(CK25="N/A","N/A",AVERAGE(CK25:CL25)) -> 195577.35 | CR25: 168716.71 | CS25: =+IF(CO25="N/A","N/A",MIN(CO25:CR25)) -> 168716.71 | CT25: =+IF(CO25="N/A","N/A",ROUND(AVERAGE(CO25:CR25),0)) -> 168717 | CU25: =+IF(CS25="N/A","N/A",AVERAGE(CS25:CT25)) -> 168716.86 | CW25: 285882 | CZ25: 100792.23 | DA25: =+IF(CW25="N/A","N/A",MIN(CW25:CZ25)) -> 100792.23 | DB25: =+IF(CW25="N/A","N/A",ROUND(AVERAGE(CW25:CZ25),0)) -> 193337 | DC25: =+IF(DA25="N/A","N/A",AVERAGE(DA25:DB25)) -> 147064.62 | DH25: 86045.434 | DI25: =+IF(DE25="N/A","N/A",MIN(DE25:DH25)) -> 86045.434 | DJ25: =+IF(DE25="N/A","N/A",ROUND(AVERAGE(DE25:DH25),0)) -> 86045 | DK25: =+IF(DI25="N/A","N/A",AVERAGE(DI25:DJ25)) -> 86045.217
B26: SINCRONIZACIÓN
A27: 11 | B27: Bujía | C27: 1 | E27: 92325.325 | H27: 17589.49 | I27: =+IF(E27="N/A","N/A",MIN(E27:H27)) -> 17589.49 | J27: =+IF(E27="N/A","N/A",ROUND(AVERAGE(E27:H27),0)) -> 54957 | K27: =+IF(I27="N/A","N/A",AVERAGE(I27:J27)) -> 36273.245 | M27: 87439.681 | P27: 17718.873 | Q27: =+IF(M27="N/A","N/A",MIN(M27:P27)) -> 17718.873 | R27: =+IF(M27="N/A","N/A",ROUND(AVERAGE(M27:P27),0)) -> 52579 | S27: =+IF(Q27="N/A","N/A",AVERAGE(Q27:R27)) -> 35148.936 | U27: 40675.088 | X27: 12124.352 | Y27: =+IF(U27="N/A","N/A",MIN(U27:X27)) -> 12124.352 | Z27: =+IF(U27="N/A","N/A",ROUND(AVERAGE(U27:X27),0)) -> 26400 | AA27: =+IF(Y27="N/A","N/A",AVERAGE(Y27:Z27)) -> 19262.176 | AC27: 40981.555 | AF27: 17111.219 | AG27: =+IF(AC27="N/A","N/A",MIN(AC27:AF27)) -> 17111.219 | AH27: =+IF(AC27="N/A","N/A",ROUND(AVERAGE(AC27:AF27),0)) -> 29046 | AI27: =+IF(AG27="N/A","N/A",AVERAGE(AG27:AH27)) -> 23078.61 | AK27: 85879.2 | AN27: 11995.45 | AO27: =+IF(AK27="N/A","N/A",MIN(AK27:AN27)) -> 11995.45 | AP27: =+IF(AK27="N/A","N/A",ROUND(AVERAGE(AK27:AN27),0)) -> 48937 | AQ27: =+IF(AO27="N/A","N/A",AVERAGE(AO27:AP27)) -> 30466.225 | AV27: 13941.186 | AW27: =+IF(AS27="N/A","N/A",MIN(AS27:AV27)) -> 13941.186 | AX27: =+IF(AS27="N/A","N/A",ROUND(AVERAGE(AS27:AV27),0)) -> 13941 | AY27: =+IF(AW27="N/A","N/A",AVERAGE(AW27:AX27)) -> 13941.093 | BA27: 37565.588 | BD27: 14002.455 | BE27: =+IF(BA27="N/A","N/A",MIN(BA27:BD27)) -> 14002.455 | BF27: =+IF(BA27="N/A","N/A",ROUND(AVERAGE(BA27:BD27),0)) -> 25784 | BG27: =+IF(BE27="N/A","N/A",AVERAGE(BE27:BF27)) -> 19893.227 | BI27: 91109 | BL27: 34466.087 | BM27: =+IF(BI27="N/A","N/A",MIN(BI27:BL27)) -> 34466.087 | BN27: =+IF(BI27="N/A","N/A",ROUND(AVERAGE(BI27:BL27),0)) -> 62788 | BO27: =+IF(BM27="N/A","N/A",AVERAGE(BM27:BN27)) -> 48627.044 | BQ27: 91109 | BT27: 35008.076 | BU27: =+IF(BQ27="N/A","N/A",MIN(BQ27:BT27)) -> 35008.076 | BV27: =+IF(BQ27="N/A","N/A",ROUND(AVERAGE(BQ27:BT27),0)) -> 63059 | BW27: =+IF(BU27="N/A","N/A",AVERAGE(BU27:BV27)) -> 49033.538 | CB27: 34466.087 | CC27: =+IF(BY27="N/A","N/A",MIN(BY27:CB27)) -> 34466.087 | CD27: =+IF(BY27="N/A","N/A",ROUND(AVERAGE(BY27:CB27),0)) -> 34466 | CE27: =+IF(CC27="N/A","N/A",AVERAGE(CC27:CD27)) -> 34466.044 | CG27: 96034.9 | CJ27: 34466.087 | CK27: =+IF(CG27="N/A","N/A",MIN(CG27:CJ27)) -> 34466.087 | CL27: =+IF(CG27="N/A","N/A",ROUND(AVERAGE(CG27:CJ27),0)) -> 65250 | CM27: =+IF(CK27="N/A","N/A",AVERAGE(CK27:CL27)) -> 49858.044 | CR27: 24590.617 | CS27: =+IF(CO27="N/A","N/A",MIN(CO27:CR27)) -> 24590.617 | CT27: =+IF(CO27="N/A","N/A",ROUND(AVERAGE(CO27:CR27),0)) -> 24591 | CU27: =+IF(CS27="N/A","N/A",AVERAGE(CS27:CT27)) -> 24590.809 | CW27: 91109 | CZ27: 15097.881 | DA27: =+IF(CW27="N/A","N/A",MIN(CW27:CZ27)) -> 15097.881 | DB27: =+IF(CW27="N/A","N/A",ROUND(AVERAGE(CW27:CZ27),0)) -> 53103 | DC27: =+IF(DA27="N/A","N/A",AVERAGE(DA27:DB27)) -> 34100.441 | DE27: 37137.064 | DH27: 12160.339 | DI27: =+IF(DE27="N/A","N/A",MIN(DE27:DH27)) -> 12160.339 | DJ27: =+IF(DE27="N/A","N/A",ROUND(AVERAGE(DE27:DH27),0)) -> 24649 | DK27: =+IF(DI27="N/A","N/A",AVERAGE(DI27:DJ27)) -> 18404.67
A28: 12 | B28: Filtro Aire | C28: 1 | E28: 63100.751 | H28: 56827.869 | I28: =+IF(E28="N/A","N/A",MIN(E28:H28)) -> 56827.869 | J28: =+IF(E28="N/A","N/A",ROUND(AVERAGE(E28:H28),0)) -> 59964 | K28: =+IF(I28="N/A","N/A",AVERAGE(I28:J28)) -> 58395.935 | M28: 93837.863 | P28: 38310.013 | Q28: =+IF(M28="N/A","N/A",MIN(M28:P28)) -> 38310.013 | R28: =+IF(M28="N/A","N/A",ROUND(AVERAGE(M28:P28),0)) -> 66074 | S28: =+IF(Q28="N/A","N/A",AVERAGE(Q28:R28)) -> 52192.007 | U28: 96106.598 | X28: 32655.814 | Y28: =+IF(U28="N/A","N/A",MIN(U28:X28)) -> 32655.814 | Z28: =+IF(U28="N/A","N/A",ROUND(AVERAGE(U28:X28),0)) -> 64381 | AA28: =+IF(Y28="N/A","N/A",AVERAGE(Y28:Z28)) -> 48518.407 | AC28: 130605.87 | AF28: 39866.728 | AG28: =+IF(AC28="N/A","N/A",MIN(AC28:AF28)) -> 39866.728 | AH28: =+IF(AC28="N/A","N/A",ROUND(AVERAGE(AC28:AF28),0)) -> 85236 | AI28: =+IF(AG28="N/A","N/A",AVERAGE(AG28:AH28)) -> 62551.364 | AK28: 152476.76 | AN28: 32120.721 | AO28: =+IF(AK28="N/A","N/A",MIN(AK28:AN28)) -> 32120.721 | AP28: =+IF(AK28="N/A","N/A",ROUND(AVERAGE(AK28:AN28),0)) -> 92299 | AQ28: =+IF(AO28="N/A","N/A",AVERAGE(AO28:AP28)) -> 62209.86 | AV28: 35643.466 | AW28: =+IF(AS28="N/A","N/A",MIN(AS28:AV28)) -> 35643.466 | AX28: =+IF(AS28="N/A","N/A",ROUND(AVERAGE(AS28:AV28),0)) -> 35643 | AY28: =+IF(AW28="N/A","N/A",AVERAGE(AW28:AX28)) -> 35643.233 | BA28: 114901.29 | BD28: 19868.919 | BE28: =+IF(BA28="N/A","N/A",MIN(BA28:BD28)) -> 19868.919 | BF28: =+IF(BA28="N/A","N/A",ROUND(AVERAGE(BA28:BD28),0)) -> 67385 | BG28: =+IF(BE28="N/A","N/A",AVERAGE(BE28:BF28)) -> 43626.96 | BI28: 122623.6 | BL28: 70118.858 | BM28: =+IF(BI28="N/A","N/A",MIN(BI28:BL28)) -> 70118.858 | BN28: =+IF(BI28="N/A","N/A",ROUND(AVERAGE(BI28:BL28),0)) -> 96371 | BO28: =+IF(BM28="N/A","N/A",AVERAGE(BM28:BN28)) -> 83244.929 | BQ28: 122623.6 | BT28: 71786.302 | BU28: =+IF(BQ28="N/A","N/A",MIN(BQ28:BT28)) -> 71786.302 | BV28: =+IF(BQ28="N/A","N/A",ROUND(AVERAGE(BQ28:BT28),0)) -> 97205 | BW28: =+IF(BU28="N/A","N/A",AVERAGE(BU28:BV28)) -> 84495.651 | CB28: 67795.218 | CC28: =+IF(BY28="N/A","N/A",MIN(BY28:CB28)) -> 67795.218 | CD28: =+IF(BY28="N/A","N/A",ROUND(AVERAGE(BY28:CB28),0)) -> 67795 | CE28: =+IF(CC28="N/A","N/A",AVERAGE(CC28:CD28)) -> 67795.109 | CG28: 126982.2 | CJ28: 68957.038 | CK28: =+IF(CG28="N/A","N/A",MIN(CG28:CJ28)) -> 68957.038 | CL28: =+IF(CG28="N/A","N/A",ROUND(AVERAGE(CG28:CJ28),0)) -> 97970 | CM28: =+IF(CK28="N/A","N/A",AVERAGE(CK28:CL28)) -> 83463.519 | CR28: 70118.858 | CS28: =+IF(CO28="N/A","N/A",MIN(CO28:CR28)) -> 70118.858 | CT28: =+IF(CO28="N/A","N/A",ROUND(AVERAGE(CO28:CR28),0)) -> 70119 | CU28: =+IF(CS28="N/A","N/A",AVERAGE(CS28:CT28)) -> 70118.929 | CW28: 122623.6 | CZ28: 43382.859 | DA28: =+IF(CW28="N/A","N/A",MIN(CW28:CZ28)) -> 43382.859 | DB28: =+IF(CW28="N/A","N/A",ROUND(AVERAGE(CW28:CZ28),0)) -> 83003 | DC28: =+IF(DA28="N/A","N/A",AVERAGE(DA28:DB28)) -> 63192.929 | DE28: 81493.417 | DH28: 32289.062 | DI28: =+IF(DE28="N/A","N/A",MIN(DE28:DH28)) -> 32289.062 | DJ28: =+IF(DE28="N/A","N/A",ROUND(AVERAGE(DE28:DH28),0)) -> 56891 | DK28: =+IF(DI28="N/A","N/A",AVERAGE(DI28:DJ28)) -> 44590.031
A29: 13 | B29: Filtro Combustible | C29: 1 | E29: 52394.737 | H29: 39621.78 | I29: =+IF(E29="N/A","N/A",MIN(E29:H29)) -> 39621.78 | J29: =+IF(E29="N/A","N/A",ROUND(AVERAGE(E29:H29),0)) -> 46008 | K29: =+IF(I29="N/A","N/A",AVERAGE(I29:J29)) -> 42814.89 | M29: 73406.642 | P29: 45315.952 | Q29: =+IF(M29="N/A","N/A",MIN(M29:P29)) -> 45315.952 | R29: =+IF(M29="N/A","N/A",ROUND(AVERAGE(M29:P29),0)) -> 59361 | S29: =+IF(Q29="N/A","N/A",AVERAGE(Q29:R29)) -> 52338.476 | U29: N/A | V29: N/A | W29: N/A | X29: N/A | Y29: N/A | Z29: N/A | AA29: N/A | AC29: 135331.44 | AF29: 41327.547 | AG29: =+IF(AC29="N/A","N/A",MIN(AC29:AF29)) -> 41327.547 | AH29: =+IF(AC29="N/A","N/A",ROUND(AVERAGE(AC29:AF29),0)) -> 88329 | AI29: =+IF(AG29="N/A","N/A",AVERAGE(AG29:AH29)) -> 64828.274 | AK29: N/A | AL29: N/A | AM29: N/A | AN29: N/A | AO29: N/A | AP29: N/A | AQ29: N/A | AV29: 39799.92 | AW29: =+IF(AS29="N/A","N/A",MIN(AS29:AV29)) -> 39799.92 | AX29: =+IF(AS29="N/A","N/A",ROUND(AVERAGE(AS29:AV29),0)) -> 39800 | AY29: =+IF(AW29="N/A","N/A",AVERAGE(AW29:AX29)) -> 39799.96 | BA29: 126374.8 | BD29: 34541.291 | BE29: =+IF(BA29="N/A","N/A",MIN(BA29:BD29)) -> 34541.291 | BF29: =+IF(BA29="N/A","N/A",ROUND(AVERAGE(BA29:BD29),0)) -> 80458 | BG29: =+IF(BE29="N/A","N/A",AVERAGE(BE29:BF29)) -> 57499.645 | BI29: 136183 | BL29: 94657.658 | BM29: =+IF(BI29="N/A","N/A",MIN(BI29:BL29)) -> 94657.658 | BN29: =+IF(BI29="N/A","N/A",ROUND(AVERAGE(BI29:BL29),0)) -> 115420 | BO29: =+IF(BM29="N/A","N/A",AVERAGE(BM29:BN29)) -> 105038.83 | BQ29: 136183 | BT29: 97617.162 | BU29: =+IF(BQ29="N/A","N/A",MIN(BQ29:BT29)) -> 97617.162 | BV29: =+IF(BQ29="N/A","N/A",ROUND(AVERAGE(BQ29:BT29),0)) -> 116900 | BW29: =+IF(BU29="N/A","N/A",AVERAGE(BU29:BV29)) -> 107258.58 | CB29: 91636.926 | CC29: =+IF(BY29="N/A","N/A",MIN(BY29:CB29)) -> 91636.926 | CD29: =+IF(BY29="N/A","N/A",ROUND(AVERAGE(BY29:CB29),0)) -> 91637 | CE29: =+IF(CC29="N/A","N/A",AVERAGE(CC29:CD29)) -> 91636.963 | CG29: 141431.3 | CJ29: 86524.918 | CK29: =+IF(CG29="N/A","N/A",MIN(CG29:CJ29)) -> 86524.918 | CL29: =+IF(CG29="N/A","N/A",ROUND(AVERAGE(CG29:CJ29),0)) -> 113978 | CM29: =+IF(CK29="N/A","N/A",AVERAGE(CK29:CL29)) -> 100251.46 | CR29: 94657.658 | CS29: =+IF(CO29="N/A","N/A",MIN(CO29:CR29)) -> 94657.658 | CT29: =+IF(CO29="N/A","N/A",ROUND(AVERAGE(CO29:CR29),0)) -> 94658 | CU29: =+IF(CS29="N/A","N/A",AVERAGE(CS29:CT29)) -> 94657.829 | CW29: 136183 | CZ29: 60015.031 | DA29: =+IF(CW29="N/A","N/A",MIN(CW29:CZ29)) -> 60015.031 | DB29: =+IF(CW29="N/A","N/A",ROUND(AVERAGE(CW29:CZ29),0)) -> 98099 | DC29: =+IF(DA29="N/A","N/A",AVERAGE(DA29:DB29)) -> 79057.016 | DE29: 120053.7 | DH29: 37591.605 | DI29: =+IF(DE29="N/A","N/A",MIN(DE29:DH29)) -> 37591.605 | DJ29: =+IF(DE29="N/A","N/A",ROUND(AVERAGE(DE29:DH29),0)) -> 78823 | DK29: =+IF(DI29="N/A","N/A",AVERAGE(DI29:DJ29)) -> 58207.302
A30: 14 | B30: Juego Cables De Alta | C30: 1 | E30: N/A | F30: N/A | G30: N/A | H30: N/A | I30: N/A | J30: N/A | K30: N/A | M30: N/A | N30: N/A | O30: N/A | P30: N/A | Q30: N/A | R30: N/A | S30: N/A | U30: N/A | V30: N/A | W30: N/A | X30: N/A | Y30: N/A | Z30: N/A | AA30: N/A | AF30: 123351.57 | AG30: =+IF(AC30="N/A","N/A",MIN(AC30:AF30)) -> 123351.57 | AH30: =+IF(AC30="N/A","N/A",ROUND(AVERAGE(AC30:AF30),0)) -> 123352 | AI30: =+IF(AG30="N/A","N/A",AVERAGE(AG30:AH30)) -> 123351.78 | AK30: N/A | AL30: N/A | AM30: N/A | AN30: N/A | AO30: N/A | AP30: N/A | AQ30: N/A | AV30: 117102.04 | AW30: =+IF(AS30="N/A","N/A",MIN(AS30:AV30)) -> 117102.04 | AX30: =+IF(AS30="N/A","N/A",ROUND(AVERAGE(AS30:AV30),0)) -> 117102 | AY30: =+IF(AW30="N/A","N/A",AVERAGE(AW30:AX30)) -> 117102.02 | BA30: 256726.15 | BD30: 123696.57 | BE30: =+IF(BA30="N/A","N/A",MIN(BA30:BD30)) -> 123696.57 | BF30: =+IF(BA30="N/A","N/A",ROUND(AVERAGE(BA30:BD30),0)) -> 190211 | BG30: =+IF(BE30="N/A","N/A",AVERAGE(BE30:BF30)) -> 156953.78 | BI30: N/A | BJ30: N/A | BK30: N/A | BL30: N/A | BM30: N/A | BN30: N/A | BO30: N/A | BQ30: N/A | BR30: N/A | BS30: N/A | BT30: N/A | BU30: N/A | BV30: N/A | BW30: N/A | BY30: N/A | BZ30: N/A | CA30: N/A | CB30: N/A | CC30: N/A | CD30: N/A | CE30: N/A | CG30: N/A | CH30: N/A | CI30: N/A | CJ30: N/A | CK30: N/A | CL30: N/A | CM30: N/A | CO30: N/A | CP30: N/A | CQ30: N/A | CR30: N/A | CS30: N/A | CT30: N/A | CU30: N/A | CW30: N/A | CX30: N/A | CY30: N/A | CZ30: N/A | DA30: N/A | DB30: N/A | DC30: N/A | DE30: N/A | DF30: N/A | DG30: N/A | DH30: N/A | DI30: N/A | DJ30: N/A | DK30: N/A
