Workbook

Sheet REPUESTOS VEHICULOS
A3: LISTA DE PRECIO GRUPO SECCIONAL SAN ANDRÉS | E3: COTIZACIÓN No.1 | F3: COTIZACIÓN No.2 | G3: COTIZACIÓN No.3 | H3: HISTORICOS DE CONTRATACIÓN | I3: MINIMO | J3: PROMEDIO | M3: COTIZACIÓN No.1 | N3: COTIZACIÓN No.2 | O3: COTIZACIÓN No.3 | P3: HISTORICOS DE CONTRATACIÓN | Q3: MINIMO | R3: PROMEDIO | U3: COTIZACIÓN No.1 | V3: COTIZACIÓN No.2 | W3: COTIZACIÓN No.3 | X3: HISTORICOS DE CONTRATACIÓN | Y3: MINIMO | Z3: PROMEDIO | AC3: COTIZACIÓN No.1 | AD3: COTIZACIÓN No.2 | AE3: COTIZACIÓN No.3 | AF3: HISTORICOS DE CONTRATACIÓN | AG3: MINIMO | AH3: PROMEDIO | AK3: COTIZACIÓN No.1 | AL3: COTIZACIÓN No.2 | AM3: COTIZACIÓN No.3 | AN3: HISTORICOS DE CONTRATACIÓN | AO3: MINIMO | AP3: PROMEDIO
A4: NECESIDAD CONTRATACÓN MULTIMARCA MANO DE OBRA | E4: 1. REPUESTOS | F4: 1. REPUESTOS | G4: 1. REPUESTOS | H4: 1. REPUESTOS | I4: 1. REPUESTOS | J4: 1. REPUESTOS | K4: 1. REPUESTOS | M4: 2. REPUESTOS | N4: 2. REPUESTOS | O4: 2. REPUESTOS | P4: 2. REPUESTOS | Q4: 2. REPUESTOS | R4: 2. REPUESTOS | S4: 2. REPUESTOS | U4: 3. REPUESTOS | V4: 3. REPUESTOS | W4: 3. REPUESTOS | X4: 3. REPUESTOS | Y4: 3. REPUESTOS | Z4: 3. REPUESTOS | AA4: 3. REPUESTOS | AC4: 4. REPUESTOS | AD4: 4. REPUESTOS | AE4: 4. REPUESTOS | AF4: 4. REPUESTOS | AG4: 4. REPUESTOS | AH4: 4. REPUESTOS | AI4: 4. REPUESTOS | AK4: 5. REPUESTOS | AL4: 5. REPUESTOS | AM4: 5. REPUESTOS | AN4: 5. REPUESTOS | AO4: 5. REPUESTOS | AP4: 5. REPUESTOS | AQ4: 5. REPUESTOS
A6: NOMBRE DEL ACTIVO | E6: CAMIONETA | F6: CAMIONETA | G6: CAMIONETA | H6: CAMIONETA | I6: CAMIONETA | J6: CAMIONETA | K6: CAMIONETA | M6: CAMIONETA | N6: CAMIONETA | O6: CAMIONETA | P6: CAMIONETA | Q6: CAMIONETA | R6: CAMIONETA | S6: CAMIONETA | U6: CAMIONETA | V6: CAMIONETA | W6: CAMIONETA | X6: CAMIONETA | Y6: CAMIONETA | Z6: CAMIONETA | AA6: CAMIONETA | AC6: AUTOMOVIL | AD6: AUTOMOVIL | AE6: AUTOMOVIL | AF6: AUTOMOVIL | AG6: AUTOMOVIL | AH6: AUTOMOVIL | AI6: AUTOMOVIL | AK6: AUTOMOVIL | AL6: AUTOMOVIL | AM6: AUTOMOVIL | AN6: AUTOMOVIL | AO6: AUTOMOVIL | AP6: AUTOMOVIL | AQ6: AUTOMOVIL
A7: MARCA | E7: CHEVROLET | F7: CHEVROLET | G7: CHEVROLET | H7: CHEVROLET | I7: CHEVROLET | J7: CHEVROLET | K7: CHEVROLET | M7: NISSAN | N7: NISSAN | O7: NISSAN | P7: NISSAN | Q7: NISSAN | R7: NISSAN | S7: NISSAN | U7: RENAULT | V7: RENAULT | W7: RENAULT | X7: RENAULT | Y7: RENAULT | Z7: RENAULT | AA7: RENAULT | AC7: RENAULT | AD7: RENAULT | AE7: RENAULT | AF7: RENAULT | AG7: RENAULT | AH7: RENAULT | AI7: RENAULT | AK7: TOYOTA | AL7: TOYOTA | AM7: TOYOTA | AN7: TOYOTA | AO7: TOYOTA | AP7: TOYOTA | AQ7: TOYOTA
A8: LÍNEA | C8: CANTIDAD | E8: LUV D-MAX (3) | F8: LUV D-MAX (3) | G8: LUV D-MAX (3) | H8: LUV D-MAX (3) | I8: LUV D-MAX (3) | J8: LUV D-MAX (3) | K8: LUV D-MAX (3) | M8: FRONTIER D22 (2) | N8: FRONTIER D22 (2) | O8: FRONTIER D22 (2) | P8: FRONTIER D22 (2) | Q8: FRONTIER D22 (2) | R8: FRONTIER D22 (2) | S8: FRONTIER D22 (2) | U8: DUSTER (1) | V8: DUSTER (1) | W8: DUSTER (1) | X8: DUSTER (1) | Y8: DUSTER (1) | Z8: DUSTER (1) | AA8: DUSTER (1) | AC8: LOGAN EXPRESSION (1) | AD8: LOGAN EXPRESSION (1) | AE8: LOGAN EXPRESSION (1) | AF8: LOGAN EXPRESSION (1) | AG8: LOGAN EXPRESSION (1) | AH8: LOGAN EXPRESSION (1) | AI8: LOGAN EXPRESSION (1) | AK8: LAND CRUISER | AL8: LAND CRUISER | AM8: LAND CRUISER | AN8: LAND CRUISER | AO8: LAND CRUISER | AP8: LAND CRUISER | AQ8: LAND CRUISER
A9: MODELO | E9: 2011-2013-2015 | F9: 2011-2013-2015 | G9: 2011-2013-2015 | H9: 2011-2013-2015 | I9: 2011-2013-2015 | J9: 2011-2013-2015 | K9: 2011-2013-2015 | M9: 2012 | N9: 2012 | O9: 2012 | P9: 2012 | Q9: 2012 | R9: 2012 | S9: 2012 | U9: 2018 | V9: 2018 | W9: 2018 | X9: 2018 | Y9: 2018 | Z9: 2018 | AA9: 2018 | AC9: 2015 | AD9: 2015 | AE9: 2015 | AF9: 2015 | AG9: 2015 | AH9: 2015 | AI9: 2015 | AK9: 2008 | AL9: 2008 | AM9: 2008 | AN9: 2008 | AO9: 2008 | AP9: 2008 | AQ9: 2008
A10: MUTIMARCA CAMIONETAS Y AUTOMÓVILES | E10: COSTO REPUESTO (S) | F10: COSTO REPUESTO (S) | G10: COSTO REPUESTO (S) | H10: COSTO REPUESTO (S) | I10: COSTO REPUESTO (S) | J10: COSTO REPUESTO (S) | K10: COSTO REPUESTO (S) | M10: COSTO REPUESTO (S) | N10: COSTO REPUESTO (S) | O10: COSTO REPUESTO (S) | P10: COSTO REPUESTO (S) | Q10: COSTO REPUESTO (S) | R10: COSTO REPUESTO (S) | S10: COSTO REPUESTO (S) | U10: COSTO REPUESTO (S) | V10: COSTO REPUESTO (S) | W10: COSTO REPUESTO (S) | X10: COSTO REPUESTO (S) | Y10: COSTO REPUESTO (S) | Z10: COSTO REPUESTO (S) | AA10: COSTO REPUESTO (S) | AC10: COSTO REPUESTO (S) | AD10: COSTO REPUESTO (S) | AE10: COSTO REPUESTO (S) | AF10: COSTO REPUESTO (S) | AG10: COSTO REPUESTO (S) | AH10: COSTO REPUESTO (S) | AI10: COSTO REPUESTO (S) | AK10: COSTO REPUESTO (S) | AL10: COSTO REPUESTO (S) | AM10: COSTO REPUESTO (S) | AN10: COSTO REPUESTO (S) | AO10: COSTO REPUESTO (S) | AP10: COSTO REPUESTO (S) | AQ10: COSTO REPUESTO (S)
E11: VALOR UNITARIO | F11: VALOR UNITARIO | G11: VALOR UNITARIO | H11: VALOR UNITARIO | I11: VALOR UNITARIO | J11: VALOR UNITARIO | K11: VALOR UNITARIO | M11: VALOR UNITARIO | N11: VALOR UNITARIO | O11: VALOR UNITARIO | P11: VALOR UNITARIO | Q11: VALOR UNITARIO | R11: VALOR UNITARIO | S11: VALOR UNITARIO | U11: VALOR UNITARIO | V11: VALOR UNITARIO | W11: VALOR UNITARIO | X11: VALOR UNITARIO | Y11: VALOR UNITARIO | Z11: VALOR UNITARIO | AA11: VALOR UNITARIO | AC11: VALOR UNITARIO | AD11: VALOR UNITARIO | AE11: VALOR UNITARIO | AF11: VALOR UNITARIO | AG11: VALOR UNITARIO | AH11: VALOR UNITARIO | AI11: VALOR UNITARIO | AK11: VALOR UNITARIO | AL11: VALOR UNITARIO | AM11: VALOR UNITARIO | AN11: VALOR UNITARIO | AO11: VALOR UNITARIO | AP11: VALOR UNITARIO | AQ11: VALOR UNITARIO
A12: ÌTEM | B12: SISTEMA DE FRENOS
A13: 1 | B13: Juego de Bandas Remachadas (Dos pares) | C13: 1 | E13: 710000 | F13: 494221.72 | H13: 415900.03 | I13: =+IF(E13="N/A","N/A",MIN(E13:H13)) -> 415900.03 | J13: =+IF(E13="N/A","N/A",ROUND(AVERAGE(E13:H13),0)) -> 540041 | K13: =+IF(I13="N/A","N/A",AVERAGE(I13:J13)) -> 477970.52 | M13: 724200 | N13: 634987.5 | P13: 534357.98 | Q13: =+IF(M13="N/A","N/A",MIN(M13:P13)) -> 534357.98 | R13: =+IF(M13="N/A","N/A",ROUND(AVERAGE(M13:P13),0)) -> 631182 | S13: =+IF(Q13="N/A","N/A",AVERAGE(Q13:R13)) -> 582769.99 | U13: 660300 | V13: 622724.1 | X13: 524038.02 | Y13: =+IF(U13="N/A","N/A",MIN(U13:X13)) -> 524038.02 | Z13: =+IF(U13="N/A","N/A",ROUND(AVERAGE(U13:X13),0)) -> 602354 | AA13: =+IF(Y13="N/A","N/A",AVERAGE(Y13:Z13)) -> 563196.01 | AC13: 646100 | AD13: 609288.49 | AF13: 512731.62 | AG13: =+IF(AC13="N/A","N/A",MIN(AC13:AF13)) -> 512731.62 | AH13: =+IF(AC13="N/A","N/A",ROUND(AVERAGE(AC13:AF13),0)) -> 589373 | AI13: =+IF(AG13="N/A","N/A",AVERAGE(AG13:AH13)) -> 551052.31 | AK13: 745500 | AO13: =+IF(AK13="N/A","N/A",MIN(AK13:AN13)) -> 745500 | AP13: =+IF(AK13="N/A","N/A",ROUND(AVERAGE(AK13:AN13),0)) -> 745500 | AQ13: =+IF(AO13="N/A","N/A",AVERAGE(AO13:AP13)) -> 745500
A14: 2 | B14: Juego De Bandas Frenos (Dos pares) | C14: 1 | E14: 710000 | F14: 459040.61 | H14: 386294.24 | I14: =+IF(E14="N/A","N/A",MIN(E14:H14)) -> 386294.24 | J14: =+IF(E14="N/A","N/A",ROUND(AVERAGE(E14:H14),0)) -> 518445 | K14: =+IF(I14="N/A","N/A",AVERAGE(I14:J14)) -> 452369.62 | M14: 724200 | N14: 879450 | P14: 740079.34 | Q14: =+IF(M14="N/A","N/A",MIN(M14:P14)) -> 724200 | R14: =+IF(M14="N/A","N/A",ROUND(AVERAGE(M14:P14),0)) -> 781243 | S14: =+IF(Q14="N/A","N/A",AVERAGE(Q14:R14)) -> 752721.5 | U14: 660300 | V14: 517783.19 | X14: 435727.6 | Y14: =+IF(U14="N/A","N/A",MIN(U14:X14)) -> 435727.6 | Z14: =+IF(U14="N/A","N/A",ROUND(AVERAGE(U14:X14),0)) -> 537937 | AA14: =+IF(Y14="N/A","N/A",AVERAGE(Y14:Z14)) -> 486832.3 | AC14: 646100 | AD14: 765230.6 | AF14: 643960.84 | AG14: =+IF(AC14="N/A","N/A",MIN(AC14:AF14)) -> 643960.84 | AH14: =+IF(AC14="N/A","N/A",ROUND(AVERAGE(AC14:AF14),0)) -> 685097 | AI14: =+IF(AG14="N/A","N/A",AVERAGE(AG14:AH14)) -> 664528.92 | AK14: 745500 | AO14: =+IF(AK14="N/A","N/A",MIN(AK14:AN14)) -> 745500 | AP14: =+IF(AK14="N/A","N/A",ROUND(AVERAGE(AK14:AN14),0)) -> 745500 | AQ14: =+IF(AO14="N/A","N/A",AVERAGE(AO14:AP14)) -> 745500
A15: 3 | B15: Cilindro De Freno | C15: 1 | E15: 668400 | F15: 364171.99 | H15: 306459.91 | I15: =+IF(E15="N/A","N/A",MIN(E15:H15)) -> 306459.91 | J15: =+IF(E15="N/A","N/A",ROUND(AVERAGE(E15:H15),0)) -> 446344 | K15: =+IF(I15="N/A","N/A",AVERAGE(I15:J15)) -> 376401.95 | M15: 681768 | N15: 292125 | P15: 245830.55 | Q15: =+IF(M15="N/A","N/A",MIN(M15:P15)) -> 245830.55 | R15: =+IF(M15="N/A","N/A",ROUND(AVERAGE(M15:P15),0)) -> 406575 | S15: =+IF(Q15="N/A","N/A",AVERAGE(Q15:R15)) -> 326202.78 | U15: 621612 | V15: 509507.82 | X15: 428763.67 | Y15: =+IF(U15="N/A","N/A",MIN(U15:X15)) -> 428763.67 | Z15: =+IF(U15="N/A","N/A",ROUND(AVERAGE(U15:X15),0)) -> 519961 | AA15: =+IF(Y15="N/A","N/A",AVERAGE(Y15:Z15)) -> 474362.34 | AC15: 608244 | AD15: 312836.62 | AF15: 263259.9 | AG15: =+IF(AC15="N/A","N/A",MIN(AC15:AF15)) -> 263259.9 | AH15: =+IF(AC15="N/A","N/A",ROUND(AVERAGE(AC15:AF15),0)) -> 394780 | AI15: =+IF(AG15="N/A","N/A",AVERAGE(AG15:AH15)) -> 329019.95 | AK15: 701820 | AO15: =+IF(AK15="N/A","N/A",MIN(AK15:AN15)) -> 701820 | AP15: =+IF(AK15="N/A","N/A",ROUND(AVERAGE(AK15:AN15),0)) -> 701820 | AQ15: =+IF(AO15="N/A","N/A",AVERAGE(AO15:AP15)) -> 701820
A16: 4 | B16: Discos De Frenos Delanteros (Par) | C16: 1 | E16: 1215229.2 | F16: 957344.19 | H16: 805629.26 | I16: =+IF(E16="N/A","N/A",MIN(E16:H16)) -> 805629.26 | J16: =+IF(E16="N/A","N/A",ROUND(AVERAGE(E16:H16),0)) -> 992734 | K16: =+IF(I16="N/A","N/A",AVERAGE(I16:J16)) -> 899181.63 | M16: 1239533.8 | N16: 864902.48 | P16: 727837.24 | Q16: =+IF(M16="N/A","N/A",MIN(M16:P16)) -> 727837.24 | R16: =+IF(M16="N/A","N/A",ROUND(AVERAGE(M16:P16),0)) -> 944091 | S16: =+IF(Q16="N/A","N/A",AVERAGE(Q16:R16)) -> 835964.12 | U16: 1130163.2 | V16: 942654.89 | X16: 793267.85 | Y16: =+IF(U16="N/A","N/A",MIN(U16:X16)) -> 793267.85 | Z16: =+IF(U16="N/A","N/A",ROUND(AVERAGE(U16:X16),0)) -> 955362 | AA16: =+IF(Y16="N/A","N/A",AVERAGE(Y16:Z16)) -> 874314.92 | AC16: 1105858.6 | AD16: 921584.23 | AF16: 775536.36 | AG16: =+IF(AC16="N/A","N/A",MIN(AC16:AF16)) -> 775536.36 | AH16: =+IF(AC16="N/A","N/A",ROUND(AVERAGE(AC16:AF16),0)) -> 934326 | AI16: =+IF(AG16="N/A","N/A",AVERAGE(AG16:AH16)) -> 854931.18 | AK16: 1275990.7 | AO16: =+IF(AK16="N/A","N/A",MIN(AK16:AN16)) -> 1275990.7 | AP16: =+IF(AK16="N/A","N/A",ROUND(AVERAGE(AK16:AN16),0)) -> 1275991 | AQ16: =+IF(AO16="N/A","N/A",AVERAGE(AO16:AP16)) -> 1275990.8
A17: 5 | B17: Juego De Pastillas De Frenos Delantera (Dos pares) | C17: 1 | E17: 396602.4 | F17: 292367.93 | H17: 246034.98 | I17: =+IF(E17="N/A","N/A",MIN(E17:H17)) -> 246034.98 | J17: =+IF(E17="N/A","N/A",ROUND(AVERAGE(E17:H17),0)) -> 311668 | K17: =+IF(I17="N/A","N/A",AVERAGE(I17:J17)) -> 278851.49 | M17: 404534.45 | N17: 276904.36 | P17: 233022 | Q17: =+IF(M17="N/A","N/A",MIN(M17:P17)) -> 233022 | R17: =+IF(M17="N/A","N/A",ROUND(AVERAGE(M17:P17),0)) -> 304820 | S17: =+IF(Q17="N/A","N/A",AVERAGE(Q17:R17)) -> 268921 | U17: 368840.23 | V17: 283074.03 | X17: 238213.93 | Y17: =+IF(U17="N/A","N/A",MIN(U17:X17)) -> 238213.93 | Z17: =+IF(U17="N/A","N/A",ROUND(AVERAGE(U17:X17),0)) -> 296709 | AA17: =+IF(Y17="N/A","N/A",AVERAGE(Y17:Z17)) -> 267461.46 | AC17: 360908.18 | AD17: 257486.14 | AF17: 216681.07 | AG17: =+IF(AC17="N/A","N/A",MIN(AC17:AF17)) -> 216681.07 | AH17: =+IF(AC17="N/A","N/A",ROUND(AVERAGE(AC17:AF17),0)) -> 278358 | AI17: =+IF(AG17="N/A","N/A",AVERAGE(AG17:AH17)) -> 247519.54 | AK17: 416432.52 | AO17: =+IF(AK17="N/A","N/A",MIN(AK17:AN17)) -> 416432.52 | AP17: =+IF(AK17="N/A","N/A",ROUND(AVERAGE(AK17:AN17),0)) -> 416433 | AQ17: =+IF(AO17="N/A","N/A",AVERAGE(AO17:AP17)) -> 416432.76
A18: 6 | B18: Juego De Pastillas De Frenos Traseras (Dos pares) | C18: 1 | E18: N/A | F18: N/A | G18: N/A | H18: N/A | I18: N/A | J18: N/A | K18: N/A | M18: N/A | N18: N/A | O18: N/A | P18: N/A | Q18: N/A | R18: N/A | S18: N/A | U18: N/A | V18: N/A | W18: N/A | X18: N/A | Y18: N/A | Z18: N/A | AA18: N/A | AC18: N/A | AD18: N/A | AE18: N/A | AF18: N/A | AG18: N/A | AH18: N/A | AI18: N/A | AK18: 680000 | AO18: =+IF(AK18="N/A","N/A",MIN(AK18:AN18)) -> 680000 | AP18: =+IF(AK18="N/A","N/A",ROUND(AVERAGE(AK18:AN18),0)) -> 680000 | AQ18: =+IF(AO18="N/A","N/A",AVERAGE(AO18:AP18)) -> 680000
A19: 7 | B19: Pistón Caliper | C19: 1 | E19: 488125.2 | F19: 237385.29 | H19: 199765.71 | I19: =+IF(E19="N/A","N/A",MIN(E19:H19)) -> 199765.71 | J19: =+IF(E19="N/A","N/A",ROUND(AVERAGE(E19:H19),0)) -> 308425 | K19: =+IF(I19="N/A","N/A",AVERAGE(I19:J19)) -> 254095.35 | M19: 497887.7 | N19: 383382.08 | P19: 322625.68 | Q19: =+IF(M19="N/A","N/A",MIN(M19:P19)) -> 322625.68 | R19: =+IF(M19="N/A","N/A",ROUND(AVERAGE(M19:P19),0)) -> 401298 | S19: =+IF(Q19="N/A","N/A",AVERAGE(Q19:R19)) -> 361961.84 | U19: 453956.44 | V19: 219709.73 | X19: 184891.27 | Y19: =+IF(U19="N/A","N/A",MIN(U19:X19)) -> 184891.27 | Z19: =+IF(U19="N/A","N/A",ROUND(AVERAGE(U19:X19),0)) -> 286186 | AA19: =+IF(Y19="N/A","N/A",AVERAGE(Y19:Z19)) -> 235538.64 | AC19: 444193.93 | AD19: 214636.28 | AF19: 180621.84 | AG19: =+IF(AC19="N/A","N/A",MIN(AC19:AF19)) -> 180621.84 | AH19: =+IF(AC19="N/A","N/A",ROUND(AVERAGE(AC19:AF19),0)) -> 279817 | AI19: =+IF(AG19="N/A","N/A",AVERAGE(AG19:AH19)) -> 230219.42 | AK19: 512531.46 | AO19: =+IF(AK19="N/A","N/A",MIN(AK19:AN19)) -> 512531.46 | AP19: =+IF(AK19="N/A","N/A",ROUND(AVERAGE(AK19:AN19),0)) -> 512531 | AQ19: =+IF(AO19="N/A","N/A",AVERAGE(AO19:AP19)) -> 512531.23
A20: 8 | B20: Juego Interiores Caliper | C20: 1 | E20: 216000 | F20: 148314.8 | H20: 124810.64 | I20: =+IF(E20="N/A","N/A",MIN(E20:H20)) -> 124810.64 | J20: =+IF(E20="N/A","N/A",ROUND(AVERAGE(E20:H20),0)) -> 163042 | K20: =+IF(I20="N/A","N/A",AVERAGE(I20:J20)) -> 143926.32 | M20: 220320 | N20: 249075 | P20: 209602.89 | Q20: =+IF(M20="N/A","N/A",MIN(M20:P20)) -> 209602.89 | R20: =+IF(M20="N/A","N/A",ROUND(AVERAGE(M20:P20),0)) -> 226333 | S20: =+IF(Q20="N/A","N/A",AVERAGE(Q20:R20)) -> 217967.95 | U20: 200880 | V20: 145187.58 | X20: 122179.01 | Y20: =+IF(U20="N/A","N/A",MIN(U20:X20)) -> 122179.01 | Z20: =+IF(U20="N/A","N/A",ROUND(AVERAGE(U20:X20),0)) -> 156082 | AA20: =+IF(Y20="N/A","N/A",AVERAGE(Y20:Z20)) -> 139130.51 | AC20: 196560 | AD20: 146312.07 | AF20: 123125.29 | AG20: =+IF(AC20="N/A","N/A",MIN(AC20:AF20)) -> 123125.29 | AH20: =+IF(AC20="N/A","N/A",ROUND(AVERAGE(AC20:AF20),0)) -> 155332 | AI20: =+IF(AG20="N/A","N/A",AVERAGE(AG20:AH20)) -> 139228.65 | AK20: 226800 | AO20: =+IF(AK20="N/A","N/A",MIN(AK20:AN20)) -> 226800 | AP20: =+IF(AK20="N/A","N/A",ROUND(AVERAGE(AK20:AN20),0)) -> 226800 | AQ20: =+IF(AO20="N/A","N/A",AVERAGE(AO20:AP20)) -> 226800
A21: 9 | B21: Liquido De Freno (Pinta 290 ml) | C21: 1 | E21: 80000 | F21: 27021.809 | H21: 22739.533 | I21: =+IF(E21="N/A","N/A",MIN(E21:H21)) -> 22739.533 | J21: =+IF(E21="N/A","N/A",ROUND(AVERAGE(E21:H21),0)) -> 43254 | K21: =+IF(I21="N/A","N/A",AVERAGE(I21:J21)) -> 32996.767 | M21: 80000 | N21: 38437.5 | P21: 32346.125 | Q21: =+IF(M21="N/A","N/A",MIN(M21:P21)) -> 32346.125 | R21: =+IF(M21="N/A","N/A",ROUND(AVERAGE(M21:P21),0)) -> 50261 | S21: =+IF(Q21="N/A","N/A",AVERAGE(Q21:R21)) -> 41303.562 | U21: 80000 | V21: 26368.56 | X21: 22189.808 | Y21: =+IF(U21="N/A","N/A",MIN(U21:X21)) -> 22189.808 | Z21: =+IF(U21="N/A","N/A",ROUND(AVERAGE(U21:X21),0)) -> 42853 | AA21: =+IF(Y21="N/A","N/A",AVERAGE(Y21:Z21)) -> 32521.404 | AC21: 80000 | AD21: 26458.376 | AF21: 22265.39 | AG21: =+IF(AC21="N/A","N/A",MIN(AC21:AF21)) -> 22265.39 | AH21: =+IF(AC21="N/A","N/A",ROUND(AVERAGE(AC21:AF21),0)) -> 42908 | AI21: =+IF(AG21="N/A","N/A",AVERAGE(AG21:AH21)) -> 32586.695 | AK21: 80000 | AO21: =+IF(AK21="N/A","N/A",MIN(AK21:AN21)) -> 80000 | AP21: =+IF(AK21="N/A","N/A",ROUND(AVERAGE(AK21:AN21),0)) -> 80000 | AQ21: =+IF(AO21="N/A","N/A",AVERAGE(AO21:AP21)) -> 80000
A22: 10 | B22: Interiores De Bomba | C22: 1 | E22: 589000 | F22: 172008.5 | H22: 144749.49 | I22: =+IF(E22="N/A","N/A",MIN(E22:H22)) -> 144749.49 | J22: =+IF(E22="N/A","N/A",ROUND(AVERAGE(E22:H22),0)) -> 301919 | K22: =+IF(I22="N/A","N/A",AVERAGE(I22:J22)) -> 223334.24 | M22: 600780 | N22: 242925 | P22: 204427.51 | Q22: =+IF(M22="N/A","N/A",MIN(M22:P22)) -> 204427.51 | R22: =+IF(M22="N/A","N/A",ROUND(AVERAGE(M22:P22),0)) -> 349378 | S22: =+IF(Q22="N/A","N/A",AVERAGE(Q22:R22)) -> 276902.76 | U22: 547770 | V22: 164953.17 | X22: 138812.25 | Y22: =+IF(U22="N/A","N/A",MIN(U22:X22)) -> 138812.25 | Z22: =+IF(U22="N/A","N/A",ROUND(AVERAGE(U22:X22),0)) -> 283845 | AA22: =+IF(Y22="N/A","N/A",AVERAGE(Y22:Z22)) -> 211328.62 | AC22: 535990 | AD22: 158547.66 | AF22: 133421.85 | AG22: =+IF(AC22="N/A","N/A",MIN(AC22:AF22)) -> 133421.85 | AH22: =+IF(AC22="N/A","N/A",ROUND(AVERAGE(AC22:AF22),0)) -> 275987 | AI22: =+IF(AG22="N/A","N/A",AVERAGE(AG22:AH22)) -> 204704.42 | AK22: 618450 | AO22: =+IF(AK22="N/A","N/A",MIN(AK22:AN22)) -> 618450 | AP22: =+IF(AK22="N/A","N/A",ROUND(AVERAGE(AK22:AN22),0)) -> 618450 | AQ22: =+IF(AO22="N/A","N/A",AVERAGE(AO22:AP22)) -> 618450
B23: SINCRONIZACIÓN
A24: 11 | B24: Bujía | C24: 1 | E24: 60000 | F24: 43919.426 | H24: 36959.304 | I24: =+IF(E24="N/A","N/A",MIN(E24:H24)) -> 36959.304 | J24: =+IF(E24="N/A","N/A",ROUND(AVERAGE(E24:H24),0)) -> 46960 | K24: =+IF(I24="N/A","N/A",AVERAGE(I24:J24)) -> 41959.652 | M24: 61200 | N24: 50737.5 | P24: 42696.885 | Q24: =+IF(M24="N/A","N/A",MIN(M24:P24)) -> 42696.885 | R24: =+IF(M24="N/A","N/A",ROUND(AVERAGE(M24:P24),0)) -> 51545 | S24: =+IF(Q24="N/A","N/A",AVERAGE(Q24:R24)) -> 47120.943 | U24: 55800 | V24: 42365.091 | X24: 35651.292 | Y24: =+IF(U24="N/A","N/A",MIN(U24:X24)) -> 35651.292 | Z24: =+IF(U24="N/A","N/A",ROUND(AVERAGE(U24:X24),0)) -> 44605 | AA24: =+IF(Y24="N/A","N/A",AVERAGE(Y24:Z24)) -> 40128.146 | AC24: 54600 | AD24: 41805.393 | AF24: 35180.291 | AG24: =+IF(AC24="N/A","N/A",MIN(AC24:AF24)) -> 35180.291 | AH24: =+IF(AC24="N/A","N/A",ROUND(AVERAGE(AC24:AF24),0)) -> 43862 | AI24: =+IF(AG24="N/A","N/A",AVERAGE(AG24:AH24)) -> 39521.146 | AK24: 63000 | AO24: =+IF(AK24="N/A","N/A",MIN(AK24:AN24)) -> 63000 | AP24: =+IF(AK24="N/A","N/A",ROUND(AVERAGE(AK24:AN24),0)) -> 63000 | AQ24: =+IF(AO24="N/A","N/A",AVERAGE(AO24:AP24)) -> 63000
A25: 12 | B25: Filtro Aire | C25: 1 | E25: 255926.4 | F25: 131746.67 | H25: 110868.14 | I25: =+IF(E25="N/A","N/A",MIN(E25:H25)) -> 110868.14 | J25: =+IF(E25="N/A","N/A",ROUND(AVERAGE(E25:H25),0)) -> 166180 | K25: =+IF(I25="N/A","N/A",AVERAGE(I25:J25)) -> 138524.07 | M25: 261044.93 | N25: 143993.64 | P25: 121174.28 | Q25: =+IF(M25="N/A","N/A",MIN(M25:P25)) -> 121174.28 | R25: =+IF(M25="N/A","N/A",ROUND(AVERAGE(M25:P25),0)) -> 175404 | S25: =+IF(Q25="N/A","N/A",AVERAGE(Q25:R25)) -> 148289.14 | U25: 238011.55 | V25: 124204.46 | X25: 104521.18 | Y25: =+IF(U25="N/A","N/A",MIN(U25:X25)) -> 104521.18 | Z25: =+IF(U25="N/A","N/A",ROUND(AVERAGE(U25:X25),0)) -> 155579 | AA25: =+IF(Y25="N/A","N/A",AVERAGE(Y25:Z25)) -> 130050.09 | AC25: 232893.02 | AD25: 101447.97 | AF25: 85371.021 | AG25: =+IF(AC25="N/A","N/A",MIN(AC25:AF25)) -> 85371.021 | AH25: =+IF(AC25="N/A","N/A",ROUND(AVERAGE(AC25:AF25),0)) -> 139904 | AI25: =+IF(AG25="N/A","N/A",AVERAGE(AG25:AH25)) -> 112637.51 | AK25: 268722.72 | AO25: =+IF(AK25="N/A","N/A",MIN(AK25:AN25)) -> 268722.72 | AP25: =+IF(AK25="N/A","N/A",ROUND(AVERAGE(AK25:AN25),0)) -> 268723 | AQ25: =+IF(AO25="N/A","N/A",AVERAGE(AO25:AP25)) -> 268722.86
A26: 13 | B26: Filtro Combustible | C26: 1 | E26: 149149.2 | F26: 75742.764 | H26: 63739.445 | I26: =+IF(E26="N/A","N/A",MIN(E26:H26)) -> 63739.445 | J26: =+IF(E26="N/A","N/A",ROUND(AVERAGE(E26:H26),0)) -> 96210 | K26: =+IF(I26="N/A","N/A",AVERAGE(I26:J26)) -> 79974.722 | M26: 152132.18 | N26: 121244.48 | P26: 102030.29 | Q26: =+IF(M26="N/A","N/A",MIN(M26:P26)) -> 102030.29 | R26: =+IF(M26="N/A","N/A",ROUND(AVERAGE(M26:P26),0)) -> 125136 | S26: =+IF(Q26="N/A","N/A",AVERAGE(Q26:R26)) -> 113583.14 | U26: 138708.76 | V26: 70566.857 | X26: 59383.788 | Y26: =+IF(U26="N/A","N/A",MIN(U26:X26)) -> 59383.788 | Z26: =+IF(U26="N/A","N/A",ROUND(AVERAGE(U26:X26),0)) -> 89553 | AA26: =+IF(Y26="N/A","N/A",AVERAGE(Y26:Z26)) -> 74468.394 | AC26: N/A | AD26: N/A | AE26: N/A | AF26: N/A | AG26: N/A | AH26: N/A | AI26: N/A | AK26: 156606.66 | AO26: =+IF(AK26="N/A","N/A",MIN(AK26:AN26)) -> 156606.66 | AP26: =+IF(AK26="N/A","N/A",ROUND(AVERAGE(AK26:AN26),0)) -> 156607 | AQ26: =+IF(AO26="N/A","N/A",AVERAGE(AO26:AP26)) -> 156606.83
A27: 14 | B27: Juego Cables De Alta | C27: 1 | E27: N/A | F27: N/A | G27: N/A | H27: N/A | I27: N/A | J27: N/A | K27: N/A | M27: N/A | N27: N/A | O27: N/A | P27: N/A | Q27: N/A | R27: N/A | S27: N/A | U27: N/A | V27: N/A | W27: N/A | X27: N/A | Y27: N/A | Z27: N/A | AA27: N/A | AC27: N/A | AD27: N/A | AE27: N/A | AF27: N/A | AG27: N/A | AH27: N/A | AI27: N/A | AK27: 1580000 | AO27: =+IF(AK27="N/A","N/A",MIN(AK27:AN27)) -> 1580000 | AP27: =+IF(AK27="N/A","N/A",ROUND(AVERAGE(AK27:AN27),0)) -> 1580000 | AQ27: =+IF(AO27="N/A","N/A",AVERAGE(AO27:AP27)) -> 1580000
A28: 15 | B28: Filtro De Aceite | C28: 1 | E28: 35592 | F28: 37743.798 | H28: 31762.357 | I28: =+IF(E28="N/A","N/A",MIN(E28:H28)) -> 31762.357 | J28: =+IF(E28="N/A","N/A",ROUND(AVERAGE(E28:H28),0)) -> 35033 | K28: =+IF(I28="N/A","N/A",AVERAGE(I28:J28)) -> 33397.679 | M28: 36303.84 | N28: 38123.85 | P28: 32082.181 | Q28: =+IF(M28="N/A","N/A",MIN(M28:P28)) -> 32082.181 | R28: =+IF(M28="N/A","N/A",ROUND(AVERAGE(M28:P28),0)) -> 35503 | S28: =+IF(Q28="N/A","N/A",AVERAGE(Q28:R28)) -> 33792.59 | U28: 33100.56 | V28: 46249.179 | X28: 38919.849 | Y28: =+IF(U28="N/A","N/A",MIN(U28:X28)) -> 33100.56 | Z28: =+IF(U28="N/A","N/A",ROUND(AVERAGE(U28:X28),0)) -> 39423 | AA28: =+IF(Y28="N/A","N/A",AVERAGE(Y28:Z28)) -> 36261.78 | AC28: 32388.72 | AD28: 36323.656 | AF28: 30567.272 | AG28: =+IF(AC28="N/A","N/A",MIN(AC28:AF28)) -> 30567.272 | AH28: =+IF(AC28="N/A","N/A",ROUND(AVERAGE(AC28:AF28),0)) -> 33093 | AI28: =+IF(AG28="N/A","N/A",AVERAGE(AG28:AH28)) -> 31830.136 | AK28: 37371.6 | AO28: =+IF(AK28="N/A","N/A",MIN(AK28:AN28)) -> 37371.6 | AP28: =+IF(AK28="N/A","N/A",ROUND(AVERAGE(AK28:AN28),0)) -> 37372 | AQ28: =+IF(AO28="N/A","N/A",AVERAGE(AO28:AP28)) -> 37371.8
A29: 16 | B29: Filtro Trampa | C29: 1 | E29: 144000 | F29: 80577.923 | H29: 67808.353 | I29: =+IF(E29="N/A","N/A",MIN(E29:H29)) -> 67808.353 | J29: =+IF(E29="N/A","N/A",ROUND(AVERAGE(E29:H29),0)) -> 97462 | K29: =+IF(I29="N/A","N/A",AVERAGE(I29:J29)) -> 82635.177 | M29: 146880 | N29: 78412.5 | P29: 65986.095 | Q29: =+IF(M29="N/A","N/A",MIN(M29:P29)) -> 65986.095 | R29: =+IF(M29="N/A","N/A",ROUND(AVERAGE(M29:P29),0)) -> 97093 | S29: =+IF(Q29="N/A","N/A",AVERAGE(Q29:R29)) -> 81539.548 | U29: N/A | V29: N/A | W29: N/A | X29: N/A | Y29: N/A | Z29: N/A | AA29: N/A | AC29: N/A | AD29: N/A | AE29: N/A | AF29: N/A | AG29: N/A | AH29: N/A | AI29: N/A | AK29: 151200 | AO29: =+IF(AK29="N/A","N/A",MIN(AK29:AN29)) -> 151200 | AP29: =+IF(AK29="N/A","N/A",ROUND(AVERAGE(AK29:AN29),0)) -> 151200 | AQ29: =+IF(AO29="N/A","N/A",AVERAGE(AO29:AP29)) -> 151200
A30: 17 | B30: Inyector | C30: 1 | E30: 2105041.2 | F30: 1446520 | H30: 1217283 | I30: =+IF(E30="N/A","N/A",MIN(E30:H30)) -> 1217283 | J30: =+IF(E30="N/A","N/A",ROUND(AVERAGE(E30:H30),0)) -> 1589615 | K30: =+IF(I30="N/A","N/A",AVERAGE(I30:J30)) -> 1403449 | M30: 2147142 | N30: 1830916.8 | P30: 1540762.6 | Q30: =+IF(M30="N/A","N/A",MIN(M30:P30)) -> 1540762.6 | R30: =+IF(M30="N/A","N/A",ROUND(AVERAGE(M30:P30),0)) -> 1839607 | S30: =+IF(Q30="N/A","N/A",AVERAGE(Q30:R30)) -> 1690184.8 | U30: 1957688.3 | V30: 782024.9 | X30: 658093.66 | Y30: =+IF(U30="N/A","N/A",MIN(U30:X30)) -> 658093.66 | Z30: =+IF(U30="N/A","N/A",ROUND(AVERAGE(U30:X30),0)) -> 1132602 | AA30: =+IF(Y30="N/A","N/A",AVERAGE(Y30:Z30)) -> 895347.83 | AC30: 1915587.5 | AD30: 681256.01 | AF30: 573294.11 | AG30: =+IF(AC30="N/A","N/A",MIN(AC30:AF30)) -> 573294.11 | AH30: =+IF(AC30="N/A","N/A",ROUND(AVERAGE(AC30:AF30),0)) -> 1056713 | AI30: =+IF(AG30="N/A","N/A",AVERAGE(AG30:AH30)) -> 815003.55 | AK30: 2210293.3 | AO30: =+IF(AK30="N/A","N/A",MIN(AK30:AN30)) -> 2210293.3 | AP30: =+IF(AK30="N/A","N/A",ROUND(AVERAGE(AK30:AN30),0)) -> 2210293 | AQ30: =+IF(AO30="N/A","N/A",AVERAGE(AO30:AP30)) -> 2210293.1
A31: 18 | B31: Bomba De Inyección | C31: 1 | E31: 11760000 | F31: 10004920 | H31: 8419392.1 | I31: =+IF(E31="N/A","N/A",MIN(E31:H31)) -> 8419392.1 | J31: =+IF(E31="N/A","N/A",ROUND(AVERAGE(E31:H31),0)) -> 10061437 | K31: =+IF(I31="N/A","N/A",AVERAGE(I31:J31)) -> 9240414.5 | M31: 11995200 | N31: 8548500 | P31: 7193778.2 | Q31: =+IF(M31="N/A","N/A",MIN(M31:P31)) -> 7193778.2 | R31: =+IF(M31="N/A","N/A",ROUND(AVERAGE(M31:P31),0)) -> 9245826 | S31: =+IF(Q31="N/A","N/A",AVERAGE(Q31:R31)) -> 8219802.1 | U31: N/A | V31: N/A | W31: N/A | X31: N/A | Y31: N/A | Z31: N/A | AA31: N/A | AC31: N/A | AD31: N/A | AE31: N/A | AF31: N/A | AG31: N/A | AH31: N/A | AI31: N/A | AK31: 12348000 | AO31: =+IF(AK31="N/A","N/A",MIN(AK31:AN31)) -> 12348000 | AP31: =+IF(AK31="N/A","N/A",ROUND(AVERAGE(AK31:AN31),0)) -> 12348000 | AQ31: =+IF(AO31="N/A","N/A",AVERAGE(AO31:AP31)) -> 12348000
A32: 19 | B32: Oring Sellos | C32: 1 | E32: 18000 | F32: 31672.856 | H32: 26653.506 | I32: =+IF(E32="N/A","N/A",MIN(E32:H32)) -> 18000 | J32: =+IF(E32="N/A","N/A",ROUND(AVERAGE(E32:H32),0)) -> 25442 | K32: =+IF(I32="N/A","N/A",AVERAGE(I32:J32)) -> 21721 | M32: 18360 | N32: 44587.5 | P32: 37521.505 | Q32: =+IF(M32="N/A","N/A",MIN(M32:P32)) -> 18360 | R32: =+IF(M32="N/A","N/A",ROUND(AVERAGE(M32:P32),0)) -> 33490 | S32: =+IF(Q32="N/A","N/A",AVERAGE(Q32:R32)) -> 25925 | U32: 16740 | V32: 31475.106 | X32: 26487.095 | Y32: =+IF(U32="N/A","N/A",MIN(U32:X32)) -> 16740 | Z32: =+IF(U32="N/A","N/A",ROUND(AVERAGE(U32:X32),0)) -> 24901 | AA32: =+IF(Y32="N/A","N/A",AVERAGE(Y32:Z32)) -> 20820.5 | AC32: N/A | AD32: N/A | AE32: N/A | AF32: N/A | AG32: N/A | AH32: N/A | AI32: N/A | AK32: 18900 | AO32: =+IF(AK32="N/A","N/A",MIN(AK32:AN32)) -> 18900 | AP32: =+IF(AK32="N/A","N/A",ROUND(AVERAGE(AK32:AN32),0)) -> 18900 | AQ32: =+IF(AO32="N/A","N/A",AVERAGE(AO32:AP32)) -> 18900
A33: 20 | B33: Bomba De Combustible | C33: 1 | E33: 11760000 | F33: 9932250 | H33: 8358238.7 | I33: =+IF(E33="N/A","N/A",MIN(E33:H33)) -> 8358238.7 | J33: =+IF(E33="N/A","N/A",ROUND(AVERAGE(E33:H33),0)) -> 10016830 | K33: =+IF(I33="N/A","N/A",AVERAGE(I33:J33)) -> 9187534.3 | M33: 11995200 | N33: 8548500 | P33: 7193778.2 | Q33: =+IF(M33="N/A","N/A",MIN(M33:P33)) -> 7193778.2 | R33: =+IF(M33="N/A","N/A",ROUND(AVERAGE(M33:P33),0)) -> 9245826 | S33: =+IF(Q33="N/A","N/A",AVERAGE(Q33:R33)) -> 8219802.1 | U33: 1000000 | V33: 3088013.4 | X33: 2598641.1 | Y33: =+IF(U33="N/A","N/A",MIN(U33:X33)) -> 1000000 | Z33: =+IF(U33="N/A","N/A",ROUND(AVERAGE(U33:X33),0)) -> 2228885 | AA33: =+IF(Y33="N/A","N/A",AVERAGE(Y33:Z33)) -> 1614442.5 | AC33: 1000000 | AD33: 1793127.1 | AF33: 1508961.6 | AG33: =+IF(AC33="N/A","N/A",MIN(AC33:AF33)) -> 1000000 | AH33: =+IF(AC33="N/A","N/A",ROUND(AVERAGE(AC33:AF33),0)) -> 1434030 | AI33: =+IF(AG33="N/A","N/A",AVERAGE(AG33:AH33)) -> 1217015 | AK33: 2500000 | AO33: =+IF(AK33="N/A","N/A",MIN(AK33:AN33)) -> 2500000 | AP33: =+IF(AK33="N/A","N/A",ROUND(AVERAGE(AK33:AN33),0)) -> 2500000 | AQ33: =+IF(AO33="N/A","N/A",AVERAGE(AO33:AP33)) -> 2500000
A34: 21 | B34: Bujía Precalentadora | C34: 1 | E34: 210000 | F34: 301946.09 | H34: 254095.25 | I34: =+IF(E34="N/A","N/A",MIN(E34:H34)) -> 210000 | J34: =+IF(E34="N/A","N/A",ROUND(AVERAGE(E34:H34),0)) -> 255347 | K34: =+IF(I34="N/A","N/A",AVERAGE(I34:J34)) -> 232673.5 | M34: 214200 | N34: 468937.5 | P34: 394622.73 | Q34: =+IF(M34="N/A","N/A",MIN(M34:P34)) -> 214200 | R34: =+IF(M34="N/A","N/A",ROUND(AVERAGE(M34:P34),0)) -> 359253 | S34: =+IF(Q34="N/A","N/A",AVERAGE(Q34:R34)) -> 286726.5 | U34: N/A | V34: N/A | W34: N/A | X34: N/A | Y34: N/A | Z34: N/A | AA34: N/A | AC34: N/A | AD34: N/A | AE34: N/A | AF34: N/A | AG34: N/A | AH34: N/A | AI34: N/A | AK34: 220500 | AO34: =+IF(AK34="N/A","N/A",MIN(AK34:AN34)) -> 220500 | AP34: =+IF(AK34="N/A","N/A",ROUND(AVERAGE(AK34:AN34),0)) -> 220500 | AQ34: =+IF(AO34="N/A","N/A",AVERAGE(AO34:AP34)) -> 220500
A35: 22 | B35: Bombín | C35: 1 | E35: 350000 | F35: 366980.55 | H35: 308823.38 | I35: =+IF(E35="N/A","N/A",MIN(E35:H35)) -> 308823.38 | J35: =+IF(E35="N/A","N/A",ROUND(AVERAGE(E35:H35),0)) -> 341935 | K35: =+IF(I35="N/A","N/A",AVERAGE(I35:J35)) -> 325379.19 | M35: 357000 | N35: 439725 | P35: 370039.67 | Q35: =+IF(M35="N/A","N/A",MIN(M35:P35)) -> 357000 | R35: =+IF(M35="N/A","N/A",ROUND(AVERAGE(M35:P35),0)) -> 388922 | S35: =+IF(Q35="N/A","N/A",AVERAGE(Q35:R35)) -> 372961 | U35: N/A | V35: N/A | W35: N/A | X35: N/A | Y35: N/A | Z35: N/A | AA35: N/A | AC35: N/A | AD35: N/A | AE35: N/A | AF35: N/A | AG35: N/A | AH35: N/A | AI35: N/A | AK35: 367500 | AO35: =+IF(AK35="N/A","N/A",MIN(AK35:AN35)) -> 367500 | AP35: =+IF(AK35="N/A","N/A",ROUND(AVERAGE(AK35:AN35),0)) -> 367500 | AQ35: =+IF(AO35="N/A","N/A",AVERAGE(AO35:AP35)) -> 367500
A36: 23 | B36: Tornillo Peter | C36: 1 | E36: 36000 | F36: 49934.13 | H36: 42020.829 | I36: =+IF(E36="N/A","N/A",MIN(E36:H36)) -> 36000 | J36: =+IF(E36="N/A","N/A",ROUND(AVERAGE(E36:H36),0)) -> 42652 | K36: =+IF(I36="N/A","N/A",AVERAGE(I36:J36)) -> 39326 | M36: 36720 | N36: 55350 | P36: 46578.42 | Q36: =+IF(M36="N/A","N/A",MIN(M36:P36)) -> 36720 | R36: =+IF(M36="N/A","N/A",ROUND(AVERAGE(M36:P36),0)) -> 46216 | S36: =+IF(Q36="N/A","N/A",AVERAGE(Q36:R36)) -> 41468 | U36: N/A | V36: N/A | W36: N/A | X36: N/A | Y36: N/A | Z36: N/A | AA36: N/A | AC36: N/A | AD36: N/A | AE36: N/A | AF36: N/A | AG36: N/A | AH36: N/A | AI36: N/A | AK36: 37800 | AO36: =+IF(AK36="N/A","N/A",MIN(AK36:AN36)) -> 37800 | AP36: =+IF(AK36="N/A","N/A",ROUND(AVERAGE(AK36:AN36),0)) -> 37800 | AQ36: =+IF(AO36="N/A","N/A",AVERAGE(AO36:AP36)) -> 37800
B37: SISTEMA DE SUSPENSIÓN
A38: 24 | B38: Brazo Axial | C38: 1 | E38: 396602.4 | F38: 292836.73 | H38: 246429.49 | I38: =+IF(E38="N/A","N/A",MIN(E38:H38)) -> 246429.49 | J38: =+IF(E38="N/A","N/A",ROUND(AVERAGE(E38:H38),0)) -> 311956 | K38: =+IF(I38="N/A","N/A",AVERAGE(I38:J38)) -> 279192.74 | M38: 404534.45 | N38: 418663.09 | P38: 352315.55 | Q38: =+IF(M38="N/A","N/A",MIN(M38:P38)) -> 352315.55 | R38: =+IF(M38="N/A","N/A",ROUND(AVERAGE(M38:P38),0)) -> 391838 | S38: =+IF(Q38="N/A","N/A",AVERAGE(Q38:R38)) -> 372076.77 | U38: 368840.23 | V38: 273891.07 | X38: 230486.23 | Y38: =+IF(U38="N/A","N/A",MIN(U38:X38)) -> 230486.23 | Z38: =+IF(U38="N/A","N/A",ROUND(AVERAGE(U38:X38),0)) -> 291073 | AA38: =+IF(Y38="N/A","N/A",AVERAGE(Y38:Z38)) -> 260779.62 | AC38: 360908.18 | AD38: 267325.68 | AF38: 224961.3 | AG38: =+IF(AC38="N/A","N/A",MIN(AC38:AF38)) -> 224961.3 | AH38: =+IF(AC38="N/A","N/A",ROUND(AVERAGE(AC38:AF38),0)) -> 284398 | AI38: =+IF(AG38="N/A","N/A",AVERAGE(AG38:AH38)) -> 254679.65 | AK38: 416432.52 | AO38: =+IF(AK38="N/A","N/A",MIN(AK38:AN38)) -> 416432.52 | AP38: =+IF(AK38="N/A","N/A",ROUND(AVERAGE(AK38:AN38),0)) -> 416433 | AQ38: =+IF(AO38="N/A","N/A",AVERAGE(AO38:AP38)) -> 416432.76
A39: 25 | B39: Juego de Terminales Direccion (Largo y Corto) | C39: 1 | E39: 480000 | F39: 368292.37 | H39: 309927.31 | I39: =+IF(E39="N/A","N/A",MIN(E39:H39)) -> 309927.31 | J39: =+IF(E39="N/A","N/A",ROUND(AVERAGE(E39:H39),0)) -> 386073 | K39: =+IF(I39="N/A","N/A",AVERAGE(I39:J39)) -> 348000.15 | M39: 489600 | N39: 381300 | P39: 320873.56 | Q39: =+IF(M39="N/A","N/A",MIN(M39:P39)) -> 320873.56 | R39: =+IF(M39="N/A","N/A",ROUND(AVERAGE(M39:P39),0)) -> 397258 | S39: =+IF(Q39="N/A","N/A",AVERAGE(Q39:R39)) -> 359065.78 | U39: 446400 | V39: 351224.57 | X39: 295564.32 | Y39: =+IF(U39="N/A","N/A",MIN(U39:X39)) -> 295564.32 | Z39: =+IF(U39="N/A","N/A",ROUND(AVERAGE(U39:X39),0)) -> 364396 | AA39: =+IF(Y39="N/A","N/A",AVERAGE(Y39:Z39)) -> 329980.16 | AC39: 436800 | AD39: 314897.34 | AF39: 264994.05 | AG39: =+IF(AC39="N/A","N/A",MIN(AC39:AF39)) -> 264994.05 | AH39: =+IF(AC39="N/A","N/A",ROUND(AVERAGE(AC39:AF39),0)) -> 338897 | AI39: =+IF(AG39="N/A","N/A",AVERAGE(AG39:AH39)) -> 301945.53 | AK39: 504000 | AO39: =+IF(AK39="N/A","N/A",MIN(AK39:AN39)) -> 504000 | AP39: =+IF(AK39="N/A","N/A",ROUND(AVERAGE(AK39:AN39),0)) -> 504000 | AQ39: =+IF(AO39="N/A","N/A",AVERAGE(AO39:AP39)) -> 504000
A40: 26 | B40: Fuelle De La Botella | C40: 1 | E40: 108000 | F40: 98792.144 | H40: 83136.079 | I40: =+IF(E40="N/A","N/A",MIN(E40:H40)) -> 83136.079 | J40: =+IF(E40="N/A","N/A",ROUND(AVERAGE(E40:H40),0)) -> 96643 | K40: =+IF(I40="N/A","N/A",AVERAGE(I40:J40)) -> 89889.54 | M40: 110160 | N40: 110700 | P40: 93156.84 | Q40: =+IF(M40="N/A","N/A",MIN(M40:P40)) -> 93156.84 | R40: =+IF(M40="N/A","N/A",ROUND(AVERAGE(M40:P40),0)) -> 104672 | S40: =+IF(Q40="N/A","N/A",AVERAGE(Q40:R40)) -> 98914.42 | U40: 100440 | V40: 97509.719 | X40: 82056.886 | Y40: =+IF(U40="N/A","N/A",MIN(U40:X40)) -> 82056.886 | Z40: =+IF(U40="N/A","N/A",ROUND(AVERAGE(U40:X40),0)) -> 93336 | AA40: =+IF(Y40="N/A","N/A",AVERAGE(Y40:Z40)) -> 87696.443 | AC40: 98280 | AD40: 97558.696 | AF40: 82098.101 | AG40: =+IF(AC40="N/A","N/A",MIN(AC40:AF40)) -> 82098.101 | AH40: =+IF(AC40="N/A","N/A",ROUND(AVERAGE(AC40:AF40),0)) -> 92646 | AI40: =+IF(AG40="N/A","N/A",AVERAGE(AG40:AH40)) -> 87372.051 | AK40: 113400 | AO40: =+IF(AK40="N/A","N/A",MIN(AK40:AN40)) -> 113400 | AP40: =+IF(AK40="N/A","N/A",ROUND(AVERAGE(AK40:AN40),0)) -> 113400 | AQ40: =+IF(AO40="N/A","N/A",AVERAGE(AO40:AP40)) -> 113400
A41: 27 | B41: Interiores De Botella | C41: 1 | E41: 830000 | F41: 468572.43 | H41: 394315.51 | I41: =+IF(E41="N/A","N/A",MIN(E41:H41)) -> 394315.51 | J41: =+IF(E41="N/A","N/A",ROUND(AVERAGE(E41:H41),0)) -> 564296 | K41: =+IF(I41="N/A","N/A",AVERAGE(I41:J41)) -> 479305.76 | M41: 846600 | N41: 688800 | P41: 579642.56 | Q41: =+IF(M41="N/A","N/A",MIN(M41:P41)) -> 579642.56 | R41: =+IF(M41="N/A","N/A",ROUND(AVERAGE(M41:P41),0)) -> 705014 | S41: =+IF(Q41="N/A","N/A",AVERAGE(Q41:R41)) -> 642328.28 | U41: 771900 | V41: 426007.83 | X41: 358496.33 | Y41: =+IF(U41="N/A","N/A",MIN(U41:X41)) -> 358496.33 | Z41: =+IF(U41="N/A","N/A",ROUND(AVERAGE(U41:X41),0)) -> 518801 | AA41: =+IF(Y41="N/A","N/A",AVERAGE(Y41:Z41)) -> 438648.66 | AC41: 755300 | AD41: 418579.41 | AF41: 352245.12 | AG41: =+IF(AC41="N/A","N/A",MIN(AC41:AF41)) -> 352245.12 | AH41: =+IF(AC41="N/A","N/A",ROUND(AVERAGE(AC41:AF41),0)) -> 508708 | AI41: =+IF(AG41="N/A","N/A",AVERAGE(AG41:AH41)) -> 430476.56 | AK41: 871500 | AO41: =+IF(AK41="N/A","N/A",MIN(AK41:AN41)) -> 871500 | AP41: =+IF(AK41="N/A","N/A",ROUND(AVERAGE(AK41:AN41),0)) -> 871500 | AQ41: =+IF(AO41="N/A","N/A",AVERAGE(AO41:AP41)) -> 871500
A42: 28 | B42: Juego de Amortiguadores Delanteros (PAR) | C42: 1 | E42: 1122010.8 | F42: 666506.43 | H42: 560881.96 | I42: =+IF(E42="N/A","N/A",MIN(E42:H42)) -> 560881.96 | J42: =+IF(E42="N/A","N/A",ROUND(AVERAGE(E42:H42),0)) -> 783133 | K42: =+IF(I42="N/A","N/A",AVERAGE(I42:J42)) -> 672007.48 | M42: 1144451 | N42: 794890.27 | P42: 668920.19 | Q42: =+IF(M42="N/A","N/A",MIN(M42:P42)) -> 668920.19 | R42: =+IF(M42="N/A","N/A",ROUND(AVERAGE(M42:P42),0)) -> 869420 | S42: =+IF(Q42="N/A","N/A",AVERAGE(Q42:R42)) -> 769170.1 | U42: 1043470 | V42: 669838.58 | X42: 563686.05 | Y42: =+IF(U42="N/A","N/A",MIN(U42:X42)) -> 563686.05 | Z42: =+IF(U42="N/A","N/A",ROUND(AVERAGE(U42:X42),0)) -> 758998 | AA42: =+IF(Y42="N/A","N/A",AVERAGE(Y42:Z42)) -> 661342.02 | AC42: 1021029.8 | AD42: 617115.19 | AF42: 519317.98 | AG42: =+IF(AC42="N/A","N/A",MIN(AC42:AF42)) -> 519317.98 | AH42: =+IF(AC42="N/A","N/A",ROUND(AVERAGE(AC42:AF42),0)) -> 719154 | AI42: =+IF(AG42="N/A","N/A",AVERAGE(AG42:AH42)) -> 619235.99 | AK42: 1178111.3 | AO42: =+IF(AK42="N/A","N/A",MIN(AK42:AN42)) -> 1178111.3 | AP42: =+IF(AK42="N/A","N/A",ROUND(AVERAGE(AK42:AN42),0)) -> 1178111 | AQ42: =+IF(AO42="N/A","N/A",AVERAGE(AO42:AP42)) -> 1178111.2
A43: 29 | B43: Juego de Amortiguadores Traseros (PAR) | C43: 1 | E43: 1074554.4 | F43: 662609.35 | H43: 557602.46 | I43: =+IF(E43="N/A","N/A",MIN(E43:H43)) -> 557602.46 | J43: =+IF(E43="N/A","N/A",ROUND(AVERAGE(E43:H43),0)) -> 764922 | K43: =+IF(I43="N/A","N/A",AVERAGE(I43:J43)) -> 661262.23 | M43: 1096045.5 | N43: 782729.56 | P43: 658686.66 | Q43: =+IF(M43="N/A","N/A",MIN(M43:P43)) -> 658686.66 | R43: =+IF(M43="N/A","N/A",ROUND(AVERAGE(M43:P43),0)) -> 845821 | S43: =+IF(Q43="N/A","N/A",AVERAGE(Q43:R43)) -> 752253.83 | U43: 999335.59 | V43: 638016.61 | X43: 536907.06 | Y43: =+IF(U43="N/A","N/A",MIN(U43:X43)) -> 536907.06 | Z43: =+IF(U43="N/A","N/A",ROUND(AVERAGE(U43:X43),0)) -> 724753 | AA43: =+IF(Y43="N/A","N/A",AVERAGE(Y43:Z43)) -> 630830.03 | AC43: 977844.5 | AD43: 614264.39 | AF43: 516918.96 | AG43: =+IF(AC43="N/A","N/A",MIN(AC43:AF43)) -> 516918.96 | AH43: =+IF(AC43="N/A","N/A",ROUND(AVERAGE(AC43:AF43),0)) -> 703009 | AI43: =+IF(AG43="N/A","N/A",AVERAGE(AG43:AH43)) -> 609963.98 | AK43: 1128282.1 | AO43: =+IF(AK43="N/A","N/A",MIN(AK43:AN43)) -> 1128282.1 | AP43: =+IF(AK43="N/A","N/A",ROUND(AVERAGE(AK43:AN43),0)) -> 1128282 | AQ43: =+IF(AO43="N/A","N/A",AVERAGE(AO43:AP43)) -> 1128282.1
...

Sheet MANO DE OBRA MOTOS
A2: LISTA DE PRECIOS GRUPO SECCIONAL SAN ANDRES | F2: COTIZACIÓN No.1 | G2: COTIZACIÓN No.2 | H2: COTIZACIÓN No.3 | I2: HISTORICOS DE CONTRATACIÓN | J2: MINIMO | K2: PROMEDIO | O2: COTIZACIÓN No.1 | P2: COTIZACIÓN No.2 | Q2: COTIZACIÓN No.3 | R2: HISTORICOS DE CONTRATACIÓN | S2: MINIMO | T2: PROMEDIO
A3: NECESIDAD CONTRATACIÓN MOTOS MANO DE OBRA | C3: CANTIDAD | E3: MANO DE OBRA | F3: MANO DE OBRA | G3: MANO DE OBRA | H3: MANO DE OBRA | I3: MANO DE OBRA | J3: MANO DE OBRA | K3: MANO DE OBRA | L3: MANO DE OBRA | N3: MANO DE OBRA | O3: MANO DE OBRA | P3: MANO DE OBRA | Q3: MANO DE OBRA | R3: MANO DE OBRA | S3: MANO DE OBRA | T3: MANO DE OBRA | U3: MANO DE OBRA
A5: NOMBRE DEL ACTIVO
A6: CILINDRAJE | E6: 0- 150 CC | F6: 0- 150 CC | G6: 0- 150 CC | H6: 0- 150 CC | I6: 0- 150 CC | J6: 0- 150 CC | K6: 0- 150 CC | L6: 0- 150 CC | N6: 151 - 250 CC | O6: 151 - 250 CC | P6: 151 - 250 CC | Q6: 151 - 250 CC | R6: 151 - 250 CC | S6: 151 - 250 CC | T6: 151 - 250 CC | U6: 151 - 250 CC
A8: DESCRIPCIÓN | E8: COSTO MANO DE OBRA | F8: COSTO MANO DE OBRA | G8: COSTO MANO DE OBRA | H8: COSTO MANO DE OBRA | I8: COSTO MANO DE OBRA | J8: COSTO MANO DE OBRA | K8: COSTO MANO DE OBRA | L8: COSTO MANO DE OBRA | N8: COSTO MANO DE OBRA | O8: COSTO MANO DE OBRA | P8: COSTO MANO DE OBRA | Q8: COSTO MANO DE OBRA | R8: COSTO MANO DE OBRA | S8: COSTO MANO DE OBRA | T8: COSTO MANO DE OBRA | U8: COSTO MANO DE OBRA
E9: VALOR UNITARIO | F9: VALOR UNITARIO | G9: VALOR UNITARIO | H9: VALOR UNITARIO | I9: VALOR UNITARIO | J9: VALOR UNITARIO | K9: VALOR UNITARIO | L9: VALOR UNITARIO | N9: VALOR UNITARIO | O9: VALOR UNITARIO | P9: VALOR UNITARIO | Q9: VALOR UNITARIO | R9: VALOR UNITARIO | S9: VALOR UNITARIO | T9: VALOR UNITARIO | U9: VALOR UNITARIO
B11: SINCRONIZACIÓN
A12: 1 | B12: Sincronización (entiéndase por : calibración de válvulas, limpieza cuerpo de aceleración ya sea un motor inyectado o carburado, lavado de inyectores por ultrasonido, cambio de filtros, cambio o mantenimiento de bujías, calibración de sensores y revisión eléctrica. | C12: 1 | F12: 450000 | G12: 119000 | I12: 329134.07 | J12: =+IF(F12="N/A","N/A",MIN(F12,I12)) -> 329134.07 | K12: =+IF(F12="N/A","N/A",ROUND(AVERAGE(F12,I12),0)) -> 389567 | L12: =+IF(J12="N/A","N/A",AVERAGE(J12:K12)) -> 359350.53 | O12: 450000 | P12: 133000 | R12: 370322.07 | S12: =+IF(O12="N/A","N/A",MIN(O12,R12)) -> 370322.07 | T12: =+IF(O12="N/A","N/A",ROUND(AVERAGE(O12,R12),0)) -> 410161 | U12: =+IF(S12="N/A","N/A",AVERAGE(S12:T12)) -> 390241.54
A13: 2 | B13: CALIBRACIÓN VÁLVULAS | C13: 1 | F13: 97782 | G13: 73000 | I13: 99077.309 | J13: =+IF(F13="N/A","N/A",MIN(F13,I13)) -> 97782 | K13: =+IF(F13="N/A","N/A",ROUND(AVERAGE(F13,I13),0)) -> 98430 | L13: =+IF(J13="N/A","N/A",AVERAGE(J13:K13)) -> 98106 | O13: 115830 | P13: 98000 | R13: 109864.17 | S13: =+IF(O13="N/A","N/A",MIN(O13,R13)) -> 109864.17 | T13: =+IF(O13="N/A","N/A",ROUND(AVERAGE(O13,R13),0)) -> 112847 | U13: =+IF(S13="N/A","N/A",AVERAGE(S13:T13)) -> 111355.58
A14: 3 | B14: LIMPIEZA TANQUE COMBUSTIBLE ( INCLUYE DESMONTAR Y MONTAR) | C14: 1 | F14: 175440 | G14: 97000 | I14: 109486.63 | J14: =+IF(F14="N/A","N/A",MIN(F14,I14)) -> 109486.63 | K14: =+IF(F14="N/A","N/A",ROUND(AVERAGE(F14,I14),0)) -> 142463 | L14: =+IF(J14="N/A","N/A",AVERAGE(J14:K14)) -> 125974.81 | O14: 195750 | P14: 123000 | R14: 111913.67 | S14: =+IF(O14="N/A","N/A",MIN(O14,R14)) -> 111913.67 | T14: =+IF(O14="N/A","N/A",ROUND(AVERAGE(O14,R14),0)) -> 153832 | U14: =+IF(S14="N/A","N/A",AVERAGE(S14:T14)) -> 132872.84
A15: 4 | B15: CAMBIO GUAYA ACELERADOR | C15: 1 | F15: 70950 | G15: 52000 | I15: 82249.807 | J15: =+IF(F15="N/A","N/A",MIN(F15,I15)) -> 70950 | K15: =+IF(F15="N/A","N/A",ROUND(AVERAGE(F15,I15),0)) -> 76600 | L15: =+IF(J15="N/A","N/A",AVERAGE(J15:K15)) -> 73775 | O15: 87750 | P15: 71000 | R15: 93036.667 | S15: =+IF(O15="N/A","N/A",MIN(O15,R15)) -> 87750 | T15: =+IF(O15="N/A","N/A",ROUND(AVERAGE(O15,R15),0)) -> 90393 | U15: =+IF(S15="N/A","N/A",AVERAGE(S15:T15)) -> 89071.5
A16: 5 | B16: CAMBIO GUAYA CHOKE | C16: 1 | F16: 63642.15 | G16: 53000 | I16: 77666.74 | J16: =+IF(F16="N/A","N/A",MIN(F16,I16)) -> 63642.15 | K16: =+IF(F16="N/A","N/A",ROUND(AVERAGE(F16,I16),0)) -> 70654 | L16: =+IF(J16="N/A","N/A",AVERAGE(J16:K16)) -> 67148.075 | N16: N/A | O16: N/A | P16: N/A | Q16: N/A | R16: N/A | S16: =+IF(O16="N/A","N/A",MIN(O16,R16)) -> N/A | T16: =+IF(O16="N/A","N/A",ROUND(AVERAGE(O16,R16),0)) -> N/A | U16: N/A
A17: 6 | B17: LUBRICAR GUAYAS | C17: 1 | F17: 46298.1 | G17: 36000 | I17: 42519.105 | J17: =+IF(F17="N/A","N/A",MIN(F17,I17)) -> 42519.105 | K17: =+IF(F17="N/A","N/A",ROUND(AVERAGE(F17,I17),0)) -> 44409 | L17: =+IF(J17="N/A","N/A",AVERAGE(J17:K17)) -> 43464.053 | O17: 61951.5 | P17: 46000 | R17: 50609.25 | S17: =+IF(O17="N/A","N/A",MIN(O17,R17)) -> 50609.25 | T17: =+IF(O17="N/A","N/A",ROUND(AVERAGE(O17,R17),0)) -> 56280 | U17: =+IF(S17="N/A","N/A",AVERAGE(S17:T17)) -> 53444.625
A18: 7 | B18: COMPROBACIÓN NIVELES | C18: 1 | F18: 26445 | G18: 30000 | I18: 32765.087 | J18: =+IF(F18="N/A","N/A",MIN(F18,I18)) -> 26445 | K18: =+IF(F18="N/A","N/A",ROUND(AVERAGE(F18,I18),0)) -> 29605 | L18: =+IF(J18="N/A","N/A",AVERAGE(J18:K18)) -> 28025 | O18: 34425 | P18: 39000 | R18: 36810.16 | S18: =+IF(O18="N/A","N/A",MIN(O18,R18)) -> 34425 | T18: =+IF(O18="N/A","N/A",ROUND(AVERAGE(O18,R18),0)) -> 35618 | U18: =+IF(S18="N/A","N/A",AVERAGE(S18:T18)) -> 35021.5
A19: 8 | B19: CAMBIO CAPUCHÓN BUJÍA | C19: 1 | F19: 15867 | G19: 34000 | I19: 20737.738 | J19: =+IF(F19="N/A","N/A",MIN(F19,I19)) -> 15867 | K19: =+IF(F19="N/A","N/A",ROUND(AVERAGE(F19,I19),0)) -> 18302 | L19: =+IF(J19="N/A","N/A",AVERAGE(J19:K19)) -> 17084.5 | O19: 23355 | P19: 45000 | R19: 24782.811 | S19: =+IF(O19="N/A","N/A",MIN(O19,R19)) -> 23355 | T19: =+IF(O19="N/A","N/A",ROUND(AVERAGE(O19,R19),0)) -> 24069 | U19: =+IF(S19="N/A","N/A",AVERAGE(S19:T19)) -> 23712
A20: 9 | B20: CAMBIO BOMBA COMBUSTIBLE ( INCLUYE DESMONTAR Y MONTAR) | C20: 1 | E20: N/A | F20: N/A | G20: N/A | H20: N/A | I20: N/A | J20: =+IF(F20="N/A","N/A",MIN(F20,I20)) -> N/A | K20: =+IF(F20="N/A","N/A",ROUND(AVERAGE(F20,I20),0)) -> N/A | L20: N/A | O20: 108000 | P20: 130000 | R20: 126745.6 | S20: =+IF(O20="N/A","N/A",MIN(O20,R20)) -> 108000 | T20: =+IF(O20="N/A","N/A",ROUND(AVERAGE(O20,R20),0)) -> 117373 | U20: =+IF(S20="N/A","N/A",AVERAGE(S20:T20)) -> 112686.5
A21: 10 | B21: LIMPIEZA INYECTORES | C21: 1 | E21: N/A | F21: N/A | G21: N/A | H21: N/A | I21: N/A | J21: =+IF(F21="N/A","N/A",MIN(F21,I21)) -> N/A | K21: =+IF(F21="N/A","N/A",ROUND(AVERAGE(F21,I21),0)) -> N/A | L21: N/A | O21: 135000 | P21: 76000 | R21: 113262.03 | S21: =+IF(O21="N/A","N/A",MIN(O21,R21)) -> 113262.03 | T21: =+IF(O21="N/A","N/A",ROUND(AVERAGE(O21,R21),0)) -> 124131 | U21: =+IF(S21="N/A","N/A",AVERAGE(S21:T21)) -> 118696.51
B22: MOTOR | I22: 0 | J22: =+IF(F22="N/A","N/A",MIN(F22,I22)) -> 0 | K22: =+IF(F22="N/A","N/A",ROUND(AVERAGE(F22,I22),0)) -> 0
A23: 11 | B23: REPARACIÓN MOTOR (INCLUYE DESARME, ARMADO Y SERVICIO DE RECTIFICADORA) | C23: 1 | F23: 2250405 | G23: 531000 | I23: 1603062.2 | J23: =+IF(F23="N/A","N/A",MIN(F23,I23)) -> 1603062.2 | K23: =+IF(F23="N/A","N/A",ROUND(AVERAGE(F23,I23),0)) -> 1926734 | L23: =+IF(J23="N/A","N/A",AVERAGE(J23:K23)) -> 1764898.1 | O23: 2490075 | P23: 807000 | R23: 1791832.3 | S23: =+IF(O23="N/A","N/A",MIN(O23,R23)) -> 1791832.3 | T23: =+IF(O23="N/A","N/A",ROUND(AVERAGE(O23,R23),0)) -> 2140954 | U23: =+IF(S23="N/A","N/A",AVERAGE(S23:T23)) -> 1966393.1
A24: 12 | B24: EMPACAR MOTOR | C24: 1 | F24: 755391.75 | G24: 182000 | I24: 287355.21 | J24: =+IF(F24="N/A","N/A",MIN(F24,I24)) -> 287355.21 | K24: =+IF(F24="N/A","N/A",ROUND(AVERAGE(F24,I24),0)) -> 521373 | L24: =+IF(J24="N/A","N/A",AVERAGE(J24:K24)) -> 404364.1 | O24: 804026.25 | P24: 252000 | R24: 314322.36 | S24: =+IF(O24="N/A","N/A",MIN(O24,R24)) -> 314322.36 | T24: =+IF(O24="N/A","N/A",ROUND(AVERAGE(O24,R24),0)) -> 559174 | U24: =+IF(S24="N/A","N/A",AVERAGE(S24:T24)) -> 436748.18
A25: 13 | B25: CAMBIO CANASTILLA BALANCINES | C25: 1 | F25: 258438.6 | G25: 99000 | I25: 167288.02 | J25: =+IF(F25="N/A","N/A",MIN(F25,I25)) -> 167288.02 | K25: =+IF(F25="N/A","N/A",ROUND(AVERAGE(F25,I25),0)) -> 212863 | L25: =+IF(J25="N/A","N/A",AVERAGE(J25:K25)) -> 190075.51 | O25: 279909 | P25: 131000 | R25: 177265.86 | S25: =+IF(O25="N/A","N/A",MIN(O25,R25)) -> 177265.86 | T25: =+IF(O25="N/A","N/A",ROUND(AVERAGE(O25,R25),0)) -> 228587 | U25: =+IF(S25="N/A","N/A",AVERAGE(S25:T25)) -> 202926.43
A26: 14 | B26: CAMBIO BOMBA ACEITE MOTOR | C26: 1 | F26: 543251.25 | G26: 126799 | I26: 226827.44 | J26: =+IF(F26="N/A","N/A",MIN(F26,I26)) -> 226827.44 | K26: =+IF(F26="N/A","N/A",ROUND(AVERAGE(F26,I26),0)) -> 385039 | L26: =+IF(J26="N/A","N/A",AVERAGE(J26:K26)) -> 305933.22 | O26: 582018.75 | P26: 173000 | R26: 237614.3 | S26: =+IF(O26="N/A","N/A",MIN(O26,R26)) -> 237614.3 | T26: =+IF(O26="N/A","N/A",ROUND(AVERAGE(O26,R26),0)) -> 409817 | U26: =+IF(S26="N/A","N/A",AVERAGE(S26:T26)) -> 323715.65
A27: 15 | B27: CAMBIO ACEITE MOTOR | C27: 1 | F27: 23794.05 | G27: 35568 | I27: 52676.282 | J27: =+IF(F27="N/A","N/A",MIN(F27,I27)) -> 23794.05 | K27: =+IF(F27="N/A","N/A",ROUND(AVERAGE(F27,I27),0)) -> 38235 | L27: =+IF(J27="N/A","N/A",AVERAGE(J27:K27)) -> 31014.525 | O27: 28950.75 | P27: 44000 | R27: 57800.041 | S27: =+IF(O27="N/A","N/A",MIN(O27,R27)) -> 28950.75 | T27: =+IF(O27="N/A","N/A",ROUND(AVERAGE(O27,R27),0)) -> 43375 | U27: =+IF(S27="N/A","N/A",AVERAGE(S27:T27)) -> 36162.875
A28: 16 | B28: CAMBIO FILTRO ACEITE | C28: 1 | F28: 23794.05 | G28: 21068 | I28: 27057.49 | J28: =+IF(F28="N/A","N/A",MIN(F28,I28)) -> 23794.05 | K28: =+IF(F28="N/A","N/A",ROUND(AVERAGE(F28,I28),0)) -> 25426 | L28: =+IF(J28="N/A","N/A",AVERAGE(J28:K28)) -> 24610.025 | O28: 28950.75 | P28: 23000 | R28: 29484.533 | S28: =+IF(O28="N/A","N/A",MIN(O28,R28)) -> 28950.75 | T28: =+IF(O28="N/A","N/A",ROUND(AVERAGE(O28,R28),0)) -> 29218 | U28: =+IF(S28="N/A","N/A",AVERAGE(S28:T28)) -> 29084.375
A29: 17 | B29: ARREGLO ROSCAS CILINDRO | C29: 1 | F29: 118970.25 | G29: 113000 | I29: 125848.95 | J29: =+IF(F29="N/A","N/A",MIN(F29,I29)) -> 118970.25 | K29: =+IF(F29="N/A","N/A",ROUND(AVERAGE(F29,I29),0)) -> 122410 | L29: =+IF(J29="N/A","N/A",AVERAGE(J29:K29)) -> 120690.12 | O29: 138003.75 | P29: 136000 | R29: 136635.81 | S29: =+IF(O29="N/A","N/A",MIN(O29,R29)) -> 136635.81 | T29: =+IF(O29="N/A","N/A",ROUND(AVERAGE(O29,R29),0)) -> 137320 | U29: =+IF(S29="N/A","N/A",AVERAGE(S29:T29)) -> 136977.9
A30: 18 | B30: CAMBIO TAPA FILTRO | C30: 1 | F30: 23794.05 | G30: 46000 | I30: 39192.707 | J30: =+IF(F30="N/A","N/A",MIN(F30,I30)) -> 23794.05 | K30: =+IF(F30="N/A","N/A",ROUND(AVERAGE(F30,I30),0)) -> 31493 | L30: =+IF(J30="N/A","N/A",AVERAGE(J30:K30)) -> 27643.525 | O30: 28950.75 | P30: 55000 | R30: 41619.751 | S30: =+IF(O30="N/A","N/A",MIN(O30,R30)) -> 28950.75 | T30: =+IF(O30="N/A","N/A",ROUND(AVERAGE(O30,R30),0)) -> 35285 | U30: =+IF(S30="N/A","N/A",AVERAGE(S30:T30)) -> 32117.875
A31: 19 | B31: CAMBIO RODAMIENTO VOLANTE | C31: 1 | E31: N/A | F31: N/A | G31: N/A | H31: N/A | I31: N/A | J31: =+IF(F31="N/A","N/A",MIN(F31,I31)) -> N/A | K31: =+IF(F31="N/A","N/A",ROUND(AVERAGE(F31,I31),0)) -> N/A | L31: N/A | O31: 162000 | P31: 73000 | R31: 80901.45 | S31: =+IF(O31="N/A","N/A",MIN(O31,R31)) -> 80901.45 | T31: =+IF(O31="N/A","N/A",ROUND(AVERAGE(O31,R31),0)) -> 121451 | U31: =+IF(S31="N/A","N/A",AVERAGE(S31:T31)) -> 101176.23
A32: 20 | B32: CAMBIO BALANCINES | C32: 1 | F32: 101913.23 | G32: 114546 | I32: 101668.18 | J32: =+IF(F32="N/A","N/A",MIN(F32,I32)) -> 101668.18 | K32: =+IF(F32="N/A","N/A",ROUND(AVERAGE(F32,I32),0)) -> 101791 | L32: =+IF(J32="N/A","N/A",AVERAGE(J32:K32)) -> 101729.59 | O32: 112053.38 | P32: 145000 | R32: 110297.67 | S32: =+IF(O32="N/A","N/A",MIN(O32,R32)) -> 110297.67 | T32: =+IF(O32="N/A","N/A",ROUND(AVERAGE(O32,R32),0)) -> 111176 | U32: =+IF(S32="N/A","N/A",AVERAGE(S32:T32)) -> 110736.83
A33: 21 | B33: CAMBIO RODAMIENTOS CIGÜEÑAL | C33: 1 | F33: 700000 | G33: 145253 | I33: 178045.21 | J33: =+IF(F33="N/A","N/A",MIN(F33,I33)) -> 178045.21 | K33: =+IF(F33="N/A","N/A",ROUND(AVERAGE(F33,I33),0)) -> 439023 | L33: =+IF(J33="N/A","N/A",AVERAGE(J33:K33)) -> 308534.11 | O33: 750000 | P33: 198000 | R33: 196922.22 | S33: =+IF(O33="N/A","N/A",MIN(O33,R33)) -> 196922.22 | T33: =+IF(O33="N/A","N/A",ROUND(AVERAGE(O33,R33),0)) -> 473461 | U33: =+IF(S33="N/A","N/A",AVERAGE(S33:T33)) -> 335191.61
A34: 22 | B34: CAMBIO CAUCHOS O SELLOS DE VÁLVULAS | C34: 1 | F34: 67512.15 | G34: 152000 | I34: 80093.784 | J34: =+IF(F34="N/A","N/A",MIN(F34,I34)) -> 67512.15 | K34: =+IF(F34="N/A","N/A",ROUND(AVERAGE(F34,I34),0)) -> 73803 | L34: =+IF(J34="N/A","N/A",AVERAGE(J34:K34)) -> 70657.575 | O34: 74702.25 | P34: 186000 | R34: 87914.257 | S34: =+IF(O34="N/A","N/A",MIN(O34,R34)) -> 74702.25 | T34: =+IF(O34="N/A","N/A",ROUND(AVERAGE(O34,R34),0)) -> 81308 | U34: =+IF(S34="N/A","N/A",AVERAGE(S34:T34)) -> 78005.125
A35: 23 | B35: CAMBIO RETENEDOR NIVEL ACEITE | C35: 1 | E35: N/A | F35: N/A | G35: N/A | H35: N/A | I35: N/A | J35: =+IF(F35="N/A","N/A",MIN(F35,I35)) -> N/A | K35: =+IF(F35="N/A","N/A",ROUND(AVERAGE(F35,I35),0)) -> N/A | L35: N/A | O35: 81000 | P35: 68000 | R35: 72811.305 | S35: =+IF(O35="N/A","N/A",MIN(O35,R35)) -> 72811.305 | T35: =+IF(O35="N/A","N/A",ROUND(AVERAGE(O35,R35),0)) -> 76906 | U35: =+IF(S35="N/A","N/A",AVERAGE(S35:T35)) -> 74858.652
A36: 24 | B36: CAMBIO VÁLVULA DESCOMPRESIONADORA | C36: 1 | E36: N/A | F36: N/A | G36: N/A | H36: N/A | I36: N/A | J36: =+IF(F36="N/A","N/A",MIN(F36,I36)) -> N/A | K36: =+IF(F36="N/A","N/A",ROUND(AVERAGE(F36,I36),0)) -> N/A | L36: N/A | O36: 121500 | P36: 57000 | R36: 99778.455 | S36: =+IF(O36="N/A","N/A",MIN(O36,R36)) -> 99778.455 | T36: =+IF(O36="N/A","N/A",ROUND(AVERAGE(O36,R36),0)) -> 110639 | U36: =+IF(S36="N/A","N/A",AVERAGE(S36:T36)) -> 105208.73
B37: RECTIFICADORA | I37: 0 | J37: =+IF(F37="N/A","N/A",MIN(F37,I37)) -> 0 | K37: =+IF(F37="N/A","N/A",ROUND(AVERAGE(F37,I37),0)) -> 0
A38: 25 | B38: ENCAMISAR CILINDRO | C38: 1 | F38: 350000 | G38: 203964 | I38: 210647.15 | J38: =+IF(F38="N/A","N/A",MIN(F38,I38)) -> 210647.15 | K38: =+IF(F38="N/A","N/A",ROUND(AVERAGE(F38,I38),0)) -> 280324 | L38: =+IF(J38="N/A","N/A",AVERAGE(J38:K38)) -> 245485.58 | O38: 582018.75 | P38: 265000 | R38: 237614.3 | S38: =+IF(O38="N/A","N/A",MIN(O38,R38)) -> 237614.3 | T38: =+IF(O38="N/A","N/A",ROUND(AVERAGE(O38,R38),0)) -> 409817 | U38: =+IF(S38="N/A","N/A",AVERAGE(S38:T38)) -> 323715.65
A39: 26 | B39: RECTIFICAR CILINDRO | C39: 1 | F39: 350000 | G39: 192000 | I39: 196563.56 | J39: =+IF(F39="N/A","N/A",MIN(F39,I39)) -> 196563.56 | K39: =+IF(F39="N/A","N/A",ROUND(AVERAGE(F39,I39),0)) -> 273282 | L39: =+IF(J39="N/A","N/A",AVERAGE(J39:K39)) -> 234922.78 | O39: 471015 | P39: 249000 | R39: 223530.71 | S39: =+IF(O39="N/A","N/A",MIN(O39,R39)) -> 223530.71 | T39: =+IF(O39="N/A","N/A",ROUND(AVERAGE(O39,R39),0)) -> 347273 | U39: =+IF(S39="N/A","N/A",AVERAGE(S39:T39)) -> 285401.85
A40: 27 | B40: CAMBIAR BUJES EJE DE LEVAS | C40: 1 | F40: 309896.7 | G40: 138000 | I40: 161864.92 | J40: =+IF(F40="N/A","N/A",MIN(F40,I40)) -> 161864.92 | K40: =+IF(F40="N/A","N/A",ROUND(AVERAGE(F40,I40),0)) -> 235881 | L40: =+IF(J40="N/A","N/A",AVERAGE(J40:K40)) -> 198872.96 | O40: 337810.5 | P40: 176000 | R40: 188832.07 | S40: =+IF(O40="N/A","N/A",MIN(O40,R40)) -> 188832.07 | T40: =+IF(O40="N/A","N/A",ROUND(AVERAGE(O40,R40),0)) -> 263321 | U40: =+IF(S40="N/A","N/A",AVERAGE(S40:T40)) -> 226076.54
A41: 28 | B41: CAMBIAR GUIAS VÁLVULAS | C41: 1 | F41: 309896.7 | G41: 75000 | I41: 161864.92 | J41: =+IF(F41="N/A","N/A",MIN(F41,I41)) -> 161864.92 | K41: =+IF(F41="N/A","N/A",ROUND(AVERAGE(F41,I41),0)) -> 235881 | L41: =+IF(J41="N/A","N/A",AVERAGE(J41:K41)) -> 198872.96 | O41: 337810.5 | P41: 94000 | R41: 172651.78 | S41: =+IF(O41="N/A","N/A",MIN(O41,R41)) -> 172651.78 | T41: =+IF(O41="N/A","N/A",ROUND(AVERAGE(O41,R41),0)) -> 255231 | U41: =+IF(S41="N/A","N/A",AVERAGE(S41:T41)) -> 213941.39
A42: 29 | B42: ANILLAR BASES VÁLVULAS | C42: 1 | F42: 195512.4 | G42: 75000 | I42: 146043.3 | J42: =+IF(F42="N/A","N/A",MIN(F42,I42)) -> 146043.3 | K42: =+IF(F42="N/A","N/A",ROUND(AVERAGE(F42,I42),0)) -> 170778 | L42: =+IF(J42="N/A","N/A",AVERAGE(J42:K42)) -> 158410.65 | O42: 218106 | P42: 92000 | R42: 156830.16 | S42: =+IF(O42="N/A","N/A",MIN(O42,R42)) -> 156830.16 | T42: =+IF(O42="N/A","N/A",ROUND(AVERAGE(O42,R42),0)) -> 187468 | U42: =+IF(S42="N/A","N/A",AVERAGE(S42:T42)) -> 172149.08
A43: 30 | B43: RIMAR GUIAS VÁLVULAS | C43: 1 | F43: 131154.3 | G43: 68000 | I43: 114613.08 | J43: =+IF(F43="N/A","N/A",MIN(F43,I43)) -> 114613.08 | K43: =+IF(F43="N/A","N/A",ROUND(AVERAGE(F43,I43),0)) -> 122884 | L43: =+IF(J43="N/A","N/A",AVERAGE(J43:K43)) -> 118748.54 | O43: 145354.5 | P43: 87000 | R43: 119467.17 | S43: =+IF(O43="N/A","N/A",MIN(O43,R43)) -> 119467.17 | T43: =+IF(O43="N/A","N/A",ROUND(AVERAGE(O43,R43),0)) -> 132411 | U43: =+IF(S43="N/A","N/A",AVERAGE(S43:T43)) -> 125939.09
A44: 31 | B44: RECTIFICAR BASES VÁLVULAS | C44: 1 | F44: 182612.4 | G44: 79000 | I44: 157671.53 | J44: =+IF(F44="N/A","N/A",MIN(F44,I44)) -> 157671.53 | K44: =+IF(F44="N/A","N/A",ROUND(AVERAGE(F44,I44),0)) -> 170142 | L44: =+IF(J44="N/A","N/A",AVERAGE(J44:K44)) -> 163906.77 | O44: 204606 | P44: 107000 | R44: 165761.68 | S44: =+IF(O44="N/A","N/A",MIN(O44,R44)) -> 165761.68 | T44: =+IF(O44="N/A","N/A",ROUND(AVERAGE(O44,R44),0)) -> 185184 | U44: =+IF(S44="N/A","N/A",AVERAGE(S44:T44)) -> 175472.84
...

Sheet REPUESTOS MOTOS 
E2: COTIZACIÓN No.1 | F2: COTIZACIÓN No.2 | G2: COTIZACIÓN No.3 | H2: HISTORICOS DE CONTRATACIÓN | I2: MINIMO | J2: PROMEDIO | M2: COTIZACIÓN No.1 | N2: COTIZACIÓN No.2 | O2: COTIZACIÓN No.3 | P2: HISTORICOS DE CONTRATACIÓN | Q2: MINIMO | R2: PROMEDIO | U2: COTIZACIÓN No.1 | V2: COTIZACIÓN No.2 | W2: COTIZACIÓN No.3 | X2: HISTORICOS DE CONTRATACIÓN | Y2: MINIMO | Z2: PROMEDIO | AC2: COTIZACIÓN No.1 | AD2: COTIZACIÓN No.2 | AE2: COTIZACIÓN No.3 | AF2: HISTORICOS DE CONTRATACIÓN | AG2: MINIMO | AH2: PROMEDIO
A3: NECESIDAD CONTRATACÓN MULTIMARCA MANO DE OBRA | E3: 1. REPUESTOS | F3: 1. REPUESTOS | G3: 1. REPUESTOS | H3: 1. REPUESTOS | I3: 1. REPUESTOS | J3: 1. REPUESTOS | K3: 1. REPUESTOS | M3: 2. REPUESTOS | N3: 2. REPUESTOS | O3: 2. REPUESTOS | P3: 2. REPUESTOS | Q3: 2. REPUESTOS | R3: 2. REPUESTOS | S3: 2. REPUESTOS | U3: 3. REPUESTOS | V3: 3. REPUESTOS | W3: 3. REPUESTOS | X3: 3. REPUESTOS | Y3: 3. REPUESTOS | Z3: 3. REPUESTOS | AA3: 3. REPUESTOS | AC3: 4. REPUESTOS | AD3: 4. REPUESTOS | AE3: 4. REPUESTOS | AF3: 4. REPUESTOS | AG3: 4. REPUESTOS | AH3: 4. REPUESTOS | AI3: 4. REPUESTOS
A5: NOMBRE DEL ACTIVO | E5: MOTOCICLETA | F5: MOTOCICLETA | G5: MOTOCICLETA | H5: MOTOCICLETA | I5: MOTOCICLETA | J5: MOTOCICLETA | K5: MOTOCICLETA | M5: MOTOCICLETA | N5: MOTOCICLETA | O5: MOTOCICLETA | P5: MOTOCICLETA | Q5: MOTOCICLETA | R5: MOTOCICLETA | S5: MOTOCICLETA | U5: MOTOCICLETA | V5: MOTOCICLETA | W5: MOTOCICLETA | X5: MOTOCICLETA | Y5: MOTOCICLETA | Z5: MOTOCICLETA | AA5: MOTOCICLETA | AC5: MOTOCICLETA | AD5: MOTOCICLETA | AE5: MOTOCICLETA | AF5: MOTOCICLETA | AG5: MOTOCICLETA | AH5: MOTOCICLETA | AI5: MOTOCICLETA
A6: MARCA | E6: HONDA | F6: HONDA | G6: HONDA | H6: HONDA | I6: HONDA | J6: HONDA | K6: HONDA | M6: SUZUKI | N6: SUZUKI | O6: SUZUKI | P6: SUZUKI | Q6: SUZUKI | R6: SUZUKI | S6: SUZUKI | U6: YAMAHA | V6: YAMAHA | W6: YAMAHA | X6: YAMAHA | Y6: YAMAHA | Z6: YAMAHA | AA6: YAMAHA | AC6: YAMAHA | AD6: YAMAHA | AE6: YAMAHA | AF6: YAMAHA | AG6: YAMAHA | AH6: YAMAHA | AI6: YAMAHA
A7: LÍNEA | C7: CANTIDAD | E7: ELITE + 125 (1) | F7: ELITE + 125 (1) | G7: ELITE + 125 (1) | H7: ELITE + 125 (1) | I7: ELITE + 125 (1) | J7: ELITE + 125 (1) | K7: ELITE + 125 (1) | M7: DR 200 (1) | N7: DR 200 (1) | O7: DR 200 (1) | P7: DR 200 (1) | Q7: DR 200 (1) | R7: DR 200 (1) | S7: DR 200 (1) | U7: XTZ125 (1) | V7: XTZ125 (1) | W7: XTZ125 (1) | X7: XTZ125 (1) | Y7: XTZ125 (1) | Z7: XTZ125 (1) | AA7: XTZ125 (1) | AC7: BWS (2) | AD7: BWS (2) | AE7: BWS (2) | AF7: BWS (2) | AG7: BWS (2) | AH7: BWS (2) | AI7: BWS (2)
A8: MODELO | E8: 2016 | F8: 2016 | G8: 2016 | H8: 2016 | I8: 2016 | J8: 2016 | K8: 2016 | M8: 2014 | N8: 2014 | O8: 2014 | P8: 2014 | Q8: 2014 | R8: 2014 | S8: 2014 | U8: 2018 | V8: 2018 | W8: 2018 | X8: 2018 | Y8: 2018 | Z8: 2018 | AA8: 2018 | AC8: 2018 | AD8: 2018 | AE8: 2018 | AF8: 2018 | AG8: 2018 | AH8: 2018 | AI8: 2018
A9: MUTIMARCA MOTOCICLETAS | E9: COSTO REPUESTO (S) | F9: COSTO REPUESTO (S) | G9: COSTO REPUESTO (S) | H9: COSTO REPUESTO (S) | I9: COSTO REPUESTO (S) | J9: COSTO REPUESTO (S) | K9: COSTO REPUESTO (S) | M9: COSTO REPUESTO (S) | N9: COSTO REPUESTO (S) | O9: COSTO REPUESTO (S) | P9: COSTO REPUESTO (S) | Q9: COSTO REPUESTO (S) | R9: COSTO REPUESTO (S) | S9: COSTO REPUESTO (S) | U9: COSTO REPUESTO (S) | V9: COSTO REPUESTO (S) | W9: COSTO REPUESTO (S) | X9: COSTO REPUESTO (S) | Y9: COSTO REPUESTO (S) | Z9: COSTO REPUESTO (S) | AA9: COSTO REPUESTO (S) | AC9: COSTO REPUESTO (S) | AD9: COSTO REPUESTO (S) | AE9: COSTO REPUESTO (S) | AF9: COSTO REPUESTO (S) | AG9: COSTO REPUESTO (S) | AH9: COSTO REPUESTO (S) | AI9: COSTO REPUESTO (S)
E10: VALOR UNITARIO | F10: VALOR UNITARIO | G10: VALOR UNITARIO | H10: VALOR UNITARIO | I10: VALOR UNITARIO | J10: VALOR UNITARIO | K10: VALOR UNITARIO | M10: VALOR UNITARIO | N10: VALOR UNITARIO | O10: VALOR UNITARIO | P10: VALOR UNITARIO | Q10: VALOR UNITARIO | R10: VALOR UNITARIO | S10: VALOR UNITARIO | U10: VALOR UNITARIO | V10: VALOR UNITARIO | W10: VALOR UNITARIO | X10: VALOR UNITARIO | Y10: VALOR UNITARIO | Z10: VALOR UNITARIO | AA10: VALOR UNITARIO | AC10: VALOR UNITARIO | AD10: VALOR UNITARIO | AE10: VALOR UNITARIO | AF10: VALOR UNITARIO | AG10: VALOR UNITARIO | AH10: VALOR UNITARIO | AI10: VALOR UNITARIO
A11: ÌTEM | B11: SISTEMA DE FRENOS
A12: 1 | B12: Juego De Bandas Frenos (Dos pares) | C12: 1 | E12: 79495.762 | F12: 64000 | H12: 76031.771 | I12: =+IF(E12="N/A","N/A",MIN(E12,H12)) -> 76031.771 | J12: =+IF(E12="N/A","N/A",ROUND(AVERAGE(E12,H12),0)) -> 77764 | K12: =+IF(I12="N/A","N/A",AVERAGE(I12:J12)) -> 76897.886 | M12: 88328.625 | N12: 113000 | P12: 94631.177 | Q12: =+IF(M12="N/A","N/A",MIN(M12:P12)) -> 88328.625 | R12: =+IF(M12="N/A","N/A",ROUND(AVERAGE(M12:P12),0)) -> 98653 | S12: =+IF(Q12="N/A","N/A",AVERAGE(Q12:R12)) -> 93490.812 | U12: 89656.875 | V12: 90000 | X12: 91072.128 | Y12: =+IF(U12="N/A","N/A",MIN(U12:X12)) -> 89656.875 | Z12: =+IF(U12="N/A","N/A",ROUND(AVERAGE(U12:X12),0)) -> 90243 | AA12: =+IF(Y12="N/A","N/A",AVERAGE(Y12:Z12)) -> 89949.938 | AC12: 90321 | AD12: 113000 | AF12: 103310.29 | AG12: =+IF(AC12="N/A","N/A",MIN(AC12:AF12)) -> 90321 | AH12: =+IF(AC12="N/A","N/A",ROUND(AVERAGE(AC12:AF12),0)) -> 102210 | AI12: =+IF(AG12="N/A","N/A",AVERAGE(AG12:AH12)) -> 96265.5
