Workbook
Name NOM_BPIN: '[1]RUBROS X BPIN '!$A$2:$D$338
Name regionales: [2]regionales!$A$1:$B$34

Sheet INSTRUCCIONES
I1: Versión: 01
I2: Código: GRF-F-087
B3: Gestión de Recursos Financieros
B4: Formato de Relación entradas de almacén para pago de contratos
B5: INSTRUCCIONES PARA EL DILIGENCIAMIENTO DEL FORMATO
B6: NO IMPRIMIR
B7: * El formato cuenta con campos formulados los cuales muestran información una vez se alimente, por favor no modificar ni borrar las fórmulas
B8: 1. Generalidades
B9: El formato pretende facilitar la organización de las notas de entrada a almacen producto de contratos o convenios con relacion a los pagos de estos.
B10: La información de este formato la debe registrar cada uno de los supervisores o encargados de los contratos.
B11: Una vez diligenciado y ejecutadas las actividades, cada responsable remite este formato debidamente diligenciado como soporte a la factura o cuenta de cobro para el correspondiente pago.
B12: No se requiere imprimir
B13: El formato diligenciado deberá ser guardado por quien lo aplique.
B14: Para el diligenciamiento se utiliza el tipo de letra Calibri con tamaño de 8 a 12 puntos.
B15: 2. Instrucciones para diligenciar los campos
B16: Fecha de diligenciamiento | C16: Día, mes y año en el cual se está diligenciando el formato
B17: DATOS GENERALES DEL CONTRATO
B18: CONTRATO No. | C18: Número del contrato por le cual se originan las notas de entrada a almacén
B19: FECHA SUSCRIPCIÓN | C19: Fecha en la cual se suscribió el contrato
B20: REGIONAL O CENTRO DE FORMACIÓN DE EJECUCIÓN PRESUPUESTAL | C20: Seleccionar de la lista desplegable el nombre de la Regional o Centro de Formacion a la cual pertenece el contrato
B21: POSICIÓN CATÁLOGO INSITUCIONAL REGIONAL O CENTRO DE FORMACIÓN | C21: Campo formulado, el cual muestra la información automatica al momento de seleccionar la Regional o Centro de Formación
B22: CONTRATISTA | C22: Nombre o razón social del contratista
B23: NIT | C23: Número del NIT o Cedula del contratista
B24: OBJETO | C24: Detalle del objeto contractual
B25: No. FACTURA OBJETO DE PAGO | C25: Ingresar el número de la factura para la cual se está solicitando el pago
B26: FECHA DE LA FACTURA | C26: Ingresar la fecha de expedición de la factura DD-MM-AAAA
B27: ORDENADOR DEL GASTO | C27: Nombre del ordenador del gasto de la Regional o Centro de Formación
B28: CARGO | C28: Cargo del ordenador del gasto de la Regional o Centro de Formación
B29: RELACIÓN DE NOTAS DE ENTRADA A ALMACÉN PRODUCTO DEL CONTRATO Y/O CONVENIO
B30: ÍTEM | C30: Número consecutivo de la fila para relacionar cada una de las notas de entrada a almacén, se deben adicionar columnas en los casos que sea necesario
B31: REGIONAL O CENTRO DE FORMACIÓN | C31: Seleccionar de la lista desplegable el nombre de la Regional o Centro de Formacion en la cual se realizó la nota de entrada a almacén
B32: CODIGO PCI | C32: Campo formulado, el cual muestra la información automatica al momento de seleccionar la Regional o Centro de Formación en la cual se realizó la nota de entrada a almacén
B33: COD TIPO DE MOVIMIENTO | C33: Seleccionar de la lista desplegable el código de la transaccion de nota de entrada realizada en el aplicativo de almacén
B34: NOMBRE TIPO DE MOVIMIENTO | C34: Campo fomulado, Nombre de la transaccion de nota de entrada realizada en el aplicativo de almacén
B35: No NOTA DE ENTRADA DE ALMACÉN | C35: Número del consecutivo asignado a la nota de entrada de almacén
B36: FECHA | C36: Fecha en la cual se elaboró la nota de entrada a almacen
B37: VALOR NOTA DE ENTRADA DE ALMACÉN | C37: Valor total de la nota de entrada a almacén
B38: DATOS SUPERVISOR
B39: NOMBRE | C39: Nombre completo del supervisor del contrato
B40: CARGO | C40: Cargo del supervisor del contrato
...

Sheet FORMATO
I2: Versión: 01
I3: Código: GRF-F-087
B4: Gestión de Recursos Financieros | J4: Por favor antes de diligenciar el formato lea las instrucciones dando clic aquí | K4: * El formato cuenta con campos formulados los cuales muestran información una vez se alimente, por favor no modificar ni borrar las fórmulas
B5: Formato de Relación entradas de almacén para pago de contratos
G6: FECHA DE DILIGENCIAMIENTO | I6: 44831
B8: DATOS GENERALES DEL CONTRATO
B9: CONTRATO No. | D9: 3922510 | G9: FECHA SUSCRIPCIÓN
B10: REGIONAL O CENTRO DE FORMACIÓN DE EJECUCIÓN PRESUPUESTAL | D10: CALDAS CENTRO PECUARIO Y AGROEMPRESARIAL | G10: POSICIÓN CATÁLOGO INSITUCIONAL (PCI) REGIONAL O CENTRO DE FORMACIÓN | H10: =IF(D10="","",VLOOKUP(D10,'LISTADO PCI''s'!A:C,3,0)) -> 36-02-00-017-951510
B11: CONTRATISTA | D11: COMERCIALIZADORA WORK | G11: NIT o CÉDULA | H11: 901585816-1
B12: OBJETO | D12: CONTRATAR LA COMPRA DE MATERIALÑES Y ELEMENTOS DE FERRETERIA PARA LA REALIZACION DE M ANTENIMIENTOS EN EL CPYA DE LA REGIONAL CALDAS.
B13: No. FACTURA OBJETO DE PAGO | D13: FW-05 $7,761,894,00 | G13: FECHA DE LA FACTURA | H13: 44811
B14: ORDENADOR DEL GASTO | D14: MILTON HERNANDO PEREZ ORDOÑEZ | G14: CARGO | H14: SUBDIRECTOR
B16: RELACIÓN DE NOTAS DE ENTRADA A ALMACÉN PRODUCTO DEL CONTRATO Y/O CONVENIO
B17: ÍTEM | C17: REGIONAL O CENTRO DE FORMACIÓN | D17: CODIGO PCI | E17: COD. TIPO DE MOVIMIENTO | F17: NOMBRE TIPO DE MOVIMIENTO | G17: No. NOTA DE ENTRADA A ALMACÉN | H17: FECHA | I17: VALOR NOTA DE ENTRADA A ALMACÉN
B18: 1 | C18: CALDAS CENTRO PECUARIO Y AGROEMPRESARIAL | D18: =IF(C18="","",VLOOKUP(C18,'LISTADO PCI''s'!A:C,3,0)) -> 36-02-00-017-951510 | E18: 102 | F18: =IF(E18="","",VLOOKUP(E18,'LISTADO PCI''s'!J:K,2,0)) -> Nota de entrada elementos de consumo | G18: 28807 | H18: 44812 | I18: 6522300
D19: =IF(C19="","",VLOOKUP(C19,'LISTADO PCI''s'!A:C,3,0)) | F19: =IF(E19="","",VLOOKUP(E19,'LISTADO PCI''s'!J:K,2,0))
D20: =IF(C20="","",VLOOKUP(C20,'LISTADO PCI''s'!A:C,3,0)) | F20: =IF(E20="","",VLOOKUP(E20,'LISTADO PCI''s'!J:K,2,0))
D21: =IF(C21="","",VLOOKUP(C21,'LISTADO PCI''s'!A:C,3,0)) | F21: =IF(E21="","",VLOOKUP(E21,'LISTADO PCI''s'!J:K,2,0))
D22: =IF(C22="","",VLOOKUP(C22,'LISTADO PCI''s'!A:C,3,0)) | F22: =IF(E22="","",VLOOKUP(E22,'LISTADO PCI''s'!J:K,2,0))
D23: =IF(C23="","",VLOOKUP(C23,'LISTADO PCI''s'!A:C,3,0)) | F23: =IF(E23="","",VLOOKUP(E23,'LISTADO PCI''s'!J:K,2,0))
D24: =IF(C24="","",VLOOKUP(C24,'LISTADO PCI''s'!A:C,3,0)) | F24: =IF(E24="","",VLOOKUP(E24,'LISTADO PCI''s'!J:K,2,0))
D25: =IF(C25="","",VLOOKUP(C25,'LISTADO PCI''s'!A:C,3,0)) | F25: =IF(E25="","",VLOOKUP(E25,'LISTADO PCI''s'!J:K,2,0))
D26: =IF(C26="","",VLOOKUP(C26,'LISTADO PCI''s'!A:C,3,0)) | F26: =IF(E26="","",VLOOKUP(E26,'LISTADO PCI''s'!J:K,2,0))
D27: =IF(C27="","",VLOOKUP(C27,'LISTADO PCI''s'!A:C,3,0)) | F27: =IF(E27="","",VLOOKUP(E27,'LISTADO PCI''s'!J:K,2,0))
D28: =IF(C28="","",VLOOKUP(C28,'LISTADO PCI''s'!A:C,3,0)) | F28: =IF(E28="","",VLOOKUP(E28,'LISTADO PCI''s'!J:K,2,0))
D29: =IF(C29="","",VLOOKUP(C29,'LISTADO PCI''s'!A:C,3,0)) | F29: =IF(E29="","",VLOOKUP(E29,'LISTADO PCI''s'!J:K,2,0))
D30: =IF(C30="","",VLOOKUP(C30,'LISTADO PCI''s'!A:C,3,0)) | F30: =IF(E30="","",VLOOKUP(E30,'LISTADO PCI''s'!J:K,2,0))
... D56: =IF(C56="","",VLOOKUP(C56,'LISTADO PCI''s'!A:C,3,0)) | F56: =IF(E56="","",VLOOKUP(E56,'LISTADO PCI''s'!J:K,2,0))
B57: OBSERVACIONES: | H57: SUBTOTAL | I57: =SUM(I18:I56) -> 6522300
H58: IVA | I58: 1239294
H59: TOTAL | I59: =+I57+I58 -> 7761594
B61: DATOS SUPERVISOR
B62: NOMBRE | D62: ISAIAS ARIAS BETANCUR | F62: CARGO | G62: TECNICO GR 2
B63: CÉDULA | D63: 10167603 | F63: FIRMA

Sheet LISTADO PCI's
A1: CENTRO REG CONCATENADO | B1: REGIONAL | C1: PCI | D1: Descripción | F1: REGIONAL | J1: COD TIPO DE MOVIMIENTO | K1: NOMBRE TIPO DE MOVIMIENTO
A2: =+B2&" "&D2 -> DIRECCIÓN GENERAL SENA Gestión General | B2: DIRECCIÓN GENERAL | C2: 36-02-00-001-0000 | D2: SENA Gestión General | F2: DIRECCIÓN GENERAL | J2: 102 | K2: Nota de entrada elementos de consumo
A3: =+B3&" "&D3 -> ANTIOQUIA SENA Regional ANTIOQUIA Dirección Regional | B3: ANTIOQUIA | C3: 36-02-00-005-000000 | D3: SENA Regional ANTIOQUIA Dirección Regional | F3: ANTIOQUIA | J3: 202 | K3: Nota de entrada elementos devolutivos
A4: =+B4&" "&D4 -> ANTIOQUIA CENTRO DE LOS RECURSOS NATURALES RENOVA | B4: ANTIOQUIA | C4: 36-02-00-005-910110 | D4: CENTRO DE LOS RECURSOS NATURALES RENOVA | F4: ATLÁNTICO | J4: 204 | K4: Nota de entrada bienes en administración
A5: =+B5&" "&D5 -> ANTIOQUIA CENTRO DE FORMACION PROFESIONAL MINERO AMBIENTAL ANTIOQUIA | B5: ANTIOQUIA | C5: 36-02-00-005-912710 | D5: CENTRO DE FORMACION PROFESIONAL MINERO AMBIENTAL ANTIOQUIA | F5: DISTRITO CAPITAL | J5: 208 | K5: Nota de entrada elementos reintegrados
A6: =+B6&" "&D6 -> ANTIOQUIA CENTRO DE DISEÑO Y MANUFACTURA DE CUERO | B6: ANTIOQUIA | C6: 36-02-00-005-920110 | D6: CENTRO DE DISEÑO Y MANUFACTURA DE CUERO | F6: BOLÍVAR
A7: =+B7&" "&D7 -> ANTIOQUIA CENTRO DE FORMACIÓN EN DISEÑO CONFECCIÓ | B7: ANTIOQUIA | C7: 36-02-00-005-920210 | D7: CENTRO DE FORMACIÓN EN DISEÑO CONFECCIÓ | F7: BOYACÁ
A8: =+B8&" "&D8 -> ANTIOQUIA CENTRO PARA EL DESARROLLO DEL HABITAT Y | B8: ANTIOQUIA | C8: 36-02-00-005-920310 | D8: CENTRO PARA EL DESARROLLO DEL HABITAT Y | F8: CALDAS
A9: =+B9&" "&D9 -> ANTIOQUIA CENTRO DE TECNOLOGÍA DE LA MANUFACTURA | B9: ANTIOQUIA | C9: 36-02-00-005-920410 | D9: CENTRO DE TECNOLOGÍA DE LA MANUFACTURA | F9: CAQUETÁ
A10: =+B10&" "&D10 -> ANTIOQUIA CENTRO TECNOLOGICO DEL MOBILIARIO | B10: ANTIOQUIA | C10: 36-02-00-005-920510 | D10: CENTRO TECNOLOGICO DEL MOBILIARIO | F10: CAUCA
A11: =+B11&" "&D11 -> ANTIOQUIA CENTRO TECNOLOGICO DE GESTION INDUSTRIAL | B11: ANTIOQUIA | C11: 36-02-00-005-920610 | D11: CENTRO TECNOLOGICO DE GESTION INDUSTRIAL | F11: CESAR
A12: =+B12&" "&D12 -> ANTIOQUIA CENTRO DE COMERCIO | B12: ANTIOQUIA | C12: 36-02-00-005-930110 | D12: CENTRO DE COMERCIO | F12: CÓRDOBA
A13: =+B13&" "&D13 -> ANTIOQUIA CENTRO DE SERV. DE SALUD | B13: ANTIOQUIA | C13: 36-02-00-005-940110 | D13: CENTRO DE SERV. DE SALUD | F13: CUNDINAMARCA
A14: =+B14&" "&D14 -> ANTIOQUIA CENTRO DE SERV. Y GESTION EMPRESARIAL | B14: ANTIOQUIA | C14: 36-02-00-005-940210 | D14: CENTRO DE SERV. Y GESTION EMPRESARIAL | F14: CHOCÓ
A15: =+B15&" "&D15 -> ANTIOQUIA COMPLEJO TECNOLOGICO PARA LA GESTION AG | B15: ANTIOQUIA | C15: 36-02-00-005-950110 | D15: COMPLEJO TECNOLOGICO PARA LA GESTION AG | F15: HUILA
A16: =+B16&" "&D16 -> ANTIOQUIA COMPLEJO TECNOLOGICO MINERO AGROEMPRESA | B16: ANTIOQUIA | C16: 36-02-00-005-950210 | D16: COMPLEJO TECNOLOGICO MINERO AGROEMPRESA | F16: LA GUAJIRA
A17: =+B17&" "&D17 -> ANTIOQUIA CENTRO DE LA INNOVACION, LA AGROINDUSTR | B17: ANTIOQUIA | C17: 36-02-00-005-950310 | D17: CENTRO DE LA INNOVACION, LA AGROINDUSTR | F17: MAGDALENA
... A35: =+B35&" "&D35 -> DISTRITO CAPITAL CENTRO DE GESTION DE MERCADOS, LOGISTICO | B35: DISTRITO CAPITAL | C35: 36-02-00-011-930310 | D35: CENTRO DE GESTION DE MERCADOS, LOGISTICO | F35: VICHADA
A36: =+B36&" "&D36 -> DISTRITO CAPITAL CENTRO DE FORMACION DE TALENTO HUMANO E | B36: DISTRITO CAPITAL | C36: 36-02-00-011-940310 | D36: CENTRO DE FORMACION DE TALENTO HUMANO E
A37: =+B37&" "&D37 -> DISTRITO CAPITAL CENTRO DE GESTION ADMINISTRATIVA | B37: DISTRITO CAPITAL | C37: 36-02-00-011-940410 | D37: CENTRO DE GESTION ADMINISTRATIVA
A38: =+B38&" "&D38 -> DISTRITO CAPITAL CENTRO DE SERV. FINANCIEROS | B38: DISTRITO CAPITAL | C38: 36-02-00-011-940510 | D38: CENTRO DE SERV. FINANCIEROS
A39: =+B39&" "&D39 -> DISTRITO CAPITAL CENTRO NACIONAL DE HOTELERIA. TURISMO Y | B39: DISTRITO CAPITAL | C39: 36-02-00-011-940610 | D39: CENTRO NACIONAL DE HOTELERIA. TURISMO Y
A40: =+B40&" "&D40 -> DISTRITO CAPITAL CENTRO DE FORMACION Y ACTIVIDAD FISICA Y CULTURA | B40: DISTRITO CAPITAL | C40: 36-02-00-011-950810 | D40: CENTRO DE FORMACION Y ACTIVIDAD FISICA Y CULTURA
A41: =+B41&" "&D41 -> BOLÍVAR SENA Regional BOLIVAR Dirección Regional | B41: BOLÍVAR | C41: 36-02-00-013-000000 | D41: SENA Regional BOLIVAR Dirección Regional
A42: =+B42&" "&D42 -> BOLÍVAR CENTRO AGROEMPRESARIAL Y MINERO | B42: BOLÍVAR | C42: 36-02-00-013-910410 | D42: CENTRO AGROEMPRESARIAL Y MINERO
A43: =+B43&" "&D43 -> BOLÍVAR CENTRO NAUTICO ACUICOLA Y PESQUERO | B43: BOLÍVAR | C43: 36-02-00-013-910510 | D43: CENTRO NAUTICO ACUICOLA Y PESQUERO
A44: =+B44&" "&D44 -> BOLÍVAR CENTRO PARA LA INDUSTRIA PETROQUIMICA | B44: BOLÍVAR | C44: 36-02-00-013-921810 | D44: CENTRO PARA LA INDUSTRIA PETROQUIMICA
A45: =+B45&" "&D45 -> BOLÍVAR CENTRO DE COMERCIO Y SERV. | B45: BOLÍVAR | C45: 36-02-00-013-930410 | D45: CENTRO DE COMERCIO Y SERV.
A46: =+B46&" "&D46 -> BOYACÁ SENA Regional BOYACA Dirección Regional | B46: BOYACÁ | C46: 36-02-00-015-000000 | D46: SENA Regional BOYACA Dirección Regional
A47: =+B47&" "&D47 -> BOYACÁ CENTRO DE DESARROLLO AGROPECUARIO Y AGR | B47: BOYACÁ | C47: 36-02-00-015-911010 | D47: CENTRO DE DESARROLLO AGROPECUARIO Y AGR
... A152: =+B152&" "&D152 -> VICHADA CENTRO DE PRODUCCIÓN Y TRANSFORMACION A | B152: VICHADA | C152: 36-02-00-099-953110 | D152: CENTRO DE PRODUCCIÓN Y TRANSFORMACION A
