Workbook
Name Summary: #REF!

Sheet PRES. PUENTES PALAFITICOS   (2
B2: CONSTRUCCIÓN DE PUENTES PALAFÍTICOS EN LA ZONA URBANA DEL MUNICIPIO DE MURINDÓ – ANTIOQUIA.
B4: PRESUPUESTO GENERAL DEL PROYECTO
B5: Datos Generales: | F5: CONSTRUCCIÓN DE PUENTES PALAFÍTICOS EN LA ZONA URBANA DEL MUNICIPIO DE MURINDÓ – ANTIOQUIA
B6: Tramo: Nro. 1 | F6: Puente Palafitico En Madera Localizado En La Carrera 21 Entre Las Calles Segunda Y Tercera En La Zona Urbana Del Municipio De Murindó – Antioquia | K6: SAITAMO
B7: Longitud Aprox. De la Vía (Mts) | F7: 49.0
B8: Ancho Promedio (Mts) | F8: 1.20
B9: Abscisa | F9: Km0+000 - Km0+049
B11: Nro. DE ORDEN | C11: ITEM DE PAGO | D11: ESPECIFICACIÓN | F11: DESCRIPCIÓN | G11: UND. | H11: CANT. | I11: V/UNIT | J11: V/TOTAL
D12: GR. | E12: PART.
B13: 11.0 | F13: PRELIMINARES | J13: =SUM(J14:J16) -> #REF!
B14: 11.1. | C14: 100P | D14: N.A. | E14: 100P | F14: Localización, trazado y replanteo del proyecto. | G14: M2 | H14: =ROUND(H15*1.5,0) -> 74 | I14: =#REF! -> #REF! | J14: =H14*I14 -> #REF!
B15: 11.2. | C15: 101P | D15: N.A. | E15: 101P | F15: Retiro puente existente | G15: ML | H15: 49 | I15: =#REF! -> #REF! | J15: =H15*I15 -> #REF!
B16: 11.3. | C16: 200.1 | D16: 200 | E16: N.A. | F16: Descapote | G16: M2 | H16: =ROUND(H14,0) -> 74 | I16: ='200.1'!I38 -> 0 | J16: =H16*I16 -> 0
B17: 12.0 | F17: EXCAVACIÓN | J17: =J18 -> 0
B18: 12.1. | C18: 200.2 | D18: 200 | E18: N.A. | F18: Excavación de terreno de 0 a 1,20 mts. | G18: M3 | H18: =ROUND((((49/1.5)*2)*(0.4*0.4*1)),0) -> 10 | I18: ='200.2'!I38 -> 0 | J18: =H18*I18 -> 0
B19: 13.0 | F19: LLENO | J19: =J20 -> #REF!
B20: 13.1. | C20: 200.3 | D20: 200 | E20: N.A. | F20: Lleno compactado manualmente con material Proveniente de la excavación | G20: M3 | H20: =H18 -> 10 | I20: =#REF! -> #REF! | J20: =H20*I20 -> #REF!
B21: 14.0 | F21: CURADO E IMPERMEABILIZACION | J21: =SUM(J22:J23) -> 0
B22: 14.1. | C22: 700.2 | D22: 700 | E22: N.A. | F22: Curado e impermeabilización de madera con pintura bituminosa tipo vareta color negro | G22: KG | H22: 30 | I22: ='700.2'!I38 -> 0 | J22: =H22*I22 -> 0
B23: 14.2. | C23: 400.1 | D23: 400 | E23: N.A. | F23: Suministro y aplicación de manto en las vigas superiores durmientes longitudinales de 4" x 4" donde se atornilla la madera sintética | G23: ML | H23: =H15*3 -> 147 | I23: ='400.1'!I38 -> 0 | J23: =H23*I23 -> 0
B24: 15.0 | F24: ESTRUCTURA EN MADERA NATURAL | J24: =J25 -> 0
B25: 15.1. | C25: 500.6 | D25: 500 | E25: N.A. | F25: Suministro, transporte e instalación de madera natural en Truncado, Níspero o similar para la conformación de un tramo de puente con puntales de 5" x 5" x 3,00 mts., vientos diagonales de 2,0" x 5" x 2,50 mts., vigas riostras superiores de 5" x 3" x 1,10 mts., vigas durmientes longitudinales de 4" x 4" x 3,00 mts. | G25: ML | H25: =H15 -> 49 | I25: ='500.6'!I38 -> 0 | J25: =H25*I25 -> 0
B26: 16.0 | F26: ESTRUCTURAS EN MADERA SINTETICA | J26: =J27 -> #REF!
B27: 16.1. | C27: 500.8 | D27: 500 | E27: N.A. | F27: Suministro, Transporte e Instalación de Madera Sintética en Tablillas de 120cm x 14cm x 5cm, sujetos a las vigas durmientes longitudinales con tornillos de 6,5" X D= 3/8" | G27: ML | H27: =H15 -> 49 | I27: =#REF! -> #REF! | J27: =H27*I27 -> #REF!
G28: Costos Directos | J28: =J13+J17+J19+J21+J24+J26 -> #REF!
G29: Administración | I29: 0.25 | J29: =J28*I29 -> #REF!
G30: Utilidad | I30: 0.05 | J30: =J28*I30 -> #REF!
G31: Sub Total Tramo Nro. 1 | J31: =J28+J29+J30 -> #REF!
B33: Datos Generales: | F33: CONSTRUCCIÓN DE PUENTES PALAFÍTICOS EN LA ZONA URBANA DEL MUNICIPIO DE MURINDÓ – ANTIOQUIA
B34: Tramo: Nro. 2 | F34: Puente Palafitico En Madera Localizado En La Carrera 15 Entre Las Calles Quinta Y Sexta En La Zona Urbana Del Municipio De Murindó – Antioquia | K34: SIETE
B35: Longitud Aprox. De la Vía (Mts) | F35: 32.0
B36: Ancho Promedio (Mts) | F36: 1.20
B37: Abscisa | F37: Km0+000 - Km0+032
B39: Nro. DE ORDEN | C39: ITEM DE PAGO | D39: ESPECIFICACIÓN | F39: DESCRIPCIÓN | G39: UND. | H39: CANT. | I39: V/UNIT | J39: V/TOTAL
D40: GR. | E40: PART.
B41: 1.0 | F41: PRELIMINARES | J41: =SUM(J42:J44) -> #REF!
B42: 1.1. | C42: 100P | D42: N.A. | E42: 100P | F42: Localización, trazado y replanteo del proyecto. | G42: M2 | H42: =ROUND(H43*1.5,0) -> 48 | I42: =#REF! -> #REF! | J42: =H42*I42 -> #REF!
B43: 1.2. | C43: 101P | D43: N.A. | E43: 101P | F43: Retiro puente existente | G43: ML | H43: 32 | I43: =#REF! -> #REF! | J43: =H43*I43 -> #REF!
B44: 1.3. | C44: 200.1 | D44: 200 | E44: N.A. | F44: Descapote | G44: M2 | H44: =ROUND(H42,0) -> 48 | I44: ='200.1'!I38 -> 0 | J44: =H44*I44 -> 0
B45: 2.0 | F45: EXCAVACIÓN | J45: =J46 -> 0
...

Sheet Presupuesto
B2: Datos Generales: | E2: “CONSTRUCCIÓN Y MANTENIMIENTO DEL PUENTE PALAFÍTICO PEATONAL EN MADERA EN LA CALLE 3ra ENTRE CARRERAS 17 Y 19 EN LA ZONA URBANA DE MUNICIPIO DE MURINDÓ - ANTIOQUIA”
B3: ITEM DE PAGO | C3: ESPECIFICACIÓN | E3: DESCRIPCIÓN | F3: UND. | G3: CANT. | H3: VALOR. UNIT | I3: VALOR. TOTAL
C4: GR. | D4: PART.
E5: PRELIMINARES | I5: =SUM(I6:I8) -> 0
B6: 200.1 | C6: 200 | D6: N.A. | E6: Descapote | F6: M2 | G6: =G7 -> 90 | H6: ='200.1'!I38 -> 0 | I6: =ROUND(G6*H6,0) -> 0
B7: 200.6 | C7: 200 | D7: N.A. | E7: Cerramiento | F7: ML | G7: =G17 -> 90 | H7: ='200.6'!I38 -> 0 | I7: =ROUND(G7*H7,0) -> 0
B8: 200.7 | C8: 200 | D8: N.A. | E8: Acceso provisional de viviendas | F8: ML | G8: 6 | H8: ='200.7'!I38 -> 0 | I8: =ROUND(G8*H8,0) -> 0
E9: EXCAVACIÓN | I9: =I10 -> 0
B10: 200.2 | C10: 200 | D10: N.A. | E10: Excavación de terreno de 0 a 2,0 mts. | F10: M3 | G10: =((G17/1.5)+1)*2*0.1*0.1*1 -> 1.22 | H10: ='200.2'!I38 -> 0 | I10: =ROUND(G10*H10,0) -> 0
E11: CURADO E IMPERMEABILIZACION | I11: =SUM(I12:I13) -> 0
B12: 700.2 | C12: 700 | D12: N.A. | E12: Curado e impermeabilización de madera con pintura bituminosa tipo vareta color negro | F12: KG | G12: =0.2*G15 -> 18 | H12: ='700.2'!I38 -> 0 | I12: =G12*H12 -> 0
B13: 400.1 | C13: 400 | D13: N.A. | E13: Suministro y aplicación de manto en las vigas superiores durmientes longitudinales de 4" x 4" donde se atornilla la madera sintética | F13: ML | G13: =(G15*3) -> 270 | H13: ='400.1'!I38 -> 0 | I13: =ROUND(G13*H13,0) -> 0
E14: ESTRUCTURA EN MADERA NATURAL | I14: =SUM(I15:I15) -> 0
B15: 500.6 | C15: 500 | D15: N.A. | E15: Suministro, transporte e instalación de madera natural en Truncado, Níspero o similar para la conformación de un tramo de puente con puntales de 5" x 5" x 3,00 mts., vientos diagonales de 2" x 4" x 2,50 mts., vigas riostras superiores de 5" x 3" x 1,00 mts., vigas durmientes longitudinales de 4" x 4" x 3,00 mts. | F15: ML | G15: =SUM(G17:G17) -> 90 | H15: ='500.6'!I38 -> 0 | I15: =ROUND(G15*H15,0) -> 0
E16: ESTRUCTURAS EN MADERA SINTETICA | I16: =SUM(I17:I17) -> 0
B17: 500.9 | C17: 500 | D17: N.A. | E17: Instalación de madera sintética en tablillas de 120cm x 12cm x 4cm, sujetos a las vigas durmientes longitudinales con tornillos de 6,5" X D= 3/8" (Incluye la recuperacion de la tablillas existente) | F17: ML | G17: 90 | H17: ='500.9'!I38 -> 0 | I17: =ROUND(G17*H17,0) -> 0
E18: LIMPIEZA GENERAL | I18: =I19 -> 0
B19: 900.1 | C19: 900 | D19: N.A. | E19: Limpieza general de la obra | F19: Gbl | G19: 1 | H19: ='900.1'!I38 -> 0 | I19: =ROUND(G19*H19,0) -> 0
F20: Costos Directos | I20: =I5+I9+I11+I14+I16+I18 -> 0
F21: Administración | H21: 0 | I21: =I20*H21 -> 0
F22: Imprevistos | H22: 0 | I22: =I20*H22 -> 0
F23: Utilidad | H23: 0 | I23: =I20*H23 -> 0
F24: Total | I24: =SUM(I20:I23) -> 0

Sheet PRESUPUESTO DEFINITIVO 2
B2: Datos Generales: | F2: CONSTRUCCIÓN Y MANTENIMIENTO DE PUENTES PALAFÍTICOS PEATONALES EN LA ZONA URBANA DE MUNICIPIO DE MURINDÓ ANTIOQUIA
B3: Nro. DE ORDEN | C3: ITEM DE PAGO | D3: ESPECIFICACIÓN | F3: DESCRIPCIÓN | G3: UND. | H3: CANT. | I3: V/UNIT | J3: V/TOTAL
D4: GR. | E4: PART.
B5: 1.0 | F5: PRELIMINARES | J5: =SUM(J6:J11) -> #REF!
B6: 1.1. | C6: 100P | D6: N.A. | E6: 100P | F6: Localización, trazado y replanteo | G6: M2 | H6: =ROUND(H7*2,0) -> 761 | I6: =#REF! -> #REF! | J6: =H6*I6 -> #REF!
B7: 1.2. | C7: 101P | D7: N.A. | E7: 101P | F7: Retiro de puente existente | G7: ML | H7: =18+H32+H37+38+13+32+49+100 -> 380.5 | I7: =#REF! -> #REF! | J7: =H7*I7 -> #REF!
B8: 1.3. | C8: 200.1 | D8: 200 | E8: N.A. | F8: Descapote | G8: M2 | H8: =ROUND(H6,0) -> 761 | I8: ='200.1'!I38 -> 0 | J8: =H8*I8 -> 0
B9: 1.4. | C9: 200.5 | D9: 200 | E9: N.A. | F9: Campamento | G9: M2 | H9: 24 | I9: 85000 | J9: =H9*I9 -> 2040000 | K9: Nuevo
B10: 1.5. | C10: 200.6 | D10: 200 | E10: N.A. | F10: Cerramiento | G10: ML | H10: =H37+H36+H35 -> 362.5 | I10: 9500 | J10: =H10*I10 -> 3443750 | K10: Nuevo
B11: 1.6. | C11: 200.7 | D11: 200 | E11: N.A. | F11: Acceso provisional de viviendas | G11: ML | H11: 50 | I11: 45000 | J11: =H11*I11 -> 2250000 | K11: Nuevo
B12: 2.0 | F12: EXCAVACIÓN | J12: =J13 -> 0
B13: 2.1. | C13: 200.2 | D13: 200 | E13: N.A. | F13: Excavación de terreno de 0 a 2,0 mts. | G13: M3 | H13: =ROUND((((18/4)*1)*(2.35*1.5*2))+8+15+5+2+6+8+25,0) -> 101 | I13: ='200.2'!I38 -> 0 | J13: =H13*I13 -> 0
B14: 3.0 | F14: LLENO | J14: =J15 -> #REF!
B15: 3.1. | C15: 200.3 | D15: 200 | E15: N.A. | F15: Lleno compactado con material Seleccionado | G15: M3 | H15: 90.772248 | I15: =#REF! -> #REF! | J15: =H15*I15 -> #REF!
B16: 4.0 | F16: RETIRO DE MATERIAL SOBRANTE | J16: =J17 -> #REF!
B17: 4.1 | C17: 200.4 | D17: 200 | E17: N.A. | F17: Retiro y Bote de Sobrantes | G17: M3 | H17: =H13-H15 -> 10.227752 | I17: =#REF! -> #REF! | J17: =H17*I17 -> #REF! | K17: Nuevo
B18: 5.0 | F18: CIMENTACIÓN | J18: =SUM(J19:J21) -> #REF!
B19: 5.1. | C19: 600.1 | D19: 600 | E19: N.A. | F19: Pilotes de madera hincados | G19: ML | H19: =13*5 -> 65 | I19: =#REF! -> #REF! | J19: =H19*I19 -> #REF!
B20: 5.2. | C20: 620.1 | D20: 620 | E20: N.A. | F20: Concreto Clase F (Solado) | G20: M3 | H20: =ROUND((5*2.35*1.5*0.05),0) -> 1 | I20: =#REF! -> #REF! | J20: =H20*I20 -> #REF!
B21: 5.3. | C21: 620.2 | D21: 620 | E21: N.A. | F21: Concreto Clase D (Zapatas) | G21: M3 | H21: =ROUND((5*2.35*1.5*0.4),0) -> 7 | I21: =#REF! -> #REF! | J21: =H21*I21 -> #REF!
B22: 6.0 | F22: ESTRUCTURA | J22: =SUM(J23:J25) -> #REF!
B23: 6.1. | C23: 620.3 | D23: 620 | E23: N.A. | F23: Concreto Clase D (Columnas) | G23: M3 | H23: =ROUND((2.7*0.5*0.4*5),) -> 3 | I23: =#REF! -> #REF! | J23: =H23*I23 -> #REF!
B24: 6.2. | C24: 620.4 | D24: 620 | E24: N.A. | F24: Concreto Clase D (Viga aerea) | G24: M3 | H24: =(18*0.5*0.4) -> 3.6 | I24: =#REF! -> #REF! | J24: =H24*I24 -> #REF!
B25: 6.3. | C25: 620.5 | D25: 620 | E25: N.A. | F25: Concreto Clase D (Losa superior) | G25: M2 | H25: =(18*2.5) -> 45 | I25: =#REF! -> #REF! | J25: =H25*I25 -> #REF!
B26: 7.0 | F26: ACERO DE REFUERZO | J26: =J27 -> #REF!
B27: 7.1. | C27: 800.1 | D27: 8000 | E27: N.A. | F27: Acero de refuerzo fy=420 Mpa | G27: KG | H27: =ROUND((17188*18)/262,0) -> 1181 | I27: =#REF! -> #REF! | J27: =H27*I27 -> #REF!
B28: 8.0 | F28: CURADO E IMPERMEABILIZACION | J28: =SUM(J29:J30) -> 0
B29: 8.1 | C29: 700.2 | D29: 700 | E29: N.A. | F29: Curado e impermeabilización de madera con pintura bituminosa tipo vareta color negro | G29: KG | H29: =52+36+23+8+20+30+50 -> 219 | I29: ='700.2'!I38 -> 0 | J29: =H29*I29 -> 0
B30: 8.2 | C30: 400.1 | D30: 400 | E30: N.A. | F30: Suministro y aplicación de manto en las vigas superiores durmientes longitudinales de 4" x 4" donde se atornilla la madera sintética | G30: ML | H30: =(H32*5)+(H37*3)+(H36*3)+(13*3)+(32*3)+(49*3)+(100*3) -> 1764.5 | I30: ='400.1'!I38 -> 0 | J30: =H30*I30 -> 0
B31: 9.0 | F31: ESTRUCTURA EN MADERA NATURAL | J31: =SUM(J32:J33) -> #REF!
B32: 9.1 | C32: 500.5 | D32: 500 | E32: N.A. | F32: Suministro, transporte e instalación de madera natural en truncado, Níspero o similar para la conformación de un tramo de puente con puntales de 5" x 5" x 3,00 mts., vientos diagonales de 2" x 5" x 3,50 mts., vigas riostras superiores de 5" x 3" x 2,30 mts., vigas durmientes longitudinales de 4" x 4" x 3,00 mts. | G32: ML | H32: 47.5 | I32: =#REF! -> #REF! | J32: =H32*I32 -> #REF!
B33: 9.2 | C33: 500.6 | D33: 500 | E33: N.A. | F33: Suministro, transporte e instalación de madera natural en Truncado, Níspero o similar para la conformación de un tramo de puente con puntales de 5" x 5" x 3,00 mts., vientos diagonales de 2" x 5" x 2,50 mts., vigas riostras superiores de 5" x 3" x 1,10 mts., vigas durmientes longitudinales de 4" x 4" x 3,00 mts. | G33: ML | H33: =H37+38+13+32+49+100 -> 315 | I33: ='500.6'!I38 -> 0 | J33: =H33*I33 -> 0
B34: 10.0 | F34: ESTRUCTURAS EN MADERA SINTETICA | J34: =SUM(J35:J37) -> #REF!
B35: 10.1 | C35: 500.7 | D35: 500 | E35: N.A. | F35: Suministro, Transporte e Instalación de Madera Sintética en Tablillas de 120cm x 14cm x 5cm, doble sujetos a las vigas durmientes longitudinales con tornillos de 6,5" X D= 3/8" | G35: ML | H35: =H32 -> 47.5 | I35: =#REF! -> #REF! | J35: =H35*I35 -> #REF!
B36: 10.2 | C36: 500.8 | D36: 500 | E36: N.A. | F36: Suministro, Transporte e Instalación de Madera Sintética en Tablillas de 120cm x 14cm x 5cm, sujetos a las vigas durmientes longitudinales con tornillos de 6,5" X D= 3/8" | G36: ML | H36: =38+13+32+49+100 -> 232 | I36: =#REF! -> #REF! | J36: =H36*I36 -> #REF!
B37: 10.3 | C37: 500.9 | D37: 500 | E37: N.A. | F37: Instalación de madera sintética en tablillas de 120cm x 12cm x 4cm, sujetos a las vigas durmientes longitudinales con tornillos de 6,5" X D= 3/8" | G37: ML | H37: 83 | I37: ='500.9'!I38 -> 0 | J37: =H37*I37 -> 0 | L37: Longitud | M37: =H35+H36+H37+18 -> 380.5
B38: 11.0 | F38: LIMPIEZA GENERAL | J38: =J39 -> 540000
B39: 11.1 | C39: 900.1 | D39: 900 | E39: N.A. | F39: Limpieza general de la obra | G39: Gbl | H39: 1 | I39: 540000 | J39: =H39*I39 -> 540000 | K39: Nuevo
G40: Costos Directos | J40: =J5+J12+J14+J16+J18+J22+J26+J28+J31+J34+J38 -> #REF!
G41: Administración | I41: 0.25 | J41: =J40*I41 -> #REF!
...

Sheet 200.1
B2: ANALISIS DE PRECIOS UNITARIOS
B3: CONSTRUCCIÓN Y MANTENIMIENTO DEL PUENTE PALAFÍTICO PEATONAL EN MADERA EN LA CALLE 3ra ENTRE CARRERAS 17 Y 19 EN LA ZONA URBANA DE MUNICIPIO DE MURINDÓ - ANTIOQUIA
B6: ITEM | C6: =Presupuesto!B6 -> 200.1 | D6: =Presupuesto!E6 -> Descapote | H6: UNIDAD: | I6: =Presupuesto!F6 -> M2
B8: I. EQUIPO
B9: Descripción | E9: Tipo | F9: Tarifa/hora | G9: Rendimiento | H9: Valor-Unit. | I9: Valor-Total
I10: =ROUND(G10*H10,0) -> 0
I11: =ROUND(G11*H11,0) -> 0
I12: =ROUND(G12*H12,0) -> 0
H13: Sub-Total | I13: =SUM(I10:I12) -> 0
B14: II. MATERIALES EN OBRA
B15: Descripción | E15: Unidad | F15: Precio-Unit. | G15: Cantidad | H15: Valor-Unit. | I15: Valor-Total
H16: =F16*G16 -> 0 | I16: =H16 -> 0
H17: =F17*G17 -> 0 | I17: =H17 -> 0
H18: =F18*G18 -> 0 | I18: =H18 -> 0
H19: =F19*G19 -> 0 | I19: =H19 -> 0
H20: =F20*G20 -> 0 | I20: =H20 -> 0
G21: Desperdicio | H21: 0 | I21: =SUM(I16:I20)*H21 -> 0
H22: Sub-Total | I22: =SUM(I16:I21) -> 0
B23: III. TRANSPORTE
B24: Material | D24: Vol. Peso ó Cant. | E24: Distancia (Km) | F24: Vol. Peso ó Cant.-Km | G24: Tarifa | H24: Valor-Unit. | I24: Valor-Total
H25: =D25*G25 -> 0 | I25: =ROUND(H25,0) -> 0
I26: =ROUND(H26,0) -> 0
I27: =ROUND(H27,0) -> 0
I28: =ROUND(H28,0) -> 0
H29: Sub-Total | I29: =SUM(I25:I28) -> 0
B30: IV. MANO DE OBRA
B31: Trabajador | D31: Cantidad | E31: Jornal/dia | F31: Prestaciones | G31: Jornal Total | H31: Rendimiento | I31: Valor-Total
I32: 0
I33: =ROUND(D33*G33*H33,0) -> 0
I34: =ROUND(D34*G34*H34,0) -> 0
I35: =ROUND(D35*G35*H35,0) -> 0
H36: Sub-Total | I36: =SUM(I32:I35) -> 0
G38: Total Costos Directos | I38: =ROUND(I13+I22+I29+I36,0) -> 0
B41: V. COSTOS INDIRECTOS
B42: Descripción | H42: Porcentaje | I42: Valor-Total
B43: ADMINISTRACION | H43: 0 | I43: =I38*H43 -> 0
B44: IMPREVISTO | H44: 0 | I44: =I38*H44 -> 0
B45: UTILIDAD | H45: 0 | I45: =I38*H45 -> 0
H46: Sub-Total | I46: =SUM(I43:I45) -> 0
F49: Precio Unitario Total aproximado al peso | I49: =SUM(+I38+I46) -> 0

Sheet 200.2
B2: ANALISIS DE PRECIOS UNITARIOS
B3: CONSTRUCCIÓN Y MANTENIMIENTO DEL PUENTE PALAFÍTICO PEATONAL EN MADERA EN LA CALLE 3ra ENTRE CARRERAS 17 Y 19 EN LA ZONA URBANA DE MUNICIPIO DE MURINDÓ - ANTIOQUIA
B6: ITEM | C6: =Presupuesto!B10 -> 200.2 | D6: =Presupuesto!E10 -> Excavación de terreno de 0 a 2,0 mts. | H6: UNIDAD: | I6: =Presupuesto!F10 -> M3
B8: I. EQUIPO
B9: Descripción | E9: Tipo | F9: Tarifa/hora | G9: Rendimiento | H9: Valor-Unit. | I9: Valor-Total
I10: =ROUND(G10*H10,0) -> 0
I11: =ROUND(G11*H11,0) -> 0
I12: =ROUND(G12*H12,0) -> 0
H13: Sub-Total | I13: =SUM(I10:I12) -> 0
B14: II. MATERIALES EN OBRA
B15: Descripción | E15: Unidad | F15: Precio-Unit. | G15: Cantidad | H15: Valor-Unit. | I15: Valor-Total
H16: =F16*G16 -> 0 | I16: =H16 -> 0
H17: =F17*G17 -> 0 | I17: =H17 -> 0
H18: =F18*G18 -> 0 | I18: =H18 -> 0
H19: =F19*G19 -> 0 | I19: =H19 -> 0
H20: =F20*G20 -> 0 | I20: =H20 -> 0
G21: Desperdicio | H21: 0 | I21: =SUM(I16:I20)*H21 -> 0
H22: Sub-Total | I22: =SUM(I16:I21) -> 0
B23: III. TRANSPORTE
B24: Material | D24: Vol. Peso ó Cant. | E24: Distancia (Km) | F24: Vol. Peso ó Cant.-Km | G24: Tarifa | H24: Valor-Unit. | I24: Valor-Total
H25: =D25*G25 -> 0 | I25: =ROUND(H25,0) -> 0
I26: =ROUND(H26,0) -> 0
I27: =ROUND(H27,0) -> 0
I28: =ROUND(H28,0) -> 0
H29: Sub-Total | I29: =SUM(I25:I28) -> 0
B30: IV. MANO DE OBRA
B31: Trabajador | D31: Cantidad | E31: Jornal/dia | F31: Prestaciones | G31: Jornal Total | H31: Rendimiento | I31: Valor-Total
I32: 0
I33: =ROUND(D33*G33*H33,0) -> 0
I34: =ROUND(D34*G34*H34,0) -> 0
I35: =ROUND(D35*G35*H35,0) -> 0
H36: Sub-Total | I36: =SUM(I32:I35) -> 0
G38: Total Costos Directos | I38: =ROUND(I13+I22+I29+I36,0) -> 0
B41: V. COSTOS INDIRECTOS
B42: Descripción | H42: Porcentaje | I42: Valor-Total
B43: ADMINISTRACION | H43: 0 | I43: =I38*H43 -> 0
B44: IMPREVISTO | H44: 0 | I44: =I38*H44 -> 0
B45: UTILIDAD | H45: 0 | I45: =I38*H45 -> 0
H46: Sub-Total | I46: =SUM(I43:I45) -> 0
F49: Precio Unitario Total aproximado al peso | I49: =SUM(+I38+I46) -> 0

Sheet 200.6
B2: ANALISIS DE PRECIOS UNITARIOS
B3: CONSTRUCCIÓN Y MANTENIMIENTO DEL PUENTE PALAFÍTICO PEATONAL EN MADERA EN LA CALLE 3ra ENTRE CARRERAS 17 Y 19 EN LA ZONA URBANA DE MUNICIPIO DE MURINDÓ - ANTIOQUIA
B6: ITEM | C6: =Presupuesto!B7 -> 200.6 | D6: =Presupuesto!E7 -> Cerramiento | H6: UNIDAD: | I6: =Presupuesto!F7 -> ML
B8: I. EQUIPO
B9: Descripción | E9: Tipo | F9: Tarifa/hora | G9: Rendimiento | H9: Valor-Unit. | I9: Valor-Total
I10: =ROUND(G10*H10,0) -> 0
I11: =ROUND(G11*H11,0) -> 0
I12: =ROUND(G12*H12,0) -> 0
H13: Sub-Total | I13: =SUM(I10:I12) -> 0
B14: II. MATERIALES EN OBRA
B15: Descripción | E15: Unidad | F15: Precio-Unit. | G15: Cantidad | H15: Valor-Unit. | I15: Valor-Total
I16: =ROUND(H16,0) -> 0
I17: =ROUND(H17,0) -> 0
I18: =ROUND(H18,0) -> 0
I19: =ROUND(H19,0) -> 0
H20: =F20*G20 -> 0 | I20: =H20 -> 0
G21: Desperdicio | H21: 0 | I21: =SUM(I16:I20)*H21 -> 0
H22: Sub-Total | I22: =SUM(I16:I21) -> 0
B23: III. TRANSPORTE
B24: Material | D24: Vol. Peso ó Cant. | E24: Distancia (Km) | F24: Vol. Peso ó Cant.-Km | G24: Tarifa | H24: Valor-Unit. | I24: Valor-Total
H25: =D25*G25 -> 0 | I25: =ROUND(H25,0) -> 0
H26: =D26*G26 -> 0 | I26: =ROUND(H26,0) -> 0
H27: =D27*G27 -> 0 | I27: =ROUND(H27,0) -> 0
H28: =D28*G28 -> 0 | I28: =ROUND(H28,0) -> 0
H29: Sub-Total | I29: =SUM(I25:I28) -> 0
B30: IV. MANO DE OBRA
B31: Trabajador | D31: Cantidad | E31: Jornal/dia | F31: Prestaciones | G31: Jornal Total | H31: Rendimiento | I31: Valor-Total
I32: 0
I33: =ROUND(D33*G33*H33,0) -> 0
I34: =ROUND(D34*G34*H34,0) -> 0
I35: =ROUND(D35*G35*H35,0) -> 0
H36: Sub-Total | I36: =SUM(I32:I35) -> 0
G38: Total Costos Directos | I38: =ROUND(I13+I22+I29+I36,0) -> 0
B41: V. COSTOS INDIRECTOS
B42: Descripción | H42: Porcentaje | I42: Valor-Total
B43: ADMINISTRACION | H43: 0 | I43: =I38*H43 -> 0
B44: IMPREVISTO | H44: 0 | I44: =I38*H44 -> 0
B45: UTILIDAD | H45: 0 | I45: =I38*H45 -> 0
H46: Sub-Total | I46: =SUM(I43:I45) -> 0
F49: Precio Unitario Total aproximado al peso | I49: =SUM(+I38+I46) -> 0

Sheet 200.7
B2: ANALISIS DE PRECIOS UNITARIOS
B3: CONSTRUCCIÓN Y MANTENIMIENTO DEL PUENTE PALAFÍTICO PEATONAL EN MADERA EN LA CALLE 3ra ENTRE CARRERAS 17 Y 19 EN LA ZONA URBANA DE MUNICIPIO DE MURINDÓ - ANTIOQUIA
B6: ITEM | C6: =Presupuesto!B8 -> 200.7 | D6: =Presupuesto!E8 -> Acceso provisional de viviendas | H6: UNIDAD: | I6: =Presupuesto!F8 -> ML
B8: I. EQUIPO
B9: Descripción | E9: Tipo | F9: Tarifa/hora | G9: Rendimiento | H9: Valor-Unit. | I9: Valor-Total
I10: =ROUND(G10*H10,0) -> 0
I11: =ROUND(G11*H11,0) -> 0
I12: =ROUND(G12*H12,0) -> 0
H13: Sub-Total | I13: =SUM(I10:I12) -> 0
B14: II. MATERIALES EN OBRA
B15: Descripción | E15: Unidad | F15: Precio-Unit. | G15: Cantidad | H15: Valor-Unit. | I15: Valor-Total
H16: =F16*G16 -> 0 | I16: =ROUND(H16,0) -> 0
H17: =F17*G17 -> 0 | I17: =ROUND(H17,0) -> 0
H18: =F18*G18 -> 0 | I18: =ROUND(H18,0) -> 0
I19: =ROUND(H19,0) -> 0
H20: =F20*G20 -> 0 | I20: =H20 -> 0
G21: Desperdicio | H21: 0 | I21: =SUM(I16:I20)*H21 -> 0
H22: Sub-Total | I22: =SUM(I16:I21) -> 0
B23: III. TRANSPORTE
B24: Material | D24: Vol. Peso ó Cant. | E24: Distancia (Km) | F24: Vol. Peso ó Cant.-Km | G24: Tarifa | H24: Valor-Unit. | I24: Valor-Total
I25: =ROUND(H25,0) -> 0
H26: =G26*D26 -> 0 | I26: =ROUND(H26,0) -> 0
H27: =G27*D27 -> 0 | I27: =ROUND(H27,0) -> 0
H28: =G28*D28 -> 0 | I28: =ROUND(H28,0) -> 0
H29: Sub-Total | I29: =SUM(I25:I28) -> 0
B30: IV. MANO DE OBRA
B31: Trabajador | D31: Cantidad | E31: Jornal/Mes | F31: Prestaciones | G31: Jornal Total | H31: Rendimiento | I31: Valor-Total
I32: 0
I33: 0
I34: 0
I35: 0
H36: Sub-Total | I36: =SUM(I32:I35) -> 0
G38: Total Costos Directos | I38: =ROUND(I13+I22+I29+I36,0) -> 0
B41: V. COSTOS INDIRECTOS
B42: Descripción | H42: Porcentaje | I42: Valor-Total
B43: ADMINISTRACION | H43: 0 | I43: =I38*H43 -> 0
B44: IMPREVISTO | H44: 0 | I44: =I38*H44 -> 0
B45: UTILIDAD | H45: 0 | I45: =I38*H45 -> 0
H46: Sub-Total | I46: =SUM(I43:I45) -> 0
F49: Precio Unitario Total aproximado al peso | I49: =SUM(+I38+I46) -> 0

Sheet 400.1
B2: ANALISIS DE PRECIOS UNITARIOS
B3: CONSTRUCCIÓN Y MANTENIMIENTO DEL PUENTE PALAFÍTICO PEATONAL EN MADERA EN LA CALLE 3ra ENTRE CARRERAS 17 Y 19 EN LA ZONA URBANA DE MUNICIPIO DE MURINDÓ - ANTIOQUIA
B6: ITEM | C6: =Presupuesto!B13 -> 400.1 | D6: =Presupuesto!E13 -> Suministro y aplicación de manto en las vigas superiores durmientes longitudinales de 4" x 4" donde se atornilla la madera sintética | H6: UNIDAD: | I6: =Presupuesto!F13 -> ML
B8: I. EQUIPO
B9: Descripción | E9: Tipo | F9: Tarifa/hora | G9: Rendimiento | H9: Valor-Unit. | I9: Valor-Total
I10: =ROUND(G10*H10,0) -> 0
I11: =ROUND(G11*H11,0) -> 0
I12: =ROUND(G12*H12,0) -> 0
H13: Sub-Total | I13: =SUM(I10:I12) -> 0
B14: II. MATERIALES EN OBRA
B15: Descripción | E15: Unidad | F15: Precio-Unit. | G15: Cantidad | H15: Valor-Unit. | I15: Valor-Total
H16: =F16*G16 -> 0 | I16: =ROUND(H16,0) -> 0
H17: =F17*G17 -> 0 | I17: =ROUND(H17,0) -> 0
H18: =F18*G18 -> 0 | I18: =ROUND(H18,0) -> 0
H19: =F19*G19 -> 0 | I19: =ROUND(H19,0) -> 0
H20: =F20*G20 -> 0 | I20: =ROUND(H20,0) -> 0
G21: Desperdicio | H21: 0 | I21: =SUM(I16:I20)*H21 -> 0
H22: Sub-Total | I22: =SUM(I16:I21) -> 0
B23: III. TRANSPORTE
B24: Material | D24: Vol. Peso ó Cant. | E24: Distancia (Km) | F24: Vol. Peso ó Cant.-Km | G24: Tarifa | H24: Valor-Unit. | I24: Valor-Total
E25: 1 | H25: =G25*D25 -> 0 | I25: =ROUND(H25,0) -> 0
H26: =G26*D26 -> 0 | I26: =ROUND(H26,0) -> 0
H27: =G27*D27 -> 0 | I27: =ROUND(H27,0) -> 0
H28: =G28*D28 -> 0 | I28: =ROUND(H28,0) -> 0
H29: Sub-Total | I29: =SUM(I25:I28) -> 0
B30: IV. MANO DE OBRA
B31: Trabajador | D31: Cantidad | E31: Jornal/Mes | F31: Prestaciones | G31: Jornal Total | H31: Rendimiento | I31: Valor-Total
I32: 0
I33: 0
I34: 0
I35: 0
H36: Sub-Total | I36: =SUM(I32:I35) -> 0
G38: Total Costos Directos | I38: =ROUND(I13+I22+I29+I36,0) -> 0
B41: V. COSTOS INDIRECTOS
B42: Descripción | H42: Porcentaje | I42: Valor-Total
B43: ADMINISTRACION | H43: 0 | I43: =I38*H43 -> 0
B44: IMPREVISTO | H44: 0 | I44: =I38*H44 -> 0
B45: UTILIDAD | H45: 0 | I45: =I38*H45 -> 0
H46: Sub-Total | I46: =SUM(I43:I45) -> 0
F49: Precio Unitario Total aproximado al peso | I49: =SUM(+I38+I46) -> 0

Sheet 500.6
B2: ANALISIS DE PRECIOS UNITARIOS
B3: CONSTRUCCIÓN Y MANTENIMIENTO DEL PUENTE PALAFÍTICO PEATONAL EN MADERA EN LA CALLE 3ra ENTRE CARRERAS 17 Y 19 EN LA ZONA URBANA DE MUNICIPIO DE MURINDÓ - ANTIOQUIA
B6: ITEM | C6: =Presupuesto!B15 -> 500.6 | D6: =Presupuesto!E15 -> Suministro, transporte e instalación de madera natural en Truncado, Níspero o similar para la conformación de un tramo de puente con puntales de 5" x 5" x 3,00 mts., vientos diagonales de 2" x 4" x 2,50 mts., vigas riostras superiores de 5" x 3" x 1,00 mts., vigas durmientes longitudinales de 4" x 4" x 3,00 mts. | H6: UNIDAD: | I6: =Presupuesto!F15 -> ML
B8: I. EQUIPO
B9: Descripción | E9: Tipo | F9: Tarifa/hora | G9: Rendimiento | H9: Valor-Unit. | I9: Valor-Total
I10: =ROUND(G10*H10,0) -> 0
I11: =ROUND(G11*H11,0) -> 0
I12: =ROUND(G12*H12,0) -> 0
H13: Sub-Total | I13: =SUM(I10:I12) -> 0
B14: II. MATERIALES EN OBRA
B15: Descripción | E15: Unidad | F15: Precio-Unit. | G15: Cantidad | H15: Valor-Unit. | I15: Valor-Total
I16: =ROUND(H16,0) -> 0
I17: =ROUND(H17,0) -> 0
I18: =ROUND(H18,0) -> 0
I19: =ROUND(H19,0) -> 0
I20: =ROUND(H20,0) -> 0
G21: Desperdicio | H21: 0 | I21: =SUM(I16:I20)*H21 -> 0
H22: Sub-Total | I22: =SUM(I16:I21) -> 0
B23: III. TRANSPORTE
B24: Material | D24: Vol. Peso ó Cant. | E24: Distancia (Km) | F24: Vol. Peso ó Cant.-Km | G24: Tarifa | H24: Valor-Unit. | I24: Valor-Total
H25: =G25*D25 -> 0 | I25: =ROUND(H25,0) -> 0
H26: =G26*D26 -> 0 | I26: =ROUND(H26,0) -> 0
H27: =G27*D27 -> 0 | I27: =ROUND(H27,0) -> 0
H28: =G28*D28 -> 0 | I28: =ROUND(H28,0) -> 0
H29: Sub-Total | I29: =SUM(I25:I28) -> 0
B30: IV. MANO DE OBRA
B31: Trabajador | D31: Cantidad | E31: Jornal/Mes | F31: Prestaciones | G31: Jornal Total | H31: Rendimiento | I31: Valor-Total
I32: 0
I33: 0
I34: 0
I35: 0
H36: Sub-Total | I36: =SUM(I32:I35) -> 0
G38: Total Costos Directos | I38: =ROUND(I13+I22+I29+I36,0) -> 0
B41: V. COSTOS INDIRECTOS
B42: Descripción | H42: Porcentaje | I42: Valor-Total
B43: ADMINISTRACION | H43: 0 | I43: =I38*H43 -> 0
B44: IMPREVISTO | H44: 0 | I44: =I38*H44 -> 0
B45: UTILIDAD | H45: 0 | I45: =I38*H45 -> 0
H46: Sub-Total | I46: =SUM(I43:I45) -> 0
F49: Precio Unitario Total aproximado al peso | I49: =SUM(+I38+I46) -> 0

Sheet 500.9
B2: ANALISIS DE PRECIOS UNITARIOS
B3: CONSTRUCCIÓN Y MANTENIMIENTO DEL PUENTE PALAFÍTICO PEATONAL EN MADERA EN LA CALLE 3ra ENTRE CARRERAS 17 Y 19 EN LA ZONA URBANA DE MUNICIPIO DE MURINDÓ - ANTIOQUIA
B6: ITEM | C6: =Presupuesto!B17 -> 500.9 | D6: =Presupuesto!E17 -> Instalación de madera sintética en tablillas de 120cm x 12cm x 4cm, sujetos a las vigas durmientes longitudinales con tornillos de 6,5" X D= 3/8" (Incluye la recuperacion de la tablillas existente) | H6: UNIDAD: | I6: =Presupuesto!F17 -> ML
B8: I. EQUIPO
B9: Descripción | E9: Tipo | F9: Tarifa/hora | G9: Rendimiento | H9: Valor-Unit. | I9: Valor-Total
I10: =ROUND(G10*H10,0) -> 0
I11: =ROUND(G11*H11,0) -> 0
I12: =ROUND(G12*H12,0) -> 0
H13: Sub-Total | I13: =SUM(I10:I12) -> 0
B14: II. MATERIALES EN OBRA
B15: Descripción | E15: Unidad | F15: Precio-Unit. | G15: Cantidad | H15: Valor-Unit. | I15: Valor-Total
H16: =F16*G16 -> 0 | I16: =ROUND(H16,0) -> 0
H17: =F17*G17 -> 0 | I17: =ROUND(H17,0) -> 0
H18: =F18*G18 -> 0 | I18: =ROUND(H18,0) -> 0
H19: =F19*G19 -> 0 | I19: =ROUND(H19,0) -> 0
H20: =F20*G20 -> 0 | I20: =ROUND(H20,0) -> 0
G21: Desperdicio | H21: 0 | I21: =SUM(I16:I20)*H21 -> 0
H22: Sub-Total | I22: =SUM(I16:I21) -> 0
B23: III. TRANSPORTE
B24: Material | D24: Vol. Peso ó Cant. | E24: Distancia (Km) | F24: Vol. Peso ó Cant.-Km | G24: Tarifa | H24: Valor-Unit. | I24: Valor-Total
H25: =G25*D25 -> 0 | I25: =ROUND(H25,0) -> 0
H26: =G26*D26 -> 0 | I26: =ROUND(H26,0) -> 0
H27: =G27*D27 -> 0 | I27: =ROUND(H27,0) -> 0
H28: =G28*D28 -> 0 | I28: =ROUND(H28,0) -> 0
H29: Sub-Total | I29: =SUM(I25:I28) -> 0
B30: IV. MANO DE OBRA
B31: Trabajador | D31: Cantidad | E31: Jornal/Mes | F31: Prestaciones | G31: Jornal Total | H31: Rendimiento | I31: Valor-Total
I32: 0
I33: 0
I34: 0
I35: 0
H36: Sub-Total | I36: =SUM(I32:I35) -> 0
G38: Total Costos Directos | I38: =ROUND(I13+I22+I29+I36,0) -> 0
B41: V. COSTOS INDIRECTOS
B42: Descripción | H42: Porcentaje | I42: Valor-Total
B43: ADMINISTRACION | H43: 0 | I43: =I38*H43 -> 0
B44: IMPREVISTO | H44: 0 | I44: =I38*H44 -> 0
B45: UTILIDAD | H45: 0 | I45: =I38*H45 -> 0
H46: Sub-Total | I46: =SUM(I43:I45) -> 0
F49: Precio Unitario Total aproximado al peso | I49: =SUM(+I38+I46) -> 0

Sheet 700.2
B2: ANALISIS DE PRECIOS UNITARIOS
B3: CONSTRUCCIÓN Y MANTENIMIENTO DEL PUENTE PALAFÍTICO PEATONAL EN MADERA EN LA CALLE 3ra ENTRE CARRERAS 17 Y 19 EN LA ZONA URBANA DE MUNICIPIO DE MURINDÓ - ANTIOQUIA
B6: ITEM | C6: =Presupuesto!B12 -> 700.2 | D6: =Presupuesto!E12 -> Curado e impermeabilización de madera con pintura bituminosa tipo vareta color negro | H6: UNIDAD: | I6: =Presupuesto!F12 -> KG
B8: I. EQUIPO
B9: Descripción | E9: Tipo | F9: Tarifa/hora | G9: Rendimiento | H9: Valor-Unit. | I9: Valor-Total
I10: =ROUND(G10*H10,0) -> 0
I11: =ROUND(G11*H11,0) -> 0
I12: =ROUND(G12*H12,0) -> 0
H13: Sub-Total | I13: =SUM(I10:I12) -> 0
B14: II. MATERIALES EN OBRA
B15: Descripción | E15: Unidad | F15: Precio-Unit. | G15: Cantidad | H15: Valor-Unit. | I15: Valor-Total
H16: =F16*G16 -> 0 | I16: =ROUND(H16,0) -> 0
H17: =F17*G17 -> 0 | I17: =ROUND(H17,0) -> 0
H18: =F18*G18 -> 0 | I18: =ROUND(H18,0) -> 0
H19: =F19*G19 -> 0 | I19: =ROUND(H19,0) -> 0
H20: =F20*G20 -> 0 | I20: =ROUND(H20,0) -> 0
G21: Desperdicio | H21: 0 | I21: =SUM(I16:I20)*H21 -> 0
H22: Sub-Total | I22: =SUM(I16:I21) -> 0
B23: III. TRANSPORTE
B24: Material | D24: Vol. Peso ó Cant. | E24: Distancia (Km) | F24: Vol. Peso ó Cant.-Km | G24: Tarifa | H24: Valor-Unit. | I24: Valor-Total
H25: =D25*G25 -> 0 | I25: =H25 -> 0
H26: =D26*G26 -> 0
H27: =D27*G27 -> 0
H28: =D28*G28 -> 0
H29: Sub-Total | I29: =SUM(I25:I28) -> 0
B30: IV. MANO DE OBRA
B31: Trabajador | D31: Cantidad | E31: Jornal/Mes | F31: Prestaciones | G31: Jornal Total | H31: Rendimiento | I31: Valor-Total
H32: 0 | I32: 0
I33: 0
I34: 0
I35: 0
H36: Sub-Total | I36: =SUM(I32:I35) -> 0
G38: Total Costos Directos | I38: =ROUND(I13+I22+I29+I36,0) -> 0
B41: V. COSTOS INDIRECTOS
B42: Descripción | H42: Porcentaje | I42: Valor-Total
B43: ADMINISTRACION | H43: 0 | I43: =I38*H43 -> 0
B44: IMPREVISTO | H44: 0 | I44: =I38*H44 -> 0
B45: UTILIDAD | H45: 0 | I45: =I38*H45 -> 0
H46: Sub-Total | I46: =SUM(I43:I45) -> 0
F49: Precio Unitario Total aproximado al peso | I49: =SUM(+I38+I46) -> 0

Sheet 900.1
B2: ANALISIS DE PRECIOS UNITARIOS
B3: CONSTRUCCIÓN Y MANTENIMIENTO DEL PUENTE PALAFÍTICO PEATONAL EN MADERA EN LA CALLE 3ra ENTRE CARRERAS 17 Y 19 EN LA ZONA URBANA DE MUNICIPIO DE MURINDÓ - ANTIOQUIA
B6: ITEM | C6: =Presupuesto!B19 -> 900.1 | D6: =Presupuesto!E19 -> Limpieza general de la obra | H6: UNIDAD: | I6: =Presupuesto!F19 -> Gbl
B8: I. EQUIPO
B9: Descripción | E9: Tipo | F9: Tarifa/hora | G9: Rendimiento | H9: Valor-Unit. | I9: Valor-Total
H10: =I35 -> 0 | I10: =ROUND(G10*H10,0) -> 0
H11: =F11*G11 -> 0 | I11: =ROUND(G11*H11,0) -> 0
I12: =ROUND(G12*H12,0) -> 0
H13: Sub-Total | I13: =SUM(I10:I12) -> 0
B14: II. MATERIALES EN OBRA
B15: Descripción | E15: Unidad | F15: Precio-Unit. | G15: Cantidad | H15: Valor-Unit. | I15: Valor-Total
H16: =F16*G16 -> 0 | I16: =ROUND(H16,0) -> 0
H17: =F17*G17 -> 0 | I17: =ROUND(H17,0) -> 0
H18: =F18*G18 -> 0 | I18: =ROUND(H18,0) -> 0
H19: =F19*G19 -> 0 | I19: =ROUND(H19,0) -> 0
H20: =F20*G20 -> 0 | I20: =ROUND(H20,0) -> 0
G21: Desperdicio | H21: 0 | I21: =SUM(I16:I20)*H21 -> 0
H22: Sub-Total | I22: =SUM(I16:I21) -> 0
B23: III. TRANSPORTE
B24: Material | D24: Vol. Peso ó Cant. | E24: Distancia (Km) | F24: Vol. Peso ó Cant.-Km | G24: Tarifa | H24: Valor-Unit. | I24: Valor-Total
E25: 1 | H25: =G25*D25 -> 0 | I25: =ROUND(H25,0) -> 0
H26: =G26*D26 -> 0 | I26: =ROUND(H26,0) -> 0
H27: =G27*D27 -> 0 | I27: =ROUND(H27,0) -> 0
H28: =G28*D28 -> 0 | I28: =ROUND(H28,0) -> 0
H29: Sub-Total | I29: =SUM(I25:I28) -> 0
B30: IV. MANO DE OBRA
B31: Trabajador | D31: Cantidad | E31: Jornal/dia | F31: Prestaciones | G31: Jornal Total | H31: Rendimiento | I31: Valor-Total
H32: 0 | I32: 0
I33: 0
I34: 0
I35: 0
H36: Sub-Total | I36: =SUM(I32:I35) -> 0
G38: Total Costos Directos | I38: =ROUND(I13+I22+I29+I36,0) -> 0
B41: V. COSTOS INDIRECTOS
B42: Descripción | H42: Porcentaje | I42: Valor-Total
B43: ADMINISTRACION | H43: 0 | I43: =I38*H43 -> 0
B44: IMPREVISTO | H44: =Presupuesto!H22 -> 0 | I44: =I38*H44 -> 0
B45: UTILIDAD | H45: 0 | I45: =I38*H45 -> 0
H46: Sub-Total | I46: =SUM(I43:I45) -> 0
F49: Precio Unitario Total aproximado al peso | I49: =SUM(+I38+I46) -> 0

Sheet Discriminacion del AIU
C3: DISCRIMINACION DEL AIU
C4: CONSTRUCCIÓN Y MANTENIMIENTO DEL PUENTE PALAFÍTICO PEATONAL EN MADERA EN LA CALLE 3ra ENTRE CARRERAS 17 Y 19 EN LA ZONA URBANA DE MUNICIPIO DE MURINDÓ - ANTIOQUIA
D7: Descripción | E7: Cantidad | F7: Dedicación | G7: Sueldo/Valor | H7: % | I7: Subtotal | J7: % calculado sobre el valor del contrato en Costos Directos
C8: 1. | D8: ADMINISTRACIÓN
C9: 1.2 | D9: Impuestos
C10: 1.2.1. | D10: Estampilla Pro Hospital | E10: 1 | F10: - | G10: =Presupuesto!I24*'Discriminacion del AIU'!H10 -> 0 | H10: 0.01 | I10: =G10 -> 0 | J10: =I10/Presupuesto!I20 -> #DIV/0!
C11: 1.2.2. | D11: Estampilla Pro Cultura | E11: 1 | F11: - | G11: =Presupuesto!I24*'Discriminacion del AIU'!H11 -> 0 | H11: 0.02 | I11: =G11 -> 0 | J11: =I11/Presupuesto!I20 -> #DIV/0!
C12: 1.2.3 | D12: Estampilla Pro Bienestar Adulto Mayor | E12: 1 | F12: - | G12: =Presupuesto!I24*'Discriminacion del AIU'!H12 -> 0 | H12: 0.04 | I12: =G12 -> 0 | J12: =I12/Presupuesto!I20 -> #DIV/0!
C13: 1.2.4. | D13: Contrato de Construccion | E13: 1 | F13: - | G13: =Presupuesto!I24*'Discriminacion del AIU'!H13 -> 0 | H13: 0.02 | I13: =G13 -> 0 | J13: =I13/Presupuesto!I20 -> #DIV/0!
C14: 1.2.5. | D14: Fondo de Seguridad | E14: 1 | F14: - | G14: =Presupuesto!I24*'Discriminacion del AIU'!H14 -> 0 | H14: 0.05 | I14: =G14 -> 0 | J14: =I14/Presupuesto!I20 -> #DIV/0!
C15: 1.2.6 | D15: Reteica | E15: 1 | F15: - | G15: =Presupuesto!I24*'Discriminacion del AIU'!H15 -> 0 | H15: 0.01 | I15: =G15 -> 0 | J15: =I15/Presupuesto!I20 -> #DIV/0!
D16: ADMINISTRACIÓN | I16: =SUM(I10:I15) -> 0 | J16: =SUM(J10:J15) -> #DIV/0!
D17: IMPREVISTO | H17: 0 | I17: 0 | J17: 0
D18: UTILIDAD | H18: =24%-J16 -> #DIV/0! | I18: =I22*H18 -> #DIV/0! | J18: =I18/I22 -> #DIV/0!
C20: VALOR TOTAL AIU | I20: =SUM(I16:I18) -> #DIV/0! | J20: =SUM(J16:J18) -> #DIV/0!
C22: VALOR CONTRATO EN COSTOS DIRECTOS | I22: =Presupuesto!I20 -> 0
C24: VALOR CONTRATO EN COSTOS TOTALES (sumatoria A.U. + COSTOS DIRECTOS) | I24: =I22+I20 -> #DIV/0!

Sheet Factor Prestacional
B2: CALCULO DEL FACTOR DE PRESTACIONES SOCIALES
B4: SALARIO MINIMO MENSUAL LEGAL VIGENTE A PARTIR DE 1/01/2019 | C4: ='Historia salarial'!C35 -> 828116 | D4: 1.00 SMMLV | F4: 1.50 SMMLV | H4: 1.75 SMMLV | J4: 2.00 SMMLV | L4: 3.00 - 10 SMMLV | N4: 10 SMMLV EN ADELANTE
B5: SUBSIDIO DE TRANSPORTE | C5: ='Historia salarial'!D35 -> 97032
D6: Ayudante | F6: Oficial | H6: Plomero - Electricista | J6: Operario | L6: Personal Técnico y Profesional | N6: Personal Profesional
B7: CONCEPTO | C7: FORMULA | D7: =C4 -> 828116 | F7: =1.5*C4 -> 1242174 | H7: =1.75*C4 -> 1449203 | J7: =2*C4 -> 1656232 | L7: =3*C4 -> 2484348 | N7: =10*C4 -> 8281160
B9: SALARIO ANUAL | C9: A | D9: =C4*12 -> 9937392 | E9: 1 | F9: =+D9*1.5 -> 14906088 | G9: 1 | H9: =D9*1.75 -> 17390436 | I9: 1 | J9: =+D9*2 -> 19874784 | K9: 1 | L9: =+D9*3 -> 29812176 | M9: 1 | N9: =+F9*3 -> 44718264 | O9: 1
B10: SUBSIDIO DE TRANSPORTE ANUAL | C10: B | D10: =C5*12 -> 1164384 | E10: =+D10/$D$9 -> 0.11717199 | F10: =+D10 -> 1164384 | G10: =+F10/$F$9 -> 0.07811466 | H10: =D10 -> 1164384 | I10: =+H10/$H$9 -> 0.066955423 | J10: =+D10 -> 1164384 | K10: =+J10/$J$9 -> 0.058585995 | L10: 0 | M10: =+L10/$L$9 -> 0 | N10: 0 | O10: =+N10/$N$9 -> 0
B11: PRESTACIONES
B12: CESANTIA | C12: C=36*(A+B)/365 | D12: =36*(D9+D10)/365 -> 1094969.7 | E12: =+D12/$D$9 -> 0.11018683 | F12: =36*(F9+F10)/365 -> 1585032.9 | G12: =+F12/$F$9 -> 0.1063346 | H12: =36*(H9+H10)/365 -> 1830064.4 | I12: =+H12/$H$9 -> 0.10523396 | J12: =36*(J9+J10)/365 -> 2075096 | K12: =+J12/$J$9 -> 0.10440848 | L12: =36*(L9+L10)/365 -> 2940379 | M12: =+L12/$L$9 -> 0.098630137 | N12: =36*(N9+N10)/365 -> 4410568.5 | O12: =+N12/$N$9 -> 0.098630137
B13: INTERESES CESANTIA | C13: D=12.00%C | D13: =+D12*0.12 -> 131396.36 | E13: =+D13/$D$9 -> 0.013222419 | F13: =+F12*0.12 -> 190203.94 | G13: =+F13/$F$9 -> 0.012760152 | H13: =+H12*0.12 -> 219607.73 | I13: =+H13/$H$9 -> 0.012628075 | J13: =+J12*0.12 -> 249011.52 | K13: =+J13/$J$9 -> 0.012529018 | L13: =+L12*0.12 -> 352845.48 | M13: =+L13/$L$9 -> 0.011835616 | N13: =+N12*0.12 -> 529268.22 | O13: =+N13/$N$9 -> 0.011835616
B14: VACACIONES | C14: E=A/24 | D14: =+D9/24 -> 414058 | E14: =+D14/$D$9 -> 0.041666667 | F14: =+F9/24 -> 621087 | G14: =+F14/$F$9 -> 0.041666667 | H14: =+H9/24 -> 724601.5 | I14: =+H14/$H$9 -> 0.041666667 | J14: =+J9/24 -> 828116 | K14: =+J14/$J$9 -> 0.041666667 | L14: =+L9/24 -> 1242174 | M14: =+L14/$L$9 -> 0.041666667 | N14: =+N9/24 -> 1863261 | O14: =+N14/$N$9 -> 0.041666667
B15: PRIMAS | C15: F=A/12 | D15: =+D9/12 -> 828116 | E15: =+D15/$D$9 -> 0.083333333 | F15: =+F9/12 -> 1242174 | G15: =+F15/$F$9 -> 0.083333333 | H15: =+H9/12 -> 1449203 | I15: =+H15/$H$9 -> 0.083333333 | J15: =+J9/12 -> 1656232 | K15: =+J15/$J$9 -> 0.083333333 | L15: =+L9/12 -> 2484348 | M15: =+L15/$L$9 -> 0.083333333 | N15: =+N9/12 -> 3726522 | O15: =+N15/$N$9 -> 0.083333333
B16: CALZADO Y VESTIDO DE LABOR
B17: BOTAS Y OVEROL (3 VECES POR AÑO) | C17: G=GBL | D17: 483360 | E17: =+D17/$D$9 -> 0.048640529 | F17: =+$D$17 -> 483360 | G17: =+F17/$F$9 -> 0.032427019 | H17: =+$D$17 -> 483360 | I17: =+H17/$H$9 -> 0.027794588 | J17: =+$D$17 -> 483360 | K17: =+J17/$J$9 -> 0.024320264 | L17: 0 | M17: =+L17/$L$9 -> 0 | N17: 0 | O17: =+N17/$N$9 -> 0
B18: SEGURIDAD SOCIAL
B19: PENSION | C19: H=12,00%A | D19: =+D9*0.12 -> 1192487 | E19: =+D19/$D$9 -> 0.12 | F19: =+F9*0.12 -> 1788730.6 | G19: =+F19/$F$9 -> 0.12 | H19: =+H9*0.12 -> 2086852.3 | I19: =+H19/$H$9 -> 0.12 | J19: =+J9*0.12 -> 2384974.1 | K19: =+J19/$J$9 -> 0.12 | L19: =+L9*0.12 -> 3577461.1 | M19: =+L19/$L$9 -> 0.12 | N19: =+N9*0.12 -> 5366191.7 | O19: =+N19/$N$9 -> 0.12
B20: SALUD | C20: I=8.50%A | D20: =+D9*0.085 -> 844678.32 | E20: =+D20/$D$9 -> 0.085 | F20: =+F9*0.085 -> 1267017.5 | G20: =+F20/$F$9 -> 0.085 | H20: =+H9*0.085 -> 1478187.1 | I20: =+H20/$H$9 -> 0.085 | J20: =+J9*0.085 -> 1689356.6 | K20: =+J20/$J$9 -> 0.085 | L20: =+L9*0.085 -> 2534035 | M20: =+L20/$L$9 -> 0.085 | N20: =+N9*0.085 -> 3801052.4 | O20: =+N20/$N$9 -> 0.085
B21: RIESGOS PROFESIONALES (Riesgo V) | C21: J=6,96%A | D21: =+D9*0.0696 -> 691642.48 | E21: =+D21/$D$9 -> 0.0696 | F21: =+F9*0.0696 -> 1037463.7 | G21: =+F21/$F$9 -> 0.0696 | H21: =+H9*0.0696 -> 1210374.3 | I21: =+H21/$H$9 -> 0.0696 | J21: =+J9*0.0696 -> 1383285 | K21: =+J21/$J$9 -> 0.0696 | L21: =+L9*0.0696 -> 2074927.4 | M21: =+L21/$L$9 -> 0.0696 | N21: =+N9*0.0696 -> 3112391.2 | O21: =+N21/$N$9 -> 0.0696
B22: APORTES PARAFISCALES
B23: CREE | C23: K=0.60%A | D23: =+D9*0.006 -> 59624.352 | E23: =+D23/$D$9 -> 0.006 | F23: =+F9*0.006 -> 89436.528 | G23: =+F23/$F$9 -> 0.006 | H23: =+H9*0.006 -> 104342.62 | I23: =+H23/$H$9 -> 0.006 | J23: =+J9*0.006 -> 119248.7 | K23: =+J23/$J$9 -> 0.006 | L23: =+L9*0.006 -> 178873.06 | M23: =+L23/$L$9 -> 0.006
B24: SENA | N24: =+N9*0.02 -> 894365.28 | O24: =+N24/$N$9 -> 0.02
B25: ICBF | N25: =+N9*0.03 -> 1341547.9 | O25: =+N25/$N$9 -> 0.03
B26: CAJA DE COMPENSACION | C26: M=4.00%A | D26: =+D9*0.04 -> 397495.68 | E26: =+D26/$D$9 -> 0.04 | F26: =+F9*0.04 -> 596243.52 | G26: =+F26/$F$9 -> 0.04 | H26: =+H9*0.04 -> 695617.44 | I26: =+H26/$H$9 -> 0.04 | J26: =+J9*0.04 -> 794991.36 | K26: =+J26/$J$9 -> 0.04 | L26: =+L9*0.04 -> 1192487 | M26: =+L26/$L$9 -> 0.04 | N26: =+N9*0.04 -> 1788730.6 | O26: =+N26/$N$9 -> 0.04
B28: TOTAL ANUAL | D28: =SUM(D9:D26) -> 17239604 | E28: =SUM(E9:E26) -> 1.7348218 | F28: =SUM(F9:F26) -> 24971222 | G28: =SUM(G9:G26) -> 1.6752364 | H28: =SUM(H9:H26) -> 28837030 | I28: =SUM(I9:I26) -> 1.658212 | J28: =SUM(J9:J26) -> 32702839 | K28: =SUM(K9:K26) -> 1.6454438 | ... O28: =SUM(O9:O26) -> 1.6000658
B30: Notas:
B32: 1 - Porcentaje de Horas Extras aprobado en Mesa de Trabajo para estimación del Factor de AIU (*)
C33: HORAS/MES TRABAJADAS | E33: 240
C34: U.M. | D34: H.EXTR. / MES | E34: F. H.EXTR. | F34: H.EQUIV. | G34: %
B35: HORA EXTRA DIURNA | C35: HORA | D35: 8 | E35: 1.25 | F35: =D35*E35 -> 10 | G35: =F35/E33 -> 0.041666667
B36: HORA EXTRA NOCTURNA | C36: HORA | D36: 4 | E36: 1.75 | F36: =D36*E36 -> 7 | G36: =F36/E33 -> 0.029166667
B37: HORA EXTRA FESTIVA DIURNA | C37: HORA | D37: 8 | E37: 2 | F37: =D37*E37 -> 16 | G37: =F37/E33 -> 0.066666667
F38: =SUM(F35:F37) -> 33 | G38: =SUM(G35:G37) -> 0.1375
C40: Tarife/hora | D40: Jornal/dia
A41: (*) | B41: Inspector
A42: (*) | B42: Maestro de Obra, Oficial y Ayudante
A43: (*) | B43: Topógrafo, Cadenero 1 y Cadenero 2
A44: (*) | B44: Almacenista
A45: (*) | B45: Conductor o Motorista | C45: =ROUND(((D7*E28%)/E33),2)*100 -> 5986 | D45: =C45*D37 -> 47888
A46: (*) | B46: Ayudante | C46: =ROUND(((D7*E28%)/E33),2)*100 -> 5986 | D46: =C46*D37 -> 47888
A47: (*) | B47: Oficial | C47: =ROUND(((F7*G28%)/E33),2)*100 -> 8671 | D47: =C47*D37 -> 69368
...

Sheet Historia salarial
B2: Histórico del salario mínimo en Colombia desde 1.990
B4: Año | C4: Salario mínimo | D4: Auxilio de transporte
B6: 1990 | C6: 41025 | D6: 3798
B7: 1991 | C7: 51720 | D7: 4787
B8: 1992 | C8: 65190 | D8: 6033
B9: 1993 | C9: 81510 | D9: 7542
B10: 1994 | C10: 98700 | D10: 8705
B11: 1995 | C11: 118934 | D11: 10815
B12: 1996 | C12: 142125 | D12: 13567
B13: 1997 | C13: 172005 | D13: 17250
B14: 1998 | C14: 203825 | D14: 20700
B15: 1999 | C15: 236438 | D15: 24012
B16: 2000 | C16: 260100 | D16: 26413
B17: 2001 | C17: 286000 | D17: 30000
... B35: 2019 | C35: 828116 | D35: 97032
