Workbook
Name _AFC1: [1]INV!$A$25:$D$28
Name _AFC3: [1]INV!$F$25:$I$28
Name _AFC5: [1]INV!$K$25:$N$28
Name _BGC1: [1]INV!$A$5:$D$8
Name _BGC3: [1]INV!$F$5:$I$8
Name _BGC5: [1]INV!$K$5:$N$8
Name _CAC1: [1]INV!$A$19:$D$22
Name _CAC3: [1]INV!$F$19:$I$22
Name _CAC5: [1]INV!$K$19:$N$22
Name _Cod1: #REF!
Name _Cod1: #REF!
Name _Cod1: #REF!
Name _Cod1: #REF!
Name _MA2: #REF!
Name _MA2: #REF!
Name _MA2: #REF!
Name _MA2: #REF!
Name _Pa1: '[4]Paral. 1'!$E$1:$E$65536
Name _Pa1: '[4]Paral. 1'!$E$1:$E$65536
Name _Pa1: '[4]Paral. 1'!$E$1:$E$65536
Name _Pa1: '[4]Paral. 1'!$E$1:$E$65536
Name _Pa1: '[4]Paral. 1'!$E$1:$E$65536
Name _Pa1: '[4]Paral. 1'!$E$1:$E$65536
Name _Pa1: '[5]Paral. 1'!$E$1:$E$65536
Name _Pa2: '[4]Paral. 2'!$E$1:$E$65536
Name _Pa2: '[4]Paral. 2'!$E$1:$E$65536
Name _Pa2: '[4]Paral. 2'!$E$1:$E$65536
Name _Pa2: '[4]Paral. 2'!$E$1:$E$65536
Name _Pa2: '[4]Paral. 2'!$E$1:$E$65536
Name _Pa2: '[4]Paral. 2'!$E$1:$E$65536
Name _Pa2: '[5]Paral. 2'!$E$1:$E$65536
Name _Pa3: '[4]Paral. 3'!$E$1:$E$65536
Name _Pa3: '[4]Paral. 3'!$E$1:$E$65536
Name _Pa3: '[4]Paral. 3'!$E$1:$E$65536
Name _Pa3: '[4]Paral. 3'!$E$1:$E$65536
Name _Pa3: '[4]Paral. 3'!$E$1:$E$65536
Name _Pa3: '[4]Paral. 3'!$E$1:$E$65536
Name _Pa3: '[5]Paral. 3'!$E$1:$E$65536
Name _Pa4: [4]Paral.4!$E$1:$E$65536
Name _Pa4: [4]Paral.4!$E$1:$E$65536
Name _Pa4: [4]Paral.4!$E$1:$E$65536
Name _Pa4: [4]Paral.4!$E$1:$E$65536
Name _Pa4: [4]Paral.4!$E$1:$E$65536
Name _Pa4: [4]Paral.4!$E$1:$E$65536
Name _Pa4: [5]Paral.4!$E$1:$E$65536
Name _SBC1: [1]INV!$A$12:$D$15
Name _SBC3: [1]INV!$F$12:$I$15
Name _SBC5: [1]INV!$K$12:$N$15
Name a: #REF!
Name a: #REF!
Name a: #REF!
Name a: #REF!
Name A_IMPRESIÓN_IM: #REF!
Name A_IMPRESIÓN_IM: #REF!
Name A_IMPRESIÓN_IM: #REF!
Name A_IMPRESIÓN_IM: #REF!
Name aa: #REF!
Name aa: #REF!
Name aa: #REF!
Name aa: #REF!

Sheet Formulario 1
A2: SECRETARÍA DE SUMINISTROS Y SERVICIOS
A3: SELECCIÓN ABREVIADA No.0009014680
A5: REALIZAR LABORES DE CERRAMIENTO DE LOTE Y RENOVACIÓN CUNETAS EN LA ESCOMBRERA, UBICADO EN SAN JAVIER EN LA CALLE 043 BB 120 B 391 (0130)
A7: Formulario No. 1
A8: CONTRATOS EN EJECUCIÓN
A10: CONTRATO NO. (1) | B10: OBJETO DEL CONTRATO | C10: CONTRATANTE | D10: FORMA DE EJECUCIÓN (2) | E10: % DE PARTICIPACION | F10: VALOR COP (3) | G10: PLAZO (MESES) (4) | H10: FECHA INICIO (dd/mm/aaaa) | I10: SUSPENSIONES (5)
I11: FECHA INICIO (dd/mm/aaaa) | J11: FECHA TERMINACIÓN (dd/mm/aaaa)
A22: (1) Contratos de obras civiles en ejecución, incluyendo los suspendidos y aquellos que no tengan acta de inicio. | G22: SI EL PROPONENTE NO TIENE CONTRATOS EN EJECUCIÓN, EN ESTE FORMULARIO DEBE DEJAR CONSTANCIA EXPRESA DE ESA CIRCUNSTANCIA
A23: (2) Indicar si el contrato se ejecuta en forma Individual (I), en Consorcio (C) o Unión Temporal (UT).
A24: (3) Valor total del contrato expresado en moneda legal colombiana.
A25: (4) Plazo total de contrato incluyendo las ampliaciones.
A26: (5) Si el contrato presenta mas de una suspensión deberán informarlas todas, Si a la fecha de cierre del presente proceso en contrato se encuentra suspendido no diligenciar la "Fecha de Terminación".
A29: El formulario debe ser diligenciado en su totalidad. En todo caso la evaluación se efectuara conforme lo dispuesto en el pliego.
A30: Para el caso de proponentes plurales se debe entregar formulario por cada uno de los integrantes
A33: ____________________________________
A34: Nombre del Proponente Individual o Integrante del Consorcio:
A37: ____________________________________ | E37: ____________________________________
A38: Firma representante legal del Oferente | E38: Firma del auditor o revisor fiscal
A39: Nombre: | E39: Nombre:
A40: Cargo: | E40: Cargo:
A41: Documento de Identidad: | E41: Documento de Identidad:

Sheet Formulario 1.1
A2: SECRETARÍA DE SUMINISTROS Y SERVICIOS
A3: ='Formulario 1'!A3:J3 -> SELECCIÓN ABREVIADA No.0009014680
A5: ='Formulario 1'!A5:J5 -> REALIZAR LABORES DE CERRAMIENTO DE LOTE Y RENOVACIÓN CUNETAS EN LA ESCOMBRERA, UBICADO EN SAN JAVIER EN LA CALLE 043 BB 120 B 391 (0130)
A7: Formulario No. 1.1
A8: EXPERIENCIA DEL PROPONENTE PARA LA Cr
A11: CONTRATO No. (1) | B11: CONTRATANTE | C11: OBJETO DEL CONTRATO | D11: FORMA DE | E11: % DE | F11: VALOR DEL CONTRATO (3)
D12: EJECUCIÓN (2) | E12: PARTICIPACIÓN | F12: EN PESOS | G12: EN SMMLV
E21: TOTAL
A23: (1) Contratos relacionados con la actividad de la construcción - Segmento 72 Clasificador UNSPSC | D23: SALARIO MÍNIMO MENSUAL LEGAL (SMMLV)
D24: Año | E24: Valor | F24: Año | G24: Valor
A25: (2) Indicar si el contrato se ejecuta en forma Individual (I), en Consorcio (C) o Unión Temporal (UT). | D25: 1997 | E25: 172005 | F25: 2010 | G25: 515000
D26: 1998 | E26: 203826 | F26: 2011 | G26: 535600
A27: (3) Valor total del contrato, en Pesos (COP) y SMMLV a la fecha de TERMINACIÓN del contrato | D27: 1999 | E27: 236438 | F27: 2012 | G27: 566700
D28: 2000 | E28: 260106 | F28: 2013 | G28: 589500
D29: 2001 | E29: 286000 | F29: 2014 | G29: 616000
D30: 2002 | E30: 309000 | F30: 2015 | G30: 644350
A31: El formulario debe ser diligenciado en su totalidad. En todo caso la evaluación se efectuara conforme lo dispuesto en el pliego. | D31: 2003 | E31: 332000 | F31: 2016 | G31: 689454
D32: 2004 | E32: 358000 | F32: 2017 | G32: 737717
A33: Para el caso de proponentes plurales se debe entregar formulario por cada uno de los integrantes. | D33: 2005 | E33: 381500 | F33: 2018 | G33: 781242
D34: 2006 | E34: 408000 | F34: 2019 | G34: 828116
D35: 2007 | E35: 433700 | F35: 2020 | G35: 877803
D36: 2008 | E36: 461500 | F36: 2021 | G36: 908526
D37: 2009 | E37: 496900 | F37: 2022 | G37: 1000000
A40: ____________________________________ | D40: ____________________________________
A41: Firma representante legal del Oferente | D41: Firma del auditor o revisor fiscal
A42: Nombre: | D42: Nombre:
A43: Cargo: | D43: Cargo:
A44: Documento de Identidad: | D44: Documento de Identidad:

Sheet Formulario 1.2
A2: SECRETARÍA DE SUMINISTROS Y SERVICIOS
A3: ='Formulario 1'!A3:J3 -> SELECCIÓN ABREVIADA No.0009014680
A5: ='Formulario 1'!A5:J5 -> REALIZAR LABORES DE CERRAMIENTO DE LOTE Y RENOVACIÓN CUNETAS EN LA ESCOMBRERA, UBICADO EN SAN JAVIER EN LA CALLE 043 BB 120 B 391 (0130)
A7: Formulario No. 1.2
A8: CAPACIDAD TÉCNICA - Cr
A10: No. | B10: Nombre del socio y/o profesional de la arquitectura, ingenieria o geologia | C10: Marcar con una X | E10: Profesión | F10: No. Matricula profecional | G10: Numero y año del contrato laboral o de prestacion de servicios profecionales | H10: Vigencia del Contrato
C11: Socio | D11: Empleado
A20: Para el caso de proponentes plurales se debe entregar formulario por cada uno de los integrantes.
A24: ____________________________________
A25: Nombre del Proponente Individual o Integrante del Consorcio:
A29: ____________________________________ | F29: ____________________________________
A30: Firma representante legal del Oferente | F30: Firma del auditor o revisor fiscal
A31: Nombre: | F31: Nombre:
A32: Cargo: | F32: Cargo:
A33: Documento de Identidad: | F33: Documento de Identidad:

Sheet Formulario 2
A2: SECRETARÍA DE SUMINISTROS Y SERVICIOS
A4: ='Formulario 1'!A3:J3 -> SELECCIÓN ABREVIADA No.0009014680
A6: ='Formulario 1'!A5:J5 -> REALIZAR LABORES DE CERRAMIENTO DE LOTE Y RENOVACIÓN CUNETAS EN LA ESCOMBRERA, UBICADO EN SAN JAVIER EN LA CALLE 043 BB 120 B 391 (0130)
A8: Formulario No. 2
A9: EXPERIENCIA GENERAL Y ESPECIFICA DEL PROPONENTE
A11: No. Del contrato en el RUP (No. Consecutivo o No. de Orden) (1) | B11: CONTRATO No. (2) | C11: OBJETO DEL CONTRATO | D11: CONTRATANTE | E11: FECHA DE INICIACIÓN (mes - año) | F11: FECHA DE TERMINACIÓN (3) (mes - año) | G11: FORMA DE EJECUCIÓN (4) | H11: VALOR DEL CONTRATO (5) | J11: CLASIFICACIÓN (6) | K11: EXPERIENCIA ESPECIFICA (SI/NO) (7)
H12: EN PESOS (COP) | I12: EN SMMLV
A21: (1) Posición o ubicación del contrato, según el orden en que son relacionados los contratos reportados en el aparte EXPERIENCIA del RUP. | G21: SALARIO MÍNIMO MENSUAL LEGAL (SMMLV)
G22: Año | H22: Valor | I22: Año | J22: Valor
A23: (2) Contratos terminados y registrados en el RUP. | G23: 1997 | H23: 172005 | I23: 2010 | J23: 515000
A24: (3) Fecha de terminación. | G24: 1998 | H24: 203826 | I24: 2011 | J24: 535600
A25: (4) Indicar si el contrato se ejecutó en forma Individual (I), en Consorcio (C) o Unión Temporal (UT). | G25: 1999 | H25: 236438 | I25: 2012 | J25: 566700
A26: (5) Valor total del contrato, en Pesos (COP) y SMMLV a la fecha de TERMINACIÓN del contrato. | G26: 2000 | H26: 260106 | I26: 2013 | J26: 589500
A27: (6) Indicar las clasificaciones del contrato en el RUP según los códigos del Clasificador de Bienes y Servicios de las Naciones Unidas para estandarizar productos y servicios (UNSPSC), DEBE corresponder con las exigidas en el PLIEGO. | G27: 2001 | H27: 286000 | I27: 2014 | J27: 616000
G28: 2002 | H28: 309000 | I28: 2015 | J28: 644350
A29: (7) experiencia especifica: Señalar cual de los contratos son tenidos en cuenta para la experiencia especifica | G29: 2003 | H29: 332000 | I29: 2016 | J29: 689454
G30: 2004 | H30: 358000 | I30: 2017 | J30: 737717
G31: 2005 | H31: 381500 | I31: 2018 | J31: 781242
A32: El formulario debe ser diligenciado en su totalidad. En todo caso la evaluación se efectuara conforme lo dispuesto en el pliego. | G32: 2006 | H32: 408000 | I32: 2019 | J32: 828116
G33: 2007 | H33: 433700 | I33: 2020 | J33: 877803
A34: Los contratos relacionados deben estar debidamente certificados | G34: 2008 | H34: 461500 | I34: 2021 | J34: 908526
G35: 2009 | H35: 496900 | I35: 2022 | J35: 1000000
A38: ____________________________________________ | E38: ____________________________________________
A39: Nombre del Proponente: | E39: Firma representante legal

Sheet Formulario 3
A2: SECRETARÍA DE SUMINISTROS Y SERVICIOS
A3: SELECCIÓN ABREVIADA No 0009014680
A4: REALIZAR LABORES DE CERRAMIENTO DE LOTE Y RENOVACIÓN CUNETAS EN LA ESCOMBRERA, UBICADO EN SAN JAVIER EN LA CALLE 043 BB 120 B 391 (0130)
A5: FORMULARIO N°3
A6: PROPUESTA ECONÓMICA
A7: ITEM | B7: DESCRIPCIÓN | C7: UNIDAD | D7: CANTIDAD | E7: PRECIO UNITARIO | F7: PRECIO TOTAL
A8: 1 | B8: RETIROS Y DEMOLICIONES
B9: Se ejecutarán los retiros y las demoliciones indicados en el formulario de cantidades de obra y las demás que se requieran, con previa autorización de la supervisión. En el valor de las demoliciones quedan incluidos los elementos adosados, los revoques, los enchapes y la protección de elementos existentes, cuando sea necesario. Las actividades se ejecutarán cumpliendo las disposiciones normativas existentes sobre Seguridad Industrial y Salud en el Trabajo, atendiendo lo establecido en la ley sobre la realización de trabajo seguro en alturas, tomando las precauciones necesarias para evitar accidentes de los trabajadores o de terceras personas y/o daños a los bienes del Distrito o de terceros. En todas las actividades que lo requieran el precio Incluye transporte interno, cargue, transporte y botada de material sobrante a cualquier distancia y/o la recuperación y el transporte de los materiales reutilizables hasta el sitio que indique la supervisión. Se deberá cumplir con la normatividad establecida por la entidad competente sobre la disposición final de los materiales resultantes de las demoliciones y/o retiros.
A10: 1,1 | B10: Localización, trazado y replanteo del proyecto. Se utilizará personal experto con equipo de precisión. Se hará con la frecuencia que lo indique la supervisión. Incluye equipos, demarcación con pintura, línea de trazado, materiales y todo lo necesario para la correcta ejecución de la actividad | C10: día | D10: 10 | F10: 0
A11: 1,2 | B11: Rocería y limpieza hasta cualquier altura de la vegetación, incluye desenraice de árboles de diámetros menores a 10 cm. La rocería se realizará a ras de piso con machete o guadaña | C11: m2 | D11: 1455 | F11: 0
A12: 1,3 | B12: Descapote y limpieza del terreno. Incluye retiro de material | C12: m2 | D12: 1600 | F12: 0
A13: 1,4 | B13: Demolición de concreto de cualquier tipo: reforzado, simple y/o ciclópeo donde se requiera como en columnas, vigas, fundaciones, losas, muros, muertos en concreto y/o demás estructuras diferentes a las especificadas en otros ítems del presente capítulo. | C13: m3 | D13: 3 | F13: 0
A14: 1,5 | B14: Retiro de cerramiento en alambre de púas y estacones, hasta 2m de altura. | C14: ml | D14: 1753 | F14: 0
A15: 1,6 | B15: Retiro de geomembranas en cunetas. Incluye disposición final de material a botadero certificado | C15: ml | D15: 1500 | F15: 0
A16: 2 | B16: MOVIMIENTO DE TIERRA Y EXCAVACIONES
A17: 2,1 | B17: Excavación a mano de 0 a 2 mts de profundidad, en material heterogéneo bajo cualquier grado de humedad, para redes y obras complementarias. El material sobrante, resultante de excavación se dispondrá en el lote, en el lugar indicado por la interventoría | C17: m3 | D17: 200 | F17: 0
A18: 2,2 | B18: Construcción de llenos compactados con material seleccionado proveniente de la excavación en brechas, apiques y zonas abiertas. Incluye transporte local y elementos de protección. | C18: m3 | D18: 150 | F18: 0
A19: 2,3 | B19: Construcción de llenos compactados con arenilla. En brechas apiques y zonas abiertas. | C19: m3 | D19: 200 | F19: 0
A20: 3 | B20: ACERO
A21: 3,1 | B21: Suministro, transporte, figuración y colocación de acero para el refuerzo de estructuras en general y demás obras que requieran de este elemento. Fy = 420Mpa. (4200 kg/cm²). | C21: kg | D21: 4 | F21: 0
A22: 3,2 | B22: Suministro, transporte y colocación de malla electrosoldada tipo D-50. | C22: m2 | D22: 30 | F22: 0
A23: 4 | B23: CONCRETOS
A24: 4,1 | B24: Suministro y colocación de concreto de f'c=21 Mpa para elementos estructurales y/o de cimentación. Incluye formaleta en madera común y curado de acuerdo con las diferentes dimensiones y elementos constructivos. Todo lo referente a concretos se regirá por lo especificado en las NEGC 501 y 601. | C24: m3 | D24: 20 | F24: 0
A25: 5 | B25: OBRAS COMPLEMENTARIAS
A26: 5,1 | B26: Suministro e instalación de cerramiento con postes redondos en madera inmunizada de 2,20m de longitud que cumpla la Norma NTC 2593, colocados cada 2m, empotrados 0,50m, y 0,80m como mínimo en los cambios de dirección, portones o cada 100m de recorrido, arriostrados con pie de amigos encajados en ranuras dispuestas para ello en el poste de temple; los postes deberán ser instalados en huecos excavados en terreno natural rellenos con concreto de 21MPa. La actividad incluye: - Postes de madera inmunizada con diámetro uniforme mínimo de 0,10 m. El diámetro especificado se refiere a madera sin corteza; no deben tener torceduras, rajaduras, ni grietas de más de 0,006 m de ancho ni mayores de 0,50 m de longitud. Se deben instalar con el diámetro mayor hacia abajo, siguiendo la vertical y alineados por el lado que va el alambre, - Excavación. - Concreto 21MPa. - Alambre de púas calibre No. 12,5 de 4 puntas espaciadas cada 0,15m; 5 hiladas. - Grapas en alambre de acero galvanizado en caliente, según norma NTC 2076 para un calibre No. 9 de 25 mm (1") para postes de madera dura. | C26: ml | D26: 1750 | F26: 0
A27: 5,2 | B27: Suministro transporte y colocación de canales y/o rondas flexibles, incluye adecuación del terreno, geomembrana tipo PAVCO o similar, ganchos para amarre y demás elementos necesarios para su correcta instalación | C27: ml | D27: 580 | F27: 0
A28: 5,3 | B28: Suministro transporte y colocación de cunetas prefabricadas en concreto Ø 50cm; incluye mortero 1:3, encamado de 5cm de triturado | C28: ml | D28: 1197 | F28: 0
A29: 5,4 | B29: Suministro transporte y colocación de cunetas prefabricadas en concreto Ø 30cm; incluye mortero 1:3, encamado de 5cm de triturado | C29: ml | D29: 760 | F29: 0
B30: SUBTOTAL COSTO DIRECTO | F30: 0
B31: AIU | F31: 0
B32: COSTOS DIRECTOS + AIU | F32: 0
B33: Subtotal Inversión Socio Ambiental: | E33: INMODIFICABLE | F33: 2022900
B34: Subtotal pólizas: | E34: INMODIFICABLE | F34: 1760128
B35: TOTAL COSTOS DE OBRA | F35: 3783028
F37: =ROUND(D37*E37,0) -> 0
F38: =ROUND(D38*E38,0) -> 0
F39: =ROUND(D39*E39,0) -> 0
F40: =ROUND(D40*E40,0) -> 0
F42: =ROUND(D42*E42,0) -> 0
F43: =ROUND(D43*E43,0) -> 0
...

Sheet Formulario 4
A2: SECRETARÍA DE SUMINISTROS Y SERVICIOS
A3: LICITACIÓN PÚBLICA No. 70007326
A5: ='Formulario 1'!A5:J5 -> REALIZAR LABORES DE CERRAMIENTO DE LOTE Y RENOVACIÓN CUNETAS EN LA ESCOMBRERA, UBICADO EN SAN JAVIER EN LA CALLE 043 BB 120 B 391 (0130)
A7: Formulario No. 4
A8: INFORMACIÓN SOBRE MULTAS Y SANCIONES
A10: No. | B10: CONTRATO | C10: RESOLUCION MULTA | D10: FECHA EJECUTORIADA LA MULTA | E10: RESOLUCION SANCIÓN | F10: FECHA EJECUTORIADA LA SANCIÓN
A22: Para el caso de proponentes plurales se debe entregar formulario por cada uno de los integrantes.
A26: Nombre del Proponente: | E26: Firma representante legal

Sheet Formulario 5
A7: SECRETARÍA DE SUMINISTROS Y SERVICIOS
A8: SELECCIÓN ABREVIADA No 0009014680
A10: ='Formulario 1'!A5:J5 -> REALIZAR LABORES DE CERRAMIENTO DE LOTE Y RENOVACIÓN CUNETAS EN LA ESCOMBRERA, UBICADO EN SAN JAVIER EN LA CALLE 043 BB 120 B 391 (0130)
A13: Formulario No. 5
A14: ANÁLISIS DE PRECIOS UNITARIOS
A16: PROYECTO:
A18: DESCRIPCION DEL ÍTEM: | E18: ITEM:
E19: UNIDAD:
A21: I. EQUIPO
A22: Descripción | C22: Tipo | D22: Tarifa/Hora | E22: Rendimiento | F22: Valor Unit.
E27: Sub-Total
A28: II. MATERIALES EN OBRA
A29: Descripción | C29: Unidad | D29: Precio Unit. | E29: Cantidad | F29: Valor Unit.
E34: Sub-Total
A35: III. TRANSPORTES
A36: Material | B36: Vol., peso o cant. | C36: Distancia | D36: m3-km | E36: Tarifa | F36: Valor Unit.
E40: Sub-Total
A41: IV. MANO DE OBRA
A42: Trabajador | C42: Jornal | D42: Prestaciones | E42: Rendimiento | F42: Valor Unit.
E47: Sub-Total
D49: Total Costo Directo
A50: V. COSTOS INDIRECTOS
A51: Descripción | E51: Porcentaje | F51: Valor Total
A52: ADMINISTRACION
A53: UTILIDAD
A54: IMPREVISTOS
E55: Sub-Total
B57: PRECIO UNITARIO TOTAL (aproximado al peso)

Sheet Formulario 6
A2: ='Formulario 1'!A5:J5 -> REALIZAR LABORES DE CERRAMIENTO DE LOTE Y RENOVACIÓN CUNETAS EN LA ESCOMBRERA, UBICADO EN SAN JAVIER EN LA CALLE 043 BB 120 B 391 (0130)
A3: SELECCIÓN ABREVIADA No 0009014680
A4: CALCULO DEL A.I.U
A6: Recurso Humano | B6: Cantidad | C6: Dedicación | D6: Salario o valor | E6: F.P | F6: Plazo | G6: Vr. Total
A7: =+IF('[22]Paso 1'!B22="","",'[22]Paso 1'!B22&" "&'[22]Paso 1'!C22) -> Residente Residente obra 1 | B7: =+'[22]Paso 1'!E22 -> 1 | C7: =+'[22]Paso 1'!F22 -> 1 | F7: =+'[22]Paso 1'!I22 -> 3
A8: =+IF('[22]Paso 1'!B23="","",'[22]Paso 1'!B23&" "&'[22]Paso 1'!C23) -> Tecnólogo ambiental Profesional ambiental | B8: =+'[22]Paso 1'!E23 -> 1 | C8: =+'[22]Paso 1'!F23 -> 1 | F8: =+'[22]Paso 1'!I23 -> 3
A9: =+IF('[22]Paso 1'!B24="","",'[22]Paso 1'!B24&" "&'[22]Paso 1'!C24) -> Tecnólogo Residente en Seguridad y Salud en el Trabajo – SST Profesional siso | B9: =+'[22]Paso 1'!E24 -> 1 | C9: =+'[22]Paso 1'!F24 -> 1 | F9: =+'[22]Paso 1'!I24 -> 3
A10: =+IF('[22]Paso 1'!B25="","",'[22]Paso 1'!B25&" "&'[22]Paso 1'!C25)
A11: =+IF('[22]Paso 1'!B26="","",'[22]Paso 1'!B26&" "&'[22]Paso 1'!C26)
A12: =+IF('[22]Paso 1'!B27="","",'[22]Paso 1'!B27&" "&'[22]Paso 1'!C27)
A13: =+IF('[23]Paso 1'!B28="","",'[23]Paso 1'!B28&" "&'[23]Paso 1'!C28) -> 0 0
A14: =+IF('[23]Paso 1'!B29="","",'[23]Paso 1'!B29&" "&'[23]Paso 1'!C29) -> 0 0 | G14: =+'[23]Paso 1'!J29
A15: =+IF('[23]Paso 1'!B43="","",'[23]Paso 1'!B43&" "&'[23]Paso 1'!C43) -> 0 0 | G15: =+'[23]Paso 1'!J43
A16: Otros Gastos de Administración
A17: =+IF('[22]Paso 1'!B50="","",'[22]Paso 1'!B50&" "&'[22]Paso 1'!C50) -> Arrendamiento oficina | B17: =+'[22]Paso 1'!E50 -> 1 | C17: =+'[22]Paso 1'!D50 -> mes | F17: =+'[22]Paso 1'!I50 -> 3
A18: =+IF('[22]Paso 1'!B51="","",'[22]Paso 1'!B51&" "&'[22]Paso 1'!C51) -> Servicio públicos servicios públicos de oficina | B18: =+'[22]Paso 1'!E51 -> 1 | C18: =+'[22]Paso 1'!D51 -> mes | F18: =+'[22]Paso 1'!I51 -> 3
A19: =+IF('[22]Paso 1'!B52="","",'[22]Paso 1'!B52&" "&'[22]Paso 1'!C52) -> Auxilio por celulares - equipo y consumo- comunicaciones profesionales | B19: =+'[22]Paso 1'!E52 -> 3 | C19: =+'[22]Paso 1'!D52 -> mes | F19: =+'[22]Paso 1'!I52 -> 3
A20: =+IF('[22]Paso 1'!B53="","",'[22]Paso 1'!B53&" "&'[22]Paso 1'!C53) -> Auxilio para gastos de papeleria, fotocopias y otros papeleria informes,documentos | B20: =+'[22]Paso 1'!E53 -> 1 | C20: =+'[22]Paso 1'!D53 -> mes | F20: =+'[22]Paso 1'!I53 -> 3
A21: =+IF('[22]Paso 1'!B54="","",'[22]Paso 1'!B54&" "&'[22]Paso 1'!C54) -> Asesorias juridicas, contables y técnicas Asesorias | B21: =+'[22]Paso 1'!E54 -> 1 | C21: =+'[22]Paso 1'!D54 -> mes | F21: =+'[22]Paso 1'!I54 -> 3
A22: =+IF('[22]Paso 1'!B55="","",'[22]Paso 1'!B55&" "&'[22]Paso 1'!C55) -> Computadores licenciados, incluye impresora y conexión a internet equipos para profesionales | B22: =+'[22]Paso 1'!E55 -> 1 | C22: =+'[22]Paso 1'!D55 -> mes | F22: =+'[22]Paso 1'!I55 -> 3
A23: =+IF('[22]Paso 1'!B56="","",'[22]Paso 1'!B56&" "&'[22]Paso 1'!C56)
A24: =+IF('[22]Paso 1'!B57="","",'[22]Paso 1'!B57&" "&'[22]Paso 1'!C57)
A25: =+IF('[23]Paso 1'!B58="","",'[23]Paso 1'!B58&" "&'[23]Paso 1'!C58) -> 0 0
A26: =+IF('[23]Paso 1'!B59="","",'[23]Paso 1'!B59&" "&'[23]Paso 1'!C59) -> 0 0
A27: =+IF('[23]Paso 1'!B60="","",'[23]Paso 1'!B60&" "&'[23]Paso 1'!C60) -> 0 0
A28: =+IF('[23]Paso 1'!B61="","",'[23]Paso 1'!B61&" "&'[23]Paso 1'!C61) -> 0 0
A29: =+IF('[23]Paso 1'!B70="","",'[23]Paso 1'!B70&" "&'[23]Paso 1'!C70) -> 0 0
A30: Impuestos
A31: Gravamen a los movimientos Financieros -GMF- Art. 115 ET Deducible 50% | B31: 0.002
A32: Estampilla Procultura - Capítulo XVIII Acuerdo 066/2017 | B32: 0.005
A33: Estampilla Adulto Mayor - Capítulo XIX Acuerdo 066/2017 | B33: 0.02
A34: Estampilla U de A - Capítulo XX Acuerdo 066/2017 | B34: 0.01
A35: =+'[23]Paso 1'!B82 -> Pro Deporte y Recreación | B35: =+'[23]Paso 1'!I82 -> 0.013
A36: Contribución Especial Artículo 11 del Decreto 399 de 2011 y el inciso 2 del artículo 6 de la Ley 1106 de 2006. | B36: 0.05
A37: Subtotal costos Administración
A38: Costo directo de obra
A39: Porcentaje Administración
A40: Imprevistos
A41: Utilidad
A42: SUBTOTAL A.I.U
...

Sheet Formulario 7
A2: SECRETARÍA DE SUMINISTROS Y SERVICIOS
A3: SELECCIÓN ABREVIADA No 0009014680
A4: ='Formulario 1'!A5:J5 -> REALIZAR LABORES DE CERRAMIENTO DE LOTE Y RENOVACIÓN CUNETAS EN LA ESCOMBRERA, UBICADO EN SAN JAVIER EN LA CALLE 043 BB 120 B 391 (0130)
A5: Formulario No. 7
A6: INVERSIÓN AMBIENTAL
A8: DESCRIPCION | B8: UN | C8: CANT | D8: V. UNIT. | E8: V. TOTAL
A9: GESTIÓN AMBIENTAL
A10: Manejo de Residuos Sólidos
A11: Canecas de 5 galones (para distribuir en los diferentes frentes de obra) | B11: un | C11: 2 | E11: =C11*D11 -> 0
A12: Almacenamiento adecuado de materiales de construcción
A13: Teleras 1,40 x 0,70 m | B13: un | C13: 10 | E13: =C13*D13 -> 0
A14: Plástico negro calibre 4, ancho 3 m. | B14: ml | C14: 20 | E14: =C14*D14 -> 0
A15: Control de emisones atmosféricas
A16: Manguera de agua para tráfio pesado (200 Psi), de 50 mts de longitud | B16: un | C16: 1 | E16: =C16*D16 -> 0
A17: Manejo del Recurso Hídrico
A18: Larguero de madera común para soporte de cerramiento de 2"x2" x 3m | B18: un | C18: 40 | E18: =C18*D18 -> 0
A19: Tela para cerramiento verde -Sarán (Rollo de 100 m x 2,10 m) | B19: rollo | C19: 1 | E19: =C19*D19 -> 0
A20: Señalización vial y desvios
A21: Señales informativas según manual de señalización vial, 0,60 x 1,20 m móvil* | B21: un | C21: 3 | E21: =C21*D21 -> 0
A22: SEGURIDAD Y SALUD EN EL TRABAJO
A23: Camilla rigida 180 mts x 0.45 mts* | B23: un | C23: 1 | E23: =C23*D23 -> 0
A24: Extintor multipropósito (ABC), capacidad 10 LB | B24: un | C24: 1 | E24: =C24*D24 -> 0
A25: Botiquín de primeros auxilios tipo B ref 120, con alcohol, termometro y guantes desechables | B25: un | C25: 1 | E25: =C25*D25 -> 0
A26: Demarcación del área de trabajos
A27: Cinta señalización peligro de 0,07 x 50 m | B27: rollo | C27: 3 | E27: =C27*D27 -> 0
A28: Transporte de personal, Materiales y Equipos
A29: Lona para vehículo (volqueta o camión) de 1,50 x 0,80 m, impresión injekt resistente a la intemperie | B29: un | C29: 1 | E29: =C29*D29 -> 0
A30: Elementos de Protección Identificación
A31: Chalecos para residente | B31: un | C31: 3 | E31: =C31*D31 -> 0
A32: Casco industrial liviano blanco | B32: un | C32: 3 | E32: =C32*D32 -> 0
A33: Elementos de protección personal (Guantes de nitrilo+tapabocas tela antifluido, gafas con protección lateral) | B33: un | C33: 3 | E33: =C33*D33 -> 0
A34: TOTAL INVERSIÓN AMBIENTAL | E34: =SUM(E11:E33) -> 0
A35: Nota
A36: 1. Dentro del Factor Prestacional debe incluirse la dotación contemplada por la ley y los elementos de Protección Personal -EPP según la naturaleza del riesgo al que este sometido el trabajador.
A37: 2. Para implementos nuevos no reintegrables se reconocerá un porcentaje de su valor comercial
A38: 3. El personal socioambiental (Residente Ambiental) esta cargado dentro del personal administrativo de la obra
A39: 4. El valor por implementación del presupuesto de Inversión Ambiental se pagará como un gasto reembolsable únicamente contra la presentación de las respectivas facturas, toda vez que se trata de un gasto que no se incluye dentro del cálculo del AIU.
A40: 5. El proponente deberá diligenciar este formulario teniendo en cuenta que el CONTENIDO MINIMO del mismo será el correspondiente al formato oficial, so pena del rechazo de su propuesta; no obstante, el oferente, según su propio análisis, podrá aumentar las cantidades sin que obtenga pago adicional por ello. El hecho de que el contratista no estipule en su oferta el valor de la implementación del presupuesto de Inversión Ambiental, no lo exime del cumplimiento de la legislación vigente que le sea aplicable y no podrá solicitar pago adicional alguno por este concepto, pues todo quedará cubierto con lo que cotizó en los costos indirectos.
A46: ____________________________________________ | C46: ___________________________________
A47: Nombre del Proponente: | C47: Firma representante legal

Sheet Formulario 8
A7: SECRETARÍA DE SUMINISTROS Y SERVICIOS
A8: SELECCIÓN ABREVIADA No 0009014680
A10: ='Formulario 1'!A5:J5 -> REALIZAR LABORES DE CERRAMIENTO DE LOTE Y RENOVACIÓN CUNETAS EN LA ESCOMBRERA, UBICADO EN SAN JAVIER EN LA CALLE 043 BB 120 B 391 (0130)
A13: Formulario No. 8
A14: INFORMACIÓN FINANCIERA EXTRANJEROS
A16: INFORMACIÓN FINANCIERA CON LA ÚLTIMA FECHA DE CORTE DEL PAÍS CORRESPONDIENTE
A18: Oferente:
A20: Resumen de cuentas de Balance General y Estado de Resultados que sean necesarias para verificar los requisitos habilitantes de capacidad financiera y organizacional
B22: Oferente singular | C22: Consorcio o Unión Temporal
A23: Cuenta | B23: (Valores en pesos colombianos) | C23: Integrante N.1 (Valores en pesos colombianos) | D23: Integrante N.2 (Valores en pesos colombianos) | E23: Integrante N.3 (Valores en pesos colombianos)
A24: BALANCE GENERAL
A25: Efectivo
A26: Activo Corriente
A27: Activo Total
A28: Pasivo Corriente
A29: Pasivo Total
A30: Patrimonio
A31: ESTADO DE RESULTADOS
A32: Utilidad Operacional
A33: Gastos de Intereses
A34: Mayor ingreso operacional en los últimos cinco (5) años anteriores a la fecha de corte
A36: ________________________________
... A45: T.P

Sheet Formulario 9
A2: SECRETARÍA DE SUMINISTROS Y SERVICIOS
A3: SELECCIÓN ABREVIADA No 0009014680
A5: ='Formulario 1'!A5:J5 -> REALIZAR LABORES DE CERRAMIENTO DE LOTE Y RENOVACIÓN CUNETAS EN LA ESCOMBRERA, UBICADO EN SAN JAVIER EN LA CALLE 043 BB 120 B 391 (0130)
A7: Formulario No. 9
A8: FACTOR PRESTACIONAL
A10: SALARIO BÁSICO
A11: Prima
A12: Cesantías
A13: Interés a las cesantías
A14: Vacaciones
A15: Salud (EPS) *
A16: Pensiones (AFP)
A17: Caja de Compensación
A18: Sena *
A19: ICBF *
... A31: Firma representante legal

Sheet Formulario 10
A2: SECRETARÍA DE SUMINISTROS Y SERVICIOS
A4: SELECCIÓN ABREVIADA No 0009014680
A5: ='Formulario 1'!A5:J5 -> REALIZAR LABORES DE CERRAMIENTO DE LOTE Y RENOVACIÓN CUNETAS EN LA ESCOMBRERA, UBICADO EN SAN JAVIER EN LA CALLE 043 BB 120 B 391 (0130)
A6: FORMULARIO No.10
A7: CONSTANCIA DE COMPROMISO PERSONAL
A9: Nombre :
A10: Cédula:
A11: Cargo:
A12: Título Universitario:
A13: No.Tarjeta Profesional
A14: Fecha Expedición Tarjeta Profesional
A15: Postgrados
A16: Teléfono:
A17: Email:
A18: EXPERIENCIA. 1. Relacionar los contratos o proyectos con los que acredita el cumplimiento de los requisitos establecidos en el pliego para la evaluación de la experiencia. 2. Se deben relacionar máximo, el número de contratos establecidos en el pliego para la asignación de puntaje del profesional, no se tendrán en cuenta los contratos que excedan el número máximo de contratos permitidos y, la evaluación se realizara teniendo en cuenta el estricto orden en el que son relacionados en el presente Formulario.
A19: No. | B19: ENTIDAD CONTRATANTE | C19: ENTIDAD CONTRATISTA | D19: CONTRATO O PROYECTO
A25: Con la suscripción del presente documento, me comprometo a prestar mis servicios en el cargo arriba indicado, al proponente:_________________________ ,dentro del proceso de contratación N°_______ de ___________ cuyo objeto es ___________________________________
A26: Así mismo autorizo al proponente a presentar y utilizar mi hoja de vida en este proceso.
A29: FIRMA
A30: CEDULA
A32: *Si para diligenciar este documento requiere varias hojas por favor firmar todas.

Sheet Formulario 11
A6: SECRETARÍA DE SUMINISTROS Y SERVICIOS
A7: SELECCIÓN ABREVIADA No 0009014680
A8: Realizar labores de cerramiento de lote y renovación cunetas en la Escombrera, ubicado en San Javier en la Calle 043 BB 120 B 391 0130.
A11: FORMULARIO No. 11
A12: EQUIPO DE TRABAJO OFRECIDO (REQUISITO HABILITANTE)
A14: NOMBRE | B14: PROFESIÓN | C14: CARGO A DESEMPEÑAR EN EL PROYECTO
A27: Nombre del Proponente: | C27: Firma representante legal
