Workbook
Name \A: #REF!
Name \L: #REF!
Name \P: #REF!
Name \s: #REF!
Name _______________AFC1: [1]INV!$A$25:$D$28
Name _______________AFC3: [1]INV!$F$25:$I$28
Name _______________AFC5: [1]INV!$K$25:$N$28
Name _______________BGC1: [1]INV!$A$5:$D$8
Name _______________BGC3: [1]INV!$F$5:$I$8
Name _______________BGC5: [1]INV!$K$5:$N$8
Name _______________CAC1: [1]INV!$A$19:$D$22
Name _______________CAC3: [1]INV!$F$19:$I$22
Name _______________CAC5: [1]INV!$K$19:$N$22
Name _______________oa55: #REF!
Name _______________SBC1: [1]INV!$A$12:$D$15
Name _______________SBC3: [1]INV!$F$12:$I$15
Name _______________SBC5: [1]INV!$K$12:$N$15
Name ______________AFC1: [1]INV!$A$25:$D$28
Name ______________AFC3: [1]INV!$F$25:$I$28
Name ______________AFC5: [1]INV!$K$25:$N$28
Name ______________BGC1: [1]INV!$A$5:$D$8
Name ______________BGC3: [1]INV!$F$5:$I$8
Name ______________BGC5: [1]INV!$K$5:$N$8
Name ______________CAC1: [1]INV!$A$19:$D$22
Name ______________CAC3: [1]INV!$F$19:$I$22
Name ______________CAC5: [1]INV!$K$19:$N$22
Name ______________oa55: #REF!
Name ______________SBC1: [1]INV!$A$12:$D$15
Name ______________SBC3: [1]INV!$F$12:$I$15
Name ______________SBC5: [1]INV!$K$12:$N$15
Name _____________AFC1: [1]INV!$A$25:$D$28
Name _____________AFC3: [1]INV!$F$25:$I$28
Name _____________AFC5: [1]INV!$K$25:$N$28
Name _____________BGC1: [1]INV!$A$5:$D$8
Name _____________BGC3: [1]INV!$F$5:$I$8
Name _____________BGC5: [1]INV!$K$5:$N$8
Name _____________CAC1: [1]INV!$A$19:$D$22
Name _____________CAC3: [1]INV!$F$19:$I$22
Name _____________CAC5: [1]INV!$K$19:$N$22
Name _____________oa55: #REF!
Name _____________SBC1: [1]INV!$A$12:$D$15
Name _____________SBC3: [1]INV!$F$12:$I$15
Name _____________SBC5: [1]INV!$K$12:$N$15
Name ____________AFC1: [1]INV!$A$25:$D$28
Name ____________AFC3: [1]INV!$F$25:$I$28
Name ____________AFC5: [1]INV!$K$25:$N$28
Name ____________BGC1: [1]INV!$A$5:$D$8
Name ____________BGC3: [1]INV!$F$5:$I$8
Name ____________BGC5: [1]INV!$K$5:$N$8
Name ____________CAC1: [1]INV!$A$19:$D$22
Name ____________CAC3: [1]INV!$F$19:$I$22
Name ____________CAC5: [1]INV!$K$19:$N$22
Name ____________oa55: #REF!
Name ____________PJ50: #REF!
Name ____________SBC1: [1]INV!$A$12:$D$15
Name ____________SBC3: [1]INV!$F$12:$I$15
Name ____________SBC5: [1]INV!$K$12:$N$15
Name ___________AFC1: [1]INV!$A$25:$D$28
Name ___________AFC3: [1]INV!$F$25:$I$28
Name ___________AFC5: [1]INV!$K$25:$N$28

Sheet PROPUESTA ECONOMICA 
B2: INSTITUTO NACIONAL DE VIAS
B3: DIRECCION TERRITORIAL META
B4: SELECCIÓN ABREVIADA
B5: IP-DT-MET-007-2022
B6: MEJORAMIENTO DEL TRAMO 65MTE PUENTE GUATIQUIA - LOS CABALLOS, TERRITORIAL META
B7: PROPUESTA ECONOMICA
B10: Nº | C10: ITEM DE PAGO | D10: ESPECIFICACIÓN | F10: DESCRIPCIÓN | G10: UNIDAD | H10: CANTIDAD | I10: PRECIO UNITARIO | J10: VALOR TOTAL
D11: GENERAL | E11: PARTICULAR
B12: 1 | C12: 201.7 | D12: 201 | F12: DEMOLICIÓN DE ESTRUCTURAS | G12: m3 | H12: 12
B13: 2 | C13: 600.2.3 | D13: 600 | F13: EXCAVACIONES VARIAS EN MATERIAL COMUN EN SECO | G13: m3 | H13: 65
B14: 3 | C14: 610.2 | D14: 610 | F14: RELLENOS PARA ESTRUCTURAS CON RECEBO. | G14: m3 | H14: 64
B15: 4 | C15: 630.4.1 | D15: 630 | F15: CONCRETO RESISTENCIA 21MPA (D) | G15: m3 | H15: 54.4
B16: 5 | C16: 630.6 | D16: 630 | F16: CONCRETO RESISTENCIA 14MPA (F) | G16: m3 | H16: 12
B17: 6 | C17: 640.1 | D17: 640 | F17: ACERO DE REFUERZO FY 4200 MPA. | G17: kg | H17: 1460
B18: 7 | C18: 640.2 | D18: 640 | F18: MALLA DE REFUERZO FY 4200 MPA. | G18: kg | H18: 210
B19: 8 | C19: 661.2 | D19: 660 | F19: TUBERIA DE CONCRETO REFORZADO, CLASE II DE 900mm DE DIAMETRO INTERIOR | G19: m | H19: 16
B20: 9 | C20: 900.2.1 | D20: 900 | F20: TRANSPORTE DE MATERIALES PROVENIENTES DE LA EXCAVACIÓN DE LA EXPLANACIÓN, CANALES Y PRÉSTAMOS PARA DISTANCIAS MAYORES DE MIL METROS (1.000 M) MEDIDOS A PARTIR DE CIEN METROS (100 M). | G20: m3/km | H20: 501.5
B21: SUBTOTAL COSTOS BÁSICOS OBRA = (A)
F22: VALOR BÁSICO DE OBRAS
F23: VALOR IVA (OBRA) (19% SOBRE UTILIDAD OBRA)
F24: VALOR TOTAL
B26: VALOR TOTAL EN LETRAS: | E26: CIENTO CINCUENTA MILLONES DE PESOS MONEDA CORRIENTE
B27: NOTA 1:El control de tráfico temporal (controladores de trafico) y la señalización provisional necesarios para la ejecución de las obras será por cuenta y riesgo del contratista. | G27: DESCRIPCION | J27: PORCENTAJE
B28: NOTA 2: Se debe tener en cuenta que el PRECIO UNITARIO incluye el valor de A.I.U. | G28: ADMINISTRACION | I28: A=
B29: NOTA 3: El A.I.U y su discriminación deben estar en porcentaje (%). | G29: IMPREVISTO | I29: I=
B30: NOTA 4: Cuando la fracción decimal del peso sea igual o superior a 5 se aproximara por exceso al número entero siguiente del peso y cuando la fracción decimal del peso sea inferior a 5 se aproximará por defecto al número entero del peso. | G30: UTILIDAD | I30: U=
B31: NOTA 5: El CONTRATISTA dará estricto cumplimiento de los Protocolos de Bioseguridad, así como del Decreto 531 de 2020, la Resolución 666 de 2020, la Resolución 679 de 2020, la Resolución 312 de 2019, y la Resolución 1443 de 2014. | G31: TOTAL A.I.U | I31: A.I.U.=
B32: NOTA 6: Los valores que aparecen fijos e inmodificables no podrán alterarse, de lo contrario, será causal de rechazo de la propuesta que hace parte integral del presente proceso, conforme el literal O, del numeral 1.15 del pliego de condiciones.

Sheet PPTO
B2: INSTITUTO NACIONAL DE VIAS
B3: DIRECCION TERRITORIAL META
B4: SELECCIÓN ABREVIADA
B5: IP-DT-MET-009-2022
B6: MEJORAMIENTO DEL TRAMO 65MTE PUENTE GUATIQUIA - LOS CABALLOS, TERRITORIAL META
B7: PRESUPUESTO OFICIAL
B8: FORMULARIO 1
B10: Nº | C10: ITEM DE PAGO | D10: ESPECIFICACIÓN | F10: DESCRIPCIÓN | G10: UNIDAD | H10: CANTIDAD | I10: PRECIO UNITARIO | J10: VALOR TOTAL
D11: GENERAL | E11: PARTICULAR
B12: 1 | C12: 201.7 | D12: 201 | F12: DEMOLICIÓN DE ESTRUCTURAS | G12: m3 | H12: 12 | I12: =+'201.7'!N110 -> 207962 | J12: =+H12*I12 -> 2495544
B13: 2 | C13: 600.2.3 | D13: 600 | F13: EXCAVACIONES VARIAS EN MATERIAL COMUN EN SECO | G13: m3 | H13: 65 | I13: =+'600.2.3'!N110 -> 25453 | J13: =+H13*I13 -> 1654445
B14: 3 | C14: 610.2 | D14: 610 | F14: RELLENOS PARA ESTRUCTURAS CON RECEBO. | G14: m3 | H14: 64 | I14: =+'610.2'!N110 -> 81599 | J14: =+H14*I14 -> 5222336
B15: 4 | C15: 630.4.1 | D15: 630 | F15: CONCRETO RESISTENCIA 21MPA (D) | G15: m3 | H15: 54.4 | I15: =+'630.4.1'!N110 -> 878075 | J15: =+H15*I15 -> 47767280
B16: 5 | C16: 630.6 | D16: 630 | F16: CONCRETO RESISTENCIA 14MPA (F) | G16: m3 | H16: 12 | I16: =+'630.6'!N110 -> 465682 | J16: =+H16*I16 -> 5588184
B17: 6 | C17: 640.1 | D17: 640 | F17: ACERO DE REFUERZO FY 4200 MPA. | G17: kg | H17: 1460 | I17: =+'640.1'!N110 -> 8072 | J17: =+H17*I17 -> 11785120
B18: 7 | C18: 640.2 | D18: 640 | F18: MALLA DE REFUERZO FY 4200 MPA. | G18: kg | H18: 210 | I18: =+'640.2'!N110 -> 7493 | J18: =+H18*I18 -> 1573530
B19: 8 | C19: 661.2 | D19: 660 | F19: TUBERIA DE CONCRETO REFORZADO, CLASE II DE 900mm DE DIAMETRO INTERIOR | G19: m | H19: 16 | I19: =+'661.2'!N110 -> 861977 | J19: =+H19*I19 -> 13791632
B20: 9 | C20: 900.2.1 | D20: 900 | F20: TRANSPORTE DE MATERIALES PROVENIENTES DE LA EXCAVACIÓN DE LA EXPLANACIÓN, CANALES Y PRÉSTAMOS PARA DISTANCIAS MAYORES DE MIL METROS (1.000 M) MEDIDOS A PARTIR DE CIEN METROS (100 M). | G20: m3/km | H20: 501.5 | I20: =+'900.2.1'!N110 -> 1054 | J20: =+H20*I20 -> 528581
B21: SUBTOTAL COSTOS BÁSICOS OBRA = (A) | J21: =SUM(J12:J20) -> 90406652
F22: VALOR BÁSICO DE OBRAS | J22: =+J21 -> 90406652
F23: VALOR IVA (OBRA) (19% SOBRE UTILIDAD OBRA) | J23: =+(+J21/(1+J31)*J30*0.19) -> 660664
F24: VALOR TOTAL | J24: =+J23+J22 -> 91067316
B26: VALOR TOTAL EN LETRAS: | E26: CIENTO CINCUENTA MILLONES DE PESOS MONEDA CORRIENTE
B27: NOTA 1:El control de tráfico temporal (controladores de trafico) y la señalización provisional necesarios para la ejecución de las obras será por cuenta y riesgo del contratista. | G27: DESCRIPCION | J27: PORCENTAJE
B28: NOTA 2: Se debe tener en cuenta que el PRECIO UNITARIO incluye el valor de A.I.U. | G28: ADMINISTRACION | I28: A= | J28: 0.2
B29: NOTA 3: El A.I.U y su discriminación deben estar en porcentaje (%). | G29: IMPREVISTO | I29: I= | J29: 0.05
B30: NOTA 4: Cuando la fracción decimal del peso sea igual o superior a 5 se aproximara por exceso al número entero siguiente del peso y cuando la fracción decimal del peso sea inferior a 5 se aproximará por defecto al número entero del peso. | G30: UTILIDAD | I30: U= | J30: 0.05
B31: NOTA 5: El CONTRATISTA dará estricto cumplimiento de los Protocolos de Bioseguridad, así como del Decreto 531 de 2020, la Resolución 666 de 2020, la Resolución 679 de 2020, la Resolución 312 de 2019, y la Resolución 1443 de 2014. | G31: TOTAL A.I.U | I31: A.I.U.= | J31: =SUM(J28:J30) -> 0.3
B32: NOTA 6: Los valores que aparecen fijos e inmodificables no podrán alterarse, de lo contrario, será causal de rechazo de la propuesta que hace parte integral del presente proceso, conforme el literal O, del numeral 1.15 del pliego de condiciones.

Sheet 201.7
K1: CÓDIGO | L1: FR-APU-1
C2: INSTITUTO NACIONAL DE VIAS
C3: ANÁLISIS DE PRECIOS UNITARIOS DE REFERENCIA REGIONALIZADOS | K3: VERSIÓN | L3: 2021
C5: ACTUALIZACIÓN PERIÓDICA | K5: PÁGINA
K8: FECHA
L9: (Día) | M9: (Mes) | N9: (Año)
B10: ÍTEM BASE DE APU DE REFERENCIA: | E10: ⊠ | F10: PUBLICACIÓN: | H10: 2022-1 JUNIO 2022
B12: ÍTEM DE PROYECTO PARTICULAR:
B13: ÍTEM DE LA PROPUESTA ECONÓMICA: | E13: □ | H13: ÍTEM NO PREVISTO: | J13: □ | K13: ÍTEM APU PARTICULAR: | M13: □
B14: UNIDAD EJECUTORA: | J14: DIRECCIÓN TERRITORIAL:
B17: CONTRATO No. | D17: FECHA:
B18: OBJETO DEL CONTRATO:
B21: CARRETERA: | J21: SECTOR:
B23: CONTRATISTA:
B25: INTERVENTOR: | K25: CONTRATO No. | M25: FECHA: | N25: ______________
B27: FECHA DE CIERRE DEL PROCESO DE SELECCIÓN DEL CONTRATO: | I27: / | J27: /
F28: (Día) | H28: (Día) | I28: (Mes) | J28: (Año)
B30: DATOS ESPECÍFICOS
B32: ÍTEM | C32: DESCRIPCIÓN | J32: GRUPO DE AJUSTE | L32: UNIDAD | N32: CANTIDAD
B33: 201.7 | C33: DEMOLICIÓN DE ESTRUCTURAS | L33: m3
B35: I. EQUIPO
B37: CÓDIGO | C37: DESCRIPCIÓN | J37: TIPO | K37: TARIFA/HORA | L37: RENDIMIENTO | N37: Vr. UNITARIO
B38: C0010790 | C38: Retroexcavadora sobre oruga, potencia 138 HP, balde de 1,5 m3. | K38: 229299.55 | L38: 2.5 | N38: =K38/L38 -> 91719.819
B39: C0010270 | C39: Compresor 120 HP, con martillo. | K39: 97539.004 | L39: 2.5 | N39: =K39/L39 -> 39015.602
B40: C0010330 | C40: Equipo de oxicorte, Capacidad de corte: hasta 6´´ (152mm) | K40: 10375.829 | L40: 2.5 | N40: =K40/L40 -> 4150.3315
N41: =K41*L41 -> 0
N42: =K42*L42 -> 0
N43: =K43*L43 -> 0
N44: =K44*L44 -> 0
N45: =K45*L45 -> 0
N46: =K46*L46 -> 0
N47: =K47*L47 -> 0
N48: =K48*L48 -> 0
N49: =K49*L49 -> 0
N50: =K50*L50 -> 0
N51: =K51*L51 -> 0
C52: HERRAMIENTA MENOR (%) | L52: 0.05 | N52: =L52*N98 -> 854.97717
B53: SUBTOTAL $ | N53: =SUM(N38:N52) -> 135740.73
B55: II. MATERIALES
B57: CÓDIGO | C57: DESCRIPCIÓN | J57: UNIDAD | K57: CANTIDAD | L57: PRECIO UNIT. | N57: Vr. UNITARIO
...

Sheet 600.2.3
K1: CÓDIGO | L1: FR-APU-1
C2: INSTITUTO NACIONAL DE VIAS
C3: ANÁLISIS DE PRECIOS UNITARIOS DE REFERENCIA REGIONALIZADOS | K3: VERSIÓN | L3: 2021
C5: ACTUALIZACIÓN PERIÓDICA | K5: PÁGINA
K8: FECHA
L9: (Día) | M9: (Mes) | N9: (Año)
B10: ÍTEM BASE DE APU DE REFERENCIA: | E10: ⊠ | F10: PUBLICACIÓN: | H10: 2022-1 JUNIO 2022
B12: ÍTEM DE PROYECTO PARTICULAR:
B13: ÍTEM DE LA PROPUESTA ECONÓMICA: | E13: □ | H13: ÍTEM NO PREVISTO: | J13: □ | K13: ÍTEM APU PARTICULAR: | M13: □
B14: UNIDAD EJECUTORA: | J14: DIRECCIÓN TERRITORIAL:
B17: CONTRATO No. | D17: FECHA:
B18: OBJETO DEL CONTRATO:
B21: CARRETERA: | J21: SECTOR:
B23: CONTRATISTA:
B25: INTERVENTOR: | K25: CONTRATO No. | M25: FECHA: | N25: ______________
B27: FECHA DE CIERRE DEL PROCESO DE SELECCIÓN DEL CONTRATO: | I27: / | J27: /
F28: (Día) | H28: (Día) | I28: (Mes) | J28: (Año)
B30: DATOS ESPECÍFICOS
B32: ÍTEM | C32: DESCRIPCIÓN | J32: GRUPO DE AJUSTE | L32: UNIDAD | N32: CANTIDAD
B33: 600.2.3 | C33: EXCAVACIONES VARIAS EN MATERIAL COMUN EN SECO | L33: m3
B35: I. EQUIPO
B37: CÓDIGO | C37: DESCRIPCIÓN | J37: TIPO | K37: TARIFA/HORA | L37: RENDIMIENTO | N37: Vr. UNITARIO
B38: C0010052 | C38: Buldozer, Potencia al volante de 140 HP, motor de 2200 RPM, longitud de hoja 4,80m. | K38: 242402.38 | L38: 100 | N38: =K38/L38 -> 2424.0238
B39: C0010790 | C39: Retroexcavadora sobre oruga, potencia 138 HP, balde de 1,5 m3. | K39: 229299.55 | L39: 35 | N39: =K39/L39 -> 6551.4157
N40: =K40*L40 -> 0
N41: =K41*L41 -> 0
N42: =K42*L42 -> 0
N43: =K43*L43 -> 0
N44: =K44*L44 -> 0
N45: =K45*L45 -> 0
N46: =K46*L46 -> 0
N47: =K47*L47 -> 0
N48: =K48*L48 -> 0
N49: =K49*L49 -> 0
N50: =K50*L50 -> 0
N51: =K51*L51 -> 0
C52: HERRAMIENTA MENOR (%) | L52: 0.01 | N52: =L52*N98 -> 9.6152454
B53: SUBTOTAL $ | N53: =SUM(N38:N52) -> 8985.0547
B55: II. MATERIALES
B57: CÓDIGO | C57: DESCRIPCIÓN | J57: UNIDAD | K57: CANTIDAD | L57: PRECIO UNIT. | N57: Vr. UNITARIO
...

Sheet 610.2
K1: CÓDIGO | L1: FR-APU-1
C2: INSTITUTO NACIONAL DE VIAS
C3: ANÁLISIS DE PRECIOS UNITARIOS DE REFERENCIA REGIONALIZADOS | K3: VERSIÓN | L3: 2021
C5: ACTUALIZACIÓN PERIÓDICA | K5: PÁGINA
K8: FECHA
L9: (Día) | M9: (Mes) | N9: (Año)
B10: ÍTEM BASE DE APU DE REFERENCIA: | E10: ⊠ | F10: PUBLICACIÓN: | H10: 2022-1 JUNIO 2022
B12: ÍTEM DE PROYECTO PARTICULAR:
B13: ÍTEM DE LA PROPUESTA ECONÓMICA: | E13: □ | H13: ÍTEM NO PREVISTO: | J13: □ | K13: ÍTEM APU PARTICULAR: | M13: □
B14: UNIDAD EJECUTORA: | J14: DIRECCIÓN TERRITORIAL:
B17: CONTRATO No. | D17: FECHA:
B18: OBJETO DEL CONTRATO:
B21: CARRETERA: | J21: SECTOR:
B23: CONTRATISTA:
B25: INTERVENTOR: | K25: CONTRATO No. | M25: FECHA: | N25: ______________
B27: FECHA DE CIERRE DEL PROCESO DE SELECCIÓN DEL CONTRATO: | I27: / | J27: /
F28: (Día) | H28: (Día) | I28: (Mes) | J28: (Año)
B30: DATOS ESPECÍFICOS
B32: ÍTEM | C32: DESCRIPCIÓN | J32: GRUPO DE AJUSTE | L32: UNIDAD | N32: CANTIDAD
B33: 610.2 | C33: RELLENO PARA ESTRUCTURAS CON RECEBO | L33: m3
B35: I. EQUIPO
B37: CÓDIGO | C37: DESCRIPCIÓN | J37: TIPO | K37: TARIFA/HORA | L37: RENDIMIENTO | N37: Vr. UNITARIO
B38: C0010200 | C38: Compactador manual (saltarín) peso de operación (kg.) 52, fuerza de impacto por golpe (KN) 12 | K38: =VLOOKUP(B38,[46]EQUIPOS!$C$6:$G$137,5,0) -> 8942.3664 | L38: =1/2.737 -> 0.36536354 | N38: =K38*L38 -> 3267.2146
N39: =K39*L39 -> 0
N40: =K40*L40 -> 0
N41: =K41*L41 -> 0
N42: =K42*L42 -> 0
N43: =K43*L43 -> 0
N44: =K44*L44 -> 0
N45: =K45*L45 -> 0
N46: =K46*L46 -> 0
N47: =K47*L47 -> 0
N48: =K48*L48 -> 0
N49: =K49*L49 -> 0
N50: =K50*L50 -> 0
N51: =K51*L51 -> 0
C52: HERRAMIENTA MENOR (%) | L52: 0.05 | N52: =L52*N98 -> 519.74294
B53: SUBTOTAL $ | N53: =SUM(N38:N52) -> 3786.9576
B55: II. MATERIALES
B57: CÓDIGO | C57: DESCRIPCIÓN | J57: UNIDAD | K57: CANTIDAD | L57: PRECIO UNIT. | N57: Vr. UNITARIO
...

Sheet 630.4.1
K1: CÓDIGO | L1: FR-APU-1
C2: INSTITUTO NACIONAL DE VIAS
C3: ANÁLISIS DE PRECIOS UNITARIOS DE REFERENCIA REGIONALIZADOS | K3: VERSIÓN | L3: 2021
C5: ACTUALIZACIÓN PERIÓDICA | K5: PÁGINA
K8: FECHA
L9: (Día) | M9: (Mes) | N9: (Año)
B10: ÍTEM BASE DE APU DE REFERENCIA: | E10: ⊠ | F10: PUBLICACIÓN: | H10: 2022-1 JUNIO 2022
B12: ÍTEM DE PROYECTO PARTICULAR:
B13: ÍTEM DE LA PROPUESTA ECONÓMICA: | E13: □ | H13: ÍTEM NO PREVISTO: | J13: □ | K13: ÍTEM APU PARTICULAR: | M13: □
B14: UNIDAD EJECUTORA: | J14: DIRECCIÓN TERRITORIAL:
B17: CONTRATO No. | D17: FECHA:
B18: OBJETO DEL CONTRATO:
B21: CARRETERA: | J21: SECTOR:
B23: CONTRATISTA:
B25: INTERVENTOR: | K25: CONTRATO No. | M25: FECHA: | N25: ______________
B27: FECHA DE CIERRE DEL PROCESO DE SELECCIÓN DEL CONTRATO: | I27: / | J27: /
F28: (Día) | H28: (Día) | I28: (Mes) | J28: (Año)
B30: DATOS ESPECÍFICOS
B32: ÍTEM | C32: DESCRIPCIÓN | J32: GRUPO DE AJUSTE | L32: UNIDAD | N32: CANTIDAD
B33: 630.4.1 | C33: CONCRETO RESISTENCIA 21MPa (D) - MEZCLA IN SITU | L33: m3
B35: I. EQUIPO
B37: CÓDIGO | C37: DESCRIPCIÓN | J37: TIPO | K37: TARIFA/HORA | L37: RENDIMIENTO | N37: Vr. UNITARIO
B38: C0010010 | C38: Aspersor manual de 20 litros | K38: =VLOOKUP(B38,[46]EQUIPOS!$C$6:$G$137,5,0) -> 3261.3336 | L38: 1 | N38: =K38*L38 -> 3261.3336
B39: C0010922 | C39: Vibrador de concreto, potencia aproximada de 3 hp, mangueras de 4 a 6 metros | K39: =VLOOKUP(B39,[46]EQUIPOS!$C$6:$G$137,5,0) -> 8942.3664 | L39: 1 | N39: =K39*L39 -> 8942.3664
B40: C0010665 | C40: Planta dosificadora (mezcladora) de concreto | K40: =VLOOKUP(B40,[46]EQUIPOS!$C$6:$G$137,5,0) -> 140793.57 | L40: 1 | N40: =K40*L40 -> 140793.57
N41: =K41*L41 -> 0
N42: =K42*L42 -> 0
N43: =K43*L43 -> 0
N44: =K44*L44 -> 0
N45: =K45*L45 -> 0
N46: =K46*L46 -> 0
N47: =K47*L47 -> 0
N48: =K48*L48 -> 0
N49: =K49*L49 -> 0
N50: =K50*L50 -> 0
N51: =K51*L51 -> 0
C52: HERRAMIENTA MENOR (%) | L52: 0.05 | N52: =L52*N98 -> 4411.3187
B53: SUBTOTAL $ | N53: =SUM(N38:N52) -> 157408.58
B55: II. MATERIALES
B57: CÓDIGO | C57: DESCRIPCIÓN | J57: UNIDAD | K57: CANTIDAD | L57: PRECIO UNIT. | N57: Vr. UNITARIO
...

Sheet 630.6
K1: CÓDIGO | L1: FR-APU-1
C2: INSTITUTO NACIONAL DE VIAS
C3: ANÁLISIS DE PRECIOS UNITARIOS DE REFERENCIA REGIONALIZADOS | K3: VERSIÓN | L3: 2021
C5: ACTUALIZACIÓN PERIÓDICA | K5: PÁGINA
K8: FECHA
L9: (Día) | M9: (Mes) | N9: (Año)
B10: ÍTEM BASE DE APU DE REFERENCIA: | E10: ⊠ | F10: PUBLICACIÓN: | H10: 2022-1 JUNIO 2022
B12: ÍTEM DE PROYECTO PARTICULAR:
B13: ÍTEM DE LA PROPUESTA ECONÓMICA: | E13: □ | H13: ÍTEM NO PREVISTO: | J13: □ | K13: ÍTEM APU PARTICULAR: | M13: □
B14: UNIDAD EJECUTORA: | J14: DIRECCIÓN TERRITORIAL:
B17: CONTRATO No. | D17: FECHA:
B18: OBJETO DEL CONTRATO:
B21: CARRETERA: | J21: SECTOR:
B23: CONTRATISTA:
B25: INTERVENTOR: | K25: CONTRATO No. | M25: FECHA: | N25: ______________
B27: FECHA DE CIERRE DEL PROCESO DE SELECCIÓN DEL CONTRATO: | I27: / | J27: /
F28: (Día) | H28: (Día) | I28: (Mes) | J28: (Año)
B30: DATOS ESPECÍFICOS
B32: ÍTEM | C32: DESCRIPCIÓN | J32: GRUPO DE AJUSTE | L32: UNIDAD | N32: CANTIDAD
B33: 630.6 | C33: CONCRETO RESISTENCIA 14MPa (F) | L33: m3
B35: I. EQUIPO
B37: CÓDIGO | C37: DESCRIPCIÓN | J37: TIPO | K37: TARIFA/HORA | L37: RENDIMIENTO | N37: Vr. UNITARIO
B38: C0010550 | C38: Mezcladora de concreto tipo trompo | K38: 5559.9075 | L38: =1/1 -> 1 | N38: =K38*L38 -> 5559.9075
N39: =K39*L39 -> 0
N40: =K40*L40 -> 0
N41: =K41*L41 -> 0
N42: =K42*L42 -> 0
N43: =K43*L43 -> 0
N44: =K44*L44 -> 0
N45: =K45*L45 -> 0
N46: =K46*L46 -> 0
N47: =K47*L47 -> 0
N48: =K48*L48 -> 0
N49: =K49*L49 -> 0
N50: =K50*L50 -> 0
N51: =K51*L51 -> 0
C52: HERRAMIENTA MENOR (%) | L52: 0.05 | N52: =L52*N98 -> 3738.5417
B53: SUBTOTAL $ | N53: =SUM(N38:N52) -> 9298.4491
B55: II. MATERIALES
B57: CÓDIGO | C57: DESCRIPCIÓN | J57: UNIDAD | K57: CANTIDAD | L57: PRECIO UNIT. | N57: Vr. UNITARIO
...

Sheet 640.1
K1: CÓDIGO | L1: FR-APU-1
C2: INSTITUTO NACIONAL DE VIAS
C3: ANÁLISIS DE PRECIOS UNITARIOS DE REFERENCIA REGIONALIZADOS | K3: VERSIÓN | L3: 2021
C5: ACTUALIZACIÓN PERIÓDICA | K5: PÁGINA
K8: FECHA
L9: (Día) | M9: (Mes) | N9: (Año)
B10: ÍTEM BASE DE APU DE REFERENCIA: | E10: ⊠ | F10: PUBLICACIÓN: | H10: 2022-1 JUNIO 2022
B12: ÍTEM DE PROYECTO PARTICULAR:
B13: ÍTEM DE LA PROPUESTA ECONÓMICA: | E13: □ | H13: ÍTEM NO PREVISTO: | J13: □ | K13: ÍTEM APU PARTICULAR: | M13: □
B14: UNIDAD EJECUTORA: | J14: DIRECCIÓN TERRITORIAL:
B17: CONTRATO No. | D17: FECHA:
B18: OBJETO DEL CONTRATO:
B21: CARRETERA: | J21: SECTOR:
B23: CONTRATISTA:
B25: INTERVENTOR: | K25: CONTRATO No. | M25: FECHA: | N25: ______________
B27: FECHA DE CIERRE DEL PROCESO DE SELECCIÓN DEL CONTRATO: | I27: / | J27: /
F28: (Día) | H28: (Día) | I28: (Mes) | J28: (Año)
B30: DATOS ESPECÍFICOS
B32: ÍTEM | C32: DESCRIPCIÓN | J32: GRUPO DE AJUSTE | L32: UNIDAD | N32: CANTIDAD
B33: 640.1 | C33: ACERO DE REFUERZO Fy 4200 MPa | L33: kg
B35: I. EQUIPO
B37: CÓDIGO | C37: DESCRIPCIÓN | J37: TIPO | K37: TARIFA/HORA | L37: RENDIMIENTO | N37: Vr. UNITARIO
B38: C0010170 | C38: Cizalla manual de 90 cm | K38: =VLOOKUP(B38,[46]EQUIPOS!$C$6:$G$137,5,0) -> 1716.9343 | L38: =1/38.125 -> 0.026229508 | N38: =K38*L38 -> 45.034343
N39: =K39*L39 -> 0
N40: =K40*L40 -> 0
N41: =K41*L41 -> 0
N42: =K42*L42 -> 0
N43: =K43*L43 -> 0
N44: =K44*L44 -> 0
N45: =K45*L45 -> 0
N46: =K46*L46 -> 0
N47: =K47*L47 -> 0
N48: =K48*L48 -> 0
N49: =K49*L49 -> 0
N50: =K50*L50 -> 0
N51: =K51*L51 -> 0
C52: HERRAMIENTA MENOR (%) | L52: 0.02 | N52: =L52*N98 -> 12.88281
B53: SUBTOTAL $ | N53: =SUM(N38:N52) -> 57.917153
B55: II. MATERIALES
B57: CÓDIGO | C57: DESCRIPCIÓN | J57: UNIDAD | K57: CANTIDAD | L57: PRECIO UNIT. | N57: Vr. UNITARIO
...

Sheet 640.2
K1: CÓDIGO | L1: FR-APU-1
C2: INSTITUTO NACIONAL DE VIAS
C3: ANÁLISIS DE PRECIOS UNITARIOS DE REFERENCIA REGIONALIZADOS | K3: VERSIÓN | L3: 2021
C5: ACTUALIZACIÓN PERIÓDICA | K5: PÁGINA
K8: FECHA
L9: (Día) | M9: (Mes) | N9: (Año)
B10: ÍTEM BASE DE APU DE REFERENCIA: | E10: ⊠ | F10: PUBLICACIÓN: | H10: 2022-1 JUNIO 2022
B12: ÍTEM DE PROYECTO PARTICULAR:
B13: ÍTEM DE LA PROPUESTA ECONÓMICA: | E13: □ | H13: ÍTEM NO PREVISTO: | J13: □ | K13: ÍTEM APU PARTICULAR: | M13: □
B14: UNIDAD EJECUTORA: | J14: DIRECCIÓN TERRITORIAL:
B17: CONTRATO No. | D17: FECHA:
B18: OBJETO DEL CONTRATO:
B21: CARRETERA: | J21: SECTOR:
B23: CONTRATISTA:
B25: INTERVENTOR: | K25: CONTRATO No. | M25: FECHA: | N25: ______________
B27: FECHA DE CIERRE DEL PROCESO DE SELECCIÓN DEL CONTRATO: | I27: / | J27: /
F28: (Día) | H28: (Día) | I28: (Mes) | J28: (Año)
B30: DATOS ESPECÍFICOS
B32: ÍTEM | C32: DESCRIPCIÓN | J32: GRUPO DE AJUSTE | L32: UNIDAD | N32: CANTIDAD
B33: 640.2 | C33: MALLA DE REFUERZO Fy 4200 MPa | L33: kg
B35: I. EQUIPO
B37: CÓDIGO | C37: DESCRIPCIÓN | J37: TIPO | K37: TARIFA/HORA | L37: RENDIMIENTO | N37: Vr. UNITARIO
B38: C0010170 | C38: Cizalla manual de 90 cm | K38: =VLOOKUP(B38,[46]EQUIPOS!$C$6:$G$137,5,0) -> 1716.9343 | L38: 0.026 | N38: =K38*L38 -> 44.640293
N39: =K39*L39 -> 0
N40: =K40*L40 -> 0
N41: =K41*L41 -> 0
N42: =K42*L42 -> 0
N43: =K43*L43 -> 0
N44: =K44*L44 -> 0
N45: =K45*L45 -> 0
N46: =K46*L46 -> 0
N47: =K47*L47 -> 0
N48: =K48*L48 -> 0
N49: =K49*L49 -> 0
N50: =K50*L50 -> 0
N51: =K51*L51 -> 0
C52: HERRAMIENTA MENOR (%) | L52: 0.02 | N52: =L52*N98 -> 19.646285
B53: SUBTOTAL $ | N53: =SUM(N38:N52) -> 64.286578
B55: II. MATERIALES
B57: CÓDIGO | C57: DESCRIPCIÓN | J57: UNIDAD | K57: CANTIDAD | L57: PRECIO UNIT. | N57: Vr. UNITARIO
...

Sheet 661.2
K1: CÓDIGO | L1: FR-APU-1
C2: INSTITUTO NACIONAL DE VIAS
C3: ANÁLISIS DE PRECIOS UNITARIOS DE REFERENCIA REGIONALIZADOS | K3: VERSIÓN | L3: 2021
C5: ACTUALIZACIÓN PERIÓDICA | K5: PÁGINA
K8: FECHA
L9: (Día) | M9: (Mes) | N9: (Año)
B10: ÍTEM BASE DE APU DE REFERENCIA: | E10: ⊠ | F10: PUBLICACIÓN: | H10: 2022-1 JUNIO 2022
B12: ÍTEM DE PROYECTO PARTICULAR:
B13: ÍTEM DE LA PROPUESTA ECONÓMICA: | E13: □ | H13: ÍTEM NO PREVISTO: | J13: □ | K13: ÍTEM APU PARTICULAR: | M13: □
B14: UNIDAD EJECUTORA: | J14: DIRECCIÓN TERRITORIAL:
B17: CONTRATO No. | D17: FECHA:
B18: OBJETO DEL CONTRATO:
B21: CARRETERA: | J21: SECTOR:
B23: CONTRATISTA:
B25: INTERVENTOR: | K25: CONTRATO No. | M25: FECHA: | N25: ______________
B27: FECHA DE CIERRE DEL PROCESO DE SELECCIÓN DEL CONTRATO: | I27: / | J27: /
F28: (Día) | H28: (Día) | I28: (Mes) | J28: (Año)
B30: DATOS ESPECÍFICOS
B32: ÍTEM | C32: DESCRIPCIÓN | J32: GRUPO DE AJUSTE | L32: UNIDAD | N32: CANTIDAD
B33: 661.2 | C33: TUBERIA DE CONCRETO REFORZADO, CLASE II DE 900mm DE DIAMETRO INTERIOR | L33: m
B35: I. EQUIPO
B37: CÓDIGO | C37: DESCRIPCIÓN | J37: TIPO | K37: TARIFA/HORA | L37: RENDIMIENTO | N37: Vr. UNITARIO
B38: C0010300 | C38: Diferencial de 2 toneladas | K38: 2352.2685 | L38: =1/3 -> 0.33333333 | N38: =K38*L38 -> 784.08951
B39: C0010115 | C39: Camión grúa capacidad 5 toneladas | K39: 80190.973 | L39: =1/3 -> 0.33333333 | N39: =K39*L39 -> 26730.324
N40: =K40*L40 -> 0
N41: =K41*L41 -> 0
N42: =K42*L42 -> 0
N43: =K43*L43 -> 0
N44: =K44*L44 -> 0
N45: =K45*L45 -> 0
N46: =K46*L46 -> 0
N47: =K47*L47 -> 0
N48: =K48*L48 -> 0
N49: =K49*L49 -> 0
N50: =K50*L50 -> 0
N51: =K51*L51 -> 0
C52: HERRAMIENTA MENOR (%) | L52: 0.1 | N52: =L52*N98 -> 2592.2182
B53: SUBTOTAL $ | N53: =SUM(N38:N52) -> 30106.632
B55: II. MATERIALES
B57: CÓDIGO | C57: DESCRIPCIÓN | J57: UNIDAD | K57: CANTIDAD | L57: PRECIO UNIT. | N57: Vr. UNITARIO
...

Sheet 900.2.1
K1: CÓDIGO | L1: FR-APU-1
C2: INSTITUTO NACIONAL DE VIAS
C3: ANÁLISIS DE PRECIOS UNITARIOS DE REFERENCIA REGIONALIZADOS | K3: VERSIÓN | L3: 2021
C5: ACTUALIZACIÓN PERIÓDICA | K5: PÁGINA
K8: FECHA
L9: (Día) | M9: (Mes) | N9: (Año)
B10: ÍTEM BASE DE APU DE REFERENCIA: | E10: ⊠ | F10: PUBLICACIÓN: | H10: 2022-1 JUNIO 2022
B12: ÍTEM DE PROYECTO PARTICULAR:
B13: ÍTEM DE LA PROPUESTA ECONÓMICA: | E13: □ | H13: ÍTEM NO PREVISTO: | J13: □ | K13: ÍTEM APU PARTICULAR: | M13: □
B14: UNIDAD EJECUTORA: | J14: DIRECCIÓN TERRITORIAL:
B17: CONTRATO No. | D17: FECHA:
B18: OBJETO DEL CONTRATO:
B21: CARRETERA: | J21: SECTOR:
B23: CONTRATISTA:
B25: INTERVENTOR: | K25: CONTRATO No. | M25: FECHA: | N25: ______________
B27: FECHA DE CIERRE DEL PROCESO DE SELECCIÓN DEL CONTRATO: | I27: / | J27: /
F28: (Día) | H28: (Día) | I28: (Mes) | J28: (Año)
B30: DATOS ESPECÍFICOS
B32: ÍTEM | C32: DESCRIPCIÓN | J32: GRUPO DE AJUSTE | L32: UNIDAD | N32: CANTIDAD
B33: 900.2.1 | C33: TRANSPORTE DE MATERIALES PROVENIENTES DE LA EXCAVACIÓN DE LA EXPLANACIÓN, CANALES Y PRÉSTAMOS PARA DISTANCIAS MAYORES DE MIL METROS (1.000 m) MEDIDOS A PARTIR DE CIEN METROS (100 m) | L33: m3/km
B35: I. EQUIPO
B37: CÓDIGO | C37: DESCRIPCIÓN | J37: TIPO | K37: TARIFA/HORA | L37: RENDIMIENTO | N37: Vr. UNITARIO
B38: C0010960 | C38: Volqueta 6 m3 | K38: 60000 | L38: =1/74 -> 0.013513514 | N38: =K38*L38 -> 810.81081
N39: =K39*L39 -> 0
N40: =K40*L40 -> 0
N41: =K41*L41 -> 0
N42: =K42*L42 -> 0
N43: =K43*L43 -> 0
N44: =K44*L44 -> 0
N45: =K45*L45 -> 0
N46: =K46*L46 -> 0
N47: =K47*L47 -> 0
N48: =K48*L48 -> 0
N49: =K49*L49 -> 0
N50: =K50*L50 -> 0
N51: =K51*L51 -> 0
B53: SUBTOTAL $ | N53: =SUM(N38:N52) -> 810.81081
B55: II. MATERIALES
B57: CÓDIGO | C57: DESCRIPCIÓN | J57: UNIDAD | K57: CANTIDAD | L57: PRECIO UNIT. | N57: Vr. UNITARIO
N58: =K58*L58 -> 0
...
