Workbook
Name Casi: clasificadores!$E$37
Name Catastrofico: clasificadores!$K$31
Name Improbable: clasificadores!$E$34
Name Insignificante: clasificadores!$G$31
Name Mayor: clasificadores!$J$31
Name Menor: clasificadores!$H$31
Name Moderado: clasificadores!$I$31
Name Posible: clasificadores!$E$35
Name Probable: clasificadores!$E$36
Name Raro: clasificadores!$E$33

Sheet matriz.riesgo
A1: Tabla 1. Analisis de Riesgos.
N3: Impacto después del tratamiento | V3: Monitoreo y Revisión
A4: N° | B4: Clase | C4: Fuente | D4: Etapa | E4: Tipo | F4: Descripción (Qué puede pasar y, cómo puede ocurrir) | G4: Consecuencia de la ocurrencia del evento | H4: Probabilidad | I4: Impacto | J4: Valoración del Riesgo | K4: Categoría | L4: ¿A quién se le asigna? | M4: Tratamiento/Controles a ser implementados | N4: Probabilidad. | O4: Impacto. | P4: Valoración del Riesgo | Q4: Categoría | R4: ¿Afecta la ejecución del contrato? | S4: Persona responsable por implementar el tratamiento | T4: Fecha estimada en que se inicia el tratamiento | U4: Fecha estimada en que se completa el tratamiento | V4: ¿Cómo se realiza el monitoreo? | W4: Periodicidad ¿Cuándo?
A5: 1 | B5: Específico | C5: Externo | D5: Ejecución | E5: Operacionales | F5: Que el contratista Incumpla el desarrollo de las actividades del cronograma aprobado por el supervisor del contrato. | G5: Retrasos en la fecha estimada para la Terminación del Contrato | H5: Probable (Probablemente va a ocurrir) | I5: Mayor | J5: =+IF(AND(H5=Raro,I5=Insignificante),1,IF(AND(H5=Raro,I5=Menor),1,IF(AND(H5=Raro,I5=Moderado),1,IF(AND(H5=Raro,I5=Mayor),5,IF(AND(H5=Raro,I5=Catastrofico),7,IF(AND(H5=Improbable,I5=Insignificante),"1",IF(AND(H5=Improbable,I5=Menor),1,IF(AND(H5=Improbable,I5=Moderado),5,IF(AND(H5=Improbable,I5=Catastrofico),7,IF(AND(H5=Posible,I5=Insignificante),1,IF(AND(H5=Posible,I5=Menor),5,IF(AND(H5=Posible,I5=Moderado),7,IF(AND(H5=Posible,I5=Mayor),7,IF(AND(H5=Posible,I5=Catastrofico),10,IF(AND(H5=Probable,I5=Insignificante),5,IF(AND(H5=Probable,I5=Menor),7,IF(AND(H5=Probable,I5=Moderado),7,IF(AND(H5=Probable,I5=Mayor),10,IF(AND(H5=Probable,I5=Catastrofico),10,IF(AND(H5=Casi,I5=Insignificante),7,IF(AND(H5=Casi,I5=Menor),7,IF(AND(H5=Casi,I5=Moderado),10,IF(AND(H5=Casi,I5=Mayor),10,IF(AND(H5=Casi,I5=Catastrofico),10,0)))))))))))))))))))))))) -> 10 | K5: =+IF(AND(H5=Raro,I5=Insignificante),"Riesgo Bajo",IF(AND(H5=Raro,I5=Menor),"Riesgo Bajo",IF(AND(H5=Raro,I5=Moderado),"Riesgo Bajo",IF(AND(H5=Raro,I5=Mayor),"Riesgo Medio",IF(AND(H5=Raro,I5=Catastrofico),"Riesgo Alto",IF(AND(H5=Improbable,I5=Insignificante),"Riesgo Bajo",IF(AND(H5=Improbable,I5=Menor),"Riesgo Bajo",IF(AND(H5=Improbable,I5=Moderado),"Riesgo Medio",IF(AND(H5=Improbable,I5=Catastrofico),"Riesgo Alto",IF(AND(H5=Posible,I5=Insignificante),"Riesgo Bajo",IF(AND(H5=Posible,I5=Menor),"Riesgo Medio",IF(AND(H5=Posible,I5=Moderado),"Riesgo Alto",IF(AND(H5=Posible,I5=Mayor),"Riesgo Alto",IF(AND(H5=Posible,I5=Catastrofico),"Riesgo Extremo",IF(AND(H5=Probable,I5=Insignificante),"Riesgo Medio",IF(AND(H5=Probable,I5=Menor),"Riesgo Alto",IF(AND(H5=Probable,I5=Moderado),"Riesgo Extremo",IF(AND(H5=Probable,I5=Mayor),"Riesgo Extremo",IF(AND(H5=Probable,I5=Catastrofico),"Riesgo Extremo",IF(AND(H5=Casi,I5=Insignificante),"Riesgo Alto",IF(AND(H5=Casi,I5=Menor),"Riesgo Alto",IF(AND(H5=Casi,I5=Moderado),"Riesgo Extremo",IF(AND(H5=Casi,I5=Mayor),"Riesgo Extremo",IF(AND(H5=Casi,I5=Catastrofico),"Riesgo Extremo",0)))))))))))))))))))))))) -> Riesgo Extremo | L5: Contratista 100% | M5: Reducir probabilidad | N5: Raro (Puede ocurrir excepcionalmente) | O5: Mayor | P5: =+IF(AND(N5=Raro,O5=Insignificante),2,IF(AND(N5=Raro,O5=Menor),2,IF(AND(N5=Raro,O5=Moderado),2,IF(AND(N5=Raro,O5=Mayor),5,IF(AND(N5=Raro,O5=Catastrofico),7,IF(AND(N5=Improbable,O5=Insignificante),2,IF(AND(N5=Improbable,O5=Moderado),5,IF(AND(N5=Improbable,O5=Mayor),7,IF(AND(N5=Improbable,O5=Catastrofico),2,IF(AND(N5=Posible,O5=Insignificante),2,IF(AND(N5=Posible,O5=Menor),5,IF(AND(N5=Posible,O5=Moderado),7,IF(AND(N5=Posible,O5=Mayor),7,IF(AND(N5=Posible,O5=Catastrofico),10,IF(AND(N5=Probable,O5=Insignificante),5,IF(AND(N5=Probable,O5=Menor),7,IF(AND(N5=Probable,O5=Catastrofico),10,IF(AND(N5=Casi,O5=Insignificante),7,IF(AND(N5=Casi,O5=Menor),7,10))))))))))))))))))) -> 5 | Q5: =+IF(AND(N5=Raro,O5=Insignificante),"Riesgo Bajo",IF(AND(N5=Raro,O5=Menor),"Riesgo Bajo",IF(AND(N5=Raro,O5=Moderado),"Riesgo Bajo",IF(AND(N5=Raro,O5=Mayor),"Riesgo Medio",IF(AND(N5=Raro,O5=Catastrofico),"Riesgo Alto",IF(AND(N5=Improbable,O5=Insignificante),"Riesgo Bajo",IF(AND(N5=Improbable,O5=Moderado),"Riesgo Mediano",IF(AND(N5=Improbable,O5=Mayor),"Riesgo Alto",IF(AND(N5=Improbable,O5=Catastrofico),"Riesgo Bajo",IF(AND(N5=Posible,O5=Insignificante),"Riesgo Bajo",IF(AND(N5=Posible,O5=Menor),"Riesgo Medio",IF(AND(N5=Posible,O5=Moderado),"Riesgo Alto",IF(AND(N5=Posible,O5=Mayor),"Riesgo Alto",IF(AND(N5=Posible,O5=Catastrofico),"Riesgo Extremo",IF(AND(N5=Probable,O5=Insignificante),"Riesgo Medio",IF(AND(N5=Probable,O5=Menor),"Riesgo Alto",IF(AND(N5=Probable,O5=Catastrofico),"Riesgo Extremo",IF(AND(N5=Casi,O5=Insignificante),"Riesgo Alto",IF(AND(N5=Casi,O5=Menor),"Riesgo Alto","Riesgo Extremo"))))))))))))))))))) -> Riesgo Medio | R5: Si | S5: Supervisor del Contrato por parte de la Entidad | T5: Iniciación ejecución del contrato | U5: Terminación de ejecución del contrato | V5: Seguimiento detallado del cronograma de obra por parte del supervisor | W5: Semanal o Conforme a lo definido en el contrato
A6: =+A5+1 -> 2 | B6: Específico | C6: Externo | D6: Ejecución | E6: Operacionales | F6: Que el contratista Incumpla las especificaciones técnicas generales y particulares para la ejecución de las actividades objeto del contrato a celebrar. | G6: Retrasos en la fecha estimada para la Terminación del Contrato o deficiencia en la calidad de la obra | H6: Probable (Probablemente va a ocurrir) | I6: Mayor | J6: =+IF(AND(H6=Raro,I6=Insignificante),1,IF(AND(H6=Raro,I6=Menor),1,IF(AND(H6=Raro,I6=Moderado),1,IF(AND(H6=Raro,I6=Mayor),5,IF(AND(H6=Raro,I6=Catastrofico),7,IF(AND(H6=Improbable,I6=Insignificante),"1",IF(AND(H6=Improbable,I6=Menor),1,IF(AND(H6=Improbable,I6=Moderado),5,IF(AND(H6=Improbable,I6=Catastrofico),7,IF(AND(H6=Posible,I6=Insignificante),1,IF(AND(H6=Posible,I6=Menor),5,IF(AND(H6=Posible,I6=Moderado),7,IF(AND(H6=Posible,I6=Mayor),7,IF(AND(H6=Posible,I6=Catastrofico),10,IF(AND(H6=Probable,I6=Insignificante),5,IF(AND(H6=Probable,I6=Menor),7,IF(AND(H6=Probable,I6=Moderado),7,IF(AND(H6=Probable,I6=Mayor),10,IF(AND(H6=Probable,I6=Catastrofico),10,IF(AND(H6=Casi,I6=Insignificante),7,IF(AND(H6=Casi,I6=Menor),7,IF(AND(H6=Casi,I6=Moderado),10,IF(AND(H6=Casi,I6=Mayor),10,IF(AND(H6=Casi,I6=Catastrofico),10,0)))))))))))))))))))))))) -> 10 | K6: =+IF(AND(H6=Raro,I6=Insignificante),"Riesgo Bajo",IF(AND(H6=Raro,I6=Menor),"Riesgo Bajo",IF(AND(H6=Raro,I6=Moderado),"Riesgo Bajo",IF(AND(H6=Raro,I6=Mayor),"Riesgo Medio",IF(AND(H6=Raro,I6=Catastrofico),"Riesgo Alto",IF(AND(H6=Improbable,I6=Insignificante),"Riesgo Bajo",IF(AND(H6=Improbable,I6=Menor),"Riesgo Bajo",IF(AND(H6=Improbable,I6=Moderado),"Riesgo Medio",IF(AND(H6=Improbable,I6=Catastrofico),"Riesgo Alto",IF(AND(H6=Posible,I6=Insignificante),"Riesgo Bajo",IF(AND(H6=Posible,I6=Menor),"Riesgo Medio",IF(AND(H6=Posible,I6=Moderado),"Riesgo Alto",IF(AND(H6=Posible,I6=Mayor),"Riesgo Alto",IF(AND(H6=Posible,I6=Catastrofico),"Riesgo Extremo",IF(AND(H6=Probable,I6=Insignificante),"Riesgo Medio",IF(AND(H6=Probable,I6=Menor),"Riesgo Alto",IF(AND(H6=Probable,I6=Moderado),"Riesgo Extremo",IF(AND(H6=Probable,I6=Mayor),"Riesgo Extremo",IF(AND(H6=Probable,I6=Catastrofico),"Riesgo Extremo",IF(AND(H6=Casi,I6=Insignificante),"Riesgo Alto",IF(AND(H6=Casi,I6=Menor),"Riesgo Alto",IF(AND(H6=Casi,I6=Moderado),"Riesgo Extremo",IF(AND(H6=Casi,I6=Mayor),"Riesgo Extremo",IF(AND(H6=Casi,I6=Catastrofico),"Riesgo Extremo",0)))))))))))))))))))))))) -> Riesgo Extremo | L6: Contratista 100% | M6: Evitar | N6: Posible (Puede ocurrir en cualquier momento futuro) | O6: Mayor | P6: =+IF(AND(N6=Raro,O6=Insignificante),2,IF(AND(N6=Raro,O6=Menor),2,IF(AND(N6=Raro,O6=Moderado),2,IF(AND(N6=Raro,O6=Mayor),5,IF(AND(N6=Raro,O6=Catastrofico),7,IF(AND(N6=Improbable,O6=Insignificante),2,IF(AND(N6=Improbable,O6=Moderado),5,IF(AND(N6=Improbable,O6=Mayor),7,IF(AND(N6=Improbable,O6=Catastrofico),2,IF(AND(N6=Posible,O6=Insignificante),2,IF(AND(N6=Posible,O6=Menor),5,IF(AND(N6=Posible,O6=Moderado),7,IF(AND(N6=Posible,O6=Mayor),7,IF(AND(N6=Posible,O6=Catastrofico),10,IF(AND(N6=Probable,O6=Insignificante),5,IF(AND(N6=Probable,O6=Menor),7,IF(AND(N6=Probable,O6=Catastrofico),10,IF(AND(N6=Casi,O6=Insignificante),7,IF(AND(N6=Casi,O6=Menor),7,10))))))))))))))))))) -> 7 | Q6: =+IF(AND(N6=Raro,O6=Insignificante),"Riesgo Bajo",IF(AND(N6=Raro,O6=Menor),"Riesgo Bajo",IF(AND(N6=Raro,O6=Moderado),"Riesgo Bajo",IF(AND(N6=Raro,O6=Mayor),"Riesgo Medio",IF(AND(N6=Raro,O6=Catastrofico),"Riesgo Alto",IF(AND(N6=Improbable,O6=Insignificante),"Riesgo Bajo",IF(AND(N6=Improbable,O6=Moderado),"Riesgo Mediano",IF(AND(N6=Improbable,O6=Mayor),"Riesgo Alto",IF(AND(N6=Improbable,O6=Catastrofico),"Riesgo Bajo",IF(AND(N6=Posible,O6=Insignificante),"Riesgo Bajo",IF(AND(N6=Posible,O6=Menor),"Riesgo Medio",IF(AND(N6=Posible,O6=Moderado),"Riesgo Alto",IF(AND(N6=Posible,O6=Mayor),"Riesgo Alto",IF(AND(N6=Posible,O6=Catastrofico),"Riesgo Extremo",IF(AND(N6=Probable,O6=Insignificante),"Riesgo Medio",IF(AND(N6=Probable,O6=Menor),"Riesgo Alto",IF(AND(N6=Probable,O6=Catastrofico),"Riesgo Extremo",IF(AND(N6=Casi,O6=Insignificante),"Riesgo Alto",IF(AND(N6=Casi,O6=Menor),"Riesgo Alto","Riesgo Extremo"))))))))))))))))))) -> Riesgo Alto | R6: Si | S6: Supervisor del Contrato por parte de la Entidad | T6: Iniciación de ejecución del contrato | U6: Terminación de ejecución del contrato | V6: Verificacion del cumplimiento de especificaciones tecnicas | W6: Semanal
A7: =+A6+1 -> 3 | B7: Específico | C7: Externo | D7: Ejecución | E7: Económicos | F7: Que el contratista presente desfase en los precios unitarios debido a la insuficiencia en su análisis en cuanto a transporte de materiales, costo de los materiales o costos de la mano de obra para la ejecución de las actividades. | G7: Desequilibrio economico del Contrato o un mayor valor de la obra | H7: Posible (Puede ocurrir en cualquier momento futuro) | I7: Moderado | J7: =+IF(AND(H7=Raro,I7=Insignificante),1,IF(AND(H7=Raro,I7=Menor),1,IF(AND(H7=Raro,I7=Moderado),1,IF(AND(H7=Raro,I7=Mayor),5,IF(AND(H7=Raro,I7=Catastrofico),7,IF(AND(H7=Improbable,I7=Insignificante),"1",IF(AND(H7=Improbable,I7=Menor),1,IF(AND(H7=Improbable,I7=Moderado),5,IF(AND(H7=Improbable,I7=Catastrofico),7,IF(AND(H7=Posible,I7=Insignificante),1,IF(AND(H7=Posible,I7=Menor),5,IF(AND(H7=Posible,I7=Moderado),7,IF(AND(H7=Posible,I7=Mayor),7,IF(AND(H7=Posible,I7=Catastrofico),10,IF(AND(H7=Probable,I7=Insignificante),5,IF(AND(H7=Probable,I7=Menor),7,IF(AND(H7=Probable,I7=Moderado),7,IF(AND(H7=Probable,I7=Mayor),10,IF(AND(H7=Probable,I7=Catastrofico),10,IF(AND(H7=Casi,I7=Insignificante),7,IF(AND(H7=Casi,I7=Menor),7,IF(AND(H7=Casi,I7=Moderado),10,IF(AND(H7=Casi,I7=Mayor),10,IF(AND(H7=Casi,I7=Catastrofico),10,0)))))))))))))))))))))))) -> 7 | K7: =+IF(AND(H7=Raro,I7=Insignificante),"Riesgo Bajo",IF(AND(H7=Raro,I7=Menor),"Riesgo Bajo",IF(AND(H7=Raro,I7=Moderado),"Riesgo Bajo",IF(AND(H7=Raro,I7=Mayor),"Riesgo Medio",IF(AND(H7=Raro,I7=Catastrofico),"Riesgo Alto",IF(AND(H7=Improbable,I7=Insignificante),"Riesgo Bajo",IF(AND(H7=Improbable,I7=Menor),"Riesgo Bajo",IF(AND(H7=Improbable,I7=Moderado),"Riesgo Medio",IF(AND(H7=Improbable,I7=Catastrofico),"Riesgo Alto",IF(AND(H7=Posible,I7=Insignificante),"Riesgo Bajo",IF(AND(H7=Posible,I7=Menor),"Riesgo Medio",IF(AND(H7=Posible,I7=Moderado),"Riesgo Alto",IF(AND(H7=Posible,I7=Mayor),"Riesgo Alto",IF(AND(H7=Posible,I7=Catastrofico),"Riesgo Extremo",IF(AND(H7=Probable,I7=Insignificante),"Riesgo Medio",IF(AND(H7=Probable,I7=Menor),"Riesgo Alto",IF(AND(H7=Probable,I7=Moderado),"Riesgo Extremo",IF(AND(H7=Probable,I7=Mayor),"Riesgo Extremo",IF(AND(H7=Probable,I7=Catastrofico),"Riesgo Extremo",IF(AND(H7=Casi,I7=Insignificante),"Riesgo Alto",IF(AND(H7=Casi,I7=Menor),"Riesgo Alto",IF(AND(H7=Casi,I7=Moderado),"Riesgo Extremo",IF(AND(H7=Casi,I7=Mayor),"Riesgo Extremo",IF(AND(H7=Casi,I7=Catastrofico),"Riesgo Extremo",0)))))))))))))))))))))))) -> Riesgo Alto | L7: Contratista 100% | M7: Evitar | N7: Raro (Puede ocurrir excepcionalmente) | O7: Moderado | P7: =+IF(AND(N7=Raro,O7=Insignificante),2,IF(AND(N7=Raro,O7=Menor),2,IF(AND(N7=Raro,O7=Moderado),2,IF(AND(N7=Raro,O7=Mayor),5,IF(AND(N7=Raro,O7=Catastrofico),7,IF(AND(N7=Improbable,O7=Insignificante),2,IF(AND(N7=Improbable,O7=Moderado),5,IF(AND(N7=Improbable,O7=Mayor),7,IF(AND(N7=Improbable,O7=Catastrofico),2,IF(AND(N7=Posible,O7=Insignificante),2,IF(AND(N7=Posible,O7=Menor),5,IF(AND(N7=Posible,O7=Moderado),7,IF(AND(N7=Posible,O7=Mayor),7,IF(AND(N7=Posible,O7=Catastrofico),10,IF(AND(N7=Probable,O7=Insignificante),5,IF(AND(N7=Probable,O7=Menor),7,IF(AND(N7=Probable,O7=Catastrofico),10,IF(AND(N7=Casi,O7=Insignificante),7,IF(AND(N7=Casi,O7=Menor),7,10))))))))))))))))))) -> 2 | Q7: =+IF(AND(N7=Raro,O7=Insignificante),"Riesgo Bajo",IF(AND(N7=Raro,O7=Menor),"Riesgo Bajo",IF(AND(N7=Raro,O7=Moderado),"Riesgo Bajo",IF(AND(N7=Raro,O7=Mayor),"Riesgo Medio",IF(AND(N7=Raro,O7=Catastrofico),"Riesgo Alto",IF(AND(N7=Improbable,O7=Insignificante),"Riesgo Bajo",IF(AND(N7=Improbable,O7=Moderado),"Riesgo Mediano",IF(AND(N7=Improbable,O7=Mayor),"Riesgo Alto",IF(AND(N7=Improbable,O7=Catastrofico),"Riesgo Bajo",IF(AND(N7=Posible,O7=Insignificante),"Riesgo Bajo",IF(AND(N7=Posible,O7=Menor),"Riesgo Medio",IF(AND(N7=Posible,O7=Moderado),"Riesgo Alto",IF(AND(N7=Posible,O7=Mayor),"Riesgo Alto",IF(AND(N7=Posible,O7=Catastrofico),"Riesgo Extremo",IF(AND(N7=Probable,O7=Insignificante),"Riesgo Medio",IF(AND(N7=Probable,O7=Menor),"Riesgo Alto",IF(AND(N7=Probable,O7=Catastrofico),"Riesgo Extremo",IF(AND(N7=Casi,O7=Insignificante),"Riesgo Alto",IF(AND(N7=Casi,O7=Menor),"Riesgo Alto","Riesgo Extremo"))))))))))))))))))) -> Riesgo Bajo | R7: Si | S7: Supervisor del Contrato por parte de la Entidad | T7: Iniciación de ejecución del contrato | U7: Terminación de ejecución del contrato | V7: Verificacion de los analisis unitarios de precios para cada actividad | W7: Al inicio del contrato
A8: =+A7+1 -> 4 | B8: Específico | C8: Externo | D8: Ejecución | E8: Operacionales | F8: Que se presenten daños a terceros, en personas o bienes inmuebles o muebles, por inadecuados procedimientos de manipulación en los insumos o mano de obra por parte del Contratista. | G8: Daños a bienes y/o lesiones personales o muerte | H8: Raro (Puede ocurrir excepcionalmente) | I8: Moderado | J8: =+IF(AND(H8=Raro,I8=Insignificante),1,IF(AND(H8=Raro,I8=Menor),1,IF(AND(H8=Raro,I8=Moderado),1,IF(AND(H8=Raro,I8=Mayor),5,IF(AND(H8=Raro,I8=Catastrofico),7,IF(AND(H8=Improbable,I8=Insignificante),"1",IF(AND(H8=Improbable,I8=Menor),1,IF(AND(H8=Improbable,I8=Moderado),5,IF(AND(H8=Improbable,I8=Catastrofico),7,IF(AND(H8=Posible,I8=Insignificante),1,IF(AND(H8=Posible,I8=Menor),5,IF(AND(H8=Posible,I8=Moderado),7,IF(AND(H8=Posible,I8=Mayor),7,IF(AND(H8=Posible,I8=Catastrofico),10,IF(AND(H8=Probable,I8=Insignificante),5,IF(AND(H8=Probable,I8=Menor),7,IF(AND(H8=Probable,I8=Moderado),7,IF(AND(H8=Probable,I8=Mayor),10,IF(AND(H8=Probable,I8=Catastrofico),10,IF(AND(H8=Casi,I8=Insignificante),7,IF(AND(H8=Casi,I8=Menor),7,IF(AND(H8=Casi,I8=Moderado),10,IF(AND(H8=Casi,I8=Mayor),10,IF(AND(H8=Casi,I8=Catastrofico),10,0)))))))))))))))))))))))) -> 1 | K8: =+IF(AND(H8=Raro,I8=Insignificante),"Riesgo Bajo",IF(AND(H8=Raro,I8=Menor),"Riesgo Bajo",IF(AND(H8=Raro,I8=Moderado),"Riesgo Bajo",IF(AND(H8=Raro,I8=Mayor),"Riesgo Medio",IF(AND(H8=Raro,I8=Catastrofico),"Riesgo Alto",IF(AND(H8=Improbable,I8=Insignificante),"Riesgo Bajo",IF(AND(H8=Improbable,I8=Menor),"Riesgo Bajo",IF(AND(H8=Improbable,I8=Moderado),"Riesgo Medio",IF(AND(H8=Improbable,I8=Catastrofico),"Riesgo Alto",IF(AND(H8=Posible,I8=Insignificante),"Riesgo Bajo",IF(AND(H8=Posible,I8=Menor),"Riesgo Medio",IF(AND(H8=Posible,I8=Moderado),"Riesgo Alto",IF(AND(H8=Posible,I8=Mayor),"Riesgo Alto",IF(AND(H8=Posible,I8=Catastrofico),"Riesgo Extremo",IF(AND(H8=Probable,I8=Insignificante),"Riesgo Medio",IF(AND(H8=Probable,I8=Menor),"Riesgo Alto",IF(AND(H8=Probable,I8=Moderado),"Riesgo Extremo",IF(AND(H8=Probable,I8=Mayor),"Riesgo Extremo",IF(AND(H8=Probable,I8=Catastrofico),"Riesgo Extremo",IF(AND(H8=Casi,I8=Insignificante),"Riesgo Alto",IF(AND(H8=Casi,I8=Menor),"Riesgo Alto",IF(AND(H8=Casi,I8=Moderado),"Riesgo Extremo",IF(AND(H8=Casi,I8=Mayor),"Riesgo Extremo",IF(AND(H8=Casi,I8=Catastrofico),"Riesgo Extremo",0)))))))))))))))))))))))) -> Riesgo Bajo | L8: Contratista 100% | M8: Transferir | N8: Raro (Puede ocurrir excepcionalmente) | O8: Moderado | P8: =+IF(AND(N8=Raro,O8=Insignificante),2,IF(AND(N8=Raro,O8=Menor),2,IF(AND(N8=Raro,O8=Moderado),2,IF(AND(N8=Raro,O8=Mayor),5,IF(AND(N8=Raro,O8=Catastrofico),7,IF(AND(N8=Improbable,O8=Insignificante),2,IF(AND(N8=Improbable,O8=Moderado),5,IF(AND(N8=Improbable,O8=Mayor),7,IF(AND(N8=Improbable,O8=Catastrofico),2,IF(AND(N8=Posible,O8=Insignificante),2,IF(AND(N8=Posible,O8=Menor),5,IF(AND(N8=Posible,O8=Moderado),7,IF(AND(N8=Posible,O8=Mayor),7,IF(AND(N8=Posible,O8=Catastrofico),10,IF(AND(N8=Probable,O8=Insignificante),5,IF(AND(N8=Probable,O8=Menor),7,IF(AND(N8=Probable,O8=Catastrofico),10,IF(AND(N8=Casi,O8=Insignificante),7,IF(AND(N8=Casi,O8=Menor),7,10))))))))))))))))))) -> 2 | Q8: =+IF(AND(N8=Raro,O8=Insignificante),"Riesgo Bajo",IF(AND(N8=Raro,O8=Menor),"Riesgo Bajo",IF(AND(N8=Raro,O8=Moderado),"Riesgo Bajo",IF(AND(N8=Raro,O8=Mayor),"Riesgo Medio",IF(AND(N8=Raro,O8=Catastrofico),"Riesgo Alto",IF(AND(N8=Improbable,O8=Insignificante),"Riesgo Bajo",IF(AND(N8=Improbable,O8=Moderado),"Riesgo Mediano",IF(AND(N8=Improbable,O8=Mayor),"Riesgo Alto",IF(AND(N8=Improbable,O8=Catastrofico),"Riesgo Bajo",IF(AND(N8=Posible,O8=Insignificante),"Riesgo Bajo",IF(AND(N8=Posible,O8=Menor),"Riesgo Medio",IF(AND(N8=Posible,O8=Moderado),"Riesgo Alto",IF(AND(N8=Posible,O8=Mayor),"Riesgo Alto",IF(AND(N8=Posible,O8=Catastrofico),"Riesgo Extremo",IF(AND(N8=Probable,O8=Insignificante),"Riesgo Medio",IF(AND(N8=Probable,O8=Menor),"Riesgo Alto",IF(AND(N8=Probable,O8=Catastrofico),"Riesgo Extremo",IF(AND(N8=Casi,O8=Insignificante),"Riesgo Alto",IF(AND(N8=Casi,O8=Menor),"Riesgo Alto","Riesgo Extremo"))))))))))))))))))) -> Riesgo Bajo | R8: Si | S8: Supervisor del Contrato por parte de la Entidad | T8: Iniciación de ejecución del contrato | U8: Terminación de ejecución del contrato | V8: Verificacion de equipos y condiciones de trabajo para evitar lesiones y daños | W8: Semanal o Conforme a lo definido en el contrato
A9: =+A8+1 -> 5 | B9: Específico | C9: Externo | D9: Ejecución | E9: Operacionales | F9: Que el contratista presente parálisis de las actividades por falta de mano de obra calificada o debido al no pago de las obligaciones a proveedores, salarios y la seguridad social o la perdida de los empleados claves en la ejecución del contrato y demás inconvenientes derivados de una inadecuada relación laboral. | G9: Retrasos en la fecha estimada para la Terminación del Contrato | H9: Posible (Puede ocurrir en cualquier momento futuro) | I9: Mayor | J9: =+IF(AND(H9=Raro,I9=Insignificante),1,IF(AND(H9=Raro,I9=Menor),1,IF(AND(H9=Raro,I9=Moderado),1,IF(AND(H9=Raro,I9=Mayor),5,IF(AND(H9=Raro,I9=Catastrofico),7,IF(AND(H9=Improbable,I9=Insignificante),"1",IF(AND(H9=Improbable,I9=Menor),1,IF(AND(H9=Improbable,I9=Moderado),5,IF(AND(H9=Improbable,I9=Catastrofico),7,IF(AND(H9=Posible,I9=Insignificante),1,IF(AND(H9=Posible,I9=Menor),5,IF(AND(H9=Posible,I9=Moderado),7,IF(AND(H9=Posible,I9=Mayor),7,IF(AND(H9=Posible,I9=Catastrofico),10,IF(AND(H9=Probable,I9=Insignificante),5,IF(AND(H9=Probable,I9=Menor),7,IF(AND(H9=Probable,I9=Moderado),7,IF(AND(H9=Probable,I9=Mayor),10,IF(AND(H9=Probable,I9=Catastrofico),10,IF(AND(H9=Casi,I9=Insignificante),7,IF(AND(H9=Casi,I9=Menor),7,IF(AND(H9=Casi,I9=Moderado),10,IF(AND(H9=Casi,I9=Mayor),10,IF(AND(H9=Casi,I9=Catastrofico),10,0)))))))))))))))))))))))) -> 7 | K9: =+IF(AND(H9=Raro,I9=Insignificante),"Riesgo Bajo",IF(AND(H9=Raro,I9=Menor),"Riesgo Bajo",IF(AND(H9=Raro,I9=Moderado),"Riesgo Bajo",IF(AND(H9=Raro,I9=Mayor),"Riesgo Medio",IF(AND(H9=Raro,I9=Catastrofico),"Riesgo Alto",IF(AND(H9=Improbable,I9=Insignificante),"Riesgo Bajo",IF(AND(H9=Improbable,I9=Menor),"Riesgo Bajo",IF(AND(H9=Improbable,I9=Moderado),"Riesgo Medio",IF(AND(H9=Improbable,I9=Catastrofico),"Riesgo Alto",IF(AND(H9=Posible,I9=Insignificante),"Riesgo Bajo",IF(AND(H9=Posible,I9=Menor),"Riesgo Medio",IF(AND(H9=Posible,I9=Moderado),"Riesgo Alto",IF(AND(H9=Posible,I9=Mayor),"Riesgo Alto",IF(AND(H9=Posible,I9=Catastrofico),"Riesgo Extremo",IF(AND(H9=Probable,I9=Insignificante),"Riesgo Medio",IF(AND(H9=Probable,I9=Menor),"Riesgo Alto",IF(AND(H9=Probable,I9=Moderado),"Riesgo Extremo",IF(AND(H9=Probable,I9=Mayor),"Riesgo Extremo",IF(AND(H9=Probable,I9=Catastrofico),"Riesgo Extremo",IF(AND(H9=Casi,I9=Insignificante),"Riesgo Alto",IF(AND(H9=Casi,I9=Menor),"Riesgo Alto",IF(AND(H9=Casi,I9=Moderado),"Riesgo Extremo",IF(AND(H9=Casi,I9=Mayor),"Riesgo Extremo",IF(AND(H9=Casi,I9=Catastrofico),"Riesgo Extremo",0)))))))))))))))))))))))) -> Riesgo Alto | L9: Contratista 100% | M9: Evitar | N9: Raro (Puede ocurrir excepcionalmente) | O9: Moderado | P9: =+IF(AND(N9=Raro,O9=Insignificante),2,IF(AND(N9=Raro,O9=Menor),2,IF(AND(N9=Raro,O9=Moderado),2,IF(AND(N9=Raro,O9=Mayor),5,IF(AND(N9=Raro,O9=Catastrofico),7,IF(AND(N9=Improbable,O9=Insignificante),2,IF(AND(N9=Improbable,O9=Moderado),5,IF(AND(N9=Improbable,O9=Mayor),7,IF(AND(N9=Improbable,O9=Catastrofico),2,IF(AND(N9=Posible,O9=Insignificante),2,IF(AND(N9=Posible,O9=Menor),5,IF(AND(N9=Posible,O9=Moderado),7,IF(AND(N9=Posible,O9=Mayor),7,IF(AND(N9=Posible,O9=Catastrofico),10,IF(AND(N9=Probable,O9=Insignificante),5,IF(AND(N9=Probable,O9=Menor),7,IF(AND(N9=Probable,O9=Catastrofico),10,IF(AND(N9=Casi,O9=Insignificante),7,IF(AND(N9=Casi,O9=Menor),7,10))))))))))))))))))) -> 2 | Q9: =+IF(AND(N9=Raro,O9=Insignificante),"Riesgo Bajo",IF(AND(N9=Raro,O9=Menor),"Riesgo Bajo",IF(AND(N9=Raro,O9=Moderado),"Riesgo Bajo",IF(AND(N9=Raro,O9=Mayor),"Riesgo Medio",IF(AND(N9=Raro,O9=Catastrofico),"Riesgo Alto",IF(AND(N9=Improbable,O9=Insignificante),"Riesgo Bajo",IF(AND(N9=Improbable,O9=Moderado),"Riesgo Mediano",IF(AND(N9=Improbable,O9=Mayor),"Riesgo Alto",IF(AND(N9=Improbable,O9=Catastrofico),"Riesgo Bajo",IF(AND(N9=Posible,O9=Insignificante),"Riesgo Bajo",IF(AND(N9=Posible,O9=Menor),"Riesgo Medio",IF(AND(N9=Posible,O9=Moderado),"Riesgo Alto",IF(AND(N9=Posible,O9=Mayor),"Riesgo Alto",IF(AND(N9=Posible,O9=Catastrofico),"Riesgo Extremo",IF(AND(N9=Probable,O9=Insignificante),"Riesgo Medio",IF(AND(N9=Probable,O9=Menor),"Riesgo Alto",IF(AND(N9=Probable,O9=Catastrofico),"Riesgo Extremo",IF(AND(N9=Casi,O9=Insignificante),"Riesgo Alto",IF(AND(N9=Casi,O9=Menor),"Riesgo Alto","Riesgo Extremo"))))))))))))))))))) -> Riesgo Bajo | R9: Si | S9: Supervisor del Contrato por parte de la Entidad | T9: Iniciación de ejecución del contrato | U9: Terminación de ejecución del contrato | V9: Control sobre el numero de personas y cualificación del personal | W9: Semanal o Conforme a lo definido en el contrato
A10: =+A9+1 -> 6 | B10: General | C10: Interno | D10: Ejecución | E10: Sociales o Políticos | F10: Que se presente retraso de actividades por decisiones no imputables al contratista o que dependan de otras dependencias de la entidad o de entidades diferentes a las partes. | G10: Perjuicios economicos a la entidad | H10: Raro (Puede ocurrir excepcionalmente) | I10: Moderado | J10: =+IF(AND(H10=Raro,I10=Insignificante),1,IF(AND(H10=Raro,I10=Menor),1,IF(AND(H10=Raro,I10=Moderado),1,IF(AND(H10=Raro,I10=Mayor),5,IF(AND(H10=Raro,I10=Catastrofico),7,IF(AND(H10=Improbable,I10=Insignificante),"1",IF(AND(H10=Improbable,I10=Menor),1,IF(AND(H10=Improbable,I10=Moderado),5,IF(AND(H10=Improbable,I10=Catastrofico),7,IF(AND(H10=Posible,I10=Insignificante),1,IF(AND(H10=Posible,I10=Menor),5,IF(AND(H10=Posible,I10=Moderado),7,IF(AND(H10=Posible,I10=Mayor),7,IF(AND(H10=Posible,I10=Catastrofico),10,IF(AND(H10=Probable,I10=Insignificante),5,IF(AND(H10=Probable,I10=Menor),7,IF(AND(H10=Probable,I10=Moderado),7,IF(AND(H10=Probable,I10=Mayor),10,IF(AND(H10=Probable,I10=Catastrofico),10,IF(AND(H10=Casi,I10=Insignificante),7,IF(AND(H10=Casi,I10=Menor),7,IF(AND(H10=Casi,I10=Moderado),10,IF(AND(H10=Casi,I10=Mayor),10,IF(AND(H10=Casi,I10=Catastrofico),10,0)))))))))))))))))))))))) -> 1 | K10: =+IF(AND(H10=Raro,I10=Insignificante),"Riesgo Bajo",IF(AND(H10=Raro,I10=Menor),"Riesgo Bajo",IF(AND(H10=Raro,I10=Moderado),"Riesgo Bajo",IF(AND(H10=Raro,I10=Mayor),"Riesgo Medio",IF(AND(H10=Raro,I10=Catastrofico),"Riesgo Alto",IF(AND(H10=Improbable,I10=Insignificante),"Riesgo Bajo",IF(AND(H10=Improbable,I10=Menor),"Riesgo Bajo",IF(AND(H10=Improbable,I10=Moderado),"Riesgo Medio",IF(AND(H10=Improbable,I10=Catastrofico),"Riesgo Alto",IF(AND(H10=Posible,I10=Insignificante),"Riesgo Bajo",IF(AND(H10=Posible,I10=Menor),"Riesgo Medio",IF(AND(H10=Posible,I10=Moderado),"Riesgo Alto",IF(AND(H10=Posible,I10=Mayor),"Riesgo Alto",IF(AND(H10=Posible,I10=Catastrofico),"Riesgo Extremo",IF(AND(H10=Probable,I10=Insignificante),"Riesgo Medio",IF(AND(H10=Probable,I10=Menor),"Riesgo Alto",IF(AND(H10=Probable,I10=Moderado),"Riesgo Extremo",IF(AND(H10=Probable,I10=Mayor),"Riesgo Extremo",IF(AND(H10=Probable,I10=Catastrofico),"Riesgo Extremo",IF(AND(H10=Casi,I10=Insignificante),"Riesgo Alto",IF(AND(H10=Casi,I10=Menor),"Riesgo Alto",IF(AND(H10=Casi,I10=Moderado),"Riesgo Extremo",IF(AND(H10=Casi,I10=Mayor),"Riesgo Extremo",IF(AND(H10=Casi,I10=Catastrofico),"Riesgo Extremo",0)))))))))))))))))))))))) -> Riesgo Bajo | L10: Entidad 100% | M10: Evitar | N10: Raro (Puede ocurrir excepcionalmente) | O10: Menor | P10: =+IF(AND(N10=Raro,O10=Insignificante),2,IF(AND(N10=Raro,O10=Menor),2,IF(AND(N10=Raro,O10=Moderado),2,IF(AND(N10=Raro,O10=Mayor),5,IF(AND(N10=Raro,O10=Catastrofico),7,IF(AND(N10=Improbable,O10=Insignificante),2,IF(AND(N10=Improbable,O10=Moderado),5,IF(AND(N10=Improbable,O10=Mayor),7,IF(AND(N10=Improbable,O10=Catastrofico),2,IF(AND(N10=Posible,O10=Insignificante),2,IF(AND(N10=Posible,O10=Menor),5,IF(AND(N10=Posible,O10=Moderado),7,IF(AND(N10=Posible,O10=Mayor),7,IF(AND(N10=Posible,O10=Catastrofico),10,IF(AND(N10=Probable,O10=Insignificante),5,IF(AND(N10=Probable,O10=Menor),7,IF(AND(N10=Probable,O10=Catastrofico),10,IF(AND(N10=Casi,O10=Insignificante),7,IF(AND(N10=Casi,O10=Menor),7,10))))))))))))))))))) -> 2 | Q10: =+IF(AND(N10=Raro,O10=Insignificante),"Riesgo Bajo",IF(AND(N10=Raro,O10=Menor),"Riesgo Bajo",IF(AND(N10=Raro,O10=Moderado),"Riesgo Bajo",IF(AND(N10=Raro,O10=Mayor),"Riesgo Medio",IF(AND(N10=Raro,O10=Catastrofico),"Riesgo Alto",IF(AND(N10=Improbable,O10=Insignificante),"Riesgo Bajo",IF(AND(N10=Improbable,O10=Moderado),"Riesgo Mediano",IF(AND(N10=Improbable,O10=Mayor),"Riesgo Alto",IF(AND(N10=Improbable,O10=Catastrofico),"Riesgo Bajo",IF(AND(N10=Posible,O10=Insignificante),"Riesgo Bajo",IF(AND(N10=Posible,O10=Menor),"Riesgo Medio",IF(AND(N10=Posible,O10=Moderado),"Riesgo Alto",IF(AND(N10=Posible,O10=Mayor),"Riesgo Alto",IF(AND(N10=Posible,O10=Catastrofico),"Riesgo Extremo",IF(AND(N10=Probable,O10=Insignificante),"Riesgo Medio",IF(AND(N10=Probable,O10=Menor),"Riesgo Alto",IF(AND(N10=Probable,O10=Catastrofico),"Riesgo Extremo",IF(AND(N10=Casi,O10=Insignificante),"Riesgo Alto",IF(AND(N10=Casi,O10=Menor),"Riesgo Alto","Riesgo Extremo"))))))))))))))))))) -> Riesgo Bajo | R10: Si | S10: Supervisor del Contrato por parte de la Entidad | T10: Iniciación de ejecución del contrato | U10: Terminación de ejecución del contrato | V10: Facilitar condiciones internas al Contratista para la ejecución de las actividades | W10: Semanal
A11: =+A10+1 -> 7 | B11: Específico | C11: Externo | D11: Ejecución | E11: Operacionales | F11: Que el contratista no dirija ni oriente a su personal dando las instrucciones técnicas en el sitio de la instalación y presente resultados adversos por la falta del control en los trabajos | G11: Reprocesos y retrasos en la ejecución de la obra | H11: Raro (Puede ocurrir excepcionalmente) | I11: Mayor | J11: =+IF(AND(H11=Raro,I11=Insignificante),1,IF(AND(H11=Raro,I11=Menor),1,IF(AND(H11=Raro,I11=Moderado),1,IF(AND(H11=Raro,I11=Mayor),5,IF(AND(H11=Raro,I11=Catastrofico),7,IF(AND(H11=Improbable,I11=Insignificante),"1",IF(AND(H11=Improbable,I11=Menor),1,IF(AND(H11=Improbable,I11=Moderado),5,IF(AND(H11=Improbable,I11=Catastrofico),7,IF(AND(H11=Posible,I11=Insignificante),1,IF(AND(H11=Posible,I11=Menor),5,IF(AND(H11=Posible,I11=Moderado),7,IF(AND(H11=Posible,I11=Mayor),7,IF(AND(H11=Posible,I11=Catastrofico),10,IF(AND(H11=Probable,I11=Insignificante),5,IF(AND(H11=Probable,I11=Menor),7,IF(AND(H11=Probable,I11=Moderado),7,IF(AND(H11=Probable,I11=Mayor),10,IF(AND(H11=Probable,I11=Catastrofico),10,IF(AND(H11=Casi,I11=Insignificante),7,IF(AND(H11=Casi,I11=Menor),7,IF(AND(H11=Casi,I11=Moderado),10,IF(AND(H11=Casi,I11=Mayor),10,IF(AND(H11=Casi,I11=Catastrofico),10,0)))))))))))))))))))))))) -> 5 | K11: =+IF(AND(H11=Raro,I11=Insignificante),"Riesgo Bajo",IF(AND(H11=Raro,I11=Menor),"Riesgo Bajo",IF(AND(H11=Raro,I11=Moderado),"Riesgo Bajo",IF(AND(H11=Raro,I11=Mayor),"Riesgo Medio",IF(AND(H11=Raro,I11=Catastrofico),"Riesgo Alto",IF(AND(H11=Improbable,I11=Insignificante),"Riesgo Bajo",IF(AND(H11=Improbable,I11=Menor),"Riesgo Bajo",IF(AND(H11=Improbable,I11=Moderado),"Riesgo Medio",IF(AND(H11=Improbable,I11=Catastrofico),"Riesgo Alto",IF(AND(H11=Posible,I11=Insignificante),"Riesgo Bajo",IF(AND(H11=Posible,I11=Menor),"Riesgo Medio",IF(AND(H11=Posible,I11=Moderado),"Riesgo Alto",IF(AND(H11=Posible,I11=Mayor),"Riesgo Alto",IF(AND(H11=Posible,I11=Catastrofico),"Riesgo Extremo",IF(AND(H11=Probable,I11=Insignificante),"Riesgo Medio",IF(AND(H11=Probable,I11=Menor),"Riesgo Alto",IF(AND(H11=Probable,I11=Moderado),"Riesgo Extremo",IF(AND(H11=Probable,I11=Mayor),"Riesgo Extremo",IF(AND(H11=Probable,I11=Catastrofico),"Riesgo Extremo",IF(AND(H11=Casi,I11=Insignificante),"Riesgo Alto",IF(AND(H11=Casi,I11=Menor),"Riesgo Alto",IF(AND(H11=Casi,I11=Moderado),"Riesgo Extremo",IF(AND(H11=Casi,I11=Mayor),"Riesgo Extremo",IF(AND(H11=Casi,I11=Catastrofico),"Riesgo Extremo",0)))))))))))))))))))))))) -> Riesgo Medio | L11: Contratista 100% | M11: Evitar | N11: Raro (Puede ocurrir excepcionalmente) | O11: Moderado | P11: =+IF(AND(N11=Raro,O11=Insignificante),2,IF(AND(N11=Raro,O11=Menor),2,IF(AND(N11=Raro,O11=Moderado),2,IF(AND(N11=Raro,O11=Mayor),5,IF(AND(N11=Raro,O11=Catastrofico),7,IF(AND(N11=Improbable,O11=Insignificante),2,IF(AND(N11=Improbable,O11=Moderado),5,IF(AND(N11=Improbable,O11=Mayor),7,IF(AND(N11=Improbable,O11=Catastrofico),2,IF(AND(N11=Posible,O11=Insignificante),2,IF(AND(N11=Posible,O11=Menor),5,IF(AND(N11=Posible,O11=Moderado),7,IF(AND(N11=Posible,O11=Mayor),7,IF(AND(N11=Posible,O11=Catastrofico),10,IF(AND(N11=Probable,O11=Insignificante),5,IF(AND(N11=Probable,O11=Menor),7,IF(AND(N11=Probable,O11=Catastrofico),10,IF(AND(N11=Casi,O11=Insignificante),7,IF(AND(N11=Casi,O11=Menor),7,10))))))))))))))))))) -> 2 | Q11: =+IF(AND(N11=Raro,O11=Insignificante),"Riesgo Bajo",IF(AND(N11=Raro,O11=Menor),"Riesgo Bajo",IF(AND(N11=Raro,O11=Moderado),"Riesgo Bajo",IF(AND(N11=Raro,O11=Mayor),"Riesgo Medio",IF(AND(N11=Raro,O11=Catastrofico),"Riesgo Alto",IF(AND(N11=Improbable,O11=Insignificante),"Riesgo Bajo",IF(AND(N11=Improbable,O11=Moderado),"Riesgo Mediano",IF(AND(N11=Improbable,O11=Mayor),"Riesgo Alto",IF(AND(N11=Improbable,O11=Catastrofico),"Riesgo Bajo",IF(AND(N11=Posible,O11=Insignificante),"Riesgo Bajo",IF(AND(N11=Posible,O11=Menor),"Riesgo Medio",IF(AND(N11=Posible,O11=Moderado),"Riesgo Alto",IF(AND(N11=Posible,O11=Mayor),"Riesgo Alto",IF(AND(N11=Posible,O11=Catastrofico),"Riesgo Extremo",IF(AND(N11=Probable,O11=Insignificante),"Riesgo Medio",IF(AND(N11=Probable,O11=Menor),"Riesgo Alto",IF(AND(N11=Probable,O11=Catastrofico),"Riesgo Extremo",IF(AND(N11=Casi,O11=Insignificante),"Riesgo Alto",IF(AND(N11=Casi,O11=Menor),"Riesgo Alto","Riesgo Extremo"))))))))))))))))))) -> Riesgo Bajo | R11: Si | S11: Supervisor del Contrato por parte de la Entidad | T11: Iniciación de ejecución del contrato | U11: Terminación de ejecución del contrato | V11: Seguimiento detallado a la calidad de las actividades de obra ejecutadas por el contratista | W11: Semanal
A12: =+A11+1 -> 8 | B12: General | C12: Externo | D12: Ejecución | E12: De la Naturaleza | F12: Causas y|o eventos de la naturaleza, fuerza mayor y caso fortuito. (Terremoto, inundación, incendio y asonada) | G12: No terminacion de las actividades o retrasos en ellas | H12: Raro (Puede ocurrir excepcionalmente) | I12: Catastrófico | J12: =+IF(AND(H12=Raro,I12=Insignificante),1,IF(AND(H12=Raro,I12=Menor),1,IF(AND(H12=Raro,I12=Moderado),1,IF(AND(H12=Raro,I12=Mayor),5,IF(AND(H12=Raro,I12=Catastrofico),7,IF(AND(H12=Improbable,I12=Insignificante),"1",IF(AND(H12=Improbable,I12=Menor),1,IF(AND(H12=Improbable,I12=Moderado),5,IF(AND(H12=Improbable,I12=Catastrofico),7,IF(AND(H12=Posible,I12=Insignificante),1,IF(AND(H12=Posible,I12=Menor),5,IF(AND(H12=Posible,I12=Moderado),7,IF(AND(H12=Posible,I12=Mayor),7,IF(AND(H12=Posible,I12=Catastrofico),10,IF(AND(H12=Probable,I12=Insignificante),5,IF(AND(H12=Probable,I12=Menor),7,IF(AND(H12=Probable,I12=Moderado),7,IF(AND(H12=Probable,I12=Mayor),10,IF(AND(H12=Probable,I12=Catastrofico),10,IF(AND(H12=Casi,I12=Insignificante),7,IF(AND(H12=Casi,I12=Menor),7,IF(AND(H12=Casi,I12=Moderado),10,IF(AND(H12=Casi,I12=Mayor),10,IF(AND(H12=Casi,I12=Catastrofico),10,0)))))))))))))))))))))))) -> 7 | K12: =+IF(AND(H12=Raro,I12=Insignificante),"Riesgo Bajo",IF(AND(H12=Raro,I12=Menor),"Riesgo Bajo",IF(AND(H12=Raro,I12=Moderado),"Riesgo Bajo",IF(AND(H12=Raro,I12=Mayor),"Riesgo Medio",IF(AND(H12=Raro,I12=Catastrofico),"Riesgo Alto",IF(AND(H12=Improbable,I12=Insignificante),"Riesgo Bajo",IF(AND(H12=Improbable,I12=Menor),"Riesgo Bajo",IF(AND(H12=Improbable,I12=Moderado),"Riesgo Medio",IF(AND(H12=Improbable,I12=Catastrofico),"Riesgo Alto",IF(AND(H12=Posible,I12=Insignificante),"Riesgo Bajo",IF(AND(H12=Posible,I12=Menor),"Riesgo Medio",IF(AND(H12=Posible,I12=Moderado),"Riesgo Alto",IF(AND(H12=Posible,I12=Mayor),"Riesgo Alto",IF(AND(H12=Posible,I12=Catastrofico),"Riesgo Extremo",IF(AND(H12=Probable,I12=Insignificante),"Riesgo Medio",IF(AND(H12=Probable,I12=Menor),"Riesgo Alto",IF(AND(H12=Probable,I12=Moderado),"Riesgo Extremo",IF(AND(H12=Probable,I12=Mayor),"Riesgo Extremo",IF(AND(H12=Probable,I12=Catastrofico),"Riesgo Extremo",IF(AND(H12=Casi,I12=Insignificante),"Riesgo Alto",IF(AND(H12=Casi,I12=Menor),"Riesgo Alto",IF(AND(H12=Casi,I12=Moderado),"Riesgo Extremo",IF(AND(H12=Casi,I12=Mayor),"Riesgo Extremo",IF(AND(H12=Casi,I12=Catastrofico),"Riesgo Extremo",0)))))))))))))))))))))))) -> Riesgo Alto | L12: Entidad 50% y Contratista 50% | M12: Aceptar | N12: Raro (Puede ocurrir excepcionalmente) | O12: Moderado | P12: =+IF(AND(N12=Raro,O12=Insignificante),2,IF(AND(N12=Raro,O12=Menor),2,IF(AND(N12=Raro,O12=Moderado),2,IF(AND(N12=Raro,O12=Mayor),5,IF(AND(N12=Raro,O12=Catastrofico),7,IF(AND(N12=Improbable,O12=Insignificante),2,IF(AND(N12=Improbable,O12=Moderado),5,IF(AND(N12=Improbable,O12=Mayor),7,IF(AND(N12=Improbable,O12=Catastrofico),2,IF(AND(N12=Posible,O12=Insignificante),2,IF(AND(N12=Posible,O12=Menor),5,IF(AND(N12=Posible,O12=Moderado),7,IF(AND(N12=Posible,O12=Mayor),7,IF(AND(N12=Posible,O12=Catastrofico),10,IF(AND(N12=Probable,O12=Insignificante),5,IF(AND(N12=Probable,O12=Menor),7,IF(AND(N12=Probable,O12=Catastrofico),10,IF(AND(N12=Casi,O12=Insignificante),7,IF(AND(N12=Casi,O12=Menor),7,10))))))))))))))))))) -> 2 | Q12: =+IF(AND(N12=Raro,O12=Insignificante),"Riesgo Bajo",IF(AND(N12=Raro,O12=Menor),"Riesgo Bajo",IF(AND(N12=Raro,O12=Moderado),"Riesgo Bajo",IF(AND(N12=Raro,O12=Mayor),"Riesgo Medio",IF(AND(N12=Raro,O12=Catastrofico),"Riesgo Alto",IF(AND(N12=Improbable,O12=Insignificante),"Riesgo Bajo",IF(AND(N12=Improbable,O12=Moderado),"Riesgo Mediano",IF(AND(N12=Improbable,O12=Mayor),"Riesgo Alto",IF(AND(N12=Improbable,O12=Catastrofico),"Riesgo Bajo",IF(AND(N12=Posible,O12=Insignificante),"Riesgo Bajo",IF(AND(N12=Posible,O12=Menor),"Riesgo Medio",IF(AND(N12=Posible,O12=Moderado),"Riesgo Alto",IF(AND(N12=Posible,O12=Mayor),"Riesgo Alto",IF(AND(N12=Posible,O12=Catastrofico),"Riesgo Extremo",IF(AND(N12=Probable,O12=Insignificante),"Riesgo Medio",IF(AND(N12=Probable,O12=Menor),"Riesgo Alto",IF(AND(N12=Probable,O12=Catastrofico),"Riesgo Extremo",IF(AND(N12=Casi,O12=Insignificante),"Riesgo Alto",IF(AND(N12=Casi,O12=Menor),"Riesgo Alto","Riesgo Extremo"))))))))))))))))))) -> Riesgo Bajo | R12: Si | S12: Contratista y supervisor del Contrato por parte de la Entidad | T12: Iniciación de ejecución del contrato | U12: Terminación de ejecución del contrato | V12: Verificacion de condiciones en el sitio de trabajo | W12: Diario
A13: =+A12+1 -> 9 | B13: Específico | C13: Externo | D13: Ejecución | E13: Operacionales | F13: Que el contratista no cuente con la logistica necesaria para la entrega oportuna de las actividades contratadas | G13: Retrasos en la fecha estimada para la Terminación del Contrato | H13: Probable (Probablemente va a ocurrir) | I13: Mayor | J13: =+IF(AND(H13=Raro,I13=Insignificante),1,IF(AND(H13=Raro,I13=Menor),1,IF(AND(H13=Raro,I13=Moderado),1,IF(AND(H13=Raro,I13=Mayor),5,IF(AND(H13=Raro,I13=Catastrofico),7,IF(AND(H13=Improbable,I13=Insignificante),"1",IF(AND(H13=Improbable,I13=Menor),1,IF(AND(H13=Improbable,I13=Moderado),5,IF(AND(H13=Improbable,I13=Catastrofico),7,IF(AND(H13=Posible,I13=Insignificante),1,IF(AND(H13=Posible,I13=Menor),5,IF(AND(H13=Posible,I13=Moderado),7,IF(AND(H13=Posible,I13=Mayor),7,IF(AND(H13=Posible,I13=Catastrofico),10,IF(AND(H13=Probable,I13=Insignificante),5,IF(AND(H13=Probable,I13=Menor),7,IF(AND(H13=Probable,I13=Moderado),7,IF(AND(H13=Probable,I13=Mayor),10,IF(AND(H13=Probable,I13=Catastrofico),10,IF(AND(H13=Casi,I13=Insignificante),7,IF(AND(H13=Casi,I13=Menor),7,IF(AND(H13=Casi,I13=Moderado),10,IF(AND(H13=Casi,I13=Mayor),10,IF(AND(H13=Casi,I13=Catastrofico),10,0)))))))))))))))))))))))) -> 10 | K13: =+IF(AND(H13=Raro,I13=Insignificante),"Riesgo Bajo",IF(AND(H13=Raro,I13=Menor),"Riesgo Bajo",IF(AND(H13=Raro,I13=Moderado),"Riesgo Bajo",IF(AND(H13=Raro,I13=Mayor),"Riesgo Medio",IF(AND(H13=Raro,I13=Catastrofico),"Riesgo Alto",IF(AND(H13=Improbable,I13=Insignificante),"Riesgo Bajo",IF(AND(H13=Improbable,I13=Menor),"Riesgo Bajo",IF(AND(H13=Improbable,I13=Moderado),"Riesgo Medio",IF(AND(H13=Improbable,I13=Catastrofico),"Riesgo Alto",IF(AND(H13=Posible,I13=Insignificante),"Riesgo Bajo",IF(AND(H13=Posible,I13=Menor),"Riesgo Medio",IF(AND(H13=Posible,I13=Moderado),"Riesgo Alto",IF(AND(H13=Posible,I13=Mayor),"Riesgo Alto",IF(AND(H13=Posible,I13=Catastrofico),"Riesgo Extremo",IF(AND(H13=Probable,I13=Insignificante),"Riesgo Medio",IF(AND(H13=Probable,I13=Menor),"Riesgo Alto",IF(AND(H13=Probable,I13=Moderado),"Riesgo Extremo",IF(AND(H13=Probable,I13=Mayor),"Riesgo Extremo",IF(AND(H13=Probable,I13=Catastrofico),"Riesgo Extremo",IF(AND(H13=Casi,I13=Insignificante),"Riesgo Alto",IF(AND(H13=Casi,I13=Menor),"Riesgo Alto",IF(AND(H13=Casi,I13=Moderado),"Riesgo Extremo",IF(AND(H13=Casi,I13=Mayor),"Riesgo Extremo",IF(AND(H13=Casi,I13=Catastrofico),"Riesgo Extremo",0)))))))))))))))))))))))) -> Riesgo Extremo | L13: Contratista 100% | M13: Reducir probabilidad | N13: Raro (Puede ocurrir excepcionalmente) | O13: Mayor | P13: =+IF(AND(N13=Raro,O13=Insignificante),2,IF(AND(N13=Raro,O13=Menor),2,IF(AND(N13=Raro,O13=Moderado),2,IF(AND(N13=Raro,O13=Mayor),5,IF(AND(N13=Raro,O13=Catastrofico),7,IF(AND(N13=Improbable,O13=Insignificante),2,IF(AND(N13=Improbable,O13=Moderado),5,IF(AND(N13=Improbable,O13=Mayor),7,IF(AND(N13=Improbable,O13=Catastrofico),2,IF(AND(N13=Posible,O13=Insignificante),2,IF(AND(N13=Posible,O13=Menor),5,IF(AND(N13=Posible,O13=Moderado),7,IF(AND(N13=Posible,O13=Mayor),7,IF(AND(N13=Posible,O13=Catastrofico),10,IF(AND(N13=Probable,O13=Insignificante),5,IF(AND(N13=Probable,O13=Menor),7,IF(AND(N13=Probable,O13=Catastrofico),10,IF(AND(N13=Casi,O13=Insignificante),7,IF(AND(N13=Casi,O13=Menor),7,10))))))))))))))))))) -> 5 | Q13: =+IF(AND(N13=Raro,O13=Insignificante),"Riesgo Bajo",IF(AND(N13=Raro,O13=Menor),"Riesgo Bajo",IF(AND(N13=Raro,O13=Moderado),"Riesgo Bajo",IF(AND(N13=Raro,O13=Mayor),"Riesgo Medio",IF(AND(N13=Raro,O13=Catastrofico),"Riesgo Alto",IF(AND(N13=Improbable,O13=Insignificante),"Riesgo Bajo",IF(AND(N13=Improbable,O13=Moderado),"Riesgo Mediano",IF(AND(N13=Improbable,O13=Mayor),"Riesgo Alto",IF(AND(N13=Improbable,O13=Catastrofico),"Riesgo Bajo",IF(AND(N13=Posible,O13=Insignificante),"Riesgo Bajo",IF(AND(N13=Posible,O13=Menor),"Riesgo Medio",IF(AND(N13=Posible,O13=Moderado),"Riesgo Alto",IF(AND(N13=Posible,O13=Mayor),"Riesgo Alto",IF(AND(N13=Posible,O13=Catastrofico),"Riesgo Extremo",IF(AND(N13=Probable,O13=Insignificante),"Riesgo Medio",IF(AND(N13=Probable,O13=Menor),"Riesgo Alto",IF(AND(N13=Probable,O13=Catastrofico),"Riesgo Extremo",IF(AND(N13=Casi,O13=Insignificante),"Riesgo Alto",IF(AND(N13=Casi,O13=Menor),"Riesgo Alto","Riesgo Extremo"))))))))))))))))))) -> Riesgo Medio | R13: Si | S13: Supervisor del Contrato por parte de la Entidad | T13: Iniciación de ejecución del contrato | U13: Terminación de ejecución del contrato | V13: Verificacion de condiciones en el sitio de trabajo y seguimiento detallado del cronograma de obra por parte del supervisor | W13: Semanal
A14: =+A13+1 -> 10 | J14: =+IF(AND(H14=Raro,I14=Insignificante),1,IF(AND(H14=Raro,I14=Menor),1,IF(AND(H14=Raro,I14=Moderado),1,IF(AND(H14=Raro,I14=Mayor),5,IF(AND(H14=Raro,I14=Catastrofico),7,IF(AND(H14=Improbable,I14=Insignificante),"1",IF(AND(H14=Improbable,I14=Menor),1,IF(AND(H14=Improbable,I14=Moderado),5,IF(AND(H14=Improbable,I14=Catastrofico),7,IF(AND(H14=Posible,I14=Insignificante),1,IF(AND(H14=Posible,I14=Menor),5,IF(AND(H14=Posible,I14=Moderado),7,IF(AND(H14=Posible,I14=Mayor),7,IF(AND(H14=Posible,I14=Catastrofico),10,IF(AND(H14=Probable,I14=Insignificante),5,IF(AND(H14=Probable,I14=Menor),7,IF(AND(H14=Probable,I14=Moderado),7,IF(AND(H14=Probable,I14=Mayor),10,IF(AND(H14=Probable,I14=Catastrofico),10,IF(AND(H14=Casi,I14=Insignificante),7,IF(AND(H14=Casi,I14=Menor),7,IF(AND(H14=Casi,I14=Moderado),10,IF(AND(H14=Casi,I14=Mayor),10,IF(AND(H14=Casi,I14=Catastrofico),10,0)))))))))))))))))))))))) -> 0 | K14: =+IF(AND(H14=Raro,I14=Insignificante),"Riesgo Bajo",IF(AND(H14=Raro,I14=Menor),"Riesgo Bajo",IF(AND(H14=Raro,I14=Moderado),"Riesgo Bajo",IF(AND(H14=Raro,I14=Mayor),"Riesgo Medio",IF(AND(H14=Raro,I14=Catastrofico),"Riesgo Alto",IF(AND(H14=Improbable,I14=Insignificante),"Riesgo Bajo",IF(AND(H14=Improbable,I14=Menor),"Riesgo Bajo",IF(AND(H14=Improbable,I14=Moderado),"Riesgo Medio",IF(AND(H14=Improbable,I14=Catastrofico),"Riesgo Alto",IF(AND(H14=Posible,I14=Insignificante),"Riesgo Bajo",IF(AND(H14=Posible,I14=Menor),"Riesgo Medio",IF(AND(H14=Posible,I14=Moderado),"Riesgo Alto",IF(AND(H14=Posible,I14=Mayor),"Riesgo Alto",IF(AND(H14=Posible,I14=Catastrofico),"Riesgo Extremo",IF(AND(H14=Probable,I14=Insignificante),"Riesgo Medio",IF(AND(H14=Probable,I14=Menor),"Riesgo Alto",IF(AND(H14=Probable,I14=Moderado),"Riesgo Extremo",IF(AND(H14=Probable,I14=Mayor),"Riesgo Extremo",IF(AND(H14=Probable,I14=Catastrofico),"Riesgo Extremo",IF(AND(H14=Casi,I14=Insignificante),"Riesgo Alto",IF(AND(H14=Casi,I14=Menor),"Riesgo Alto",IF(AND(H14=Casi,I14=Moderado),"Riesgo Extremo",IF(AND(H14=Casi,I14=Mayor),"Riesgo Extremo",IF(AND(H14=Casi,I14=Catastrofico),"Riesgo Extremo",0)))))))))))))))))))))))) -> 0 | P14: =+IF(AND(N14=Raro,O14=Insignificante),2,IF(AND(N14=Raro,O14=Menor),2,IF(AND(N14=Raro,O14=Moderado),2,IF(AND(N14=Raro,O14=Mayor),5,IF(AND(N14=Raro,O14=Catastrofico),7,IF(AND(N14=Improbable,O14=Insignificante),2,IF(AND(N14=Improbable,O14=Moderado),5,IF(AND(N14=Improbable,O14=Mayor),7,IF(AND(N14=Improbable,O14=Catastrofico),2,IF(AND(N14=Posible,O14=Insignificante),2,IF(AND(N14=Posible,O14=Menor),5,IF(AND(N14=Posible,O14=Moderado),7,IF(AND(N14=Posible,O14=Mayor),7,IF(AND(N14=Posible,O14=Catastrofico),10,IF(AND(N14=Probable,O14=Insignificante),5,IF(AND(N14=Probable,O14=Menor),7,IF(AND(N14=Probable,O14=Catastrofico),10,IF(AND(N14=Casi,O14=Insignificante),7,IF(AND(N14=Casi,O14=Menor),7,10))))))))))))))))))) -> 10 | Q14: =+IF(AND(N14=Raro,O14=Insignificante),"Riesgo Bajo",IF(AND(N14=Raro,O14=Menor),"Riesgo Bajo",IF(AND(N14=Raro,O14=Moderado),"Riesgo Bajo",IF(AND(N14=Raro,O14=Mayor),"Riesgo Medio",IF(AND(N14=Raro,O14=Catastrofico),"Riesgo Alto",IF(AND(N14=Improbable,O14=Insignificante),"Riesgo Bajo",IF(AND(N14=Improbable,O14=Moderado),"Riesgo Mediano",IF(AND(N14=Improbable,O14=Mayor),"Riesgo Alto",IF(AND(N14=Improbable,O14=Catastrofico),"Riesgo Bajo",IF(AND(N14=Posible,O14=Insignificante),"Riesgo Bajo",IF(AND(N14=Posible,O14=Menor),"Riesgo Medio",IF(AND(N14=Posible,O14=Moderado),"Riesgo Alto",IF(AND(N14=Posible,O14=Mayor),"Riesgo Alto",IF(AND(N14=Posible,O14=Catastrofico),"Riesgo Extremo",IF(AND(N14=Probable,O14=Insignificante),"Riesgo Medio",IF(AND(N14=Probable,O14=Menor),"Riesgo Alto",IF(AND(N14=Probable,O14=Catastrofico),"Riesgo Extremo",IF(AND(N14=Casi,O14=Insignificante),"Riesgo Alto",IF(AND(N14=Casi,O14=Menor),"Riesgo Alto","Riesgo Extremo"))))))))))))))))))) -> Riesgo Extremo
A15: =+A14+1 -> 11 | J15: =+IF(AND(H15=Raro,I15=Insignificante),1,IF(AND(H15=Raro,I15=Menor),1,IF(AND(H15=Raro,I15=Moderado),1,IF(AND(H15=Raro,I15=Mayor),5,IF(AND(H15=Raro,I15=Catastrofico),7,IF(AND(H15=Improbable,I15=Insignificante),"1",IF(AND(H15=Improbable,I15=Menor),1,IF(AND(H15=Improbable,I15=Moderado),5,IF(AND(H15=Improbable,I15=Catastrofico),7,IF(AND(H15=Posible,I15=Insignificante),1,IF(AND(H15=Posible,I15=Menor),5,IF(AND(H15=Posible,I15=Moderado),7,IF(AND(H15=Posible,I15=Mayor),7,IF(AND(H15=Posible,I15=Catastrofico),10,IF(AND(H15=Probable,I15=Insignificante),5,IF(AND(H15=Probable,I15=Menor),7,IF(AND(H15=Probable,I15=Moderado),7,IF(AND(H15=Probable,I15=Mayor),10,IF(AND(H15=Probable,I15=Catastrofico),10,IF(AND(H15=Casi,I15=Insignificante),7,IF(AND(H15=Casi,I15=Menor),7,IF(AND(H15=Casi,I15=Moderado),10,IF(AND(H15=Casi,I15=Mayor),10,IF(AND(H15=Casi,I15=Catastrofico),10,0)))))))))))))))))))))))) -> 0 | K15: =+IF(AND(H15=Raro,I15=Insignificante),"Riesgo Bajo",IF(AND(H15=Raro,I15=Menor),"Riesgo Bajo",IF(AND(H15=Raro,I15=Moderado),"Riesgo Bajo",IF(AND(H15=Raro,I15=Mayor),"Riesgo Medio",IF(AND(H15=Raro,I15=Catastrofico),"Riesgo Alto",IF(AND(H15=Improbable,I15=Insignificante),"Riesgo Bajo",IF(AND(H15=Improbable,I15=Menor),"Riesgo Bajo",IF(AND(H15=Improbable,I15=Moderado),"Riesgo Medio",IF(AND(H15=Improbable,I15=Catastrofico),"Riesgo Alto",IF(AND(H15=Posible,I15=Insignificante),"Riesgo Bajo",IF(AND(H15=Posible,I15=Menor),"Riesgo Medio",IF(AND(H15=Posible,I15=Moderado),"Riesgo Alto",IF(AND(H15=Posible,I15=Mayor),"Riesgo Alto",IF(AND(H15=Posible,I15=Catastrofico),"Riesgo Extremo",IF(AND(H15=Probable,I15=Insignificante),"Riesgo Medio",IF(AND(H15=Probable,I15=Menor),"Riesgo Alto",IF(AND(H15=Probable,I15=Moderado),"Riesgo Extremo",IF(AND(H15=Probable,I15=Mayor),"Riesgo Extremo",IF(AND(H15=Probable,I15=Catastrofico),"Riesgo Extremo",IF(AND(H15=Casi,I15=Insignificante),"Riesgo Alto",IF(AND(H15=Casi,I15=Menor),"Riesgo Alto",IF(AND(H15=Casi,I15=Moderado),"Riesgo Extremo",IF(AND(H15=Casi,I15=Mayor),"Riesgo Extremo",IF(AND(H15=Casi,I15=Catastrofico),"Riesgo Extremo",0)))))))))))))))))))))))) -> 0 | P15: =+IF(AND(N15=Raro,O15=Insignificante),2,IF(AND(N15=Raro,O15=Menor),2,IF(AND(N15=Raro,O15=Moderado),2,IF(AND(N15=Raro,O15=Mayor),5,IF(AND(N15=Raro,O15=Catastrofico),7,IF(AND(N15=Improbable,O15=Insignificante),2,IF(AND(N15=Improbable,O15=Moderado),5,IF(AND(N15=Improbable,O15=Mayor),7,IF(AND(N15=Improbable,O15=Catastrofico),2,IF(AND(N15=Posible,O15=Insignificante),2,IF(AND(N15=Posible,O15=Menor),5,IF(AND(N15=Posible,O15=Moderado),7,IF(AND(N15=Posible,O15=Mayor),7,IF(AND(N15=Posible,O15=Catastrofico),10,IF(AND(N15=Probable,O15=Insignificante),5,IF(AND(N15=Probable,O15=Menor),7,IF(AND(N15=Probable,O15=Catastrofico),10,IF(AND(N15=Casi,O15=Insignificante),7,IF(AND(N15=Casi,O15=Menor),7,10))))))))))))))))))) -> 10 | Q15: =+IF(AND(N15=Raro,O15=Insignificante),"Riesgo Bajo",IF(AND(N15=Raro,O15=Menor),"Riesgo Bajo",IF(AND(N15=Raro,O15=Moderado),"Riesgo Bajo",IF(AND(N15=Raro,O15=Mayor),"Riesgo Medio",IF(AND(N15=Raro,O15=Catastrofico),"Riesgo Alto",IF(AND(N15=Improbable,O15=Insignificante),"Riesgo Bajo",IF(AND(N15=Improbable,O15=Moderado),"Riesgo Mediano",IF(AND(N15=Improbable,O15=Mayor),"Riesgo Alto",IF(AND(N15=Improbable,O15=Catastrofico),"Riesgo Bajo",IF(AND(N15=Posible,O15=Insignificante),"Riesgo Bajo",IF(AND(N15=Posible,O15=Menor),"Riesgo Medio",IF(AND(N15=Posible,O15=Moderado),"Riesgo Alto",IF(AND(N15=Posible,O15=Mayor),"Riesgo Alto",IF(AND(N15=Posible,O15=Catastrofico),"Riesgo Extremo",IF(AND(N15=Probable,O15=Insignificante),"Riesgo Medio",IF(AND(N15=Probable,O15=Menor),"Riesgo Alto",IF(AND(N15=Probable,O15=Catastrofico),"Riesgo Extremo",IF(AND(N15=Casi,O15=Insignificante),"Riesgo Alto",IF(AND(N15=Casi,O15=Menor),"Riesgo Alto","Riesgo Extremo"))))))))))))))))))) -> Riesgo Extremo
A16: =+A15+1 -> 12 | J16: =+IF(AND(H16=Raro,I16=Insignificante),1,IF(AND(H16=Raro,I16=Menor),1,IF(AND(H16=Raro,I16=Moderado),1,IF(AND(H16=Raro,I16=Mayor),5,IF(AND(H16=Raro,I16=Catastrofico),7,IF(AND(H16=Improbable,I16=Insignificante),"1",IF(AND(H16=Improbable,I16=Menor),1,IF(AND(H16=Improbable,I16=Moderado),5,IF(AND(H16=Improbable,I16=Catastrofico),7,IF(AND(H16=Posible,I16=Insignificante),1,IF(AND(H16=Posible,I16=Menor),5,IF(AND(H16=Posible,I16=Moderado),7,IF(AND(H16=Posible,I16=Mayor),7,IF(AND(H16=Posible,I16=Catastrofico),10,IF(AND(H16=Probable,I16=Insignificante),5,IF(AND(H16=Probable,I16=Menor),7,IF(AND(H16=Probable,I16=Moderado),7,IF(AND(H16=Probable,I16=Mayor),10,IF(AND(H16=Probable,I16=Catastrofico),10,IF(AND(H16=Casi,I16=Insignificante),7,IF(AND(H16=Casi,I16=Menor),7,IF(AND(H16=Casi,I16=Moderado),10,IF(AND(H16=Casi,I16=Mayor),10,IF(AND(H16=Casi,I16=Catastrofico),10,0)))))))))))))))))))))))) -> 0 | K16: =+IF(AND(H16=Raro,I16=Insignificante),"Riesgo Bajo",IF(AND(H16=Raro,I16=Menor),"Riesgo Bajo",IF(AND(H16=Raro,I16=Moderado),"Riesgo Bajo",IF(AND(H16=Raro,I16=Mayor),"Riesgo Medio",IF(AND(H16=Raro,I16=Catastrofico),"Riesgo Alto",IF(AND(H16=Improbable,I16=Insignificante),"Riesgo Bajo",IF(AND(H16=Improbable,I16=Menor),"Riesgo Bajo",IF(AND(H16=Improbable,I16=Moderado),"Riesgo Medio",IF(AND(H16=Improbable,I16=Catastrofico),"Riesgo Alto",IF(AND(H16=Posible,I16=Insignificante),"Riesgo Bajo",IF(AND(H16=Posible,I16=Menor),"Riesgo Medio",IF(AND(H16=Posible,I16=Moderado),"Riesgo Alto",IF(AND(H16=Posible,I16=Mayor),"Riesgo Alto",IF(AND(H16=Posible,I16=Catastrofico),"Riesgo Extremo",IF(AND(H16=Probable,I16=Insignificante),"Riesgo Medio",IF(AND(H16=Probable,I16=Menor),"Riesgo Alto",IF(AND(H16=Probable,I16=Moderado),"Riesgo Extremo",IF(AND(H16=Probable,I16=Mayor),"Riesgo Extremo",IF(AND(H16=Probable,I16=Catastrofico),"Riesgo Extremo",IF(AND(H16=Casi,I16=Insignificante),"Riesgo Alto",IF(AND(H16=Casi,I16=Menor),"Riesgo Alto",IF(AND(H16=Casi,I16=Moderado),"Riesgo Extremo",IF(AND(H16=Casi,I16=Mayor),"Riesgo Extremo",IF(AND(H16=Casi,I16=Catastrofico),"Riesgo Extremo",0)))))))))))))))))))))))) -> 0 | P16: =+IF(AND(N16=Raro,O16=Insignificante),2,IF(AND(N16=Raro,O16=Menor),2,IF(AND(N16=Raro,O16=Moderado),2,IF(AND(N16=Raro,O16=Mayor),5,IF(AND(N16=Raro,O16=Catastrofico),7,IF(AND(N16=Improbable,O16=Insignificante),2,IF(AND(N16=Improbable,O16=Moderado),5,IF(AND(N16=Improbable,O16=Mayor),7,IF(AND(N16=Improbable,O16=Catastrofico),2,IF(AND(N16=Posible,O16=Insignificante),2,IF(AND(N16=Posible,O16=Menor),5,IF(AND(N16=Posible,O16=Moderado),7,IF(AND(N16=Posible,O16=Mayor),7,IF(AND(N16=Posible,O16=Catastrofico),10,IF(AND(N16=Probable,O16=Insignificante),5,IF(AND(N16=Probable,O16=Menor),7,IF(AND(N16=Probable,O16=Catastrofico),10,IF(AND(N16=Casi,O16=Insignificante),7,IF(AND(N16=Casi,O16=Menor),7,10))))))))))))))))))) -> 10 | Q16: =+IF(AND(N16=Raro,O16=Insignificante),"Riesgo Bajo",IF(AND(N16=Raro,O16=Menor),"Riesgo Bajo",IF(AND(N16=Raro,O16=Moderado),"Riesgo Bajo",IF(AND(N16=Raro,O16=Mayor),"Riesgo Medio",IF(AND(N16=Raro,O16=Catastrofico),"Riesgo Alto",IF(AND(N16=Improbable,O16=Insignificante),"Riesgo Bajo",IF(AND(N16=Improbable,O16=Moderado),"Riesgo Mediano",IF(AND(N16=Improbable,O16=Mayor),"Riesgo Alto",IF(AND(N16=Improbable,O16=Catastrofico),"Riesgo Bajo",IF(AND(N16=Posible,O16=Insignificante),"Riesgo Bajo",IF(AND(N16=Posible,O16=Menor),"Riesgo Medio",IF(AND(N16=Posible,O16=Moderado),"Riesgo Alto",IF(AND(N16=Posible,O16=Mayor),"Riesgo Alto",IF(AND(N16=Posible,O16=Catastrofico),"Riesgo Extremo",IF(AND(N16=Probable,O16=Insignificante),"Riesgo Medio",IF(AND(N16=Probable,O16=Menor),"Riesgo Alto",IF(AND(N16=Probable,O16=Catastrofico),"Riesgo Extremo",IF(AND(N16=Casi,O16=Insignificante),"Riesgo Alto",IF(AND(N16=Casi,O16=Menor),"Riesgo Alto","Riesgo Extremo"))))))))))))))))))) -> Riesgo Extremo
A17: =+A16+1 -> 13 | J17: =+IF(AND(H17=Raro,I17=Insignificante),1,IF(AND(H17=Raro,I17=Menor),1,IF(AND(H17=Raro,I17=Moderado),1,IF(AND(H17=Raro,I17=Mayor),5,IF(AND(H17=Raro,I17=Catastrofico),7,IF(AND(H17=Improbable,I17=Insignificante),"1",IF(AND(H17=Improbable,I17=Menor),1,IF(AND(H17=Improbable,I17=Moderado),5,IF(AND(H17=Improbable,I17=Catastrofico),7,IF(AND(H17=Posible,I17=Insignificante),1,IF(AND(H17=Posible,I17=Menor),5,IF(AND(H17=Posible,I17=Moderado),7,IF(AND(H17=Posible,I17=Mayor),7,IF(AND(H17=Posible,I17=Catastrofico),10,IF(AND(H17=Probable,I17=Insignificante),5,IF(AND(H17=Probable,I17=Menor),7,IF(AND(H17=Probable,I17=Moderado),7,IF(AND(H17=Probable,I17=Mayor),10,IF(AND(H17=Probable,I17=Catastrofico),10,IF(AND(H17=Casi,I17=Insignificante),7,IF(AND(H17=Casi,I17=Menor),7,IF(AND(H17=Casi,I17=Moderado),10,IF(AND(H17=Casi,I17=Mayor),10,IF(AND(H17=Casi,I17=Catastrofico),10,0)))))))))))))))))))))))) -> 0 | K17: =+IF(AND(H17=Raro,I17=Insignificante),"Riesgo Bajo",IF(AND(H17=Raro,I17=Menor),"Riesgo Bajo",IF(AND(H17=Raro,I17=Moderado),"Riesgo Bajo",IF(AND(H17=Raro,I17=Mayor),"Riesgo Medio",IF(AND(H17=Raro,I17=Catastrofico),"Riesgo Alto",IF(AND(H17=Improbable,I17=Insignificante),"Riesgo Bajo",IF(AND(H17=Improbable,I17=Menor),"Riesgo Bajo",IF(AND(H17=Improbable,I17=Moderado),"Riesgo Medio",IF(AND(H17=Improbable,I17=Catastrofico),"Riesgo Alto",IF(AND(H17=Posible,I17=Insignificante),"Riesgo Bajo",IF(AND(H17=Posible,I17=Menor),"Riesgo Medio",IF(AND(H17=Posible,I17=Moderado),"Riesgo Alto",IF(AND(H17=Posible,I17=Mayor),"Riesgo Alto",IF(AND(H17=Posible,I17=Catastrofico),"Riesgo Extremo",IF(AND(H17=Probable,I17=Insignificante),"Riesgo Medio",IF(AND(H17=Probable,I17=Menor),"Riesgo Alto",IF(AND(H17=Probable,I17=Moderado),"Riesgo Extremo",IF(AND(H17=Probable,I17=Mayor),"Riesgo Extremo",IF(AND(H17=Probable,I17=Catastrofico),"Riesgo Extremo",IF(AND(H17=Casi,I17=Insignificante),"Riesgo Alto",IF(AND(H17=Casi,I17=Menor),"Riesgo Alto",IF(AND(H17=Casi,I17=Moderado),"Riesgo Extremo",IF(AND(H17=Casi,I17=Mayor),"Riesgo Extremo",IF(AND(H17=Casi,I17=Catastrofico),"Riesgo Extremo",0)))))))))))))))))))))))) -> 0 | P17: =+IF(AND(N17=Raro,O17=Insignificante),2,IF(AND(N17=Raro,O17=Menor),2,IF(AND(N17=Raro,O17=Moderado),2,IF(AND(N17=Raro,O17=Mayor),5,IF(AND(N17=Raro,O17=Catastrofico),7,IF(AND(N17=Improbable,O17=Insignificante),2,IF(AND(N17=Improbable,O17=Moderado),5,IF(AND(N17=Improbable,O17=Mayor),7,IF(AND(N17=Improbable,O17=Catastrofico),2,IF(AND(N17=Posible,O17=Insignificante),2,IF(AND(N17=Posible,O17=Menor),5,IF(AND(N17=Posible,O17=Moderado),7,IF(AND(N17=Posible,O17=Mayor),7,IF(AND(N17=Posible,O17=Catastrofico),10,IF(AND(N17=Probable,O17=Insignificante),5,IF(AND(N17=Probable,O17=Menor),7,IF(AND(N17=Probable,O17=Catastrofico),10,IF(AND(N17=Casi,O17=Insignificante),7,IF(AND(N17=Casi,O17=Menor),7,10))))))))))))))))))) -> 10 | Q17: =+IF(AND(N17=Raro,O17=Insignificante),"Riesgo Bajo",IF(AND(N17=Raro,O17=Menor),"Riesgo Bajo",IF(AND(N17=Raro,O17=Moderado),"Riesgo Bajo",IF(AND(N17=Raro,O17=Mayor),"Riesgo Medio",IF(AND(N17=Raro,O17=Catastrofico),"Riesgo Alto",IF(AND(N17=Improbable,O17=Insignificante),"Riesgo Bajo",IF(AND(N17=Improbable,O17=Moderado),"Riesgo Mediano",IF(AND(N17=Improbable,O17=Mayor),"Riesgo Alto",IF(AND(N17=Improbable,O17=Catastrofico),"Riesgo Bajo",IF(AND(N17=Posible,O17=Insignificante),"Riesgo Bajo",IF(AND(N17=Posible,O17=Menor),"Riesgo Medio",IF(AND(N17=Posible,O17=Moderado),"Riesgo Alto",IF(AND(N17=Posible,O17=Mayor),"Riesgo Alto",IF(AND(N17=Posible,O17=Catastrofico),"Riesgo Extremo",IF(AND(N17=Probable,O17=Insignificante),"Riesgo Medio",IF(AND(N17=Probable,O17=Menor),"Riesgo Alto",IF(AND(N17=Probable,O17=Catastrofico),"Riesgo Extremo",IF(AND(N17=Casi,O17=Insignificante),"Riesgo Alto",IF(AND(N17=Casi,O17=Menor),"Riesgo Alto","Riesgo Extremo"))))))))))))))))))) -> Riesgo Extremo
R18: CATEGORIZACIÓN DE LOS RIESGOS
F19: Nota: Borrar Las filas que no se requieran | R19: N° | S19: Calificación total | T19: Categoría
R20: =+A5 -> 1 | S20: =+Q5 -> Riesgo Medio | T20: =+VLOOKUP(S20,clasificadores!$L$6:$M$14,2,0) -> #N/A
R21: =+A6 -> 2 | S21: =+Q6 -> Riesgo Alto | T21: =+VLOOKUP(S21,clasificadores!$L$6:$M$14,2,0) -> #N/A
R22: =+A7 -> 3 | S22: =+Q7 -> Riesgo Bajo | T22: =+VLOOKUP(S22,clasificadores!$L$6:$M$14,2,0) -> #N/A
R23: =+A8 -> 4 | S23: =+Q8 -> Riesgo Bajo | T23: =+VLOOKUP(S23,clasificadores!$L$6:$M$14,2,0) -> #N/A
R24: =+A9 -> 5 | S24: =+Q9 -> Riesgo Bajo | T24: =+VLOOKUP(S24,clasificadores!$L$6:$M$14,2,0) -> #N/A
R25: =+A10 -> 6 | S25: =+Q10 -> Riesgo Bajo | T25: =+VLOOKUP(S25,clasificadores!$L$6:$M$14,2,0) -> #N/A
R26: =+A11 -> 7 | S26: =+Q11 -> Riesgo Bajo | T26: =+VLOOKUP(S26,clasificadores!$L$6:$M$14,2,0) -> #N/A
R27: =+A12 -> 8 | S27: =+Q12 -> Riesgo Bajo | T27: =+VLOOKUP(S27,clasificadores!$L$6:$M$14,2,0) -> #N/A
R28: =+A13 -> 9 | S28: =+Q13 -> Riesgo Medio | T28: =+VLOOKUP(S28,clasificadores!$L$6:$M$14,2,0) -> #N/A
R29: =+A14 -> 10
R30: =+A15 -> 11
R32: Nota: Borrar Las filas que no se requieran
R34: Fuente: | S34: Elaborado por Fiscalía General de la Nación
R35: Fecha de Análisis: | S35: =+TODAY() -> 43543
B44: ó

Sheet clasificadores
I1: la
B5: Clase | C5: Fuente | D5: Etapa | E5: Tipo | F5: Probabilidad | G5: Valoracion Probabilidad | H5: Impacto | I5: Valoración Impacto | J5: 0 | K5: Tratamiento/Controles a ser implementados | L5: Calificación total | M5: Categoría
B6: General | C6: Interno | D6: Planeación | E6: Económicos | F6: Raro (Puede ocurrir excepcionalmente) | G6: 1 | H6: Insignificante | I6: 1 | J6: Entidad 100% | K6: Evitar | L6: 10 | M6: Riesgo extremo
B7: Específico | C7: Externo | D7: Selección | E7: Sociales o Políticos | F7: Improbable (Puede ocurrir excepcionalmente) | G7: 2 | H7: Menor | I7: 2 | J7: Contratista 100% | K7: Transferir | L7: 9 | M7: Riesgo alto
D8: Contratación | E8: Operacionales | F8: Posible (Puede ocurrir en cualquier momento futuro) | G8: 3 | H8: Moderado | I8: 3 | J8: Entidad 50% y Contratista 50% | K8: Aceptar | L8: 8 | M8: Riesgo alto
D9: Ejecución | E9: Financieros | F9: Probable (Probablemente va a ocurrir) | G9: 4 | H9: Mayor | I9: 4 | J9: Entidad 60% y Contratista 40% | K9: Reducir probabilidad | L9: 7 | M9: Riesgo alto
E10: Regulatorios | F10: Casi Cierto (Ocurre en la mayoría de circunstancias | G10: 5 | H10: Catastrófico | I10: 5 | J10: Entidad 70% y Contratista 30% | K10: Reducir impacto | L10: 6 | M10: Riesgo medio
E11: De la Naturaleza | J11: Entidad 80% y Contratista 20% | L11: 5 | M11: Riesgo medio
E12: Ambientales | J12: Entidad 90% y Contratista 10% | L12: 4 | M12: Riesgo bajo
E13: Tecnológicos | J13: Entidad 40% y Contratista 60% | L13: 3 | M13: Riesgo bajo
J14: Entidad 30% y Contratista 70% | L14: 2 | M14: Riesgo bajo
J15: Entidad 20% y Contratista 80%
J16: Entidad 10% y Contratista 90%
E22: Categoría | F22: Valoración | G22: Insignificante | H22: Menor | I22: Moderado | J22: Mayor | K22: Catastrófico
G23: 1 | H23: 2 | I23: 3 | J23: 4 | K23: 5
