Workbook
Name \a: [1]PJ!#REF!
Name \a: [1]PJ!#REF!
Name \a: [1]PJ!#REF!
Name \L: #REF!
Name \L: #REF!
Name \L: #REF!
Name \P: #REF!
Name \P: #REF!
Name \P: #REF!
Name \s: #REF!
Name \s: #REF!
Name \s: #REF!
Name ________________________PJ50: #REF!
Name ________________________PJ50: #REF!
Name ________________________PJ50: #REF!
Name _______________________pj51: #REF!
Name _______________________pj51: #REF!
Name _______________________pj51: #REF!
Name ______________________PJ50: #REF!
Name ______________________PJ50: #REF!
Name ______________________PJ50: #REF!
Name _____________________PJ50: #REF!
Name _____________________PJ50: #REF!
Name _____________________PJ50: #REF!
Name _____________________pj51: #REF!
Name _____________________pj51: #REF!
Name _____________________pj51: #REF!
Name _____________________xz2: #REF!
Name _____________________xz2: #REF!
Name _____________________xz2: #REF!
Name ____________________PJ50: #REF!
Name ____________________PJ50: #REF!
Name ____________________PJ50: #REF!
Name ____________________pj51: #REF!
Name ____________________pj51: #REF!
Name ____________________pj51: #REF!
Name ____________________xz2: #REF!
Name ____________________xz2: #REF!
Name ____________________xz2: #REF!
Name ___________________PJ50: #REF!
Name ___________________PJ50: #REF!
Name ___________________PJ50: #REF!
Name ___________________pj51: #REF!
Name ___________________pj51: #REF!
Name ___________________pj51: #REF!
Name ___________________xz2: #REF!
Name ___________________xz2: #REF!
Name ___________________xz2: #REF!
Name __________________PJ50: #REF!
Name __________________PJ50: #REF!
Name __________________PJ50: #REF!
Name __________________pj51: #REF!
Name __________________pj51: #REF!
Name __________________pj51: #REF!
Name __________________xz2: #REF!
Name __________________xz2: #REF!
Name __________________xz2: #REF!
Name _________________PJ50: #REF!
Name _________________PJ50: #REF!
Name _________________PJ50: #REF!

Sheet CANTIDADES
B1: NOMBRE DEL PROYECTO | D1: CONSTRUCCION DE HORNILLAS ECOEFICIENTES EN ECOSISTEMAS DE CONSERVACION ESTRATEGICOS DE ZONA RURAL.
B2: UBICACIÓN | D2: MUNICIPIO DE PITALITO - HUILA
B4: MEMORIA DE CALCULOS DE CANTIDADES
B8: =+'PTO HORNILLA'!B7 -> 1.1 | C8: =+'PTO HORNILLA'!C7:D7 -> Localización y replanteo con Comision de Topografia. | F8: Càlculo | K8: =+'PTO HORNILLA'!E7 -> M2
F10: Largo | G10: 1.16 | I10: Ancho | J10: 0.88 | K10: =+G10*J10 -> 1.0208
B12: =+'PTO HORNILLA'!B9 -> 2.1 | C12: =+'PTO HORNILLA'!C9:D9 -> Suministro e instalacion de compuerta para leña: en fundición gris de 20 cm de alto x 24cm de ancho profundidad 6 cms, con pasador de seguridad y espesor de 2 cm, con agarradera para evitar contacto directo con la compuerta resistentes a temperaturas de 500 oc como mínimo. dureza brinell mínimo 183, resistencia a la tensión mínima 276 mpa. | F12: Calculo | K12: =+'PTO HORNILLA'!E9 -> UND
F14: CANTIDAD | I14: 1 | K14: 1
B16: =+'PTO HORNILLA'!B10 -> 2.2 | C16: =+'PTO HORNILLA'!C10:D10 -> Suministro e instalacion de cenicero en lámina calibre 18” de 18 cm x 18 cm x 10 cm con manija en platina | F16: CANTIDAD | K16: =+'PTO HORNILLA'!E10 -> UND
F18: CANTIDAD | I18: 2 | K18: 2
B25: =+'PTO HORNILLA'!B11 -> 2.3 | C25: =+'PTO HORNILLA'!C11:D11 -> Suministro e instalacion de compuerta de aireacion: largo 20cm. ancho 11 cm. tapa 20 x 10 cm. en lamina cold rolled calibre 18 y manija en platina | F25: CANTIDAD | K25: =+'PTO HORNILLA'!E11 -> UND
F27: CANTIDAD | I27: 1 | K27: 1
B32: =+'PTO HORNILLA'!B12 -> 2.4 | C32: =+'PTO HORNILLA'!C12:D12 -> Suministro e instalacion de horno en lamina cold rolled calibre 20: dimensiones 30 cm. ancho 25 cm. profundidad 40 cm., con tapa en aluminio serrado a presión a 32,5 cm. x 32,5 cm. reforzada en los bordes con platina de 1" x 1/8, con manija en aluminio y dos bisagras de armillar peso 6.5 kilos, con bandeja interna en lámina de 39.5 cm. x 22 cm. y pestaña de 2 cm. en lámina cold rolled calibre 20. Incluye Melaza (Miel de Purga) | F32: CALCULO | K32: =+'PTO HORNILLA'!E12 -> UND
F34: CANTIDAD | I34: 1 | K34: 1
B36: =+'PTO HORNILLA'!B13 -> 2.5 | C36: =+'PTO HORNILLA'!C13:D13 -> Suministro e instalacion tanque calentador de agua con su respectiva tapa los dos elemetos en acero inoxidable calibre 20 tipo 304, con una profundidad de 26 cm, la parte superior de 15,5 cm x 22 cm,la parte inferior de 13 cm x 16,5 cm, la tapa de 23 cm x 20,5 cm con su respectivo boton de agarre, asi mismo el caldero debe llevar un aro de agarre en varilla de calibre 3/16 y un refuerzo en el borde superior con platina de 2,5 ml con una pulgada en acero inoxidable. peso 1.340 gramos, dureza mínima en escala vicker mínima de 160 hv. | F36: CALCULO | J36: =+'PTO HORNILLA'!E13 -> UND
F38: CANTIDAD | H38: 1 | J38: 1
B40: =+'PTO HORNILLA'!B14 -> 2.6 | C40: =+'PTO HORNILLA'!C14:D14 -> Suministro e instalacion de parrilla para leña: en fundición gris de 37.5 x 19.5 cm de largo y 17 mm de espesor, resistentes a temperaturas de 500 oc como mínimo, con 22 ranuras de 2 cms cada una dureza brinell mínimo 183, resistencia a la tensión mínima 276 mpa. | F40: CALCULO | J40: =+'PTO HORNILLA'!E14 -> UND
F42: CANTIDAD | H42: 1 | J42: 1
B46: =+'PTO HORNILLA'!B15 -> 2.7 | C46: =+'PTO HORNILLA'!C15:D15 -> Suministro e instalacion de plancha en hierro de fundicion gris de 29 cm de ancho por 56 cm de largo y 2 boquillas de 18,5 cm de diametro con sus respectivos discos de graduacion (resistentes a temperaturas de 500°c como minimo), dureza brinell mínimo 183, resistentes a temperaturas de 500 °c. | F46: CALCULO | J46: =+'PTO HORNILLA'!E15 -> UND
F48: CANTIDAD | H48: 2 | J48: 2
B55: =+'PTO HORNILLA'!B16 -> 2.8 | C55: =+'PTO HORNILLA'!C16:D16 -> Suministro e instalacion de escuadra en angulo de hierro de 1 1/4" x1/8 de 1,16 metos x 0.88 metros un tubo separador de 8 cm de 7/8 redondo calibre 18. peso aproximado 5.5 kilos. | F55: CALCULO | J55: UND
F57: CANTIDAD | H57: 1 | J57: 1
B62: =+'PTO HORNILLA'!B17 -> 2.9 | C62: =+'PTO HORNILLA'!C17:D17 -> Suministro e instalacion de chimenea cilindro en lámina galvanizada calibre 20 de 12 cm de diámetro x 2.5 metros de tiro. Incluye gorro chino de chimenea : construido en lamina galvanizada calibre 20, y soportado con 3 varillas de 1/4 por 25 cm, diámetro 35 cm, las varillas deber ir unidas entre si, con un aro en lamina calibre 18, con orificios de sujecion en los estremos para tornillos de 1,5 pulgadas por 1/4 de diametro con su respectiva tuerca. | F62: CALCULO | J62: UND
F64: CANTIDAD | H64: 1 | J64: 1
B75: 2.10 | C75: =+'PTO HORNILLA'!C18:D18 -> Suministro e instalacion de barra de acero para soporte de planchas corrugada de 12mm, para soporte de planchas (6 m) | F75: CALCULO | J75: ML
F77: CANTIDAD | H77: 1.1908088 | J77: 1.1908088
B82: 3.1 | C82: =+'PTO HORNILLA'!C20:D20 -> Mamposteria en ladrillo prensado a la vista 6x12x25 cm | F82: CALCULO
C83: LADRILLO PRENSADO A LA VISTA | F83: AREA 1 Y 3 | G83: AREA 2 Y 4 | H83: CANTIDAD LADRILLOS POR AREA (M2) SIN DESPERDICIO | I83: CANTIDAD LADRILLOS POR AREA (M2) CON DESPERDICIO | J83: UND LADRILLOS
C84: AREA TOTAL | E84: =+F84+G84 -> 2.96 | F84: =0.84+0.84 -> 1.68 | G84: =0.64+0.64 -> 1.28 | H84: =+(1/(0.25+0.015))*(0.06+0.015) -> 0.28301887 | I84: =29+(37*5%) -> 30.85 | J84: =+(F84+G84)*I84 -> 91.316
B89: 3.2 | C89: =+'PTO HORNILLA'!C21:D21 -> Mamposteria ladrillo TOLETE comun 6x12x25 cm | F89: CALCULO
C90: Ladrillo TOLETE comun 6X12X25 cm | G90: AREA | H90: CANTIDAD LADRILLOS POR AREA (M2) SIN DESPERDICIO | I90: CANTIDAD LADRILLOS POR AREA (M2) CON DESPERDICIO | J90: UND LADRILLOS
G91: =(1.16*0.85)*2 -> 1.972 | H91: =+(1/(0.25+0.015))*(0.06+0.015) -> 0.28301887 | I91: =29+(37*5%) -> 30.85 | J91: =+(G91)*I91 -> 60.8362
B94: 3.3 | C94: =+'PTO HORNILLA'!C22:D22 -> Suministro e instalacion de tableta vitrificada lisa irial 25 cm x25 cm | F94: CALCULO
C95: Tableta vitrificada lisa irial 25X25 Cm | G95: AREA | H95: AREA TABLETA | I95: CANTIDAD DE TABLETAS REQUERIDAS
G96: =0.8-0.16-0.16-0.056 -> 0.424 | H96: =0.25*0.25 -> 0.0625 | I96: =+G96/H96 -> 6.784
B98: Elaboró: JUAN SEBASTIAN RIVERA RIVERA | I98: Revisó: ALEXANDER MORALES RAMIREZ
B99: Cargo:APOYO PROFESIONAL AREA OPERATIVA | I99: Cargo: TEC. ADMINISTRATIVO OFICINA AMBIENTE Y GESTION DE RIESGO
B100: Firma: | I100: Firma:

Sheet PRESUPUESTO GENERAL HORNILLAS
B2: NOMBRE DEL PROYECTO | D2: PRESUPUESTO GENERAL DE OBRA CONSTRUCCION DE HORNILLAS ECOEFICIENTES EN ECOSISTEMAS DE CONSERVACION ESTRATEGICOS DE ZONA RURAL.
B3: UBICACIÓN | D3: MUNICIPIO DE PITALITO - HUILA
B5: ITEM | C5: DESCRIPCION | E5: UND | F5: CANT | G5: V.UNITARIO | H5: SUBTOTAL
B6: 1 | C6: LOCALIZACION | K6: Mamposteria ladrillo TOLETE comun 6x12x25 cm
B7: =+'1.1'!C6 -> 1.1 | C7: Localización y replanteo con Comision de Topografia. | E7: =+'1.1'!M5 -> M2 | F7: =+(CANTIDADES!K10)*132 -> 134.7456 | G7: =+'1.1'!M40 -> 6247.2727 | H7: =+F7*G7 -> 841792.51
B8: 2. | C8: ORNAMENTACION | K8: Mampostería ladrillo adobe macizo de 6x10x20 cm (contrapiso)
B9: =+'2.1'!C6 -> 2.1 | C9: Suministro e instalacion de compuerta para leña: en fundición gris de 20 cm de alto x 24cm de ancho profundidad 6 cms, con pasador de seguridad y espesor de 2 cm, con agarradera para evitar contacto directo con la compuerta resistentes a temperaturas de 500 oc como mínimo. dureza brinell mínimo 183, resistencia a la tensión mínima 276 mpa. | E9: =+'2.1'!M5 -> UND | F9: =+CANTIDADES!K14*132 -> 132 | G9: =+'2.1'!M40 -> 173465.4 | H9: =+F9*G9 -> 22897433
B10: =+'2.2'!C6 -> 2.2 | C10: Suministro e instalacion de cenicero en lámina calibre 18” de 18 cm x 18 cm x 10 cm con manija en platina | E10: =+'2.2'!M5 -> UND | F10: =+CANTIDADES!K18*132 -> 264 | G10: =+'2.2'!M40 -> 151979.4 | H10: =+G10*F10 -> 40122561
B11: =+'2.3'!C6 -> 2.3 | C11: Suministro e instalacion de compuerta de aireacion: largo 20cm. ancho 11 cm. tapa 20 x 10 cm. en lamina cold rolled calibre 18 y manija en platina | E11: =+'2.3'!M5 -> UND | F11: =+CANTIDADES!K27*132 -> 132 | G11: =+'2.3'!M40 -> 93465.398 | H11: =+G11*F11 -> 12337433
B12: =+'2.4'!C6 -> 2.4 | C12: Suministro e instalacion de horno en lamina cold rolled calibre 20: dimensiones 30 cm. ancho 25 cm. profundidad 40 cm., con tapa en aluminio serrado a presión a 32,5 cm. x 32,5 cm. reforzada en los bordes con platina de 1" x 1/8, con manija en aluminio y dos bisagras de armillar peso 6.5 kilos, con bandeja interna en lámina de 39.5 cm. x 22 cm. y pestaña de 2 cm. en lámina cold rolled calibre 20. Incluye Melaza (Miel de Purga) | E12: =+'2.4'!M5 -> UND | F12: =+CANTIDADES!K34*132 -> 132 | G12: =+'2.4'!M40 -> 154790.4 | H12: =+G12*F12 -> 20432333
B13: =+'2.5'!C6 -> 2.5 | C13: Suministro e instalacion tanque calentador de agua con su respectiva tapa los dos elemetos en acero inoxidable calibre 20 tipo 304, con una profundidad de 26 cm, la parte superior de 15,5 cm x 22 cm,la parte inferior de 13 cm x 16,5 cm, la tapa de 23 cm x 20,5 cm con su respectivo boton de agarre, asi mismo el caldero debe llevar un aro de agarre en varilla de calibre 3/16 y un refuerzo en el borde superior con platina de 2,5 ml con una pulgada en acero inoxidable. peso 1.340 gramos, dureza mínima en escala vicker mínima de 160 hv. | E13: =+'2.5'!M5 -> UND | F13: =+CANTIDADES!J38*132 -> 132 | G13: =+'2.5'!M40 -> 133465.4 | H13: =+G13*F13 -> 17617433
B14: =+'2.6'!C6 -> 2.6 | C14: Suministro e instalacion de parrilla para leña: en fundición gris de 37.5 x 19.5 cm de largo y 17 mm de espesor, resistentes a temperaturas de 500 oc como mínimo, con 22 ranuras de 2 cms cada una dureza brinell mínimo 183, resistencia a la tensión mínima 276 mpa. | E14: =+'2.6'!M5 -> UND | F14: =+CANTIDADES!J42*132 -> 132 | G14: =+'2.6'!M40 -> 32934.654 | H14: =+G14*F14 -> 4347374.3
B15: =+'2.7'!C6 -> 2.7 | C15: Suministro e instalacion de plancha en hierro de fundicion gris de 29 cm de ancho por 56 cm de largo y 2 boquillas de 18,5 cm de diametro con sus respectivos discos de graduacion (resistentes a temperaturas de 500°c como minimo), dureza brinell mínimo 183, resistentes a temperaturas de 500 °c. | E15: =+'2.7'!M5 -> UND | F15: =+CANTIDADES!J48*132 -> 264 | G15: =+'2.7'!M40 -> 174317.77 | H15: =+G15*F15 -> 46019892
B16: =+'2.8'!C6 -> 2.8 | C16: Suministro e instalacion de escuadra en angulo de hierro de 1 1/4" x1/8 de 1,16 metos x 0.88 metros un tubo separador de 8 cm de 7/8 redondo calibre 18. peso aproximado 5.5 kilos. | E16: =+'2.8'!M5 -> UND | F16: =+CANTIDADES!J57*132 -> 132 | G16: =+'2.8'!M40 -> 73096.335 | H16: =+G16*F16 -> 9648716.3
B17: =+'2.9'!C6 -> 2.9 | C17: Suministro e instalacion de chimenea cilindro en lámina galvanizada calibre 20 de 12 cm de diámetro x 2.5 metros de tiro. Incluye gorro chino de chimenea : construido en lamina galvanizada calibre 20, y soportado con 3 varillas de 1/4 por 25 cm, diámetro 35 cm, las varillas deber ir unidas entre si, con un aro en lamina calibre 18, con orificios de sujecion en los estremos para tornillos de 1,5 pulgadas por 1/4 de diametro con su respectiva tuerca. | E17: =+'2.9'!M5 -> UND | F17: =+CANTIDADES!J64*132 -> 132 | G17: =+'2.9'!M40 -> 169317.77 | H17: =+G17*F17 -> 22349946
B18: =+'2.10'!C6 -> 2.10 | C18: Suministro e instalacion de barra de acero para soporte de planchas corrugada de 12mm, para soporte de planchas (6 m) | E18: ML | F18: =+CANTIDADES!J77*132 -> 157.18676 | G18: =+'2.10'!M40 -> 7126.5111 | H18: =+G18*F18 -> 1120193.2 | J18: =+H18+J23 -> -2.479357e+08
B19: 3 | C19: CONSTRUCCIÓN HORNILLA ECOEFICIENTE
B20: =+'3.1'!C6 -> 3.1 | C20: Mamposteria en ladrillo prensado a la vista 6x12x25 cm | E20: =+'3.1'!M5 -> M2 | F20: =+CANTIDADES!E84*132 -> 390.72 | G20: =+'3.1'!M40 -> 80678.381 | H20: =+G20*F20 -> 31522657
B21: =+'3.2'!C6 -> 3.2 | C21: Mamposteria ladrillo TOLETE comun 6x12x25 cm | E21: =+'3.2'!M5 -> M2 | F21: =+CANTIDADES!G91*132 -> 260.304 | G21: =+'3.2'!M40 -> 71423.381 | H21: =+G21*F21 -> 18591792
B22: 3.3 | C22: Suministro e instalacion de tableta vitrificada lisa irial 25 cm x25 cm | E22: =+'3.3'!M5 -> M2 | F22: =+CANTIDADES!G96*132 -> 55.968 | G22: =+'3.3'!M40 -> 55523.256 | H22: =+G22*F22 -> 3107525.6
E23: COSTOS DIRECTOS OBRA CIVIL | H23: =+H7+H9+H10+H11+H12+H13+H14+H15+H16+H17+H18+H20+H21+H22 -> 2.5095708e+08 | I23: 1901190 | J23: =+I23-H23 -> -2.4905589e+08
B24: ADMINISTRACION 22% | H24: =+H23*22% -> 55210558
B25: IMPREVISTOS 1% | H25: =+H23*1% -> 2509570.8
B26: UTILIDAD 5% | H26: =+H23*5% -> 12547854
B27: TOTAL A.I.U. | H27: =+SUM(H24:H26) -> 70267982
B28: TOTAL COSTOS DIRECTOS DE OBRA CIVIL +AIU | H28: =+(H23+H27)+105.8 -> 3.2122517e+08 | I28: 321225168 | J28: =+H28-I28 -> 0.20002866
B45: COSTO TOTAL DE OBRA CIVIL + SUMINISTRO | H45: 5655715285
B46: COSTO TOTAL INTERVENTORIA 7% | H46: =+(H28*7%)+112 -> 22485874 | I46: =+#REF!-28 -> #REF!
B48: COSTO TOTAL DEL PROYECTO | H48: =+H28+H46 -> 3.4371104e+08 | I48: 343710930
I49: =+H48 -> 3.4371104e+08
B50: SON: (TRESCIENTOS CUARENTA Y TRES MILLONES SETECIENTOS DIEZ MIL NOVECIENTOS TREINTA PESOS) | I50: =+I48-I49 -> -111.97403
B52: NOTA: Los valores de las cantidades deben ser redondeadas a dos (02) decimales, los valores unitarios deben ser redondeados a cero (0) decimales, los valores totales deben ser redondeados a cero (0) decimales
B55: Elaboró: JUAN SEBASTIAN RIVERA RIVERA | E55: Reviso:ALEXANDER MORALES RAMIREZ
B56: Cargo: INGENIERO CIVIL - OFICINA DE AMBIENTE Y GESTION DE RIESGO | E56: Cargo:TEC. ADM. OFICINA AMBIENTE Y GESTION DE RIESGO
B57: Firma: | E57: Firma:

Sheet PTO HORNILLA
B2: NOMBRE DEL PROYECTO | D2: PRESUPUESTO GENERAL DE OBRA CONSTRUCCION DE HORNILLAS ECOEFICIENTES EN ECOSISTEMAS DE CONSERVACION ESTRATEGICOS DE ZONA RURAL.
B3: UBICACIÓN | D3: MUNICIPIO DE PITALITO - HUILA
B5: ITEM | C5: DESCRIPCION | E5: UND | F5: CANT | G5: V.UNITARIO | H5: SUBTOTAL
B6: 1 | C6: LOCALIZACION | K6: Mamposteria ladrillo TOLETE comun 6x12x25 cm
B7: =+'1.1'!C6 -> 1.1 | C7: Localización y replanteo con Comision de Topografia. | E7: =+'1.1'!M5 -> M2 | F7: =+CANTIDADES!K10 -> 1.0208 | G7: =+'1.1'!M40 -> 6247.2727 | H7: =+F7*G7 -> 6377.216
B8: 2. | C8: ORNAMENTACION | K8: Mampostería ladrillo adobe macizo de 6x10x20 cm (contrapiso)
B9: =+'2.1'!C6 -> 2.1 | C9: Suministro e instalacion de compuerta para leña: en fundición gris de 20 cm de alto x 24cm de ancho profundidad 6 cms, con pasador de seguridad y espesor de 2 cm, con agarradera para evitar contacto directo con la compuerta resistentes a temperaturas de 500 oc como mínimo. dureza brinell mínimo 183, resistencia a la tensión mínima 276 mpa. | E9: =+'2.1'!M5 -> UND | F9: =+CANTIDADES!K14 -> 1 | G9: =+'2.1'!M40 -> 173465.4 | H9: =+F9*G9 -> 173465.4
B10: =+'2.2'!C6 -> 2.2 | C10: Suministro e instalacion de cenicero en lámina calibre 18” de 18 cm x 18 cm x 10 cm con manija en platina | E10: =+'2.2'!M5 -> UND | F10: =+CANTIDADES!K18 -> 2 | G10: =+'2.2'!M40 -> 151979.4 | H10: =+G10*F10 -> 303958.8
B11: =+'2.3'!C6 -> 2.3 | C11: Suministro e instalacion de compuerta de aireacion: largo 20cm. ancho 11 cm. tapa 20 x 10 cm. en lamina cold rolled calibre 18 y manija en platina | E11: =+'2.3'!M5 -> UND | F11: =+CANTIDADES!K27 -> 1 | G11: =+'2.3'!M40 -> 93465.398 | H11: =+G11*F11 -> 93465.398
B12: =+'2.4'!C6 -> 2.4 | C12: Suministro e instalacion de horno en lamina cold rolled calibre 20: dimensiones 30 cm. ancho 25 cm. profundidad 40 cm., con tapa en aluminio serrado a presión a 32,5 cm. x 32,5 cm. reforzada en los bordes con platina de 1" x 1/8, con manija en aluminio y dos bisagras de armillar peso 6.5 kilos, con bandeja interna en lámina de 39.5 cm. x 22 cm. y pestaña de 2 cm. en lámina cold rolled calibre 20. Incluye Melaza (Miel de Purga) | E12: =+'2.4'!M5 -> UND | F12: =+CANTIDADES!K34 -> 1 | G12: =+'2.4'!M40 -> 154790.4 | H12: =+G12*F12 -> 154790.4
B13: =+'2.5'!C6 -> 2.5 | C13: Suministro e instalacion tanque calentador de agua con su respectiva tapa los dos elemetos en acero inoxidable calibre 20 tipo 304, con una profundidad de 26 cm, la parte superior de 15,5 cm x 22 cm,la parte inferior de 13 cm x 16,5 cm, la tapa de 23 cm x 20,5 cm con su respectivo boton de agarre, asi mismo el caldero debe llevar un aro de agarre en varilla de calibre 3/16 y un refuerzo en el borde superior con platina de 2,5 ml con una pulgada en acero inoxidable. peso 1.340 gramos, dureza mínima en escala vicker mínima de 160 hv. | E13: =+'2.5'!M5 -> UND | F13: =+CANTIDADES!J38 -> 1 | G13: =+'2.5'!M40 -> 133465.4 | H13: =+G13*F13 -> 133465.4
B14: =+'2.6'!C6 -> 2.6 | C14: Suministro e instalacion de parrilla para leña: en fundición gris de 37.5 x 19.5 cm de largo y 17 mm de espesor, resistentes a temperaturas de 500 oc como mínimo, con 22 ranuras de 2 cms cada una dureza brinell mínimo 183, resistencia a la tensión mínima 276 mpa. | E14: =+'2.6'!M5 -> UND | F14: =+CANTIDADES!J42 -> 1 | G14: =+'2.6'!M40 -> 32934.654 | H14: =+G14*F14 -> 32934.654
B15: =+'2.7'!C6 -> 2.7 | C15: Suministro e instalacion de plancha en hierro de fundicion gris de 29 cm de ancho por 56 cm de largo y 2 boquillas de 18,5 cm de diametro con sus respectivos discos de graduacion (resistentes a temperaturas de 500°c como minimo), dureza brinell mínimo 183, resistentes a temperaturas de 500 °c. | E15: =+'2.7'!M5 -> UND | F15: =+CANTIDADES!J48 -> 2 | G15: =+'2.7'!M40 -> 174317.77 | H15: =+G15*F15 -> 348635.55
B16: =+'2.8'!C6 -> 2.8 | C16: Suministro e instalacion de escuadra en angulo de hierro de 1 1/4" x1/8 de 1,16 metos x 0.88 metros un tubo separador de 8 cm de 7/8 redondo calibre 18. peso aproximado 5.5 kilos. | E16: =+'2.8'!M5 -> UND | F16: =+CANTIDADES!J57 -> 1 | G16: =+'2.8'!M40 -> 73096.335 | H16: =+G16*F16 -> 73096.335
B17: =+'2.9'!C6 -> 2.9 | C17: Suministro e instalacion de chimenea cilindro en lámina galvanizada calibre 20 de 12 cm de diámetro x 2.5 metros de tiro. Incluye gorro chino de chimenea : construido en lamina galvanizada calibre 20, y soportado con 3 varillas de 1/4 por 25 cm, diámetro 35 cm, las varillas deber ir unidas entre si, con un aro en lamina calibre 18, con orificios de sujecion en los estremos para tornillos de 1,5 pulgadas por 1/4 de diametro con su respectiva tuerca. | E17: =+'2.9'!M5 -> UND | F17: =+CANTIDADES!J64 -> 1 | G17: =+'2.9'!M40 -> 169317.77 | H17: =+G17*F17 -> 169317.77
B18: =+'2.10'!C6 -> 2.10 | C18: Suministro e instalacion de barra de acero para soporte de planchas corrugada de 12mm, para soporte de planchas (6 m) | E18: ML | F18: =+CANTIDADES!J77 -> 1.1908088 | G18: =+'2.10'!M40 -> 7126.5111 | H18: =+G18*F18 -> 8486.3121 | J18: =+H18+J23 -> 8486.3121
B19: 3 | C19: CONSTRUCCIÓN HORNILLA ECOEFICIENTE
B20: =+'3.1'!C6 -> 3.1 | C20: Mamposteria en ladrillo prensado a la vista 6x12x25 cm | E20: =+'3.1'!M5 -> M2 | F20: =+CANTIDADES!E84 -> 2.96 | G20: =+'3.1'!M40 -> 80678.381 | H20: =+G20*F20 -> 238808.01
B21: =+'3.2'!C6 -> 3.2 | C21: Mamposteria ladrillo TOLETE comun 6x12x25 cm | E21: =+'3.2'!M5 -> M2 | F21: =+CANTIDADES!G91 -> 1.972 | G21: =+'3.2'!M40 -> 71423.381 | H21: =+G21*F21 -> 140846.91
B22: 3.3 | C22: Suministro e instalacion de tableta vitrificada lisa irial 25 cm x25 cm | E22: =+'3.3'!M5 -> M2 | F22: =+CANTIDADES!G96 -> 0.424 | G22: =+'3.3'!M40 -> 55523.256 | H22: =+G22*F22 -> 23541.861
E23: COSTOS DIRECTOS OBRA CIVIL | H23: =+H7+H9+H10+H11+H12+H13+H14+H15+H16+H17+H18+H20+H21+H22 -> 1901190 | I23: 1901190 | J23: =+I23-H23 -> -1.6973354e-07
B24: ADMINISTRACION 22% | H24: =+H23*22% -> 418261.8
B25: IMPREVISTOS 1% | H25: =+H23*1% -> 19011.9
B26: UTILIDAD 5% | H26: =+H23*5% -> 95059.5
B27: TOTAL A.I.U. | H27: =+SUM(H24:H26) -> 532333.2
B28: TOTAL COSTOS DIRECTOS DE OBRA CIVIL +AIU | H28: =+(H23+H27)+1 -> 2433524.2
B45: COSTO TOTAL DE OBRA CIVIL + SUMINISTRO | H45: 5655715285
B46: COSTOS DIRECTOS TOTALES DE 132 HORNILLAS INCLUYE A.I.U. | G46: 132 | H46: =+(H28*G46)-26 -> 3.2122517e+08 | I46: 321225168 | J46: =+H46-I46 -> 0.40002865
B47: COSTO TOTAL INTERVENTORIA 7% | H47: =+(H46-400)*7% -> 22485734 | I47: =+H46-28 -> 3.2122514e+08
B49: COSTO TOTAL DEL PROYECTO | H49: =+H46+H47 -> 3.437109e+08 | I49: 22485734
B51: SON: (TRESCIENTOS CUARENTA Y TRES MILLONES SETECIENTOS DIEZ MIL NOVECIENTOS TREINTA PESOS)
B53: NOTA: Los valores de las cantidades deben ser redondeadas a dos (02) decimales, los valores unitarios deben ser redondeados a cero (0) decimales, los valores totales deben ser redondeados a cero (0) decimales
B56: Elaboró: JUAN SEBASTIAN RIVERA RIVERA | E56: Reviso:ALEXANDER MORALES RAMIREZ
B57: Cargo: INGENIERO CIVIL - OFICINA DE AMBIENTE Y GESTION DE RIESGO | E57: Cargo:TEC. ADM. OFICINA AMBIENTE Y GESTION DE RIESGO
B58: Firma: | E58: Firma:

Sheet 1.1
B2: NOMBRE DEL PROYECTO | D2: =+'PTO HORNILLA'!D2 -> PRESUPUESTO GENERAL DE OBRA CONSTRUCCION DE HORNILLAS ECOEFICIENTES EN ECOSISTEMAS DE CONSERVACION ESTRATEGICOS DE ZONA RURAL.
B3: UBICACIÓN | D3: MUNICIPIO DE PITALITO - HUILA
B5: CAPITULO: | C5: 1 | D5: Localización y replanteo con Comision de Topografia. | L5: UNIDAD: | M5: M2
B6: ITEM: | C6: 1.1
B8: MATERIALES
B9: DESCRIPCIÓN | J9: UND | K9: CANT | L9: V/UNITARIO | M9: V/TOTAL
L14: SUBTOTAL | M14: 0
B16: MAQUINARIA Y EQUIPO
B17: DESCRIPCIÓN | J17: UND | K17: RENDIMIENTO | L17: V/UNITARIO | M17: V/TOTAL
B18: Herramienta menor 10% M.O | J18: GBL | K18: 0.1 | L18: 3200 | M18: =+L18*K18 -> 320
L23: SUBTOTAL | M23: =+M18 -> 320
B25: TRANSPORTE
B26: DESCRIPCIÓN | I26: UND | J26: CANT | K26: DISTANCIA | L26: V/UNITARIO | M26: V/TOTAL
B27: =+INSUMOS!B268 -> Motocarguero | I27: VIAJE | J27: 1 | K27: 11 | L27: =+INSUMOS!D268 -> 30000 | M27: =+L27/K27 -> 2727.2727
L31: SUBTOTAL | M31: =+M27 -> 2727.2727
B33: MANO DE OBRA
B34: DESCRIPCION | I34: UND | J34: CANT | K34: RENDIMIENTO | L34: V/UNIT CON FACTOR. P. | M34: V/TOTAL
B35: Cuadrilla AA 1Of+1Ay (Albañilería) | I35: DIA | J35: 1 | K35: 6 | L35: 19200 | M35: =+L35/K35 -> 3200
L38: SUBTOTAL | M38: =+M35 -> 3200
K40: COSTOS DIRECTOS | M40: =+M23+M14+M31+M38 -> 6247.2727 | N40: 3520
J41: ADMINISTRACIÓN | L41: 0.22 | M41: =+M40*L41 -> 1374.4
J42: IMPREVISTOS | L42: 0.01 | M42: =+M40*L42 -> 62.472727
J43: UTILIDAD | L43: 0.05 | M43: =+M40*L43 -> 312.36364
J44: COSTOS INDIRECTOS | M44: =+SUM(M41:M43) -> 1749.2364
J45: COSTO TOTAL | M45: =+M40+M44 -> 7996.5091
B47: NOTA: Las cantidades se redondean a cero (0) decimales.
B50: Elaboró: JUAN SEBASTIAN RIVERA RIVERA | I50: Revisó: ALEXANDER MORALES RAMIREZ
B51: Cargo:INGENIERO CIVIL - OFICINA DE AMBIENTE Y GESTION DE RIESGO | I51: Cargo: TEC. ADMINISTRATIVO OFICINA AMBIENTE Y GESTION DE RIESGO
B52: Firma: | I52: Firma:

Sheet 2.1
B2: NOMBRE DEL PROYECTO | D2: =+'PTO HORNILLA'!D2 -> PRESUPUESTO GENERAL DE OBRA CONSTRUCCION DE HORNILLAS ECOEFICIENTES EN ECOSISTEMAS DE CONSERVACION ESTRATEGICOS DE ZONA RURAL.
B3: UBICACIÓN | D3: MUNICIPIO DE PITALITO - HUILA
B5: CAPITULO: | C5: 2 | D5: =+'PTO HORNILLA'!C9 -> Suministro e instalacion de compuerta para leña: en fundición gris de 20 cm de alto x 24cm de ancho profundidad 6 cms, con pasador de seguridad y espesor de 2 cm, con agarradera para evitar contacto directo con la compuerta resistentes a temperaturas de 500 oc como mínimo. dureza brinell mínimo 183, resistencia a la tensión mínima 276 mpa. | L5: UNIDAD: | M5: UND
B6: ITEM: | C6: 2.1
B8: MATERIALES
B9: DESCRIPCIÓN | J9: UND | K9: CANT | L9: V/UNITARIO | M9: V/TOTAL
B10: =+INSUMOS!B267 -> Compuerta para leña: en fundición gris de 20 cm de alto x 24cm de ancho profundidad 6 cms, con pasador de seguridad y espesor de 2 cm, con agarradera para evitar contacto directo con la compuerta resistentes a temperaturas de 500 oc como mínimo. dureza brinell mínimo 183, resistencia a la tensión mínima 276 mpa. | J10: =+INSUMOS!C267 -> UND | K10: 1 | L10: =+INSUMOS!D267 -> 150000 | M10: =+L10*K10 -> 150000
L14: SUBTOTAL | M14: =+M10 -> 150000
B16: MAQUINARIA Y EQUIPO
B17: DESCRIPCIÓN | J17: UND | K17: RENDIMIENTO | L17: V/UNITARIO | M17: V/TOTAL
B18: Herramienta menor 10% M.O | J18: GBL | K18: 0.1 | L18: =+M38 -> 18852.841 | M18: =+L18*K18 -> 1885.2841
L23: SUBTOTAL | M23: =+M18 -> 1885.2841
B25: TRANSPORTE
B26: DESCRIPCIÓN | I26: UND | J26: CANT | K26: DISTANCIA (KM) | L26: V/UNITARIO | M26: V/TOTAL
B27: =+INSUMOS!B268 -> Motocarguero | I27: =+INSUMOS!C268 -> VIAJE | K27: 11 | L27: =+INSUMOS!D268 -> 30000 | M27: =+L27/K27 -> 2727.2727
L31: SUBTOTAL | M31: =+M27 -> 2727.2727
B33: MANO DE OBRA
B34: DESCRIPCION | I34: UND | J34: CANT | K34: RENDIMIENTO | L34: V/UNIT CON FACTOR. P. | M34: V/TOTAL
B35: =+'M DE OBRA'!B38:F38 -> Cuadrilla 5: 1 OfcA + 1 AyuA | I35: JORNAL | J35: 1 | K35: 0.1 | L35: =+'M DE OBRA'!M38 -> 188528.41 | M35: =+L35*K35 -> 18852.841
L38: SUBTOTAL | M38: =+M35 -> 18852.841
K40: COSTOS DIRECTOS | M40: =+M23+M14+M31+M38 -> 173465.4
J41: ADMINISTRACIÓN | L41: 0.22 | M41: =+M40*L41 -> 38162.388
J42: IMPREVISTOS | L42: 0.01 | M42: =+M40*L42 -> 1734.654
J43: UTILIDAD | L43: 0.05 | M43: =+M40*L43 -> 8673.2699
J44: COSTOS INDIRECTOS | M44: =+SUM(M41:M43) -> 48570.311
J45: COSTO TOTAL | M45: =+M40+M44 -> 222035.71
B47: NOTA: Las cantidades se redondean a cero (0) decimales.
B50: Elaboró: JUAN SEBASTIAN RIVERA RIVERA | I50: Revisó: ALEXANDER MORALES RAMIREZ
B51: Cargo:INGENIERO CIVIL - OFICINA DE AMBIENTE Y GESTION DE RIESGO | I51: Cargo: TEC. ADMINISTRATIVO OFICINA AMBIENTE Y GESTION DE RIESGO
B52: Firma: | I52: Firma:

Sheet 2.2
B2: NOMBRE DEL PROYECTO | D2: =+'PTO HORNILLA'!D2 -> PRESUPUESTO GENERAL DE OBRA CONSTRUCCION DE HORNILLAS ECOEFICIENTES EN ECOSISTEMAS DE CONSERVACION ESTRATEGICOS DE ZONA RURAL.
B3: UBICACIÓN | D3: MUNICIPIO DE PITALITO - HUILA
B5: CAPITULO: | C5: 2 | D5: =+'PTO HORNILLA'!C10 -> Suministro e instalacion de cenicero en lámina calibre 18” de 18 cm x 18 cm x 10 cm con manija en platina | L5: UNIDAD: | M5: UND
B6: ITEM: | C6: 2.2
B8: MATERIALES
B9: DESCRIPCIÓN | J9: UND | K9: CANT | L9: V/UNITARIO | M9: V/TOTAL
B10: =+INSUMOS!B269 -> Cenicero en lámina calibre 18” de 18 cm x 18 cm x 10 cm con manija en platina | J10: =+INSUMOS!C269 -> UND | K10: 2 | L10: =+INSUMOS!D269 -> 64257 | M10: =+L10*K10 -> 128514 | O10: =+L10/2 -> 32128.5
L14: SUBTOTAL | M14: =+SUM(M10:M12) -> 128514 | O14: =+M14-N41 -> 105048.6
B16: MAQUINARIA Y EQUIPO
B17: DESCRIPCIÓN | J17: UND | K17: RENDIMIENTO | L17: V/UNITARIO | M17: V/TOTAL
B18: Herramienta menor 10% M.O | J18: GBL | K18: 0.1 | L18: =+M38 -> 18852.841 | M18: =+L18*K18 -> 1885.2841
L23: SUBTOTAL | M23: =+M18 -> 1885.2841
B25: TRANSPORTE
B26: DESCRIPCIÓN | I26: UND | J26: CANT | K26: DISTANCIA (KM) | L26: V/UNITARIO | M26: V/TOTAL
B27: =+INSUMOS!B268 -> Motocarguero | I27: =+INSUMOS!C268 -> VIAJE | K27: 11 | L27: =+INSUMOS!D268 -> 30000 | M27: =+L27/K27 -> 2727.2727
L31: SUBTOTAL | M31: =+M27 -> 2727.2727
B33: MANO DE OBRA
B34: DESCRIPCION | I34: UND | J34: CANT | K34: RENDIMIENTO | L34: V/UNIT CON FACTOR. P. | M34: V/TOTAL
B35: =+'M DE OBRA'!B38:F38 -> Cuadrilla 5: 1 OfcA + 1 AyuA | I35: JORNAL | J35: 1 | K35: 0.1 | L35: =+'M DE OBRA'!M38 -> 188528.41 | M35: =+L35*K35 -> 18852.841
L38: SUBTOTAL | M38: =+M35 -> 18852.841
K40: COSTOS DIRECTOS | M40: =+M23+M14+M31+M38 -> 151979.4 | N40: 151070
J41: ADMINISTRACIÓN | L41: 0.22 | M41: =+M40*L41 -> 33435.468 | N41: =+M38+M31+M23 -> 23465.398
J42: IMPREVISTOS | L42: 0.01 | M42: =+M40*L42 -> 1519.794 | N42: =+N40-N41 -> 127604.6
J43: UTILIDAD | L43: 0.05 | M43: =+M40*L43 -> 7598.9699 | N43: =+N42/2 -> 63802.301
J44: COSTOS INDIRECTOS | M44: =+SUM(M41:M43) -> 42554.231
J45: COSTO TOTAL | M45: =+M40+M44 -> 194533.63
B47: NOTA: Las cantidades se redondean a cero (0) decimales.
B50: Elaboró: JUAN SEBASTIAN RIVERA RIVERA | I50: Revisó: ALEXANDER MORALES RAMIREZ
B51: Cargo:INGENIERO CIVIL - OFICINA DE AMBIENTE Y GESTION DE RIESGO | I51: Cargo: TEC. ADMINISTRATIVO OFICINA AMBIENTE Y GESTION DE RIESGO
B52: Firma: | I52: Firma:

Sheet 2.3
B2: NOMBRE DEL PROYECTO | D2: =+'PTO HORNILLA'!D2 -> PRESUPUESTO GENERAL DE OBRA CONSTRUCCION DE HORNILLAS ECOEFICIENTES EN ECOSISTEMAS DE CONSERVACION ESTRATEGICOS DE ZONA RURAL.
B3: UBICACIÓN | D3: MUNICIPIO DE PITALITO - HUILA
B5: CAPITULO: | C5: 2 | D5: =+'PTO HORNILLA'!C11 -> Suministro e instalacion de compuerta de aireacion: largo 20cm. ancho 11 cm. tapa 20 x 10 cm. en lamina cold rolled calibre 18 y manija en platina | L5: UNIDAD: | M5: UND
B6: ITEM: | C6: 2.3
B8: MATERIALES
B9: DESCRIPCIÓN | J9: UND | K9: CANT | L9: V/UNITARIO | M9: V/TOTAL
B10: =+INSUMOS!B270 -> Compuerta de aireacion: largo 20cm. ancho 11 cm. tapa 20 x 10 cm. en lamina cold rolled calibre 18 y manija en platina | J10: =+INSUMOS!C270 -> UND | K10: 1 | L10: =+INSUMOS!D270 -> 70000 | M10: =+L10*K10 -> 70000
M11: =+L11*K11 -> 0
M12: =+K12*L12 -> 0
L14: SUBTOTAL | M14: =+SUM(M10:M12) -> 70000
B16: MAQUINARIA Y EQUIPO
B17: DESCRIPCIÓN | J17: UND | K17: RENDIMIENTO | L17: V/UNITARIO | M17: V/TOTAL
B18: Herramienta menor 10% M.O | J18: GBL | K18: 0.1 | L18: =+M38 -> 18852.841 | M18: =+L18*K18 -> 1885.2841
L23: SUBTOTAL | M23: =+M18 -> 1885.2841
B25: TRANSPORTE
B26: DESCRIPCIÓN | I26: UND | J26: CANT | K26: DISTANCIA (KM) | L26: V/UNITARIO | M26: V/TOTAL
B27: =+INSUMOS!B268 -> Motocarguero | I27: =+INSUMOS!C268 -> VIAJE | J27: 1 | K27: 11 | L27: =+INSUMOS!D268 -> 30000 | M27: =+L27/K27 -> 2727.2727
L31: SUBTOTAL | M31: =+M27 -> 2727.2727
B33: MANO DE OBRA
B34: DESCRIPCION | I34: UND | J34: CANT | K34: RENDIMIENTO | L34: V/UNIT CON FACTOR. P. | M34: V/TOTAL
B35: =+'M DE OBRA'!B38:F38 -> Cuadrilla 5: 1 OfcA + 1 AyuA | I35: JORNAL | J35: 1 | K35: 0.1 | L35: =+'M DE OBRA'!M38 -> 188528.41 | M35: =+L35*K35 -> 18852.841
L38: SUBTOTAL | M38: =+M35 -> 18852.841
K40: COSTOS DIRECTOS | M40: =+M23+M14+M31+M38 -> 93465.398 | N40: 70200
J41: ADMINISTRACIÓN | L41: 0.22 | M41: =+M40*L41 -> 20562.388 | N41: =+M38+M31+M23 -> 23465.398
J42: IMPREVISTOS | L42: 0.01 | M42: =+M40*L42 -> 934.65398 | N42: =+N40-N41 -> 46734.602
J43: UTILIDAD | L43: 0.05 | M43: =+M40*L43 -> 4673.2699
J44: COSTOS INDIRECTOS | M44: =+SUM(M41:M43) -> 26170.311
J45: COSTO TOTAL | M45: =+M40+M44 -> 119635.71
B47: NOTA: Las cantidades se redondean a cero (0) decimales.
B50: Elaboró: JUAN SEBASTIAN RIVERA RIVERA | I50: Revisó: ALEXANDER MORALES RAMIREZ
B51: Cargo:INGENIERO CIVIL - OFICINA DE AMBIENTE Y GESTION DE RIESGO | I51: Cargo: TEC. ADMINISTRATIVO OFICINA AMBIENTE Y GESTION DE RIESGO
B52: Firma: | I52: Firma:

Sheet 2.4
B2: NOMBRE DEL PROYECTO | D2: =+'PTO HORNILLA'!D2 -> PRESUPUESTO GENERAL DE OBRA CONSTRUCCION DE HORNILLAS ECOEFICIENTES EN ECOSISTEMAS DE CONSERVACION ESTRATEGICOS DE ZONA RURAL.
B3: UBICACIÓN | D3: MUNICIPIO DE PITALITO - HUILA
B5: CAPITULO: | C5: 2 | D5: =+'PTO HORNILLA'!C12 -> Suministro e instalacion de horno en lamina cold rolled calibre 20: dimensiones 30 cm. ancho 25 cm. profundidad 40 cm., con tapa en aluminio serrado a presión a 32,5 cm. x 32,5 cm. reforzada en los bordes con platina de 1" x 1/8, con manija en aluminio y dos bisagras de armillar peso 6.5 kilos, con bandeja interna en lámina de 39.5 cm. x 22 cm. y pestaña de 2 cm. en lámina cold rolled calibre 20. Incluye Melaza (Miel de Purga) | L5: UNIDAD: | M5: UND
B6: ITEM: | C6: 2.4
B8: MATERIALES
B9: DESCRIPCIÓN | J9: UND | K9: CANT | L9: V/UNITARIO | M9: V/TOTAL
B10: =+INSUMOS!B271 -> Horno en lamina cold rolled calibre 20: dimensiones 30 cm. ancho 25 cm. profundidad 40 cm., con tapa en aluminio serrado a presión a 32,5 cm. x 32,5 cm. reforzada en los bordes con platina de 1" x 1/8, con manija en aluminio y dos bisagras de armillar peso 6.5 kilos, con bandeja interna en lámina de 39.5 cm. x 22 cm. y pestaña de 2 cm. en lámina cold rolled calibre 20. Incluye | J10: =+INSUMOS!C271 -> UND | K10: 1 | L10: =+INSUMOS!D271 -> 130000 | M10: =+L10*K10 -> 130000
B11: =+INSUMOS!B272 -> Melaza (Miel de Purga) | J11: =+INSUMOS!C272 -> KG | K11: 0.53 | L11: =+INSUMOS!D272 -> 2500 | M11: =+L11*K11 -> 1325
L14: SUBTOTAL | M14: =+SUM(M10:M12) -> 131325
B16: MAQUINARIA Y EQUIPO
B17: DESCRIPCIÓN | J17: UND | K17: RENDIMIENTO | L17: V/UNITARIO | M17: V/TOTAL
B18: Herramienta menor 10% M.O | J18: GBL | K18: 0.1 | L18: =+M38 -> 18852.841 | M18: =+L18*K18 -> 1885.2841
L23: SUBTOTAL | M23: =+M18 -> 1885.2841
B25: TRANSPORTE
B26: DESCRIPCIÓN | I26: UND | J26: CANT | K26: DISTANCIA (KM) | L26: V/UNITARIO | M26: V/TOTAL
B27: =+INSUMOS!B268 -> Motocarguero | I27: VIAJE | J27: 1 | K27: 11 | L27: =+INSUMOS!D268 -> 30000 | M27: =+L27/K27 -> 2727.2727
L31: SUBTOTAL | M31: =+M27 -> 2727.2727
B33: MANO DE OBRA
B34: DESCRIPCION | I34: UND | J34: CANT | K34: RENDIMIENTO | L34: V/UNIT CON FACTOR. P. | M34: V/TOTAL
B35: =+'M DE OBRA'!B38:F38 -> Cuadrilla 5: 1 OfcA + 1 AyuA | I35: JORNAL | J35: 1 | K35: 0.1 | L35: =+'M DE OBRA'!M38 -> 188528.41 | M35: =+L35*K35 -> 18852.841
L38: SUBTOTAL | M38: =+M35 -> 18852.841
K40: COSTOS DIRECTOS | M40: =+M23+M14+M31+M38 -> 154790.4 | N40: 130215
J41: ADMINISTRACIÓN | L41: 0.22 | M41: =+M40*L41 -> 34053.888 | N41: =+M38+M31+M23 -> 23465.398
J42: IMPREVISTOS | L42: 0.01 | M42: =+M40*L42 -> 1547.904
J43: UTILIDAD | L43: 0.05 | M43: =+M40*L43 -> 7739.5199
J44: COSTOS INDIRECTOS | M44: =+SUM(M41:M43) -> 43341.311
J45: COSTO TOTAL | M45: =+M40+M44 -> 198131.71
B47: NOTA: Las cantidades se redondean a cero (0) decimales.
B50: Elaboró: JUAN SEBASTIAN RIVERA RIVERA | I50: Revisó: ALEXANDER MORALES RAMIREZ
B51: Cargo:INGENIERO CIVIL - OFICINA DE AMBIENTE Y GESTION DE RIESGO | I51: Cargo: TEC. ADMINISTRATIVO OFICINA AMBIENTE Y GESTION DE RIESGO
B52: Firma: | I52: Firma:

Sheet 2.5
B2: NOMBRE DEL PROYECTO | D2: =+'PTO HORNILLA'!D2 -> PRESUPUESTO GENERAL DE OBRA CONSTRUCCION DE HORNILLAS ECOEFICIENTES EN ECOSISTEMAS DE CONSERVACION ESTRATEGICOS DE ZONA RURAL.
B3: UBICACIÓN | D3: MUNICIPIO DE PITALITO - HUILA
B5: CAPITULO: | C5: 2 | D5: =+'PTO HORNILLA'!C13 -> Suministro e instalacion tanque calentador de agua con su respectiva tapa los dos elemetos en acero inoxidable calibre 20 tipo 304, con una profundidad de 26 cm, la parte superior de 15,5 cm x 22 cm,la parte inferior de 13 cm x 16,5 cm, la tapa de 23 cm x 20,5 cm con su respectivo boton de agarre, asi mismo el caldero debe llevar un aro de agarre en varilla de calibre 3/16 y un refuerzo en el borde superior con platina de 2,5 ml con una pulgada en acero inoxidable. peso 1.340 gramos, dureza mínima en escala vicker mínima de 160 hv. | L5: UNIDAD: | M5: UND
B6: ITEM: | C6: 2.5
B8: MATERIALES
B9: DESCRIPCIÓN | J9: UND | K9: CANT | L9: V/UNITARIO | M9: V/TOTAL
B10: Tanque calentador de agua con su respectiva tapa los dos elemetos en acero inoxidable calibre 20 tipo 304, con una profundidad de 26 cm, la parte superior de 15,5 cm x 22 cm,la parte inferior de 13 cm x 16,5 cm, la tapa de 23 cm x 20,5 cm con su respectivo boton de agarre, asi mismo el caldero debe llevar un aro de agarre en varilla de calibre 3/16 y un refuerzo en el borde superior con platina de 2,5 ml con una pulgada en acero inoxidable. peso 1.340 gramos, dureza mínima en escala vicker mínima de 160 hv. | J10: UND | K10: 1 | L10: =+INSUMOS!D273 -> 110000 | M10: =+L10*K10 -> 110000
L14: SUBTOTAL | M14: =+SUM(M10:M12) -> 110000 | N14: 85461.693
B16: MAQUINARIA Y EQUIPO
B17: DESCRIPCIÓN | J17: UND | K17: RENDIMIENTO | L17: V/UNITARIO | M17: V/TOTAL
B18: Herramienta menor 10% M.O | J18: GBL | K18: 0.1 | L18: =+M38 -> 18852.841 | M18: =+L18*K18 -> 1885.2841
L23: SUBTOTAL | M23: =+M18 -> 1885.2841
B25: TRANSPORTE
B26: DESCRIPCIÓN | I26: UND | J26: CANT | K26: DISTANCIA (KM) | L26: V/UNITARIO | M26: V/TOTAL
B27: =+INSUMOS!B268 -> Motocarguero | I27: VIAJE | J27: 1 | K27: 11 | L27: =+INSUMOS!D268 -> 30000 | M27: =+L27/K27 -> 2727.2727
L31: SUBTOTAL | M31: =+M27 -> 2727.2727
B33: MANO DE OBRA
B34: DESCRIPCION | I34: UND | J34: CANT | K34: RENDIMIENTO | L34: V/UNIT CON FACTOR. P. | M34: V/TOTAL
B35: =+'M DE OBRA'!B38:F38 -> Cuadrilla 5: 1 OfcA + 1 AyuA | I35: JORNAL | J35: 1 | K35: 0.1 | L35: =+'M DE OBRA'!M38 -> 188528.41 | M35: =+L35*K35 -> 18852.841
L38: SUBTOTAL | M38: =+M35 -> 18852.841
K40: COSTOS DIRECTOS | M40: =+M23+M14+M31+M38 -> 133465.4 | N40: 108018
J41: ADMINISTRACIÓN | L41: 0.22 | M41: =+M40*L41 -> 29362.388 | N41: =+M38+M31+M23 -> 23465.398
J42: IMPREVISTOS | L42: 0.01 | M42: =+M40*L42 -> 1334.654 | N42: =+N40-N41 -> 84552.602
J43: UTILIDAD | L43: 0.05 | M43: =+M40*L43 -> 6673.2699
J44: COSTOS INDIRECTOS | M44: =+SUM(M41:M43) -> 37370.311
J45: COSTO TOTAL | M45: =+M40+M44 -> 170835.71
B47: NOTA: Las cantidades se redondean a cero (0) decimales.
B50: Elaboró: JUAN SEBASTIAN RIVERA RIVERA | I50: Revisó: ALEXANDER MORALES RAMIREZ
B51: Cargo:INGENIERO CIVIL - OFICINA DE AMBIENTE Y GESTION DE RIESGO | I51: Cargo: TEC. ADMINISTRATIVO OFICINA AMBIENTE Y GESTION DE RIESGO
B52: Firma: | I52: Firma:

Sheet 2.6
B2: NOMBRE DEL PROYECTO | D2: =+'PTO HORNILLA'!D2 -> PRESUPUESTO GENERAL DE OBRA CONSTRUCCION DE HORNILLAS ECOEFICIENTES EN ECOSISTEMAS DE CONSERVACION ESTRATEGICOS DE ZONA RURAL.
B3: UBICACIÓN | D3: MUNICIPIO DE PITALITO - HUILA
B5: CAPITULO: | C5: 2 | D5: =+'PTO HORNILLA'!C14 -> Suministro e instalacion de parrilla para leña: en fundición gris de 37.5 x 19.5 cm de largo y 17 mm de espesor, resistentes a temperaturas de 500 oc como mínimo, con 22 ranuras de 2 cms cada una dureza brinell mínimo 183, resistencia a la tensión mínima 276 mpa. | L5: UNIDAD: | M5: UND
B6: ITEM: | C6: 2.6
B8: MATERIALES
B9: DESCRIPCIÓN | J9: UND | K9: CANT | L9: V/UNITARIO | M9: V/TOTAL
B10: Parrilla para leña: en fundición gris de 37.5 x 19.5 cm de largo y 17 mm de espesor, resistentes a temperaturas de 500 oc como mínimo, con 22 ranuras de 2 cms cada una dureza brinell mínimo 183, resistencia a la tensión mínima 276 mpa. | J10: UND | K10: 1 | L10: =+INSUMOS!D274 -> 30000 | M10: =+L10*K10 -> 30000
M11: =+L11*K11 -> 0
M12: =+K12*L12 -> 0
L14: SUBTOTAL | M14: =+SUM(M10:M12) -> 30000 | N14: 29090
N15: =+M23+M31+M38 -> 2934.654
B16: MAQUINARIA Y EQUIPO | N16: =+N14-N15 -> 26155.346
B17: DESCRIPCIÓN | J17: UND | K17: RENDIMIENTO | L17: V/UNITARIO | M17: V/TOTAL
B18: Herramienta menor 10% M.O | J18: GBL | K18: 0.1 | L18: =+M38 -> 188.52841 | M18: =+L18*K18 -> 18.852841
L23: SUBTOTAL | M23: =+M18 -> 18.852841
B25: TRANSPORTE
B26: DESCRIPCIÓN | I26: UND | J26: CANT | K26: DISTANCIA (KM) | L26: V/UNITARIO | M26: V/TOTAL
B27: =+INSUMOS!B268 -> Motocarguero | I27: VIAJE | J27: 1 | K27: 11 | L27: =+INSUMOS!D268 -> 30000 | M27: =+L27/K27 -> 2727.2727
L31: SUBTOTAL | M31: =+M27 -> 2727.2727
B33: MANO DE OBRA
B34: DESCRIPCION | I34: UND | J34: CANT | K34: RENDIMIENTO | L34: V/UNIT CON FACTOR. P. | M34: V/TOTAL
B35: =+'M DE OBRA'!B38:F38 -> Cuadrilla 5: 1 OfcA + 1 AyuA | I35: JORNAL | J35: 1 | K35: 0.001 | L35: =+'M DE OBRA'!M38 -> 188528.41 | M35: =+L35*K35 -> 188.52841
L38: SUBTOTAL | M38: =+M35 -> 188.52841
K40: COSTOS DIRECTOS | M40: =+M23+M14+M31+M38 -> 32934.654
J41: ADMINISTRACIÓN | L41: 0.22 | M41: =+M40*L41 -> 7245.6239
J42: IMPREVISTOS | L42: 0.01 | M42: =+M40*L42 -> 329.34654
J43: UTILIDAD | L43: 0.05 | M43: =+M40*L43 -> 1646.7327
J44: COSTOS INDIRECTOS | M44: =+SUM(M41:M43) -> 9221.7031
J45: COSTO TOTAL | M45: =+M40+M44 -> 42156.357
B47: NOTA: Las cantidades se redondean a cero (0) decimales.
B50: Elaboró: JUAN SEBASTIAN RIVERA RIVERA | I50: Revisó: ALEXANDER MORALES RAMIREZ
B51: Cargo:INGENIERO CIVIL - OFICINA DE AMBIENTE Y GESTION DE RIESGO | I51: Cargo: TEC. ADMINISTRATIVO OFICINA AMBIENTE Y GESTION DE RIESGO
B52: Firma: | I52: Firma:

Sheet 2.7
B2: NOMBRE DEL PROYECTO | D2: =+'PTO HORNILLA'!D2 -> PRESUPUESTO GENERAL DE OBRA CONSTRUCCION DE HORNILLAS ECOEFICIENTES EN ECOSISTEMAS DE CONSERVACION ESTRATEGICOS DE ZONA RURAL.
B3: UBICACIÓN | D3: MUNICIPIO DE PITALITO - HUILA
B5: CAPITULO: | C5: 2 | D5: =+'PTO HORNILLA'!C15 -> Suministro e instalacion de plancha en hierro de fundicion gris de 29 cm de ancho por 56 cm de largo y 2 boquillas de 18,5 cm de diametro con sus respectivos discos de graduacion (resistentes a temperaturas de 500°c como minimo), dureza brinell mínimo 183, resistentes a temperaturas de 500 °c. | L5: UNIDAD: | M5: UND
B6: ITEM: | C6: 2.7
B8: MATERIALES
B9: DESCRIPCIÓN | J9: UND | K9: CANT | L9: V/UNITARIO | M9: V/TOTAL
B10: =+INSUMOS!B275 -> Plancha en hierro de fundicion gris de 29 cm de ancho por 56 cm de largo y 2 boquillas de 18,5 cm de diametro con sus respectivos discos de graduacion (resistentes a temperaturas de 500°c como minimo), dureza brinell mínimo 183, resistentes a temperaturas de 500 °c. | J10: UND | K10: 1 | L10: =+INSUMOS!D275 -> 155000 | M10: =+L10*K10 -> 155000
M11: =+L11*K11 -> 0
M12: =+K12*L12 -> 0
L14: SUBTOTAL | M14: =+SUM(M10:M12) -> 155000 | N14: =+M14-18409 -> 136591
B16: MAQUINARIA Y EQUIPO
B17: DESCRIPCIÓN | J17: UND | K17: RENDIMIENTO | L17: V/UNITARIO | M17: V/TOTAL
B18: Herramienta menor 10% M.O | J18: GBL | K18: 0.1 | L18: =+M38 -> 15082.273 | M18: =+L18*K18 -> 1508.2273
L23: SUBTOTAL | M23: =+M18 -> 1508.2273
B25: TRANSPORTE
B26: DESCRIPCIÓN | I26: UND | J26: CANT | K26: DISTANCIA (KM) | L26: V/UNITARIO | M26: V/TOTAL
B27: =+INSUMOS!B268 -> Motocarguero | I27: VIAJE | J27: 1 | K27: 11 | L27: =+INSUMOS!D268 -> 30000 | M27: =+L27/K27 -> 2727.2727
L31: SUBTOTAL | M31: =+M27 -> 2727.2727
B33: MANO DE OBRA
B34: DESCRIPCION | I34: UND | J34: CANT | K34: RENDIMIENTO | L34: V/UNIT CON FACTOR. P. | M34: V/TOTAL
B35: =+'M DE OBRA'!B38:F38 -> Cuadrilla 5: 1 OfcA + 1 AyuA | I35: JORNAL | J35: 1 | K35: 0.08 | L35: =+'M DE OBRA'!M38 -> 188528.41 | M35: =+L35*K35 -> 15082.273
L38: SUBTOTAL | M38: =+M35 -> 15082.273
K40: COSTOS DIRECTOS | M40: =+M23+M14+M31+M38 -> 174317.77 | N40: =+M14 -> 155000 | O40: =+M40-N40 -> 19317.773
J41: ADMINISTRACIÓN | L41: 0.22 | M41: =+M40*L41 -> 38349.91 | N41: =+M38+M31+M23 -> 19317.773
J42: IMPREVISTOS | L42: 0.01 | M42: =+M40*L42 -> 1743.1777
J43: UTILIDAD | L43: 0.05 | M43: =+M40*L43 -> 8715.8886
J44: COSTOS INDIRECTOS | M44: =+SUM(M41:M43) -> 48808.976
J45: COSTO TOTAL | M45: =+M40+M44 -> 223126.75
B47: NOTA: Las cantidades se redondean a cero (0) decimales.
B50: Elaboró: JUAN SEBASTIAN RIVERA RIVERA | I50: Revisó: ALEXANDER MORALES RAMIREZ
B51: Cargo:INGENIERO CIVIL - OFICINA DE AMBIENTE Y GESTION DE RIESGO | I51: Cargo: TEC. ADMINISTRATIVO OFICINA AMBIENTE Y GESTION DE RIESGO
B52: Firma: | I52: Firma:

Sheet 2.8
B2: NOMBRE DEL PROYECTO | D2: =+'PTO HORNILLA'!D2 -> PRESUPUESTO GENERAL DE OBRA CONSTRUCCION DE HORNILLAS ECOEFICIENTES EN ECOSISTEMAS DE CONSERVACION ESTRATEGICOS DE ZONA RURAL.
B3: UBICACIÓN | D3: MUNICIPIO DE PITALITO - HUILA
B5: CAPITULO: | C5: 2 | D5: =+'PTO HORNILLA'!C16 -> Suministro e instalacion de escuadra en angulo de hierro de 1 1/4" x1/8 de 1,16 metos x 0.88 metros un tubo separador de 8 cm de 7/8 redondo calibre 18. peso aproximado 5.5 kilos. | L5: UNIDAD: | M5: UND
B6: ITEM: | C6: 2.8
B8: MATERIALES
B9: DESCRIPCIÓN | J9: UND | K9: CANT | L9: V/UNITARIO | M9: V/TOTAL
B10: =+INSUMOS!B276 -> Escuadra en angulo de hierro de 1 1/4" x1/8 de 1,16 metos x 0.88 metros un tubo separador de 8 cm de 7/8 redondo calibre 18. peso aproximado 5.5 kilos. | J10: UND | K10: 1 | L10: =+INSUMOS!D276 -> 60000 | M10: =+L10*K10 -> 60000
L14: SUBTOTAL | M14: =+SUM(M10:M12) -> 60000
B16: MAQUINARIA Y EQUIPO
B17: DESCRIPCIÓN | J17: UND | K17: RENDIMIENTO | L17: V/UNITARIO | M17: V/TOTAL
B18: Herramienta menor 10% M.O | J18: GBL | K18: 0.1 | L18: =+M38 -> 9426.4205 | M18: =+L18*K18 -> 942.64205
L23: SUBTOTAL | M23: =+M18 -> 942.64205
B25: TRANSPORTE
B26: DESCRIPCIÓN | I26: UND | J26: CANT | K26: DISTANCIA (KM) | L26: V/UNITARIO | M26: V/TOTAL
B27: =+INSUMOS!B268 -> Motocarguero | I27: VIAJE | J27: 1 | K27: 11 | L27: =+INSUMOS!D268 -> 30000 | M27: =+L27/K27 -> 2727.2727
L31: SUBTOTAL | M31: =+M27 -> 2727.2727
B33: MANO DE OBRA
B34: DESCRIPCION | I34: UND | J34: CANT | K34: RENDIMIENTO | L34: V/UNIT CON FACTOR. P. | M34: V/TOTAL
B35: =+'M DE OBRA'!B38:F38 -> Cuadrilla 5: 1 OfcA + 1 AyuA | I35: JORNAL | J35: 1 | K35: 0.05 | L35: =+'M DE OBRA'!M38 -> 188528.41 | M35: =+L35*K35 -> 9426.4205
L38: SUBTOTAL | M38: =+M35 -> 9426.4205
K40: COSTOS DIRECTOS | M40: =+M23+M14+M31+M38 -> 73096.335 | N40: 42390
J41: ADMINISTRACIÓN | L41: 0.22 | M41: =+M40*L41 -> 16081.194 | N41: =+M40-N40 -> 30706.335
J42: IMPREVISTOS | L42: 0.01 | M42: =+M40*L42 -> 730.96335 | N42: =+N40-N41 -> 11683.665
J43: UTILIDAD | L43: 0.05 | M43: =+M40*L43 -> 3654.8168
J44: COSTOS INDIRECTOS | M44: =+SUM(M41:M43) -> 20466.974
J45: COSTO TOTAL | M45: =+M40+M44 -> 93563.309
B47: NOTA: Las cantidades se redondean a cero (0) decimales.
B50: Elaboró: JUAN SEBASTIAN RIVERA RIVERA | I50: Revisó: ALEXANDER MORALES RAMIREZ
B51: Cargo:INGENIERO CIVIL - OFICINA DE AMBIENTE Y GESTION DE RIESGO | I51: Cargo: TEC. ADMINISTRATIVO OFICINA AMBIENTE Y GESTION DE RIESGO
B52: Firma: | I52: Firma:

Sheet 2.9
B2: NOMBRE DEL PROYECTO | D2: =+'PTO HORNILLA'!D2 -> PRESUPUESTO GENERAL DE OBRA CONSTRUCCION DE HORNILLAS ECOEFICIENTES EN ECOSISTEMAS DE CONSERVACION ESTRATEGICOS DE ZONA RURAL.
B3: UBICACIÓN | D3: MUNICIPIO DE PITALITO - HUILA
B5: CAPITULO: | C5: 2 | D5: =+'PTO HORNILLA'!C17 -> Suministro e instalacion de chimenea cilindro en lámina galvanizada calibre 20 de 12 cm de diámetro x 2.5 metros de tiro. Incluye gorro chino de chimenea : construido en lamina galvanizada calibre 20, y soportado con 3 varillas de 1/4 por 25 cm, diámetro 35 cm, las varillas deber ir unidas entre si, con un aro en lamina calibre 18, con orificios de sujecion en los estremos para tornillos de 1,5 pulgadas por 1/4 de diametro con su respectiva tuerca. | L5: UNIDAD: | M5: UND
B6: ITEM: | C6: 2.9
B8: MATERIALES
B9: DESCRIPCIÓN | J9: UND | K9: CANT | L9: V/UNITARIO | M9: V/TOTAL
B10: =+INSUMOS!B277 -> Chimenea cilindro en lámina galvanizada calibre 20 de 12 cm de diámetro x 2.77 metros de tiro. | J10: UND | K10: 1 | L10: =+INSUMOS!D277 -> 100000 | M10: =+L10*K10 -> 100000
B11: =+INSUMOS!B278 -> Gorro chino de chimenea : construido en lamina galvanizada calibre 20, y soportado con 3 varillas de 1/4 por 25 cm, diámetro 35 cm, las varillas deber ir unidas entre si, con un aro en lamina calibre 18, con orificios de sujecion en los estremos para tornillos de 1,5 pulgadas por 1/4 de diametro con su respectiva tuerca. | J11: UND | K11: 1 | L11: =+INSUMOS!D278 -> 50000 | M11: =+L11*K11 -> 50000
L14: SUBTOTAL | M14: =+SUM(M10:M12) -> 150000
B16: MAQUINARIA Y EQUIPO
B17: DESCRIPCIÓN | J17: UND | K17: RENDIMIENTO | L17: V/UNITARIO | M17: V/TOTAL
B18: Herramienta menor 10% M.O | J18: GBL | K18: 0.1 | L18: =+M38 -> 15082.273 | M18: =+L18*K18 -> 1508.2273
L23: SUBTOTAL | M23: =+M18 -> 1508.2273
B25: TRANSPORTE
B26: DESCRIPCIÓN | I26: UND | J26: CANT | K26: DISTANCIA (KM) | L26: V/UNITARIO | M26: V/TOTAL
B27: =+INSUMOS!B268 -> Motocarguero | I27: VIAJE | J27: 1 | K27: 11 | L27: =+INSUMOS!D268 -> 30000 | M27: =+L27/K27 -> 2727.2727
L31: SUBTOTAL | M31: =+M27 -> 2727.2727
B33: MANO DE OBRA
B34: DESCRIPCION | I34: UND | J34: CANT | K34: RENDIMIENTO | L34: V/UNIT CON FACTOR. P. | M34: V/TOTAL
B35: =+'M DE OBRA'!B38:F38 -> Cuadrilla 5: 1 OfcA + 1 AyuA | I35: JORNAL | J35: 1 | K35: 0.08 | L35: =+'M DE OBRA'!M38 -> 188528.41 | M35: =+L35*K35 -> 15082.273
L38: SUBTOTAL | M38: =+M35 -> 15082.273
K40: COSTOS DIRECTOS | M40: =+M23+M14+M31+M38 -> 169317.77 | N40: 84360
J41: ADMINISTRACIÓN | L41: 0.22 | M41: =+M40*L41 -> 37249.91 | N41: =+M40-N40 -> 84957.773
J42: IMPREVISTOS | L42: 0.01 | M42: =+M40*L42 -> 1693.1777 | N42: =+N40-N41 -> -597.77279
J43: UTILIDAD | L43: 0.05 | M43: =+M40*L43 -> 8465.8886
J44: COSTOS INDIRECTOS | M44: =+SUM(M41:M43) -> 47408.976
J45: COSTO TOTAL | M45: =+M40+M44 -> 216726.75
B47: NOTA: Las cantidades se redondean a cero (0) decimales.
B50: Elaboró: JUAN SEBASTIAN RIVERA RIVERA | I50: Revisó: ALEXANDER MORALES RAMIREZ
B51: Cargo:INGENIERO CIVIL - OFICINA DE AMBIENTE Y GESTION DE RIESGO | I51: Cargo: TEC. ADMINISTRATIVO OFICINA AMBIENTE Y GESTION DE RIESGO
B52: Firma: | I52: Firma:

Sheet 2.10
B2: NOMBRE DEL PROYECTO | D2: =+'PTO HORNILLA'!D2 -> PRESUPUESTO GENERAL DE OBRA CONSTRUCCION DE HORNILLAS ECOEFICIENTES EN ECOSISTEMAS DE CONSERVACION ESTRATEGICOS DE ZONA RURAL.
B3: UBICACIÓN | D3: MUNICIPIO DE PITALITO - HUILA
B5: CAPITULO: | C5: 2 | D5: =+'PTO HORNILLA'!C18 -> Suministro e instalacion de barra de acero para soporte de planchas corrugada de 12mm, para soporte de planchas (6 m) | L5: UNIDAD: | M5: ML
B6: ITEM: | C6: 2.10
N7: 0.15 | O7: =+N7*L10 -> 635
B8: MATERIALES
B9: DESCRIPCIÓN | J9: UND | K9: CANT | L9: V/UNITARIO | M9: V/TOTAL | N9: =+N7*132 -> 19.8
B10: =+INSUMOS!B279 -> Barra de acero para soporte de planchas corrugada de 12mm, para soporte de planchas (6m) | J10: ML | K10: 1 | L10: =+(INSUMOS!D279/6) -> 4233.3333 | M10: =+L10*K10 -> 4233.3333 | N10: 20
N11: =+N10*M40 -> 142530.22
L14: SUBTOTAL | M14: =+SUM(M10:M12) -> 4233.3333
B16: MAQUINARIA Y EQUIPO
B17: DESCRIPCIÓN | J17: UND | K17: RENDIMIENTO | L17: V/UNITARIO | M17: V/TOTAL
B18: Herramienta menor 10% M.O | J18: GBL | K18: 0.1 | L18: =+M38 -> 150.82273 | M18: =+L18*K18 -> 15.082273
L23: SUBTOTAL | M23: =+M18 -> 15.082273
B25: TRANSPORTE
B26: DESCRIPCIÓN | I26: UND | J26: CANT | K26: DISTANCIA (KM) | L26: V/UNITARIO | M26: V/TOTAL
B27: =+INSUMOS!B268 -> Motocarguero | I27: VIAJE | J27: 1 | K27: 11 | L27: =+INSUMOS!D268 -> 30000 | M27: =+L27/K27 -> 2727.2727
L31: SUBTOTAL | M31: =+M27 -> 2727.2727
B33: MANO DE OBRA
B34: DESCRIPCION | I34: UND | J34: CANT | K34: RENDIMIENTO | L34: V/UNIT CON FACTOR. P. | M34: V/TOTAL
B35: =+'M DE OBRA'!B38:F38 -> Cuadrilla 5: 1 OfcA + 1 AyuA | I35: JORNAL | J35: 1 | K35: 0.0008 | L35: =+'M DE OBRA'!M38 -> 188528.41 | M35: =+L35*K35 -> 150.82273
L38: SUBTOTAL | M38: =+M35 -> 150.82273
K40: COSTOS DIRECTOS | M40: =+M23+M14+M31+M38 -> 7126.5111
J41: ADMINISTRACIÓN | L41: 0.22 | M41: =+M40*L41 -> 1567.8324
J42: IMPREVISTOS | L42: 0.01 | M42: =+M40*L42 -> 71.265111
J43: UTILIDAD | L43: 0.05 | M43: =+M40*L43 -> 356.32555
J44: COSTOS INDIRECTOS | M44: =+SUM(M41:M43) -> 1995.4231
J45: COSTO TOTAL | M45: =+M40+M44 -> 9121.9342
B47: NOTA: Las cantidades se redondean a cero (0) decimales.
B50: Elaboró: JUAN SEBASTIAN RIVERA RIVERA | I50: Revisó: ALEXANDER MORALES RAMIREZ
B51: Cargo:INGENIERO CIVIL - OFICINA DE AMBIENTE Y GESTION DE RIESGO | I51: Cargo: TEC. ADMINISTRATIVO OFICINA AMBIENTE Y GESTION DE RIESGO
B52: Firma: | I52: Firma:

Sheet 3.1
B2: NOMBRE DEL PROYECTO | D2: =+'PTO HORNILLA'!D2 -> PRESUPUESTO GENERAL DE OBRA CONSTRUCCION DE HORNILLAS ECOEFICIENTES EN ECOSISTEMAS DE CONSERVACION ESTRATEGICOS DE ZONA RURAL.
B3: UBICACIÓN | D3: MUNICIPIO DE PITALITO - HUILA
B5: CAPITULO: | C5: 3 | D5: =+'PTO HORNILLA'!C20 -> Mamposteria en ladrillo prensado a la vista 6x12x25 cm | L5: UNIDAD: | M5: M2
B6: ITEM: | C6: 3.1
B8: MATERIALES
B9: DESCRIPCIÓN | J9: UND | K9: CANT | L9: V/UNITARIO | M9: V/TOTAL
B10: =+INSUMOS!B280 -> Ladrillo prensado a la vista 6X12X25 cm | J10: M2 | K10: =+CANTIDADES!I84 -> 30.85 | L10: =+INSUMOS!D280 -> 1800 | M10: =+L10*K10 -> 55530
B11: =+'MORTERO 1;4'!D5 -> MORTERO 1:4 IN SITU | J11: M3 | K11: 0.05 | L11: =+'MORTERO 1;4'!M40 -> 282517.17 | M11: =+L11*K11 -> 14125.859
M12: =+K12*L12 -> 0
L14: SUBTOTAL | M14: =+SUM(M10:M12) -> 69655.859
B16: MAQUINARIA Y EQUIPO
B17: DESCRIPCIÓN | J17: UND | K17: RENDIMIENTO | L17: V/UNITARIO | M17: V/TOTAL
B18: Herramienta menor 10% M.O | J18: GBL | K18: 0.1 | L18: =+M38 -> 7541.1364 | M18: =+L18*K18 -> 754.11364
L23: SUBTOTAL | M23: =+M18 -> 754.11364
B25: TRANSPORTE
B26: DESCRIPCIÓN | I26: UND | J26: CANT | K26: DISTANCIA (KM) | L26: V/UNITARIO | M26: V/TOTAL
B27: =+INSUMOS!B268 -> Motocarguero | I27: VIAJE | J27: 1 | K27: 11 | L27: =+INSUMOS!D268 -> 30000 | M27: =+L27/K27 -> 2727.2727
L31: SUBTOTAL | M31: =+M27 -> 2727.2727
B33: MANO DE OBRA
B34: DESCRIPCION | I34: UND | J34: CANT | K34: RENDIMIENTO | L34: V/UNIT CON FACTOR. P. | M34: V/TOTAL
B35: =+'M DE OBRA'!B38:F38 -> Cuadrilla 5: 1 OfcA + 1 AyuA | I35: JORNAL | J35: 1 | K35: 0.04 | L35: =+'M DE OBRA'!M38 -> 188528.41 | M35: =+L35*K35 -> 7541.1364
L38: SUBTOTAL | M38: =+M35 -> 7541.1364
K40: COSTOS DIRECTOS | M40: =+M23+M14+M31+M38 -> 80678.381
J41: ADMINISTRACIÓN | L41: 0.22 | M41: =+M40*L41 -> 17749.244
J42: IMPREVISTOS | L42: 0.01 | M42: =+M40*L42 -> 806.78381
J43: UTILIDAD | L43: 0.05 | M43: =+M40*L43 -> 4033.9191
J44: COSTOS INDIRECTOS | M44: =+SUM(M41:M43) -> 22589.947
J45: COSTO TOTAL | M45: =+M40+M44 -> 103268.33
B47: NOTA: Las cantidades se redondean a cero (0) decimales.
B50: Elaboró: JUAN SEBASTIAN RIVERA RIVERA | I50: Revisó: ALEXANDER MORALES RAMIREZ
B51: Cargo:INGENIERO CIVIL - OFICINA DE AMBIENTE Y GESTION DE RIESGO | I51: Cargo: TEC. ADMINISTRATIVO OFICINA AMBIENTE Y GESTION DE RIESGO
B52: Firma: | I52: Firma:

Sheet 3.2
B2: NOMBRE DEL PROYECTO | D2: =+'PTO HORNILLA'!D2 -> PRESUPUESTO GENERAL DE OBRA CONSTRUCCION DE HORNILLAS ECOEFICIENTES EN ECOSISTEMAS DE CONSERVACION ESTRATEGICOS DE ZONA RURAL.
B3: UBICACIÓN | D3: MUNICIPIO DE PITALITO - HUILA
B5: CAPITULO: | C5: 3 | D5: =+'PTO HORNILLA'!C21 -> Mamposteria ladrillo TOLETE comun 6x12x25 cm | L5: UNIDAD: | M5: M2
B6: ITEM: | C6: 3.2
B8: MATERIALES
B9: DESCRIPCIÓN | J9: UND | K9: CANT | L9: V/UNITARIO | M9: V/TOTAL
B10: =+INSUMOS!B281 -> Ladrillo TOLETE comun 6x12x25 cm | J10: UND | K10: =+CANTIDADES!I91 -> 30.85 | L10: =+INSUMOS!D281 -> 1500 | M10: =+L10*K10 -> 46275
B11: =+'MORTERO 1;4'!D5 -> MORTERO 1:4 IN SITU | J11: M3 | K11: 0.05 | L11: =+'MORTERO 1;4'!M40 -> 282517.17 | M11: =+L11*K11 -> 14125.859
M12: =+K12*L12 -> 0
L14: SUBTOTAL | M14: =+SUM(M10:M12) -> 60400.859
B16: MAQUINARIA Y EQUIPO
B17: DESCRIPCIÓN | J17: UND | K17: RENDIMIENTO | L17: V/UNITARIO | M17: V/TOTAL
B18: Herramienta menor 10% M.O | J18: GBL | K18: 0.1 | L18: =+M38 -> 7541.1364 | M18: =+L18*K18 -> 754.11364
L23: SUBTOTAL | M23: =+M18 -> 754.11364
B25: TRANSPORTE
B26: DESCRIPCIÓN | I26: UND | J26: CANT | K26: DISTANCIA (KM) | L26: V/UNITARIO | M26: V/TOTAL
B27: =+INSUMOS!B268 -> Motocarguero | I27: VIAJE | J27: 1 | K27: 11 | L27: =+INSUMOS!D268 -> 30000 | M27: =+L27/K27 -> 2727.2727
L31: SUBTOTAL | M31: =+M27 -> 2727.2727
B33: MANO DE OBRA
B34: DESCRIPCION | I34: UND | J34: CANT | K34: RENDIMIENTO | L34: V/UNIT CON FACTOR. P. | M34: V/TOTAL
B35: =+'M DE OBRA'!B38:F38 -> Cuadrilla 5: 1 OfcA + 1 AyuA | I35: JORNAL | J35: 1 | K35: 0.04 | L35: =+'M DE OBRA'!M38 -> 188528.41 | M35: =+L35*K35 -> 7541.1364
L38: SUBTOTAL | M38: =+M35 -> 7541.1364
K40: COSTOS DIRECTOS | M40: =+M23+M14+M31+M38 -> 71423.381
J41: ADMINISTRACIÓN | L41: 0.22 | M41: =+M40*L41 -> 15713.144
J42: IMPREVISTOS | L42: 0.01 | M42: =+M40*L42 -> 714.23381
J43: UTILIDAD | L43: 0.05 | M43: =+M40*L43 -> 3571.1691
J44: COSTOS INDIRECTOS | M44: =+SUM(M41:M43) -> 19998.547
J45: COSTO TOTAL | M45: =+M40+M44 -> 91421.928
B47: NOTA: Las cantidades se redondean a cero (0) decimales.
B50: Elaboró: JUAN SEBASTIAN RIVERA RIVERA | I50: Revisó: ALEXANDER MORALES RAMIREZ
B51: Cargo:INGENIERO CIVIL - OFICINA DE AMBIENTE Y GESTION DE RIESGO | I51: Cargo: TEC. ADMINISTRATIVO OFICINA AMBIENTE Y GESTION DE RIESGO
B52: Firma: | I52: Firma:

Sheet 3.3
B2: NOMBRE DEL PROYECTO | D2: =+'PTO HORNILLA'!D2 -> PRESUPUESTO GENERAL DE OBRA CONSTRUCCION DE HORNILLAS ECOEFICIENTES EN ECOSISTEMAS DE CONSERVACION ESTRATEGICOS DE ZONA RURAL.
B3: UBICACIÓN | D3: MUNICIPIO DE PITALITO - HUILA
B5: CAPITULO: | C5: 3 | D5: =+'PTO HORNILLA'!C22 -> Suministro e instalacion de tableta vitrificada lisa irial 25 cm x25 cm | L5: UNIDAD: | M5: M2
B6: ITEM: | C6: =+'PTO HORNILLA'!B22 -> 3.3
B8: MATERIALES
B9: DESCRIPCIÓN | J9: UND | K9: CANT | L9: V/UNITARIO | M9: V/TOTAL
B10: =+INSUMOS!B282 -> Tableta vitrificada lisa irial 25x25 cm | J10: M2 | K10: 1 | L10: =+INSUMOS!D282 -> 17782 | M10: =+L10*K10 -> 17782
B11: =+'MORTERO 1;4'!D5 -> MORTERO 1:4 IN SITU | J11: M3 | K11: 0.05 | L11: =+'MORTERO 1;4'!M40 -> 282517.17 | M11: =+L11*K11 -> 14125.859
B12: =+INSUMOS!B272 -> Melaza (Miel de Purga) | J12: KG | K12: 0.06 | L12: =+INSUMOS!D272 -> 2500 | M12: =+K12*L12 -> 150
L14: SUBTOTAL | M14: =+SUM(M10:M12) -> 32057.859
B16: MAQUINARIA Y EQUIPO
B17: DESCRIPCIÓN | J17: UND | K17: RENDIMIENTO | L17: V/UNITARIO | M17: V/TOTAL
B18: Herramienta menor 10% M.O | J18: GBL | K18: 0.1 | L18: =+M38 -> 18852.841 | M18: =+L18*K18 -> 1885.2841
L23: SUBTOTAL | M23: =+M18 -> 1885.2841
B25: TRANSPORTE
B26: DESCRIPCIÓN | I26: UND | J26: CANT | K26: DISTANCIA (KM) | L26: V/UNITARIO | M26: V/TOTAL
B27: =+INSUMOS!B268 -> Motocarguero | I27: VIAJE | J27: 1 | K27: 11 | L27: =+INSUMOS!D268 -> 30000 | M27: =+L27/K27 -> 2727.2727
L31: SUBTOTAL | M31: =+M27 -> 2727.2727
B33: MANO DE OBRA
B34: DESCRIPCION | I34: UND | J34: CANT | K34: RENDIMIENTO | L34: V/UNIT CON FACTOR. P. | M34: V/TOTAL
B35: =+'M DE OBRA'!B38:F38 -> Cuadrilla 5: 1 OfcA + 1 AyuA | I35: JORNAL | J35: 1 | K35: 0.1 | L35: =+'M DE OBRA'!M38 -> 188528.41 | M35: =+L35*K35 -> 18852.841
L38: SUBTOTAL | M38: =+M35 -> 18852.841
K40: COSTOS DIRECTOS | M40: =+M23+M14+M31+M38 -> 55523.256
J41: ADMINISTRACIÓN | L41: 0.22 | M41: =+M40*L41 -> 12215.116
J42: IMPREVISTOS | L42: 0.01 | M42: =+M40*L42 -> 555.23256
J43: UTILIDAD | L43: 0.05 | M43: =+M40*L43 -> 2776.1628
J44: COSTOS INDIRECTOS | M44: =+SUM(M41:M43) -> 15546.512
J45: COSTO TOTAL | M45: =+M40+M44 -> 71069.768
B47: NOTA: Las cantidades se redondean a cero (0) decimales.
B50: Elaboró: JUAN SEBASTIAN RIVERA RIVERA | I50: Revisó: ALEXANDER MORALES RAMIREZ
B51: Cargo:INGENIERO CIVIL - OFICINA DE AMBIENTE Y GESTION DE RIESGO | I51: Cargo: TEC. ADMINISTRATIVO OFICINA AMBIENTE Y GESTION DE RIESGO
B52: Firma: | I52: Firma:

Sheet MORTERO 1;4
B2: NOMBRE DEL PROYECTO | D2: =+'PTO HORNILLA'!D2 -> PRESUPUESTO GENERAL DE OBRA CONSTRUCCION DE HORNILLAS ECOEFICIENTES EN ECOSISTEMAS DE CONSERVACION ESTRATEGICOS DE ZONA RURAL.
B3: UBICACIÓN | D3: MUNICIPIO DE PITALITO - HUILA
B5: CAPITULO: | C5: 0 | D5: MORTERO 1:4 IN SITU | L5: UNIDAD: | M5: M3
B6: ITEM: | C6: 0
B8: MATERIALES
B9: DESCRIPCIÓN | J9: UND | K9: CANT | L9: V/UNITARIO | M9: V/TOTAL
B10: =+INSUMOS!B132 -> Cemento portland tipo 1 gris | J10: =+INSUMOS!C132 -> Kg | K10: 364 | L10: =+INSUMOS!D132 -> 590 | M10: =+L10*K10 -> 214760
B11: =+INSUMOS!B131 -> Arena para mortero | J11: =+INSUMOS!C131 -> M3 | K11: 1.16 | L11: =+INSUMOS!D131 -> 50000 | M11: =+L11*K11 -> 58000
B12: =+INSUMOS!B45 -> Agua | J12: =+BASICOS!B130 -> lt | K12: 178 | L12: =+INSUMOS!D45 -> 42 | M12: =+K12*L12 -> 7476
L14: SUBTOTAL | M14: =+SUM(M10:M12) -> 280236
B16: MAQUINARIA Y EQUIPO
B17: DESCRIPCIÓN | J17: UND | K17: RENDIMIENTO | L17: V/UNITARIO | M17: V/TOTAL
B18: Herramienta menor 10% M.O | J18: GBL | K18: 0.1 | L18: =+M38*10% -> 207.37923 | M18: =+L18 -> 207.37923
