Workbook

Sheet REPUESTOS VEHICULOS
B1: Descuento | C1: 0.041
B2: IPC 2020 | C2: 0.038
B3: IPC2021 | C3: 0.03
A4: LISTA DE PRECIOS SECCIONAL MAGDALENA | E4: 0.5
E6: VALOR SELECCIONADO | F6: VALOR CON DESCUENTO | G6: VALOR SELECCIONADO | H6: VALOR CON DESCUENTO | I6: VALOR SELECCIONADO | J6: VALOR CON DESCUENTO | K6: VALOR SELECCIONADO | L6: VALOR CON DESCUENTO | M6: VALOR SELECCIONADO | N6: VALOR CON DESCUENTO | O6: VALOR SELECCIONADO | P6: VALOR CON DESCUENTO | Q6: VALOR SELECCIONADO | R6: VALOR CON DESCUENTO | S6: VALOR SELECCIONADO | T6: VALOR CON DESCUENTO | U6: VALOR SELECCIONADO | V6: VALOR CON DESCUENTO | W6: VALOR SELECCIONADO | X6: VALOR CON DESCUENTO | Y6: VALOR SELECCIONADO | Z6: VALOR CON DESCUENTO | AA6: VALOR SELECCIONADO | AB6: VALOR CON DESCUENTO | AC6: VALOR SELECCIONADO | AD6: VALOR CON DESCUENTO | AE6: VALOR SELECCIONADO | AF6: VALOR CON DESCUENTO | AG6: VALOR SELECCIONADO | AH6: VALOR CON DESCUENTO | AI6: VALOR SELECCIONADO | AJ6: VALOR CON DESCUENTO | AK6: VALOR SELECCIONADO | AL6: VALOR CON DESCUENTO | AM6: VALOR SELECCIONADO | AN6: VALOR CON DESCUENTO
A7: NECESIDAD CONTRATACÓN MULTIMARCA MANO DE OBRA | E7: 1. REPUESTOS | G7: 2. REPUESTOS | I7: 3. REPUESTOS | K7: 4. REPUESTOS | M7: 5. REPUESTOS | O7: 6. REPUESTOS | Q7: 7. REPUESTOS | S7: 8. REPUESTOS | U7: 9. REPUESTOS | W7: 10. REPUESTOS | Y7: 11. REPUESTOS | AA7: 12. REPUESTOS | AC7: 13. REPUESTOS | AE7: 14. REPUESTOS | AG7: 15. REPUESTOS | AI7: 16. REPUESTOS | AK7: 17. REPUESTOS | AM7: 18. REPUESTOS
A9: NOMBRE DEL ACTIVO | E9: CAMIONETA | G9: CAMIONETA | I9: AUTOMÓVIL | K9: AUTOMÓVIL | M9: CAMIONETA | O9: AUTOMÓVIL | Q9: CAMIONETA | S9: CAMIONETA | U9: CAMPERO | W9: AUTOMÓVIL | Y9: CAMIONETA | AA9: CAMIONETA / CAMERO | AC9: CAMIONETA / CAMERO | AE9: AUTOMÓVIL | AG9: AUTOMÓVIL | AI9: AUTOMÓVIL | AK9: AUTOMÓVIL | AM9: AUTOMÓVIL
A10: MARCA | E10: CHEVROLET | G10: CHEVROLET | I10: CHEVROLET | K10: HYUNDAI | M10: MAZDA | O10: MAZDA | Q10: NISSAN | S10: NISSAN | U10: NISSAN | W10: NISSAN | Y10: RENAULT | AA10: RENAULT | AC10: RENAULT | AE10: RENAULT | AG10: RENAULT | AI10: FORD | AK10: CHEVROLET | AM10: RENAULT
A11: LÍNEA | C11: CANTIDAD | E11: LUV D-MAX (9) | G11: D-MAX (1) | I11: SONIC (1) | K11: ACCENT (1) | M11: BT-50 (1) | O11: TRES (1) | Q11: FRONTIER D22 (16) | S11: NAVARA (1) | U11: XTRAIL (1) | W11: VERSA (1) | Y11: ALASKAN (4) | AA11: DUSTER (6) | AC11: DUSTER OROCH (1) | AE11: LOGAN (2) | AG11: SCALA(1) | AI11: FIESTA (1) | AK11: SAIL (1) | AM11: CLIO
A12: MODELO | E12: 2007 A 2013 | G12: 2020 | I12: 2016 | K12: 2005 | M12: 2009 | O12: 2007 | Q12: 2010-12-13-18 | S12: 2014 | U12: 2014 | W12: 2015 | Y12: 2018 | AA12: 2016 A 2017 | AC12: 2020 | AE12: 2019 | AG12: 2012 | AI12: 2014 | AK12: 2014 | AM12: 2016
A13: MUTIMARCA CAMIONETAS Y AUTOMÓVILES | E13: COSTO REPUESTO (S) | G13: COSTO REPUESTO (S) | I13: COSTO REPUESTO (S) | K13: COSTO REPUESTO (S) | M13: COSTO REPUESTO (S) | O13: COSTO REPUESTO (S) | Q13: COSTO REPUESTO (S) | S13: COSTO REPUESTO (S) | U13: COSTO REPUESTO (S) | W13: COSTO REPUESTO (S) | Y13: COSTO REPUESTO (S) | AA13: COSTO REPUESTO (S) | AC13: COSTO REPUESTO (S) | AE13: COSTO REPUESTO (S) | AG13: COSTO REPUESTO (S) | AI13: COSTO REPUESTO (S) | AK13: COSTO REPUESTO (S) | AM13: COSTO REPUESTO (S)
E14: VALOR UNITARIO INCLUIDO IVA | G14: VALOR UNITARIO INCLUIDO IVA | I14: VALOR UNITARIO INCLUIDO IVA | K14: VALOR UNITARIO INCLUIDO IVA | M14: VALOR UNITARIO INCLUIDO IVA | O14: VALOR UNITARIO INCLUIDO IVA | Q14: VALOR UNITARIO INCLUIDO IVA | S14: VALOR UNITARIO INCLUIDO IVA | U14: VALOR UNITARIO INCLUIDO IVA | W14: VALOR UNITARIO INCLUIDO IVA | Y14: VALOR UNITARIO INCLUIDO IVA | AA14: VALOR UNITARIO INCLUIDO IVA | AC14: VALOR UNITARIO INCLUIDO IVA | AE14: VALOR UNITARIO INCLUIDO IVA | AG14: VALOR UNITARIO INCLUIDO IVA | AI14: VALOR UNITARIO INCLUIDO IVA | AK14: VALOR UNITARIO INCLUIDO IVA | AM14: VALOR UNITARIO INCLUIDO IVA
A15: ÌTEM | B15: SISTEMA DE FRENOS
A16: 1 | B16: Juego de Bandas Remachadas (Dos pares) | C16: 1 | E16: 152621.66 | F16: =+IF(E16="N/A","N/A",(E16-(E16*$E$4))) -> 76310.832 | G16: 184831.22 | H16: =+IF(G16="N/A","N/A",(G16-(G16*$E$4))) -> 92415.61 | I16: 151525.97 | J16: =+IF(I16="N/A","N/A",(I16-(I16*$E$4))) -> 75762.987 | K16: N/A | L16: =+IF(K16="N/A","N/A",(K16-(K16*$E$4))) -> N/A | M16: 152621.66 | N16: =+IF(M16="N/A","N/A",(M16-(M16*$E$4))) -> 76310.832 | O16: N/A | P16: =+IF(O16="N/A","N/A",(O16-(O16*$E$4))) -> N/A | Q16: 176153.99 | R16: =+IF(Q16="N/A","N/A",(Q16-(Q16*$E$4))) -> 88076.993 | S16: 176153.99 | T16: =+IF(S16="N/A","N/A",(S16-(S16*$E$4))) -> 88076.993 | U16: 176153.99 | V16: =+IF(U16="N/A","N/A",(U16-(U16*$E$4))) -> 88076.993 | W16: N/A | X16: =+IF(W16="N/A","N/A",(W16-(W16*$E$4))) -> N/A | Y16: 149974.87 | Z16: =+IF(Y16="N/A","N/A",(Y16-(Y16*$E$4))) -> 74987.436 | AA16: 148716.93 | AB16: =+IF(AA16="N/A","N/A",(AA16-(AA16*$E$4))) -> 74358.467 | AC16: 170947.35 | AD16: =+IF(AC16="N/A","N/A",(AC16-(AC16*$E$4))) -> 85473.673 | AE16: N/A | AF16: =+IF(AE16="N/A","N/A",(AE16-(AE16*$E$4))) -> N/A | AG16: N/A | AH16: =+IF(AG16="N/A","N/A",(AG16-(AG16*$E$4))) -> N/A | AI16: N/A | AJ16: =+IF(AI16="N/A","N/A",(AI16-(AI16*$E$4))) -> N/A | AK16: 219916.83 | AL16: =+IF(AK16="N/A","N/A",(AK16-(AK16*$E$4))) -> 109958.42 | AM16: N/A | AN16: =+IF(AM16="N/A","N/A",(AM16-(AM16*$E$4))) -> N/A
A17: 2 | B17: Juego De Bandas Frenos (Dos pares) | C17: 1 | E17: 256721.02 | F17: =+IF(E17="N/A","N/A",(E17-(E17*$E$4))) -> 128360.51 | G17: 407843.97 | H17: =+IF(G17="N/A","N/A",(G17-(G17*$E$4))) -> 203921.98 | I17: 320093.09 | J17: =+IF(I17="N/A","N/A",(I17-(I17*$E$4))) -> 160046.54 | K17: 292696.03 | L17: =+IF(K17="N/A","N/A",(K17-(K17*$E$4))) -> 146348.02 | M17: 325654.89 | N17: =+IF(M17="N/A","N/A",(M17-(M17*$E$4))) -> 162827.45 | O17: 305046.7 | P17: =+IF(O17="N/A","N/A",(O17-(O17*$E$4))) -> 152523.35 | Q17: 489412.66 | R17: =+IF(Q17="N/A","N/A",(Q17-(Q17*$E$4))) -> 244706.33 | S17: 489412.66 | T17: =+IF(S17="N/A","N/A",(S17-(S17*$E$4))) -> 244706.33 | U17: 472057.69 | V17: =+IF(U17="N/A","N/A",(U17-(U17*$E$4))) -> 236028.85 | W17: 270739.28 | X17: =+IF(W17="N/A","N/A",(W17-(W17*$E$4))) -> 135369.64 | Y17: 365186.69 | Z17: =+IF(Y17="N/A","N/A",(Y17-(Y17*$E$4))) -> 182593.34 | AA17: 320469.99 | AB17: =+IF(AA17="N/A","N/A",(AA17-(AA17*$E$4))) -> 160234.99 | AC17: 446024.99 | AD17: =+IF(AC17="N/A","N/A",(AC17-(AC17*$E$4))) -> 223012.5 | AE17: 215081.75 | AF17: =+IF(AE17="N/A","N/A",(AE17-(AE17*$E$4))) -> 107540.88 | AG17: 215081.75 | AH17: =+IF(AG17="N/A","N/A",(AG17-(AG17*$E$4))) -> 107540.88 | AI17: 268787.94 | AJ17: =+IF(AI17="N/A","N/A",(AI17-(AI17*$E$4))) -> 134393.97 | AK17: N/A | AL17: =+IF(AK17="N/A","N/A",(AK17-(AK17*$E$4))) -> N/A | AM17: 338000 | AN17: =+IF(AM17="N/A","N/A",(AM17-(AM17*$E$4))) -> 169000
A18: 3 | B18: Cilindro De Freno | C18: 1 | E18: 218370.44 | F18: =+IF(E18="N/A","N/A",(E18-(E18*$E$4))) -> 109185.22 | G18: 328010.82 | H18: =+IF(G18="N/A","N/A",(G18-(G18*$E$4))) -> 164005.41 | I18: 193300.68 | J18: =+IF(I18="N/A","N/A",(I18-(I18*$E$4))) -> 96650.339 | K18: 196233.18 | L18: =+IF(K18="N/A","N/A",(K18-(K18*$E$4))) -> 98116.589 | M18: 223306.18 | N18: =+IF(M18="N/A","N/A",(M18-(M18*$E$4))) -> 111653.09 | O18: 195637.39 | P18: =+IF(O18="N/A","N/A",(O18-(O18*$E$4))) -> 97818.694 | Q18: 253383.81 | R18: =+IF(Q18="N/A","N/A",(Q18-(Q18*$E$4))) -> 126691.91 | S18: 262061.55 | T18: =+IF(S18="N/A","N/A",(S18-(S18*$E$4))) -> 131030.77 | U18: 270739.28 | V18: =+IF(U18="N/A","N/A",(U18-(U18*$E$4))) -> 135369.64 | W18: 218673.88 | X18: =+IF(W18="N/A","N/A",(W18-(W18*$E$4))) -> 109336.94 | Y18: 252407.52 | Z18: =+IF(Y18="N/A","N/A",(Y18-(Y18*$E$4))) -> 126203.76 | AA18: 225294.57 | AB18: =+IF(AA18="N/A","N/A",(AA18-(AA18*$E$4))) -> 112647.28 | AC18: 230822.21 | AD18: =+IF(AC18="N/A","N/A",(AC18-(AC18*$E$4))) -> 115411.1 | AE18: 208542.28 | AF18: =+IF(AE18="N/A","N/A",(AE18-(AE18*$E$4))) -> 104271.14 | AG18: 211815.56 | AH18: =+IF(AG18="N/A","N/A",(AG18-(AG18*$E$4))) -> 105907.78 | AI18: 250554.2 | AJ18: =+IF(AI18="N/A","N/A",(AI18-(AI18*$E$4))) -> 125277.1 | AK18: N/A | AL18: =+IF(AK18="N/A","N/A",(AK18-(AK18*$E$4))) -> N/A | AM18: 273000 | AN18: =+IF(AM18="N/A","N/A",(AM18-(AM18*$E$4))) -> 136500
A19: 4 | B19: Discos De Frenos Delanteros (Par) | C19: 1 | E19: 566818.06 | F19: =+IF(E19="N/A","N/A",(E19-(E19*$E$4))) -> 283409.03 | G19: 754945.3 | H19: =+IF(G19="N/A","N/A",(G19-(G19*$E$4))) -> 377472.65 | I19: 572593.63 | J19: =+IF(I19="N/A","N/A",(I19-(I19*$E$4))) -> 286296.81 | K19: 514096.18 | L19: =+IF(K19="N/A","N/A",(K19-(K19*$E$4))) -> 257048.09 | M19: 565376.94 | N19: =+IF(M19="N/A","N/A",(M19-(M19*$E$4))) -> 282688.47 | O19: 522149.36 | P19: =+IF(O19="N/A","N/A",(O19-(O19*$E$4))) -> 261074.68 | Q19: 598749.6 | R19: =+IF(Q19="N/A","N/A",(Q19-(Q19*$E$4))) -> 299374.8 | S19: 590072.37 | T19: =+IF(S19="N/A","N/A",(S19-(S19*$E$4))) -> 295036.18 | U19: 676847.7 | V19: =+IF(U19="N/A","N/A",(U19-(U19*$E$4))) -> 338423.85 | W19: 607427.33 | X19: =+IF(W19="N/A","N/A",(W19-(W19*$E$4))) -> 303713.67 | Y19: 614238.8 | Z19: =+IF(Y19="N/A","N/A",(Y19-(Y19*$E$4))) -> 307119.4 | AA19: 531516.16 | AB19: =+IF(AA19="N/A","N/A",(AA19-(AA19*$E$4))) -> 265758.08 | AC19: 564039.67 | AD19: =+IF(AC19="N/A","N/A",(AC19-(AC19*$E$4))) -> 282019.83 | AE19: 498939.16 | AF19: =+IF(AE19="N/A","N/A",(AE19-(AE19*$E$4))) -> 249469.58 | AG19: 510849.98 | AH19: =+IF(AG19="N/A","N/A",(AG19-(AG19*$E$4))) -> 255424.99 | AI19: 658976.08 | AJ19: =+IF(AI19="N/A","N/A",(AI19-(AI19*$E$4))) -> 329488.04 | AK19: 834166.83 | AL19: =+IF(AK19="N/A","N/A",(AK19-(AK19*$E$4))) -> 417083.42 | AM19: 758333.17 | AN19: =+IF(AM19="N/A","N/A",(AM19-(AM19*$E$4))) -> 379166.58
A20: 5 | B20: Juego De Pastillas De Frenos Delantera (Dos pares) | C20: 1 | E20: 243274.6 | F20: =+IF(E20="N/A","N/A",(E20-(E20*$E$4))) -> 121637.3 | G20: 256854.91 | H20: =+IF(G20="N/A","N/A",(G20-(G20*$E$4))) -> 128427.45 | I20: 232017.68 | J20: =+IF(I20="N/A","N/A",(I20-(I20*$E$4))) -> 116008.84 | K20: 234148.64 | L20: =+IF(K20="N/A","N/A",(K20-(K20*$E$4))) -> 117074.32 | M20: 257512.08 | N20: =+IF(M20="N/A","N/A",(M20-(M20*$E$4))) -> 128756.04 | O20: 232957.55 | P20: =+IF(O20="N/A","N/A",(O20-(O20*$E$4))) -> 116478.78 | Q20: 277680.97 | R20: =+IF(Q20="N/A","N/A",(Q20-(Q20*$E$4))) -> 138840.48 | S20: 269003.73 | T20: =+IF(S20="N/A","N/A",(S20-(S20*$E$4))) -> 134501.87 | U20: 265532.64 | V20: =+IF(U20="N/A","N/A",(U20-(U20*$E$4))) -> 132766.32 | W20: 209996.15 | X20: =+IF(W20="N/A","N/A",(W20-(W20*$E$4))) -> 104998.07 | Y20: 282562.73 | Z20: =+IF(Y20="N/A","N/A",(Y20-(Y20*$E$4))) -> 141281.37 | AA20: 256642.83 | AB20: =+IF(AA20="N/A","N/A",(AA20-(AA20*$E$4))) -> 128321.41 | AC20: 260326 | AD20: =+IF(AC20="N/A","N/A",(AC20-(AC20*$E$4))) -> 130163 | AE20: 207345.86 | AF20: =+IF(AE20="N/A","N/A",(AE20-(AE20*$E$4))) -> 103672.93 | AG20: 210623.58 | AH20: =+IF(AG20="N/A","N/A",(AG20-(AG20*$E$4))) -> 105311.79 | AI20: 262829.16 | AJ20: =+IF(AI20="N/A","N/A",(AI20-(AI20*$E$4))) -> 131414.58 | AK20: 348833.17 | AL20: =+IF(AK20="N/A","N/A",(AK20-(AK20*$E$4))) -> 174416.58 | AM20: 262166.83 | AN20: =+IF(AM20="N/A","N/A",(AM20-(AM20*$E$4))) -> 131083.42
A21: 6 | B21: Juego De Pastillas De Frenos Traseras (Dos pares) | C21: 1 | E21: N/A | F21: =+IF(E21="N/A","N/A",(E21-(E21*$E$4))) -> N/A | G21: N/A | H21: =+IF(G21="N/A","N/A",(G21-(G21*$E$4))) -> N/A | I21: N/A | J21: =+IF(I21="N/A","N/A",(I21-(I21*$E$4))) -> N/A | K21: N/A | L21: =+IF(K21="N/A","N/A",(K21-(K21*$E$4))) -> N/A | M21: N/A | N21: =+IF(M21="N/A","N/A",(M21-(M21*$E$4))) -> N/A | O21: N/A | P21: =+IF(O21="N/A","N/A",(O21-(O21*$E$4))) -> N/A | Q21: N/A | R21: =+IF(Q21="N/A","N/A",(Q21-(Q21*$E$4))) -> N/A | S21: N/A | T21: =+IF(S21="N/A","N/A",(S21-(S21*$E$4))) -> N/A | U21: N/A | V21: =+IF(U21="N/A","N/A",(U21-(U21*$E$4))) -> N/A | W21: N/A | X21: =+IF(W21="N/A","N/A",(W21-(W21*$E$4))) -> N/A | Y21: N/A | Z21: =+IF(Y21="N/A","N/A",(Y21-(Y21*$E$4))) -> N/A | AA21: N/A | AB21: =+IF(AA21="N/A","N/A",(AA21-(AA21*$E$4))) -> N/A | AC21: N/A | AD21: =+IF(AC21="N/A","N/A",(AC21-(AC21*$E$4))) -> N/A | AE21: N/A | AF21: =+IF(AE21="N/A","N/A",(AE21-(AE21*$E$4))) -> N/A | AG21: N/A | AH21: =+IF(AG21="N/A","N/A",(AG21-(AG21*$E$4))) -> N/A | AI21: N/A | AJ21: =+IF(AI21="N/A","N/A",(AI21-(AI21*$E$4))) -> N/A | AK21: 422500 | AL21: =+IF(AK21="N/A","N/A",(AK21-(AK21*$E$4))) -> 211250 | AM21: N/A | AN21: =+IF(AM21="N/A","N/A",(AM21-(AM21*$E$4))) -> N/A
A22: 7 | B22: Pistón Caliper | C22: 1 | E22: 195766.57 | F22: =+IF(E22="N/A","N/A",(E22-(E22*$E$4))) -> 97883.283 | G22: 286358.7 | H22: =+IF(G22="N/A","N/A",(G22-(G22*$E$4))) -> 143179.35 | I22: 188428.83 | J22: =+IF(I22="N/A","N/A",(I22-(I22*$E$4))) -> 94214.416 | K22: 177770.5 | L22: =+IF(K22="N/A","N/A",(K22-(K22*$E$4))) -> 88885.251 | M22: 204450.76 | N22: =+IF(M22="N/A","N/A",(M22-(M22*$E$4))) -> 102225.38 | O22: 189992.71 | P22: =+IF(O22="N/A","N/A",(O22-(O22*$E$4))) -> 94996.357 | Q22: 236028.85 | R22: =+IF(Q22="N/A","N/A",(Q22-(Q22*$E$4))) -> 118014.42 | S22: 227351.61 | T22: =+IF(S22="N/A","N/A",(S22-(S22*$E$4))) -> 113675.81 | U22: 218673.88 | V22: =+IF(U22="N/A","N/A",(U22-(U22*$E$4))) -> 109336.94 | W22: 201318.91 | X22: =+IF(W22="N/A","N/A",(W22-(W22*$E$4))) -> 100659.46 | Y22: 211835.3 | Z22: =+IF(Y22="N/A","N/A",(Y22-(Y22*$E$4))) -> 105917.65 | AA22: 157436.65 | AB22: =+IF(AA22="N/A","N/A",(AA22-(AA22*$E$4))) -> 78718.325 | AC22: 173550.67 | AD22: =+IF(AC22="N/A","N/A",(AC22-(AC22*$E$4))) -> 86775.333 | AE22: 157509.75 | AF22: =+IF(AE22="N/A","N/A",(AE22-(AE22*$E$4))) -> 78754.877 | AG22: 165175.13 | AH22: =+IF(AG22="N/A","N/A",(AG22-(AG22*$E$4))) -> 82587.567 | AI22: 195263.13 | AJ22: =+IF(AI22="N/A","N/A",(AI22-(AI22*$E$4))) -> 97631.565 | AK22: 346666.83 | AL22: =+IF(AK22="N/A","N/A",(AK22-(AK22*$E$4))) -> 173333.42 | AM22: 251333.17 | AN22: =+IF(AM22="N/A","N/A",(AM22-(AM22*$E$4))) -> 125666.58
A23: 8 | B23: Juego Interiores Caliper | C23: 1 | E23: 132037.48 | F23: =+IF(E23="N/A","N/A",(E23-(E23*$E$4))) -> 66018.74 | G23: 170079.57 | H23: =+IF(G23="N/A","N/A",(G23-(G23*$E$4))) -> 85039.787 | I23: 116453.71 | J23: =+IF(I23="N/A","N/A",(I23-(I23*$E$4))) -> 58226.856 | K23: 113539.55 | L23: =+IF(K23="N/A","N/A",(K23-(K23*$E$4))) -> 56769.776 | M23: 135903.25 | N23: =+IF(M23="N/A","N/A",(M23-(M23*$E$4))) -> 67951.626 | O23: 130262.29 | P23: =+IF(O23="N/A","N/A",(O23-(O23*$E$4))) -> 65131.143 | Q23: 146650.19 | R23: =+IF(Q23="N/A","N/A",(Q23-(Q23*$E$4))) -> 73325.097 | S23: 145782.42 | T23: =+IF(S23="N/A","N/A",(S23-(S23*$E$4))) -> 72891.21 | U23: 145782.42 | V23: =+IF(U23="N/A","N/A",(U23-(U23*$E$4))) -> 72891.21 | W23: 126691.91 | X23: =+IF(W23="N/A","N/A",(W23-(W23*$E$4))) -> 63345.953 | Y23: 137082.71 | Z23: =+IF(Y23="N/A","N/A",(Y23-(Y23*$E$4))) -> 68541.356 | AA23: 125081.66 | AB23: =+IF(AA23="N/A","N/A",(AA23-(AA23*$E$4))) -> 62540.828 | AC23: 132766.32 | AD23: =+IF(AC23="N/A","N/A",(AC23-(AC23*$E$4))) -> 66383.16 | AE23: 106816.59 | AF23: =+IF(AE23="N/A","N/A",(AE23-(AE23*$E$4))) -> 53408.293 | AG23: 114249.12 | AH23: =+IF(AG23="N/A","N/A",(AG23-(AG23*$E$4))) -> 57124.561 | AI23: 130651.95 | AJ23: =+IF(AI23="N/A","N/A",(AI23-(AI23*$E$4))) -> 65325.974 | AK23: 183083.17 | AL23: =+IF(AK23="N/A","N/A",(AK23-(AK23*$E$4))) -> 91541.583 | AM23: 158166.83 | AN23: =+IF(AM23="N/A","N/A",(AM23-(AM23*$E$4))) -> 79083.417
A24: 9 | B24: Liquido De Freno (Pinta 290 ml) | C24: 1 | E24: 21267.617 | F24: =+IF(E24="N/A","N/A",(E24-(E24*$E$4))) -> 10633.809 | G24: 24297.153 | H24: =+IF(G24="N/A","N/A",(G24-(G24*$E$4))) -> 12148.577 | I24: 22079.416 | J24: =+IF(I24="N/A","N/A",(I24-(I24*$E$4))) -> 11039.708 | K24: 21496.916 | L24: =+IF(K24="N/A","N/A",(K24-(K24*$E$4))) -> 10748.458 | M24: 22026.204 | N24: =+IF(M24="N/A","N/A",(M24-(M24*$E$4))) -> 11013.102 | O24: 21496.916 | P24: =+IF(O24="N/A","N/A",(O24-(O24*$E$4))) -> 10748.458 | Q24: 24297.153 | R24: =+IF(Q24="N/A","N/A",(Q24-(Q24*$E$4))) -> 12148.577 | S24: 24297.153 | T24: =+IF(S24="N/A","N/A",(S24-(S24*$E$4))) -> 12148.577 | U24: 24297.153 | V24: =+IF(U24="N/A","N/A",(U24-(U24*$E$4))) -> 12148.577 | W24: 24297.153 | X24: =+IF(W24="N/A","N/A",(W24-(W24*$E$4))) -> 12148.577 | Y24: 22711.364 | Z24: =+IF(Y24="N/A","N/A",(Y24-(Y24*$E$4))) -> 11355.682 | AA24: 21718.379 | AB24: =+IF(AA24="N/A","N/A",(AA24-(AA24*$E$4))) -> 10859.19 | AC24: 24297.153 | AD24: =+IF(AC24="N/A","N/A",(AC24-(AC24*$E$4))) -> 12148.577 | AE24: 23008.76 | AF24: =+IF(AE24="N/A","N/A",(AE24-(AE24*$E$4))) -> 11504.38 | AG24: 23008.76 | AH24: =+IF(AG24="N/A","N/A",(AG24-(AG24*$E$4))) -> 11504.38 | AI24: 26837.2 | AJ24: =+IF(AI24="N/A","N/A",(AI24-(AI24*$E$4))) -> 13418.6 | AK24: 30333.167 | AL24: =+IF(AK24="N/A","N/A",(AK24-(AK24*$E$4))) -> 15166.583 | AM24: 30333.167 | AN24: =+IF(AM24="N/A","N/A",(AM24-(AM24*$E$4))) -> 15166.583
A25: 10 | B25: Interiores De Bomba | C25: 1 | E25: 169982.82 | F25: =+IF(E25="N/A","N/A",(E25-(E25*$E$4))) -> 84991.41 | G25: 241235.49 | H25: =+IF(G25="N/A","N/A",(G25-(G25*$E$4))) -> 120617.74 | I25: 156817 | J25: =+IF(I25="N/A","N/A",(I25-(I25*$E$4))) -> 78408.5 | K25: 154563.25 | L25: =+IF(K25="N/A","N/A",(K25-(K25*$E$4))) -> 77281.626 | M25: 176132.32 | N25: =+IF(M25="N/A","N/A",(M25-(M25*$E$4))) -> 88066.159 | O25: 151585.8 | P25: =+IF(O25="N/A","N/A",(O25-(O25*$E$4))) -> 75792.899 | Q25: 178757.31 | R25: =+IF(Q25="N/A","N/A",(Q25-(Q25*$E$4))) -> 89378.653 | S25: 178757.31 | T25: =+IF(S25="N/A","N/A",(S25-(S25*$E$4))) -> 89378.653 | U25: 237764.39 | V25: =+IF(U25="N/A","N/A",(U25-(U25*$E$4))) -> 118882.2 | W25: 156195.7 | X25: =+IF(W25="N/A","N/A",(W25-(W25*$E$4))) -> 78097.85 | Y25: 180404.56 | Z25: =+IF(Y25="N/A","N/A",(Y25-(Y25*$E$4))) -> 90202.282 | AA25: 167807.72 | AB25: =+IF(AA25="N/A","N/A",(AA25-(AA25*$E$4))) -> 83903.858 | AC25: 173550.67 | AD25: =+IF(AC25="N/A","N/A",(AC25-(AC25*$E$4))) -> 86775.333 | AE25: 156551.42 | AF25: =+IF(AE25="N/A","N/A",(AE25-(AE25*$E$4))) -> 78275.711 | AG25: 156181.3 | AH25: =+IF(AG25="N/A","N/A",(AG25-(AG25*$E$4))) -> 78090.648 | AI25: 194354.95 | AJ25: =+IF(AI25="N/A","N/A",(AI25-(AI25*$E$4))) -> 97177.477 | AK25: 314166.83 | AL25: =+IF(AK25="N/A","N/A",(AK25-(AK25*$E$4))) -> 157083.42 | AM25: 195000 | AN25: =+IF(AM25="N/A","N/A",(AM25-(AM25*$E$4))) -> 97500
B26: SINCRONIZACIÓN | F26: =+IF(E26="N/A","N/A",(E26-(E26*$E$4))) -> 0 | H26: =+IF(G26="N/A","N/A",(G26-(G26*$E$4))) -> 0 | J26: =+IF(I26="N/A","N/A",(I26-(I26*$E$4))) -> 0 | L26: =+IF(K26="N/A","N/A",(K26-(K26*$E$4))) -> 0 | N26: =+IF(M26="N/A","N/A",(M26-(M26*$E$4))) -> 0 | P26: =+IF(O26="N/A","N/A",(O26-(O26*$E$4))) -> 0 | R26: =+IF(Q26="N/A","N/A",(Q26-(Q26*$E$4))) -> 0 | T26: =+IF(S26="N/A","N/A",(S26-(S26*$E$4))) -> 0 | V26: =+IF(U26="N/A","N/A",(U26-(U26*$E$4))) -> 0 | X26: =+IF(W26="N/A","N/A",(W26-(W26*$E$4))) -> 0 | Z26: =+IF(Y26="N/A","N/A",(Y26-(Y26*$E$4))) -> 0 | AB26: =+IF(AA26="N/A","N/A",(AA26-(AA26*$E$4))) -> 0 | AD26: =+IF(AC26="N/A","N/A",(AC26-(AC26*$E$4))) -> 0 | AF26: =+IF(AE26="N/A","N/A",(AE26-(AE26*$E$4))) -> 0 | AH26: =+IF(AG26="N/A","N/A",(AG26-(AG26*$E$4))) -> 0 | AJ26: =+IF(AI26="N/A","N/A",(AI26-(AI26*$E$4))) -> 0 | AL26: =+IF(AK26="N/A","N/A",(AK26-(AK26*$E$4))) -> 0 | AN26: =+IF(AM26="N/A","N/A",(AM26-(AM26*$E$4))) -> 0
A27: 11 | B27: Bujía | C27: 1 | E27: 37191.332 | F27: =+IF(E27="N/A","N/A",(E27-(E27*$E$4))) -> 18595.666 | G27: 52065.4 | H27: =+IF(G27="N/A","N/A",(G27-(G27*$E$4))) -> 26032.7 | I27: 39467.48 | J27: =+IF(I27="N/A","N/A",(I27-(I27*$E$4))) -> 19733.74 | K27: 40258.639 | L27: =+IF(K27="N/A","N/A",(K27-(K27*$E$4))) -> 20129.319 | M27: 38140.355 | N27: =+IF(M27="N/A","N/A",(M27-(M27*$E$4))) -> 19070.177 | O27: 38458.024 | P27: =+IF(O27="N/A","N/A",(O27-(O27*$E$4))) -> 19229.012 | Q27: 45123.213 | R27: =+IF(Q27="N/A","N/A",(Q27-(Q27*$E$4))) -> 22561.607 | S27: 45123.213 | T27: =+IF(S27="N/A","N/A",(S27-(S27*$E$4))) -> 22561.607 | U27: N/A | V27: =+IF(U27="N/A","N/A",(U27-(U27*$E$4))) -> N/A | W27: 43387.667 | X27: =+IF(W27="N/A","N/A",(W27-(W27*$E$4))) -> 21693.833 | Y27: N/A | Z27: =+IF(Y27="N/A","N/A",(Y27-(Y27*$E$4))) -> N/A | AA27: 31888.892 | AB27: =+IF(AA27="N/A","N/A",(AA27-(AA27*$E$4))) -> 15944.446 | AC27: 34709.933 | AD27: =+IF(AC27="N/A","N/A",(AC27-(AC27*$E$4))) -> 17354.967 | AE27: 31577.092 | AF27: =+IF(AE27="N/A","N/A",(AE27-(AE27*$E$4))) -> 15788.546 | AG27: 34491.329 | AH27: =+IF(AG27="N/A","N/A",(AG27-(AG27*$E$4))) -> 17245.664 | AI27: 47986.915 | AJ27: =+IF(AI27="N/A","N/A",(AI27-(AI27*$E$4))) -> 23993.457 | AK27: 73666.833 | AL27: =+IF(AK27="N/A","N/A",(AK27-(AK27*$E$4))) -> 36833.417 | AM27: 54166.833 | AN27: =+IF(AM27="N/A","N/A",(AM27-(AM27*$E$4))) -> 27083.417
A28: 12 | B28: Filtro Aire | C28: 1 | E28: 76238.168 | F28: =+IF(E28="N/A","N/A",(E28-(E28*$E$4))) -> 38119.084 | G28: 98055.887 | H28: =+IF(G28="N/A","N/A",(G28-(G28*$E$4))) -> 49027.943 | I28: 74255.583 | J28: =+IF(I28="N/A","N/A",(I28-(I28*$E$4))) -> 37127.792 | K28: 72403.167 | L28: =+IF(K28="N/A","N/A",(K28-(K28*$E$4))) -> 36201.584 | M28: 73593.067 | N28: =+IF(M28="N/A","N/A",(M28-(M28*$E$4))) -> 36796.534 | O28: 74014.002 | P28: =+IF(O28="N/A","N/A",(O28-(O28*$E$4))) -> 37007.001 | Q28: 103262.53 | R28: =+IF(Q28="N/A","N/A",(Q28-(Q28*$E$4))) -> 51631.263 | S28: 103262.53 | T28: =+IF(S28="N/A","N/A",(S28-(S28*$E$4))) -> 51631.263 | U28: 98055.887 | V28: =+IF(U28="N/A","N/A",(U28-(U28*$E$4))) -> 49027.943 | W28: 79833.147 | X28: =+IF(W28="N/A","N/A",(W28-(W28*$E$4))) -> 39916.573 | Y28: 94318.996 | Z28: =+IF(Y28="N/A","N/A",(Y28-(Y28*$E$4))) -> 47159.498 | AA28: 74345.438 | AB28: =+IF(AA28="N/A","N/A",(AA28-(AA28*$E$4))) -> 37172.719 | AC28: 99791.433 | AD28: =+IF(AC28="N/A","N/A",(AC28-(AC28*$E$4))) -> 49895.717 | AE28: 75527.486 | AF28: =+IF(AE28="N/A","N/A",(AE28-(AE28*$E$4))) -> 37763.743 | AG28: 82065.162 | AH28: =+IF(AG28="N/A","N/A",(AG28-(AG28*$E$4))) -> 41032.581 | AI28: 102290.08 | AJ28: =+IF(AI28="N/A","N/A",(AI28-(AI28*$E$4))) -> 51145.038 | AK28: 135416.83 | AL28: =+IF(AK28="N/A","N/A",(AK28-(AK28*$E$4))) -> 67708.417 | AM28: 99666.833 | AN28: =+IF(AM28="N/A","N/A",(AM28-(AM28*$E$4))) -> 49833.417
A29: 13 | B29: Filtro Combustible | C29: 1 | E29: 56088.518 | F29: =+IF(E29="N/A","N/A",(E29-(E29*$E$4))) -> 28044.259 | G29: 72023.687 | H29: =+IF(G29="N/A","N/A",(G29-(G29*$E$4))) -> 36011.843 | I29: N/A | J29: =+IF(I29="N/A","N/A",(I29-(I29*$E$4))) -> N/A | K29: N/A | L29: =+IF(K29="N/A","N/A",(K29-(K29*$E$4))) -> N/A | M29: 62020.505 | N29: =+IF(M29="N/A","N/A",(M29-(M29*$E$4))) -> 31010.252 | O29: N/A | P29: =+IF(O29="N/A","N/A",(O29-(O29*$E$4))) -> N/A | Q29: 72023.687 | R29: =+IF(Q29="N/A","N/A",(Q29-(Q29*$E$4))) -> 36011.843 | S29: 72023.687 | T29: =+IF(S29="N/A","N/A",(S29-(S29*$E$4))) -> 36011.843 | U29: 103262.53 | V29: =+IF(U29="N/A","N/A",(U29-(U29*$E$4))) -> 51631.263 | W29: N/A | X29: =+IF(W29="N/A","N/A",(W29-(W29*$E$4))) -> N/A | Y29: 71988.542 | Z29: =+IF(Y29="N/A","N/A",(Y29-(Y29*$E$4))) -> 35994.271 | AA29: 68586.919 | AB29: =+IF(AA29="N/A","N/A",(AA29-(AA29*$E$4))) -> 34293.459 | AC29: 73759.233 | AD29: =+IF(AC29="N/A","N/A",(AC29-(AC29*$E$4))) -> 36879.617 | AE29: 75618.512 | AF29: =+IF(AE29="N/A","N/A",(AE29-(AE29*$E$4))) -> 37809.256 | AG29: 86302.214 | AH29: =+IF(AG29="N/A","N/A",(AG29-(AG29*$E$4))) -> 43151.107 | AI29: N/A | AJ29: =+IF(AI29="N/A","N/A",(AI29-(AI29*$E$4))) -> N/A | AK29: 128916.83 | AL29: =+IF(AK29="N/A","N/A",(AK29-(AK29*$E$4))) -> 64458.417 | AM29: N/A | AN29: =+IF(AM29="N/A","N/A",(AM29-(AM29*$E$4))) -> N/A
A30: 14 | B30: Juego Cables De Alta | C30: 1 | E30: N/A | F30: =+IF(E30="N/A","N/A",(E30-(E30*$E$4))) -> N/A | G30: N/A | H30: =+IF(G30="N/A","N/A",(G30-(G30*$E$4))) -> N/A | I30: N/A | J30: =+IF(I30="N/A","N/A",(I30-(I30*$E$4))) -> N/A | K30: 198582.06 | L30: =+IF(K30="N/A","N/A",(K30-(K30*$E$4))) -> 99291.028 | M30: 203249.78 | N30: =+IF(M30="N/A","N/A",(M30-(M30*$E$4))) -> 101624.89 | O30: N/A | P30: =+IF(O30="N/A","N/A",(O30-(O30*$E$4))) -> N/A | Q30: N/A | R30: =+IF(Q30="N/A","N/A",(Q30-(Q30*$E$4))) -> N/A | S30: N/A | T30: =+IF(S30="N/A","N/A",(S30-(S30*$E$4))) -> N/A | U30: N/A | V30: =+IF(U30="N/A","N/A",(U30-(U30*$E$4))) -> N/A | W30: 116279.13 | X30: =+IF(W30="N/A","N/A",(W30-(W30*$E$4))) -> 58139.563 | Y30: N/A | Z30: =+IF(Y30="N/A","N/A",(Y30-(Y30*$E$4))) -> N/A | AA30: N/A | AB30: =+IF(AA30="N/A","N/A",(AA30-(AA30*$E$4))) -> N/A | AC30: N/A | AD30: =+IF(AC30="N/A","N/A",(AC30-(AC30*$E$4))) -> N/A | AE30: 111905.24 | AF30: =+IF(AE30="N/A","N/A",(AE30-(AE30*$E$4))) -> 55952.62 | AG30: 103316.61 | AH30: =+IF(AG30="N/A","N/A",(AG30-(AG30*$E$4))) -> 51658.303 | AI30: N/A | AJ30: =+IF(AI30="N/A","N/A",(AI30-(AI30*$E$4))) -> N/A | AK30: N/A | AL30: =+IF(AK30="N/A","N/A",(AK30-(AK30*$E$4))) -> N/A | AM30: 145166.83 | AN30: =+IF(AM30="N/A","N/A",(AM30-(AM30*$E$4))) -> 72583.417
A31: 15 | B31: Filtro De Aceite | C31: 1 | E31: 40394.085 | F31: =+IF(E31="N/A","N/A",(E31-(E31*$E$4))) -> 20197.042 | G31: 44255.44 | H31: =+IF(G31="N/A","N/A",(G31-(G31*$E$4))) -> 22127.72 | I31: 34761.289 | J31: =+IF(I31="N/A","N/A",(I31-(I31*$E$4))) -> 17380.645 | K31: 35673.223 | L31: =+IF(K31="N/A","N/A",(K31-(K31*$E$4))) -> 17836.612 | M31: 44341.286 | N31: =+IF(M31="N/A","N/A",(M31-(M31*$E$4))) -> 22170.643 | O31: 40228.908 | P31: =+IF(O31="N/A","N/A",(O31-(O31*$E$4))) -> 20114.454 | Q31: 46858.76 | R31: =+IF(Q31="N/A","N/A",(Q31-(Q31*$E$4))) -> 23429.38 | S31: 46858.76 | T31: =+IF(S31="N/A","N/A",(S31-(S31*$E$4))) -> 23429.38 | U31: 49462.08 | V31: =+IF(U31="N/A","N/A",(U31-(U31*$E$4))) -> 24731.04 | W31: 45123.213 | X31: =+IF(W31="N/A","N/A",(W31-(W31*$E$4))) -> 22561.607 | Y31: 45452.954 | Z31: =+IF(Y31="N/A","N/A",(Y31-(Y31*$E$4))) -> 22726.477 | AA31: 39238.385 | AB31: =+IF(AA31="N/A","N/A",(AA31-(AA31*$E$4))) -> 19619.192 | AC31: 39916.573 | AD31: =+IF(AC31="N/A","N/A",(AC31-(AC31*$E$4))) -> 19958.287 | AE31: 35929.902 | AF31: =+IF(AE31="N/A","N/A",(AE31-(AE31*$E$4))) -> 17964.951 | AG31: 36324.178 | AH31: =+IF(AG31="N/A","N/A",(AG31-(AG31*$E$4))) -> 18162.089 | AI31: 41706.14 | AJ31: =+IF(AI31="N/A","N/A",(AI31-(AI31*$E$4))) -> 20853.07 | AK31: 58500 | AL31: =+IF(AK31="N/A","N/A",(AK31-(AK31*$E$4))) -> 29250 | AM31: 56333.167 | AN31: =+IF(AM31="N/A","N/A",(AM31-(AM31*$E$4))) -> 28166.583
A32: 16 | B32: Filtro Trampa | C32: 1 | E32: 54405.349 | F32: =+IF(E32="N/A","N/A",(E32-(E32*$E$4))) -> 27202.674 | G32: 59007.087 | H32: =+IF(G32="N/A","N/A",(G32-(G32*$E$4))) -> 29503.543 | I32: N/A | J32: =+IF(I32="N/A","N/A",(I32-(I32*$E$4))) -> N/A | K32: N/A | L32: =+IF(K32="N/A","N/A",(K32-(K32*$E$4))) -> N/A | M32: N/A | N32: =+IF(M32="N/A","N/A",(M32-(M32*$E$4))) -> N/A | O32: N/A | P32: =+IF(O32="N/A","N/A",(O32-(O32*$E$4))) -> N/A | Q32: 53800.947 | R32: =+IF(Q32="N/A","N/A",(Q32-(Q32*$E$4))) -> 26900.473 | S32: 52933.173 | T32: =+IF(S32="N/A","N/A",(S32-(S32*$E$4))) -> 26466.587 | U32: 55535.993 | V32: =+IF(U32="N/A","N/A",(U32-(U32*$E$4))) -> 27767.997 | W32: N/A | X32: =+IF(W32="N/A","N/A",(W32-(W32*$E$4))) -> N/A | Y32: 63931.102 | Z32: =+IF(Y32="N/A","N/A",(Y32-(Y32*$E$4))) -> 31965.551 | AA32: N/A | AB32: =+IF(AA32="N/A","N/A",(AA32-(AA32*$E$4))) -> N/A | AC32: N/A | AD32: =+IF(AC32="N/A","N/A",(AC32-(AC32*$E$4))) -> N/A | AE32: N/A | AF32: =+IF(AE32="N/A","N/A",(AE32-(AE32*$E$4))) -> N/A | AG32: N/A | AH32: =+IF(AG32="N/A","N/A",(AG32-(AG32*$E$4))) -> N/A | AI32: N/A | AJ32: =+IF(AI32="N/A","N/A",(AI32-(AI32*$E$4))) -> N/A | AK32: N/A | AL32: =+IF(AK32="N/A","N/A",(AK32-(AK32*$E$4))) -> N/A | AM32: N/A | AN32: =+IF(AM32="N/A","N/A",(AM32-(AM32*$E$4))) -> N/A
A33: 17 | B33: Inyector | C33: 1 | E33: 1431793 | F33: =+IF(E33="N/A","N/A",(E33-(E33*$E$4))) -> 715896.5 | G33: 1587988.7 | H33: =+IF(G33="N/A","N/A",(G33-(G33*$E$4))) -> 793994.35 | I33: 680993.49 | J33: =+IF(I33="N/A","N/A",(I33-(I33*$E$4))) -> 340496.75 | K33: 671514.52 | L33: =+IF(K33="N/A","N/A",(K33-(K33*$E$4))) -> 335757.26 | M33: 966206.46 | N33: =+IF(M33="N/A","N/A",(M33-(M33*$E$4))) -> 483103.23 | O33: 777517.49 | P33: =+IF(O33="N/A","N/A",(O33-(O33*$E$4))) -> 388758.75 | Q33: 1640053.6 | R33: =+IF(Q33="N/A","N/A",(Q33-(Q33*$E$4))) -> 820026.8 | S33: 1640053.6 | T33: =+IF(S33="N/A","N/A",(S33-(S33*$E$4))) -> 820026.8 | U33: 1796249.3 | V33: =+IF(U33="N/A","N/A",(U33-(U33*$E$4))) -> 898124.65 | W33: 928495.97 | X33: =+IF(W33="N/A","N/A",(W33-(W33*$E$4))) -> 464247.98 | Y33: 1321683.3 | Z33: =+IF(Y33="N/A","N/A",(Y33-(Y33*$E$4))) -> 660841.63 | AA33: 780230.41 | AB33: =+IF(AA33="N/A","N/A",(AA33-(AA33*$E$4))) -> 390115.21 | AC33: 1110724.4 | AD33: =+IF(AC33="N/A","N/A",(AC33-(AC33*$E$4))) -> 555362.18 | AE33: 570162.1 | AF33: =+IF(AE33="N/A","N/A",(AE33-(AE33*$E$4))) -> 285081.05 | AG33: 713930.84 | AH33: =+IF(AG33="N/A","N/A",(AG33-(AG33*$E$4))) -> 356965.42 | AI33: 827879.01 | AJ33: =+IF(AI33="N/A","N/A",(AI33-(AI33*$E$4))) -> 413939.5 | AK33: 1960833.2 | AL33: =+IF(AK33="N/A","N/A",(AK33-(AK33*$E$4))) -> 980416.58 | AM33: 1159166.8 | AN33: =+IF(AM33="N/A","N/A",(AM33-(AM33*$E$4))) -> 579583.42
A34: 18 | B34: Bomba De Inyección | C34: 1 | E34: 9204127 | F34: =+IF(E34="N/A","N/A",(E34-(E34*$E$4))) -> 4602063.5 | G34: 9979163.3 | H34: =+IF(G34="N/A","N/A",(G34-(G34*$E$4))) -> 4989581.7 | I34: N/A | J34: =+IF(I34="N/A","N/A",(I34-(I34*$E$4))) -> N/A | K34: N/A | L34: =+IF(K34="N/A","N/A",(K34-(K34*$E$4))) -> N/A | M34: N/A | N34: =+IF(M34="N/A","N/A",(M34-(M34*$E$4))) -> N/A | O34: N/A | P34: =+IF(O34="N/A","N/A",(O34-(O34*$E$4))) -> N/A | Q34: 9805612.7 | R34: =+IF(Q34="N/A","N/A",(Q34-(Q34*$E$4))) -> 4902806.3 | S34: 10152714 | T34: =+IF(S34="N/A","N/A",(S34-(S34*$E$4))) -> 5076357 | U34: 10152714 | V34: =+IF(U34="N/A","N/A",(U34-(U34*$E$4))) -> 5076357 | W34: N/A | X34: =+IF(W34="N/A","N/A",(W34-(W34*$E$4))) -> N/A | Y34: 9570170.8 | Z34: =+IF(Y34="N/A","N/A",(Y34-(Y34*$E$4))) -> 4785085.4 | AA34: N/A | AB34: =+IF(AA34="N/A","N/A",(AA34-(AA34*$E$4))) -> N/A | AC34: N/A | AD34: =+IF(AC34="N/A","N/A",(AC34-(AC34*$E$4))) -> N/A | AE34: N/A | AF34: =+IF(AE34="N/A","N/A",(AE34-(AE34*$E$4))) -> N/A | AG34: N/A | AH34: =+IF(AG34="N/A","N/A",(AG34-(AG34*$E$4))) -> N/A | AI34: N/A | AJ34: =+IF(AI34="N/A","N/A",(AI34-(AI34*$E$4))) -> N/A | AK34: N/A | AL34: =+IF(AK34="N/A","N/A",(AK34-(AK34*$E$4))) -> N/A | AM34: N/A | AN34: =+IF(AM34="N/A","N/A",(AM34-(AM34*$E$4))) -> N/A
A35: 19 | B35: Oring Sellos | C35: 1 | E35: 42921.802 | F35: =+IF(E35="N/A","N/A",(E35-(E35*$E$4))) -> 21460.901 | G35: 59311.132 | H35: =+IF(G35="N/A","N/A",(G35-(G35*$E$4))) -> 29655.566 | I35: N/A | J35: =+IF(I35="N/A","N/A",(I35-(I35*$E$4))) -> N/A | K35: N/A | L35: =+IF(K35="N/A","N/A",(K35-(K35*$E$4))) -> N/A | M35: 44055.859 | N35: =+IF(M35="N/A","N/A",(M35-(M35*$E$4))) -> 22027.93 | O35: N/A | P35: =+IF(O35="N/A","N/A",(O35-(O35*$E$4))) -> N/A | Q35: 51197.627 | R35: =+IF(Q35="N/A","N/A",(Q35-(Q35*$E$4))) -> 25598.813 | S35: 47726.533 | T35: =+IF(S35="N/A","N/A",(S35-(S35*$E$4))) -> 23863.267 | U35: 47726.533 | V35: =+IF(U35="N/A","N/A",(U35-(U35*$E$4))) -> 23863.267 | W35: N/A | X35: =+IF(W35="N/A","N/A",(W35-(W35*$E$4))) -> N/A | Y35: 50629.619 | Z35: =+IF(Y35="N/A","N/A",(Y35-(Y35*$E$4))) -> 25314.81 | AA35: 40151.129 | AB35: =+IF(AA35="N/A","N/A",(AA35-(AA35*$E$4))) -> 20075.565 | AC35: 42519.893 | AD35: =+IF(AC35="N/A","N/A",(AC35-(AC35*$E$4))) -> 21259.947 | AE35: N/A | AF35: =+IF(AE35="N/A","N/A",(AE35-(AE35*$E$4))) -> N/A | AG35: N/A | AH35: =+IF(AG35="N/A","N/A",(AG35-(AG35*$E$4))) -> N/A | AI35: N/A | AJ35: =+IF(AI35="N/A","N/A",(AI35-(AI35*$E$4))) -> N/A | AK35: 81250 | AL35: =+IF(AK35="N/A","N/A",(AK35-(AK35*$E$4))) -> 40625 | AM35: N/A | AN35: =+IF(AM35="N/A","N/A",(AM35-(AM35*$E$4))) -> N/A
A36: 20 | B36: Bomba De Combustible | C36: 1 | E36: 1268710.9 | F36: =+IF(E36="N/A","N/A",(E36-(E36*$E$4))) -> 634355.47 | G36: 1860463 | H36: =+IF(G36="N/A","N/A",(G36-(G36*$E$4))) -> 930231.51 | I36: 1550118 | J36: =+IF(I36="N/A","N/A",(I36-(I36*$E$4))) -> 775059.02 | K36: 1433952.1 | L36: =+IF(K36="N/A","N/A",(K36-(K36*$E$4))) -> 716976.06 | M36: 1465935.6 | N36: =+IF(M36="N/A","N/A",(M36-(M36*$E$4))) -> 732967.79 | O36: 1451931.1 | P36: =+IF(O36="N/A","N/A",(O36-(O36*$E$4))) -> 725965.57 | Q36: 1935090 | R36: =+IF(Q36="N/A","N/A",(Q36-(Q36*$E$4))) -> 967545.02 | S36: 1935090 | T36: =+IF(S36="N/A","N/A",(S36-(S36*$E$4))) -> 967545.02 | U36: N/A | V36: =+IF(U36="N/A","N/A",(U36-(U36*$E$4))) -> N/A | W36: 2073930.3 | X36: =+IF(W36="N/A","N/A",(W36-(W36*$E$4))) -> 1036965.1 | Y36: N/A | Z36: =+IF(Y36="N/A","N/A",(Y36-(Y36*$E$4))) -> N/A | AA36: 1581277.5 | AB36: =+IF(AA36="N/A","N/A",(AA36-(AA36*$E$4))) -> 790638.73 | AC36: 2091285.7 | AD36: =+IF(AC36="N/A","N/A",(AC36-(AC36*$E$4))) -> 1045642.9 | AE36: 1397888.9 | AF36: =+IF(AE36="N/A","N/A",(AE36-(AE36*$E$4))) -> 698944.45 | AG36: 1564065.3 | AH36: =+IF(AG36="N/A","N/A",(AG36-(AG36*$E$4))) -> 782032.67 | AI36: 1782084.9 | AJ36: =+IF(AI36="N/A","N/A",(AI36-(AI36*$E$4))) -> 891042.47 | AK36: 2610833.2 | AL36: =+IF(AK36="N/A","N/A",(AK36-(AK36*$E$4))) -> 1305416.6 | AM36: 2589166.8 | AN36: =+IF(AM36="N/A","N/A",(AM36-(AM36*$E$4))) -> 1294583.4
A37: 21 | B37: Bujía Precalentadora | C37: 1 | E37: 328295.18 | F37: =+IF(E37="N/A","N/A",(E37-(E37*$E$4))) -> 164147.59 | G37: 446024.99 | H37: =+IF(G37="N/A","N/A",(G37-(G37*$E$4))) -> 223012.5 | I37: N/A | J37: =+IF(I37="N/A","N/A",(I37-(I37*$E$4))) -> N/A | K37: N/A | L37: =+IF(K37="N/A","N/A",(K37-(K37*$E$4))) -> N/A | M37: N/A | N37: =+IF(M37="N/A","N/A",(M37-(M37*$E$4))) -> N/A | O37: N/A | P37: =+IF(O37="N/A","N/A",(O37-(O37*$E$4))) -> N/A | Q37: 421728.34 | R37: =+IF(Q37="N/A","N/A",(Q37-(Q37*$E$4))) -> 210864.17 | S37: 439083.31 | T37: =+IF(S37="N/A","N/A",(S37-(S37*$E$4))) -> 219541.65 | U37: 466851.05 | V37: =+IF(U37="N/A","N/A",(U37-(U37*$E$4))) -> 233425.53 | W37: N/A | X37: =+IF(W37="N/A","N/A",(W37-(W37*$E$4))) -> N/A | Y37: 364606.84 | Z37: =+IF(Y37="N/A","N/A",(Y37-(Y37*$E$4))) -> 182303.42 | AA37: N/A | AB37: =+IF(AA37="N/A","N/A",(AA37-(AA37*$E$4))) -> N/A | AC37: N/A | AD37: =+IF(AC37="N/A","N/A",(AC37-(AC37*$E$4))) -> N/A | AE37: N/A | AF37: =+IF(AE37="N/A","N/A",(AE37-(AE37*$E$4))) -> N/A | AG37: N/A | AH37: =+IF(AG37="N/A","N/A",(AG37-(AG37*$E$4))) -> N/A | AI37: N/A | AJ37: =+IF(AI37="N/A","N/A",(AI37-(AI37*$E$4))) -> N/A | AK37: N/A | AL37: =+IF(AK37="N/A","N/A",(AK37-(AK37*$E$4))) -> N/A | AM37: N/A | AN37: =+IF(AM37="N/A","N/A",(AM37-(AM37*$E$4))) -> N/A
A38: 22 | B38: Bombín | C38: 1 | E38: 340627.59 | F38: =+IF(E38="N/A","N/A",(E38-(E38*$E$4))) -> 170313.79 | G38: 543213.61 | H38: =+IF(G38="N/A","N/A",(G38-(G38*$E$4))) -> 271606.8 | I38: N/A | J38: =+IF(I38="N/A","N/A",(I38-(I38*$E$4))) -> N/A | K38: N/A | L38: =+IF(K38="N/A","N/A",(K38-(K38*$E$4))) -> N/A | M38: N/A | N38: =+IF(M38="N/A","N/A",(M38-(M38*$E$4))) -> N/A | O38: N/A | P38: =+IF(O38="N/A","N/A",(O38-(O38*$E$4))) -> N/A | Q38: 555361.93 | R38: =+IF(Q38="N/A","N/A",(Q38-(Q38*$E$4))) -> 277680.97 | S38: 555361.93 | T38: =+IF(S38="N/A","N/A",(S38-(S38*$E$4))) -> 277680.97 | U38: 633460.03 | V38: =+IF(U38="N/A","N/A",(U38-(U38*$E$4))) -> 316730.02 | W38: N/A | X38: =+IF(W38="N/A","N/A",(W38-(W38*$E$4))) -> N/A | Y38: 432186.21 | Z38: =+IF(Y38="N/A","N/A",(Y38-(Y38*$E$4))) -> 216093.1 | AA38: N/A | AB38: =+IF(AA38="N/A","N/A",(AA38-(AA38*$E$4))) -> N/A | AC38: N/A | AD38: =+IF(AC38="N/A","N/A",(AC38-(AC38*$E$4))) -> N/A | AE38: N/A | AF38: =+IF(AE38="N/A","N/A",(AE38-(AE38*$E$4))) -> N/A | AG38: N/A | AH38: =+IF(AG38="N/A","N/A",(AG38-(AG38*$E$4))) -> N/A | AI38: N/A | AJ38: =+IF(AI38="N/A","N/A",(AI38-(AI38*$E$4))) -> N/A | AK38: N/A | AL38: =+IF(AK38="N/A","N/A",(AK38-(AK38*$E$4))) -> N/A | AM38: N/A | AN38: =+IF(AM38="N/A","N/A",(AM38-(AM38*$E$4))) -> N/A
A39: 23 | B39: Tornillo Peter | C39: 1 | E39: 116719.88 | F39: =+IF(E39="N/A","N/A",(E39-(E39*$E$4))) -> 58359.94 | G39: 137105.19 | H39: =+IF(G39="N/A","N/A",(G39-(G39*$E$4))) -> 68552.593 | I39: N/A | J39: =+IF(I39="N/A","N/A",(I39-(I39*$E$4))) -> N/A | K39: N/A | L39: =+IF(K39="N/A","N/A",(K39-(K39*$E$4))) -> N/A | M39: N/A | N39: =+IF(M39="N/A","N/A",(M39-(M39*$E$4))) -> N/A | O39: N/A | P39: =+IF(O39="N/A","N/A",(O39-(O39*$E$4))) -> N/A | Q39: 132766.32 | R39: =+IF(Q39="N/A","N/A",(Q39-(Q39*$E$4))) -> 66383.16 | S39: 138840.73 | T39: =+IF(S39="N/A","N/A",(S39-(S39*$E$4))) -> 69420.367 | U39: 145782.42 | V39: =+IF(U39="N/A","N/A",(U39-(U39*$E$4))) -> 72891.21 | W39: N/A | X39: =+IF(W39="N/A","N/A",(W39-(W39*$E$4))) -> N/A | Y39: 128444.73 | Z39: =+IF(Y39="N/A","N/A",(Y39-(Y39*$E$4))) -> 64222.364 | AA39: N/A | AB39: =+IF(AA39="N/A","N/A",(AA39-(AA39*$E$4))) -> N/A | AC39: N/A | AD39: =+IF(AC39="N/A","N/A",(AC39-(AC39*$E$4))) -> N/A | AE39: N/A | AF39: =+IF(AE39="N/A","N/A",(AE39-(AE39*$E$4))) -> N/A | AG39: N/A | AH39: =+IF(AG39="N/A","N/A",(AG39-(AG39*$E$4))) -> N/A | AI39: N/A | AJ39: =+IF(AI39="N/A","N/A",(AI39-(AI39*$E$4))) -> N/A | AK39: N/A | AL39: =+IF(AK39="N/A","N/A",(AK39-(AK39*$E$4))) -> N/A | AM39: N/A | AN39: =+IF(AM39="N/A","N/A",(AM39-(AM39*$E$4))) -> N/A
B40: SISTEMA DE SUSPENSIÓN | F40: =+IF(E40="N/A","N/A",(E40-(E40*$E$4))) -> 0 | H40: =+IF(G40="N/A","N/A",(G40-(G40*$E$4))) -> 0 | J40: =+IF(I40="N/A","N/A",(I40-(I40*$E$4))) -> 0 | L40: =+IF(K40="N/A","N/A",(K40-(K40*$E$4))) -> 0 | N40: =+IF(M40="N/A","N/A",(M40-(M40*$E$4))) -> 0 | P40: =+IF(O40="N/A","N/A",(O40-(O40*$E$4))) -> 0 | R40: =+IF(Q40="N/A","N/A",(Q40-(Q40*$E$4))) -> 0 | T40: =+IF(S40="N/A","N/A",(S40-(S40*$E$4))) -> 0 | V40: =+IF(U40="N/A","N/A",(U40-(U40*$E$4))) -> 0 | X40: =+IF(W40="N/A","N/A",(W40-(W40*$E$4))) -> 0 | Z40: =+IF(Y40="N/A","N/A",(Y40-(Y40*$E$4))) -> 0 | AB40: =+IF(AA40="N/A","N/A",(AA40-(AA40*$E$4))) -> 0 | AD40: =+IF(AC40="N/A","N/A",(AC40-(AC40*$E$4))) -> 0 | AF40: =+IF(AE40="N/A","N/A",(AE40-(AE40*$E$4))) -> 0 | AH40: =+IF(AG40="N/A","N/A",(AG40-(AG40*$E$4))) -> 0 | AJ40: =+IF(AI40="N/A","N/A",(AI40-(AI40*$E$4))) -> 0 | AL40: =+IF(AK40="N/A","N/A",(AK40-(AK40*$E$4))) -> 0 | AN40: =+IF(AM40="N/A","N/A",(AM40-(AM40*$E$4))) -> 0
A41: 24 | B41: Brazo Axial | C41: 1 | E41: 248988.9 | F41: =+IF(E41="N/A","N/A",(E41-(E41*$E$4))) -> 124494.45 | G41: 307184.76 | H41: =+IF(G41="N/A","N/A",(G41-(G41*$E$4))) -> 153592.38 | I41: 215584.97 | J41: =+IF(I41="N/A","N/A",(I41-(I41*$E$4))) -> 107792.49 | K41: 212920.08 | L41: =+IF(K41="N/A","N/A",(K41-(K41*$E$4))) -> 106460.04 | M41: N/A | N41: =+IF(M41="N/A","N/A",(M41-(M41*$E$4))) -> N/A | O41: 235422.69 | P41: =+IF(O41="N/A","N/A",(O41-(O41*$E$4))) -> 117711.34 | Q41: 274209.87 | R41: =+IF(Q41="N/A","N/A",(Q41-(Q41*$E$4))) -> 137104.94 | S41: 279416.51 | T41: =+IF(S41="N/A","N/A",(S41-(S41*$E$4))) -> 139708.26 | U41: 336688.05 | V41: =+IF(U41="N/A","N/A",(U41-(U41*$E$4))) -> 168344.03 | W41: 267268.19 | X41: =+IF(W41="N/A","N/A",(W41-(W41*$E$4))) -> 133634.09 | Y41: 260025.43 | Z41: =+IF(Y41="N/A","N/A",(Y41-(Y41*$E$4))) -> 130012.72 | AA41: 243282.61 | AB41: =+IF(AA41="N/A","N/A",(AA41-(AA41*$E$4))) -> 121641.3 | AC41: 267268.19 | AD41: =+IF(AC41="N/A","N/A",(AC41-(AC41*$E$4))) -> 133634.09 | AE41: 209503.69 | AF41: =+IF(AE41="N/A","N/A",(AE41-(AE41*$E$4))) -> 104751.85 | AG41: 222325.63 | AH41: =+IF(AG41="N/A","N/A",(AG41-(AG41*$E$4))) -> 111162.81 | AI41: 239273.82 | AJ41: =+IF(AI41="N/A","N/A",(AI41-(AI41*$E$4))) -> 119636.91 | AK41: 416000 | AL41: =+IF(AK41="N/A","N/A",(AK41-(AK41*$E$4))) -> 208000 | AM41: 333666.83 | AN41: =+IF(AM41="N/A","N/A",(AM41-(AM41*$E$4))) -> 166833.42
A42: 25 | B42: Juego de Terminales Direccion (Largo y Corto) | C42: 1 | E42: 348025.08 | F42: =+IF(E42="N/A","N/A",(E42-(E42*$E$4))) -> 174012.54 | G42: 366191.85 | H42: =+IF(G42="N/A","N/A",(G42-(G42*$E$4))) -> 183095.92 | I42: 216779.04 | J42: =+IF(I42="N/A","N/A",(I42-(I42*$E$4))) -> 108389.52 | K42: 215293.79 | L42: =+IF(K42="N/A","N/A",(K42-(K42*$E$4))) -> 107646.89 | M42: 332874.66 | N42: =+IF(M42="N/A","N/A",(M42-(M42*$E$4))) -> 166437.33 | O42: 215690.48 | P42: =+IF(O42="N/A","N/A",(O42-(O42*$E$4))) -> 107845.24 | Q42: 371398.49 | R42: =+IF(Q42="N/A","N/A",(Q42-(Q42*$E$4))) -> 185699.24 | S42: 388753.45 | T42: =+IF(S42="N/A","N/A",(S42-(S42*$E$4))) -> 194376.73 | U42: 371398.49 | V42: =+IF(U42="N/A","N/A",(U42-(U42*$E$4))) -> 185699.24 | W42: 237764.39 | X42: =+IF(W42="N/A","N/A",(W42-(W42*$E$4))) -> 118882.2 | Y42: 383403.82 | Z42: =+IF(Y42="N/A","N/A",(Y42-(Y42*$E$4))) -> 191701.91 | AA42: 313047.09 | AB42: =+IF(AA42="N/A","N/A",(AA42-(AA42*$E$4))) -> 156523.54 | AC42: 329746.37 | AD42: =+IF(AC42="N/A","N/A",(AC42-(AC42*$E$4))) -> 164873.18 | AE42: 217671.64 | AF42: =+IF(AE42="N/A","N/A",(AE42-(AE42*$E$4))) -> 108835.82 | AG42: 222641.89 | AH42: =+IF(AG42="N/A","N/A",(AG42-(AG42*$E$4))) -> 111320.95 | AI42: 274318.82 | AJ42: =+IF(AI42="N/A","N/A",(AI42-(AI42*$E$4))) -> 137159.41 | AK42: 437666.83 | AL42: =+IF(AK42="N/A","N/A",(AK42-(AK42*$E$4))) -> 218833.42 | AM42: 296833.17 | AN42: =+IF(AM42="N/A","N/A",(AM42-(AM42*$E$4))) -> 148416.58
...

Sheet MANO DE OBRA MOTOS
B1: IPC 2020 | C1: 0.06
B2: IPC2021 | C2: 0.059
A3: LISTA DE PRECIOS SECCIONAL MAGDALENA | E3: 0.5
E6: VALOR SELECCIONADO | G6: VALOR SELECCIONADO
E7: MANO DE OBRA | F7: VALOR CON DESCUENTO | G7: MANO DE OBRA | H7: VALOR CON DESCUENTO
A8: NECESIDAD CONTRATACIÓN MOTOS MANO DE OBRA | C8: CANTIDAD
A10: NOMBRE DEL ACTIVO
A11: CILINDRAJE | E11: 0 - 150 CC | G11: 151 - 250 CC
A13: DESCRIPCIÓN | E13: COSTO MANO DE OBRA | G13: COSTO MANO DE OBRA
E14: VALOR UNITARIO INCLUIDO IVA | G14: VALOR UNITARIO INCLUIDO IVA
B16: SINCRONIZACIÓN
A17: 1 | B17: Sincronización (entiéndase por : calibración de válvulas, limpieza cuerpo de aceleración ya sea un motor inyectado o carburado, lavado de inyectores por ultrasonido, cambio de filtros, cambio o mantenimiento de bujías, calibración de sensores y revisión eléctrica. | C17: 1 | E17: 106425.56 | F17: =+IF(E17="N/A","N/A",(E17-(E17*$E$3))) -> 53212.779 | G17: 119918.63 | H17: =+IF(G17="N/A","N/A",(G17-(G17*$E$3))) -> 59959.315
A18: 2 | B18: CALIBRACIÓN VÁLVULAS | C18: 1 | E18: 74309.7 | F18: =+IF(E18="N/A","N/A",(E18-(E18*$E$3))) -> 37154.85 | G18: 86612.006 | H18: =+IF(G18="N/A","N/A",(G18-(G18*$E$3))) -> 43306.003
A19: 3 | B19: LIMPIEZA TANQUE COMBUSTIBLE ( INCLUYE DESMONTAR Y MONTAR) | C19: 1 | E19: 54768.252 | F19: =+IF(E19="N/A","N/A",(E19-(E19*$E$3))) -> 27384.126 | G19: 66067.557 | H19: =+IF(G19="N/A","N/A",(G19-(G19*$E$3))) -> 33033.778
A20: 4 | B20: CAMBIO GUAYA ACELERADOR | C20: 1 | E20: 48722.345 | F20: =+IF(E20="N/A","N/A",(E20-(E20*$E$3))) -> 24361.172 | G20: 59587.467 | H20: =+IF(G20="N/A","N/A",(G20-(G20*$E$3))) -> 29793.733
A21: 5 | B21: CAMBIO GUAYA CHOKE | C21: 1 | E21: 45664.123 | F21: =+IF(E21="N/A","N/A",(E21-(E21*$E$3))) -> 22832.061 | G21: N/A | H21: =+IF(G21="N/A","N/A",(G21-(G21*$E$3))) -> N/A
A22: 6 | B22: LUBRICAR GUAYAS | C22: 1 | E22: 28678.162 | F22: =+IF(E22="N/A","N/A",(E22-(E22*$E$3))) -> 14339.081 | G22: 33530.751 | H22: =+IF(G22="N/A","N/A",(G22-(G22*$E$3))) -> 16765.376
A23: 7 | B23: COMPROBACIÓN NIVELES | C23: 1 | E23: 25188.478 | F23: =+IF(E23="N/A","N/A",(E23-(E23*$E$3))) -> 12594.239 | G23: 29587.732 | H23: =+IF(G23="N/A","N/A",(G23-(G23*$E$3))) -> 14793.866
A24: 8 | B24: CAMBIO CAPUCHÓN BUJÍA | C24: 1 | E24: 23277.001 | F24: =+IF(E24="N/A","N/A",(E24-(E24*$E$3))) -> 11638.5 | G24: 28392.243 | H24: =+IF(G24="N/A","N/A",(G24-(G24*$E$3))) -> 14196.122
A25: 9 | B25: CAMBIO BOMBA COMBUSTIBLE ( INCLUYE DESMONTAR Y MONTAR) | C25: 1 | E25: N/A | F25: =+IF(E25="N/A","N/A",(E25-(E25*$E$3))) -> N/A | G25: 92822.688 | H25: =+IF(G25="N/A","N/A",(G25-(G25*$E$3))) -> 46411.344
A26: 10 | B26: LIMPIEZA INYECTORES | C26: 1 | E26: N/A | F26: =+IF(E26="N/A","N/A",(E26-(E26*$E$3))) -> N/A | G26: 51314.557 | H26: =+IF(G26="N/A","N/A",(G26-(G26*$E$3))) -> 25657.278
B27: MOTOR | F27: =+IF(E27="N/A","N/A",(E27-(E27*$E$3))) -> 0 | H27: =+IF(G27="N/A","N/A",(G27-(G27*$E$3))) -> 0
A28: 11 | B28: REPARACIÓN MOTOR (INCLUYE DESARME, ARMADO Y SERVICIO DE RECTIFICADORA) | C28: 1 | E28: 523383.3 | F28: =+IF(E28="N/A","N/A",(E28-(E28*$E$3))) -> 261691.65 | G28: 624070.48 | H28: =+IF(G28="N/A","N/A",(G28-(G28*$E$3))) -> 312035.24
A29: 12 | B29: EMPACAR MOTOR | C29: 1 | E29: 189034.3 | F29: =+IF(E29="N/A","N/A",(E29-(E29*$E$3))) -> 94517.15 | G29: 231874.8 | H29: =+IF(G29="N/A","N/A",(G29-(G29*$E$3))) -> 115937.4
A30: 13 | B30: CAMBIO CANASTILLA BALANCINES | C30: 1 | E30: 118993 | F30: =+IF(E30="N/A","N/A",(E30-(E30*$E$3))) -> 59496.5 | G30: 145672 | H30: =+IF(G30="N/A","N/A",(G30-(G30*$E$3))) -> 72836
A31: 14 | B31: CAMBIO BOMBA ACEITE MOTOR | C31: 1 | E31: 141573.5 | F31: =+IF(E31="N/A","N/A",(E31-(E31*$E$3))) -> 70786.75 | G31: 165825.88 | H31: =+IF(G31="N/A","N/A",(G31-(G31*$E$3))) -> 82912.939
A32: 15 | B32: CAMBIO ACEITE MOTOR | C32: 1 | E32: 37129.85 | F32: =+IF(E32="N/A","N/A",(E32-(E32*$E$3))) -> 18564.925 | G32: 40797.032 | H32: =+IF(G32="N/A","N/A",(G32-(G32*$E$3))) -> 20398.516
A33: 16 | B33: CAMBIO FILTRO ACEITE | C33: 1 | E33: 20325.13 | F33: =+IF(E33="N/A","N/A",(E33-(E33*$E$3))) -> 10162.565 | G33: 21612.878 | H33: =+IF(G33="N/A","N/A",(G33-(G33*$E$3))) -> 10806.439
A34: 17 | B34: ARREGLO ROSCAS CILINDRO | C34: 1 | E34: 63571.52 | F34: =+IF(E34="N/A","N/A",(E34-(E34*$E$3))) -> 31785.76 | G34: 69871.413 | H34: =+IF(G34="N/A","N/A",(G34-(G34*$E$3))) -> 34935.707
A35: 18 | B35: CAMBIO TAPA FILTRO | C35: 1 | E35: 32416.171 | F35: =+IF(E35="N/A","N/A",(E35-(E35*$E$3))) -> 16208.085 | G35: 33785.787 | H35: =+IF(G35="N/A","N/A",(G35-(G35*$E$3))) -> 16892.894
A36: 19 | B36: CAMBIO RODAMIENTO VOLANTE | C36: 1 | E36: N/A | F36: =+IF(E36="N/A","N/A",(E36-(E36*$E$3))) -> N/A | G36: 57945.02 | H36: =+IF(G36="N/A","N/A",(G36-(G36*$E$3))) -> 28972.51
A37: 20 | B37: CAMBIO BALANCINES | C37: 1 | E37: 83217.638 | F37: =+IF(E37="N/A","N/A",(E37-(E37*$E$3))) -> 41608.819 | G37: 94815.27 | H37: =+IF(G37="N/A","N/A",(G37-(G37*$E$3))) -> 47407.635
A38: 21 | B38: CAMBIO RODAMIENTOS CIGÜEÑAL | C38: 1 | E38: 163193.5 | F38: =+IF(E38="N/A","N/A",(E38-(E38*$E$3))) -> 81596.75 | G38: 206352.63 | H38: =+IF(G38="N/A","N/A",(G38-(G38*$E$3))) -> 103176.32
A39: 22 | B39: CAMBIO CAUCHOS O SELLOS DE VÁLVULAS | C39: 1 | E39: 98042.693 | F39: =+IF(E39="N/A","N/A",(E39-(E39*$E$3))) -> 49021.347 | G39: 111088.19 | H39: =+IF(G39="N/A","N/A",(G39-(G39*$E$3))) -> 55544.093
A40: 23 | B40: CAMBIO RETENEDOR NIVEL ACEITE | C40: 1 | E40: N/A | F40: =+IF(E40="N/A","N/A",(E40-(E40*$E$3))) -> N/A | G40: 50237.114 | H40: =+IF(G40="N/A","N/A",(G40-(G40*$E$3))) -> 25118.557
A41: 24 | B41: CAMBIO VÁLVULA DESCOMPRESIONADORA | C41: 1 | E41: N/A | F41: =+IF(E41="N/A","N/A",(E41-(E41*$E$3))) -> N/A | G41: 56762.994 | H41: =+IF(G41="N/A","N/A",(G41-(G41*$E$3))) -> 28381.497
B42: RECTIFICADORA | F42: =+IF(E42="N/A","N/A",(E42-(E42*$E$3))) -> 0 | H42: =+IF(G42="N/A","N/A",(G42-(G42*$E$3))) -> 0
A43: 25 | B43: ENCAMISAR CILINDRO | C43: 1 | E43: 117540.41 | F43: =+IF(E43="N/A","N/A",(E43-(E43*$E$3))) -> 58770.206 | G43: 146158.79 | H43: =+IF(G43="N/A","N/A",(G43-(G43*$E$3))) -> 73079.393
A44: 26 | B44: RECTIFICAR CILINDRO | C44: 1 | E44: 117011.09 | F44: =+IF(E44="N/A","N/A",(E44-(E44*$E$3))) -> 58505.546 | G44: 143183.12 | H44: =+IF(G44="N/A","N/A",(G44-(G44*$E$3))) -> 71591.561
A45: 27 | B45: CAMBIAR BUJES EJE DE LEVAS | C45: 1 | E45: 96002.585 | F45: =+IF(E45="N/A","N/A",(E45-(E45*$E$3))) -> 48001.292 | G45: 115424.42 | H45: =+IF(G45="N/A","N/A",(G45-(G45*$E$3))) -> 57712.211
...

Sheet REPUESTOS MOTOS 
B1: IPC 2020 | C1: 0.038
B2: IPC2021 | C2: 0.03
E3: 0.5
A4: LISTA DE PRECIOS
E5: VALOR SELECCIONADO | G5: VALOR SELECCIONADO | I5: VALOR SELECCIONADO | K5: VALOR SELECCIONADO | M5: VALOR SELECCIONADO | O5: VALOR SELECCIONADO | Q5: VALOR SELECCIONADO | S5: VALOR SELECCIONADO | U5: VALOR SELECCIONADO
A6: NECESIDAD CONTRATACÓN MULTIMARCA MANO DE OBRA | E6: 1. REPUESTOS | F6: VALOR CON DESCUENTO | G6: 2. REPUESTOS | H6: VALOR CON DESCUENTO | I6: 3. REPUESTOS | J6: VALOR CON DESCUENTO | K6: 4. REPUESTOS | L6: VALOR CON DESCUENTO | M6: 5. REPUESTOS | N6: VALOR CON DESCUENTO | O6: 6. REPUESTOS | P6: VALOR CON DESCUENTO | Q6: 7. REPUESTOS | R6: VALOR CON DESCUENTO | S6: 8. REPUESTOS | T6: VALOR CON DESCUENTO | U6: 9. REPUESTOS | V6: VALOR CON DESCUENTO
A8: NOMBRE DEL ACTIVO | E8: MOTOCICLETA | G8: MOTOCICLETA | I8: MOTOCICLETA | K8: MOTOCICLETA | M8: MOTOCICLETA | O8: MOTOCICLETA | Q8: MOTOCICLETA | S8: MOTOCICLETA | U8: MOTOCICLETA
A9: MARCA | E9: AUTECO BAJAJ | G9: HONDA | I9: HONDA | K9: HONDA | M9: HONDA | O9: SUZUKI | Q9: YAMAHA | S9: YAMAHA | U9: YAMAHA
A10: LÍNEA | C10: CANTIDAD | E10: BOXER (2) | G10: ELITE+ (3) | I10: XL 200 (2) | K10: SPLENDOR (1) | M10: XR250 (1) | O10: DR 200 (15) | Q10: XTZ 125 (3) | S10: XTZ 250 (2) | U10: LIBERO (2)
A11: MODELO | E11: 2014 | G11: 2016 | I11: 2006 | K11: 2006 | M11: 2011 | O11: 2006-2017 | Q11: 2007-2014 | S11: 2017 | U11: 2010-2011
A12: MUTIMARCA MOTOCICLETAS | E12: COSTO REPUESTO (S) | G12: COSTO REPUESTO (S) | I12: COSTO REPUESTO (S) | K12: COSTO REPUESTO (S) | M12: COSTO REPUESTO (S) | O12: COSTO REPUESTO (S) | Q12: COSTO REPUESTO (S) | S12: COSTO REPUESTO (S) | U12: COSTO REPUESTO (S)
E13: VALOR UNITARIO INCLUIDO IVA | G13: VALOR UNITARIO INCLUIDO IVA | I13: VALOR UNITARIO INCLUIDO IVA | K13: VALOR UNITARIO INCLUIDO IVA | M13: VALOR UNITARIO INCLUIDO IVA | O13: VALOR UNITARIO INCLUIDO IVA | Q13: VALOR UNITARIO INCLUIDO IVA | S13: VALOR UNITARIO ANTES DE IVA | U13: VALOR UNITARIO INCLUIDO IVA
A14: ÌTEM | B14: SISTEMA DE FRENOS
A15: 1 | B15: Juego De Bandas Frenos (Dos pares) | C15: 1 | E15: 103654.34 | F15: =+IF(E15="N/A","N/A",(E15-(E15*$E$3))) -> 51827.171 | G15: 77842.5 | H15: =+IF(G15="N/A","N/A",(G15-(G15*$E$3))) -> 38921.25 | I15: 98458 | J15: =+IF(I15="N/A","N/A",(I15-(I15*$E$3))) -> 49229 | K15: 96968.5 | L15: =+IF(K15="N/A","N/A",(K15-(K15*$E$3))) -> 48484.25 | M15: 89000 | N15: =+IF(M15="N/A","N/A",(M15-(M15*$E$3))) -> 44500 | O15: 108472.82 | P15: =+IF(O15="N/A","N/A",(O15-(O15*$E$3))) -> 54236.41 | Q15: 92773.5 | R15: =+IF(Q15="N/A","N/A",(Q15-(Q15*$E$3))) -> 46386.75 | S15: 103779.5 | T15: =+IF(S15="N/A","N/A",(S15-(S15*$E$3))) -> 51889.75 | U15: 85389.5 | V15: =+IF(U15="N/A","N/A",(U15-(U15*$E$3))) -> 42694.75
A16: 2 | B16: Juego De Pastillas De Frenos Delantera (Dos pares) | C16: 1 | E16: N/A | F16: =+IF(E16="N/A","N/A",(E16-(E16*$E$3))) -> N/A | G16: 89664.106 | H16: =+IF(G16="N/A","N/A",(G16-(G16*$E$3))) -> 44832.053 | I16: 111202.31 | J16: =+IF(I16="N/A","N/A",(I16-(I16*$E$3))) -> 55601.153 | K16: N/A | L16: =+IF(K16="N/A","N/A",(K16-(K16*$E$3))) -> N/A | M16: 165000 | N16: =+IF(M16="N/A","N/A",(M16-(M16*$E$3))) -> 82500 | O16: 116342.14 | P16: =+IF(O16="N/A","N/A",(O16-(O16*$E$3))) -> 58171.069 | Q16: 116490.93 | R16: =+IF(Q16="N/A","N/A",(Q16-(Q16*$E$3))) -> 58245.463 | S16: 125102.79 | T16: =+IF(S16="N/A","N/A",(S16-(S16*$E$3))) -> 62551.396 | U16: 100688.96 | V16: =+IF(U16="N/A","N/A",(U16-(U16*$E$3))) -> 50344.481
A17: 3 | B17: Liquido De Freno (Pinta 290 ml) | C17: 1 | E17: N/A | F17: =+IF(E17="N/A","N/A",(E17-(E17*$E$3))) -> N/A | G17: 11590.5 | H17: =+IF(G17="N/A","N/A",(G17-(G17*$E$3))) -> 5795.25 | I17: 14580.5 | J17: =+IF(I17="N/A","N/A",(I17-(I17*$E$3))) -> 7290.25 | K17: N/A | L17: =+IF(K17="N/A","N/A",(K17-(K17*$E$3))) -> N/A | M17: N/A | N17: =+IF(M17="N/A","N/A",(M17-(M17*$E$3))) -> N/A | O17: 16455.583 | P17: =+IF(O17="N/A","N/A",(O17-(O17*$E$3))) -> 8227.7914 | Q17: 15801.58 | R17: =+IF(Q17="N/A","N/A",(Q17-(Q17*$E$3))) -> 7900.7898 | S17: 15801.58 | T17: =+IF(S17="N/A","N/A",(S17-(S17*$E$3))) -> 7900.7898 | U17: N/A | V17: =+IF(U17="N/A","N/A",(U17-(U17*$E$3))) -> N/A
B18: SINCRONIZACIÓN | F18: =+IF(E18="N/A","N/A",(E18-(E18*$E$3))) -> 0 | H18: =+IF(G18="N/A","N/A",(G18-(G18*$E$3))) -> 0 | J18: =+IF(I18="N/A","N/A",(I18-(I18*$E$3))) -> 0 | L18: =+IF(K18="N/A","N/A",(K18-(K18*$E$3))) -> 0 | N18: =+IF(M18="N/A","N/A",(M18-(M18*$E$3))) -> 0 | P18: =+IF(O18="N/A","N/A",(O18-(O18*$E$3))) -> 0 | R18: =+IF(Q18="N/A","N/A",(Q18-(Q18*$E$3))) -> 0 | T18: =+IF(S18="N/A","N/A",(S18-(S18*$E$3))) -> 0 | V18: =+IF(U18="N/A","N/A",(U18-(U18*$E$3))) -> 0
A19: 4 | B19: Bujía | C19: 1 | E19: 27013.325 | F19: =+IF(E19="N/A","N/A",(E19-(E19*$E$3))) -> 13506.662 | G19: 19995.5 | H19: =+IF(G19="N/A","N/A",(G19-(G19*$E$3))) -> 9997.75 | I19: 24221.5 | J19: =+IF(I19="N/A","N/A",(I19-(I19*$E$3))) -> 12110.75 | K19: 24221.5 | L19: =+IF(K19="N/A","N/A",(K19-(K19*$E$3))) -> 12110.75 | M19: 25000 | N19: =+IF(M19="N/A","N/A",(M19-(M19*$E$3))) -> 12500 | O19: 27123.836 | P19: =+IF(O19="N/A","N/A",(O19-(O19*$E$3))) -> 13561.918 | Q19: 21800.5 | R19: =+IF(Q19="N/A","N/A",(Q19-(Q19*$E$3))) -> 10900.25 | S19: 20159 | T19: =+IF(S19="N/A","N/A",(S19-(S19*$E$3))) -> 10079.5 | U19: 24469.5 | V19: =+IF(U19="N/A","N/A",(U19-(U19*$E$3))) -> 12234.75
A20: 5 | B20: Filtro Aire | C20: 1 | E20: 29220.12 | F20: =+IF(E20="N/A","N/A",(E20-(E20*$E$3))) -> 14610.06 | G20: 25134 | H20: =+IF(G20="N/A","N/A",(G20-(G20*$E$3))) -> 12567 | I20: 29145.135 | J20: =+IF(I20="N/A","N/A",(I20-(I20*$E$3))) -> 14572.568 | K20: 28374.12 | L20: =+IF(K20="N/A","N/A",(K20-(K20*$E$3))) -> 14187.06 | M20: 29000 | N20: =+IF(M20="N/A","N/A",(M20-(M20*$E$3))) -> 14500 | O20: 29874.12 | P20: =+IF(O20="N/A","N/A",(O20-(O20*$E$3))) -> 14937.06 | Q20: 27808.5 | R20: =+IF(Q20="N/A","N/A",(Q20-(Q20*$E$3))) -> 13904.25 | S20: 29478.135 | T20: =+IF(S20="N/A","N/A",(S20-(S20*$E$3))) -> 14739.068 | U20: 28374.12 | V20: =+IF(U20="N/A","N/A",(U20-(U20*$E$3))) -> 14187.06
A21: 6 | B21: Filtro Combustible | C21: 1 | E21: 25314.761 | F21: =+IF(E21="N/A","N/A",(E21-(E21*$E$3))) -> 12657.38 | G21: 21691.5 | H21: =+IF(G21="N/A","N/A",(G21-(G21*$E$3))) -> 10845.75 | I21: 26793.807 | J21: =+IF(I21="N/A","N/A",(I21-(I21*$E$3))) -> 13396.904 | K21: 26793.807 | L21: =+IF(K21="N/A","N/A",(K21-(K21*$E$3))) -> 13396.904 | M21: 30000 | N21: =+IF(M21="N/A","N/A",(M21-(M21*$E$3))) -> 15000 | O21: 26627.307 | P21: =+IF(O21="N/A","N/A",(O21-(O21*$E$3))) -> 13313.654 | Q21: 23995.5 | R21: =+IF(Q21="N/A","N/A",(Q21-(Q21*$E$3))) -> 11997.75 | S21: 26960.307 | T21: =+IF(S21="N/A","N/A",(S21-(S21*$E$3))) -> 13480.154 | U21: 22662.5 | V21: =+IF(U21="N/A","N/A",(U21-(U21*$E$3))) -> 11331.25
B22: SISTEMA DE RODAMIENTOS | F22: =+IF(E22="N/A","N/A",(E22-(E22*$E$3))) -> 0 | H22: =+IF(G22="N/A","N/A",(G22-(G22*$E$3))) -> 0 | J22: =+IF(I22="N/A","N/A",(I22-(I22*$E$3))) -> 0 | L22: =+IF(K22="N/A","N/A",(K22-(K22*$E$3))) -> 0 | N22: =+IF(M22="N/A","N/A",(M22-(M22*$E$3))) -> 0 | P22: =+IF(O22="N/A","N/A",(O22-(O22*$E$3))) -> 0 | R22: =+IF(Q22="N/A","N/A",(Q22-(Q22*$E$3))) -> 0 | T22: =+IF(S22="N/A","N/A",(S22-(S22*$E$3))) -> 0 | V22: =+IF(U22="N/A","N/A",(U22-(U22*$E$3))) -> 0
A23: 7 | B23: Rodamiento tipo Balinera Delantero | C23: 1 | E23: 75510.294 | F23: =+IF(E23="N/A","N/A",(E23-(E23*$E$3))) -> 37755.147 | G23: 73195 | H23: =+IF(G23="N/A","N/A",(G23-(G23*$E$3))) -> 36597.5 | I23: 92220.5 | J23: =+IF(I23="N/A","N/A",(I23-(I23*$E$3))) -> 46110.25 | K23: 86141.639 | L23: =+IF(K23="N/A","N/A",(K23-(K23*$E$3))) -> 43070.819 | M23: 85000 | N23: =+IF(M23="N/A","N/A",(M23-(M23*$E$3))) -> 42500 | O23: 91167.5 | P23: =+IF(O23="N/A","N/A",(O23-(O23*$E$3))) -> 45583.75 | Q23: 87203 | R23: =+IF(Q23="N/A","N/A",(Q23-(Q23*$E$3))) -> 43601.5 | S23: 98902.5 | T23: =+IF(S23="N/A","N/A",(S23-(S23*$E$3))) -> 49451.25 | U23: 85448.5 | V23: =+IF(U23="N/A","N/A",(U23-(U23*$E$3))) -> 42724.25
A24: 8 | B24: Rodamiento tipo Balinera Trasero | C24: 1 | E24: 77030.818 | F24: =+IF(E24="N/A","N/A",(E24-(E24*$E$3))) -> 38515.409 | G24: 77230 | H24: =+IF(G24="N/A","N/A",(G24-(G24*$E$3))) -> 38615 | I24: 98278.622 | J24: =+IF(I24="N/A","N/A",(I24-(I24*$E$3))) -> 49139.311 | K24: 92368.727 | L24: =+IF(K24="N/A","N/A",(K24-(K24*$E$3))) -> 46184.363 | M24: 95000 | N24: =+IF(M24="N/A","N/A",(M24-(M24*$E$3))) -> 47500 | O24: 104070.71 | P24: =+IF(O24="N/A","N/A",(O24-(O24*$E$3))) -> 52035.357 | Q24: 91647 | R24: =+IF(Q24="N/A","N/A",(Q24-(Q24*$E$3))) -> 45823.5 | S24: 106763.28 | T24: =+IF(S24="N/A","N/A",(S24-(S24*$E$3))) -> 53381.638 | U24: 91589 | V24: =+IF(U24="N/A","N/A",(U24-(U24*$E$3))) -> 45794.5
A25: 9 | B25: Kit de Rodamiento (cadena, estrellas) | C25: 1 | E25: 187819.4 | F25: =+IF(E25="N/A","N/A",(E25-(E25*$E$3))) -> 93909.702 | G25: N/A | H25: =+IF(G25="N/A","N/A",(G25-(G25*$E$3))) -> N/A | I25: 226833.22 | J25: =+IF(I25="N/A","N/A",(I25-(I25*$E$3))) -> 113416.61 | K25: 205728.73 | L25: =+IF(K25="N/A","N/A",(K25-(K25*$E$3))) -> 102864.36 | M25: 260000 | N25: =+IF(M25="N/A","N/A",(M25-(M25*$E$3))) -> 130000 | O25: 215237.2 | P25: =+IF(O25="N/A","N/A",(O25-(O25*$E$3))) -> 107618.6 | Q25: 204671.85 | R25: =+IF(Q25="N/A","N/A",(Q25-(Q25*$E$3))) -> 102335.93 | T25: =+IF(S25="N/A","N/A",(S25-(S25*$E$3))) -> 0 | U25: 206317.28 | V25: =+IF(U25="N/A","N/A",(U25-(U25*$E$3))) -> 103158.64
B26: SISTEMA ELÉCTRICO | F26: =+IF(E26="N/A","N/A",(E26-(E26*$E$3))) -> 0 | H26: =+IF(G26="N/A","N/A",(G26-(G26*$E$3))) -> 0 | J26: =+IF(I26="N/A","N/A",(I26-(I26*$E$3))) -> 0 | L26: =+IF(K26="N/A","N/A",(K26-(K26*$E$3))) -> 0 | N26: =+IF(M26="N/A","N/A",(M26-(M26*$E$3))) -> 0 | P26: =+IF(O26="N/A","N/A",(O26-(O26*$E$3))) -> 0 | R26: =+IF(Q26="N/A","N/A",(Q26-(Q26*$E$3))) -> 0 | T26: =+IF(S26="N/A","N/A",(S26-(S26*$E$3))) -> 0 | V26: =+IF(U26="N/A","N/A",(U26-(U26*$E$3))) -> 0
A27: 10 | B27: Pito | C27: 1 | E27: 50481.038 | F27: =+IF(E27="N/A","N/A",(E27-(E27*$E$3))) -> 25240.519 | G27: 41995.5 | H27: =+IF(G27="N/A","N/A",(G27-(G27*$E$3))) -> 20997.75 | I27: 50279.5 | J27: =+IF(I27="N/A","N/A",(I27-(I27*$E$3))) -> 25139.75 | K27: 50279.5 | L27: =+IF(K27="N/A","N/A",(K27-(K27*$E$3))) -> 25139.75 | M27: 47000 | N27: =+IF(M27="N/A","N/A",(M27-(M27*$E$3))) -> 23500 | O27: 51923.358 | P27: =+IF(O27="N/A","N/A",(O27-(O27*$E$3))) -> 25961.679 | Q27: 46946.5 | R27: =+IF(Q27="N/A","N/A",(Q27-(Q27*$E$3))) -> 23473.25 | S27: 51423.358 | T27: =+IF(S27="N/A","N/A",(S27-(S27*$E$3))) -> 25711.679 | U27: 51756.358 | V27: =+IF(U27="N/A","N/A",(U27-(U27*$E$3))) -> 25878.179
A28: 11 | B28: Swiche Encendido | C28: 1 | E28: 100825.05 | F28: =+IF(E28="N/A","N/A",(E28-(E28*$E$3))) -> 50412.527 | G28: 104624.34 | H28: =+IF(G28="N/A","N/A",(G28-(G28*$E$3))) -> 52312.168 | I28: 121469.4 | J28: =+IF(I28="N/A","N/A",(I28-(I28*$E$3))) -> 60734.702 | K28: 129674.59 | L28: =+IF(K28="N/A","N/A",(K28-(K28*$E$3))) -> 64837.293 | M28: 170000 | N28: =+IF(M28="N/A","N/A",(M28-(M28*$E$3))) -> 85000 | O28: 132032.26 | P28: =+IF(O28="N/A","N/A",(O28-(O28*$E$3))) -> 66016.128 | Q28: 135203.51 | R28: =+IF(Q28="N/A","N/A",(Q28-(Q28*$E$3))) -> 67601.757 | S28: 138297.55 | T28: =+IF(S28="N/A","N/A",(S28-(S28*$E$3))) -> 69148.776 | U28: 119979.04 | V28: =+IF(U28="N/A","N/A",(U28-(U28*$E$3))) -> 59989.518
A29: 12 | B29: Bateria Según Referencia | C29: 1 | E29: 147790.04 | F29: =+IF(E29="N/A","N/A",(E29-(E29*$E$3))) -> 73895.018 | G29: 147576.5 | H29: =+IF(G29="N/A","N/A",(G29-(G29*$E$3))) -> 73788.25 | I29: 189692.5 | J29: =+IF(I29="N/A","N/A",(I29-(I29*$E$3))) -> 94846.25 | K29: 168354.61 | L29: =+IF(K29="N/A","N/A",(K29-(K29*$E$3))) -> 84177.305 | M29: 175000 | N29: =+IF(M29="N/A","N/A",(M29-(M29*$E$3))) -> 87500 | O29: 181099.5 | P29: =+IF(O29="N/A","N/A",(O29-(O29*$E$3))) -> 90549.75 | Q29: 180359 | R29: =+IF(Q29="N/A","N/A",(Q29-(Q29*$E$3))) -> 90179.5 | S29: 210736.47 | T29: =+IF(S29="N/A","N/A",(S29-(S29*$E$3))) -> 105368.24 | U29: 183286.87 | V29: =+IF(U29="N/A","N/A",(U29-(U29*$E$3))) -> 91643.436
A30: 13 | B30: Bombillo Farola (Incluida instalaciòn) | C30: 1 | E30: 16816.105 | F30: =+IF(E30="N/A","N/A",(E30-(E30*$E$3))) -> 8408.0524 | G30: 11220 | H30: =+IF(G30="N/A","N/A",(G30-(G30*$E$3))) -> 5610 | I30: 7458.7669 | J30: =+IF(I30="N/A","N/A",(I30-(I30*$E$3))) -> 3729.3834 | K30: 12553.5 | L30: =+IF(K30="N/A","N/A",(K30-(K30*$E$3))) -> 6276.75 | M30: 12000 | N30: =+IF(M30="N/A","N/A",(M30-(M30*$E$3))) -> 6000 | O30: 13886.5 | P30: =+IF(O30="N/A","N/A",(O30-(O30*$E$3))) -> 6943.25 | Q30: 15432.831 | R30: =+IF(Q30="N/A","N/A",(Q30-(Q30*$E$3))) -> 7716.4157 | S30: 15932.831 | T30: =+IF(S30="N/A","N/A",(S30-(S30*$E$3))) -> 7966.4157 | U30: 15432.831 | V30: =+IF(U30="N/A","N/A",(U30-(U30*$E$3))) -> 7716.4157
