Workbook
Name CargasSociales: [1]APUs!#REF!
Name Gastosgenerales: [1]APUs!#REF!
Name ImpuestosIT: [1]APUs!#REF!
Name PrecioUnitarioOP02: [1]APUs!#REF!
Name Subtotalmanodeobra: [1]APUs!#REF!
Name tem: [1]APUs!#REF!
Name tm: [1]APUs!#REF!
Name tmo: [1]APUs!#REF!
Name Totalequipomaquinariayherramientas: [1]APUs!$F$28
Name Totalmanodeobra: [1]APUs!$F$22
Name TotalMateriales: [1]APUs!$F$16
Name UNITARIOS: #REF!
Name Utilidad: [1]APUs!#REF!

Sheet PRESUPUESTO
A2: PRESUPUESTO PARA CÁRCAMO AGUAS LLUVIAS EN ENTRADA POR COMFAMA DEL ITM FRATERNIDAD
A3: ITEM | B3: DESCRIPCIÓN | C3: UNIDAD | D3: CANTIDAD | E3: V. UNITARIO | F3: V. TOTAL
A4: PRESUPUESTO PARA CÁRCAMO AGUAS LLUVIAS CAMPUS FRATERNIDAD
A5: 1 | B5: Instalación de CERRAMIENTO PROVISIONAL en tela verde polietileno de alta densidad y resistencia 65 gr/m2 con una altura de 2,10 m, estacones de madera común para fijación vertical de altura de 2,50 m puesto mínimo cada 2,0 m y para apuntalamiento mínimo cada 10 m y cada cambio de dirección, arranques y terminación, diámetro aproximado 0,10 m, elementos de fijación, Incluye: suministro, transporte, instalación, excavación, concreto de fundación preparado en Obra de 17.5 Mpa - 2500 psi, diámetro aproximado 0,30 m y profundidad aproximada 0,50 m, cable o alambre tensor parte inferior y superior horizontal, mantenimiento, desmonte y todos los demás elementos necesarios para su correcta instalación y operación. cargue transporte y botada de material sobrante en botaderos oficiales. | C5: ml | D5: ='MEMORIAS DE CALCULO'!M8 -> 16 | E5: =APUs!F30 -> 22141 | F5: =D5*E5 -> 354256
A6: 2 | B6: DEMOLICIÓN PAVIMENTO ASFÁLTICO (para brechas y otros), cargue, transporte y botada de escombros, hasta 1m de ancho, ESPESOR DE 4". Incluye corte con máquina de disco según trazado y compresor neumático con martillo, además recuperación de los materiales aprovechables o su transporte hasta el sitio que lo indique la interventoría. | C6: m2 | D6: ='MEMORIAS DE CALCULO'!M10 -> 5.25 | E6: =APUs!F57 -> 23904 | F6: =D6*E6 -> 125496
A7: 3 | B7: EXCAVACIÓN MANUAL de material heterogéneo DE 0-2 m., bajo cualquier grado de humedad. Incluye: roca descompuesta, bolas de roca de volumen inferior a 0.35 m³., el cargue, transporte interno y externo, botada de material proveniente de las excavaciones en los sitios donde lo indique la interventoría y su medida será en el sitio. No incluye entibado. | C7: m3 | D7: ='MEMORIAS DE CALCULO'!M13 -> 3.4125 | E7: =APUs!F83 -> 79419 | F7: =D7*E7 -> 271017.34
A8: 4 | B8: Colocación de concreto de 17.5Mpa para SOLADO, con un espesor de 0.05m. Incluye el suministro y el transporte del concreto y todos los demás elementos necesarios para su correcta construcción, incluye acarreo interno. | C8: m2 | D8: ='MEMORIAS DE CALCULO'!M16 -> 3.85 | E8: =APUs!F108 -> 34541 | F8: =D8*E8 -> 132982.85
A9: 5 | B9: Construcción de CÁRCAMO lineal en concreto de 21 Mpa., con un ANCHO DE 0.50 m libres, ALTURA MÁXIMA DE 0.50 m libre, PAREDES Y PISOS DE 0.10 m de espesor. Incluye suministro, transporte y colocación del concreto, formaleta de primera calidad en súper T o su equivalente. Incluye suministro y transporte de los materiales y todo lo necesario para su correcta construcción y funcionamiento. Según diseño. La excavación y el acero de refuerzo se paga en su ítem respectivo. | C9: ml | D9: ='MEMORIAS DE CALCULO'!M18 -> 5.5 | E9: =APUs!F137 -> 273866 | F9: =D9*E9 -> 1506263
A10: 6 | B10: Suministro, transporte e instalación de ACERO DE REFUERZO FIGURADO FY= 420 Mpa-60000 PSI, corrugado. Incluye transporte con descarga, transporte interno, alambre de amarre, certificados y todos los elementos necesarios para su correcta instalación, según diseño y recomendaciones estructurales. | C10: kg | D10: ='MEMORIAS DE CALCULO'!M20 -> 129.839 | E10: =APUs!F163 -> 8027 | F10: =D10*E10 -> 1042217.7
A11: 7 | B11: Suministro, transporte e instalación de TUBERÍA PVC-NOVAFORT, con un DIÁMETRO DE 200 mm. Incluye suministro y transporte de los materiales, bocas, accesorios, acondicionador de superficie y adhesivo Novafort y todos los elementos necesarios para su correcta instalación y funcionamiento. La excavación, encamado, atraques y los llenos se pagaran en su ítem respectivo. | C11: ml | D11: ='MEMORIAS DE CALCULO'!M25 -> 2 | E11: =APUs!F192 -> 81977 | F11: =D11*E11 -> 163954
A12: 8 | B12: LLENOS EN ARENILLA, compactados mecánicamente hasta obtener una densidad del 98% de la máxima obtenida en el ensayo del Próctor modificado. Incluye el suministro, transporte, colocación de la arenilla, la compactación de la misma y transporte interno. Y su medida será en sitio ya compactado. | C12: m3 | D12: ='MEMORIAS DE CALCULO'!M27 -> 1.26 | E12: =APUs!F218 -> 90300 | F12: =D12*E12 -> 113778
A13: 9 | B13: Suministro, transporte e instalación de tapa para cárcamo, de 0.50m de ancho y 5,5m de largo, fabricada en un marco recibidor en Angulo de 1.1/2" x 3/16" anclado a los muros de concreto, y 5 tapas removibles de 1,10m de longitud x 0.50m de ancho, fabricadas en Angulo de 1,1/4" x 3/16" y varilla de acero corrugada de 3/4", incluye ángulos de 1.1/4" x 3/16" y recibidor de 1.1/2" x 3/16" y varillas corrugadas de 3/4" cada 10cm libres, distribuidas en sentido del ancho del cárcamo, elementos de anclaje y todos los elementos necesarios para su correcta instalación y funcionamiento. Se deben verificar las medidas en sitio antes de su fabricación. Previa aprobación de la interventoría. | C13: un | D13: ='MEMORIAS DE CALCULO'!M29 -> 1 | E13: =APUs!F248 -> 1231969 | F13: =D13*E13 -> 1231969
A14: SUBTOTAL CARCAMO FRATERNIDAD | F14: =SUM(F5:F13) -> 4941933.8
A15: PRESUPUESTO PARA CÁRCAMO AGUAS LLUVIAS EN ZONA HÚMEDA DEL ITM ROBLEDO
A16: ITEM | B16: DESCRIPCIÓN | C16: UNIDAD | D16: CANTIDAD | E16: V. UNITARIO | F16: V. TOTAL
A17: 10 | B17: Instalación de CERRAMIENTO PROVISIONAL en tela verde polietileno de alta densidad y resistencia 65 gr/m2 con una altura de 2,10 m, estacones de madera común para fijación vertical de altura de 2,50 m puesto mínimo cada 2,0 m y para apuntalamiento mínimo cada 10 m y cada cambio de dirección, arranques y terminación, diámetro aproximado 0,10 m, elementos de fijación, Incluye: suministro, transporte, instalación, excavación, concreto de fundación preparado en Obra de 17.5 Mpa - 2500 psi, diámetro aproximado 0,30 m y profundidad aproximada 0,50 m, cable o alambre tensor parte inferior y superior horizontal, mantenimiento, desmonte y todos los demás elementos necesarios para su correcta instalación y operación. cargue transporte y botada de material sobrante en botaderos oficiales. | C17: ml | D17: ='MEMORIAS DE CALCULO'!M34 -> 50 | E17: =APUs!F278 -> 22141 | F17: =D17*E17 -> 1107050
A18: 11 | B18: EXCAVACIÓN MANUAL de material heterogéneo DE 0-2 m., bajo cualquier grado de humedad. Incluye: roca descompuesta, bolas de roca de volumen inferior a 0.35 m³., el cargue, transporte interno y externo, botada de material proveniente de las excavaciones en los sitios donde lo indique la interventoría y su medida será en el sitio. No incluye entibado. | C18: m3 | D18: ='MEMORIAS DE CALCULO'!M36 -> 22.75 | E18: =APUs!F302 -> 79419 | F18: =D18*E18 -> 1806782.2
A19: 12 | B19: EXCAVACIÓN EN ROCA con CUÑA HIDRÁULICA. Incluye perforaciones con taladro neumático rotopercutor de 2" de diámetro, desembombe, transporte interno y acopio donde lo indique la interventoría y todos los demás elementos necesarios para su correcta ejecución. SU MEDIDA SERA EN SITIO. INCLUYE botada del material proveniente de la excavación en botaderos oficiales o donde lo indique la interventoría. | C19: m3 | D19: ='MEMORIAS DE CALCULO'!M38 -> 2.275 | E19: =APUs!F328 -> 325447 | F19: =D19*E19 -> 740391.92
A20: 13 | B20: DEMOLICIÓN ESTRUCTURAS DE CONCRETO cargue, transporte y botada de escombros, manual o mecánicamente, de cualquier resistencia, reforzado o ciclópeo, y en cualquier clase de estructura. Incluye retiro de refuerzo y cualquier tipo de acabado (revoques y enchapes) o piso (en losas) e instalaciones embebidas, compresor neumático con martillo, además recuperación de los materiales aprovechables o su transporte hasta el sitio que lo indique la interventoría. | C20: m3 | D20: ='MEMORIAS DE CALCULO'!M40 -> 0.075 | E20: =APUs!F355 -> 201503 | F20: =D20*E20 -> 15112.725
A21: 14 | B21: Colocación de concreto de 17.5Mpa para SOLADO, con un espesor de 0.05m. Incluye el suministro y el transporte del concreto y todos los demás elementos necesarios para su correcta construcción, incluye acarreo interno. | C21: m2 | D21: ='MEMORIAS DE CALCULO'!M42 -> 35 | E21: =APUs!F380 -> 34541 | F21: =D21*E21 -> 1208935
A22: 15 | B22: Construcción de CÁRCAMO lineal de corona, en concreto de 21 Mpa., con un ANCHO DE 0.50 m libres, ALTURA MÁXIMA DE 0.50 m libre, PAREDES Y PISOS DE 0.10 m de espesor, el muro del cárcamo en la parte baja del talud, debe ir 20cm por encima del nivel de terreno, osea 0,70m sde h. Incluye suministro, transporte y colocación del concreto, formaleta de primera calidad en súper T o su equivalente. Incluye suministro y transporte de los materiales y todo lo necesario para su correcta construcción y funcionamiento. Según diseño. La excavación y el acero de refuerzo se paga en su ítem respectivo. | C22: ml | D22: ='MEMORIAS DE CALCULO'!M44 -> 50 | E22: =APUs!F409 -> 301267 | F22: =D22*E22 -> 15063350
A23: 16 | B23: Suministro, transporte e instalación de ACERO DE REFUERZO FIGURADO FY= 420 Mpa-60000 PSI, corrugado. Incluye transporte con descarga, transporte interno, alambre de amarre, certificados y todos los elementos necesarios para su correcta instalación, según diseño y recomendaciones estructurales. | C23: kg | D23: ='MEMORIAS DE CALCULO'!M46 -> 895.04 | E23: =APUs!F435 -> 8027 | F23: =D23*E23 -> 7184486.1
A24: SUBTOTAL CARCAMO ROBLEDO | F24: =SUM(F17:F23) -> 27126108
A25: SUBTOTAL | F25: =+F14+F24 -> 32068042
A26: AU 39% | F26: =+F25*39% -> 12506536
A27: TOTAL | F27: =F25+F26 -> 44574578

Sheet APUs
A2: APUs PARA CÁRCAMO AGUAS LLUVIAS EN ENTRADA POR COMFAMA DEL ITM FRATERNIDAD
A4: ANÁLISIS DE PRECIOS UNITARIOS
A6: DESCRIPCIÓN | E6: No. ÍTEM | F6: UNIDAD
A7: =VLOOKUP(E7,PRESUPUESTO!$A$5:$F$14,2,FALSE) -> Instalación de CERRAMIENTO PROVISIONAL en tela verde polietileno de alta densidad y resistencia 65 gr/m2 con una altura de 2,10 m, estacones de madera común para fijación vertical de altura de 2,50 m puesto mínimo cada 2,0 m y para apuntalamiento mínimo cada 10 m y cada cambio de dirección, arranques y terminación, diámetro aproximado 0,10 m, elementos de fijación, Incluye: suministro, transporte, instalación, excavación, concreto de fundación preparado en Obra de 17.5 Mpa - 2500 psi, diámetro aproximado 0,30 m y profundidad aproximada 0,50 m, cable o alambre tensor parte inferior y superior horizontal, mantenimiento, desmonte y todos los demás elementos necesarios para su correcta instalación y operación. cargue transporte y botada de material sobrante en botaderos oficiales. | E7: 1 | F7: =VLOOKUP(E7,PRESUPUESTO!$A$5:$F$14,3,FALSE) -> ml
E8: MEMORIA DE CALCULO
E9: =VLOOKUP(E7,'[2]MEMORIAS DE CALCULO'!$A$6:$M$2137,13,FALSE) -> 0
A10: 1 | B10: MATERIALES
A11: COD | B11: DESCRIPCIÓN | C11: UNID | D11: CANTIDAD | E11: V. UNITARIO | F11: V. TOTAL
B12: Tela cerramiento obra verde, ancho: 2.10 m. Incluye transporte externo e interno. | C12: ml | D12: 0.525 | E12: 4948 | F12: =ROUND(PRODUCT(D12:E12),2) -> 2597.7
B13: Larguero madera común 4cmx8cmx2.80m. Incluye transporte. | C13: un | D13: 1 | E13: 8900 | F13: =ROUND(PRODUCT(D13:E13),2) -> 8900
B14: Clavo común de 1 1/2". Caja x 500gr. | C14: lb | D14: 0.01 | E14: 5200 | F14: =ROUND(PRODUCT(D14:E14),2) -> 52
B15: Concreto de 17.5 Mpa preparado en obra | C15: m3 | D15: 0.014 | E15: 420213 | F15: =ROUND(PRODUCT(D15:E15),2) -> 5882.98
A16: TOTAL MATERIALES | F16: =ROUND(SUM(F12:F15),2) -> 17432.68
A17: 2 | B17: MANO DE OBRA
A18: COD | B18: DESCRIPCIÓN | C18: UNID | D18: CANTIDAD | E18: V. UNITARIO | F18: V. TOTAL
B19: Cuadrilla 1 Oficial + 1 Ayudante Entendido | C19: jor | D19: 0.02 | E19: 198902 | F19: =ROUND(PRODUCT(D19:E19),2) -> 3978.04
A20: TOTAL DE MANO DE OBRA | F20: =ROUND(SUM(F19:F19),2) -> 3978.04
A21: 3 | B21: EQUIPO, MAQUINARIA Y HERRAMIENTA
A22: COD | B22: DESCRIPCIÓN | C22: UNID | D22: CANTIDAD | E22: V. UNITARIO | F22: V. TOTAL
A23: HERRAMIENTA MENOR | C23: % | D23: 0.05 | F23: =ROUND(PRODUCT(F19,D23),0) -> 199
B24: TOTAL EQUIPO, MAQUINARIA Y HERRAMIENTAS | F24: =ROUND(SUM(F23:F23),2) -> 199
A25: 4 | B25: TRANSPORTES
A26: COD | B26: DESCRIPCIÓN | C26: UNID | D26: CANTIDAD | E26: V. UNITARIO | F26: V. TOTAL
B27: Transporte interno de materiales | C27: un | D27: 0.2 | E27: 2658 | F27: =ROUND(PRODUCT(D27:E27),2) -> 531.6
B28: Ninguno | C28: 0 | D28: 0 | E28: 0 | F28: =ROUND(PRODUCT(D28:E28),2) -> 0
A29: TOTAL TRANSPORTES | F29: =ROUND(SUM(F27:F28),2) -> 531.6
A30: PRECIO UNITARIO TOTAL | E30: 1+2+3+4 | F30: =ROUND(SUM(F16,F20,F24,F29),0) -> 22141
A32: ANÁLISIS DE PRECIOS UNITARIOS
A34: DESCRIPCIÓN | E34: No. ÍTEM | F34: UNIDAD
A35: =VLOOKUP(E35,PRESUPUESTO!$A$5:$F$14,2,FALSE) -> DEMOLICIÓN PAVIMENTO ASFÁLTICO (para brechas y otros), cargue, transporte y botada de escombros, hasta 1m de ancho, ESPESOR DE 4". Incluye corte con máquina de disco según trazado y compresor neumático con martillo, además recuperación de los materiales aprovechables o su transporte hasta el sitio que lo indique la interventoría. | E35: 2 | F35: =VLOOKUP(E35,PRESUPUESTO!$A$5:$F$14,3,FALSE) -> m2
E36: MEMORIA DE CALCULO
E37: =VLOOKUP(E35,'[2]MEMORIAS DE CALCULO'!$A$6:$M$2137,13,FALSE) -> 0
A38: 1 | B38: MATERIALES
A39: COD | B39: DESCRIPCIÓN | C39: UNID | D39: CANTIDAD | E39: V. UNITARIO | F39: V. TOTAL
B40: Ninguno | C40: 0 | D40: 0 | E40: 0 | F40: =ROUND(PRODUCT(D40:E40),2) -> 0
A41: TOTAL MATERIALES | F41: =ROUND(SUM(F40:F40),2) -> 0
A42: 2 | B42: MANO DE OBRA
A43: COD | B43: DESCRIPCIÓN | C43: UNID | D43: CANTIDAD | E43: V. UNITARIO | F43: V. TOTAL
B44: Ayudante entendido | C44: jor | D44: 0.01372 | E44: 81901 | F44: =ROUND(PRODUCT(D44:E44),2) -> 1123.68
A45: TOTAL DE MANO DE OBRA | F45: =ROUND(SUM(F44:F44),2) -> 1123.68
A46: 3 | B46: EQUIPO, MAQUINARIA Y HERRAMIENTA
A47: COD | B47: DESCRIPCIÓN | C47: UNID | D47: CANTIDAD | E47: V. UNITARIO | F47: V. TOTAL
B48: Compresor Neumático con martillo demoledor o perforador en superficie, punta, combustible y operador. | C48: hr | D48: 0.068 | E48: 79800 | F48: =ROUND(PRODUCT(D48:E48),2) -> 5426.4
B49: Corte de piso y/o pavimento hasta 6 cm de profundidad | C49: ml | D49: 2.5 | E49: 4756 | F49: =ROUND(PRODUCT(D49:E49),2) -> 11890
A50: HERRAMIENTA MENOR | C50: % | D50: 0.05 | F50: =ROUND(PRODUCT(F45,D50),0) -> 56
B51: TOTAL EQUIPO, MAQUINARIA Y HERRAMIENTAS | F51: =ROUND(SUM(F48:F50),2) -> 17372.4
A52: 4 | B52: TRANSPORTES
A53: COD | B53: DESCRIPCIÓN | C53: UNID | D53: CANTIDAD | E53: V. UNITARIO | F53: V. TOTAL
B54: Cargue (Paleros), transporte de materiales y derechos de botadero y/o almacenamiento en bodega. | C54: m3 | D54: 0.13 | E54: 41600 | F54: =ROUND(PRODUCT(D54:E54),2) -> 5408
B55: Ninguno | C55: 0 | D55: 0.13 | E55: 0 | F55: =ROUND(PRODUCT(D55:E55),2) -> 0
A56: TOTAL TRANSPORTES | F56: =ROUND(SUM(F54:F55),2) -> 5408
A57: PRECIO UNITARIO TOTAL | E57: 1+2+3+4 | F57: =ROUND(SUM(F41,F45,F51,F56),0) -> 23904
A59: ANÁLISIS DE PRECIOS UNITARIOS
A61: DESCRIPCIÓN | E61: No. ÍTEM | F61: UNIDAD
A62: =VLOOKUP(E62,PRESUPUESTO!$A$5:$F$14,2,FALSE) -> EXCAVACIÓN MANUAL de material heterogéneo DE 0-2 m., bajo cualquier grado de humedad. Incluye: roca descompuesta, bolas de roca de volumen inferior a 0.35 m³., el cargue, transporte interno y externo, botada de material proveniente de las excavaciones en los sitios donde lo indique la interventoría y su medida será en el sitio. No incluye entibado. | E62: 3 | F62: =VLOOKUP(E62,PRESUPUESTO!$A$5:$F$14,3,FALSE) -> m3
E63: MEMORIA DE CALCULO
E64: =VLOOKUP(E62,'[1]MEMORIAS DE CALCULO'!$A$6:$M$2137,13,FALSE) -> 0
A65: 1 | B65: MATERIALES
A66: COD | B66: DESCRIPCIÓN | C66: UNID | D66: CANTIDAD | E66: V. UNITARIO | F66: V. TOTAL
B67: Ninguno | C67: 0 | D67: 0 | E67: 0 | F67: =ROUND(PRODUCT(D67:E67),2) -> 0
A68: TOTAL MATERIALES | F68: =ROUND(SUM(F67:F67),2) -> 0
A69: 2 | B69: MANO DE OBRA
A70: COD | B70: DESCRIPCIÓN | C70: UNID | D70: CANTIDAD | E70: V. UNITARIO | F70: V. TOTAL
B71: Ayudante raso | C71: jor | D71: 0.25 | E71: 67276 | F71: =ROUND(PRODUCT(D71:E71),2) -> 16819
B72: Ayudante acarreo interno | C72: jor | D72: 0.125 | E72: 58501 | F72: =ROUND(PRODUCT(D72:E72),2) -> 7312.63
A73: TOTAL DE MANO DE OBRA | F73: =ROUND(SUM(F71:F72),2) -> 24131.63
A74: 3 | B74: EQUIPO, MAQUINARIA Y HERRAMIENTA
A75: COD | B75: DESCRIPCIÓN | C75: UNID | D75: CANTIDAD | E75: V. UNITARIO | F75: V. TOTAL
B76: Motobomba Eléctrica Sumergible 2" - 30m prof. Incluye manguera flexible 2" (26m), extensión eléctrica encauchetada (50m) y transporte. | C76: día | D76: 0 | E76: 50368.7 | F76: =ROUND(PRODUCT(D76:E76),2) -> 0
A77: HERRAMIENTA MENOR | C77: % | D77: 0.05 | F77: =ROUND(PRODUCT(F73,D77),0) -> 1207
B78: TOTAL EQUIPO, MAQUINARIA Y HERRAMIENTAS | F78: =ROUND(SUM(F76:F77),2) -> 1207
A79: 4 | B79: TRANSPORTES
A80: COD | B80: DESCRIPCIÓN | C80: UNID | D80: CANTIDAD | E80: V. UNITARIO | F80: V. TOTAL
B81: Cargue (Paleros), transporte de materiales y derechos de botadero y/o almacenamiento en bodega. | C81: m3 | D81: 1.3 | E81: 41600 | F81: =ROUND(PRODUCT(D81:E81),2) -> 54080
A82: TOTAL TRANSPORTES | F82: =ROUND(SUM(F81:F81),2) -> 54080
A83: PRECIO UNITARIO TOTAL | E83: 1+2+3+4 | F83: =ROUND(SUM(F68,F73,F78,F82),0) -> 79419
A85: ANÁLISIS DE PRECIOS UNITARIOS
A87: DESCRIPCIÓN | E87: No. ÍTEM | F87: UNIDAD
A88: =VLOOKUP(E88,PRESUPUESTO!$A$5:$F$14,2,FALSE) -> Colocación de concreto de 17.5Mpa para SOLADO, con un espesor de 0.05m. Incluye el suministro y el transporte del concreto y todos los demás elementos necesarios para su correcta construcción, incluye acarreo interno. | E88: 4 | F88: =VLOOKUP(E88,PRESUPUESTO!$A$5:$F$14,3,FALSE) -> m2
E89: MEMORIA DE CALCULO
E90: 0
A91: 1 | B91: MATERIALES
A92: COD | B92: DESCRIPCIÓN | C92: UNID | D92: CANTIDAD | E92: V. UNITARIO | F92: V. TOTAL
B93: Concreto de 17.5 Mpa preparado en obra | C93: m3 | D93: 0.06 | E93: 420213 | F93: =ROUND(PRODUCT(D93:E93),2) -> 25212.78
A94: TOTAL MATERIALES | F94: =ROUND(SUM(F93:F93),2) -> 25212.78
A95: 2 | B95: MANO DE OBRA
A96: COD | B96: DESCRIPCIÓN | C96: UNID | D96: CANTIDAD | E96: V. UNITARIO | F96: V. TOTAL
B97: Cuadrilla 1Of + 1 Ay Obra Negra | C97: jor | D97: 0.045 | E97: 181119.25 | F97: =ROUND(PRODUCT(D97:E97),2) -> 8150.37
A98: TOTAL DE MANO DE OBRA | F98: =ROUND(SUM(F97:F97),2) -> 8150.37
A99: 3 | B99: EQUIPO, MAQUINARIA Y HERRAMIENTA
A100: COD | B100: DESCRIPCIÓN | C100: UNID | D100: CANTIDAD | E100: V. UNITARIO | F100: V. TOTAL
B101: Ninguno | C101: 0 | D101: 0 | E101: 0 | F101: =ROUND(PRODUCT(D101:E101),2) -> 0
A102: HERRAMIENTA MENOR | C102: % | D102: 0.05 | F102: =ROUND(PRODUCT(F98,D102),0) -> 408
B103: TOTAL EQUIPO, MAQUINARIA Y HERRAMIENTAS | F103: =ROUND(SUM(F101:F102),2) -> 408
A104: 4 | B104: TRANSPORTES
A105: COD | B105: DESCRIPCIÓN | C105: UNID | D105: CANTIDAD | E105: V. UNITARIO | F105: V. TOTAL
B106: Acarreo interno de los materiales | C106: m3 | D106: 0.06 | E106: 12833 | F106: =ROUND(PRODUCT(D106:E106),2) -> 769.98
A107: TOTAL TRANSPORTES | F107: =ROUND(SUM(F106:F106),2) -> 769.98
A108: PRECIO UNITARIO TOTAL | E108: 1+2+3+4 | F108: =ROUND(SUM(F94,F98,F103,F107),0) -> 34541
A110: ANÁLISIS DE PRECIOS UNITARIOS
...

Sheet MEMORIAS DE CALCULO
A4: MEMORIAS DE CÁLCULO PARA CÁRCAMO AGUAS LLUVIAS EN ENTRADA POR COMFAMA DEL ITM FRATERNIDAD
A6: ÍTEM | B6: DESCRIPCIÓN | C6: UNID | D6: DIMENSIONES | K6: CANTIDAD | L6: PARCIAL | M6: TOTAL
D7: LARGO | E7: ANCHO | F7: ALTO | G7: PESO | H7: DIÁMETRO | I7: RADIO | J7: PI
A8: 1 | B8: =VLOOKUP(A8,PRESUPUESTO!$A$5:$F$14,2,FALSE) -> Instalación de CERRAMIENTO PROVISIONAL en tela verde polietileno de alta densidad y resistencia 65 gr/m2 con una altura de 2,10 m, estacones de madera común para fijación vertical de altura de 2,50 m puesto mínimo cada 2,0 m y para apuntalamiento mínimo cada 10 m y cada cambio de dirección, arranques y terminación, diámetro aproximado 0,10 m, elementos de fijación, Incluye: suministro, transporte, instalación, excavación, concreto de fundación preparado en Obra de 17.5 Mpa - 2500 psi, diámetro aproximado 0,30 m y profundidad aproximada 0,50 m, cable o alambre tensor parte inferior y superior horizontal, mantenimiento, desmonte y todos los demás elementos necesarios para su correcta instalación y operación. cargue transporte y botada de material sobrante en botaderos oficiales. | C8: =VLOOKUP(A8,PRESUPUESTO!$A$5:$F$14,3,FALSE) -> ml | M8: =SUM(L9) -> 16
B9: Perímetro de la zona a intervenir | D9: 16 | F9: 2.1 | K9: 1 | L9: =D9*K9 -> 16
A10: 2 | B10: =VLOOKUP(A10,PRESUPUESTO!$A$5:$F$14,2,FALSE) -> DEMOLICIÓN PAVIMENTO ASFÁLTICO (para brechas y otros), cargue, transporte y botada de escombros, hasta 1m de ancho, ESPESOR DE 4". Incluye corte con máquina de disco según trazado y compresor neumático con martillo, además recuperación de los materiales aprovechables o su transporte hasta el sitio que lo indique la interventoría. | C10: =VLOOKUP(A10,PRESUPUESTO!$A$5:$F$14,3,FALSE) -> m2 | M10: =SUM(L11:L12) -> 5.25
B11: Para cárcamo en portería Comfama fraternidad | D11: 5.5 | E11: 0.7 | F11: 0.6 | K11: 1 | L11: =D11*E11*K11 -> 3.85
B12: Para tubería Novafort 8" entre cárcamo y sumidero existente | D12: 2 | E12: 0.7 | F12: 0.6 | K12: 1 | L12: =D12*E12*K12 -> 1.4
A13: 3 | B13: =VLOOKUP(A13,PRESUPUESTO!$A$5:$F$14,2,FALSE) -> EXCAVACIÓN MANUAL de material heterogéneo DE 0-2 m., bajo cualquier grado de humedad. Incluye: roca descompuesta, bolas de roca de volumen inferior a 0.35 m³., el cargue, transporte interno y externo, botada de material proveniente de las excavaciones en los sitios donde lo indique la interventoría y su medida será en el sitio. No incluye entibado. | C13: =VLOOKUP(A13,PRESUPUESTO!$A$5:$F$14,3,FALSE) -> m3 | M13: =SUM(L14:L15) -> 3.4125
B14: Para cárcamo en portería Comfama fraternidad | D14: 5.5 | E14: 0.7 | F14: 0.65 | K14: 1 | L14: =D14*E14*F14*K14 -> 2.5025
B15: Para tubería Novafort 8" entre cárcamo y sumidero existente | D15: 2 | E15: 0.7 | F15: 0.65 | K15: 1 | L15: =D15*E15*F15*K15 -> 0.91
A16: 4 | B16: =VLOOKUP(A16,PRESUPUESTO!$A$5:$F$14,2,FALSE) -> Colocación de concreto de 17.5Mpa para SOLADO, con un espesor de 0.05m. Incluye el suministro y el transporte del concreto y todos los demás elementos necesarios para su correcta construcción, incluye acarreo interno. | C16: =VLOOKUP(A16,PRESUPUESTO!$A$5:$F$14,3,FALSE) -> m2 | M16: =SUM(L17) -> 3.85
B17: Para cárcamo en portería Comfama fraternidad | D17: 5.5 | E17: 0.7 | F17: 0.65 | K17: 1 | L17: =D17*E17*K17 -> 3.85
A18: 5 | B18: =VLOOKUP(A18,PRESUPUESTO!$A$5:$F$14,2,FALSE) -> Construcción de CÁRCAMO lineal en concreto de 21 Mpa., con un ANCHO DE 0.50 m libres, ALTURA MÁXIMA DE 0.50 m libre, PAREDES Y PISOS DE 0.10 m de espesor. Incluye suministro, transporte y colocación del concreto, formaleta de primera calidad en súper T o su equivalente. Incluye suministro y transporte de los materiales y todo lo necesario para su correcta construcción y funcionamiento. Según diseño. La excavación y el acero de refuerzo se paga en su ítem respectivo. | C18: =VLOOKUP(A18,PRESUPUESTO!$A$5:$F$14,3,FALSE) -> ml | M18: =SUM(L19) -> 5.5
B19: Para cárcamo en portería Comfama fraternidad | D19: 5.5 | E19: 0.7 | F19: 0.65 | K19: 1 | L19: =D19*K19 -> 5.5
A20: 6 | B20: =VLOOKUP(A20,PRESUPUESTO!$A$5:$F$14,2,FALSE) -> Suministro, transporte e instalación de ACERO DE REFUERZO FIGURADO FY= 420 Mpa-60000 PSI, corrugado. Incluye transporte con descarga, transporte interno, alambre de amarre, certificados y todos los elementos necesarios para su correcta instalación, según diseño y recomendaciones estructurales. | C20: =VLOOKUP(A20,PRESUPUESTO!$A$5:$F$14,3,FALSE) -> kg | M20: =SUM(L21:L24) -> 129.839
B21: Longitudinal piso para cárcamo | D21: 6.5 | G21: 0.99 | H21: 1/2" | J21: 3.1416 | K21: 5 | L21: =D21*G21*K21 -> 32.175
B22: Transversal para cárcamo | D22: 1.6 | G22: 0.99 | H22: 1/2" | J22: 3.1416 | K22: 28 | L22: =D22*G22*K22 -> 44.352
B23: Perimetral muros para cárcamo | D23: 12.2 | G23: 0.99 | H23: 1/2" | J23: 3.1416 | K23: 4 | L23: =D23*G23*K23 -> 48.312
B24: Alambre de amarre cal 18 | G24: 1 | K24: 5 | L24: =G24*K24 -> 5
A25: 7 | B25: =VLOOKUP(A25,PRESUPUESTO!$A$5:$F$14,2,FALSE) -> Suministro, transporte e instalación de TUBERÍA PVC-NOVAFORT, con un DIÁMETRO DE 200 mm. Incluye suministro y transporte de los materiales, bocas, accesorios, acondicionador de superficie y adhesivo Novafort y todos los elementos necesarios para su correcta instalación y funcionamiento. La excavación, encamado, atraques y los llenos se pagaran en su ítem respectivo. | C25: =VLOOKUP(A25,PRESUPUESTO!$A$5:$F$14,3,FALSE) -> ml | M25: =SUM(L26) -> 2
B26: Tubería entre cárcamo nuevo y sumidero existente | D26: 2 | K26: 1 | L26: =D26*K26 -> 2
A27: 8 | B27: =VLOOKUP(A27,PRESUPUESTO!$A$5:$F$14,2,FALSE) -> LLENOS EN ARENILLA, compactados mecánicamente hasta obtener una densidad del 98% de la máxima obtenida en el ensayo del Próctor modificado. Incluye el suministro, transporte, colocación de la arenilla, la compactación de la misma y transporte interno. Y su medida será en sitio ya compactado. | C27: =VLOOKUP(A27,PRESUPUESTO!$A$5:$F$14,3,FALSE) -> m3 | M27: =SUM(L28) -> 1.26
B28: Tubería entre cárcamo nuevo y sumidero existente | D28: 3 | E28: 0.7 | F28: 0.6 | K28: 1 | L28: =D28*E28*F28*K28 -> 1.26
A29: 9 | B29: =VLOOKUP(A29,PRESUPUESTO!$A$5:$F$14,2,FALSE) -> Suministro, transporte e instalación de tapa para cárcamo, de 0.50m de ancho y 5,5m de largo, fabricada en un marco recibidor en Angulo de 1.1/2" x 3/16" anclado a los muros de concreto, y 5 tapas removibles de 1,10m de longitud x 0.50m de ancho, fabricadas en Angulo de 1,1/4" x 3/16" y varilla de acero corrugada de 3/4", incluye ángulos de 1.1/4" x 3/16" y recibidor de 1.1/2" x 3/16" y varillas corrugadas de 3/4" cada 10cm libres, distribuidas en sentido del ancho del cárcamo, elementos de anclaje y todos los elementos necesarios para su correcta instalación y funcionamiento. Se deben verificar las medidas en sitio antes de su fabricación. Previa aprobación de la interventoría. | C29: =VLOOKUP(A29,PRESUPUESTO!$A$5:$F$14,3,FALSE) -> un | M29: =SUM(L30) -> 1
B30: Para cárcamo en portería Comfama fraternidad | D30: 5.5 | E30: 0.7 | F30: 0.65 | K30: 1 | L30: =K30 -> 1
A31: MEMORIAS DE CALCULO PARA PRESUPUESTO PARA CÁRCAMO AGUAS LLUVIAS EN ZONA HÚMEDA DEL ITM ROBLEDO
A32: ÍTEM | B32: DESCRIPCIÓN | C32: UNID | D32: DIMENSIONES | K32: CANTIDAD | L32: PARCIAL | M32: TOTAL
D33: LARGO | E33: ANCHO | F33: ALTO | G33: PESO | H33: DIÁMETRO | I33: RADIO | J33: PI
A34: 10 | B34: =VLOOKUP(A34,PRESUPUESTO!$A$5:$F$27,2,FALSE) -> Instalación de CERRAMIENTO PROVISIONAL en tela verde polietileno de alta densidad y resistencia 65 gr/m2 con una altura de 2,10 m, estacones de madera común para fijación vertical de altura de 2,50 m puesto mínimo cada 2,0 m y para apuntalamiento mínimo cada 10 m y cada cambio de dirección, arranques y terminación, diámetro aproximado 0,10 m, elementos de fijación, Incluye: suministro, transporte, instalación, excavación, concreto de fundación preparado en Obra de 17.5 Mpa - 2500 psi, diámetro aproximado 0,30 m y profundidad aproximada 0,50 m, cable o alambre tensor parte inferior y superior horizontal, mantenimiento, desmonte y todos los demás elementos necesarios para su correcta instalación y operación. cargue transporte y botada de material sobrante en botaderos oficiales. | C34: =VLOOKUP(A34,PRESUPUESTO!$A$5:$F$27,3,FALSE) -> ml | M34: =SUM(L35) -> 50
B35: Perímetro de la zona a intervenir | D35: 50 | F35: 2.1 | K35: 1 | L35: =D35*K35 -> 50
A36: 11 | B36: =VLOOKUP(A36,PRESUPUESTO!$A$5:$F$27,2,FALSE) -> EXCAVACIÓN MANUAL de material heterogéneo DE 0-2 m., bajo cualquier grado de humedad. Incluye: roca descompuesta, bolas de roca de volumen inferior a 0.35 m³., el cargue, transporte interno y externo, botada de material proveniente de las excavaciones en los sitios donde lo indique la interventoría y su medida será en el sitio. No incluye entibado. | C36: =VLOOKUP(A36,PRESUPUESTO!$A$5:$F$27,3,FALSE) -> m3 | M36: =SUM(L37) -> 22.75
B37: Para cárcamo en corona de talud zona húmeda ITM Robledo | D37: 50 | E37: 0.7 | F37: 0.65 | K37: 1 | L37: =D37*E37*F37*K37 -> 22.75
A38: 12 | B38: =VLOOKUP(A38,PRESUPUESTO!$A$5:$F$27,2,FALSE) -> EXCAVACIÓN EN ROCA con CUÑA HIDRÁULICA. Incluye perforaciones con taladro neumático rotopercutor de 2" de diámetro, desembombe, transporte interno y acopio donde lo indique la interventoría y todos los demás elementos necesarios para su correcta ejecución. SU MEDIDA SERA EN SITIO. INCLUYE botada del material proveniente de la excavación en botaderos oficiales o donde lo indique la interventoría. | C38: =VLOOKUP(A38,PRESUPUESTO!$A$5:$F$27,3,FALSE) -> m3 | M38: =SUM(L39) -> 2.275
B39: Para cárcamo en corona de talud zona húmeda ITM Robledo | D39: 50 | E39: 0.7 | F39: 0.65 | K39: =M36*10% -> 2.275 | L39: =K39 -> 2.275
A40: 13 | B40: =VLOOKUP(A40,PRESUPUESTO!$A$5:$F$27,2,FALSE) -> DEMOLICIÓN ESTRUCTURAS DE CONCRETO cargue, transporte y botada de escombros, manual o mecánicamente, de cualquier resistencia, reforzado o ciclópeo, y en cualquier clase de estructura. Incluye retiro de refuerzo y cualquier tipo de acabado (revoques y enchapes) o piso (en losas) e instalaciones embebidas, compresor neumático con martillo, además recuperación de los materiales aprovechables o su transporte hasta el sitio que lo indique la interventoría. | C40: =VLOOKUP(A40,PRESUPUESTO!$A$5:$F$27,3,FALSE) -> m3 | M40: =SUM(L41) -> 0.075
B41: En muros de cajas existentes donde desagua el cárcamo | D41: 0.5 | E41: 0.15 | F41: 0.5 | K41: 2 | L41: =D41*E41*F41*K41 -> 0.075
A42: 14 | B42: =VLOOKUP(A42,PRESUPUESTO!$A$5:$F$27,2,FALSE) -> Colocación de concreto de 17.5Mpa para SOLADO, con un espesor de 0.05m. Incluye el suministro y el transporte del concreto y todos los demás elementos necesarios para su correcta construcción, incluye acarreo interno. | C42: =VLOOKUP(A42,PRESUPUESTO!$A$5:$F$27,3,FALSE) -> m2 | M42: =SUM(L43) -> 35
B43: Para piso de cárcamo en corona de talud zona húmeda ITM Robledo | D43: 50 | E43: 0.7 | F43: 0.05 | K43: 1 | L43: =D43*E43*K43 -> 35
A44: 15 | B44: =VLOOKUP(A44,PRESUPUESTO!$A$5:$F$27,2,FALSE) -> Construcción de CÁRCAMO lineal de corona, en concreto de 21 Mpa., con un ANCHO DE 0.50 m libres, ALTURA MÁXIMA DE 0.50 m libre, PAREDES Y PISOS DE 0.10 m de espesor, el muro del cárcamo en la parte baja del talud, debe ir 20cm por encima del nivel de terreno, osea 0,70m sde h. Incluye suministro, transporte y colocación del concreto, formaleta de primera calidad en súper T o su equivalente. Incluye suministro y transporte de los materiales y todo lo necesario para su correcta construcción y funcionamiento. Según diseño. La excavación y el acero de refuerzo se paga en su ítem respectivo. | C44: =VLOOKUP(A44,PRESUPUESTO!$A$5:$F$27,3,FALSE) -> ml | M44: =SUM(L45) -> 50
B45: Cárcamo en corona de talud zona húmeda ITM Robledo | D45: 50 | E45: 0.7 | F45: 0.05 | K45: 1 | L45: =D45*K45 -> 50
A46: 16 | B46: =VLOOKUP(A46,PRESUPUESTO!$A$5:$F$27,2,FALSE) -> Suministro, transporte e instalación de ACERO DE REFUERZO FIGURADO FY= 420 Mpa-60000 PSI, corrugado. Incluye transporte con descarga, transporte interno, alambre de amarre, certificados y todos los elementos necesarios para su correcta instalación, según diseño y recomendaciones estructurales. | C46: =VLOOKUP(A46,PRESUPUESTO!$A$5:$F$27,3,FALSE) -> kg | M46: =SUM(L47:L50) -> 895.04
B47: Longitudinal piso para cárcamo | D47: 50 | G47: 0.99 | H47: 1/2" | J47: 3.1416 | K47: 5 | L47: =D47*G47*K47 -> 247.5
B48: Transversal para cárcamo | D48: 1.8 | G48: 0.99 | H48: 1/2" | J48: 3.1416 | K48: 220 | L48: =D48*G48*K48 -> 392.04
B49: Perimetral muros para cárcamo | D49: 50 | G49: 0.99 | H49: 1/2" | J49: 3.1416 | K49: 5 | L49: =D49*G49*K49 -> 247.5
B50: Alambre de amarre cal 18 | G50: 1 | K50: 8 | L50: =G50*K50 -> 8
