Workbook
Name _ETR13: #REF!
Name _ETR13: #REF!
Name _ETR13: #REF!
Name _ETR13: #REF!
Name _ETR13: #REF!
Name _ETR13: #REF!
Name _ETR13: #REF!
Name _ETR13: #REF!
Name _ETR13: #REF!
Name _ETR13: #REF!
Name _ETR13: #REF!
Name _ORO13: #REF!
Name _ORO13: #REF!
Name _ORO13: #REF!
Name _ORO13: #REF!
Name _ORO13: #REF!
Name _ORO13: #REF!
Name _ORO13: #REF!
Name _ORO13: #REF!
Name _ORO13: #REF!
Name _ORO13: #REF!
Name _ORO13: #REF!
Name _ORO14: #REF!
Name _ORO14: #REF!
Name _ORO14: #REF!
Name _ORO14: #REF!
Name _ORO14: #REF!
Name _ORO14: #REF!
Name _ORO14: #REF!
Name _ORO14: #REF!
Name _ORO14: #REF!
Name _ORO14: #REF!
Name _ORO14: #REF!
Name _ORO15: #REF!
Name _ORO15: #REF!
Name _ORO15: #REF!
Name _ORO15: #REF!
Name _ORO15: #REF!
Name _ORO15: #REF!
Name _ORO15: #REF!
Name _ORO15: #REF!
Name _ORO15: #REF!
Name _ORO15: #REF!
Name _ORO15: #REF!
Name _ORO16: #REF!
Name _ORO16: #REF!
Name _ORO16: #REF!
Name _ORO16: #REF!
Name _ORO16: #REF!
Name _ORO16: #REF!
Name _ORO16: #REF!
Name _ORO16: #REF!
Name _ORO16: #REF!
Name _ORO16: #REF!
Name _ORO16: #REF!
Name _ORO17: #REF!
Name _ORO17: #REF!
Name _ORO17: #REF!
Name _ORO17: #REF!
Name _ORO17: #REF!

Sheet RESUMEN GRAL
D2: ALCALDÍA MAYOR DE BOGOTÁ D.C.
D3: ALCALDÍA LOCAL DE KENNEDY
D4: ÁREA DE GESTIÓN DE DESARROLLO LOCAL KENNEDY
C5: ALCALDÍA LOCAL DE KENNEDY | D5: OFICINA DE INFRAESTRUCTURA DEL FDLK
C7: OBJETO DE LA LICITACIÓN: | D7: "EJECUTAR A MONTO AGOTABLE POR EL SISTEMA DE PRECIOS UNITARIOS LAS OBRAS Y ACTIVIDADES PARA EL DIAGNOSTICO Y LA CONSERVACIÓN DE PUENTES VEHICULARES Y/O PEATONALES SOBRE CUERPOS DE AGUA DE LA LOCALIDAD DE KENNEDY”
C9: CONTRATO No. | D9: FDLK-LP-XX-2021
C10: MODALIDAD DE CONTRATACÒN | D10: LICITACION PUBLICA
C11: TIPO DE CONTRATO | D11: CONTRATO DE OBRA PÚBLICA
C12: FECHA: | D12: =TODAY() -> 44865
C14: ACTIVIDADES | D14: MESES | E14: MONTOS
C15: Actividades previas | D15: 2 | E15: 0
C16: EJECUCIÓN DE OBRAS | D16: 3 | E16: ='D. ENTRADA obra'!D15 -> 369171412
C17: TOTAL PROYECTO DIRECTO | D17: =SUM(D15:D16) -> 5 | E17: =SUM(E15:E16) -> 369171412
C19: AIU OBRA | D19: ='AIU OBRA'!L70 -> 0.39927475 | E19: =($E$17*D19) -> 1.4740082e+08
C20: PGA Y SST (Incl. AIU e IVA) | D20: ='PGA Y SST'!O121 -> 0.092783257 | E20: =$E$17*D20 -> 34252926
C21: PGS (Incl. AIU e IVA) | D21: =PGS!L53 -> 0.034757328 | E21: =$E$17*D21 -> 12831412
C22: PMT (Incl. AIU e IVA) | D22: =PMT!P37 -> 0.074377029 | E22: =$E$17*D22 -> 27457873
C23: Costo estimado Ajustes | E23: ='Presupuesto Obra Consolidado'!H75 -> 5537571
C24: COSTO TOTAL DEL PROYECTO DE OBRA | E24: =ROUND(SUM(E17:E23),0) -> 596652016
C26: OBJETO DEL CONCURSO: | D26: "REALIZAR LA INTERVENTORÍA TÉCNICA, ADMINISTRATIVA, FINANCIERA, JURÍDICA, SOCIAL, AMBIENTAL Y SST AL CONTRATO DE OBRA PÚBLICA QUE TENDRÁ POR OBJETO CONTRACTUAL: "EJECUTAR A MONTO AGOTABLE POR EL SISTEMA DE PRECIOS UNITARIOS FIJOS LAS OBRAS Y ACTIVIDADES PARA EL DIAGNOSTICO Y LA CONSERVACIÓN DE PUENTES VEHICULARES Y/O PEATONALES SOBRE CUERPOS DE AGUA DE LA LOCALIDAD DE KENNEDY”
C28: PROCESO No. | D28: FDLK-CMA-XXX-2021
C29: MODALIDAD DE CONTRATACION | D29: CONCURSO DE MERITOS
C30: TIPOA DE CONTRATO | D30: CONTRATO DE INTERVENTORÍA
C31: FECHA: | D31: =TODAY() -> 44865
C33: ACTIVIDADES | D33: MESES | E33: MONTOS
C34: EJECUCIÓN DE INTERVENTORIA Y ENTREGA | D34: 5 | E34: =ROUND(119098600.4,0) -> 119098600
C35: EPP | E35: =ROUND(3631215.96638655,0) -> 3631216
C36: IVA (19%) | D36: 0.19 | E36: =ROUND((E34+E35)*D36,0) -> 23318665
C37: COSTO TOTAL DEL PROYECTO DE INTERVENTORIA | D37: 5 | E37: =ROUND(SUM(E34:E36),0) -> 146048481 | H37: =E42-E40 -> -55374497
E38: =E37/E24 -> 0.24478
C40: COSTO TOTAL DEL PROYECTOS DE PUENTES SOBRE CUERPOS DE AGUA | E40: =E37+E24 -> 742700497
E42: 687326000
E43: =E40-E42 -> 55374497

Sheet D. ENTRADA obra
C2: ALCALDÍA MAYOR DE BOGOTÁ D.C.
C3: ALCALDÍA LOCAL DE KENNEDY
C4: ÁREA DE GESTIÓN DE DESARROLLO LOCAL KENNEDY
B5: ALCALDÍA LOCAL DE KENNEDY | C5: OFICINA DE INFRAESTRUCTURA DEL FDLK
B7: OBJETO DE LA LICITACIÓN: | C7: "EJECUTAR A MONTO AGOTABLE POR EL SISTEMA DE PRECIOS UNITARIOS LAS OBRAS Y ACTIVIDADES PARA EL DIAGNOSTICO Y LA CONSERVACIÓN DE PUENTES VEHICULARES Y/O PEATONALES SOBRE CUERPOS DE AGUA DE LA LOCALIDAD DE KENNEDY”
B9: CONTRATO No. | C9: -
B10: MODALIDAD DE PROYECTO | C10: CONTRATO DE OBRA PÚBLICA
B11: FECHA: | C11: =TODAY() -> 44865
B13: ACTIVIDADES | C13: MESES | D13: MONTOS
B14: PRELIMINARES | C14: 1.5 | D14: 0
B15: EJECUCIÓN DE OBRAS | C15: 3 | D15: ='Presupuesto Obra Consolidado'!H65 -> 369171412
B16: TOTAL PROYECTO | C16: =SUM(C14:C15) -> 4.5 | D16: =SUM(D14:D15) -> 369171412
B18: AIU OBRA | C18: ='AIU OBRA'!L70 -> 0.39927475 | D18: =ROUND(($D$16*C18),0) -> 147400822
B19: PGA Y SST (Incl. AIU) | C19: ='PGA Y SST'!O121 -> 0.092783257 | D19: =$D$16*C19 -> 34252926
B20: PGS (Incl. AIU) | C20: =PGS!L53 -> 0.034757328 | D20: =$D$16*C20 -> 12831412
B21: PMT (Incl. AIU) | C21: =PMT!P37 -> 0.074377029 | D21: =$D$16*C21 -> 27457873
B22: Ajustes | C22: 0 | D22: =Ajustes!H66 -> 5537571
B23: COSTO TOTAL DEL PROYECTO | D23: =ROUND(SUM(D16:D22),0) -> 596652016
D24: 541277519
D25: =D23-D24 -> 55374497

Sheet 1. Presupuesto 24119475
B2: FORMATO
B3: Presupuesto General de Obras - Costos Directos
B4: CÓDIGO | D4: PROCESO | G4: VERSIÓN
B5: FO-DP-01 | D5: Conservación de puentes | G5: 1 | H5: ALCALDÍA LOCAL DE KENNEDY
B7: ALCALDÍA LOCAL DE KENNEDY
B8: ÁREA DE GESTIÓN DE DESARROLLO LOCAL KENNEDY
B9: OFICINA DE INFRAESTRUCTURA DEL FDLK
B10: OBJETO DE LA LICITACIÓN | D10: ='D. ENTRADA obra'!C7 -> "EJECUTAR A MONTO AGOTABLE POR EL SISTEMA DE PRECIOS UNITARIOS LAS OBRAS Y ACTIVIDADES PARA EL DIAGNOSTICO Y LA CONSERVACIÓN DE PUENTES VEHICULARES Y/O PEATONALES SOBRE CUERPOS DE AGUA DE LA LOCALIDAD DE KENNEDY”
B12: Puente Peatonal 24119475 - CL 45 S por KR 73 (Río Tunjuelito)
E14: Fecha de Actualización: 10 de Octubre de 2022 | J14: L= | K14: 29
J15: W= | K15: 4.5
B16: CODIGO IDU | C16: ÍTEM | D16: DESCRIPCIÓN | E16: UNIDAD | F16: CANTIDAD | G16: PRECIO UNITARIO | H16: VALOR TOTAL | J16: luces | K16: 4
C17: 1 | D17: Preliminares | H17: =SUM(H18:H20) -> 1101977
B18: 6162 | C18: =C17*1000+1 -> 1001 | D18: =K18 -> DIAGNOSTICO DE ESPACIO PUBLICO Y CICLORRUTA Y PUENTES PEATONALES (VISUAL). INCLUYE LEVANTAMIENTO TOPOGRÁFICO Y GEORREFERENCIACIÓN DE ELEMENTOS | E18: =L18 -> M2 | F18: =((P23+P29+P35)*O21)+1000 -> 1882.81 | G18: =J18 -> 119 | H18: =ROUND(F18*G18,0) -> 224054 | J18: =LOOKUP(B18,$C$80:$C$4513,$F$80:$F$4513) -> 119 | K18: =LOOKUP(B18,$C$80:$C$4513,$D$80:$D$4513) -> DIAGNOSTICO DE ESPACIO PUBLICO Y CICLORRUTA Y PUENTES PEATONALES (VISUAL). INCLUYE LEVANTAMIENTO TOPOGRÁFICO Y GEORREFERENCIACIÓN DE ELEMENTOS | L18: =LOOKUP(B18,$C$80:$C$4513,$E$80:$E$4513) -> M2
B19: 3688 | C19: =C18+1 -> 1002 | D19: =K19 -> DESMONTE Y REINSTALACION DE SEÑALES VIALES (INCLUYE DADO DE ANCLAJE) | E19: =L19 -> UN | F19: 8 | G19: =J19 -> 41764 | H19: =ROUND(F19*G19,0) -> 334112 | J19: =LOOKUP(B19,$C$80:$C$4513,$F$80:$F$4513) -> 41764 | K19: =LOOKUP(B19,$C$80:$C$4513,$D$80:$D$4513) -> DESMONTE Y REINSTALACION DE SEÑALES VIALES (INCLUYE DADO DE ANCLAJE) | L19: =LOOKUP(B19,$C$80:$C$4513,$E$80:$E$4513) -> UN
B20: 6153 | C20: =C19+1 -> 1003 | D20: =K20 -> CORTE Y RETIRO DE CÉSPED (HASTA 40 CM - INCLUYE RETIRO DE DESPERDICIOS). NO INCLUYE TRANSPORTE Y RETIRO DE SOBRANTES. | E20: =L20 -> M2 | F20: =(P23+P29+P35)*O21 -> 882.81 | G20: =J20 -> 616 | H20: =ROUND(F20*G20,0) -> 543811 | J20: =LOOKUP(B20,$C$80:$C$4513,$F$80:$F$4513) -> 616 | K20: =LOOKUP(B20,$C$80:$C$4513,$D$80:$D$4513) -> CORTE Y RETIRO DE CÉSPED (HASTA 40 CM - INCLUYE RETIRO DE DESPERDICIOS). NO INCLUYE TRANSPORTE Y RETIRO DE SOBRANTES. | L20: =LOOKUP(B20,$C$80:$C$4513,$E$80:$E$4513) -> M2
C21: 2 | D21: Mantenimiento y Conservacion de Elementos Estructurales | H21: =SUM(H22:H29) -> 75388214 | N21: GEOMETRIA GENERAL | O21: 1 | P21: AREA | R21: Carpeta de rodadura
B22: 4947 | C22: =C21*1000+1 -> 2001 | D22: =K22 -> LAVADO DE ESTRUCTURA EN CONCRETO Y/O METÁLICAS. INCLUYE ALQUILER DE HIDROLAVADORA 1300W MOTOR A GASOLINA PRESIÓN 3200 PSI. INCLUYE IMPLEMENTOS DE ASEO (DETERGENTE INDUSTRIAL), AGUA, COMBUSTIBLE Y MANO DE OBRA. | E22: =L22 -> M2 | F22: =(P23+P29+P35+(S26*S27*3*O25)+(S28*S27*3*3))*O21*1.05 -> 2752.407 | G22: =J22 -> 3972 | H22: =ROUND(F22*G22,0) -> 10932561 | J22: =LOOKUP(B22,$C$80:$C$4513,$F$80:$F$4513) -> 3972 | K22: =LOOKUP(B22,$C$80:$C$4513,$D$80:$D$4513) -> LAVADO DE ESTRUCTURA EN CONCRETO Y/O METÁLICAS. INCLUYE ALQUILER DE HIDROLAVADORA 1300W MOTOR A GASOLINA PRESIÓN 3200 PSI. INCLUYE IMPLEMENTOS DE ASEO (DETERGENTE INDUSTRIAL), AGUA, COMBUSTIBLE Y MANO DE OBRA. | L22: =LOOKUP(B22,$C$80:$C$4513,$E$80:$E$4513) -> M2 | N22: ANCHO | O22: 4.5 | R22: No. De juntas | S22: 2
B23: 6275 | C23: =C22+1 -> 2002 | D23: =K23 -> REPARACIÓN DE SOLDADURAS JUNTAS A FILETE, CON REMOCIÓN DE PINTURA EXISTENTE, REMOCIÓN DEL DEFECTO MEDIANTE DISCO DE CORTE DE 1/8" PARA GENERAR BISEL Y LUEGO DISCO DE PULIDO DE 1/4" PARA MEJORAR INCLINACIÓN DE CARAS Y FACILITAR PROCESO DE COLOCACIÓN DE MATERIAL DE APORTE. INCLUYE: GATEO MEDIANTE TUBERÍA Y GATOS HIDRÁULICO DE 100 TON EN 2 PUNTOS PARA SOPORTE DE TRAMOS A REPARAR; REMOCIÓN DE PINTURA, APLICACIÓN DE CORDÓN DE SOLDADURA 7018 X1/8" CON ADECUADA PENETRACIÓN; APLICACIÓN DE CORDÓN DE PRESENTACIÓN EN 5/32", APLICACIÓN DE ANTICORROSIVO A BASE DE CROMATO DE ZINC Y ESMALTE EN 5 MILS; EQUIPO, ANDAMIO, MATERIALES, HERRAMIENTA Y MANO DE OBRA. | E23: =L23 -> ML | F23: =O23*4*O21*0.2*1.1 -> 130.372 | G23: =J23 -> 103779 | H23: =ROUND(F23*G23,0) -> 13529876 | J23: =LOOKUP(B23,$C$80:$C$4513,$F$80:$F$4513) -> 103779 | K23: =LOOKUP(B23,$C$80:$C$4513,$D$80:$D$4513) -> REPARACIÓN DE SOLDADURAS JUNTAS A FILETE, CON REMOCIÓN DE PINTURA EXISTENTE, REMOCIÓN DEL DEFECTO MEDIANTE DISCO DE CORTE DE 1/8" PARA GENERAR BISEL Y LUEGO DISCO DE PULIDO DE 1/4" PARA MEJORAR INCLINACIÓN DE CARAS Y FACILITAR PROCESO DE COLOCACIÓN DE MATERIAL DE APORTE. INCLUYE: GATEO MEDIANTE TUBERÍA Y GATOS HIDRÁULICO DE 100 TON EN 2 PUNTOS PARA SOPORTE DE TRAMOS A REPARAR; REMOCIÓN DE PINTURA, APLICACIÓN DE CORDÓN DE SOLDADURA 7018 X1/8" CON ADECUADA PENETRACIÓN; APLICACIÓN DE CORDÓN DE PRESENTACIÓN EN 5/32", APLICACIÓN DE ANTICORROSIVO A BASE DE CROMATO DE ZINC Y ESMALTE EN 5 MILS; EQUIPO, ANDAMIO, MATERIALES, HERRAMIENTA Y MANO DE OBRA. | L23: =LOOKUP(B23,$C$80:$C$4513,$E$80:$E$4513) -> ML | N23: LONGITUD | O23: 148.15 | P23: =O23*O22 -> 666.675 | R23: Sendero Peatonal (ancho) | S23: 4.5
B24: 9055 | C24: =C23+1 -> 2003 | D24: =K24 -> SUMINISTRO Y APLICACIÓN DE UNA CAPA DE ANTICORROSIVO DE 3MM DE ESPESOR DE PELÍCULA SECA IMPRIMANTE EPÓXICO, PREVIA PREPARACIÓN DE LA SUPERFICIE MEDIANTE LIMPIEZA MANUAL O MECÁNICA, SEGÚN LAS NORMAS SSPC-SP2 | E24: =L24 -> ML | F24: =O23*O21*3*1.1 -> 488.895 | G24: =J24 -> 11882 | H24: =ROUND(F24*G24,0) -> 5809050 | J24: =LOOKUP(B24,$C$80:$C$4513,$F$80:$F$4513) -> 11882 | K24: =LOOKUP(B24,$C$80:$C$4513,$D$80:$D$4513) -> SUMINISTRO Y APLICACIÓN DE UNA CAPA DE ANTICORROSIVO DE 3MM DE ESPESOR DE PELÍCULA SECA IMPRIMANTE EPÓXICO, PREVIA PREPARACIÓN DE LA SUPERFICIE MEDIANTE LIMPIEZA MANUAL O MECÁNICA, SEGÚN LAS NORMAS SSPC-SP2 | L24: =LOOKUP(B24,$C$80:$C$4513,$E$80:$E$4513) -> ML | N24: LUZ MAYOR | O24: 29 | R24: barandas alto | S24: 1.11
B25: 6262 | C25: =C24+1 -> 2004 | D25: =K25 -> PINTURA ACRÍLICA, MONOCOMPONENTE, IMPERMEABLE, ELÁSTICO, DE ALTA RESISTENCIA A LA CARBONATACIÓN, LAVABLE, CONSUMO DE 0,32 GL/M2, PARA UN ESPESOR DE PELÍCULA SECA DE 12 MILS. INCLUYE TODOS LOS COSTOS DE SUMINISTRO DE MATERIALES, EQUIPOS (COMPRESOR, PISTOLA, RODILLO, ANDAMIOS, PROVISIONAL DE ENERGÍA), TRANSPORTES, MANEJO, ALMACENAMIENTO, DESPERDICIOS Y MANO DE OBRA. | E25: =L25 -> M2 | F25: =((O23*S27)+(O23*1.5*2))*O21*1.1 -> 1222.2375 | G25: =J25 -> 28199 | H25: =ROUND(F25*G25,0) -> 34465875 | J25: =LOOKUP(B25,$C$80:$C$4513,$F$80:$F$4513) -> 28199 | K25: =LOOKUP(B25,$C$80:$C$4513,$D$80:$D$4513) -> PINTURA ACRÍLICA, MONOCOMPONENTE, IMPERMEABLE, ELÁSTICO, DE ALTA RESISTENCIA A LA CARBONATACIÓN, LAVABLE, CONSUMO DE 0,32 GL/M2, PARA UN ESPESOR DE PELÍCULA SECA DE 12 MILS. INCLUYE TODOS LOS COSTOS DE SUMINISTRO DE MATERIALES, EQUIPOS (COMPRESOR, PISTOLA, RODILLO, ANDAMIOS, PROVISIONAL DE ENERGÍA), TRANSPORTES, MANEJO, ALMACENAMIENTO, DESPERDICIOS Y MANO DE OBRA. | L25: =LOOKUP(B25,$C$80:$C$4513,$E$80:$E$4513) -> M2 | N25: NUMERO DE LUCES | O25: 4 | R25: Elementos estructurales
B26: 6352 | C26: =C25+1 -> 2005 | D26: =K26 -> PINTURA RECUBRIMIENTO ELÁSTICO EN RESINA ACRÍLICA APLICADA SOBRE CONCRETO. DOS (2) MANOS. INCLUYE SUMINISTRO Y COLOCACIÓN DE PINTURA. | E26: =L26 -> M2 | F26: =S28*2.5*3*S27 -> 143.775 | G26: =J26 -> 74080 | H26: =ROUND(F26*G26,0) -> 10650852 | J26: =LOOKUP(B26,$C$80:$C$4513,$F$80:$F$4513) -> 74080 | K26: =LOOKUP(B26,$C$80:$C$4513,$D$80:$D$4513) -> PINTURA RECUBRIMIENTO ELÁSTICO EN RESINA ACRÍLICA APLICADA SOBRE CONCRETO. DOS (2) MANOS. INCLUYE SUMINISTRO Y COLOCACIÓN DE PINTURA. | L26: =LOOKUP(B26,$C$80:$C$4513,$E$80:$E$4513) -> M2 | N26: ACCESOS | R26: viga en I | S26: 29
J27: =LOOKUP(B27,$C$80:$C$4513,$F$80:$F$4513) -> #N/A | K27: =LOOKUP(B27,$C$80:$C$4513,$D$80:$D$4513) -> #N/A | L27: =LOOKUP(B27,$C$80:$C$4513,$E$80:$E$4513) -> #N/A | N27: No. De escaleras | O27: 2 | R27: tablero ancho | S27: 4.5
J28: =LOOKUP(B28,$C$80:$C$4513,$F$80:$F$4513) -> #N/A | K28: =LOOKUP(B28,$C$80:$C$4513,$D$80:$D$4513) -> #N/A | L28: =LOOKUP(B28,$C$80:$C$4513,$E$80:$E$4513) -> #N/A | N28: ancho | O28: 4.5 | P28: ärea escalera | R28: Apoyo en Concreto (pilar) altura mayor | S28: 4.26
J29: =LOOKUP(B29,$C$80:$C$4513,$F$80:$F$4513) -> #N/A | K29: =LOOKUP(B29,$C$80:$C$4513,$D$80:$D$4513) -> #N/A | L29: =LOOKUP(B29,$C$80:$C$4513,$E$80:$E$4513) -> #N/A | N29: longitud | O29: 9.81 | P29: =O29*O28 -> 44.145
C30: 3 | D30: Mantenimiento Barandas y Elementos de Protección | H30: =SUM(H31:H35) -> 79510210 | N30: No. De Rampas | O30: 2
B31: 4947 | C31: =C30*1000+1 -> 3001 | D31: =K31 -> LAVADO DE ESTRUCTURA EN CONCRETO Y/O METÁLICAS. INCLUYE ALQUILER DE HIDROLAVADORA 1300W MOTOR A GASOLINA PRESIÓN 3200 PSI. INCLUYE IMPLEMENTOS DE ASEO (DETERGENTE INDUSTRIAL), AGUA, COMBUSTIBLE Y MANO DE OBRA. | E31: =L31 -> M2 | F31: =((O23+O29+O35)*S24*4)*1.05 -> 914.59116 | G31: =J31 -> 3972 | H31: =ROUND(F31*G31,0) -> 3632756 | J31: =LOOKUP(B31,$C$80:$C$4513,$F$80:$F$4513) -> 3972 | K31: =LOOKUP(B31,$C$80:$C$4513,$D$80:$D$4513) -> LAVADO DE ESTRUCTURA EN CONCRETO Y/O METÁLICAS. INCLUYE ALQUILER DE HIDROLAVADORA 1300W MOTOR A GASOLINA PRESIÓN 3200 PSI. INCLUYE IMPLEMENTOS DE ASEO (DETERGENTE INDUSTRIAL), AGUA, COMBUSTIBLE Y MANO DE OBRA. | L31: =LOOKUP(B31,$C$80:$C$4513,$E$80:$E$4513) -> M2 | N31: Ancho | O31: 4.5 | P31: Área Escalera
B32: 5395 | C32: =C31+1 -> 3002 | D32: =K32 -> BARANDAS. DESMONTE E INSTALACION. INCLUYE ACOPIO EN EL FRENTE DE OBRA. (NO INCLUYE TRASLADO DEL MATERIAL SOBRANTE, NI RETIRO DE ESCOMBROS). | E32: =L32 -> ML | F32: =((O35*2*O30)+(O29*2*O27))*1.05 -> 201.726 | G32: =J32 -> 35220 | H32: =ROUND(F32*G32,0) -> 7104790 | J32: =LOOKUP(B32,$C$80:$C$4513,$F$80:$F$4513) -> 35220 | K32: =LOOKUP(B32,$C$80:$C$4513,$D$80:$D$4513) -> BARANDAS. DESMONTE E INSTALACION. INCLUYE ACOPIO EN EL FRENTE DE OBRA. (NO INCLUYE TRASLADO DEL MATERIAL SOBRANTE, NI RETIRO DE ESCOMBROS). | L32: =LOOKUP(B32,$C$80:$C$4513,$E$80:$E$4513) -> ML
B33: 5952 | C33: =C32+1 -> 3003 | D33: =K33 -> BARANDA METÁLICA M81 (INSTALADO Y PINTADO) | E33: =L33 -> ML | F33: =((O35*2*O30)+(O29*2*O27))*1.05 -> 201.726 | G33: =J33 -> 273700 | H33: =ROUND(F33*G33,0) -> 55212406 | J33: =LOOKUP(B33,$C$80:$C$4513,$F$80:$F$4513) -> 273700 | K33: =LOOKUP(B33,$C$80:$C$4513,$D$80:$D$4513) -> BARANDA METÁLICA M81 (INSTALADO Y PINTADO) | L33: =LOOKUP(B33,$C$80:$C$4513,$E$80:$E$4513) -> ML
B34: 9055 | C34: =C33+1 -> 3004 | D34: =K34 -> SUMINISTRO Y APLICACIÓN DE UNA CAPA DE ANTICORROSIVO DE 3MM DE ESPESOR DE PELÍCULA SECA IMPRIMANTE EPÓXICO, PREVIA PREPARACIÓN DE LA SUPERFICIE MEDIANTE LIMPIEZA MANUAL O MECÁNICA, SEGÚN LAS NORMAS SSPC-SP2 | E34: =L34 -> ML | F34: =(O23*2)*1.05 -> 311.115 | G34: =J34 -> 11882 | H34: =ROUND(F34*G34,0) -> 3696668 | J34: =LOOKUP(B34,$C$80:$C$4513,$F$80:$F$4513) -> 11882 | K34: =LOOKUP(B34,$C$80:$C$4513,$D$80:$D$4513) -> SUMINISTRO Y APLICACIÓN DE UNA CAPA DE ANTICORROSIVO DE 3MM DE ESPESOR DE PELÍCULA SECA IMPRIMANTE EPÓXICO, PREVIA PREPARACIÓN DE LA SUPERFICIE MEDIANTE LIMPIEZA MANUAL O MECÁNICA, SEGÚN LAS NORMAS SSPC-SP2 | L34: =LOOKUP(B34,$C$80:$C$4513,$E$80:$E$4513) -> ML
B35: 6294 | C35: =C34+1 -> 3005 | D35: =K35 -> REPARACIÓN DE BARANDAS EXISTENTES. INCLUYE LIMPIEZA, MORTERO DE REPARACIÓN, INHIBIDOR DE CORROSIÓN, PINTURA ANTICARBONATACIÓN, SUMINISTRO DE MANO DE OBRA, EQUIPOS Y MANEJO DE DESPERDICIOS. | E35: =L35 -> ML | F35: =(O23*2)*1.05 -> 311.115 | G35: =J35 -> 31704 | H35: =ROUND(F35*G35,0) -> 9863590 | J35: =LOOKUP(B35,$C$80:$C$4513,$F$80:$F$4513) -> 31704 | K35: =LOOKUP(B35,$C$80:$C$4513,$D$80:$D$4513) -> REPARACIÓN DE BARANDAS EXISTENTES. INCLUYE LIMPIEZA, MORTERO DE REPARACIÓN, INHIBIDOR DE CORROSIÓN, PINTURA ANTICARBONATACIÓN, SUMINISTRO DE MANO DE OBRA, EQUIPOS Y MANEJO DE DESPERDICIOS. | L35: =LOOKUP(B35,$C$80:$C$4513,$E$80:$E$4513) -> ML | N35: Longitud | O35: 38.22 | P35: =O35*O31 -> 171.99
C36: 4 | D36: Mantenimiento y Conservación de Senderos Peatonales | H36: =SUM(H37:H59) -> 65129088
B37: 3011 | C37: =C36*1000+1 -> 4001 | D37: =K37 -> DEMOLICION MANUAL SARDINEL EXISTENTE (INCLUYE CARGUE). NO INCLUYE TRANSPORTE Y DISPOSICIÓN FINAL DE SOBRANTES. | E37: =L37 -> ML | F37: =((O23/1.6)*0.4*2*2)*1.05 -> 155.5575 | G37: =J37 -> 4523 | H37: =ROUND(F37*G37,0) -> 703587 | J37: =LOOKUP(B37,$C$80:$C$4513,$F$80:$F$4513) -> 4523 | K37: =LOOKUP(B37,$C$80:$C$4513,$D$80:$D$4513) -> DEMOLICION MANUAL SARDINEL EXISTENTE (INCLUYE CARGUE). NO INCLUYE TRANSPORTE Y DISPOSICIÓN FINAL DE SOBRANTES. | L37: =LOOKUP(B37,$C$80:$C$4513,$E$80:$E$4513) -> ML
B38: 3012 | C38: =C37+1 -> 4002 | D38: =K38 -> DEMOLICIÓN PISOS DE CONCRETO (ESPESOR VARIABLE HASTA 0.10 M. INCLUYE CARGUE). NO INCLUYE TRANSPORTE Y DISPOSICIÓN FINAL DE SOBRANTES. | E38: =L38 -> M2 | F38: =((P35*O30*0.7)+(P29*O27*0.7))*1.05 -> 317.71845 | G38: =J38 -> 6331 | H38: =ROUND(F38*G38,0) -> 2011476 | J38: =LOOKUP(B38,$C$80:$C$4513,$F$80:$F$4513) -> 6331 | K38: =LOOKUP(B38,$C$80:$C$4513,$D$80:$D$4513) -> DEMOLICIÓN PISOS DE CONCRETO (ESPESOR VARIABLE HASTA 0.10 M. INCLUYE CARGUE). NO INCLUYE TRANSPORTE Y DISPOSICIÓN FINAL DE SOBRANTES. | L38: =LOOKUP(B38,$C$80:$C$4513,$E$80:$E$4513) -> M2
B39: 6224 | C39: =C38+1 -> 4003 | D39: =K39 -> DEMOLICIÓN RECUBRIMIENTO ESTRUCTURAL DE ZONAS CON DESCASCARAMIENTO, HASTA DESCUBRIR EL REFUERZO EXISTENTE VERIFICANDO PH EN CONCRETO. INCLUYE TODOS LOS COSTOS DE SUMINISTRO DE MATERIALES, EQUIPOS, CARGUE Y TRANSPORTE DE MATERIALES SOBRANTES A BOTADERO AUTORIZADO Y MANO DE OBRA. | E39: =L39 -> M2 | F39: =(P29*0.1*O27)*1.05 -> 9.27045 | G39: =J39 -> 11514 | H39: =ROUND(F39*G39,0) -> 106740 | J39: =LOOKUP(B39,$C$80:$C$4513,$F$80:$F$4513) -> 11514 | K39: =LOOKUP(B39,$C$80:$C$4513,$D$80:$D$4513) -> DEMOLICIÓN RECUBRIMIENTO ESTRUCTURAL DE ZONAS CON DESCASCARAMIENTO, HASTA DESCUBRIR EL REFUERZO EXISTENTE VERIFICANDO PH EN CONCRETO. INCLUYE TODOS LOS COSTOS DE SUMINISTRO DE MATERIALES, EQUIPOS, CARGUE Y TRANSPORTE DE MATERIALES SOBRANTES A BOTADERO AUTORIZADO Y MANO DE OBRA. | L39: =LOOKUP(B39,$C$80:$C$4513,$E$80:$E$4513) -> M2
B40: 6281 | C40: =C39+1 -> 4004 | D40: =K40 -> RESTITUCIÓN RECUBRIMIENTO DE TABLERO O VIGAS CABEZAL, EN ZONAS DE SANEADO DE REFUERZO O DONDE EXISTA PÉRDIDA DE RECUBRIMIENTO, CON MORTERO MODIFICADO CON RESINA ACRÍLICA DE DOS COMPONENTES PARA REPARACIONES ESTRUCTURALES. INCLUYE TODOS LOS COSTOS DE SUMINISTRO DE MATERIALES, EQUIPOS, HERRAMIENTA MENOR, ANDAMIOS, LIMPIEZA AIRE A PRESIÓN, TRANSPORTES, MANEJO, ALMACENAMIENTO, DESPERDICIOS, CARGUE Y TRANSPORTE DE MATERIALES SOBRANTES A BOTADERO AUTORIZADO Y MANO DE OBRA. | E40: =L40 -> M2 | F40: =F39 -> 9.27045 | G40: =J40 -> 44431 | H40: =ROUND(F40*G40,0) -> 411895 | J40: =LOOKUP(B40,$C$80:$C$4513,$F$80:$F$4513) -> 44431 | K40: =LOOKUP(B40,$C$80:$C$4513,$D$80:$D$4513) -> RESTITUCIÓN RECUBRIMIENTO DE TABLERO O VIGAS CABEZAL, EN ZONAS DE SANEADO DE REFUERZO O DONDE EXISTA PÉRDIDA DE RECUBRIMIENTO, CON MORTERO MODIFICADO CON RESINA ACRÍLICA DE DOS COMPONENTES PARA REPARACIONES ESTRUCTURALES. INCLUYE TODOS LOS COSTOS DE SUMINISTRO DE MATERIALES, EQUIPOS, HERRAMIENTA MENOR, ANDAMIOS, LIMPIEZA AIRE A PRESIÓN, TRANSPORTES, MANEJO, ALMACENAMIENTO, DESPERDICIOS, CARGUE Y TRANSPORTE DE MATERIALES SOBRANTES A BOTADERO AUTORIZADO Y MANO DE OBRA. | L40: =LOOKUP(B40,$C$80:$C$4513,$E$80:$E$4513) -> M2
B41: 5426 | C41: =C40+1 -> 4005 | D41: =K41 -> CONCRETO 4000 PSI GRAVA COMÚN PARA RAMPAS Y ESCALERAS (PREMEZCLADO. INCL. SUMINISTRO, FORMALETEO Y COLOCACIÓN. NO INCL. REFUERZO, CURADO). | E41: =L41 -> M3 | F41: =(F38*0.1)*1.05 -> 33.360437 | G41: =J41 -> 621990 | H41: =ROUND(F41*G41,0) -> 20749858 | J41: =LOOKUP(B41,$C$80:$C$4513,$F$80:$F$4513) -> 621990 | K41: =LOOKUP(B41,$C$80:$C$4513,$D$80:$D$4513) -> CONCRETO 4000 PSI GRAVA COMÚN PARA RAMPAS Y ESCALERAS (PREMEZCLADO. INCL. SUMINISTRO, FORMALETEO Y COLOCACIÓN. NO INCL. REFUERZO, CURADO). | L41: =LOOKUP(B41,$C$80:$C$4513,$E$80:$E$4513) -> M3
B42: 7992 | C42: =C41+1 -> 4006 | D42: =K42 -> REPOSICIÓN DE SELLO DE JUNTAS DE PAVIMENTO DE CONCRETO HIDRÁULICO, ANCHO HASTA DE 5/8" (16 MM). (INCLUYE LIMPIEZA, SUMINISTRO E INSTALACIÓN DE FONDO Y SELLANTE). | E42: =L42 -> ML | F42: =((O23/4)*4.5)*1.05 -> 175.00219 | G42: =J42 -> 15497 | H42: =ROUND(F42*G42,0) -> 2712009 | J42: =LOOKUP(B42,$C$80:$C$4513,$F$80:$F$4513) -> 15497 | K42: =LOOKUP(B42,$C$80:$C$4513,$D$80:$D$4513) -> REPOSICIÓN DE SELLO DE JUNTAS DE PAVIMENTO DE CONCRETO HIDRÁULICO, ANCHO HASTA DE 5/8" (16 MM). (INCLUYE LIMPIEZA, SUMINISTRO E INSTALACIÓN DE FONDO Y SELLANTE). | L42: =LOOKUP(B42,$C$80:$C$4513,$E$80:$E$4513) -> ML
B43: 4239 | C43: =C42+1 -> 4007 | D43: =K43 -> CORTE Y AMPLIACIÓN DE JUNTA EN PAVIMENTO DE CONCRETO HIDRAULICO | E43: =L43 -> ML | F43: =((O35/2)*4.5*2)*1.05 -> 180.5895 | G43: =J43 -> 4712 | H43: =ROUND(F43*G43,0) -> 850938 | J43: =LOOKUP(B43,$C$80:$C$4513,$F$80:$F$4513) -> 4712 | K43: =LOOKUP(B43,$C$80:$C$4513,$D$80:$D$4513) -> CORTE Y AMPLIACIÓN DE JUNTA EN PAVIMENTO DE CONCRETO HIDRAULICO | L43: =LOOKUP(B43,$C$80:$C$4513,$E$80:$E$4513) -> ML
B44: 3837 | C44: =C43+1 -> 4008 | D44: =K44 -> SELLADO DE JUNTAS EN PAVIMENTO DE CONCRETO HIDRAULICO (INCLUYE LIMPIEZA, SUMINISTRO E INSTALACIÓN DE FONDO Y SELLANTE) | E44: =L44 -> ML | F44: =F43 -> 180.5895 | G44: =J44 -> 10949 | H44: =ROUND(F44*G44,0) -> 1977274 | J44: =LOOKUP(B44,$C$80:$C$4513,$F$80:$F$4513) -> 10949 | K44: =LOOKUP(B44,$C$80:$C$4513,$D$80:$D$4513) -> SELLADO DE JUNTAS EN PAVIMENTO DE CONCRETO HIDRAULICO (INCLUYE LIMPIEZA, SUMINISTRO E INSTALACIÓN DE FONDO Y SELLANTE) | L44: =LOOKUP(B44,$C$80:$C$4513,$E$80:$E$4513) -> ML
...

Sheet 2. Presupuesto 24119394
B2: FORMATO
B3: Presupuesto General de Obras - Costos Directos
B4: CÓDIGO | D4: PROCESO | G4: VERSIÓN
B5: FO-DP-01 | D5: Conservación de puentes | G5: 1 | H5: ALCALDÍA LOCAL DE KENNEDY
B7: ALCALDÍA LOCAL DE KENNEDY
B8: ÁREA DE GESTIÓN DE DESARROLLO LOCAL KENNEDY
B9: OFICINA DE INFRAESTRUCTURA DEL FDLK
B10: OBJETO DE LA LICITACIÓN | D10: ='D. ENTRADA obra'!C7 -> "EJECUTAR A MONTO AGOTABLE POR EL SISTEMA DE PRECIOS UNITARIOS LAS OBRAS Y ACTIVIDADES PARA EL DIAGNOSTICO Y LA CONSERVACIÓN DE PUENTES VEHICULARES Y/O PEATONALES SOBRE CUERPOS DE AGUA DE LA LOCALIDAD DE KENNEDY”
B12: Puente Peatonal 24119394- AV Ciudad de Villavicencio por KR 96 (Canal Tintal II - Box Coulvert)
E14: Fecha de Actualización: 10 de Octubre de 2022 | J14: L= | K14: 18.2
J15: W= | K15: 8.22
B16: CODIGO IDU | C16: ÍTEM | D16: DESCRIPCIÓN | E16: UNIDAD | F16: CANTIDAD | G16: PRECIO UNITARIO | H16: VALOR TOTAL | J16: luces | K16: 1
C17: 1 | D17: Preliminares | H17: =SUM(H18:H20) -> 616833
B18: 6162 | C18: =C17*1000+1 -> 1001 | D18: =K18 -> DIAGNOSTICO DE ESPACIO PUBLICO Y CICLORRUTA Y PUENTES PEATONALES (VISUAL). INCLUYE LEVANTAMIENTO TOPOGRÁFICO Y GEORREFERENCIACIÓN DE ELEMENTOS | E18: =L18 -> M2 | F18: =((P23+P29+P35)*O21)+1000 -> 1222.75 | G18: =J18 -> 119 | H18: =ROUND(F18*G18,0) -> 145507 | J18: =LOOKUP(B18,$C$80:$C$4513,$F$80:$F$4513) -> 119 | K18: =LOOKUP(B18,$C$80:$C$4513,$D$80:$D$4513) -> DIAGNOSTICO DE ESPACIO PUBLICO Y CICLORRUTA Y PUENTES PEATONALES (VISUAL). INCLUYE LEVANTAMIENTO TOPOGRÁFICO Y GEORREFERENCIACIÓN DE ELEMENTOS | L18: =LOOKUP(B18,$C$80:$C$4513,$E$80:$E$4513) -> M2
B19: 3688 | C19: =C18+1 -> 1002 | D19: =K19 -> DESMONTE Y REINSTALACION DE SEÑALES VIALES (INCLUYE DADO DE ANCLAJE) | E19: =L19 -> UN | F19: 8 | G19: =J19 -> 41764 | H19: =ROUND(F19*G19,0) -> 334112 | J19: =LOOKUP(B19,$C$80:$C$4513,$F$80:$F$4513) -> 41764 | K19: =LOOKUP(B19,$C$80:$C$4513,$D$80:$D$4513) -> DESMONTE Y REINSTALACION DE SEÑALES VIALES (INCLUYE DADO DE ANCLAJE) | L19: =LOOKUP(B19,$C$80:$C$4513,$E$80:$E$4513) -> UN
B20: 6153 | C20: =C18+1 -> 1002 | D20: =K20 -> CORTE Y RETIRO DE CÉSPED (HASTA 40 CM - INCLUYE RETIRO DE DESPERDICIOS). NO INCLUYE TRANSPORTE Y RETIRO DE SOBRANTES. | E20: =L20 -> M2 | F20: =(P23+P29+P35)*O21 -> 222.75 | G20: =J20 -> 616 | H20: =ROUND(F20*G20,0) -> 137214 | J20: =LOOKUP(B20,$C$80:$C$4513,$F$80:$F$4513) -> 616 | K20: =LOOKUP(B20,$C$80:$C$4513,$D$80:$D$4513) -> CORTE Y RETIRO DE CÉSPED (HASTA 40 CM - INCLUYE RETIRO DE DESPERDICIOS). NO INCLUYE TRANSPORTE Y RETIRO DE SOBRANTES. | L20: =LOOKUP(B20,$C$80:$C$4513,$E$80:$E$4513) -> M2
C21: 2 | D21: Mantenimiento y Conservacion de Elementos Estructurales | H21: =SUM(H22:H29) -> 29958663 | N21: GEOMETRIA GENERAL | O21: 2 | P21: AREA | R21: Carpeta de rodadura
B22: 4947 | C22: =C21*1000+1 -> 2001 | D22: =K22 -> LAVADO DE ESTRUCTURA EN CONCRETO Y/O METÁLICAS. INCLUYE ALQUILER DE HIDROLAVADORA 1300W MOTOR A GASOLINA PRESIÓN 3200 PSI. INCLUYE IMPLEMENTOS DE ASEO (DETERGENTE INDUSTRIAL), AGUA, COMBUSTIBLE Y MANO DE OBRA. | E22: =L22 -> M2 | F22: =(P23+P29+P35+(S26*S27*3*O25)+(S28*S27*3*3))*O21*1.05 -> 693.86625 | G22: =J22 -> 3972 | H22: =ROUND(F22*G22,0) -> 2756037 | J22: =LOOKUP(B22,$C$80:$C$4513,$F$80:$F$4513) -> 3972 | K22: =LOOKUP(B22,$C$80:$C$4513,$D$80:$D$4513) -> LAVADO DE ESTRUCTURA EN CONCRETO Y/O METÁLICAS. INCLUYE ALQUILER DE HIDROLAVADORA 1300W MOTOR A GASOLINA PRESIÓN 3200 PSI. INCLUYE IMPLEMENTOS DE ASEO (DETERGENTE INDUSTRIAL), AGUA, COMBUSTIBLE Y MANO DE OBRA. | L22: =LOOKUP(B22,$C$80:$C$4513,$E$80:$E$4513) -> M2 | N22: ANCHO | O22: 2.25 | R22: No. De juntas | S22: 2
B23: 6275 | C23: =C22+1 -> 2002 | D23: =K23 -> REPARACIÓN DE SOLDADURAS JUNTAS A FILETE, CON REMOCIÓN DE PINTURA EXISTENTE, REMOCIÓN DEL DEFECTO MEDIANTE DISCO DE CORTE DE 1/8" PARA GENERAR BISEL Y LUEGO DISCO DE PULIDO DE 1/4" PARA MEJORAR INCLINACIÓN DE CARAS Y FACILITAR PROCESO DE COLOCACIÓN DE MATERIAL DE APORTE. INCLUYE: GATEO MEDIANTE TUBERÍA Y GATOS HIDRÁULICO DE 100 TON EN 2 PUNTOS PARA SOPORTE DE TRAMOS A REPARAR; REMOCIÓN DE PINTURA, APLICACIÓN DE CORDÓN DE SOLDADURA 7018 X1/8" CON ADECUADA PENETRACIÓN; APLICACIÓN DE CORDÓN DE PRESENTACIÓN EN 5/32", APLICACIÓN DE ANTICORROSIVO A BASE DE CROMATO DE ZINC Y ESMALTE EN 5 MILS; EQUIPO, ANDAMIO, MATERIALES, HERRAMIENTA Y MANO DE OBRA. | E23: =L23 -> ML | F23: =O23*4*O21*0.2*1.1 -> 87.12 | G23: =J23 -> 103779 | H23: =ROUND(F23*G23,0) -> 9041226 | J23: =LOOKUP(B23,$C$80:$C$4513,$F$80:$F$4513) -> 103779 | K23: =LOOKUP(B23,$C$80:$C$4513,$D$80:$D$4513) -> REPARACIÓN DE SOLDADURAS JUNTAS A FILETE, CON REMOCIÓN DE PINTURA EXISTENTE, REMOCIÓN DEL DEFECTO MEDIANTE DISCO DE CORTE DE 1/8" PARA GENERAR BISEL Y LUEGO DISCO DE PULIDO DE 1/4" PARA MEJORAR INCLINACIÓN DE CARAS Y FACILITAR PROCESO DE COLOCACIÓN DE MATERIAL DE APORTE. INCLUYE: GATEO MEDIANTE TUBERÍA Y GATOS HIDRÁULICO DE 100 TON EN 2 PUNTOS PARA SOPORTE DE TRAMOS A REPARAR; REMOCIÓN DE PINTURA, APLICACIÓN DE CORDÓN DE SOLDADURA 7018 X1/8" CON ADECUADA PENETRACIÓN; APLICACIÓN DE CORDÓN DE PRESENTACIÓN EN 5/32", APLICACIÓN DE ANTICORROSIVO A BASE DE CROMATO DE ZINC Y ESMALTE EN 5 MILS; EQUIPO, ANDAMIO, MATERIALES, HERRAMIENTA Y MANO DE OBRA. | L23: =LOOKUP(B23,$C$80:$C$4513,$E$80:$E$4513) -> ML | N23: LONGITUD | O23: 49.5 | P23: =O23*O22 -> 111.375 | R23: Sendero Peatonal (ancho) | S23: 2.25
B24: 9055 | C24: =C23+1 -> 2003 | D24: =K24 -> SUMINISTRO Y APLICACIÓN DE UNA CAPA DE ANTICORROSIVO DE 3MM DE ESPESOR DE PELÍCULA SECA IMPRIMANTE EPÓXICO, PREVIA PREPARACIÓN DE LA SUPERFICIE MEDIANTE LIMPIEZA MANUAL O MECÁNICA, SEGÚN LAS NORMAS SSPC-SP2 | E24: =L24 -> ML | F24: =O23*O21*3*1.1 -> 326.7 | G24: =J24 -> 11882 | H24: =ROUND(F24*G24,0) -> 3881849 | J24: =LOOKUP(B24,$C$80:$C$4513,$F$80:$F$4513) -> 11882 | K24: =LOOKUP(B24,$C$80:$C$4513,$D$80:$D$4513) -> SUMINISTRO Y APLICACIÓN DE UNA CAPA DE ANTICORROSIVO DE 3MM DE ESPESOR DE PELÍCULA SECA IMPRIMANTE EPÓXICO, PREVIA PREPARACIÓN DE LA SUPERFICIE MEDIANTE LIMPIEZA MANUAL O MECÁNICA, SEGÚN LAS NORMAS SSPC-SP2 | L24: =LOOKUP(B24,$C$80:$C$4513,$E$80:$E$4513) -> ML | N24: LUZ MAYOR | O24: 32.45 | R24: barandas alto | S24: 1
B25: 6262 | C25: =C24+1 -> 2004 | D25: =K25 -> PINTURA ACRÍLICA, MONOCOMPONENTE, IMPERMEABLE, ELÁSTICO, DE ALTA RESISTENCIA A LA CARBONATACIÓN, LAVABLE, CONSUMO DE 0,32 GL/M2, PARA UN ESPESOR DE PELÍCULA SECA DE 12 MILS. INCLUYE TODOS LOS COSTOS DE SUMINISTRO DE MATERIALES, EQUIPOS (COMPRESOR, PISTOLA, RODILLO, ANDAMIOS, PROVISIONAL DE ENERGÍA), TRANSPORTES, MANEJO, ALMACENAMIENTO, DESPERDICIOS Y MANO DE OBRA. | E25: =L25 -> M2 | F25: =((O23*S27)+(O23*1.2*2))*O21*1.1 -> 506.385 | G25: =J25 -> 28199 | H25: =ROUND(F25*G25,0) -> 14279551 | J25: =LOOKUP(B25,$C$80:$C$4513,$F$80:$F$4513) -> 28199 | K25: =LOOKUP(B25,$C$80:$C$4513,$D$80:$D$4513) -> PINTURA ACRÍLICA, MONOCOMPONENTE, IMPERMEABLE, ELÁSTICO, DE ALTA RESISTENCIA A LA CARBONATACIÓN, LAVABLE, CONSUMO DE 0,32 GL/M2, PARA UN ESPESOR DE PELÍCULA SECA DE 12 MILS. INCLUYE TODOS LOS COSTOS DE SUMINISTRO DE MATERIALES, EQUIPOS (COMPRESOR, PISTOLA, RODILLO, ANDAMIOS, PROVISIONAL DE ENERGÍA), TRANSPORTES, MANEJO, ALMACENAMIENTO, DESPERDICIOS Y MANO DE OBRA. | L25: =LOOKUP(B25,$C$80:$C$4513,$E$80:$E$4513) -> M2 | N25: NUMERO DE LUCES | O25: 1 | R25: Elementos estructurales
B26: 6352 | C26: =C25+1 -> 2005 | D26: =K26 -> PINTURA RECUBRIMIENTO ELÁSTICO EN RESINA ACRÍLICA APLICADA SOBRE CONCRETO. DOS (2) MANOS. INCLUYE SUMINISTRO Y COLOCACIÓN DE PINTURA. | E26: =L26 -> M2 | F26: 0 | G26: =J26 -> 74080 | H26: =ROUND(F26*G26,0) -> 0 | J26: =LOOKUP(B26,$C$80:$C$4513,$F$80:$F$4513) -> 74080 | K26: =LOOKUP(B26,$C$80:$C$4513,$D$80:$D$4513) -> PINTURA RECUBRIMIENTO ELÁSTICO EN RESINA ACRÍLICA APLICADA SOBRE CONCRETO. DOS (2) MANOS. INCLUYE SUMINISTRO Y COLOCACIÓN DE PINTURA. | L26: =LOOKUP(B26,$C$80:$C$4513,$E$80:$E$4513) -> M2 | N26: ACCESOS | R26: viga en I | S26: 32.45
J27: =LOOKUP(B27,$C$80:$C$4513,$F$80:$F$4513) -> #N/A | K27: =LOOKUP(B27,$C$80:$C$4513,$D$80:$D$4513) -> #N/A | L27: =LOOKUP(B27,$C$80:$C$4513,$E$80:$E$4513) -> #N/A | N27: No. De escaleras | R27: tablero ancho | S27: 2.25
J28: =LOOKUP(B28,$C$80:$C$4513,$F$80:$F$4513) -> #N/A | K28: =LOOKUP(B28,$C$80:$C$4513,$D$80:$D$4513) -> #N/A | L28: =LOOKUP(B28,$C$80:$C$4513,$E$80:$E$4513) -> #N/A | N28: ancho | P28: ärea escaleras | R28: Apoyo en Concreto (pilar) altura mayor | S28: 0
J29: =LOOKUP(B29,$C$80:$C$4513,$F$80:$F$4513) -> #N/A | K29: =LOOKUP(B29,$C$80:$C$4513,$D$80:$D$4513) -> #N/A | L29: =LOOKUP(B29,$C$80:$C$4513,$E$80:$E$4513) -> #N/A | N29: longitud | P29: =O29*O28*O27 -> 0
C30: 3 | D30: Mantenimiento estructura metálica y Barandas | H30: =SUM(H31:H35) -> 20505594 | N30: No. De Rampas
B31: 4947 | C31: =C30*1000+1 -> 3001 | D31: =K31 -> LAVADO DE ESTRUCTURA EN CONCRETO Y/O METÁLICAS. INCLUYE ALQUILER DE HIDROLAVADORA 1300W MOTOR A GASOLINA PRESIÓN 3200 PSI. INCLUYE IMPLEMENTOS DE ASEO (DETERGENTE INDUSTRIAL), AGUA, COMBUSTIBLE Y MANO DE OBRA. | E31: =L31 -> M2 | F31: =(O23*4*O21)*1.05 -> 415.8 | G31: =J31 -> 3972 | H31: =ROUND(F31*G31,0) -> 1651558 | J31: =LOOKUP(B31,$C$80:$C$4513,$F$80:$F$4513) -> 3972 | K31: =LOOKUP(B31,$C$80:$C$4513,$D$80:$D$4513) -> LAVADO DE ESTRUCTURA EN CONCRETO Y/O METÁLICAS. INCLUYE ALQUILER DE HIDROLAVADORA 1300W MOTOR A GASOLINA PRESIÓN 3200 PSI. INCLUYE IMPLEMENTOS DE ASEO (DETERGENTE INDUSTRIAL), AGUA, COMBUSTIBLE Y MANO DE OBRA. | L31: =LOOKUP(B31,$C$80:$C$4513,$E$80:$E$4513) -> M2 | N31: Ancho | P31: Área Escaleras
B32: 5395 | C32: =C31+1 -> 3002 | D32: =K32 -> BARANDAS. DESMONTE E INSTALACION. INCLUYE ACOPIO EN EL FRENTE DE OBRA. (NO INCLUYE TRASLADO DEL MATERIAL SOBRANTE, NI RETIRO DE ESCOMBROS). | E32: =L32 -> ML | F32: =(O23*2*O21)*1.05 -> 207.9 | G32: =J32 -> 35220 | H32: =ROUND(F32*G32,0) -> 7322238 | J32: =LOOKUP(B32,$C$80:$C$4513,$F$80:$F$4513) -> 35220 | K32: =LOOKUP(B32,$C$80:$C$4513,$D$80:$D$4513) -> BARANDAS. DESMONTE E INSTALACION. INCLUYE ACOPIO EN EL FRENTE DE OBRA. (NO INCLUYE TRASLADO DEL MATERIAL SOBRANTE, NI RETIRO DE ESCOMBROS). | L32: =LOOKUP(B32,$C$80:$C$4513,$E$80:$E$4513) -> ML
B33: 5952 | C33: =C32+1 -> 3003 | D33: =K33 -> BARANDA METÁLICA M81 (INSTALADO Y PINTADO) | E33: =L33 -> ML | F33: 0 | G33: =J33 -> 273700 | H33: =ROUND(F33*G33,0) -> 0 | J33: =LOOKUP(B33,$C$80:$C$4513,$F$80:$F$4513) -> 273700 | K33: =LOOKUP(B33,$C$80:$C$4513,$D$80:$D$4513) -> BARANDA METÁLICA M81 (INSTALADO Y PINTADO) | L33: =LOOKUP(B33,$C$80:$C$4513,$E$80:$E$4513) -> ML
B34: 9055 | C34: =C33+1 -> 3004 | D34: =K34 -> SUMINISTRO Y APLICACIÓN DE UNA CAPA DE ANTICORROSIVO DE 3MM DE ESPESOR DE PELÍCULA SECA IMPRIMANTE EPÓXICO, PREVIA PREPARACIÓN DE LA SUPERFICIE MEDIANTE LIMPIEZA MANUAL O MECÁNICA, SEGÚN LAS NORMAS SSPC-SP2 | E34: =L34 -> ML | F34: =(O23*8)*1.05 -> 415.8 | G34: =J34 -> 11882 | H34: =ROUND(F34*G34,0) -> 4940536 | J34: =LOOKUP(B34,$C$80:$C$4513,$F$80:$F$4513) -> 11882 | K34: =LOOKUP(B34,$C$80:$C$4513,$D$80:$D$4513) -> SUMINISTRO Y APLICACIÓN DE UNA CAPA DE ANTICORROSIVO DE 3MM DE ESPESOR DE PELÍCULA SECA IMPRIMANTE EPÓXICO, PREVIA PREPARACIÓN DE LA SUPERFICIE MEDIANTE LIMPIEZA MANUAL O MECÁNICA, SEGÚN LAS NORMAS SSPC-SP2 | L34: =LOOKUP(B34,$C$80:$C$4513,$E$80:$E$4513) -> ML
B35: 6294 | C35: =C33+1 -> 3004 | D35: =K35 -> REPARACIÓN DE BARANDAS EXISTENTES. INCLUYE LIMPIEZA, MORTERO DE REPARACIÓN, INHIBIDOR DE CORROSIÓN, PINTURA ANTICARBONATACIÓN, SUMINISTRO DE MANO DE OBRA, EQUIPOS Y MANEJO DE DESPERDICIOS. | E35: =L35 -> ML | F35: =(O23*4)*1.05 -> 207.9 | G35: =J35 -> 31704 | H35: =ROUND(F35*G35,0) -> 6591262 | J35: =LOOKUP(B35,$C$80:$C$4513,$F$80:$F$4513) -> 31704 | K35: =LOOKUP(B35,$C$80:$C$4513,$D$80:$D$4513) -> REPARACIÓN DE BARANDAS EXISTENTES. INCLUYE LIMPIEZA, MORTERO DE REPARACIÓN, INHIBIDOR DE CORROSIÓN, PINTURA ANTICARBONATACIÓN, SUMINISTRO DE MANO DE OBRA, EQUIPOS Y MANEJO DE DESPERDICIOS. | L35: =LOOKUP(B35,$C$80:$C$4513,$E$80:$E$4513) -> ML | N35: Longitud | P35: =O35*O31*O30 -> 0
C36: 4 | D36: Senderos peatonales | H36: =SUM(H37:H59) -> 25364638
B37: 3011 | C37: =C36*1000+1 -> 4001 | D37: =K37 -> DEMOLICION MANUAL SARDINEL EXISTENTE (INCLUYE CARGUE). NO INCLUYE TRANSPORTE Y DISPOSICIÓN FINAL DE SOBRANTES. | E37: =L37 -> ML | F37: =O22*3*1.05 -> 7.0875 | G37: =J37 -> 4523 | H37: =ROUND(F37*G37,0) -> 32057 | J37: =LOOKUP(B37,$C$80:$C$4513,$F$80:$F$4513) -> 4523 | K37: =LOOKUP(B37,$C$80:$C$4513,$D$80:$D$4513) -> DEMOLICION MANUAL SARDINEL EXISTENTE (INCLUYE CARGUE). NO INCLUYE TRANSPORTE Y DISPOSICIÓN FINAL DE SOBRANTES. | L37: =LOOKUP(B37,$C$80:$C$4513,$E$80:$E$4513) -> ML
B38: 3012 | C38: =C37+1 -> 4002 | D38: =K38 -> DEMOLICIÓN PISOS DE CONCRETO (ESPESOR VARIABLE HASTA 0.10 M. INCLUYE CARGUE). NO INCLUYE TRANSPORTE Y DISPOSICIÓN FINAL DE SOBRANTES. | E38: =L38 -> M2 | F38: =O22*2.5*3*1.05 -> 17.71875 | G38: =J38 -> 6331 | H38: =ROUND(F38*G38,0) -> 112177 | J38: =LOOKUP(B38,$C$80:$C$4513,$F$80:$F$4513) -> 6331 | K38: =LOOKUP(B38,$C$80:$C$4513,$D$80:$D$4513) -> DEMOLICIÓN PISOS DE CONCRETO (ESPESOR VARIABLE HASTA 0.10 M. INCLUYE CARGUE). NO INCLUYE TRANSPORTE Y DISPOSICIÓN FINAL DE SOBRANTES. | L38: =LOOKUP(B38,$C$80:$C$4513,$E$80:$E$4513) -> M2
B39: 6224 | C39: =C38+1 -> 4003 | D39: =K39 -> DEMOLICIÓN RECUBRIMIENTO ESTRUCTURAL DE ZONAS CON DESCASCARAMIENTO, HASTA DESCUBRIR EL REFUERZO EXISTENTE VERIFICANDO PH EN CONCRETO. INCLUYE TODOS LOS COSTOS DE SUMINISTRO DE MATERIALES, EQUIPOS, CARGUE Y TRANSPORTE DE MATERIALES SOBRANTES A BOTADERO AUTORIZADO Y MANO DE OBRA. | E39: =L39 -> M2 | F39: =P23*O21*1.05 -> 233.8875 | G39: =J39 -> 11514 | H39: =ROUND(F39*G39,0) -> 2692981 | J39: =LOOKUP(B39,$C$80:$C$4513,$F$80:$F$4513) -> 11514 | K39: =LOOKUP(B39,$C$80:$C$4513,$D$80:$D$4513) -> DEMOLICIÓN RECUBRIMIENTO ESTRUCTURAL DE ZONAS CON DESCASCARAMIENTO, HASTA DESCUBRIR EL REFUERZO EXISTENTE VERIFICANDO PH EN CONCRETO. INCLUYE TODOS LOS COSTOS DE SUMINISTRO DE MATERIALES, EQUIPOS, CARGUE Y TRANSPORTE DE MATERIALES SOBRANTES A BOTADERO AUTORIZADO Y MANO DE OBRA. | L39: =LOOKUP(B39,$C$80:$C$4513,$E$80:$E$4513) -> M2
B40: 6281 | C40: =C39+1 -> 4004 | D40: =K40 -> RESTITUCIÓN RECUBRIMIENTO DE TABLERO O VIGAS CABEZAL, EN ZONAS DE SANEADO DE REFUERZO O DONDE EXISTA PÉRDIDA DE RECUBRIMIENTO, CON MORTERO MODIFICADO CON RESINA ACRÍLICA DE DOS COMPONENTES PARA REPARACIONES ESTRUCTURALES. INCLUYE TODOS LOS COSTOS DE SUMINISTRO DE MATERIALES, EQUIPOS, HERRAMIENTA MENOR, ANDAMIOS, LIMPIEZA AIRE A PRESIÓN, TRANSPORTES, MANEJO, ALMACENAMIENTO, DESPERDICIOS, CARGUE Y TRANSPORTE DE MATERIALES SOBRANTES A BOTADERO AUTORIZADO Y MANO DE OBRA. | E40: =L40 -> M2 | F40: =F39 -> 233.8875 | G40: =J40 -> 44431 | H40: =ROUND(F40*G40,0) -> 10391856 | J40: =LOOKUP(B40,$C$80:$C$4513,$F$80:$F$4513) -> 44431 | K40: =LOOKUP(B40,$C$80:$C$4513,$D$80:$D$4513) -> RESTITUCIÓN RECUBRIMIENTO DE TABLERO O VIGAS CABEZAL, EN ZONAS DE SANEADO DE REFUERZO O DONDE EXISTA PÉRDIDA DE RECUBRIMIENTO, CON MORTERO MODIFICADO CON RESINA ACRÍLICA DE DOS COMPONENTES PARA REPARACIONES ESTRUCTURALES. INCLUYE TODOS LOS COSTOS DE SUMINISTRO DE MATERIALES, EQUIPOS, HERRAMIENTA MENOR, ANDAMIOS, LIMPIEZA AIRE A PRESIÓN, TRANSPORTES, MANEJO, ALMACENAMIENTO, DESPERDICIOS, CARGUE Y TRANSPORTE DE MATERIALES SOBRANTES A BOTADERO AUTORIZADO Y MANO DE OBRA. | L40: =LOOKUP(B40,$C$80:$C$4513,$E$80:$E$4513) -> M2
B41: 5426 | C41: =C40+1 -> 4005 | D41: =K41 -> CONCRETO 4000 PSI GRAVA COMÚN PARA RAMPAS Y ESCALERAS (PREMEZCLADO. INCL. SUMINISTRO, FORMALETEO Y COLOCACIÓN. NO INCL. REFUERZO, CURADO). | E41: =L41 -> M3 | F41: =F38*0.1 -> 1.771875 | G41: =J41 -> 621990 | H41: =ROUND(F41*G41,0) -> 1102089 | J41: =LOOKUP(B41,$C$80:$C$4513,$F$80:$F$4513) -> 621990 | K41: =LOOKUP(B41,$C$80:$C$4513,$D$80:$D$4513) -> CONCRETO 4000 PSI GRAVA COMÚN PARA RAMPAS Y ESCALERAS (PREMEZCLADO. INCL. SUMINISTRO, FORMALETEO Y COLOCACIÓN. NO INCL. REFUERZO, CURADO). | L41: =LOOKUP(B41,$C$80:$C$4513,$E$80:$E$4513) -> M3
B42: 7992 | C42: =C41+1 -> 4006 | D42: =K42 -> REPOSICIÓN DE SELLO DE JUNTAS DE PAVIMENTO DE CONCRETO HIDRÁULICO, ANCHO HASTA DE 5/8" (16 MM). (INCLUYE LIMPIEZA, SUMINISTRO E INSTALACIÓN DE FONDO Y SELLANTE). | E42: =L42 -> ML | F42: 0 | G42: =J42 -> 15497 | H42: =ROUND(F42*G42,0) -> 0 | J42: =LOOKUP(B42,$C$80:$C$4513,$F$80:$F$4513) -> 15497 | K42: =LOOKUP(B42,$C$80:$C$4513,$D$80:$D$4513) -> REPOSICIÓN DE SELLO DE JUNTAS DE PAVIMENTO DE CONCRETO HIDRÁULICO, ANCHO HASTA DE 5/8" (16 MM). (INCLUYE LIMPIEZA, SUMINISTRO E INSTALACIÓN DE FONDO Y SELLANTE). | L42: =LOOKUP(B42,$C$80:$C$4513,$E$80:$E$4513) -> ML
B43: 4239 | C43: =C42+1 -> 4007 | D43: =K43 -> CORTE Y AMPLIACIÓN DE JUNTA EN PAVIMENTO DE CONCRETO HIDRAULICO | E43: =L43 -> ML | F43: =((O22*15))*O21 -> 67.5 | G43: =J43 -> 4712 | H43: =ROUND(F43*G43,0) -> 318060 | J43: =LOOKUP(B43,$C$80:$C$4513,$F$80:$F$4513) -> 4712 | K43: =LOOKUP(B43,$C$80:$C$4513,$D$80:$D$4513) -> CORTE Y AMPLIACIÓN DE JUNTA EN PAVIMENTO DE CONCRETO HIDRAULICO | L43: =LOOKUP(B43,$C$80:$C$4513,$E$80:$E$4513) -> ML
B44: 3837 | C44: =C43+1 -> 4008 | D44: =K44 -> SELLADO DE JUNTAS EN PAVIMENTO DE CONCRETO HIDRAULICO (INCLUYE LIMPIEZA, SUMINISTRO E INSTALACIÓN DE FONDO Y SELLANTE) | E44: =L44 -> ML | F44: =F43 -> 67.5 | G44: =J44 -> 10949 | H44: =ROUND(F44*G44,0) -> 739058 | J44: =LOOKUP(B44,$C$80:$C$4513,$F$80:$F$4513) -> 10949 | K44: =LOOKUP(B44,$C$80:$C$4513,$D$80:$D$4513) -> SELLADO DE JUNTAS EN PAVIMENTO DE CONCRETO HIDRAULICO (INCLUYE LIMPIEZA, SUMINISTRO E INSTALACIÓN DE FONDO Y SELLANTE) | L44: =LOOKUP(B44,$C$80:$C$4513,$E$80:$E$4513) -> ML
...

Sheet 3. Presupuesto 24119460
B2: FORMATO
B3: Presupuesto General de Obras - Costos Directos
B4: CÓDIGO | D4: PROCESO | G4: VERSIÓN
B5: FO-DP-01 | D5: Conservación de puentes | G5: 1 | H5: ALCALDÍA LOCAL DE KENNEDY
B7: ALCALDÍA LOCAL DE KENNEDY
B8: ÁREA DE GESTIÓN DE DESARROLLO LOCAL KENNEDY
B9: OFICINA DE INFRAESTRUCTURA DEL FDLK
B10: OBJETO DE LA LICITACIÓN | D10: ='D. ENTRADA obra'!C7 -> "EJECUTAR A MONTO AGOTABLE POR EL SISTEMA DE PRECIOS UNITARIOS LAS OBRAS Y ACTIVIDADES PARA EL DIAGNOSTICO Y LA CONSERVACIÓN DE PUENTES VEHICULARES Y/O PEATONALES SOBRE CUERPOS DE AGUA DE LA LOCALIDAD DE KENNEDY”
B12: Puente Peatonal 24119460 - Avenida de los Muiscas por KR 95 A (Canal de la 38 Sur)
E14: Fecha de Actualización: 10 de Octubre de 2022 | J14: L= | K14: 32.2
J15: W= | K15: 9.9
B16: CODIGO IDU | C16: ÍTEM | D16: DESCRIPCIÓN | E16: UNIDAD | F16: CANTIDAD | G16: PRECIO UNITARIO | H16: VALOR TOTAL | J16: luces | K16: 1
C17: 1 | D17: Preliminares | H17: =SUM(H18:H20) -> 536849
B18: 6162 | C18: =C17*1000+1 -> 1001 | D18: =K18 -> DIAGNOSTICO DE ESPACIO PUBLICO Y CICLORRUTA Y PUENTES PEATONALES (VISUAL). INCLUYE LEVANTAMIENTO TOPOGRÁFICO Y GEORREFERENCIACIÓN DE ELEMENTOS | E18: =L18 -> M2 | F18: =((P23+P29+P35)*O21)+1000 -> 1113.928 | G18: =J18 -> 119 | H18: =ROUND(F18*G18,0) -> 132557 | J18: =LOOKUP(B18,$C$80:$C$4513,$F$80:$F$4513) -> 119 | K18: =LOOKUP(B18,$C$80:$C$4513,$D$80:$D$4513) -> DIAGNOSTICO DE ESPACIO PUBLICO Y CICLORRUTA Y PUENTES PEATONALES (VISUAL). INCLUYE LEVANTAMIENTO TOPOGRÁFICO Y GEORREFERENCIACIÓN DE ELEMENTOS | L18: =LOOKUP(B18,$C$80:$C$4513,$E$80:$E$4513) -> M2
B19: 3688 | C19: =C18+1 -> 1002 | D19: =K19 -> DESMONTE Y REINSTALACION DE SEÑALES VIALES (INCLUYE DADO DE ANCLAJE) | E19: =L19 -> UN | F19: 8 | G19: =J19 -> 41764 | H19: =ROUND(F19*G19,0) -> 334112 | J19: =LOOKUP(B19,$C$80:$C$4513,$F$80:$F$4513) -> 41764 | K19: =LOOKUP(B19,$C$80:$C$4513,$D$80:$D$4513) -> DESMONTE Y REINSTALACION DE SEÑALES VIALES (INCLUYE DADO DE ANCLAJE) | L19: =LOOKUP(B19,$C$80:$C$4513,$E$80:$E$4513) -> UN
B20: 6153 | C20: =C18+1 -> 1002 | D20: =K20 -> CORTE Y RETIRO DE CÉSPED (HASTA 40 CM - INCLUYE RETIRO DE DESPERDICIOS). NO INCLUYE TRANSPORTE Y RETIRO DE SOBRANTES. | E20: =L20 -> M2 | F20: =(P23+P29+P35)*O21 -> 113.928 | G20: =J20 -> 616 | H20: =ROUND(F20*G20,0) -> 70180 | J20: =LOOKUP(B20,$C$80:$C$4513,$F$80:$F$4513) -> 616 | K20: =LOOKUP(B20,$C$80:$C$4513,$D$80:$D$4513) -> CORTE Y RETIRO DE CÉSPED (HASTA 40 CM - INCLUYE RETIRO DE DESPERDICIOS). NO INCLUYE TRANSPORTE Y RETIRO DE SOBRANTES. | L20: =LOOKUP(B20,$C$80:$C$4513,$E$80:$E$4513) -> M2
C21: 2 | D21: Mantenimiento y Conservacion de Elementos Estructurales | H21: =SUM(H22:H29) -> 13089246 | N21: GEOMETRIA GENERAL | O21: 2 | P21: AREA | R21: Carpeta de rodadura
B22: 4947 | C22: =C21*1000+1 -> 2001 | D22: =K22 -> LAVADO DE ESTRUCTURA EN CONCRETO Y/O METÁLICAS. INCLUYE ALQUILER DE HIDROLAVADORA 1300W MOTOR A GASOLINA PRESIÓN 3200 PSI. INCLUYE IMPLEMENTOS DE ASEO (DETERGENTE INDUSTRIAL), AGUA, COMBUSTIBLE Y MANO DE OBRA. | E22: =L22 -> M2 | F22: =(P23+P29+P35+(S26*S27*3*O25)+(S28*S27*3*3))*O21*1.05 -> 431.28414 | G22: =J22 -> 3972 | H22: =ROUND(F22*G22,0) -> 1713061 | J22: =LOOKUP(B22,$C$80:$C$4513,$F$80:$F$4513) -> 3972 | K22: =LOOKUP(B22,$C$80:$C$4513,$D$80:$D$4513) -> LAVADO DE ESTRUCTURA EN CONCRETO Y/O METÁLICAS. INCLUYE ALQUILER DE HIDROLAVADORA 1300W MOTOR A GASOLINA PRESIÓN 3200 PSI. INCLUYE IMPLEMENTOS DE ASEO (DETERGENTE INDUSTRIAL), AGUA, COMBUSTIBLE Y MANO DE OBRA. | L22: =LOOKUP(B22,$C$80:$C$4513,$E$80:$E$4513) -> M2 | N22: ANCHO | O22: 2.02 | R22: No. De juntas | S22: 2
B23: 6275 | C23: =C22+1 -> 2002 | D23: =K23 -> REPARACIÓN DE SOLDADURAS JUNTAS A FILETE, CON REMOCIÓN DE PINTURA EXISTENTE, REMOCIÓN DEL DEFECTO MEDIANTE DISCO DE CORTE DE 1/8" PARA GENERAR BISEL Y LUEGO DISCO DE PULIDO DE 1/4" PARA MEJORAR INCLINACIÓN DE CARAS Y FACILITAR PROCESO DE COLOCACIÓN DE MATERIAL DE APORTE. INCLUYE: GATEO MEDIANTE TUBERÍA Y GATOS HIDRÁULICO DE 100 TON EN 2 PUNTOS PARA SOPORTE DE TRAMOS A REPARAR; REMOCIÓN DE PINTURA, APLICACIÓN DE CORDÓN DE SOLDADURA 7018 X1/8" CON ADECUADA PENETRACIÓN; APLICACIÓN DE CORDÓN DE PRESENTACIÓN EN 5/32", APLICACIÓN DE ANTICORROSIVO A BASE DE CROMATO DE ZINC Y ESMALTE EN 5 MILS; EQUIPO, ANDAMIO, MATERIALES, HERRAMIENTA Y MANO DE OBRA. | E23: =L23 -> ML | F23: =O23*4*O21*0.3*1.1 -> 37.224 | G23: =J23 -> 103779 | H23: =ROUND(F23*G23,0) -> 3863069 | J23: =LOOKUP(B23,$C$75:$C$4506,$F$75:$F$4506) -> 103779 | K23: =LOOKUP(B23,$C$75:$C$4506,$D$75:$D$4506) -> REPARACIÓN DE SOLDADURAS JUNTAS A FILETE, CON REMOCIÓN DE PINTURA EXISTENTE, REMOCIÓN DEL DEFECTO MEDIANTE DISCO DE CORTE DE 1/8" PARA GENERAR BISEL Y LUEGO DISCO DE PULIDO DE 1/4" PARA MEJORAR INCLINACIÓN DE CARAS Y FACILITAR PROCESO DE COLOCACIÓN DE MATERIAL DE APORTE. INCLUYE: GATEO MEDIANTE TUBERÍA Y GATOS HIDRÁULICO DE 100 TON EN 2 PUNTOS PARA SOPORTE DE TRAMOS A REPARAR; REMOCIÓN DE PINTURA, APLICACIÓN DE CORDÓN DE SOLDADURA 7018 X1/8" CON ADECUADA PENETRACIÓN; APLICACIÓN DE CORDÓN DE PRESENTACIÓN EN 5/32", APLICACIÓN DE ANTICORROSIVO A BASE DE CROMATO DE ZINC Y ESMALTE EN 5 MILS; EQUIPO, ANDAMIO, MATERIALES, HERRAMIENTA Y MANO DE OBRA. | L23: =LOOKUP(B23,$C$75:$C$4506,$E$75:$E$4506) -> ML | N23: LONGITUD | O23: 14.1 | P23: =O23*O22*O21 -> 56.964 | R23: Sendero Peatonal (ancho) | S23: 2.02
B24: 9055 | C24: =C23+1 -> 2003 | D24: =K24 -> SUMINISTRO Y APLICACIÓN DE UNA CAPA DE ANTICORROSIVO DE 3MM DE ESPESOR DE PELÍCULA SECA IMPRIMANTE EPÓXICO, PREVIA PREPARACIÓN DE LA SUPERFICIE MEDIANTE LIMPIEZA MANUAL O MECÁNICA, SEGÚN LAS NORMAS SSPC-SP2 | E24: =L24 -> ML | F24: =O23*O21*3*1.1 -> 93.06 | G24: =J24 -> 11882 | H24: =ROUND(F24*G24,0) -> 1105739 | J24: =LOOKUP(B24,$C$75:$C$4506,$F$75:$F$4506) -> 11882 | K24: =LOOKUP(B24,$C$75:$C$4506,$D$75:$D$4506) -> SUMINISTRO Y APLICACIÓN DE UNA CAPA DE ANTICORROSIVO DE 3MM DE ESPESOR DE PELÍCULA SECA IMPRIMANTE EPÓXICO, PREVIA PREPARACIÓN DE LA SUPERFICIE MEDIANTE LIMPIEZA MANUAL O MECÁNICA, SEGÚN LAS NORMAS SSPC-SP2 | L24: =LOOKUP(B24,$C$75:$C$4506,$E$75:$E$4506) -> ML | N24: LUZ MAYOR | O24: 11.71 | R24: barandas alto | S24: 1.09
B25: 6262 | C25: =C24+1 -> 2004 | D25: =K25 -> PINTURA ACRÍLICA, MONOCOMPONENTE, IMPERMEABLE, ELÁSTICO, DE ALTA RESISTENCIA A LA CARBONATACIÓN, LAVABLE, CONSUMO DE 0,32 GL/M2, PARA UN ESPESOR DE PELÍCULA SECA DE 12 MILS. INCLUYE TODOS LOS COSTOS DE SUMINISTRO DE MATERIALES, EQUIPOS (COMPRESOR, PISTOLA, RODILLO, ANDAMIOS, PROVISIONAL DE ENERGÍA), TRANSPORTES, MANEJO, ALMACENAMIENTO, DESPERDICIOS Y MANO DE OBRA. | E25: =L25 -> M2 | F25: =((O23*S27)+(O23*1.2*2))*O21*1.1 -> 137.1084 | G25: =J25 -> 28199 | H25: =ROUND(F25*G25,0) -> 3866320 | J25: =LOOKUP(B25,$C$75:$C$4506,$F$75:$F$4506) -> 28199 | K25: =LOOKUP(B25,$C$75:$C$4506,$D$75:$D$4506) -> PINTURA ACRÍLICA, MONOCOMPONENTE, IMPERMEABLE, ELÁSTICO, DE ALTA RESISTENCIA A LA CARBONATACIÓN, LAVABLE, CONSUMO DE 0,32 GL/M2, PARA UN ESPESOR DE PELÍCULA SECA DE 12 MILS. INCLUYE TODOS LOS COSTOS DE SUMINISTRO DE MATERIALES, EQUIPOS (COMPRESOR, PISTOLA, RODILLO, ANDAMIOS, PROVISIONAL DE ENERGÍA), TRANSPORTES, MANEJO, ALMACENAMIENTO, DESPERDICIOS Y MANO DE OBRA. | L25: =LOOKUP(B25,$C$75:$C$4506,$E$75:$E$4506) -> M2 | N25: NUMERO DE LUCES | O25: 1 | R25: Elementos estructurales
B26: 6352 | C26: =C25+1 -> 2005 | D26: =K26 -> PINTURA RECUBRIMIENTO ELÁSTICO EN RESINA ACRÍLICA APLICADA SOBRE CONCRETO. DOS (2) MANOS. INCLUYE SUMINISTRO Y COLOCACIÓN DE PINTURA. | E26: =L26 -> M2 | F26: =S28*3.66*2*1.1 -> 34.30152 | G26: =J26 -> 74080 | H26: =ROUND(F26*G26,0) -> 2541057 | J26: =LOOKUP(B26,$C$75:$C$4506,$F$75:$F$4506) -> 74080 | K26: =LOOKUP(B26,$C$75:$C$4506,$D$75:$D$4506) -> PINTURA RECUBRIMIENTO ELÁSTICO EN RESINA ACRÍLICA APLICADA SOBRE CONCRETO. DOS (2) MANOS. INCLUYE SUMINISTRO Y COLOCACIÓN DE PINTURA. | L26: =LOOKUP(B26,$C$75:$C$4506,$E$75:$E$4506) -> M2 | N26: ACCESOS | R26: viga en I | S26: 11.71
J27: =LOOKUP(B27,$C$75:$C$4506,$F$75:$F$4506) -> #N/A | K27: =LOOKUP(B27,$C$75:$C$4506,$D$75:$D$4506) -> #N/A | L27: =LOOKUP(B27,$C$75:$C$4506,$E$75:$E$4506) -> #N/A | N27: No. De escaleras | R27: tablero ancho | S27: 2.02
J28: =LOOKUP(B28,$C$75:$C$4506,$F$75:$F$4506) -> #N/A | K28: =LOOKUP(B28,$C$75:$C$4506,$D$75:$D$4506) -> #N/A | L28: =LOOKUP(B28,$C$75:$C$4506,$E$75:$E$4506) -> #N/A | N28: ancho | P28: ärea escaleras | R28: Apoyo en Concreto (pilar) altura mayor | S28: 4.26
J29: =LOOKUP(B29,$C$75:$C$4506,$F$75:$F$4506) -> #N/A | K29: =LOOKUP(B29,$C$75:$C$4506,$D$75:$D$4506) -> #N/A | L29: =LOOKUP(B29,$C$75:$C$4506,$E$75:$E$4506) -> #N/A | N29: longitud | P29: =O29*O28*O27 -> 0
C30: 3 | D30: Mantenimiento Barandas | H30: =SUM(H31:H35) -> 5840987 | N30: No. De Rampas
B31: 4947 | C31: =C30*1000+1 -> 3001 | D31: =K31 -> LAVADO DE ESTRUCTURA EN CONCRETO Y/O METÁLICAS. INCLUYE ALQUILER DE HIDROLAVADORA 1300W MOTOR A GASOLINA PRESIÓN 3200 PSI. INCLUYE IMPLEMENTOS DE ASEO (DETERGENTE INDUSTRIAL), AGUA, COMBUSTIBLE Y MANO DE OBRA. | E31: =L31 -> M2 | F31: =(O23*4*O21)*1.05 -> 118.44 | G31: =J31 -> 3972 | H31: =ROUND(F31*G31,0) -> 470444 | J31: =LOOKUP(B31,$C$80:$C$4513,$F$80:$F$4513) -> 3972 | K31: =LOOKUP(B31,$C$80:$C$4513,$D$80:$D$4513) -> LAVADO DE ESTRUCTURA EN CONCRETO Y/O METÁLICAS. INCLUYE ALQUILER DE HIDROLAVADORA 1300W MOTOR A GASOLINA PRESIÓN 3200 PSI. INCLUYE IMPLEMENTOS DE ASEO (DETERGENTE INDUSTRIAL), AGUA, COMBUSTIBLE Y MANO DE OBRA. | L31: =LOOKUP(B31,$C$80:$C$4513,$E$80:$E$4513) -> M2 | N31: Ancho | P31: Área Escaleras
B32: 5395 | C32: =C31+1 -> 3002 | D32: =K32 -> BARANDAS. DESMONTE E INSTALACION. INCLUYE ACOPIO EN EL FRENTE DE OBRA. (NO INCLUYE TRASLADO DEL MATERIAL SOBRANTE, NI RETIRO DE ESCOMBROS). | E32: =L32 -> ML | F32: =(O23*2*O21)*1.05 -> 59.22 | G32: =J32 -> 35220 | H32: =ROUND(F32*G32,0) -> 2085728 | J32: =LOOKUP(B32,$C$80:$C$4513,$F$80:$F$4513) -> 35220 | K32: =LOOKUP(B32,$C$80:$C$4513,$D$80:$D$4513) -> BARANDAS. DESMONTE E INSTALACION. INCLUYE ACOPIO EN EL FRENTE DE OBRA. (NO INCLUYE TRASLADO DEL MATERIAL SOBRANTE, NI RETIRO DE ESCOMBROS). | L32: =LOOKUP(B32,$C$80:$C$4513,$E$80:$E$4513) -> ML
B33: 5952 | C33: =C32+1 -> 3003 | D33: =K33 -> BARANDA METÁLICA M81 (INSTALADO Y PINTADO) | E33: =L33 -> ML | F33: 0 | G33: =J33 -> 273700 | H33: =ROUND(F33*G33,0) -> 0 | J33: =LOOKUP(B33,$C$80:$C$4513,$F$80:$F$4513) -> 273700 | K33: =LOOKUP(B33,$C$80:$C$4513,$D$80:$D$4513) -> BARANDA METÁLICA M81 (INSTALADO Y PINTADO) | L33: =LOOKUP(B33,$C$80:$C$4513,$E$80:$E$4513) -> ML
B34: 9055 | C34: =C33+1 -> 3004 | D34: =K34 -> SUMINISTRO Y APLICACIÓN DE UNA CAPA DE ANTICORROSIVO DE 3MM DE ESPESOR DE PELÍCULA SECA IMPRIMANTE EPÓXICO, PREVIA PREPARACIÓN DE LA SUPERFICIE MEDIANTE LIMPIEZA MANUAL O MECÁNICA, SEGÚN LAS NORMAS SSPC-SP2 | E34: =L34 -> ML | F34: =(O23*8)*1.05 -> 118.44 | G34: =J34 -> 11882 | H34: =ROUND(F34*G34,0) -> 1407304 | J34: =LOOKUP(B34,$C$80:$C$4513,$F$80:$F$4513) -> 11882 | K34: =LOOKUP(B34,$C$80:$C$4513,$D$80:$D$4513) -> SUMINISTRO Y APLICACIÓN DE UNA CAPA DE ANTICORROSIVO DE 3MM DE ESPESOR DE PELÍCULA SECA IMPRIMANTE EPÓXICO, PREVIA PREPARACIÓN DE LA SUPERFICIE MEDIANTE LIMPIEZA MANUAL O MECÁNICA, SEGÚN LAS NORMAS SSPC-SP2 | L34: =LOOKUP(B34,$C$80:$C$4513,$E$80:$E$4513) -> ML
B35: 6294 | C35: =C33+1 -> 3004 | D35: =K35 -> REPARACIÓN DE BARANDAS EXISTENTES. INCLUYE LIMPIEZA, MORTERO DE REPARACIÓN, INHIBIDOR DE CORROSIÓN, PINTURA ANTICARBONATACIÓN, SUMINISTRO DE MANO DE OBRA, EQUIPOS Y MANEJO DE DESPERDICIOS. | E35: =L35 -> ML | F35: =(O23*4)*1.05 -> 59.22 | G35: =J35 -> 31704 | H35: =ROUND(F35*G35,0) -> 1877511 | J35: =LOOKUP(B35,$C$80:$C$4513,$F$80:$F$4513) -> 31704 | K35: =LOOKUP(B35,$C$80:$C$4513,$D$80:$D$4513) -> REPARACIÓN DE BARANDAS EXISTENTES. INCLUYE LIMPIEZA, MORTERO DE REPARACIÓN, INHIBIDOR DE CORROSIÓN, PINTURA ANTICARBONATACIÓN, SUMINISTRO DE MANO DE OBRA, EQUIPOS Y MANEJO DE DESPERDICIOS. | L35: =LOOKUP(B35,$C$80:$C$4513,$E$80:$E$4513) -> ML | N35: Longitud | P35: =O35*O31*O30 -> 0
C36: 4 | D36: Senderos peatonales | H36: =SUM(H37:H59) -> 52129114
B37: 3011 | C37: =C36*1000+1 -> 4001 | D37: =K37 -> DEMOLICION MANUAL SARDINEL EXISTENTE (INCLUYE CARGUE). NO INCLUYE TRANSPORTE Y DISPOSICIÓN FINAL DE SOBRANTES. | E37: =L37 -> ML | F37: =O22*3*1.05 -> 6.363 | G37: =J37 -> 4523 | H37: =ROUND(F37*G37,0) -> 28780 | J37: =LOOKUP(B37,$C$80:$C$4513,$F$80:$F$4513) -> 4523 | K37: =LOOKUP(B37,$C$80:$C$4513,$D$80:$D$4513) -> DEMOLICION MANUAL SARDINEL EXISTENTE (INCLUYE CARGUE). NO INCLUYE TRANSPORTE Y DISPOSICIÓN FINAL DE SOBRANTES. | L37: =LOOKUP(B37,$C$80:$C$4513,$E$80:$E$4513) -> ML
B38: 3012 | C38: =C37+1 -> 4002 | D38: =K38 -> DEMOLICIÓN PISOS DE CONCRETO (ESPESOR VARIABLE HASTA 0.10 M. INCLUYE CARGUE). NO INCLUYE TRANSPORTE Y DISPOSICIÓN FINAL DE SOBRANTES. | E38: =L38 -> M2 | F38: 12.080958 | G38: =J38 -> 6331 | H38: =ROUND(F38*G38,0) -> 76485 | J38: =LOOKUP(B38,$C$74:$C$4504,$F$74:$F$4504) -> 6331 | K38: =LOOKUP(B38,$C$74:$C$4504,$D$74:$D$4504) -> DEMOLICIÓN PISOS DE CONCRETO (ESPESOR VARIABLE HASTA 0.10 M. INCLUYE CARGUE). NO INCLUYE TRANSPORTE Y DISPOSICIÓN FINAL DE SOBRANTES. | L38: =LOOKUP(B38,$C$74:$C$4504,$E$74:$E$4504) -> M2
B39: 6224 | C39: =C38+1 -> 4003 | D39: =K39 -> DEMOLICIÓN RECUBRIMIENTO ESTRUCTURAL DE ZONAS CON DESCASCARAMIENTO, HASTA DESCUBRIR EL REFUERZO EXISTENTE VERIFICANDO PH EN CONCRETO. INCLUYE TODOS LOS COSTOS DE SUMINISTRO DE MATERIALES, EQUIPOS, CARGUE Y TRANSPORTE DE MATERIALES SOBRANTES A BOTADERO AUTORIZADO Y MANO DE OBRA. | E39: =L39 -> M2 | F39: =S28*3.66*3 -> 46.7748 | G39: =J39 -> 11514 | H39: =ROUND(F39*G39,0) -> 538565 | J39: =LOOKUP(B39,$C$74:$C$4504,$F$74:$F$4504) -> 11514 | K39: =LOOKUP(B39,$C$74:$C$4504,$D$74:$D$4504) -> DEMOLICIÓN RECUBRIMIENTO ESTRUCTURAL DE ZONAS CON DESCASCARAMIENTO, HASTA DESCUBRIR EL REFUERZO EXISTENTE VERIFICANDO PH EN CONCRETO. INCLUYE TODOS LOS COSTOS DE SUMINISTRO DE MATERIALES, EQUIPOS, CARGUE Y TRANSPORTE DE MATERIALES SOBRANTES A BOTADERO AUTORIZADO Y MANO DE OBRA. | L39: =LOOKUP(B39,$C$74:$C$4504,$E$74:$E$4504) -> M2
B40: 6281 | C40: =C39+1 -> 4004 | D40: =K40 -> RESTITUCIÓN RECUBRIMIENTO DE TABLERO O VIGAS CABEZAL, EN ZONAS DE SANEADO DE REFUERZO O DONDE EXISTA PÉRDIDA DE RECUBRIMIENTO, CON MORTERO MODIFICADO CON RESINA ACRÍLICA DE DOS COMPONENTES PARA REPARACIONES ESTRUCTURALES. INCLUYE TODOS LOS COSTOS DE SUMINISTRO DE MATERIALES, EQUIPOS, HERRAMIENTA MENOR, ANDAMIOS, LIMPIEZA AIRE A PRESIÓN, TRANSPORTES, MANEJO, ALMACENAMIENTO, DESPERDICIOS, CARGUE Y TRANSPORTE DE MATERIALES SOBRANTES A BOTADERO AUTORIZADO Y MANO DE OBRA. | E40: =L40 -> M2 | F40: =F39 -> 46.7748 | G40: =J40 -> 44431 | H40: =ROUND(F40*G40,0) -> 2078251 | J40: =LOOKUP(B40,$C$74:$C$4504,$F$74:$F$4504) -> 44431 | K40: =LOOKUP(B40,$C$74:$C$4504,$D$74:$D$4504) -> RESTITUCIÓN RECUBRIMIENTO DE TABLERO O VIGAS CABEZAL, EN ZONAS DE SANEADO DE REFUERZO O DONDE EXISTA PÉRDIDA DE RECUBRIMIENTO, CON MORTERO MODIFICADO CON RESINA ACRÍLICA DE DOS COMPONENTES PARA REPARACIONES ESTRUCTURALES. INCLUYE TODOS LOS COSTOS DE SUMINISTRO DE MATERIALES, EQUIPOS, HERRAMIENTA MENOR, ANDAMIOS, LIMPIEZA AIRE A PRESIÓN, TRANSPORTES, MANEJO, ALMACENAMIENTO, DESPERDICIOS, CARGUE Y TRANSPORTE DE MATERIALES SOBRANTES A BOTADERO AUTORIZADO Y MANO DE OBRA. | L40: =LOOKUP(B40,$C$74:$C$4504,$E$74:$E$4504) -> M2
B41: 5426 | C41: =C40+1 -> 4005 | D41: =K41 -> CONCRETO 4000 PSI GRAVA COMÚN PARA RAMPAS Y ESCALERAS (PREMEZCLADO. INCL. SUMINISTRO, FORMALETEO Y COLOCACIÓN. NO INCL. REFUERZO, CURADO). | E41: =L41 -> M3 | F41: =F38*0.1 -> 1.2080958 | G41: =J41 -> 621990 | H41: =ROUND(F41*G41,0) -> 751423 | J41: =LOOKUP(B41,$C$74:$C$4504,$F$74:$F$4504) -> 621990 | K41: =LOOKUP(B41,$C$74:$C$4504,$D$74:$D$4504) -> CONCRETO 4000 PSI GRAVA COMÚN PARA RAMPAS Y ESCALERAS (PREMEZCLADO. INCL. SUMINISTRO, FORMALETEO Y COLOCACIÓN. NO INCL. REFUERZO, CURADO). | L41: =LOOKUP(B41,$C$74:$C$4504,$E$74:$E$4504) -> M3
B42: 7992 | C42: =C41+1 -> 4006 | D42: =K42 -> REPOSICIÓN DE SELLO DE JUNTAS DE PAVIMENTO DE CONCRETO HIDRÁULICO, ANCHO HASTA DE 5/8" (16 MM). (INCLUYE LIMPIEZA, SUMINISTRO E INSTALACIÓN DE FONDO Y SELLANTE). | E42: =L42 -> ML | F42: 0 | G42: =J42 -> 15497 | H42: =ROUND(F42*G42,0) -> 0 | J42: =LOOKUP(B42,$C$74:$C$4504,$F$74:$F$4504) -> 15497 | K42: =LOOKUP(B42,$C$74:$C$4504,$D$74:$D$4504) -> REPOSICIÓN DE SELLO DE JUNTAS DE PAVIMENTO DE CONCRETO HIDRÁULICO, ANCHO HASTA DE 5/8" (16 MM). (INCLUYE LIMPIEZA, SUMINISTRO E INSTALACIÓN DE FONDO Y SELLANTE). | L42: =LOOKUP(B42,$C$74:$C$4504,$E$74:$E$4504) -> ML
B43: 4239 | C43: =C42+1 -> 4007 | D43: =K43 -> CORTE Y AMPLIACIÓN DE JUNTA EN PAVIMENTO DE CONCRETO HIDRAULICO | E43: =L43 -> ML | F43: 0 | G43: =J43 -> 4712 | H43: =ROUND(F43*G43,0) -> 0 | J43: =LOOKUP(B43,$C$74:$C$4504,$F$74:$F$4504) -> 4712 | K43: =LOOKUP(B43,$C$74:$C$4504,$D$74:$D$4504) -> CORTE Y AMPLIACIÓN DE JUNTA EN PAVIMENTO DE CONCRETO HIDRAULICO | L43: =LOOKUP(B43,$C$74:$C$4504,$E$74:$E$4504) -> ML
B44: 3837 | C44: =C43+1 -> 4008 | D44: =K44 -> SELLADO DE JUNTAS EN PAVIMENTO DE CONCRETO HIDRAULICO (INCLUYE LIMPIEZA, SUMINISTRO E INSTALACIÓN DE FONDO Y SELLANTE) | E44: =L44 -> ML | F44: 0 | G44: =J44 -> 10949 | H44: =ROUND(F44*G44,0) -> 0 | J44: =LOOKUP(B44,$C$74:$C$4504,$F$74:$F$4504) -> 10949 | K44: =LOOKUP(B44,$C$74:$C$4504,$D$74:$D$4504) -> SELLADO DE JUNTAS EN PAVIMENTO DE CONCRETO HIDRAULICO (INCLUYE LIMPIEZA, SUMINISTRO E INSTALACIÓN DE FONDO Y SELLANTE) | L44: =LOOKUP(B44,$C$74:$C$4504,$E$74:$E$4504) -> ML
...

Sheet CONSOLIDADO
B2: ='D. ENTRADA obra'!C7 -> "EJECUTAR A MONTO AGOTABLE POR EL SISTEMA DE PRECIOS UNITARIOS LAS OBRAS Y ACTIVIDADES PARA EL DIAGNOSTICO Y LA CONSERVACIÓN DE PUENTES VEHICULARES Y/O PEATONALES SOBRE CUERPOS DE AGUA DE LA LOCALIDAD DE KENNEDY”
B4: No. | C4: CIV | D4: CÓDIGO | E4: LOCALIZACIÓN | F4: TIPO PUENTE | G4: VALOR OBRA
B5: 1 | C5: 8014106 | D5: 24119475 | E5: CL 45 S por KR 73 (Rio Tunjuelito) | F5: PEATONAL | G5: ='1. Presupuesto 24119475'!H75 -> 354070849
B6: 2 | C6: 8014562 | D6: 24119394 | E6: Avenida ciudad de Villavicencio por KR 96 (Canal Tintal II - Box Coulvert) | F6: PEATONAL | G6: ='2. Presupuesto 24119394'!H75 -> 122404316
B7: 3 | C7: 8013701 | D7: 24119460 | E7: Avenida de los Muiscas por KR 95A (Canal de la Cra 38 Sur) | F7: PEATONAL | G7: ='3. Presupuesto 24119460'!H75 -> 114639281
E8: COSTO POR PUENTE SIN AJUSTES | G8: =(ROUND(SUM(G5:G7),0)) -> 591114446
E9: AJUSTES | G9: =Ajustes!H79 -> 5537571
E10: AJUSTE POR REDONDEO (-) | G10: 1
E11: VALOR TOTAL DEL PROYECTO DE OBRA | G11: =G8+G9-G10 -> 596652016 | I11: vigencia 2022 | K11: vigencia 2021
G12: =I12-G11 -> 0 | I12: =G11 -> 596652016 | K12: 541277519
I13: 191432984 | J13: =I13/I12 -> 0.32084528 | K13: 146048481 | L13: =K13/K12 -> 0.26982181
I14: =SUM(I12:I13) -> 788085000 | K14: =SUM(K12:K13) -> 687326000

Sheet Presupuesto Obra Consolidado
B2: FORMATO
B3: Presupuesto General de Obras - Costos Directos
B4: CÓDIGO | D4: PROCESO | G4: VERSIÓN
B5: FO-DP-01 | D5: Conservación de puentes | G5: 1 | H5: ALCALDÍA LOCAL DE KENNEDY
B7: ALCALDÍA LOCAL DE KENNEDY
B8: ÁREA DE GESTIÓN DE DESARROLLO LOCAL KENNEDY
B9: OFICINA DE INFRAESTRUCTURA DEL FDLK
B10: OBJETO DE LA LICITACIÓN | D10: ='D. ENTRADA obra'!C7 -> "EJECUTAR A MONTO AGOTABLE POR EL SISTEMA DE PRECIOS UNITARIOS LAS OBRAS Y ACTIVIDADES PARA EL DIAGNOSTICO Y LA CONSERVACIÓN DE PUENTES VEHICULARES Y/O PEATONALES SOBRE CUERPOS DE AGUA DE LA LOCALIDAD DE KENNEDY”
B12: Puente Peatonal 24119475 - CL 45 S por KR 73 (Río Tunjuelito) / Puente Peatonal 24119394- AV Ciudad de Villavicencio por KR 96 (Canal Tintal II - Box Coulvert) / Puente Peatonal 24119460 - Avenida de los Muiscas por KR 95 A (Canal de la 38 Sur)
E14: Fecha de Actualización: 10 de Octubre de 2022 | J14: L= | K14: 17.2
J15: W= | K15: 7.25
B16: CODIGO IDU | C16: ÍTEM | D16: DESCRIPCIÓN | E16: UNIDAD | F16: CANTIDAD | G16: PRECIO UNITARIO | H16: VALOR TOTAL | J16: luces | K16: 1
C17: 1 | D17: Preliminares | H17: =SUM(H18:H20) -> 2255660 | M17: ='1. Presupuesto 24119475'!H17+'2. Presupuesto 24119394'!H17+'3. Presupuesto 24119460'!H17 -> 2255659 | N17: =M17-H17 -> -1
