Workbook
Name ADMON_LOG_COSTO_VENTAS: ADMON_LOG_PYG2021_LOGISTICA!$H$26:$H$191
Name ADMON_LOG_GANACIAS_PERDIDAS: ADMON_LOG_PYG2021_LOGISTICA!$R$26:$R$191
Name ADMON_LOG_GASTOS_OPERACIONALES_ADMIN: ADMON_LOG_PYG2021_LOGISTICA!$J$26:$J$191
Name ADMON_LOG_GASTOS_OPERACIONALES_VENTAS: ADMON_LOG_PYG2021_LOGISTICA!$K$26:$K$191
Name ADMON_LOG_INGRESOS_OPERACIONALES: ADMON_LOG_PYG2021_LOGISTICA!$H$26:$H$191
Name ADMON_LOG_PORCENTAJE_ADMON: ADMON_LOG_PYG2021_LOGISTICA!$S$26:$S$191
Name ADMON_LOG_PORCENTAJE_UTILIDAD: ADMON_LOG_PYG2021_LOGISTICA!$T$26:$T$191
Name BS_Codigo_Dane: BS_BASE_SUMINISTRO_x_GRADO!$P$14:$P$2010
Name BS_Jornada_Entrega: BS_BASE_SUMINISTRO_x_GRADO!$W$14:$W$2010
Name BS_Modalidad_Entrega: BS_BASE_SUMINISTRO_x_GRADO!$J$14:$J$2010
Name BS_Segmento_Logistico: BS_BASE_SUMINISTRO_x_GRADO!$G$14:$G$2010
Name BS_Tipo_A: BS_BASE_SUMINISTRO_x_GRADO!$AX$14:$AX$2010
Name BS_Tipo_A_Proyectado: BS_BASE_SUMINISTRO_x_GRADO!$BM$14:$BM$2010
Name BS_Tipo_B: BS_BASE_SUMINISTRO_x_GRADO!$AY$14:$AY$2010
Name BS_Tipo_B_Proyectado: BS_BASE_SUMINISTRO_x_GRADO!$BN$14:$BN$2010
Name BS_Tipo_C: BS_BASE_SUMINISTRO_x_GRADO!$AZ$14:$AZ$2010
Name BS_Tipo_C_Proyectado: BS_BASE_SUMINISTRO_x_GRADO!$BO$14:$BO$2010
Name BS_Tipo_D: BS_BASE_SUMINISTRO_x_GRADO!$BA$14:$BA$2010
Name BS_Tipo_D_Proyectado: BS_BASE_SUMINISTRO_x_GRADO!$BP$14:$BP$2010
Name BS_Tipo_Entrega: BS_BASE_SUMINISTRO_x_GRADO!$L$14:$L$2010
Name BS_Tipo_N: BS_BASE_SUMINISTRO_x_GRADO!$BB$14:$BB$2010
Name BS_Tipo_N_Proyectado: BS_BASE_SUMINISTRO_x_GRADO!$BQ$14:$BQ$2010
Name BS_Total_Suministro: BS_BASE_SUMINISTRO_x_GRADO!$BC$14:$BC$2010
Name BS_Total_Suministro_Proyectado: BS_BASE_SUMINISTRO_x_GRADO!$BR$14:$BR$2010
Name CAL_DIAS_SUMINISTRO: CAL_CALENDARIO_CICLOS!$H$14:$H$640
Name CAL_FECHA_SUMINISTRO: CAL_CALENDARIO_CICLOS!$B$14:$B$640
Name COT_CODIGO_ALIMENTOS: COT_BASE_COTIZACIONES!$G$10:$G$263
Name COT_COTIZACIONES_TOTAL: COT_BASE_COTIZACIONES!$G$10:$S$263
Name COT_PRE_CODIGO_ALIMENTOS: COT_PRECALCULOS!$B$12:$B$38
Name COT_PRE_ESTADISTICOS: COT_PRECALCULOS!$P$2:$P$7
Name COT_VALOR_UNITARIO_CONIVA: COT_BASE_COTIZACIONES!$S$10:$S$263
Name COT_VALOR_UNITARIO_SINIVA: COT_BASE_COTIZACIONES!$R$10:$R$263
Name COT_VR_UNITARIO: COT_PRECALCULOS!$B$12:$O$38
Name Ensamble_Bolsatinas_Frio: 'Ensamble ProductoT'!$T$13:$T$224
Name Ensamble_Bolsatinas_Seco: 'Ensamble ProductoT'!$U$13:$U$224
Name Ensamble_Canastillas_Frio: 'Ensamble ProductoT'!$R$13:$R$224
Name Ensamble_Canastillas_Seco: 'Ensamble ProductoT'!$S$13:$S$224
Name Ensamble_Categoria: 'Ensamble ProductoT'!$D$13:$D$224
Name Ensamble_Menu: 'Ensamble ProductoT'!$C$13:$C$224
Name Ensamble_Tipo_Entrega: 'Ensamble ProductoT'!$B$13:$B$224

Sheet INDICE_ MODELO
A2: SECRETARÍA DE EDUCACIÓN DEL DISTRITO
A3: DIRECCIÓN DE BIENESTAR ESTUDIANTIL
A4: PROGRAMA DE ALIMENTACIÓN ESCOLAR
A6: ÍNDICE MODELO DE COSTOS REFRIGERIOS - OPERACIÓN LOGÍSTICA
D9: Descripción breve del contenido de cada Tabla
B10: 1 | C10: RES_RESUMEN_PRESUPUESTO GRUPOS | E10: Muestra el resumen del presupuesto estimado para la Vigencia 2023 - 2024 (Incluye Primera y Segunda Entrega).
B11: 2 | C11: DATOS VARIACIÓN | E11: En esta hoja se consolidaron los indicadores de precios y variaciones mensuales del IPC, publicados por el DANE, de los últimos 6 años.
B12: 3 | C12: COT_BASE_COTIZACIONES | E12: Documenta los registros de cotización recibidos durante la ejecución del estudio de costos 2022.
B13: 4 | C13: COT_PRECALCULOS | E13: Refleja para cada uno de los componentes del costo (transporte, equipos de medición, dotación, empaques, recursos humano etc.) cotizados, el cálculo del valor unitario conforme las cotizaciones recibidas y existentes en la tabla COT_BASE_COTIZACIONES.
B14: 5 | C14: ADMON_LOG_PYG2018_LOGISTICA | E14: En esta tabla se realizan los cálculos que permiten obtener el porcentaje de gasto administrativo y porcentaje de utilidad relacionados con el sector de logística de distribución de alimentos.
B15: 7 | C15: COSTPE_L_LOGISTICA | E15: En esta hoja de cálculo se consolidan todos los elementos del costo de operación logística para determinar el valor unitario a reconocer por cada entrega logística verificada en Instituciones educativas. Aplica para los suministros de Primera Entrega.
B16: 9 | C16: COSTSE_L_LOGISTICA | E16: En esta hoja de cálculo se consolidan todos los elementos del costo de operación logística para determinar el valor unitario a reconocer por cada entrega logística verificada en Instituciones educativas. Aplica para los suministros de Primera Entrega.
B17: 10 | C17: TRANS_TRANSPORTE | E17: En esta tabla se efectúan cálculos para determinar el costo unitario del transporte para los suministros.
B18: 12 | C18: TH_RECURSO_HUMANO | E18: A partir del estándar de recurso humano definido para la operación logística, se determina el costo total del th requerido en la operación logística para la primera y segunda entrega.
B19: 13 | C19: DOT_DOTACION_PERSONAL | E19: Realiza los cálculos del costos total de dotación de personal en función del estándar de TH definido en la tabla TH_RECURSO_HUMANO
B20: 14 | C20: EMP_EMPAQUES | E20: Se calculan los costos asociados a empaques secundarios, bolsatinas y cucharas de acuerdo a los volúmenes definidos en el anexo técnico de refrigerios.
B21: 15 | C21: LAB_LABORATORIOS | E21: Consolida los costos relacionados con el plan de tomas de muestra de laboratorios definidos en el anexo técnico de refrigerios.
... B23: 20 | C23: BASE DE SUMINISTRO PROYECTADA | E23: Esta hoja contiene, datos sobre las entregas planificadas durante la ejecución de contrato, detalla para cada entrega el colegio, sede, segmento, localidad.

Sheet RES_RESUMEN_PRESUPUESTO_GRUPOS
B2: Ir a Índice
A3: SECRETARÍA DE EDUCACIÓN DEL DISTRITO
A4: DIRECCIÓN DE BIENESTAR ESTUDIANTIL
A5: PROGRAMA DE ALIMENTACIÓN ESCOLAR
A8: RESUMEN PRESUPUESTO PAE 2023 / 2024 - OPERACIÓN LOGÍSTICA POR SEGMENTO
B10: Segmento | C10: Entregas Tipo A Proyectadas | D10: Entregas Tipo B Proyectadas | E10: Entregas Tipo C Proyectadas | F10: Entregas Tipo D Proyectadas | G10: Entregas Tipo N Proyectadas | H10: Total Entregas | I10: Valor Unitario Entrega Logistica | J10: Valor Total Operación Logistica x Segmento
B11: 1 | C11: {=SUM(SUM((BS_Segmento_Logistico=B11)*BS_Tipo_A_Proyectado))} -> 1920155 | D11: {=SUM((BS_Segmento_Logistico=B11)*BS_Tipo_B_Proyectado)} -> 6460041 | E11: {=SUM((BS_Segmento_Logistico=B11)*BS_Tipo_C_Proyectado)} -> 6582580 | F11: {=SUM((BS_Segmento_Logistico=B11)*BS_Tipo_D_Proyectado)} -> 4779304 | G11: {=SUM((BS_Segmento_Logistico=B11)*BS_Tipo_N_Proyectado)} -> 342996 | H11: =SUM(C11:G11) -> 20085076 | I11: =COSTO_OP_LOGISTICA!$H$57 -> 450.64831 | J11: =+H11*I11 -> 9.0513056e+09
B12: 2 | C12: {=SUM(SUM((BS_Segmento_Logistico=B12)*BS_Tipo_A_Proyectado))} -> 2045524 | D12: {=SUM((BS_Segmento_Logistico=B12)*BS_Tipo_B_Proyectado)} -> 6421270 | E12: {=SUM((BS_Segmento_Logistico=B12)*BS_Tipo_C_Proyectado)} -> 6865014 | F12: {=SUM((BS_Segmento_Logistico=B12)*BS_Tipo_D_Proyectado)} -> 4901843 | G12: {=SUM((BS_Segmento_Logistico=B12)*BS_Tipo_N_Proyectado)} -> 400728 | H12: =SUM(C12:G12) -> 20634379 | I12: =COSTO_OP_LOGISTICA!$H$57 -> 450.64831 | J12: =+H12*I12 -> 9.2988481e+09
B13: 3 | C13: {=SUM(SUM((BS_Segmento_Logistico=B13)*BS_Tipo_A_Proyectado))} -> 1563575 | D13: {=SUM((BS_Segmento_Logistico=B13)*BS_Tipo_B_Proyectado)} -> 5354643 | E13: {=SUM((BS_Segmento_Logistico=B13)*BS_Tipo_C_Proyectado)} -> 6021674 | F13: {=SUM((BS_Segmento_Logistico=B13)*BS_Tipo_D_Proyectado)} -> 4234529 | G13: {=SUM((BS_Segmento_Logistico=B13)*BS_Tipo_N_Proyectado)} -> 312149 | H13: =SUM(C13:G13) -> 17486570 | I13: =COSTO_OP_LOGISTICA!$H$57 -> 450.64831 | J13: =+H13*I13 -> 7.8802933e+09
B14: 4 | C14: {=SUM(SUM((BS_Segmento_Logistico=B14)*BS_Tipo_A_Proyectado))} -> 1451507 | D14: {=SUM((BS_Segmento_Logistico=B14)*BS_Tipo_B_Proyectado)} -> 4809868 | E14: {=SUM((BS_Segmento_Logistico=B14)*BS_Tipo_C_Proyectado)} -> 5905644 | F14: {=SUM((BS_Segmento_Logistico=B14)*BS_Tipo_D_Proyectado)} -> 4394990 | G14: {=SUM((BS_Segmento_Logistico=B14)*BS_Tipo_N_Proyectado)} -> 416010 | H14: =SUM(C14:G14) -> 16978019 | I14: =COSTO_OP_LOGISTICA!$H$57 -> 450.64831 | J14: =+H14*I14 -> 7.6511156e+09
B15: 5 | C15: {=SUM(SUM((BS_Segmento_Logistico=B15)*BS_Tipo_A_Proyectado))} -> 2350032 | D15: {=SUM((BS_Segmento_Logistico=B15)*BS_Tipo_B_Proyectado)} -> 5700469 | E15: {=SUM((BS_Segmento_Logistico=B15)*BS_Tipo_C_Proyectado)} -> 6382499 | F15: {=SUM((BS_Segmento_Logistico=B15)*BS_Tipo_D_Proyectado)} -> 4528000 | G15: {=SUM((BS_Segmento_Logistico=B15)*BS_Tipo_N_Proyectado)} -> 188761 | H15: =SUM(C15:G15) -> 19149761 | I15: =COSTO_OP_LOGISTICA!$H$57 -> 450.64831 | J15: =+H15*I15 -> 8.6298075e+09
B16: 6 | C16: {=SUM(SUM((BS_Segmento_Logistico=B16)*BS_Tipo_A_Proyectado))} -> 1909967 | D16: {=SUM((BS_Segmento_Logistico=B16)*BS_Tipo_B_Proyectado)} -> 6080255 | E16: {=SUM((BS_Segmento_Logistico=B16)*BS_Tipo_C_Proyectado)} -> 7108677 | F16: {=SUM((BS_Segmento_Logistico=B16)*BS_Tipo_D_Proyectado)} -> 4782983 | G16: {=SUM((BS_Segmento_Logistico=B16)*BS_Tipo_N_Proyectado)} -> 453932 | H16: =SUM(C16:G16) -> 20335814 | I16: =COSTO_OP_LOGISTICA!$H$57 -> 450.64831 | J16: =+H16*I16 -> 9.1643003e+09
B17: 7 | C17: {=SUM(SUM((BS_Segmento_Logistico=B17)*BS_Tipo_A_Proyectado))} -> 2445969 | D17: {=SUM((BS_Segmento_Logistico=B17)*BS_Tipo_B_Proyectado)} -> 6258262 | E17: {=SUM((BS_Segmento_Logistico=B17)*BS_Tipo_C_Proyectado)} -> 6026202 | F17: {=SUM((BS_Segmento_Logistico=B17)*BS_Tipo_D_Proyectado)} -> 4502813 | G17: {=SUM((BS_Segmento_Logistico=B17)*BS_Tipo_N_Proyectado)} -> 429311 | H17: =SUM(C17:G17) -> 19662557 | I17: =COSTO_OP_LOGISTICA!$H$57 -> 450.64831 | J17: =+H17*I17 -> 8.8608981e+09
B18: 8 | C18: {=SUM(SUM((BS_Segmento_Logistico=B18)*BS_Tipo_A_Proyectado))} -> 1435093 | D18: {=SUM((BS_Segmento_Logistico=B18)*BS_Tipo_B_Proyectado)} -> 4384236 | E18: {=SUM((BS_Segmento_Logistico=B18)*BS_Tipo_C_Proyectado)} -> 4600165 | F18: {=SUM((BS_Segmento_Logistico=B18)*BS_Tipo_D_Proyectado)} -> 3546839 | G18: {=SUM((BS_Segmento_Logistico=B18)*BS_Tipo_N_Proyectado)} -> 326016 | H18: =SUM(C18:G18) -> 14292349 | I18: =COSTO_OP_LOGISTICA!$H$57 -> 450.64831 | J18: =+H18*I18 -> 6.440823e+09
B19: 9 | C19: {=SUM(SUM((BS_Segmento_Logistico=B19)*BS_Tipo_A_Proyectado))} -> 1674794 | D19: {=SUM((BS_Segmento_Logistico=B19)*BS_Tipo_B_Proyectado)} -> 4993252 | E19: {=SUM((BS_Segmento_Logistico=B19)*BS_Tipo_C_Proyectado)} -> 6199964 | F19: {=SUM((BS_Segmento_Logistico=B19)*BS_Tipo_D_Proyectado)} -> 4224624 | G19: {=SUM((BS_Segmento_Logistico=B19)*BS_Tipo_N_Proyectado)} -> 413746 | H19: =SUM(C19:G19) -> 17506380 | I19: =COSTO_OP_LOGISTICA!$H$57 -> 450.64831 | J19: =+H19*I19 -> 7.8892206e+09
B20: 10 | C20: {=SUM(SUM((BS_Segmento_Logistico=B20)*BS_Tipo_A_Proyectado))} -> 1916476 | D20: {=SUM((BS_Segmento_Logistico=B20)*BS_Tipo_B_Proyectado)} -> 6245244 | E20: {=SUM((BS_Segmento_Logistico=B20)*BS_Tipo_C_Proyectado)} -> 5846497 | F20: {=SUM((BS_Segmento_Logistico=B20)*BS_Tipo_D_Proyectado)} -> 4342352 | G20: {=SUM((BS_Segmento_Logistico=B20)*BS_Tipo_N_Proyectado)} -> 401860 | H20: =SUM(C20:G20) -> 18752429 | I20: =COSTO_OP_LOGISTICA!$H$57 -> 450.64831 | J20: =+H20*I20 -> 8.4507505e+09
B21: TOTAL | C21: =SUM(C11:C20) -> 18713092 | D21: =SUM(D11:D20) -> 56707540 | E21: =SUM(E11:E20) -> 61538916 | F21: =SUM(F11:F20) -> 44238277 | G21: =SUM(G11:G20) -> 3685509 | H21: =SUM(H11:H20) -> 184883334 | J21: =SUM(J11:J20) -> 8.3317363e+10

Sheet COSTO_OP_LOGISTICA
B2: Ir a Índice
A3: SECRETARÍA DE EDUCACIÓN DEL DISTRITO
A4: DIRECCIÓN DE BIENESTAR ESTUDIANTIL
A5: PROGRAMA DE ALIMENTACIÓN ESCOLAR
A7: CÁLCULO COSTO OPERACIÓN LOGÍSTICA REFRIGERIOS ESCOLARES
A8: =E57 -> 8.3317363e+10
C11: =+'DATOS VARIACION IPC'!M7 -> 0.0709
C12: =+'DATOS VARIACION IPC'!M10 -> 0.0514
C13: =+'DATOS VARIACION IPC'!M11 -> 0.1
C14: 44044 | D14: TOTAL ENTREGAS LOGISTICAS | H14: ENTREGAS TIPO A (3 - 5 AÑOS) | L14: ENTREGAS TIPO B (6- 9 AÑOS) | P14: ENTREGAS TIPO C (10- 13 AÑOS) | T14: ENTREGAS TIPO D (14- 17 AÑOS) | X14: ENTREGAS TIPO N (Nocturna)
C15: {=SUM(IF((CAL_DIAS_SUMINISTRO="SI")*(CAL_FECHA_SUMINISTRO>=$C$14),1,0))} -> 380 | D15: =SUM(H15:AA15) -> 184883334 | H15: =SUM(SUM((BS_Tipo_A_Proyectado),)) -> 18713092 | L15: =SUM(BS_Tipo_B_Proyectado) -> 56707540 | P15: =SUM(BS_Tipo_C_Proyectado) -> 61538916 | T15: =SUM(BS_Tipo_D_Proyectado) -> 44238277 | X15: =SUM(BS_Tipo_N_Proyectado) -> 3685509
A17: CENTRO DE COSTO | C17: CONCEPTO | D17: VALOR UNITARIO PROMEDIO | E17: VALOR TOTAL | F17: CD/CI | G17: % | H17: VALOR UNITARIO | I17: VALOR TOTAL | J17: CD/CI | K17: % | L17: VALOR UNITARIO | M17: VALOR TOTAL | N17: CD/CI | O17: % | P17: VALOR UNITARIO | Q17: VALOR TOTAL | R17: CF/CV | S17: % | T17: VALOR UNITARIO | U17: VALOR TOTAL | V17: CF/CV | W17: % | X17: VALOR UNITARIO | Y17: VALOR TOTAL | Z17: CF/CV | AA17: %
A19: COSTOS DIRECTOS
A20: Empaques | B20: Ver Detalle | C20: Bolsatina y Etiqueta | D20: =(EMP_EMPAQUES!$G$16) -> 17.06837 | E20: =I20+M20+Q20+Y20+U20 -> 3.1556571e+09 | F20: CD | G20: =E20/E$26 -> 0.064765188 | H20: =(EMP_EMPAQUES!$G$16) -> 17.06837 | I20: =H20*$H$15 -> 3.1940198e+08 | J20: CD | K20: =I20/I$26 -> 0.064765188 | L20: =(EMP_EMPAQUES!$G$16) -> 17.06837 | M20: =L20*$L$15 -> 9.6790527e+08 | N20: CD | O20: =M20/M$26 -> 0.064765188 | P20: =(EMP_EMPAQUES!$G$16) -> 17.06837 | Q20: =P20*$P$15 -> 1.050369e+09 | R20: CD | S20: =Q20/Q$26 -> 0.064765188 | T20: =(EMP_EMPAQUES!$G$16) -> 17.06837 | U20: =T20*$T$15 -> 7.5507528e+08 | V20: CD | W20: =U20/U$26 -> 0.064765188 | X20: =(EMP_EMPAQUES!$G$16) -> 17.06837 | Y20: =X20*$X$15 -> 62905631 | Z20: CD | AA20: =Y20/Y$57 -> 0.037875144
A21: Talento Humano | B21: Ver Detalle | C21: Requerimiento de personal | D21: =(TH_RECURSO_HUMANO!$D$16) -> 142.19303 | E21: =I21+M21+Q21+Y21+U21 -> 2.6289121e+10 | F21: CD | G21: =E21/E$26 -> 0.53954527 | H21: =(TH_RECURSO_HUMANO!$D$16) -> 142.19303 | I21: =H21*$H$15 -> 2.6608712e+09 | J21: CD | K21: =I21/I$26 -> 0.53954527 | L21: =(TH_RECURSO_HUMANO!$D$16) -> 142.19303 | M21: =L21*$L$15 -> 8.0634169e+09 | N21: CD | O21: =M21/M$26 -> 0.53954527 | P21: =(TH_RECURSO_HUMANO!$D$16) -> 142.19303 | Q21: =P21*$P$15 -> 8.7504049e+09 | R21: CD | S21: =Q21/Q$26 -> 0.53954527 | T21: =(TH_RECURSO_HUMANO!$D$16) -> 142.19303 | U21: =T21*$T$15 -> 6.2903746e+09 | V21: CD | W21: =U21/U$26 -> 0.53954527 | X21: =(TH_RECURSO_HUMANO!$D$16) -> 142.19303 | Y21: =X21*$X$15 -> 5.2405369e+08 | Z21: CD | AA21: =Y21/Y$57 -> 0.31552993
A22: Pruebas de laboratorio | B22: Ver Detalle | C22: Ambientes, Equipos y Personal | D22: =LAB_LABORATORIOS!$E$15 -> 0.53717402 | E22: =I22+M22+Q22+Y22+U22 -> 99314524 | F22: CD | G22: =E22/E$26 -> 0.0020382835 | H22: =LAB_LABORATORIOS!$E$15 -> 0.53717402 | I22: =H22*$H$15 -> 10052187 | J22: CD | K22: =I22/I$26 -> 0.0020382835 | L22: =LAB_LABORATORIOS!$E$15 -> 0.53717402 | M22: =L22*$L$15 -> 30461817 | N22: CD | O22: =M22/M$26 -> 0.0020382835 | P22: =LAB_LABORATORIOS!$E$15 -> 0.53717402 | Q22: =P22*$P$15 -> 33057107 | R22: CD | S22: =Q22/Q$26 -> 0.0020382835 | T22: =LAB_LABORATORIOS!$E$15 -> 0.53717402 | U22: =T22*$T$15 -> 23763653 | V22: CD | W22: =U22/U$26 -> 0.0020382835 | X22: =LAB_LABORATORIOS!$E$15 -> 0.53717402 | Y22: =X22*$X$15 -> 1979759.7 | Z22: CD | AA22: =Y22/Y$57 -> 0.0011920027
A23: Visitas IED | B23: Ver Detalle | C23: Vehiculos | D23: =VIST_VISITAS_ESTUDIANTES!$G$17 -> 0.32869377 | E23: =I23+M23+Q23+Y23+U23 -> 60770000 | F23: CD | G23: =E23/E$26 -> 0.0012472142 | H23: =VIST_VISITAS_ESTUDIANTES!$G$17 -> 0.32869377 | I23: =H23*$H$15 -> 6150876.8 | J23: CD | K23: =I23/I$26 -> 0.0012472142 | L23: =VIST_VISITAS_ESTUDIANTES!$G$17 -> 0.32869377 | M23: =L23*$L$15 -> 18639415 | N23: CD | O23: =M23/M$26 -> 0.0012472142 | P23: =VIST_VISITAS_ESTUDIANTES!$G$17 -> 0.32869377 | Q23: =P23*$P$15 -> 20227458 | R23: CD | S23: =Q23/Q$26 -> 0.0012472142 | T23: =VIST_VISITAS_ESTUDIANTES!$G$17 -> 0.32869377 | U23: =T23*$T$15 -> 14540846 | V23: CD | W23: =U23/U$26 -> 0.0012472142 | X23: =VIST_VISITAS_ESTUDIANTES!$G$17 -> 0.32869377 | Y23: =X23*$X$15 -> 1211403.8 | Z23: CD | AA23: =Y23/Y$57 -> 0.00072937979
A24: Transporte | B24: Ver Detalle | C24: Vehiculos | D24: =TRANS_TRANSPORTE!$G$20 -> 103.41508 | E24: =I24+M24+Q24+Y24+U24 -> 1.9119725e+10 | F24: CD | G24: =E24/E$26 -> 0.39240404 | H24: =TRANS_TRANSPORTE!$G$20 -> 103.41508 | I24: =H24*$H$15 -> 1.935216e+09 | J24: CD | K24: =I24/I$26 -> 0.39240404 | L24: =TRANS_TRANSPORTE!$G$20 -> 103.41508 | M24: =L24*$L$15 -> 5.864415e+09 | N24: CD | O24: =M24/M$26 -> 0.39240404 | P24: =TRANS_TRANSPORTE!$G$20 -> 103.41508 | Q24: =P24*$P$15 -> 6.3640521e+09 | R24: CD | S24: =Q24/Q$26 -> 0.39240404 | T24: =TRANS_TRANSPORTE!$G$20 -> 103.41508 | U24: =T24*$T$15 -> 4.5749051e+09 | V24: CD | W24: =U24/U$26 -> 0.39240404 | X24: =TRANS_TRANSPORTE!$G$20 -> 103.41508 | Y24: =X24*$X$15 -> 3.8113722e+08 | Z24: CD | AA24: =Y24/Y$57 -> 0.22948068
A26: ="SUBTOTAL 1: "&A19 -> SUBTOTAL 1: COSTOS DIRECTOS | D26: =SUM(D20:D24) -> 263.54235 | E26: =SUM(E20:E24) -> 4.8724588e+10 | G26: =+E26/E57 -> 0.58480714 | H26: =SUM(H20:H24) -> 263.54235 | I26: =SUM(I20:I25) -> 4.9316922e+09 | K26: =+I26/I49 -> 0.64154308 | L26: =SUM(L20:L24) -> 263.54235 | M26: =SUM(M20:M25) -> 1.4944838e+10 | O26: =+M26/M49 -> 0.64154308 | P26: =SUM(P20:P24) -> 263.54235 | Q26: =SUM(Q20:Q25) -> 1.6218111e+10 | S26: =+Q26/Q49 -> 0.64154308 | T26: =SUM(T20:T24) -> 263.54235 | U26: =SUM(U20:U25) -> 1.1658659e+10 | W26: =+U26/U49 -> 0.64154308 | X26: =SUM(X20:X24) -> 263.54235 | Y26: =SUM(Y20:Y25) -> 9.712877e+08 | AA26: =+Y26/Y49 -> 0.64154308
A28: GASTOS DE OPERACIÓN Y DE VENTAS
A29: Administración | B29: Ver Detalle | C29: =+ADMON_LOG_PYG2021_LOGISTICA!J15 -> 0.3 | D29: =E29/$D$15 -> 112.94672 | E29: =I29+M29+Q29+Y29+U29 -> 2.0881966e+10 | F29: CI | G29: =+E29/E31 -> 1 | H29: =(H26/(1-$C29)*$C29) -> 112.94672 | I29: =H29*$H$15 -> 2.1135824e+09 | J29: CI | K29: =+I29/I31 -> 1 | L29: =(L26/(1-$C29)*$C29) -> 112.94672 | M29: =L29*$L$15 -> 6.4049307e+09 | N29: CI | O29: =+M29/M31 -> 1 | P29: =(P26/(1-$C29)*$C29) -> 112.94672 | Q29: =P29*$P$15 -> 6.9506188e+09 | R29: CI | S29: =+Q29/Q31 -> 1 | T29: =(T26/(1-$C29)*$C29) -> 112.94672 | U29: =T29*$T$15 -> 4.9965684e+09 | V29: CI | W29: =+U29/U31 -> 1 | X29: =(X26/(1-$C29)*$C29) -> 112.94672 | Y29: =X29*$X$15 -> 4.1626616e+08 | Z29: CI | AA29: =+Y29/Y31 -> 1
A31: ="SUBTOTAL 2: GASTOS ADMINISTRATIVOS" -> SUBTOTAL 2: GASTOS ADMINISTRATIVOS | D31: =+D29 -> 112.94672 | E31: =+E29 -> 2.0881966e+10 | G31: =+E31/E57 -> 0.25063163 | H31: =+H29 -> 112.94672 | I31: =+I29 -> 2.1135824e+09 | K31: =+I31/I57 -> 0.25063163 | L31: =+L29 -> 112.94672 | M31: =+M29 -> 6.4049307e+09 | O31: =+M31/M57 -> 0.25063163 | P31: =+P29 -> 112.94672 | Q31: =+Q29 -> 6.9506188e+09 | S31: =+Q31/Q57 -> 0.25063163 | T31: =+T29 -> 112.94672 | U31: =+U29 -> 4.9965684e+09 | W31: =+U31/U57 -> 0.25063163 | X31: =+X29 -> 112.94672 | Y31: =+Y29 -> 4.1626616e+08 | AA31: =+Y31/Y57 -> 0.25063163
A33: ESTAMPILLAS e IMPUESTOS
A34: Estampilla U. Distrital | C34: 0.018352553 | D34: =($C34*(D$26+D$31)) -> 6.9095357 | E34: =I34+M34+Q34+Y34+U34 -> 1.277458e+09 | F34: CI | G34: =E34/E$39 -> 0.20491803 | H34: =($C34*(H$26+H$31)) -> 6.9095357 | I34: =H34*H$15 -> 1.2929878e+08 | J34: CI | K34: =I34/I$39 -> 0.20491803 | L34: =($C34*(L$26+L$31)) -> 6.9095357 | M34: =L34*L$15 -> 3.9182277e+08 | N34: CI | O34: =M34/M$39 -> 0.20491803 | P34: =($C34*(P$26+P$31)) -> 6.9095357 | Q34: =P34*P$15 -> 4.2520534e+08 | R34: CI | S34: =Q34/Q$39 -> 0.20491803 | T34: =($C34*(T$26+T$31)) -> 6.9095357 | U34: =T34*T$15 -> 3.0566595e+08 | V34: CI | W34: =U34/U$39 -> 0.20491803 | X34: =($C34*(X$26+X$31)) -> 6.9095357 | Y34: =X34*X$15 -> 25465156 | Z34: CI | AA34: =Y34/Y$39 -> 0.20491803
A35: Estampilla Pro Cultura | C35: 0.0091762766 | D35: =($C35*(D$26+D$31)) -> 3.4547679 | E35: =I35+M35+Q35+Y35+U35 -> 6.38729e+08 | F35: CI | G35: =E35/E$39 -> 0.10245902 | H35: =($C35*(H$26+H$31)) -> 3.4547679 | I35: =H35*H$15 -> 64649389 | J35: CI | K35: =I35/I$39 -> 0.10245902 | L35: =($C35*(L$26+L$31)) -> 3.4547679 | M35: =L35*L$15 -> 1.9591139e+08 | N35: CI | O35: =M35/M$39 -> 0.10245902 | P35: =($C35*(P$26+P$31)) -> 3.4547679 | Q35: =P35*P$15 -> 2.1260267e+08 | R35: CI | S35: =Q35/Q$39 -> 0.10245902 | T35: =($C35*(T$26+T$31)) -> 3.4547679 | U35: =T35*T$15 -> 1.5283298e+08 | V35: CI | W35: =U35/U$39 -> 0.10245902 | X35: =($C35*(X$26+X$31)) -> 3.4547679 | Y35: =X35*X$15 -> 12732578 | Z35: CI | AA35: =Y35/Y$39 -> 0.10245902
A36: Estampilla Pro Adulto Mayor | C36: 0.036705106 | D36: =($C36*(D$26+D$31)) -> 13.819071 | E36: =I36+M36+Q36+Y36+U36 -> 2.554916e+09 | F36: CI | G36: =E36/E$39 -> 0.40983607 | H36: =($C36*(H$26+H$31)) -> 13.819071 | I36: =H36*H$15 -> 2.5859756e+08 | J36: CI | K36: =I36/I$39 -> 0.40983607 | L36: =($C36*(L$26+L$31)) -> 13.819071 | M36: =L36*L$15 -> 7.8364555e+08 | N36: CI | O36: =M36/M$39 -> 0.40983607 | P36: =($C36*(P$26+P$31)) -> 13.819071 | Q36: =P36*P$15 -> 8.5041068e+08 | R36: CI | S36: =Q36/Q$39 -> 0.40983607 | T36: =($C36*(T$26+T$31)) -> 13.819071 | U36: =T36*T$15 -> 6.1133191e+08 | V36: CI | W36: =U36/U$39 -> 0.40983607 | X36: =($C36*(X$26+X$31)) -> 13.819071 | Y36: =X36*X$15 -> 50930312 | Z36: CI | AA36: =Y36/Y$39 -> 0.40983607
A37: ICA | C37: 0.025326523 | D37: =($C37*(D$26+D$31)) -> 9.5351593 | E37: =I37+M37+Q37+Y37+U37 -> 1.762892e+09 | F37: CI | G37: =E37/E$39 -> 0.28278689 | H37: =($C37*(H$26+H$31)) -> 9.5351593 | I37: =H37*H$15 -> 1.7843231e+08 | J37: CI | K37: =I37/I$39 -> 0.28278689 | L37: =($C37*(L$26+L$31)) -> 9.5351593 | M37: =L37*L$15 -> 5.4071543e+08 | N37: CI | O37: =M37/M$39 -> 0.28278689 | P37: =($C37*(P$26+P$31)) -> 9.5351593 | Q37: =P37*P$15 -> 5.8678337e+08 | R37: CI | S37: =Q37/Q$39 -> 0.28278689 | T37: =($C37*(T$26+T$31)) -> 9.5351593 | U37: =T37*T$15 -> 4.2181902e+08 | V37: CI | W37: =U37/U$39 -> 0.28278689 | X37: =($C37*(X$26+X$31)) -> 9.5351593 | Y37: =X37*X$15 -> 35141915 | Z37: CI | AA37: =Y37/Y$39 -> 0.28278689
A39: ="SUBTOTAL 3: "&A33 -> SUBTOTAL 3: ESTAMPILLAS e IMPUESTOS | D39: =SUM(D34:D37) -> 33.718534 | E39: =SUM(E34:E37) -> 6.233995e+09 | G39: =E39/E57 -> 0.07482228 | H39: =SUM(H34:H37) -> 33.718534 | I39: =SUM(I34:I37) -> 6.3097803e+08 | K39: =I39/I57 -> 0.07482228 | L39: =SUM(L34:L37) -> 33.718534 | M39: =SUM(M34:M37) -> 1.9120951e+09 | O39: =M39/M57 -> 0.07482228 | P39: =SUM(P34:P37) -> 33.718534 | Q39: =SUM(Q34:Q37) -> 2.075002e+09 | S39: =Q39/Q57 -> 0.07482228 | T39: =SUM(T34:T37) -> 33.718534 | U39: =SUM(U34:U37) -> 1.4916499e+09 | W39: =U39/U57 -> 0.07482228 | X39: =SUM(X34:X37) -> 33.718534 | Y39: =SUM(Y34:Y37) -> 1.2426996e+08 | AA39: =Y39/Y57 -> 0.07482228
A41: PÓLIZAS
A42: Cumplimiento | B42: 0.37194 | C42: 0.0012387406 | D42: =(D$26+D$31+D$39)*$B42*$C42 -> 0.1889979 | E42: =I42+M42+Q42+Y42+U42 -> 34942562 | F42: CI | G42: =E42/E$47 -> 0.32204561 | H42: =(H$26+H$31+H$39)*$B42*$C42 -> 0.1889979 | I42: =H42*H$15 -> 3536735.1 | J42: CI | K42: =I42/I$47 -> 0.32204561 | L42: =(L$26+L$31+L$39)*$B42*$C42 -> 0.1889979 | M42: =L42*L$15 -> 10717606 | N42: CI | O42: =M42/M$47 -> 0.32204561 | P42: =(P$26+P$31+P$39)*$B42*$C42 -> 0.1889979 | Q42: =P42*P$15 -> 11630726 | R42: CI | S42: =Q42/Q$47 -> 0.32204561 | T42: =(T$26+T$31+T$39)*$B42*$C42 -> 0.1889979 | U42: =T42*T$15 -> 8360941.5 | V42: CI | W42: =U42/U$47 -> 0.32204561 | X42: =(X$26+X$31+X$39)*$B42*$C42 -> 0.1889979 | Y42: =X42*X$15 -> 696553.46 | Z42: CI | AA42: =Y42/Y$47 -> 0.32204561
A43: Salarios, Prestaciones | B43: 0.38979 | C43: 0.0012387406 | D43: =(D$26+D$31+D$39)*$B43*$C43 -> 0.19806821 | E43: =I43+M43+Q43+Y43+U43 -> 36619512 | F43: CI | G43: =E43/E$47 -> 0.3375011 | H43: =(H$26+H$31+H$39)*$B43*$C43 -> 0.19806821 | I43: =H43*H$15 -> 3706468.7 | J43: CI | K43: =I43/I$47 -> 0.3375011 | L43: =(L$26+L$31+L$39)*$B43*$C43 -> 0.19806821 | M43: =L43*L$15 -> 11231961 | N43: CI | O43: =M43/M$47 -> 0.3375011 | P43: =(P$26+P$31+P$39)*$B43*$C43 -> 0.19806821 | Q43: =P43*P$15 -> 12188903 | R43: CI | S43: =Q43/Q$47 -> 0.3375011 | T43: =(T$26+T$31+T$39)*$B43*$C43 -> 0.19806821 | U43: =T43*T$15 -> 8762196.5 | V43: CI | W43: =U43/U$47 -> 0.3375011 | X43: =(X$26+X$31+X$39)*$B43*$C43 -> 0.19806821 | Y43: =X43*X$15 -> 729982.19 | Z43: CI | AA43: =Y43/Y$47 -> 0.3375011
A44: Calidad de los Servicios | B44: 0.23827 | C44: 0.0012387406 | D44: =(D$26+D$31+D$39)*$B44*$C44 -> 0.12107472 | E44: =I44+M44+Q44+Y44+U44 -> 22384697 | F44: CI | G44: =E44/E$47 -> 0.20630695 | H44: =(H$26+H$31+H$39)*$B44*$C44 -> 0.12107472 | I44: =H44*H$15 -> 2265682.3 | J44: CI | K44: =I44/I$47 -> 0.20630695 | L44: =(L$26+L$31+L$39)*$B44*$C44 -> 0.12107472 | M44: =L44*L$15 -> 6865849.3 | N44: CI | O44: =M44/M$47 -> 0.20630695 | P44: =(P$26+P$31+P$39)*$B44*$C44 -> 0.12107472 | Q44: =P44*P$15 -> 7450806.8 | R44: CI | S44: =Q44/Q$47 -> 0.20630695 | T44: =(T$26+T$31+T$39)*$B44*$C44 -> 0.12107472 | U44: =T44*T$15 -> 5356136.8 | V44: CI | W44: =U44/U$47 -> 0.20630695 | X44: =(X$26+X$31+X$39)*$B44*$C44 -> 0.12107472 | Y44: =X44*X$15 -> 446221.96 | Z44: CI | AA44: =Y44/Y$47 -> 0.20630695
A45: Responsabilidad civil extracontractual | C45: 0.00019191756 | D45: =((D$26+D$31+D$39)*$C45) -> 0.078726044 | E45: =I45+M45+Q45+Y45+U45 -> 14555134 | F45: CI | G45: =E45/E$47 -> 0.13414634 | H45: =((H$26+H$31+H$39)*$C45) -> 0.078726044 | I45: =H45*H$15 -> 1473207.7 | J45: CI | K45: =I45/I$47 -> 0.13414634 | L45: =((L$26+L$31+L$39)*$C45) -> 0.078726044 | M45: =L45*L$15 -> 4464360.3 | N45: CI | O45: =M45/M$47 -> 0.13414634 | P45: =((P$26+P$31+P$39)*$C45) -> 0.078726044 | Q45: =P45*P$15 -> 4844715.4 | R45: CI | S45: =Q45/Q$47 -> 0.13414634 | T45: =((T$26+T$31+T$39)*$C45) -> 0.078726044 | U45: =T45*T$15 -> 3482704.6 | V45: CI | W45: =U45/U$47 -> 0.13414634 | X45: =((X$26+X$31+X$39)*$C45) -> 0.078726044 | Y45: =X45*X$15 -> 290145.54 | Z45: CI | AA45: =Y45/Y$47 -> 0.13414634
A47: ="SUBTOTAL 4: "&A41 -> SUBTOTAL 4: PÓLIZAS | D47: =SUM(D42:D45) -> 0.58686688 | E47: =SUM(E42:E45) -> 1.085019e+08 | G47: =E47/E57 -> 0.0013022724 | H47: =SUM(H42:H45) -> 0.58686688 | I47: =SUM(I42:I45) -> 10982094 | K47: =I47/I57 -> 0.0013022724 | L47: =SUM(L42:L45) -> 0.58686688 | M47: =SUM(M42:M45) -> 33279777 | O47: =M47/M57 -> 0.0013022724 | P47: =SUM(P42:P45) -> 0.58686688 | Q47: =SUM(Q42:Q45) -> 36115151 | S47: =Q47/Q57 -> 0.0013022724 | T47: =SUM(T42:T45) -> 0.58686688 | U47: =SUM(U42:U45) -> 25961979 | W47: =U47/U57 -> 0.0013022724 | X47: =SUM(X42:X46) -> 0.58686688 | Y47: =SUM(Y42:Y45) -> 2162903.2 | AA47: =Y47/Y57 -> 0.0013022724
A49: SUBTOTAL 5 = SUBTOTAL 1 + SUBTOTAL 2 + SUBTOTAL 3 + SUBTOTAL 4 | D49: =D26+D31+D39+D47 -> 410.79447 | E49: =E31+E39+E47+E26 -> 7.5949052e+10 | G49: =E49/E$57 -> 0.91156332 | H49: =H26+H31+H39+H47 -> 410.79447 | I49: =I31+I39+I47+I26 -> 7.6872348e+09 | K49: =I49/I$57 -> 0.91156332 | L49: =L26+L31+L39+L47 -> 410.79447 | M49: =M31+M39+M47+M26 -> 2.3295144e+10 | O49: =M49/M$57 -> 0.91156332 | P49: =P26+P31+P39+P47 -> 410.79447 | Q49: =Q31+Q39+Q47+Q26 -> 2.5279847e+10 | S49: =Q49/Q$57 -> 0.91156332 | T49: =T26+T31+T39+T47 -> 410.79447 | U49: =U31+U39+U47+U26 -> 1.817284e+10 | W49: =U49/U$57 -> 0.91156332 | X49: =X26+X31+X39+X47 -> 410.79447 | Y49: =Y31+Y39+Y47+Y26 -> 1.5139867e+09 | AA49: =Y49/Y$57 -> 0.91156332
A51: UTILIDAD DEL EJERCICIO
A52: UTILIDAD | C52: =+ADMON_LOG_PYG2021_LOGISTICA!J18 -> 0.0849 | D52: =(D49/(1-$C52)*$C52) -> 38.112174 | E52: =I52+M52+Q52+Y52+U52 -> 7.0463059e+09 | F52: CI | G52: =+E52/E57 -> 0.084571878 | H52: =(H49/(1-$C52)*$C52) -> 38.112174 | I52: =+H52*H15 -> 7.1319662e+08 | J52: CI | K52: =+I52/I57 -> 0.084571878 | L52: =(L49/(1-$C52)*$C52) -> 38.112174 | M52: =+L52*L15 -> 2.1612477e+09 | N52: CI | O52: =+M52/M57 -> 0.084571878 | P52: =(P49/(1-$C52)*$C52) -> 38.112174 | Q52: =+P52*P15 -> 2.3453819e+09 | R52: CI | S52: =+Q52/Q57 -> 0.084571878 | T52: =(T49/(1-$C52)*$C52) -> 38.112174 | U52: =+T52*$T$15 -> 1.6860169e+09 | V52: CI | W52: =+U52/U57 -> 0.084571878 | X52: =(X49/(1-$C52)*$C52) -> 38.112174 | Y52: =+X52*X15 -> 1.4046276e+08 | Z52: CI | AA52: =+Y52/Y57 -> 0.084571878
A54: GRAVAMEN AL MOVIMIENTO FINANCIERO 4 X MIL
A55: GMF | C55: 0.0038648 | D55: =((D52+D49)/(1-$C55)*$C55) -> 1.7416656 | E55: =I55+M55+Q55+Y55+U55 -> 3.2200494e+08 | F55: CI | G55: =E55/E57 -> 0.0038648 | H55: =((H52+H49)/(1-$C55)*$C55) -> 1.7416656 | I55: =H55*H15 -> 32591949 | J55: CI | K55: =I55/I57 -> 0.0038648 | L55: =((L52+L49)/(1-$C55)*$C55) -> 1.7416656 | M55: =L55*L15 -> 98765572 | N55: CI | O55: =M55/M57 -> 0.0038648 | P55: =((P52+P49)/(1-$C55)*$C55) -> 1.7416656 | Q55: =P55*P15 -> 1.0718021e+08 | R55: CI | S55: =Q55/Q57 -> 0.0038648 | T55: =((T52+T49)/(1-$C55)*$C55) -> 1.7416656 | U55: =T55*$T$15 -> 77048285 | V55: CI | W55: =U55/U57 -> 0.0038648 | X55: =((X52+X49)/(1-$C55)*$C55) -> 1.7416656 | Y55: =X55*X15 -> 6418924.2 | Z55: CI | AA55: =Y55/(Y57-Y43) -> 0.0038664994
A57: VALOR TOTAL PRESUPUESTO (SUBTOTAL 5 + UTILIDAD + GMF) | C57: Costos totales refrigerios | D57: =+D49+D55+D52 -> 450.64831 | E57: =+E55+E49+E52 -> 8.3317363e+10 | G57: =+G49+G55+G52 -> 1 | H57: =+H49+H55+H52 -> 450.64831 | I57: =+I55+I49+I52 -> 8.4330233e+09 | K57: =+K49+K55+K52 -> 1 | L57: =+L49+L55+L52 -> 450.64831 | M57: =+M55+M49+M52 -> 2.5555157e+10 | O57: =+O49+O55+O52 -> 1 | P57: =+P49+P55+P52 -> 450.64831 | Q57: =+Q55+Q49+Q52 -> 2.7732409e+10 | S57: =+S49+S55+S52 -> 1 | T57: =+T49+T55+T52 -> 450.64831 | U57: =+U55+U49+U52 -> 1.9935905e+10 | W57: =+W49+W55+W52 -> 1 | X57: =+X49+X55+X52 -> 450.64831 | Y57: =+Y55+Y49+Y52 -> 1.6608684e+09 | AA57: =+AA49+AA55+AA52 -> 1.0000017

Sheet ADMON_LOG_PYG2021_LOGISTICA
B2: Ir a Índice
A3: SECRETARÍA DE EDUCACIÓN DEL DISTRITO
A4: DIRECCIÓN DE BIENESTAR ESTUDIANTIL
A5: PROGRAMA DE ALIMENTACIÓN ESCOLAR
A7: INDICADORES DE GASTO ADMINISTRATIVO Y UTILIDAD - SEGMENTO OPERACIÓN LOGÍSTICA
D9: PARAMETROS DE ENTRADA | G9: PROPUESTA 1 | H9: PROPUESTA 2 | I9: PROPUESTA 3 | J9: PROPUESTA 4
D10: TOTAL EMPRESAS DEL SIREM CON CLASIFICACION 5229 Y 5629 | J10: =COUNTA(E26:E191) -> 166
D11: TOTAL EMPRESAS DEL SIREM CON CLASIFICACION 5629 y 5229 CON MARGEN DE GANANCIA + | J11: =COUNTIF(ADMON_LOG_PORCENTAJE_UTILIDAD,">0") -> 108
D12: RANGO INFERIOR PARA CALCULAR EL % DE ADMON | G12: 0.1 | H12: 0.1 | I12: 0.1 | J12: 0.1
D13: RANGO SUPERIOR PARA CALCULAR EL % DE ADMON | G13: 0.3 | H13: 0.5 | I13: 0.75 | J13: 1
D14: CANTIDAD DE EMPRESAS DENTRO DEL RANGO | G14: {=SUM((ADMON_LOG_PORCENTAJE_ADMON>G12)*(ADMON_LOG_PORCENTAJE_ADMON<G13)*(ADMON_LOG_PORCENTAJE_UTILIDAD>0)*1)} -> 52 | H14: {=SUM((ADMON_LOG_PORCENTAJE_ADMON>H12)*(ADMON_LOG_PORCENTAJE_ADMON<H13)*(ADMON_LOG_PORCENTAJE_UTILIDAD>0)*1)} -> 69 | I14: {=SUM((ADMON_LOG_PORCENTAJE_ADMON>I12)*(ADMON_LOG_PORCENTAJE_ADMON<I13)*(ADMON_LOG_PORCENTAJE_UTILIDAD>0)*1)} -> 77 | J14: {=SUM((ADMON_LOG_PORCENTAJE_ADMON>J12)*(ADMON_LOG_PORCENTAJE_ADMON<J13)*(ADMON_LOG_PORCENTAJE_UTILIDAD>0)*1)} -> 82
D15: % DE ADMINISTRACIÓN | G15: =ROUND((G20+G21)/G19,4) -> 0.2022 | H15: =ROUND((H20+H21)/H19,4) -> 0.236 | I15: =ROUND((I20+I21)/I19,4) -> 0.2541 | J15: =ROUND((J20+J21)/J19,1) -> 0.3
D16: % DE POLIZAS | G16: 0.03 | H16: 0.03 | I16: 0.03 | J16: 0.03
D17: % DE ADMINISTRACIÓN DESPUES DE PÓLIZAS Y ESTAMPILLAS | G17: =G15-G16 -> 0.1722 | H17: =H15-H16 -> 0.206 | I17: =I15-I16 -> 0.2241 | J17: =J15-J16 -> 0.27
D18: % DE UTILIDAD | G18: =ROUND(G22/G19,4) -> 0.0709 | H18: =ROUND(H22/H19,4) -> 0.0827 | I18: =ROUND(I22/I19,4) -> 0.0841 | J18: =ROUND(J22/J19,4) -> 0.0849
D19: 61 MENOS: COSTO DE VENTAS Y DE PRESTACIÓN DE SERVICIOS | G19: {=SUM((ADMON_LOG_PORCENTAJE_ADMON>G$12)*(ADMON_LOG_PORCENTAJE_ADMON<=G$13)*(ADMON_LOG_PORCENTAJE_UTILIDAD>0)*ADMON_LOG_COSTO_VENTAS)} -> 2211782233 | H19: {=SUM((ADMON_LOG_PORCENTAJE_ADMON>H$12)*(ADMON_LOG_PORCENTAJE_ADMON<=H$13)*(ADMON_LOG_PORCENTAJE_UTILIDAD>0)*ADMON_LOG_COSTO_VENTAS)} -> 2292615872 | I19: {=SUM((ADMON_LOG_PORCENTAJE_ADMON>I$12)*(ADMON_LOG_PORCENTAJE_ADMON<=I$13)*(ADMON_LOG_PORCENTAJE_UTILIDAD>0)*ADMON_LOG_COSTO_VENTAS)} -> 2313702153 | J19: {=SUM((ADMON_LOG_PORCENTAJE_ADMON>J$12)*(ADMON_LOG_PORCENTAJE_ADMON<=J$13)*(ADMON_LOG_PORCENTAJE_UTILIDAD>0)*ADMON_LOG_COSTO_VENTAS)} -> 2314341568
D20: 51 MENOS: GASTOS OPERACIONALES DE ADMINISTRACIÓN | G20: {=SUM((ADMON_LOG_PORCENTAJE_ADMON>G$12)*(ADMON_LOG_PORCENTAJE_ADMON<=G$13)*(ADMON_LOG_PORCENTAJE_UTILIDAD>0)*ADMON_LOG_GASTOS_OPERACIONALES_ADMIN)} -> 366608965 | H20: {=SUM((ADMON_LOG_PORCENTAJE_ADMON>H$12)*(ADMON_LOG_PORCENTAJE_ADMON<=H$13)*(ADMON_LOG_PORCENTAJE_UTILIDAD>0)*ADMON_LOG_GASTOS_OPERACIONALES_ADMIN)} -> 453695915 | I20: {=SUM((ADMON_LOG_PORCENTAJE_ADMON>I$12)*(ADMON_LOG_PORCENTAJE_ADMON<=I$13)*(ADMON_LOG_PORCENTAJE_UTILIDAD>0)*ADMON_LOG_GASTOS_OPERACIONALES_ADMIN)} -> 500465172 | J20: {=SUM((ADMON_LOG_PORCENTAJE_ADMON>J$12)*(ADMON_LOG_PORCENTAJE_ADMON<=J$13)*(ADMON_LOG_PORCENTAJE_UTILIDAD>0)*ADMON_LOG_GASTOS_OPERACIONALES_ADMIN)} -> 518090608
D21: 52 MENOS: GASTOS OPERACIONALES DE VENTAS | G21: {=SUM((ADMON_LOG_PORCENTAJE_ADMON>G$12)*(ADMON_LOG_PORCENTAJE_ADMON<=G$13)*(ADMON_LOG_PORCENTAJE_UTILIDAD>0)*ADMON_LOG_GASTOS_OPERACIONALES_VENTAS)} -> 80557176 | H21: {=SUM((ADMON_LOG_PORCENTAJE_ADMON>H$12)*(ADMON_LOG_PORCENTAJE_ADMON<=H$13)*(ADMON_LOG_PORCENTAJE_UTILIDAD>0)*ADMON_LOG_GASTOS_OPERACIONALES_VENTAS)} -> 87347378 | I21: {=SUM((ADMON_LOG_PORCENTAJE_ADMON>I$12)*(ADMON_LOG_PORCENTAJE_ADMON<=I$13)*(ADMON_LOG_PORCENTAJE_UTILIDAD>0)*ADMON_LOG_GASTOS_OPERACIONALES_VENTAS)} -> 87548669 | J21: {=SUM((ADMON_LOG_PORCENTAJE_ADMON>J$12)*(ADMON_LOG_PORCENTAJE_ADMON<=J$13)*(ADMON_LOG_PORCENTAJE_UTILIDAD>0)*ADMON_LOG_GASTOS_OPERACIONALES_VENTAS)} -> 87549969
D22: 59 GANANCIAS Y PERDIDAS | G22: {=SUM((ADMON_LOG_PORCENTAJE_ADMON>G$12)*(ADMON_LOG_PORCENTAJE_ADMON<=G$13)*(ADMON_LOG_PORCENTAJE_UTILIDAD>0)*ADMON_LOG_GANACIAS_PERDIDAS)} -> 156829895 | H22: {=SUM((ADMON_LOG_PORCENTAJE_ADMON>H$12)*(ADMON_LOG_PORCENTAJE_ADMON<=H$13)*(ADMON_LOG_PORCENTAJE_UTILIDAD>0)*ADMON_LOG_GANACIAS_PERDIDAS)} -> 189634483 | I22: {=SUM((ADMON_LOG_PORCENTAJE_ADMON>I$12)*(ADMON_LOG_PORCENTAJE_ADMON<=I$13)*(ADMON_LOG_PORCENTAJE_UTILIDAD>0)*ADMON_LOG_GANACIAS_PERDIDAS)} -> 194588277 | J22: {=SUM((ADMON_LOG_PORCENTAJE_ADMON>J$12)*(ADMON_LOG_PORCENTAJE_ADMON<=J$13)*(ADMON_LOG_PORCENTAJE_UTILIDAD>0)*ADMON_LOG_GANACIAS_PERDIDAS)} -> 196584941
A25: NIT | B25: RAZON SOCIAL | C25: CIUDAD | D25: DEPARTAMENTO | E25: CIIU | F25: SECTOR | G25: INGRESO OPERACIONAL | H25: 61 MENOS: COSTO DE VENTAS Y DE PRESTACIÓN DE SERVICIOS | I25: UTILIDAD BRUTA | J25: 51 MENOS: GASTOS OPERACIONALES DE ADMINISTRACIÓN | K25: 52 MENOS: GASTOS OPERACIONALES DE VENTAS | L25: UTILIDAD OPERACIONAL | M25: 42 MAS: INGRESOS NO OPERACIONALES | N25: 53 MENOS: GASTOS NO OPERACIONALES | O25: 530520_INTERESES | P25: UTILIDAD ANTES DE IMPUESTOS | Q25: 54 MENOS: IMPUESTO DE RENTA Y COMPLEMENTARIOS | R25: 59 GANANCIAS Y PERDIDAS | S25: % de gasto Administrativo frente a ingreso operacionales | T25: % de la utilidad frentre a ingresos operacionales
A26: 830055467 | B26: GEODIS COLOMBIA LTDA | C26: BOGOTA D.C. | D26: BOGOTA D.C. | E26: H5229 | F26: Otras actividades complementarias al transporte | G26: 34366486 | H26: 19946660 | I26: 14419826 | J26: 9286730 | K26: 3478875 | L26: 2083540 | M26: 808334 | N26: 379015 | O26: 88558 | P26: 2025836 | Q26: 156015 | R26: 1869821 | S26: =IFERROR(J26/G26,0) -> 0.27022635 | T26: =IFERROR(R26/H26,0) -> 0.093741057
A27: 900172069 | B27: SAPORE SAS | C27: BOGOTA D.C. | D27: BOGOTA D.C. | E27: I5629 | F27: Actividades de otros servicios de comidas | G27: 20070631 | H27: 17135255 | I27: 2935376 | J27: 1909831 | L27: 986252 | O27: 441411 | P27: 546397 | Q27: 269382 | R27: 277015 | S27: =IFERROR(J27/G27,0) -> 0.095155504 | T27: =IFERROR(R27/H27,0) -> 0.016166377
A28: 830074208 | B28: AGENCIA DE ADUANAS KN COLOMBIA SAS NIVEL 2 | C28: BOGOTA D.C. | D28: BOGOTA D.C. | E28: H5229 | F28: Otras actividades complementarias al transporte | G28: 14914990 | I28: 14914990 | J28: 13496812 | L28: 1373288 | N28: 44890 | O28: 152593 | P28: 1337230 | Q28: 446076 | R28: 891154 | S28: =IFERROR(J28/G28,0) -> 0.90491593 | T28: =IFERROR(R28/H28,0) -> 0
A29: 860023981 | B29: AEROSAN SAS | C29: BOGOTA D.C. | D29: BOGOTA D.C. | E29: H5229 | F29: Otras actividades complementarias al transporte | G29: 96163708 | H29: 71054914 | I29: 25108794 | L29: 24926283 | M29: 1042698 | N29: 1235209 | O29: 2204548 | P29: 22944619 | Q29: 7615792 | R29: 15328827 | S29: =IFERROR(J29/G29,0) -> 0 | T29: =IFERROR(R29/H29,0) -> 0.21573212
A30: 800249687 | B30: MEDITERRANEAN SHIPPING COMPANY COLOMBIA SAS | C30: BOGOTA D.C. | D30: BOGOTA D.C. | E30: H5229 | F30: Otras actividades complementarias al transporte | G30: 13248499 | H30: 2702156 | I30: 10546343 | J30: 9648259 | L30: 930601 | M30: 221249 | N30: 188732 | P30: 930601 | Q30: 505518 | R30: 425083 | S30: =IFERROR(J30/G30,0) -> 0.72825299 | T30: =IFERROR(R30/H30,0) -> 0.15731253
A31: 860040585 | B31: SUNRISE CARGO SAS | C31: BOGOTA D.C. | D31: BOGOTA D.C. | E31: H5229 | F31: Otras actividades complementarias al transporte | G31: 32001641 | H31: 11447239 | I31: 20554402 | J31: 10129777 | K31: 2668665 | L31: 7746192 | M31: 174280 | N31: 184048 | O31: 1505210 | P31: 7260449 | Q31: 2152312 | R31: 5108137 | S31: =IFERROR(J31/G31,0) -> 0.3165393 | T31: =IFERROR(R31/H31,0) -> 0.4462331
A32: 806008047 | B32: BDP COLOMBIA SAS | C32: CARTAGENA-BOLIVAR | D32: BOLIVAR | E32: H5229 | F32: Otras actividades complementarias al transporte | G32: 161807430 | H32: 134767839 | I32: 27039591 | J32: 13793695 | L32: 14666219 | M32: 1635388 | N32: 250380 | O32: 578617 | P32: 14172327 | Q32: 4825083 | R32: 9347244 | S32: =IFERROR(J32/G32,0) -> 0.0852476 | T32: =IFERROR(R32/H32,0) -> 0.06935812
A33: 860030380 | B33: DHL GLOBAL FORWARDING COLOMBIA S.A.S. | C33: BOGOTA D.C. | D33: BOGOTA D.C. | E33: H5229 | F33: Otras actividades complementarias al transporte | G33: 509165535 | H33: 395313420 | I33: 113852115 | J33: 43417772 | K33: 31689851 | L33: 33450901 | N33: 5293591 | O33: 717336 | P33: 32733565 | Q33: 11247911 | R33: 21485654 | S33: =IFERROR(J33/G33,0) -> 0.085272409 | T33: =IFERROR(R33/H33,0) -> 0.054350935
A34: 900647720 | B34: ARTURO CALLE ZONA FRANCA S.A.S | C34: PEREIRA-RISARALDA | D34: RISARALDA | E34: H5229 | F34: Otras actividades complementarias al transporte | G34: 4758125 | H34: 3326116 | I34: 1432009 | J34: 479667 | L34: 1005350 | M34: 53008 | O34: 18581 | P34: 986769 | Q34: 197500 | R34: 789269 | S34: =IFERROR(J34/G34,0) -> 0.10081009 | T34: =IFERROR(R34/H34,0) -> 0.23729449
A35: 900146342 | B35: CMA CGM COLOMBIA SAS | C35: BOGOTA D.C. | D35: BOGOTA D.C. | E35: H5229 | F35: Otras actividades complementarias al transporte | G35: 27021692 | H35: 12279512 | I35: 14742180 | J35: 13737896 | L35: 1003992 | N35: 292 | O35: 219990 | P35: 787262 | Q35: 344563 | R35: 442699 | S35: =IFERROR(J35/G35,0) -> 0.50840251 | T35: =IFERROR(R35/H35,0) -> 0.03605184
A36: 900497857 | B36: LX PANTOS COLOMBIA SAS | C36: BOGOTA D.C. | D36: BOGOTA D.C. | E36: H5229 | F36: Otras actividades complementarias al transporte | G36: 42524472 | H36: 32238846 | I36: 10285626 | J36: 4054813 | L36: 6242977 | M36: 157407 | N36: 145243 | P36: 6270809 | Q36: 2354602 | R36: 3916207 | S36: =IFERROR(J36/G36,0) -> 0.09535246 | T36: =IFERROR(R36/H36,0) -> 0.12147479
A37: 901143092 | B37: MOVINVERSIONES S.A.S | C37: BOGOTA D.C. | D37: BOGOTA D.C. | E37: H5229 | F37: Otras actividades complementarias al transporte | J37: 15607 | L37: -15605 | M37: 2 | O37: 90 | P37: -15695 | R37: -15695 | S37: =IFERROR(J37/G37,0) -> 0 | T37: =IFERROR(R37/H37,0) -> 0
A38: 900266976 | B38: AGENCIA DE ADUANAS GEODIS COLOMBIA S.A.S NIVEL 2 | C38: TENJO-CUNDINAMARCA | D38: CUNDINAMARCA | E38: H5229 | F38: Otras actividades complementarias al transporte | G38: 2228802 | H38: 1506432 | I38: 722370 | J38: 234997 | K38: 35317 | L38: 467077 | M38: 57924 | N38: 42903 | O38: 140086 | P38: 326991 | Q38: 258774 | R38: 68217 | S38: =IFERROR(J38/G38,0) -> 0.10543646 | T38: =IFERROR(R38/H38,0) -> 0.045283823
A39: 900385504 | B39: ESG INDUSTRIALES SAS | C39: CALI-VALLE | D39: VALLE | E39: H5229 | F39: Otras actividades complementarias al transporte | G39: 7681057 | H39: 6208956 | I39: 1472101 | J39: 950399 | L39: 766704 | M39: 296276 | N39: 51274 | O39: 39853 | P39: 726851 | Q39: 251380 | R39: 475471 | S39: =IFERROR(J39/G39,0) -> 0.12373284 | T39: =IFERROR(R39/H39,0) -> 0.076578252
A40: 811028981 | B40: MALCO CARGO S.AMALCO CARGO S.A | C40: MEDELLIN-ANTIOQUIA | D40: ANTIOQUIA | E40: H5229 | F40: Otras actividades complementarias al transporte | G40: 3904297 | H40: 1827198 | I40: 2077099 | J40: 485035 | K40: 595190 | L40: 1029102 | M40: 51549 | N40: 19321 | O40: 319044 | P40: 938312 | Q40: 377446 | R40: 560866 | S40: =IFERROR(J40/G40,0) -> 0.12423107 | T40: =IFERROR(R40/H40,0) -> 0.30695415
A41: 860506204 | B41: AGENCIA DE ADUANAS CEVA LOGISTICS SAS NIVEL 2 | C41: BOGOTA D.C. | D41: BOGOTA D.C. | E41: H5229 | F41: Otras actividades complementarias al transporte | G41: 10774871 | H41: 519665 | I41: 10255206 | J41: 8772027 | L41: 1428593 | M41: 38290 | N41: 92876 | O41: 91319 | P41: 1337274 | Q41: 394849 | R41: 942425 | S41: =IFERROR(J41/G41,0) -> 0.81411898 | T41: =IFERROR(R41/H41,0) -> 1.8135241
A42: 900430148 | B42: IMC AIRPORT SHOPPES SAS | C42: MEDELLIN-ANTIOQUIA | D42: ANTIOQUIA | E42: I5629 | F42: Actividades de otros servicios de comidas | G42: 38690535 | H42: 33681003 | I42: 5009532 | J42: 3762270 | L42: 452461 | M42: 102952 | N42: 897753 | O42: 1095716 | P42: 1322332 | Q42: 928408 | R42: 393924 | S42: =IFERROR(J42/G42,0) -> 0.097240061 | T42: =IFERROR(R42/H42,0) -> 0.011695732
A43: 830136200 | B43: AMBIPAR RESPONSE COLOMBIA SAS | C43: BOGOTA D.C. | D43: BOGOTA D.C. | E43: H5229 | F43: Otras actividades complementarias al transporte | G43: 11485945 | H43: 8004570 | I43: 3481375 | J43: 2478281 | K43: 628620 | L43: 400826 | M43: 441992 | N43: 415640 | O43: 672127 | P43: -271301 | Q43: 98835 | R43: -370136 | S43: =IFERROR(J43/G43,0) -> 0.2157664 | T43: =IFERROR(R43/H43,0) -> -0.046240585
A44: 830002397 | B44: AGENCIA DE ADUANAS DHL GLOBAL FORWARDING COLOMBIA S.A NIVEL 1 | C44: BOGOTA D.C. | D44: BOGOTA D.C. | E44: H5229 | F44: Otras actividades complementarias al transporte | G44: 15455716 | H44: 394894 | I44: 15060822 | J44: 11358998 | L44: 3824146 | O44: 108819 | P44: 3715327 | Q44: 934965 | R44: 2780362 | S44: =IFERROR(J44/G44,0) -> 0.73493832 | T44: =IFERROR(R44/H44,0) -> 7.0407806
A45: 900618834 | B45: DSV AIR AND SEA SAS | C45: BOGOTA D.C. | D45: BOGOTA D.C. | E45: H5229 | F45: Otras actividades complementarias al transporte | G45: 687808434 | H45: 566646936 | I45: 121161498 | J45: 83118712 | L45: 46032024 | M45: 6657229 | N45: 4309365 | O45: 34535089 | P45: 31202452 | Q45: 11923393 | R45: 19279059 | S45: =IFERROR(J45/G45,0) -> 0.12084573 | T45: =IFERROR(R45/H45,0) -> 0.034023053
...

Sheet DATOS VARIACION IPC
B3: PROYECCIÓN DE PRECIOS
B5: Precios Proyectados para Vigencia ---> | F5: 2022 | J5: Factor de proyección | M5: Indices Est. Costos | N5: Observación
B7: Criterio de Proyección de precios 2019 ----> | F7: Promedio 7 ultimos años | J7: Indice de precios al Consumidor. | M7: =+N15 -> 0.0709 | N7: Indice año corrido a Julio 2022
J8: Indice de Precios de Alimentos. | M8: =+N16 -> 0.1576 | N8: Indice año corrido a Julio 2022
J9: Indice de Precios de Vestuario | M9: =+N17 -> 0.0427 | N9: Indice año corrido a Julio 2022
J10: Indice de Precios de Transporte. | M10: =+N18 -> 0.0514 | N10: Indice año corrido a Julio 2022
J11: Indice de Precios de Salarios (SMMLV) | M11: =+N19 -> 0.1 | N11: Proyeccion incremente SMMLV
B13: Factor de proyección | E13: Historico | O13: Factor de Proyección (Nacional
E14: 2013 | F14: 2014 | G14: 2015 | H14: 2016 | I14: 2017 | J14: 2018 | K14: 2019 | L14: 2020 | M14: 2021 | N14: 2022 | O14: 2022 | P14: 2023 | Q14: 2024 | R14: 2025
B15: Indice de precios al Consumidor. | E15: =+P152/100 -> 0.0194 | F15: =+P139/100 -> 0.0366 | G15: =+P126/100 -> 0.0677 | H15: =+P113/100 -> 0.0575 | I15: =+P100/100 -> 0.0409 | J15: =+P87/100 -> 0.0318 | K15: =+P71/100 -> 0.038 | L15: =+P55/100 -> 0.0161 | M15: =+P39/100 -> 0.0562 | N15: =+P23/100 -> 0.0709 | O15: 1 | P15: =+IF($F$7="Meta Inflacionaria",$O15+3%,(1+AVERAGE(H15:N15))) -> 1.0444857 | Q15: =+P15*1.03 -> 1.0758203 | R15: =+Q15*1.03 -> 1.1080949
B16: Indice de Precios de Alimentos. | E16: =+P153/100 -> 0.0086 | F16: =(+P140)/100 -> 0.0469 | G16: =(+P127)/100 -> 0.1085 | H16: =(+P114)/100 -> 0.0722 | I16: =(+P101)/100 -> 0.0192 | J16: =(+P88)/100 -> 0.0243 | K16: =+P72/100 -> 0.058 | L16: =+P56/100 -> 0.048 | M16: =+P40/100 -> 0.1723 | N16: =+P24/100 -> 0.1576 | O16: 1 | P16: =+IF($F$7="Meta Inflacionaria",$O16+3%,(1+AVERAGE(H16:N16))) -> 1.0788 | Q16: =+P16*1.03 -> 1.111164 | R16: =+Q16*1.03 -> 1.1444989
B17: Indice de Precios de Vestuario | E17: =+P155/100 -> 0.0094 | F17: =+P142/100 -> 0.0149 | G17: =+P129/100 -> 0.0299 | H17: =+P116/100 -> 0.0398 | I17: =+P103/100 -> 0.0198 | J17: =+P90/100 -> 0.0033 | K17: =+P74/100 -> 0.0069 | L17: =+P58/100 -> -0.0394 | M17: =+P42/100 -> -0.026 | N17: =+P26/100 -> 0.0427 | O17: 1 | P17: =+IF($F$7="Meta Inflacionaria",$O17+3%,(1+AVERAGE(H17:N17))) -> 1.0067286 | Q17: =+P17*1.03 -> 1.0369304 | R17: =+Q17*1.03 -> 1.0680383
B18: Indice de Precios de Transporte. | E18: =+P158/100 -> 0.0184 | F18: =(+P145)/100 -> 0.0281 | G18: =(+P132)/100 -> 0.0452 | H18: =(+P119)/100 -> 0.0405 | I18: =(+P106)/100 -> 0.0769 | J18: =(+P93)/100 -> -0.0116 | K18: =+P78/100 -> 0.0341 | L18: =+P62/100 -> 0.0135 | M18: =+P46/100 -> 0.0569 | N18: =+P30/100 -> 0.0514 | O18: 1 | P18: =+IF($F$7="Meta Inflacionaria",$O18+3%,(1+AVERAGE(H18:N18))) -> 1.0373857 | Q18: =+P18*1.03 -> 1.0685073 | R18: =+Q18*1.03 -> 1.1005625
B19: Indice de Precios de Salarios (SMMLV) | E19: 0.045 | F19: 0.046 | G19: 0.07 | H19: 0.07 | I19: 0.059 | J19: 0.06 | K19: 0.06 | L19: 0.035 | M19: 0.107 | N19: 0.1 | O19: 1 | P19: =+IF($F$7="Meta Inflacionaria",$O19+3%,(1+AVERAGE(H19:N19))) -> 1.0701429 | Q19: =+P19*1.03 -> 1.1022471 | R19: =+Q19*1.03 -> 1.1353146
B21: Variaciones mensuales 2022
B22: Mes | D22: Enero | E22: Febrero | F22: Marzo | G22: Abril | H22: Mayo | I22: Junio | J22: Julio | K22: Agosto | L22: Septiembre | M22: Octubre | N22: Noviembre | O22: Diciembre | P22: Año corrido
B23: Total IPC | D23: 1.67 | E23: 1.63 | F23: 1 | G23: 1.25 | H23: 0.84 | I23: 0.51 | P23: 7.09
B24: Alimentos Y Bebidas No Alcoholicas | D24: 3.79 | E24: 3.26 | F24: 2.84 | G24: 2.75 | H24: 1.56 | I24: 0.65 | P24: 15.76
B25: Bebidas Alcohólicas y Tabaco | D25: 0.72 | E25: 0.77 | F25: 0.86 | G25: 0.68 | H25: 0.66 | I25: 0.38 | P25: 4.14
B26: Prendas De Vestir Y Calzado | D26: 4.03 | E26: 1.23 | F26: -1.78 | G26: 2.99 | H26: 0.55 | I26: -2.64 | P26: 4.27
B27: Alojamiento, Agua, Electricidad, Gas Y Otros Combustibles | D27: 0.46 | E27: 0.71 | F27: 0.58 | G27: 0.82 | H27: 0.83 | I27: 0.54 | P27: 4
B28: Muebles, Articulos Para El Hogar Y Para La Conservación Ordinaria Del Hogar | D28: 2.93 | E28: 2.6 | F28: 1.83 | G28: 1.49 | H28: 0.82 | I28: 0.96 | P28: 11.09
B29: Salud | D29: 0.93 | E29: 1.18 | F29: 0.97 | G29: 0.87 | H29: 0.61 | I29: 0.44 | P29: 5.09
B30: Transporte | D30: 1.85 | E30: 1.13 | F30: 0.37 | G30: 0.66 | H30: 0.27 | I30: 0.76 | P30: 5.14
B31: Información Y Comunicación | D31: 0.13 | E31: 0.04 | F31: -0.19 | G31: 0.13 | H31: -0.05 | I31: -0.24 | P31: -0.18
B32: Recreación Y Cultura | D32: 0.58 | E32: 0.83 | F32: 0.01 | G32: 1.18 | H32: 0.38 | I32: 0.61 | P32: 3.65
B33: Educación | D33: 0 | E33: 4.48 | F33: 0.3 | G33: 0.01 | H33: 0.18 | I33: 0 | P33: 4.98
B34: Restaurantes Y Hoteles | D34: 2.4 | E34: 2.22 | F34: 1.42 | G34: 1.09 | H34: 1.18 | I34: 1.06 | P34: 9.75
B35: Bienes Y Servicios Diversos | D35: 1.29 | E35: 1.26 | F35: 1 | G35: 0.96 | H35: 0.88 | I35: 0.61 | P35: 6.14
B36: Fuente: DANE.
B37: Variaciones mensuales 2021
B38: Mes | D38: Enero | E38: Febrero | F38: Marzo | G38: Abril | H38: Mayo | I38: Junio | J38: Julio | K38: Agosto | L38: Septiembre | M38: Octubre | N38: Noviembre | O38: Diciembre | P38: Año corrido
B39: Total IPC | D39: 0.41 | E39: 0.64 | F39: 0.51 | G39: 0.59 | H39: 1 | I39: -0.05 | J39: 0.32 | K39: 0.45 | L39: 0.38 | M39: 0.01 | N39: 0.5 | O39: 0.73 | P39: 5.62
B40: Alimentos Y Bebidas No Alcoholicas | D40: 1.44 | E40: 0.46 | F40: 1.14 | G40: 2.09 | H40: 5.37 | I40: -1.02 | J40: 0.38 | K40: 1.08 | L40: 0.76 | M40: 0.89 | N40: 1.45 | O40: 2.08 | P40: 17.23
B41: Bebidas Alcohólicas y Tabaco | D41: 0.2 | E41: 0.31 | F41: 0.46 | G41: 0.51 | H41: 0.22 | I41: 0.24 | J41: 0.27 | K41: 0.22 | L41: 0.41 | M41: 0.46 | N41: 0.44 | O41: 0.78 | P41: 4.6
B42: Prendas De Vestir Y Calzado | D42: -0.41 | E42: 1.82 | F42: 0.46 | G42: -0.37 | H42: 0.08 | I42: 0.02 | J42: 0.18 | K42: 0.07 | L42: 0.08 | M42: -3.45 | N42: -0.63 | O42: -0.41 | P42: -2.6
B43: Alojamiento, Agua, Electricidad, Gas Y Otros Combustibles | D43: 0.13 | E43: 0.28 | F43: 0.69 | G43: 0.43 | H43: 0.24 | I43: 0.06 | J43: 0.31 | K43: 0.19 | L43: 0.4 | M43: 0.29 | N43: 0.28 | O43: 0.32 | P43: 3.68
B44: Muebles, Articulos Para El Hogar Y Para La Conservación Ordinaria Del Hogar | D44: 0.26 | E44: 0.96 | F44: 0.3 | G44: 0.37 | H44: 0.32 | I44: 0.35 | J44: 0.23 | K44: 0.3 | L44: 0.38 | M44: 0.29 | N44: 0.28 | O44: 0.23 | P44: 4.34
B45: Salud | D45: 0.26 | E45: 0.59 | F45: 0.31 | G45: 0.42 | H45: 0.27 | I45: 0.23 | J45: 0.27 | K45: 0.25 | L45: 0.48 | M45: 0.5 | N45: 0.29 | O45: 0.03 | P45: 3.98
B46: Transporte | D46: 0.7 | E46: 0.62 | F46: 0.43 | G46: 0.38 | H46: 0.33 | I46: 0.1 | J46: 0.23 | K46: 0.34 | L46: 0.59 | M46: 0.5 | N46: 0.47 | O46: 0.86 | P46: 5.69
...

Sheet COT_BASE_COTIZACIONES
C2: Ir a Indice
A3: SECRETARÍA DE EDUCACIÓN DEL DISTRITO
A4: DIRECCIÓN DE BIENESTAR ESTUDIANTIL
A5: PROGRAMA DE ALIMENTACIÓN ESCOLAR
A7: CONSOLIDADO DE COTIZACIONES RECIBIDAS
A10: TIPO COTIZACIÓN | B10: TIPO REGISTRO | C10: COD PROVEEDOR | D10: RAZÓN SOCIAL Y/O FUENTE INFORMACIÓN | E10: EVALUAR ? | F10: COD ELEMENTO | G10: COD ELEMENTO | H10: NOMBRE PRODUCTO | I10: PRESENTACIÓN REQUERIDA SED | J10: UNIDAD DE MEDIDA | K10: PRESENTACIÓN OFERTADA PROVEEDOR | L10: CUMPLE PRESENTACIÓN | M10: PRESENTACIÓN OFERTADA | N10: TARIFA IVA | O10: VALOR UNITARIO SIN IVA | P10: VALOR UNITARIO IVA INCLUIDO | Q10: OBSERVACIONES | R10: VALOR UNITARIO BASE GRAVABLE | S10: VALOR UNITARIO IVA INCLUDO | T10: OBSERVACIONES
A11: ANALISIS DE LABORATORIO | B11: ESTUDIO DE COSTOS DBE 2022 | D11: BIOTRENDSLAB | E11: SI | F11: L1 | G11: =IF(E11="SI",F11,CONCATENATE(" REGISTRO COTIZACION NO EVALUADA: ",F11)) -> L1 | H11: Ambiente: Cuartos Fríos (materias primas) | I11: 1 | J11: Analisis | L11: NA | M11: 1 | N11: 0.19 | O11: 31600 | P11: =O11*(1+N11) -> 37604 | R11: =+O11 -> 31600 | S11: =+P11 -> 37604 | T11: Cotización recibida 28-06-2022
A12: ANALISIS DE LABORATORIO | B12: ESTUDIO DE COSTOS DBE 2022 | D12: BIOTRENDSLAB | E12: SI | F12: L1 | G12: =IF(E12="SI",F12,CONCATENATE(" REGISTRO COTIZACION NO EVALUADA: ",F12)) -> L1 | H12: Ambiente: Producto Términado | I12: 1 | J12: Analisis | L12: NA | M12: 1 | N12: 0.19 | O12: 31600 | P12: =O12*(1+N12) -> 37604 | R12: =+O12 -> 31600 | S12: =+P12 -> 37604 | T12: Cotización recibida 28-06-2022
A13: ANALISIS DE LABORATORIO | B13: ESTUDIO DE COSTOS DBE 2022 | D13: BIOTRENDSLAB | E13: SI | F13: L1 | G13: =IF(E13="SI",F13,CONCATENATE(" REGISTRO COTIZACION NO EVALUADA: ",F13)) -> L1 | H13: Ambiente: Area de Ensamble | I13: 1 | J13: Analisis | L13: NA | M13: 1 | N13: 0.19 | O13: 31600 | P13: =O13*(1+N13) -> 37604 | R13: =+O13 -> 31600 | S13: =+P13 -> 37604 | T13: Cotización recibida 28-06-2022
A14: ANALISIS DE LABORATORIO | B14: ESTUDIO DE COSTOS DBE 2022 | D14: BIOTRENDSLAB | E14: SI | F14: L1 | G14: =IF(E14="SI",F14,CONCATENATE(" REGISTRO COTIZACION NO EVALUADA: ",F14)) -> L1 | H14: Ambiente: Despacho y distribución | I14: 1 | J14: Analisis | L14: NA | M14: 1 | N14: 0.19 | O14: 31600 | P14: =O14*(1+N14) -> 37604 | R14: =+O14 -> 31600 | S14: =+P14 -> 37604 | T14: Cotización recibida 28-06-2022
A15: ANALISIS DE LABORATORIO | B15: ESTUDIO DE COSTOS DBE 2022 | D15: BIOTRENDSLAB | E15: SI | F15: L1 | G15: =IF(E15="SI",F15,CONCATENATE(" REGISTRO COTIZACION NO EVALUADA: ",F15)) -> L1 | H15: Ambiente: Almacenamiento de Materia Prima | I15: 1 | J15: Analisis | L15: NA | M15: 1 | N15: 0.19 | O15: 31600 | P15: =O15*(1+N15) -> 37604 | R15: =+O15 -> 31600 | S15: =+P15 -> 37604 | T15: Cotización recibida 28-06-2022
A16: ANALISIS DE LABORATORIO | B16: ESTUDIO DE COSTOS DBE 2022 | D16: BIOTRENDSLAB | E16: SI | F16: L1 | G16: =IF(E16="SI",F16,CONCATENATE(" REGISTRO COTIZACION NO EVALUADA: ",F16)) -> L1 | H16: Ambiente: Recepción de Materia Prima | I16: 1 | J16: Analisis | L16: NA | M16: 1 | N16: 0.19 | O16: 31600 | P16: =O16*(1+N16) -> 37604 | R16: =+O16 -> 31600 | S16: =+P16 -> 37604 | T16: Cotización recibida 28-06-2022
A17: ANALISIS DE LABORATORIO | B17: ESTUDIO DE COSTOS DBE 2022 | D17: BIOTRENDSLAB | E17: SI | F17: L1 | G17: =IF(E17="SI",F17,CONCATENATE(" REGISTRO COTIZACION NO EVALUADA: ",F17)) -> L1 | H17: Ambiente: Área de Control de Calidad | I17: 1 | J17: Analisis | L17: NA | M17: 1 | N17: 0.19 | O17: 31600 | P17: =O17*(1+N17) -> 37604 | R17: =+O17 -> 31600 | S17: =+P17 -> 37604 | T17: Cotización recibida 28-06-2022
A18: ANALISIS DE LABORATORIO | B18: ESTUDIO DE COSTOS DBE 2022 | D18: BIOTRENDSLAB | E18: SI | F18: L2 | G18: =IF(E18="SI",F18,CONCATENATE(" REGISTRO COTIZACION NO EVALUADA: ",F18)) -> L2 | H18: Equipos y utensilios: Canastilla de Almacenamiento de Materia Prima | I18: 1 | J18: Analisis | L18: NA | M18: 1 | N18: 0.19 | O18: 38000 | P18: =O18*(1+N18) -> 45220 | R18: =+O18 -> 38000 | S18: =+P18 -> 45220 | T18: Cotización recibida 28-06-2022
A19: ANALISIS DE LABORATORIO | B19: ESTUDIO DE COSTOS DBE 2022 | D19: BIOTRENDSLAB | E19: SI | F19: L2 | G19: =IF(E19="SI",F19,CONCATENATE(" REGISTRO COTIZACION NO EVALUADA: ",F19)) -> L2 | H19: Equipos y utensilios: Canastilla de Almacenamiento de Producto Términado | I19: 1 | J19: Analisis | L19: NA | M19: 1 | N19: 0.19 | O19: 38000 | P19: =O19*(1+N19) -> 45220 | R19: =+O19 -> 38000 | S19: =+P19 -> 45220 | T19: Cotización recibida 28-06-2022
A20: ANALISIS DE LABORATORIO | B20: ESTUDIO DE COSTOS DBE 2022 | D20: BIOTRENDSLAB | E20: SI | F20: L2 | G20: =IF(E20="SI",F20,CONCATENATE(" REGISTRO COTIZACION NO EVALUADA: ",F20)) -> L2 | H20: Equipos y utensilios: Equipo de Medición de Masas | I20: 1 | J20: Analisis | L20: NA | M20: 1 | N20: 0.19 | O20: 38000 | P20: =O20*(1+N20) -> 45220 | R20: =+O20 -> 38000 | S20: =+P20 -> 45220 | T20: Cotización recibida 28-06-2022
A21: ANALISIS DE LABORATORIO | B21: ESTUDIO DE COSTOS DBE 2022 | D21: BIOTRENDSLAB | E21: SI | F21: L2 | G21: =IF(E21="SI",F21,CONCATENATE(" REGISTRO COTIZACION NO EVALUADA: ",F21)) -> L2 | H21: Equipos y utensilios: Mesones | I21: 1 | J21: Analisis | L21: NA | M21: 1 | N21: 0.19 | O21: 38000 | P21: =O21*(1+N21) -> 45220 | R21: =+O21 -> 38000 | S21: =+P21 -> 45220 | T21: Cotización recibida 28-06-2022
A22: ANALISIS DE LABORATORIO | B22: ESTUDIO DE COSTOS DBE 2022 | D22: BIOTRENDSLAB | E22: SI | F22: L2 | G22: =IF(E22="SI",F22,CONCATENATE(" REGISTRO COTIZACION NO EVALUADA: ",F22)) -> L2 | H22: Equipos y utensilios: Bandas Transportadoras | I22: 1 | J22: Analisis | L22: NA | M22: 1 | N22: 0.19 | O22: 38000 | P22: =O22*(1+N22) -> 45220 | R22: =+O22 -> 38000 | S22: =+P22 -> 45220 | T22: Cotización recibida 28-06-2022
A23: ANALISIS DE LABORATORIO | B23: ESTUDIO DE COSTOS DBE 2022 | D23: BIOTRENDSLAB | E23: NO | F23: L4 | G23: =IF(E23="SI",F23,CONCATENATE(" REGISTRO COTIZACION NO EVALUADA: ",F23)) -> REGISTRO COTIZACION NO EVALUADA: L4 | H23: Frotis de garganta: Recepción | O23: 0 | P23: 0 | R23: =+O23 -> 0 | S23: =+P23 -> 0
A24: ANALISIS DE LABORATORIO | B24: ESTUDIO DE COSTOS DBE 2022 | D24: BIOTRENDSLAB | E24: NO | F24: L4 | G24: =IF(E24="SI",F24,CONCATENATE(" REGISTRO COTIZACION NO EVALUADA: ",F24)) -> REGISTRO COTIZACION NO EVALUADA: L4 | H24: Frotis de garganta: Almacenamiento de Materia Prima | O24: 0 | P24: 0 | R24: =+O24 -> 0 | S24: =+P24 -> 0
A25: ANALISIS DE LABORATORIO | B25: ESTUDIO DE COSTOS DBE 2022 | D25: BIOTRENDSLAB | E25: NO | F25: L4 | G25: =IF(E25="SI",F25,CONCATENATE(" REGISTRO COTIZACION NO EVALUADA: ",F25)) -> REGISTRO COTIZACION NO EVALUADA: L4 | H25: Frotis de garganta: Ensamble | O25: 0 | P25: 0 | R25: =+O25 -> 0 | S25: =+P25 -> 0
A26: ANALISIS DE LABORATORIO | B26: ESTUDIO DE COSTOS DBE 2022 | D26: BIOTRENDSLAB | E26: NO | F26: L4 | G26: =IF(E26="SI",F26,CONCATENATE(" REGISTRO COTIZACION NO EVALUADA: ",F26)) -> REGISTRO COTIZACION NO EVALUADA: L4 | H26: Frotis de garganta: Despacho | O26: 0 | P26: 0 | R26: =+O26 -> 0 | S26: =+P26 -> 0
A27: ANALISIS DE LABORATORIO | B27: ESTUDIO DE COSTOS DBE 2022 | D27: BIOTRENDSLAB | E27: NO | F27: L4 | G27: =IF(E27="SI",F27,CONCATENATE(" REGISTRO COTIZACION NO EVALUADA: ",F27)) -> REGISTRO COTIZACION NO EVALUADA: L4 | H27: Frotis de garganta: Distribución | O27: 0 | P27: 0 | R27: =+O27 -> 0 | S27: =+P27 -> 0
A28: ANALISIS DE LABORATORIO | B28: ESTUDIO DE COSTOS DBE 2022 | D28: BIOTRENDSLAB | E28: SI | F28: L4 | G28: =IF(E28="SI",F28,CONCATENATE(" REGISTRO COTIZACION NO EVALUADA: ",F28)) -> L4 | H28: Frotis de manos: Recepción | I28: 1 | J28: Analisis | L28: NA | N28: 0.19 | O28: 38000 | P28: =O28*(1+N28) -> 45220 | R28: =+O28 -> 38000 | S28: =+P28 -> 45220 | T28: Cotización recibida 28-06-2022
A29: ANALISIS DE LABORATORIO | B29: ESTUDIO DE COSTOS DBE 2022 | D29: BIOTRENDSLAB | E29: SI | F29: L4 | G29: =IF(E29="SI",F29,CONCATENATE(" REGISTRO COTIZACION NO EVALUADA: ",F29)) -> L4 | H29: Frotis de manos: Almacenamiento de Materia Prima | I29: 1 | J29: Analisis | L29: NA | M29: 1 | N29: 0.19 | O29: 38000 | P29: =O29*(1+N29) -> 45220 | R29: =+O29 -> 38000 | S29: =+P29 -> 45220 | T29: Cotización recibida 28-06-2022
A30: ANALISIS DE LABORATORIO | B30: ESTUDIO DE COSTOS DBE 2022 | D30: BIOTRENDSLAB | E30: SI | F30: L4 | G30: =IF(E30="SI",F30,CONCATENATE(" REGISTRO COTIZACION NO EVALUADA: ",F30)) -> L4 | H30: Frotis de manos: Ensamble | I30: 1 | J30: Analisis | L30: NA | M30: 1 | N30: 0.19 | O30: 38000 | P30: =O30*(1+N30) -> 45220 | R30: =+O30 -> 38000 | S30: =+P30 -> 45220 | T30: Cotización recibida 28-06-2022
A31: ANALISIS DE LABORATORIO | B31: ESTUDIO DE COSTOS DBE 2022 | D31: BIOTRENDSLAB | E31: SI | F31: L4 | G31: =IF(E31="SI",F31,CONCATENATE(" REGISTRO COTIZACION NO EVALUADA: ",F31)) -> L4 | H31: Frotis de manos: Despacho | I31: 1 | J31: Analisis | L31: NA | M31: 1 | N31: 0.19 | O31: 38000 | P31: =O31*(1+N31) -> 45220 | R31: =+O31 -> 38000 | S31: =+P31 -> 45220 | T31: Cotización recibida 28-06-2022
A32: ANALISIS DE LABORATORIO | B32: ESTUDIO DE COSTOS DBE 2022 | D32: BIOTRENDSLAB | E32: SI | F32: L4 | G32: =IF(E32="SI",F32,CONCATENATE(" REGISTRO COTIZACION NO EVALUADA: ",F32)) -> L4 | H32: Frotis de manos: Distribución | I32: 1 | J32: Analisis | L32: NA | M32: 1 | N32: 0.19 | O32: 38000 | P32: =O32*(1+N32) -> 45220 | R32: =+O32 -> 38000 | S32: =+P32 -> 45220 | T32: Cotización recibida 28-06-2022
A33: ANALISIS DE LABORATORIO | B33: ESTUDIO DE COSTOS DBE 2022 | D33: BIOTRENDSLAB | E33: SI | F33: L13 | G33: =IF(E33="SI",F33,CONCATENATE(" REGISTRO COTIZACION NO EVALUADA: ",F33)) -> L13 | H33: Análisis de Agua Potable: Microbiológico | I33: 1 | J33: Analisis | L33: NA | M33: 1 | N33: 0.19 | O33: 76100 | P33: =O33*(1+N33) -> 90559 | R33: =+O33 -> 76100 | S33: =+P33 -> 90559 | T33: Cotización recibida 28-06-2022
A34: ANALISIS DE LABORATORIO | B34: ESTUDIO DE COSTOS DBE 2022 | D34: BIOTRENDSLAB | E34: SI | F34: L18 | G34: =IF(E34="SI",F34,CONCATENATE(" REGISTRO COTIZACION NO EVALUADA: ",F34)) -> L18 | H34: Análisis de Agua Potable: Microbiológico | I34: 1 | J34: Analisis | L34: NA | M34: 1 | N34: 0.19 | O34: 473000 | P34: =O34*(1+N34) -> 562870 | R34: =+O34 -> 473000 | S34: =+P34 -> 562870 | T34: Cotización recibida 28-06-2022
A35: ANALISIS DE LABORATORIO | B35: ESTUDIO DE COSTOS DBE 2022 | D35: CALIDAD MICROBIOLOGICA SAS | E35: SI | F35: L1 | G35: =IF(E35="SI",F35,CONCATENATE(" REGISTRO COTIZACION NO EVALUADA: ",F35)) -> L1 | H35: Ambiente: Cuartos Fríos (materias primas) | I35: 1 | J35: Analisis | L35: NA | M35: 1 | N35: 0.19 | O35: 24100 | P35: =O35*(1+N35) -> 28679 | R35: =+O35 -> 24100 | S35: =+P35 -> 28679 | T35: Cotización recibida 23-06-2022
